{"text_format":"1","workbook":"xlsx","n_sheets":7,"sheets":["Lamina","Criar Carteira","Base Opcionais","Plan1","Carteira - Atualização","Historico","Drawdown"],"not_rendered":{"charts":7,"images":2,"macros":1,"external_links":0,"defined_names":27,"comments":0,"pivot_tables":0},"unopened":[],"bounds":{"document_bytes":16777216,"sheet_cells":100000,"rows_first":2000,"rows_last":500,"rows_between":2000,"halvings":0,"cell_chars":16384,"cell_head_chars":4096},"cells_cut":0,"cells_raw":0,"read":"whole","date_system":"1900"}

{"sheet":"Lamina","index":0,"n_rows":120,"n_cols":14,"rows_kept":120,"cut":false,"hidden":false,"merged":[[20,2,20,8],[5,2,5,3],[119,10,119,11],[39,2,39,11],[71,2,71,11],[88,2,88,11],[104,2,104,11],[119,2,119,9],[20,10,20,11],[8,8,8,11],[9,9,10,10],[11,9,12,10],[13,9,14,10],[15,9,16,10],[17,9,18,10],[2,2,2,3],[3,2,3,3],[7,8,7,11],[7,2,7,7],[2,4,2,5],[3,4,3,5],[4,4,4,5],[5,4,5,5],[4,2,4,3]]}
[null,null,null,null,"Lâmina Da Carteira Hipotética - Financeiro"]
[]
[null,null,"Dta. Ult.. Cot. Carteira: ",null,{"$f":"IF(E4=\"\",_xll.ECONOMATICA('Criar Carteira'!$B$2,\"date of last quote\"),E4)","v":"2022-06-17"},null,"← Não Modificar"]
[null,null,"Dta. Pref. Carteira: ",null,null,null,"← Para alterar a data da Célula E3, basta digitar na Célula E4"]
[null,null,"Dta. Iníc. Carteira: ",null,{"$f":"'Criar Carteira'!$B$4","v":"2017-12-29"},null,"← Não Modificar"]
[null,null,"Nome Carteira",null,"Economatica",null,"← Escolha o Nome Da Carteira"]
[]
[null,null,"PERFIL DE RETORNOS",null,null,null,null,null,"PERFIL DE RISCO DA CARTEIRA"]
[null,"Na Célula (E9) Escolha o Índice →",null,{"$f":"_xll.ECONOMATICA('Criar Carteira'!$B$2,\"NAME\")","v":"Economatica"},"IMOB",{"$f":"_xlfn.CONCAT(\"Δ\",\" \",MID(E9,1,4),\" \",\"p.p\")","v":"Δ IMOB p.p"},"IBOV",{"$f":"_xlfn.CONCAT(\"Δ\",\" \",G9,\" \",\"p.p\")","v":"Δ IBOV p.p"},"Estatísticas Desde o Início da Carteira"]
[null,null,"1D",{"$f":"_xll.ECONOMATICA('Criar Carteira'!$B$2,\"RETURN\",$C10,$E$3,,,,\"DECIMAL\")","v":-5.5955601515000002E-2},{"$f":"_xll.ECONOMATICA($E$9,\"RETURN\",$C10,$E$3,,,,\"DECIMAL\")","v":-7.0149066760000003E-3},{"$f":"IFERROR((D10-E10)*100,\"\")","v":-4.8940694839000001},{"$f":"_xll.ECONOMATICA($G$9,\"RETURN\",$C10,$E$3,,,,\"DECIMAL\")","v":-2.9004690545E-2},{"$f":"IFERROR((D10-G10)*100,\"\")","v":-2.6950910970000002},"12m","Volatilidade",null,{"$f":"_xll.ECONOMATICA('Criar Carteira'!$B$2,\"volatility\",I10,$E$3,,,,\"decimal\")","v":0.31202240194999997}]
[null,null,"1M",{"$f":"_xll.ECONOMATICA('Criar Carteira'!$B$2,\"RETURN\",$C11,$E$3,,,,\"DECIMAL\")","v":-0.12268252809000001},{"$f":"_xll.ECONOMATICA($E$9,\"RETURN\",$C11,$E$3,,,,\"DECIMAL\")","v":-0.14412578446999999},{"$f":"IFERROR((D11-E11)*100,\"\")","v":2.1443256379999984},{"$f":"_xll.ECONOMATICA($G$9,\"RETURN\",$C11,$E$3,,,,\"DECIMAL\")","v":-8.2401371530999995E-2},{"$f":"IFERROR((D11-G11)*100,\"\")","v":-4.0281156559000015},{"$f":"E5","v":"2017-12-29"},null,null,{"$f":"_xll.ECONOMATICA('Criar Carteira'!$B$2,\"volatility\",I11,$E$3,,,,\"decimal\")","v":0.33971267118999998}]
[null,null,"6M",{"$f":"_xll.ECONOMATICA('Criar Carteira'!$B$2,\"RETURN\",$C12,$E$3,,,,\"DECIMAL\")","v":-0.16212376311000001},{"$f":"_xll.ECONOMATICA($E$9,\"RETURN\",$C12,$E$3,,,,\"DECIMAL\")","v":-0.1375258405},-2.4597922610000018,{"$f":"_xll.ECONOMATICA($G$9,\"RETURN\",$C12,$E$3,,,,\"DECIMAL\")","v":-6.8802065957999994E-2},-9.3321697152000027,{"$f":"$E$9","v":"IMOB"},"Tracking Error",null,{"$f":"_xll.ECONOMATICA('Criar Carteira'!$B$2,\"Tracking Error\",$I$11,$E$3,,,,\"decimal\",,,,'Base Opcionais'!$F$2)","v":0.31316119515000002}]
[null,null,"12M",{"$f":"_xll.ECONOMATICA('Criar Carteira'!$B$2,\"RETURN\",$C13,$E$3,,,,\"DECIMAL\")","v":-0.3180026118},{"$f":"_xll.ECONOMATICA($E$9,\"RETURN\",$C13,$E$3,,,,\"DECIMAL\")","v":-0.38543837037000001},6.7435758570000006,{"$f":"_xll.ECONOMATICA($G$9,\"RETURN\",$C13,$E$3,,,,\"DECIMAL\")","v":-0.22046613225},-9.7536479549999999,"IBOV",null,null,{"$f":"_xll.ECONOMATICA('Criar Carteira'!$B$2,\"Tracking Error\",$I$11,$E$3,,,,\"decimal\")","v":0.19179191898}]
[null,null,"24M",{"$f":"_xll.ECONOMATICA('Criar Carteira'!$B$2,\"RETURN\",$C14,$E$3,,,,\"DECIMAL\")","v":0.5167010407},{"$f":"_xll.ECONOMATICA($E$9,\"RETURN\",$C14,$E$3,,,,\"DECIMAL\")","v":-0.34468647955999998},86.138752025999992,{"$f":"_xll.ECONOMATICA($G$9,\"RETURN\",$C14,$E$3,,,,\"DECIMAL\")","v":4.4769977256000001E-2},47.1931063444,{"$f":"$E$9","v":"IMOB"},"Beta",null,{"$f":"_xll.ECONOMATICA('Criar Carteira'!$B$2,\"beta\",$I$11,$E$3,,,,\"DECIMAL\",,,,'Base Opcionais'!$F$2)","v":5.2249319472000002E-3}]
[null,null,"36M",{"$f":"_xll.ECONOMATICA('Criar Carteira'!$B$2,\"RETURN\",$C15,$E$3,,,,\"DECIMAL\")","v":1.0433721856},{"$f":"_xll.ECONOMATICA($E$9,\"RETURN\",$C15,$E$3,,,,\"DECIMAL\")","v":-0.33553369168000002},137.89058772800001,{"$f":"_xll.ECONOMATICA($G$9,\"RETURN\",$C15,$E$3,,,,\"DECIMAL\")","v":2.2552926686000001E-2},102.08192589139999,"IBOV",null,null,{"$f":"_xll.ECONOMATICA('Criar Carteira'!$B$2,\"beta\",$I$11,$E$3,,,,\"DECIMAL\")","v":8.5921494620999992E-3}]
[null,null,"YTD",{"$f":"_xll.ECONOMATICA('Criar Carteira'!$B$2,\"RETURN\",$C16,$E$3,,,,\"DECIMAL\")","v":-0.14966862605},{"$f":"_xll.ECONOMATICA($E$9,\"RETURN\",$C16,$E$3,,,,\"DECIMAL\")","v":-0.12440283874999999},-2.5265787300000007,{"$f":"_xll.ECONOMATICA($G$9,\"RETURN\",$C16,$E$3,,,,\"DECIMAL\")","v":-4.7675860245E-2},-10.199276580499999,{"$f":"$E$9","v":"IMOB"},"Informatio Ratio",null,{"$f":"_xll.ECONOMATICA('Criar Carteira'!$B$2,\"InfoRatio\",$I$11,$E$3,,,,\"DECIMAL\",,,,'Base Opcionais'!$F$2)","v":9.7017722476000004E-3}]
[null,null,"MTD",{"$f":"_xll.ECONOMATICA('Criar Carteira'!$B$2,\"RETURN\",$C17,$E$3,,,,\"DECIMAL\")","v":-0.13113218994},{"$f":"_xll.ECONOMATICA($E$9,\"RETURN\",$C17,$E$3,,,,\"DECIMAL\")","v":-9.5323689692000002E-2},-3.5808500248000001,{"$f":"_xll.ECONOMATICA($G$9,\"RETURN\",$C17,$E$3,,,,\"DECIMAL\")","v":-0.10350711460000001},-2.762507534,"IBOV",null,null,{"$f":"_xll.ECONOMATICA('Criar Carteira'!$B$2,\"inforatio\",$I$11,$E$3,,,,\"DECIMAL\")","v":1.1535776544000001E-2}]
[null,"Desde Início →",{"$f":"E5","v":"2017-12-29"},{"$f":"_xll.ECONOMATICA('Criar Carteira'!$B$2,\"RETURN\",$C18,$E$3,,,,\"DECIMAL\")","v":1.8938910463},{"$f":"_xll.ECONOMATICA($E$9,\"RETURN\",$C18,$E$3,,,,\"DECIMAL\")","v":-0.16655495538000001},{"$f":"IFERROR((D18-E18)*100,\"\")","v":206.04460016799999},{"$f":"_xll.ECONOMATICA($G$9,\"RETURN\",$C18,$E$3,,,,\"DECIMAL\")","v":0.30657359067000001},{"$f":"IFERROR((D18-G18)*100,\"\")","v":158.731745563},{"$f":"$E$9","v":"IMOB"},"Alfa de Jensen",null,{"$f":"_xll.ECONOMATICA('Criar Carteira'!$B$2,\"Alpha\",$I$11,$E$3,,,,\"decimal\",,,,'Base Opcionais'!$F$2)","v":0.30543544253999999}]
[null,"Média Anual Desde o Início →",{"$f":"C18","v":"2017-12-29"},{"$f":"_xll.ECONOMATICA('Criar Carteira'!$B$2,\"RETURN\",$C19,$E$3,,,,\"DECIMAL\",,,,{\"std.tec.ppr.per=4\";\"std.tec.ppr.pertd=false\"})","v":0.27449554814999999},{"$f":"_xll.ECONOMATICA($E$9,\"RETURN\",$C19,$E$3,,,,\"DECIMAL\",,,,{\"std.tec.ppr.per=4\";\"std.tec.ppr.pertd=false\"})","v":-4.0733433717E-2},31.522898186699997,{"$f":"_xll.ECONOMATICA($G$9,\"RETURN\",$C19,$E$3,,,,\"DECIMAL\",,,,{\"std.tec.ppr.per=4\";\"std.tec.ppr.pertd=false\"})","v":6.2940168754999998E-2},21.1555379395,"IBOV",null,null,{"$f":"_xll.ECONOMATICA('Criar Carteira'!$B$2,\"alpha\",$I$11,$E$3,,,,\"decimal\")","v":0.24429788890000001}]
[]
[null,null,"GRÁFICO DE RENTABILIDADE",null,null,null,null,null,"BENCHMARK: ","BENCHMARK: ",{"$f":"Historico!J9","v":"Ifinanceiro+5%a.a."},null,"← Não Modificar"]
[null,null,null,null,null,null,null,null,null,null,null,"IFNC","← Escolha o Índice do Benchmark"]
[null,null,null,null,null,null,null,null,null,null,null,"A","← Escolha um Tipo de Operação \"A\" (Adicionar um Fator Prefixado) ou \"M\" (Multiplica o Fator)"]
[null,null,null,null,null,null,null,null,null,null,null,5,"← Digite o Valor do Fator"]
[]
[]
[]
[]
[]
[]
[]
[]
[]
[]
[]
[]
[]
[]
[]
[null,null,"Patrimônio, Compras e Vendas"]
[]
[]
[]
[]
[]
[]
[]
[]
[]
[]
[]
[]
[]
[]
[]
[]
[]
[]
[]
[]
[]
[]
[]
[]
[]
[]
[]
[]
[]
[]
[]
[null,null,"Drawdown"]
[]
[]
[]
[]
[]
[]
[]
[]
[null,null,null,null,null,null,null,null,null,null,null,null,null,""]
[]
[]
[]
[]
[]
[]
[]
[null,null,"Retorno Diário"]
[]
[]
[]
[]
[]
[]
[]
[]
[]
[]
[]
[]
[]
[]
[]
[null,null,"Volatilidade "]
[]
[]
[]
[]
[]
[]
[]
[]
[]
[]
[]
[]
[]
[]
[null,null,"Risco x Retorno",null,null,null,null,null,null,null,"12M",null,"← Selecione Um Período"]

{"sheet":"Criar Carteira","index":1,"n_rows":56,"n_cols":6,"rows_kept":56,"cut":false,"hidden":false,"merged":[[7,1,18,1],[2,4,2,5],[3,4,3,5],[5,3,5,5]]}
[null,null,null,null,"Criação Da Carteira Hipotética Em Financeiro"]
[null,{"$f":"_xll.ECOPORTFOLIO(\"F\",$D$8:$F$201,\"0d\",,Lamina!$E$6)","v":"Economatica                                                                                                     <EcoPortfolio>{\"type\":\"F\",\"tolerance\":\"0d\",\"rebalance\":null,\"name\":\"Economatica\",\"data\":[[\"2017-12-29\",\"VALE3\",2736405.12016054],[\"2018-02-01\",\"WEGE3\",2000000.0],[\"2018-03-01\",\"SANB11\",449400.423391945],[\"2018-04-01\",\"BRSR6\",584005.120708887],[\"2018-05-01\",\"CVCB3\",711601.739560784],[\"2018-05-05\",\"SANB11\",\"SELL ALL\"],[\"2018-06-01\",\"VALE3\",-200000.0],[\"2018-07-01\",\"CVCB3\",\"SELL ALL\"],[\"2018-08-01\",\"PRIO3\",584236.22],[\"2018-09-01\",\"CPFE3\",12857.365519577499],[\"2018-10-01\",\"BIDI4\",514736.12],[\"2018-11-01\",\"CSAN3\",21746.581395242098],[\"2018-12-01\",\"POMO4\",28282.0246727596],[\"2019-01-01\",\"SBSP3\",36781.54763974],[\"2019-02-01\",\"QUAL3\",47835.4100326317],[\"2019-03-01\",\"PETR4\",500000.0],[\"2019-04-01\",\"SANB11\",\"SELL ALL\"],[\"2019-05-01\",\"ITSA4\",1177970.08644623],[\"2019-06-01\",\"CMIG4\",231454.97144607303],[\"2019-07-01\",\"TAEE11\",301013.529165687],[\"2019-08-01\",\"CYRE3\",391476.338463064],[\"2019-09-01\",\"BRKM5\",861120.68964325206],[\"2019-10-01\",\"ODPV3\",119911.04018044],[\"2019-11-01\",\"MOTV3\",894185.59763512],[\"2019-12-01\",\"ITSA4\",-250000.0],[\"2020-01-01\",\"MRVE3\",463440.24531704],[\"2020-02-01\",\"BBSE3\",118767.76325908],[\"2020-03-01\",\"ENBR3\",647255.87857121],[\"2020-05-01\",\"EZTC3\",\"SELL ALL\"],[\"2020-06-01\",\"BIDI11\",1000000.0],[\"2020-07-01\",\"ITUB4\",400000.0],[\"2020-08-01\",\"ITSA4\",\"SELL ALL\"],[\"2020-09-01\",\"VALE3\",500000.0],[\"2020-10-01\",\"USIM5\",450000.0],[\"2020-11-01\",\"JHSF3\",80000.0],[\"2020-12-01\",\"RENT3\",700000.0],[\"2021-01-01\",\"PRIO3\",1500000.0],[\"2021-02-01\",\"LWSA3\",400000.0],[\"2021-04-01\",\"RENT3\",-500000.0],[\"2021-05-01\",\"ITUB4\",\"SELL ALL\"],[\"2021-06-01\",\"VALE3\",-700000.0],[\"2021-07-01\",\"PETR4\",-200000.0],[\"2021-08-01\",\"ITSA4\",\"SELL ALL\"],[\"2021-09-15\",\"TASA3\",80000.0],[\"2021-09-25\",\"EMBR3\",700000.0],[\"2021-11-10\",\"PSSA3\",1500000.0],[\"2021-12-19\",\"RAPT4\",500000.0],[\"2022-02-05\",\"VALE3\",1000000.0],[\"2022-03-15\",\"SLCE3\",50000.0],[null,\"\",null],[null,\"\",null],[null,\"\",null],[null,\"\",null],[null,\"\",null],[null,\"\",null],[null,\"\",null],[null,\"\",null],[null,\"\",null],[null,\"\",null],[null,\"\",null],[null,\"\",null],[null,\"\",null],[null,\"\",null],[null,\"\",null],[null,\"\",null],[null,\"\",null],[null,\"\",null],[null,\"\",null],[null,\"\",null],[null,\"\",null],[null,\"\",null],[null,\"\",null],[null,\"\",null],[null,\"\",null],[null,\"\",null],[null,\"\",null],[null,\"\",null],[null,\"\",null],[null,\"\",null],[null,\"\",null],[null,\"\",null],[null,\"\",null],[null,\"\",null],[null,\"\",null],[null,\"\",null],[null,\"\",null],[null,\"\",null],[null,\"\",null],[null,\"\",null],[null,\"\",null],[null,\"\",null],[null,\"\",null],[null,\"\",null],[null,\"\",null],[null,\"\",null],[null,\"\",null],[null,\"\",null],[null,\"\",null],[null,\"\",null],[null,\"\",null],[null,\"\",null],[null,\"\",null],[null,\"\",null],[null,\"\",null],[null,\"\",null],[null,\"\",null],[null,\"\",null],[null,\"\",null],[null,\"\",null],[null,\"\",null],[null,\"\",null],[null,\"\",null],[null,\"\",null],[null,\"\",null],[null,\"\",null],[null,\"\",null],[null,\"\",null],[null,\"\",null],[null,\"\",null],[null,\"\",null],[null,\"\",null],[null,\"\",null],[null,\"\",null],[null,\"\",null],[null,\"\",null],[null,\"\",null],[null,\"\",null],[null,\"\",null],[null,\"\",null],[null,\"\",null],[null,\"\",null],[null,\"\",null],[null,\"\",null],[null,\"\",null],[null,\"\",null],[null,\"\",null],[null,\"\",null],[null,\"\",null],[null,\"\",null],[null,\"\",null],[null,\"\",null],[null,\"\",null],[null,\"\",null],[null,\"\",null],[null,\"\",null],[null,\"\",null],[null,\"\",null],[null,\"\",null],[null,\"\",null],[null,\"\",null],[null,\"\",null],[null,\"\",null],[null,\"\",null],[null,\"\",null],[null,\"\",null],[null,\"\",null],[null,\"\",null],[null,\"\",null],[null,\"\",null],[null,\"\",null],[null,\"\",null],[null,\"\",null],[null,\"\",null],[null,\"\",null],[null,\"\",null],[null,\"\",null],[null,\"\",null],[null,\"\",null],[null,\"\",null],[null,\"\",null],[null,\"\",null],[null,\"\",null],[null,\"\",null],[null,\"\",null],[null,\"\",null],[null,\"\",null],[null,\"\",null],[null,\"\",null],[null,\"\",null],[null,\"\",null],[null,\"\",null],[null,\"\",null],[null,\"\",null],[null,\"\",null],[null,\"\",null],[null,\"\",null],[null,\"\",null],[null,\"\",null],[null,\"\",null],[null,\"\",null],[null,\"\",null],[null,\"\",null],[null,\"\",null],[null,\"\",null]]}"},"← Não Modificar"]
[null,{"$f":"_xll.ECONOMATICA($B$2,\"date of last quote\")","v":"2022-06-17"},"← Dta. Últ. Cot.",null,"** Para zerar a posição em um determinado ativo, usar SELL ALL na coluna de valor **"]
[null,{"$f":"D8","v":"2017-12-29"},"← Dta. Inc. Ser.",null,"A carteira só pode ser construida com papeis na mesma moeda (Ex: R$ ou US$) "]
[]
[null,null,null,"↓ Inserir a data de transação na coluna \"D\", o ticker do ativo na coluna \"E\" e o valor da transação na coluna \"F\""]
[null,null,null,"Data","Ticker","Valor"]
[null,null,null,"2017-12-29","VALE3",2736405.1201605401]
[null,null,null,"2018-02-01","WEGE3",2000000]
[null,null,null,"2018-03-01","SANB11",449400.42339194502]
[null,null,null,"2018-04-01","BRSR6",584005.120708887]
[null,null,null,"2018-05-01","CVCB3",711601.73956078396]
[null,null,null,"2018-05-05","SANB11","SELL ALL"]
[null,null,null,"2018-06-01","VALE3",-200000]
[null,null,null,"2018-07-01","CVCB3","SELL ALL"]
[null,null,null,"2018-08-01","PRIO3",584236.22]
[null,null,null,"2018-09-01","CPFE3",12857.365519577499]
[null,null,null,"2018-10-01","BIDI4",514736.12]
[null,null,null,"2018-11-01","CSAN3",21746.581395242098]
[null,null,null,"2018-12-01","POMO4",28282.024672759599]
[null,null,null,"2019-01-01","SBSP3",36781.547639739998]
[null,null,null,"2019-02-01","QUAL3",47835.410032631698]
[null,null,null,"2019-03-01","PETR4",500000]
[null,null,null,"2019-04-01","SANB11","SELL ALL"]
[null,null,null,"2019-05-01","ITSA4",1177970.0864462301]
[null,null,null,"2019-06-01","CMIG4",231454.97144607303]
[null,null,null,"2019-07-01","TAEE11",301013.52916568698]
[null,null,null,"2019-08-01","CYRE3",391476.33846306399]
[null,null,null,"2019-09-01","BRKM5",861120.68964325206]
[null,null,null,"2019-10-01","ODPV3",119911.04018044]
[null,null,null,"2019-11-01","MOTV3",894185.59763512004]
[null,null,null,"2019-12-01","ITSA4",-250000]
[null,null,null,"2020-01-01","MRVE3",463440.24531704001]
[null,null,null,"2020-02-01","BBSE3",118767.76325908001]
[null,null,null,"2020-03-01","ENBR3",647255.87857120996]
[null,null,null,"2020-05-01","EZTC3","SELL ALL"]
[null,null,null,"2020-06-01","BIDI11",1000000]
[null,null,null,"2020-07-01","ITUB4",400000]
[null,null,null,"2020-08-01","ITSA4","SELL ALL"]
[null,null,null,"2020-09-01","VALE3",500000]
[null,null,null,"2020-10-01","USIM5",450000]
[null,null,null,"2020-11-01","JHSF3",80000]
[null,null,null,"2020-12-01","RENT3",700000]
[null,null,null,"2021-01-01","PRIO3",1500000]
[null,null,null,"2021-02-01","LWSA3",400000]
[null,null,null,"2021-04-01","RENT3",-500000]
[null,null,null,"2021-05-01","ITUB4","SELL ALL"]
[null,null,null,"2021-06-01","VALE3",-700000]
[null,null,null,"2021-07-01","PETR4",-200000]
[null,null,null,"2021-08-01","ITSA4","SELL ALL"]
[null,null,null,"2021-09-15","TASA3",80000]
[null,null,null,"2021-09-25","EMBR3",700000]
[null,null,null,"2021-11-10","PSSA3",1500000]
[null,null,null,"2021-12-19","RAPT4",500000]
[null,null,null,"2022-02-05","VALE3",1000000]
[null,null,null,"2022-03-15","SLCE3",50000]

{"sheet":"Base Opcionais","index":2,"n_rows":26,"n_cols":7,"rows_kept":26,"cut":false,"hidden":false,"merged":[]}
[null,null,null,null,null,"Planilha Auxiliar Não Modificar"]
[null,"Formula Código",{"$f":"INDEX($G$5:$G$26,MATCH(Lamina!$E$9,'Base Opcionais'!$D$5:$D$26,0))","v":42489},null,null,{"$f":"\"std.tec.stt.bmk=0:\"&$C$2&$F$3","v":"std.tec.stt.bmk=0:42489,1:2284,2:3543,3:2552,4:8107,5:0,6:0,7:0,8:0,9:0,10:18238,11:8845,12:0,13:0,14:0,15:0,16:0,17:0,18:0,19:0,20:0,21:0,22:0,23:0,24:0,25:0,26:0,27:0,28:0,29:0,30:0,31:0,;std.tec.stt.bmk=32:0,33:0,34:0,35:0,36:0,37:0,38:0,39:0,40:0,41:0,42:0,43:0,44:0,45:0,46:0,47:0,48:0,49:0,50:0,51:0,52:0,53:0,54:0,55:0,56:0,57:0,58:0,59:0,60:0,61:0,62:0,63:0,64:0,65:0,66:0,67:0,68:0,69:0,70:0,71:0,72:0,73:0,74:0,75:0,76:0,77:0,78:0,79:0"}]
[null,null,null,null,null,",1:2284,2:3543,3:2552,4:8107,5:0,6:0,7:0,8:0,9:0,10:18238,11:8845,12:0,13:0,14:0,15:0,16:0,17:0,18:0,19:0,20:0,21:0,22:0,23:0,24:0,25:0,26:0,27:0,28:0,29:0,30:0,31:0,;std.tec.stt.bmk=32:0,33:0,34:0,35:0,36:0,37:0,38:0,39:0,40:0,41:0,42:0,43:0,44:0,45:0,46:0,47:0,48:0,49:0,50:0,51:0,52:0,53:0,54:0,55:0,56:0,57:0,58:0,59:0,60:0,61:0,62:0,63:0,64:0,65:0,66:0,67:0,68:0,69:0,70:0,71:0,72:0,73:0,74:0,75:0,76:0,77:0,78:0,79:0"]
[null,"Índice Ações",{"$f":"_xll.ECONOMATICA($B$5:$B$26,\"Name\",,,,,,,\"false\",\"true\")","v":"Nome"},"Código",{"$f":"_xll.ECONOMATICA($D$5:$D$26,\"Date of Last Quote\",,,,,,,\"false\",\"true\")","v":"Data da Últ Cotação"},"Opcionais - Tracking Error","Código"]
[null,"BDRX<XBSP>","Bdrx","BDRX","2025-09-15","{\"std.tec.stt.bmk=0:58323,1:2284,2:3543,3:2552,4:8107,5:0,6:0,7:0,8:0,9:0,10:18238,11:8845,12:0,13:0,14:0,15:0,16:0,17:0,18:0,19:0,20:0,21:0,22:0,23:0,24:0,25:0,26:0,27:0,28:0,29:0,30:0,31:0,\";\"std.tec.stt.bmk=32:0,33:0,34:0,35:0,36:0,37:0,38:0,39:0,40:0,41:0,42:0,43:0,44:0,45:0,46:0,47:0,48:0,49:0,50:0,51:0,52:0,53:0,54:0,55:0,56:0,57:0,58:0,59:0,60:0,61:0,62:0,63:0,64:0,65:0,66:0,67:0,68:0,69:0,70:0,71:0,72:0,73:0,74:0,75:0,76:0,77:0,78:0,79:0\"}",58323]
[null,"IDIV<XBSP>","I Dividendos","IDIV<XBSP>","2025-09-15","{\"std.tec.stt.bmk=0:51531,1:2284,2:3543,3:2552,4:8107,5:0,6:0,7:0,8:0,9:0,10:18238,11:8845,12:0,13:0,14:0,15:0,16:0,17:0,18:0,19:0,20:0,21:0,22:0,23:0,24:0,25:0,26:0,27:0,28:0,29:0,30:0,31:0,\";\"std.tec.stt.bmk=32:0,33:0,34:0,35:0,36:0,37:0,38:0,39:0,40:0,41:0,42:0,43:0,44:0,45:0,46:0,47:0,48:0,49:0,50:0,51:0,52:0,53:0,54:0,55:0,56:0,57:0,58:0,59:0,60:0,61:0,62:0,63:0,64:0,65:0,66:0,67:0,68:0,69:0,70:0,71:0,72:0,73:0,74:0,75:0,76:0,77:0,78:0,79:0\"}",51531]
[null,"IBRA<XBSP>","Ibrasil","IBRA","2025-09-15","{\"std.tec.stt.bmk=0:51530,1:2284,2:3543,3:2552,4:8107,5:0,6:0,7:0,8:0,9:0,10:18238,11:8845,12:0,13:0,14:0,15:0,16:0,17:0,18:0,19:0,20:0,21:0,22:0,23:0,24:0,25:0,26:0,27:0,28:0,29:0,30:0,31:0,\";\"std.tec.stt.bmk=32:0,33:0,34:0,35:0,36:0,37:0,38:0,39:0,40:0,41:0,42:0,43:0,44:0,45:0,46:0,47:0,48:0,49:0,50:0,51:0,52:0,53:0,54:0,55:0,56:0,57:0,58:0,59:0,60:0,61:0,62:0,63:0,64:0,65:0,66:0,67:0,68:0,69:0,70:0,71:0,72:0,73:0,74:0,75:0,76:0,77:0,78:0,79:0\"}",51530]
[null,"IBXL<XBSP>","Ibrx 50","IBXL","2025-09-15","{\"std.tec.stt.bmk=0:6183,1:2284,2:3543,3:2552,4:8107,5:0,6:0,7:0,8:0,9:0,10:18238,11:8845,12:0,13:0,14:0,15:0,16:0,17:0,18:0,19:0,20:0,21:0,22:0,23:0,24:0,25:0,26:0,27:0,28:0,29:0,30:0,31:0,\";\"std.tec.stt.bmk=32:0,33:0,34:0,35:0,36:0,37:0,38:0,39:0,40:0,41:0,42:0,43:0,44:0,45:0,46:0,47:0,48:0,49:0,50:0,51:0,52:0,53:0,54:0,55:0,56:0,57:0,58:0,59:0,60:0,61:0,62:0,63:0,64:0,65:0,66:0,67:0,68:0,69:0,70:0,71:0,72:0,73:0,74:0,75:0,76:0,77:0,78:0,79:0\"}",6183]
[null,"IBXX<XBSP>","Ibrx Brasil","IBXX","2025-09-15","{\"std.tec.stt.bmk=0:6181,1:2284,2:3543,3:2552,4:8107,5:0,6:0,7:0,8:0,9:0,10:18238,11:8845,12:0,13:0,14:0,15:0,16:0,17:0,18:0,19:0,20:0,21:0,22:0,23:0,24:0,25:0,26:0,27:0,28:0,29:0,30:0,31:0,\";\"std.tec.stt.bmk=32:0,33:0,34:0,35:0,36:0,37:0,38:0,39:0,40:0,41:0,42:0,43:0,44:0,45:0,46:0,47:0,48:0,49:0,50:0,51:0,52:0,53:0,54:0,55:0,56:0,57:0,58:0,59:0,60:0,61:0,62:0,63:0,64:0,65:0,66:0,67:0,68:0,69:0,70:0,71:0,72:0,73:0,74:0,75:0,76:0,77:0,78:0,79:0\"}",6181]
[null,"ICO2<XBSP>","Ico2","ICO2","2025-09-15","{\"std.tec.stt.bmk=0:50191,1:2284,2:3543,3:2552,4:8107,5:0,6:0,7:0,8:0,9:0,10:18238,11:8845,12:0,13:0,14:0,15:0,16:0,17:0,18:0,19:0,20:0,21:0,22:0,23:0,24:0,25:0,26:0,27:0,28:0,29:0,30:0,31:0,\";\"std.tec.stt.bmk=32:0,33:0,34:0,35:0,36:0,37:0,38:0,39:0,40:0,41:0,42:0,43:0,44:0,45:0,46:0,47:0,48:0,49:0,50:0,51:0,52:0,53:0,54:0,55:0,56:0,57:0,58:0,59:0,60:0,61:0,62:0,63:0,64:0,65:0,66:0,67:0,68:0,69:0,70:0,71:0,72:0,73:0,74:0,75:0,76:0,77:0,78:0,79:0\"}",50191]
[null,"ICON<XBSP>","Iconsumo","ICON<XBSP>","2025-09-15","{\"std.tec.stt.bmk=0:42490,1:2284,2:3543,3:2552,4:8107,5:0,6:0,7:0,8:0,9:0,10:18238,11:8845,12:0,13:0,14:0,15:0,16:0,17:0,18:0,19:0,20:0,21:0,22:0,23:0,24:0,25:0,26:0,27:0,28:0,29:0,30:0,31:0,\";\"std.tec.stt.bmk=32:0,33:0,34:0,35:0,36:0,37:0,38:0,39:0,40:0,41:0,42:0,43:0,44:0,45:0,46:0,47:0,48:0,49:0,50:0,51:0,52:0,53:0,54:0,55:0,56:0,57:0,58:0,59:0,60:0,61:0,62:0,63:0,64:0,65:0,66:0,67:0,68:0,69:0,70:0,71:0,72:0,73:0,74:0,75:0,76:0,77:0,78:0,79:0\"}",42490]
[null,"IEEX<XBSP>","Ieeletrica","IEEX","2025-09-15","{\"std.tec.stt.bmk=0:6270,1:2284,2:3543,3:2552,4:8107,5:0,6:0,7:0,8:0,9:0,10:18238,11:8845,12:0,13:0,14:0,15:0,16:0,17:0,18:0,19:0,20:0,21:0,22:0,23:0,24:0,25:0,26:0,27:0,28:0,29:0,30:0,31:0,\";\"std.tec.stt.bmk=32:0,33:0,34:0,35:0,36:0,37:0,38:0,39:0,40:0,41:0,42:0,43:0,44:0,45:0,46:0,47:0,48:0,49:0,50:0,51:0,52:0,53:0,54:0,55:0,56:0,57:0,58:0,59:0,60:0,61:0,62:0,63:0,64:0,65:0,66:0,67:0,68:0,69:0,70:0,71:0,72:0,73:0,74:0,75:0,76:0,77:0,78:0,79:0\"}",6270]
[null,"IFNC<XBSP>","Ifinanceiro","IFNC","2025-09-15","{\"std.tec.stt.bmk=0:44065,1:2284,2:3543,3:2552,4:8107,5:0,6:0,7:0,8:0,9:0,10:18238,11:8845,12:0,13:0,14:0,15:0,16:0,17:0,18:0,19:0,20:0,21:0,22:0,23:0,24:0,25:0,26:0,27:0,28:0,29:0,30:0,31:0,\";\"std.tec.stt.bmk=32:0,33:0,34:0,35:0,36:0,37:0,38:0,39:0,40:0,41:0,42:0,43:0,44:0,45:0,46:0,47:0,48:0,49:0,50:0,51:0,52:0,53:0,54:0,55:0,56:0,57:0,58:0,59:0,60:0,61:0,62:0,63:0,64:0,65:0,66:0,67:0,68:0,69:0,70:0,71:0,72:0,73:0,74:0,75:0,76:0,77:0,78:0,79:0\"}",44065]
[null,"IGNM<XBSP>","Igc - Nm","IGNM","2025-09-15","{\"std.tec.stt.bmk=0:58322,1:2284,2:3543,3:2552,4:8107,5:0,6:0,7:0,8:0,9:0,10:18238,11:8845,12:0,13:0,14:0,15:0,16:0,17:0,18:0,19:0,20:0,21:0,22:0,23:0,24:0,25:0,26:0,27:0,28:0,29:0,30:0,31:0,\";\"std.tec.stt.bmk=32:0,33:0,34:0,35:0,36:0,37:0,38:0,39:0,40:0,41:0,42:0,43:0,44:0,45:0,46:0,47:0,48:0,49:0,50:0,51:0,52:0,53:0,54:0,55:0,56:0,57:0,58:0,59:0,60:0,61:0,62:0,63:0,64:0,65:0,66:0,67:0,68:0,69:0,70:0,71:0,72:0,73:0,74:0,75:0,76:0,77:0,78:0,79:0\"}",58322]
[null,"IGCT<XBSP>","Igc Trade","IGCT","2025-09-15","{\"std.tec.stt.bmk=0:50720,1:2284,2:3543,3:2552,4:8107,5:0,6:0,7:0,8:0,9:0,10:18238,11:8845,12:0,13:0,14:0,15:0,16:0,17:0,18:0,19:0,20:0,21:0,22:0,23:0,24:0,25:0,26:0,27:0,28:0,29:0,30:0,31:0,\";\"std.tec.stt.bmk=32:0,33:0,34:0,35:0,36:0,37:0,38:0,39:0,40:0,41:0,42:0,43:0,44:0,45:0,46:0,47:0,48:0,49:0,50:0,51:0,52:0,53:0,54:0,55:0,56:0,57:0,58:0,59:0,60:0,61:0,62:0,63:0,64:0,65:0,66:0,67:0,68:0,69:0,70:0,71:0,72:0,73:0,74:0,75:0,76:0,77:0,78:0,79:0\"}",50720]
[null,"IGCX<XBSP>","Igovernanca","IGCX","2025-09-15","{\"std.tec.stt.bmk=0:6271,1:2284,2:3543,3:2552,4:8107,5:0,6:0,7:0,8:0,9:0,10:18238,11:8845,12:0,13:0,14:0,15:0,16:0,17:0,18:0,19:0,20:0,21:0,22:0,23:0,24:0,25:0,26:0,27:0,28:0,29:0,30:0,31:0,\";\"std.tec.stt.bmk=32:0,33:0,34:0,35:0,36:0,37:0,38:0,39:0,40:0,41:0,42:0,43:0,44:0,45:0,46:0,47:0,48:0,49:0,50:0,51:0,52:0,53:0,54:0,55:0,56:0,57:0,58:0,59:0,60:0,61:0,62:0,63:0,64:0,65:0,66:0,67:0,68:0,69:0,70:0,71:0,72:0,73:0,74:0,75:0,76:0,77:0,78:0,79:0\"}",6271]
[null,"IMAT<XBSP>","Imat Basicos","IMAT","2025-09-15","{\"std.tec.stt.bmk=0:51532,1:2284,2:3543,3:2552,4:8107,5:0,6:0,7:0,8:0,9:0,10:18238,11:8845,12:0,13:0,14:0,15:0,16:0,17:0,18:0,19:0,20:0,21:0,22:0,23:0,24:0,25:0,26:0,27:0,28:0,29:0,30:0,31:0,\";\"std.tec.stt.bmk=32:0,33:0,34:0,35:0,36:0,37:0,38:0,39:0,40:0,41:0,42:0,43:0,44:0,45:0,46:0,47:0,48:0,49:0,50:0,51:0,52:0,53:0,54:0,55:0,56:0,57:0,58:0,59:0,60:0,61:0,62:0,63:0,64:0,65:0,66:0,67:0,68:0,69:0,70:0,71:0,72:0,73:0,74:0,75:0,76:0,77:0,78:0,79:0\"}",51532]
[null,"IMOB<XBSP>","Imobiliario","IMOB","2025-09-15","{\"std.tec.stt.bmk=0:42489,1:2284,2:3543,3:2552,4:8107,5:0,6:0,7:0,8:0,9:0,10:18238,11:8845,12:0,13:0,14:0,15:0,16:0,17:0,18:0,19:0,20:0,21:0,22:0,23:0,24:0,25:0,26:0,27:0,28:0,29:0,30:0,31:0,\";\"std.tec.stt.bmk=32:0,33:0,34:0,35:0,36:0,37:0,38:0,39:0,40:0,41:0,42:0,43:0,44:0,45:0,46:0,47:0,48:0,49:0,50:0,51:0,52:0,53:0,54:0,55:0,56:0,57:0,58:0,59:0,60:0,61:0,62:0,63:0,64:0,65:0,66:0,67:0,68:0,69:0,70:0,71:0,72:0,73:0,74:0,75:0,76:0,77:0,78:0,79:0\"}",42489]
[null,"IFIX<XBSP>","Ind Fdo Imob","IFIX","2025-09-15","{\"std.tec.stt.bmk=0:58141,1:2284,2:3543,3:2552,4:8107,5:0,6:0,7:0,8:0,9:0,10:18238,11:8845,12:0,13:0,14:0,15:0,16:0,17:0,18:0,19:0,20:0,21:0,22:0,23:0,24:0,25:0,26:0,27:0,28:0,29:0,30:0,31:0,\";\"std.tec.stt.bmk=32:0,33:0,34:0,35:0,36:0,37:0,38:0,39:0,40:0,41:0,42:0,43:0,44:0,45:0,46:0,47:0,48:0,49:0,50:0,51:0,52:0,53:0,54:0,55:0,56:0,57:0,58:0,59:0,60:0,61:0,62:0,63:0,64:0,65:0,66:0,67:0,68:0,69:0,70:0,71:0,72:0,73:0,74:0,75:0,76:0,77:0,78:0,79:0\"}",58141]
[null,"INDX<XBSP>","Industrial","INDX","2025-09-15","{\"std.tec.stt.bmk=0:13968,1:2284,2:3543,3:2552,4:8107,5:0,6:0,7:0,8:0,9:0,10:18238,11:8845,12:0,13:0,14:0,15:0,16:0,17:0,18:0,19:0,20:0,21:0,22:0,23:0,24:0,25:0,26:0,27:0,28:0,29:0,30:0,31:0,\";\"std.tec.stt.bmk=32:0,33:0,34:0,35:0,36:0,37:0,38:0,39:0,40:0,41:0,42:0,43:0,44:0,45:0,46:0,47:0,48:0,49:0,50:0,51:0,52:0,53:0,54:0,55:0,56:0,57:0,58:0,59:0,60:0,61:0,62:0,63:0,64:0,65:0,66:0,67:0,68:0,69:0,70:0,71:0,72:0,73:0,74:0,75:0,76:0,77:0,78:0,79:0\"}",13968]
[null,"ISEE<XBSP>","Isustentabil","ISEE<XBSP>","2025-09-15","{\"std.tec.stt.bmk=0:13514,1:2284,2:3543,3:2552,4:8107,5:0,6:0,7:0,8:0,9:0,10:18238,11:8845,12:0,13:0,14:0,15:0,16:0,17:0,18:0,19:0,20:0,21:0,22:0,23:0,24:0,25:0,26:0,27:0,28:0,29:0,30:0,31:0,\";\"std.tec.stt.bmk=32:0,33:0,34:0,35:0,36:0,37:0,38:0,39:0,40:0,41:0,42:0,43:0,44:0,45:0,46:0,47:0,48:0,49:0,50:0,51:0,52:0,53:0,54:0,55:0,56:0,57:0,58:0,59:0,60:0,61:0,62:0,63:0,64:0,65:0,66:0,67:0,68:0,69:0,70:0,71:0,72:0,73:0,74:0,75:0,76:0,77:0,78:0,79:0\"}",13514]
[null,"ITAG<XBSP>","Itag Along","ITAG","2025-09-15","{\"std.tec.stt.bmk=0:12910,1:2284,2:3543,3:2552,4:8107,5:0,6:0,7:0,8:0,9:0,10:18238,11:8845,12:0,13:0,14:0,15:0,16:0,17:0,18:0,19:0,20:0,21:0,22:0,23:0,24:0,25:0,26:0,27:0,28:0,29:0,30:0,31:0,\";\"std.tec.stt.bmk=32:0,33:0,34:0,35:0,36:0,37:0,38:0,39:0,40:0,41:0,42:0,43:0,44:0,45:0,46:0,47:0,48:0,49:0,50:0,51:0,52:0,53:0,54:0,55:0,56:0,57:0,58:0,59:0,60:0,61:0,62:0,63:0,64:0,65:0,66:0,67:0,68:0,69:0,70:0,71:0,72:0,73:0,74:0,75:0,76:0,77:0,78:0,79:0\"}",12910]
[null,"IVBX<XBSP>","Ivbx2","IVBX","2025-09-15","{\"std.tec.stt.bmk=0:6402,1:2284,2:3543,3:2552,4:8107,5:0,6:0,7:0,8:0,9:0,10:18238,11:8845,12:0,13:0,14:0,15:0,16:0,17:0,18:0,19:0,20:0,21:0,22:0,23:0,24:0,25:0,26:0,27:0,28:0,29:0,30:0,31:0,\";\"std.tec.stt.bmk=32:0,33:0,34:0,35:0,36:0,37:0,38:0,39:0,40:0,41:0,42:0,43:0,44:0,45:0,46:0,47:0,48:0,49:0,50:0,51:0,52:0,53:0,54:0,55:0,56:0,57:0,58:0,59:0,60:0,61:0,62:0,63:0,64:0,65:0,66:0,67:0,68:0,69:0,70:0,71:0,72:0,73:0,74:0,75:0,76:0,77:0,78:0,79:0\"}",6402]
[null,"MLCX<XBSP>","Midlarge Cap","MLCX","2025-09-15","{\"std.tec.stt.bmk=0:21251,1:2284,2:3543,3:2552,4:8107,5:0,6:0,7:0,8:0,9:0,10:18238,11:8845,12:0,13:0,14:0,15:0,16:0,17:0,18:0,19:0,20:0,21:0,22:0,23:0,24:0,25:0,26:0,27:0,28:0,29:0,30:0,31:0,\";\"std.tec.stt.bmk=32:0,33:0,34:0,35:0,36:0,37:0,38:0,39:0,40:0,41:0,42:0,43:0,44:0,45:0,46:0,47:0,48:0,49:0,50:0,51:0,52:0,53:0,54:0,55:0,56:0,57:0,58:0,59:0,60:0,61:0,62:0,63:0,64:0,65:0,66:0,67:0,68:0,69:0,70:0,71:0,72:0,73:0,74:0,75:0,76:0,77:0,78:0,79:0\"}",21251]
[null,"SMLL<XBSP>","Small Cap","SMLL","2025-09-15","{\"std.tec.stt.bmk=0:21250,1:2284,2:3543,3:2552,4:8107,5:0,6:0,7:0,8:0,9:0,10:18238,11:8845,12:0,13:0,14:0,15:0,16:0,17:0,18:0,19:0,20:0,21:0,22:0,23:0,24:0,25:0,26:0,27:0,28:0,29:0,30:0,31:0,\";\"std.tec.stt.bmk=32:0,33:0,34:0,35:0,36:0,37:0,38:0,39:0,40:0,41:0,42:0,43:0,44:0,45:0,46:0,47:0,48:0,49:0,50:0,51:0,52:0,53:0,54:0,55:0,56:0,57:0,58:0,59:0,60:0,61:0,62:0,63:0,64:0,65:0,66:0,67:0,68:0,69:0,70:0,71:0,72:0,73:0,74:0,75:0,76:0,77:0,78:0,79:0\"}",21250]
[null,"UTIL<XBSP>","Utilities","UTIL","2025-09-15","{\"std.tec.stt.bmk=0:51534,1:2284,2:3543,3:2552,4:8107,5:0,6:0,7:0,8:0,9:0,10:18238,11:8845,12:0,13:0,14:0,15:0,16:0,17:0,18:0,19:0,20:0,21:0,22:0,23:0,24:0,25:0,26:0,27:0,28:0,29:0,30:0,31:0,\";\"std.tec.stt.bmk=32:0,33:0,34:0,35:0,36:0,37:0,38:0,39:0,40:0,41:0,42:0,43:0,44:0,45:0,46:0,47:0,48:0,49:0,50:0,51:0,52:0,53:0,54:0,55:0,56:0,57:0,58:0,59:0,60:0,61:0,62:0,63:0,64:0,65:0,66:0,67:0,68:0,69:0,70:0,71:0,72:0,73:0,74:0,75:0,76:0,77:0,78:0,79:0\"}",51534]

{"sheet":"Plan1","index":3,"n_rows":49,"n_cols":12,"rows_kept":49,"cut":false,"hidden":true,"merged":[]}
[]
[]
["12M"]
[]
["Estatisticas",null,null,"Estatistisca Relativa","IDIV","IBOV","SMLL"]
["Vol",1,null,"Tracking Error"]
["Meses Pos",1,null,"Information Ratio"]
["Meses Neg",1,null,"Alfa Jensen"]
["Melhor Mês",1,null,"Treynor"]
["Pior Mês",1,null,"Correlacao"]
["Perda Maxima",1,null,"Beta"]
["Pico",null,null,"Meses Acima"]
["Fundo",null,null,"Meses Abaixo"]
["Recuperacao",null,null,"Melhor Mês"]
["Tempo Rec",null,null,"Pior IBOV"]
[]
[]
[]
[]
[]
[]
[]
[]
[]
[]
[]
[]
[]
[]
[]
[]
[]
[]
[]
[]
[]
[]
[]
[]
[null,null,"1d","1w","1m","6m","12m","24M","36M","mtd","ytd","Inicio"]
[null,"Dividendos",2]
[null,"IDIV",1]
[null,{"$f":"\"Δ \"&B42","v":"Δ IDIV"},{"$f":"C41-C42","v":1}]
[null,"IBOV"]
[null,"Δ IBOV"]
[null,"SMLL"]
[null,"Δ SMLL"]
[null,"CDI"]
[null,"% CDI"]

{"sheet":"Carteira - Atualização","index":4,"n_rows":101,"n_cols":9,"rows_kept":101,"cut":false,"hidden":false,"merged":[]}
[null,null,null,"Planilha Auxiliar Não Modificar"]
[]
[null,{"$f":"_xll.ECODATASET('Criar Carteira'!$B$2,\"ph\",\"latest\",\"1d\")","v":"Código"},"Descrição","Classe","Tipo de investimento","2022-06-30","Ticker",null,"Índice Ações"]
[null,"PRIO3<XBSP>","Petrorio","ON","Ação",31.401186201000002,{"$f":"IF(F4=\"\",\"\",B4)","v":"PRIO3<XBSP>"}]
[null,"VALE3<XBSP>","Vale","ON","Ação",23.056059233999999,{"$f":"IF(F5=\"\",\"\",B5)","v":"VALE3<XBSP>"},null,"BDRX"]
[null,"WEGE3<XBSP>","Weg","ON","Ação",15.648980534,"WEGE3<XBSP>",null,"IDIV<XBSP>"]
[null,"BRKM5<XBSP>","Braskem","PNA","Ação",4.0169171845999996,"BRKM5<XBSP>",null,"IBRA"]
[null,"PSSA3<XBSP>","Porto Seguro","ON","Ação",3.3216420947,"PSSA3<XBSP>",null,"IBXL"]
[null,"BIDI4<XBSP>","Banco Inter","PN","Ação",3.1502629852999999,"BIDI4<XBSP>",null,"IBXX"]
[null,"BIDI11<XBSP>","Banco Inter","UNT","Ação",2.6335938676000001,"BIDI11<XBSP>",null,"ICO2"]
[null,"ENBR3<XBSP>","Energias BR","ON","Ação",2.2549880546000001,"ENBR3<XBSP>",null,"ICON<XBSP>"]
[null,"MOTV3<XBSP>","Motiva SA","ON","Ação",2.0532838632999999,"MOTV3<XBSP>",null,"IEEX"]
[null,"TAEE11<XBSP>","Taesa","UNT N2","Ação",1.7723812811999999,"TAEE11<XBSP>",null,"IFNC"]
[null,"PETR4<XBSP>","Petrobras","PN","Ação",1.5138946196,"PETR4<XBSP>",null,"IGNM"]
[null,"RAPT4<XBSP>","Randon Part","PN","Ação",1.3313963288999999,"RAPT4<XBSP>",null,"IGCT"]
[null,"USIM5<XBSP>","Usiminas","PNA","Ação",1.3041427302999999,"USIM5<XBSP>",null,"IGCX"]
[null,"BRSR6<XBSP>","Banrisul","PNB","Ação",1.1017001918,"BRSR6<XBSP>",null,"IMAT"]
[null,"EMBR3<XBSP>","Embraer","ON","Ação",0.99043303966999996,"EMBR3<XBSP>",null,"IMOB"]
[null,"CMIG4<XBSP>","Cemig","PN","Ação",0.91133842159,"CMIG4<XBSP>",null,"IFIX"]
[null,"CYRE3<XBSP>","Cyrela Realt","ON","Ação",0.65598923931999997,"CYRE3<XBSP>",null,"INDX"]
[null,"MRVE3<XBSP>","MRV","ON","Ação",0.54181504488999999,"MRVE3<XBSP>",null,"ISEE<XBSP>"]
[null,"RENT3<XBSP>","Localiza","ON","Ação",0.35709459046999997,"RENT3<XBSP>",null,"ITAG"]
[null,"BBSE3<XBSP>","BBSeguridade","ON","Ação",0.29146348733999999,"BBSE3<XBSP>",null,"IVBX"]
[null,"ODPV3<XBSP>","Odontoprev","ON","Ação",0.26219217525999999,"ODPV3<XBSP>",null,"MLCX"]
[null,"JHSF3<XBSP>","JHSF Part","ON","Ação",0.25232083193999999,"JHSF3<XBSP>",null,"SMLL"]
[null,"LWSA3<XBSP>","Lwsa","ON","Ação",0.23970073412000001,"LWSA3<XBSP>",null,"UTIL"]
[null,"TASA3<XBSP>","Taurus Armas","ON","Ação",0.1759810732,"TASA3<XBSP>"]
[null,"SLCE3<XBSP>","SLC Agricola","ON","Ação",0.16017321129000001,"SLCE3<XBSP>"]
[null,"QUAL3<XBSP>","Qualicorp","ON","Ação",0.15938301783,"QUAL3<XBSP>"]
[null,"CSAN3<XBSP>","Cosan","ON","Ação",0.15647923951000001,"CSAN3<XBSP>"]
[null,"SBSP3<XBSP>","Sabesp","ON","Ação",0.15286644276,"SBSP3<XBSP>"]
[null,"CPFE3<XBSP>","CPFL Energia","ON","Ação",7.5761529931999999E-2,"CPFE3<XBSP>"]
[null,"POMO4<XBSP>","Marcopolo","PN","Ação",5.6578749514999999E-2,"POMO4<XBSP>"]
[null,"CVCB3<XBSP>","Cvc Brasil","ON","Ação",null,""]
[null,"EZTC3<XBSP>","Eztec","ON","Ação",null,""]
[null,"ITSA4<XBSP>","Itausa","PN","Ação",null,""]
[null,"ITUB4<XBSP>","ItauUnibanco","PN","Ação",null,""]
[null,"SANB11<XBSP>","Santander BR","UNT","Ação",null,""]
[null,null,"Total",null,null,100,0]
[null,null,null,null,null,null,""]
[null,null,"Total Investido + Caixa (em milhares)",null,null,34301336.390000001,0]
[null,null,"PL (em milhares)",null,null,34301336.390000001,0]
[null,null,null,null,null,null,""]
[null,null,null,null,null,null,""]
[null,null,null,null,null,null,""]
[null,null,null,null,null,null,""]
[null,null,null,null,null,null,""]
[null,null,null,null,null,null,""]
[null,null,null,null,null,null,""]
[null,null,null,null,null,null,""]
[null,null,null,null,null,null,""]
[null,null,null,null,null,null,""]
[null,null,null,null,null,null,""]
[null,null,null,null,null,null,""]
[null,null,null,null,null,null,""]
[null,null,null,null,null,null,""]
[null,null,null,null,null,null,""]
[null,null,null,null,null,null,""]
[null,null,null,null,null,null,""]
[null,null,null,null,null,null,""]
[null,null,null,null,null,null,""]
[null,null,null,null,null,null,""]
[null,null,null,null,null,null,""]
[null,null,null,null,null,null,""]
[null,null,null,null,null,null,""]
[null,null,null,null,null,null,""]
[null,null,null,null,null,null,""]
[null,null,null,null,null,null,""]
[null,null,null,null,null,null,{"$f":"IF(F69=\"\",\"\",B69)","v":""}]
[null,null,null,null,null,null,""]
[null,null,null,null,null,null,""]
[null,null,null,null,null,null,""]
[null,null,null,null,null,null,""]
[null,null,null,null,null,null,""]
[null,null,null,null,null,null,""]
[null,null,null,null,null,null,""]
[null,null,null,null,null,null,""]
[null,null,null,null,null,null,""]
[null,null,null,null,null,null,""]
[null,null,null,null,null,null,""]
[null,null,null,null,null,null,""]
[null,null,null,null,null,null,""]
[null,null,null,null,null,null,""]
[null,null,null,null,null,null,""]
[null,null,null,null,null,null,""]
[null,null,null,null,null,null,""]
[null,null,null,null,null,null,""]
[null,null,null,null,null,null,""]
[null,null,null,null,null,null,""]
[null,null,null,null,null,null,""]
[null,null,null,null,null,null,""]
[null,null,null,null,null,null,""]
[null,null,null,null,null,null,""]
[null,null,null,null,null,null,""]
[null,null,null,null,null,null,""]
[null,null,null,null,null,null,""]
[null,null,null,null,null,null,""]
[null,null,null,null,null,null,""]
[null,null,null,null,null,null,""]
[null,null,null,null,null,null,""]
[null,null,null,null,null,null,""]

{"sheet":"Historico","index":5,"n_rows":1691,"n_cols":28,"rows_kept":1691,"cut":false,"hidden":false,"merged":[[4,12,6,12],[1,7,1,8],[2,7,2,8],[3,7,3,8],[4,3,6,3],[4,11,6,11]]}
[null,null,null,null,null,"Planilha Auxiliar Não Modificar"]
[null,null,null,"Data Final",{"$f":"Lamina!E3","v":"2022-06-17"},null,"Mínimo:",{"$f":"ROUNDDOWN(MIN(E$10:J$14999),-1)","v":70},null,null,null,"Data Final",{"$f":"E2","v":"2022-06-17"},null,null,null,null,"Mínimo:",{"$f":"ROUNDDOWN(MIN(S$10:S$14999),)-2","v":-19},null,"Mínimo:",{"$f":"ROUNDDOWN(MIN(V$10:V$14999),)-2","v":9}]
[null,null,null,"Data Inicial",{"$f":"Lamina!E5","v":"2017-12-29"},null,"Máximo:",{"$f":"ROUNDUP(MAX(E$10:J$14999),-1)","v":450},null,null,null,"Data Inicial",{"$f":"E3","v":"2017-12-29"},null,null,null,null,"Máximo:",{"$f":"ROUNDUP(MAX(S$10:S$14999),-1)+1","v":21},null,"Máximo:",{"$f":"ROUNDUP(MAX(V$10:V$14999),-1)+1","v":151}]
[null,null,null,"Intervalo","D",null,"VBA Gráfico:",{"$f":"AtualizarLimitesGrafico(\"Lamina\",\"Rentabilidade\",H2,H3)","v":"[Lamina]Rentabilidade, Min:70, Max:450"},null,null,null,"Intervalo","M",null,null,null,null,"VBA Gráfico:",{"$f":"AtualizarLimitesGrafico(\"Lamina\",\"RetornoDiario\",S2,S3)","v":"[Lamina]RetornoDiario, Min:-19, Max:21"},null,"VBA Gráfico:",{"$f":"AtualizarLimitesGrafico(\"Lamina\",\"Volatilidade\",V2,V3)","v":"[Lamina]Volatilidade, Min:9, Max:151"}]
[null,null,null,"Ativos",{"$f":"'Criar Carteira'!$B$2","v":"Economatica                                                                                                     <EcoPortfolio>{\"type\":\"F\",\"tolerance\":\"0d\",\"rebalance\":null,\"name\":\"Economatica\",\"data\":[[\"2017-12-29\",\"VALE3\",2736405.12016054],[\"2018-02-01\",\"WEGE3\",2000000.0],[\"2018-03-01\",\"SANB11\",449400.423391945],[\"2018-04-01\",\"BRSR6\",584005.120708887],[\"2018-05-01\",\"CVCB3\",711601.739560784],[\"2018-05-05\",\"SANB11\",\"SELL ALL\"],[\"2018-06-01\",\"VALE3\",-200000.0],[\"2018-07-01\",\"CVCB3\",\"SELL ALL\"],[\"2018-08-01\",\"PRIO3\",584236.22],[\"2018-09-01\",\"CPFE3\",12857.365519577499],[\"2018-10-01\",\"BIDI4\",514736.12],[\"2018-11-01\",\"CSAN3\",21746.581395242098],[\"2018-12-01\",\"POMO4\",28282.0246727596],[\"2019-01-01\",\"SBSP3\",36781.54763974],[\"2019-02-01\",\"QUAL3\",47835.4100326317],[\"2019-03-01\",\"PETR4\",500000.0],[\"2019-04-01\",\"SANB11\",\"SELL ALL\"],[\"2019-05-01\",\"ITSA4\",1177970.08644623],[\"2019-06-01\",\"CMIG4\",231454.97144607303],[\"2019-07-01\",\"TAEE11\",301013.529165687],[\"2019-08-01\",\"CYRE3\",391476.338463064],[\"2019-09-01\",\"BRKM5\",861120.68964325206],[\"2019-10-01\",\"ODPV3\",119911.04018044],[\"2019-11-01\",\"MOTV3\",894185.59763512],[\"2019-12-01\",\"ITSA4\",-250000.0],[\"2020-01-01\",\"MRVE3\",463440.24531704],[\"2020-02-01\",\"BBSE3\",118767.76325908],[\"2020-03-01\",\"ENBR3\",647255.87857121],[\"2020-05-01\",\"EZTC3\",\"SELL ALL\"],[\"2020-06-01\",\"BIDI11\",1000000.0],[\"2020-07-01\",\"ITUB4\",400000.0],[\"2020-08-01\",\"ITSA4\",\"SELL ALL\"],[\"2020-09-01\",\"VALE3\",500000.0],[\"2020-10-01\",\"USIM5\",450000.0],[\"2020-11-01\",\"JHSF3\",80000.0],[\"2020-12-01\",\"RENT3\",700000.0],[\"2021-01-01\",\"PRIO3\",1500000.0],[\"2021-02-01\",\"LWSA3\",400000.0],[\"2021-04-01\",\"RENT3\",-500000.0],[\"2021-05-01\",\"ITUB4\",\"SELL ALL\"],[\"2021-06-01\",\"VALE3\",-700000.0],[\"2021-07-01\",\"PETR4\",-200000.0],[\"2021-08-01\",\"ITSA4\",\"SELL ALL\"],[\"2021-09-15\",\"TASA3\",80000.0],[\"2021-09-25\",\"EMBR3\",700000.0],[\"2021-11-10\",\"PSSA3\",1500000.0],[\"2021-12-19\",\"RAPT4\",500000.0],[\"2022-02-05\",\"VALE3\",1000000.0],[\"2022-03-15\",\"SLCE3\",50000.0],[null,\"\",null],[null,\"\",null],[null,\"\",null],[null,\"\",null],[null,\"\",null],[null,\"\",null],[null,\"\",null],[null,\"\",null],[null,\"\",null],[null,\"\",null],[null,\"\",null],[null,\"\",null],[null,\"\",null],[null,\"\",null],[null,\"\",null],[null,\"\",null],[null,\"\",null],[null,\"\",null],[null,\"\",null],[null,\"\",null],[null,\"\",null],[null,\"\",null],[null,\"\",null],[null,\"\",null],[null,\"\",null],[null,\"\",null],[null,\"\",null],[null,\"\",null],[null,\"\",null],[null,\"\",null],[null,\"\",null],[null,\"\",null],[null,\"\",null],[null,\"\",null],[null,\"\",null],[null,\"\",null],[null,\"\",null],[null,\"\",null],[null,\"\",null],[null,\"\",null],[null,\"\",null],[null,\"\",null],[null,\"\",null],[null,\"\",null],[null,\"\",null],[null,\"\",null],[null,\"\",null],[null,\"\",null],[null,\"\",null],[null,\"\",null],[null,\"\",null],[null,\"\",null],[null,\"\",null],[null,\"\",null],[null,\"\",null],[null,\"\",null],[null,\"\",null],[null,\"\",null],[null,\"\",null],[null,\"\",null],[null,\"\",null],[null,\"\",null],[null,\"\",null],[null,\"\",null],[null,\"\",null],[null,\"\",null],[null,\"\",null],[null,\"\",null],[null,\"\",null],[null,\"\",null],[null,\"\",null],[null,\"\",null],[null,\"\",null],[null,\"\",null],[null,\"\",null],[null,\"\",null],[null,\"\",null],[null,\"\",null],[null,\"\",null],[null,\"\",null],[null,\"\",null],[null,\"\",null],[null,\"\",null],[null,\"\",null],[null,\"\",null],[null,\"\",null],[null,\"\",null],[null,\"\",null],[null,\"\",null],[null,\"\",null],[null,\"\",null],[null,\"\",null],[null,\"\",null],[null,\"\",null],[null,\"\",null],[null,\"\",null],[null,\"\",null],[null,\"\",null],[null,\"\",null],[null,\"\",null],[null,\"\",null],[null,\"\",null],[null,\"\",null],[null,\"\",null],[null,\"\",null],[null,\"\",null],[null,\"\",null],[null,\"\",null],[null,\"\",null],[null,\"\",null],[null,\"\",null],[null,\"\",null],[null,\"\",null],[null,\"\",null],[null,\"\",null],[null,\"\",null],[null,\"\",null],[null,\"\",null],[null,\"\",null],[null,\"\",null],[null,\"\",null],[null,\"\",null],[null,\"\",null],[null,\"\",null],[null,\"\",null],[null,\"\",null],[null,\"\",null],[null,\"\",null],[null,\"\",null],[null,\"\",null],[null,\"\",null],[null,\"\",null],[null,\"\",null],[null,\"\",null],[null,\"\",null],[null,\"\",null],[null,\"\",null],[null,\"\",null],[null,\"\",null],[null,\"\",null],[null,\"\",null],[null,\"\",null],[null,\"\",null],[null,\"\",null],[null,\"\",null]]}"},".",null,null,null,null,null,"Ativos",{"$f":"E5","v":"Economatica                                                                                                     <EcoPortfolio>{\"type\":\"F\",\"tolerance\":\"0d\",\"rebalance\":null,\"name\":\"Economatica\",\"data\":[[\"2017-12-29\",\"VALE3\",2736405.12016054],[\"2018-02-01\",\"WEGE3\",2000000.0],[\"2018-03-01\",\"SANB11\",449400.423391945],[\"2018-04-01\",\"BRSR6\",584005.120708887],[\"2018-05-01\",\"CVCB3\",711601.739560784],[\"2018-05-05\",\"SANB11\",\"SELL ALL\"],[\"2018-06-01\",\"VALE3\",-200000.0],[\"2018-07-01\",\"CVCB3\",\"SELL ALL\"],[\"2018-08-01\",\"PRIO3\",584236.22],[\"2018-09-01\",\"CPFE3\",12857.365519577499],[\"2018-10-01\",\"BIDI4\",514736.12],[\"2018-11-01\",\"CSAN3\",21746.581395242098],[\"2018-12-01\",\"POMO4\",28282.0246727596],[\"2019-01-01\",\"SBSP3\",36781.54763974],[\"2019-02-01\",\"QUAL3\",47835.4100326317],[\"2019-03-01\",\"PETR4\",500000.0],[\"2019-04-01\",\"SANB11\",\"SELL ALL\"],[\"2019-05-01\",\"ITSA4\",1177970.08644623],[\"2019-06-01\",\"CMIG4\",231454.97144607303],[\"2019-07-01\",\"TAEE11\",301013.529165687],[\"2019-08-01\",\"CYRE3\",391476.338463064],[\"2019-09-01\",\"BRKM5\",861120.68964325206],[\"2019-10-01\",\"ODPV3\",119911.04018044],[\"2019-11-01\",\"MOTV3\",894185.59763512],[\"2019-12-01\",\"ITSA4\",-250000.0],[\"2020-01-01\",\"MRVE3\",463440.24531704],[\"2020-02-01\",\"BBSE3\",118767.76325908],[\"2020-03-01\",\"ENBR3\",647255.87857121],[\"2020-05-01\",\"EZTC3\",\"SELL ALL\"],[\"2020-06-01\",\"BIDI11\",1000000.0],[\"2020-07-01\",\"ITUB4\",400000.0],[\"2020-08-01\",\"ITSA4\",\"SELL ALL\"],[\"2020-09-01\",\"VALE3\",500000.0],[\"2020-10-01\",\"USIM5\",450000.0],[\"2020-11-01\",\"JHSF3\",80000.0],[\"2020-12-01\",\"RENT3\",700000.0],[\"2021-01-01\",\"PRIO3\",1500000.0],[\"2021-02-01\",\"LWSA3\",400000.0],[\"2021-04-01\",\"RENT3\",-500000.0],[\"2021-05-01\",\"ITUB4\",\"SELL ALL\"],[\"2021-06-01\",\"VALE3\",-700000.0],[\"2021-07-01\",\"PETR4\",-200000.0],[\"2021-08-01\",\"ITSA4\",\"SELL ALL\"],[\"2021-09-15\",\"TASA3\",80000.0],[\"2021-09-25\",\"EMBR3\",700000.0],[\"2021-11-10\",\"PSSA3\",1500000.0],[\"2021-12-19\",\"RAPT4\",500000.0],[\"2022-02-05\",\"VALE3\",1000000.0],[\"2022-03-15\",\"SLCE3\",50000.0],[null,\"\",null],[null,\"\",null],[null,\"\",null],[null,\"\",null],[null,\"\",null],[null,\"\",null],[null,\"\",null],[null,\"\",null],[null,\"\",null],[null,\"\",null],[null,\"\",null],[null,\"\",null],[null,\"\",null],[null,\"\",null],[null,\"\",null],[null,\"\",null],[null,\"\",null],[null,\"\",null],[null,\"\",null],[null,\"\",null],[null,\"\",null],[null,\"\",null],[null,\"\",null],[null,\"\",null],[null,\"\",null],[null,\"\",null],[null,\"\",null],[null,\"\",null],[null,\"\",null],[null,\"\",null],[null,\"\",null],[null,\"\",null],[null,\"\",null],[null,\"\",null],[null,\"\",null],[null,\"\",null],[null,\"\",null],[null,\"\",null],[null,\"\",null],[null,\"\",null],[null,\"\",null],[null,\"\",null],[null,\"\",null],[null,\"\",null],[null,\"\",null],[null,\"\",null],[null,\"\",null],[null,\"\",null],[null,\"\",null],[null,\"\",null],[null,\"\",null],[null,\"\",null],[null,\"\",null],[null,\"\",null],[null,\"\",null],[null,\"\",null],[null,\"\",null],[null,\"\",null],[null,\"\",null],[null,\"\",null],[null,\"\",null],[null,\"\",null],[null,\"\",null],[null,\"\",null],[null,\"\",null],[null,\"\",null],[null,\"\",null],[null,\"\",null],[null,\"\",null],[null,\"\",null],[null,\"\",null],[null,\"\",null],[null,\"\",null],[null,\"\",null],[null,\"\",null],[null,\"\",null],[null,\"\",null],[null,\"\",null],[null,\"\",null],[null,\"\",null],[null,\"\",null],[null,\"\",null],[null,\"\",null],[null,\"\",null],[null,\"\",null],[null,\"\",null],[null,\"\",null],[null,\"\",null],[null,\"\",null],[null,\"\",null],[null,\"\",null],[null,\"\",null],[null,\"\",null],[null,\"\",null],[null,\"\",null],[null,\"\",null],[null,\"\",null],[null,\"\",null],[null,\"\",null],[null,\"\",null],[null,\"\",null],[null,\"\",null],[null,\"\",null],[null,\"\",null],[null,\"\",null],[null,\"\",null],[null,\"\",null],[null,\"\",null],[null,\"\",null],[null,\"\",null],[null,\"\",null],[null,\"\",null],[null,\"\",null],[null,\"\",null],[null,\"\",null],[null,\"\",null],[null,\"\",null],[null,\"\",null],[null,\"\",null],[null,\"\",null],[null,\"\",null],[null,\"\",null],[null,\"\",null],[null,\"\",null],[null,\"\",null],[null,\"\",null],[null,\"\",null],[null,\"\",null],[null,\"\",null],[null,\"\",null],[null,\"\",null],[null,\"\",null],[null,\"\",null],[null,\"\",null],[null,\"\",null],[null,\"\",null],[null,\"\",null],[null,\"\",null],[null,\"\",null],[null,\"\",null],[null,\"\",null],[null,\"\",null],[null,\"\",null],[null,\"\",null],[null,\"\",null]]}"}]
[null,null,null,null,"IDIV",null,null,null,"Escolha Índice",{"$f":"Lamina!L23","v":"A"},null,null,null,"."]
[null,null,null,null,"CDI Acumulado",null,null,null,null,{"$f":"Lamina!L24","v":5}]
[null,null,null,null,null,null,null,null,{"$f":"Lamina!L22","v":"IFNC"},{"$f":"_xll.ECOBENCHMARK(I8,$J$6,$J$7,$J$9)","v":"Ifinanceiro+5%a.a.                                                                                                    <EcoBenchmark>{\"ticker\":\"IFNC\",\"operation\":{\"type\":\"A\",\"value\":5.0},\"name\":\"Ifinanceiro+5%a.a.\"}"},"."]
[null,"Lista de Índices",null,"Data",{"$f":"_xll.ECONOMATICA(E5,\"name\")","v":"Economatica"},{"$f":"Lamina!$E$9","v":"IMOB"},"IBOV","CDI",{"$f":"_xll.ECONOMATICA($I$8,\"Name\")","v":"Ifinanceiro"},{"$f":"I9&\"+\"&J7&\"%a.a.\"","v":"Ifinanceiro+5%a.a."},null,"Data","Patrimônio","Compras","Vendas","Vendas",null,"Data",{"$f":"_xll.ECONOMATICA(E5,\"name\")","v":"Economatica"},null,"Data",{"$f":"_xll.ECONOMATICA(E5,\"name\")","v":"Economatica"},null,null,null,"Ativos",{"$f":"_xll.ECONOMATICA($Z$10:$Z$14,\"return\",Lamina!$K$120,'Criar Carteira'!$B$3,,,,,,\"true\",\"RETORNO\")","v":"RETORNO"},{"$f":"_xll.ECONOMATICA($Z$10:$Z$14,\"VOLATILITY\",Lamina!$K$120,'Criar Carteira'!$B$3,,,,,,\"true\",\"VOLATILIDADE\")","v":"VOLATILIDADE"}]
[null,null,null,{"$f":"_xll.ECONOMATICA($E$5,\"close\",,$E$2,$E$3,$E$4,,,\"true\",\"false\",,{\"def.defdef=7\"})","v":"2017-12-29"},null,{"$f":"_xll.ECONOMATICA(F9,\"close\",,$E$2,$E$3,$E$4,,,\"false\",\"false\",,{\"def.defdef=7\"})","v":""},{"$f":"_xll.ECONOMATICA(G9,\"close\",,$E$2,$E$3,$E$4,,,\"false\",\"false\",,{\"def.defdef=7\"})","v":""},{"$f":"_xll.ECONOMATICA(E7,\"close\",,$E$2,$E$3,$E$4,,,\"false\",\"false\",,{\"def.defdef=7\"})","v":100},{"$f":"_xll.ECONOMATICA(I8,\"close\",,$E$2,$E$3,$E$4,,,\"false\",\"false\",,{\"def.defdef=7\"})","v":""},{"$f":"_xll.ECONOMATICA(J8,\"close\",,$E$2,$E$3,$E$4,,,\"false\",\"false\",,{\"def.defdef=7\"})","v":""},null,{"$f":"_xll.ECONOMATICA($M$5,\"Net Assets\",,$M$2,$M$3,$M$4,,,\"true\",\"false\")","v":"2017-12-31"},2736405.1201999998,{"$f":"_xll.ECONOMATICA($M$5,\"Purchases\",,$M$2,$M$3,$M$4,,,\"false\",\"false\")","v":2736405.1201999998},{"$f":"_xll.ECONOMATICA($M$5,\"Sales\",,$M$2,$M$3,$M$4,,,\"false\",\"false\")","v":0},{"$f":"IF(O10=\"\",\"\",O10*(-1))","v":0},null,{"$f":"_xll.ECONOMATICA($E$5,\"return\",\"1d\",$E$2,$E$3,$E$4,,,\"true\",\"false\",,{\"def.defdef=7\"})","v":"2017-12-29"},null,null,{"$f":"_xll.ECONOMATICA($E$5,\"volatility\",\"1m\",$E$2,$E$3,$E$4,,,\"true\",\"false\",,{\"def.defdef=7\"})","v":"2017-12-29"},null,null,null,null,{"$f":"$E$5","v":"Economatica                                                                                                     <EcoPortfolio>{\"type\":\"F\",\"tolerance\":\"0d\",\"rebalance\":null,\"name\":\"Economatica\",\"data\":[[\"2017-12-29\",\"VALE3\",2736405.12016054],[\"2018-02-01\",\"WEGE3\",2000000.0],[\"2018-03-01\",\"SANB11\",449400.423391945],[\"2018-04-01\",\"BRSR6\",584005.120708887],[\"2018-05-01\",\"CVCB3\",711601.739560784],[\"2018-05-05\",\"SANB11\",\"SELL ALL\"],[\"2018-06-01\",\"VALE3\",-200000.0],[\"2018-07-01\",\"CVCB3\",\"SELL ALL\"],[\"2018-08-01\",\"PRIO3\",584236.22],[\"2018-09-01\",\"CPFE3\",12857.365519577499],[\"2018-10-01\",\"BIDI4\",514736.12],[\"2018-11-01\",\"CSAN3\",21746.581395242098],[\"2018-12-01\",\"POMO4\",28282.0246727596],[\"2019-01-01\",\"SBSP3\",36781.54763974],[\"2019-02-01\",\"QUAL3\",47835.4100326317],[\"2019-03-01\",\"PETR4\",500000.0],[\"2019-04-01\",\"SANB11\",\"SELL ALL\"],[\"2019-05-01\",\"ITSA4\",1177970.08644623],[\"2019-06-01\",\"CMIG4\",231454.97144607303],[\"2019-07-01\",\"TAEE11\",301013.529165687],[\"2019-08-01\",\"CYRE3\",391476.338463064],[\"2019-09-01\",\"BRKM5\",861120.68964325206],[\"2019-10-01\",\"ODPV3\",119911.04018044],[\"2019-11-01\",\"MOTV3\",894185.59763512],[\"2019-12-01\",\"ITSA4\",-250000.0],[\"2020-01-01\",\"MRVE3\",463440.24531704],[\"2020-02-01\",\"BBSE3\",118767.76325908],[\"2020-03-01\",\"ENBR3\",647255.87857121],[\"2020-05-01\",\"EZTC3\",\"SELL ALL\"],[\"2020-06-01\",\"BIDI11\",1000000.0],[\"2020-07-01\",\"ITUB4\",400000.0],[\"2020-08-01\",\"ITSA4\",\"SELL ALL\"],[\"2020-09-01\",\"VALE3\",500000.0],[\"2020-10-01\",\"USIM5\",450000.0],[\"2020-11-01\",\"JHSF3\",80000.0],[\"2020-12-01\",\"RENT3\",700000.0],[\"2021-01-01\",\"PRIO3\",1500000.0],[\"2021-02-01\",\"LWSA3\",400000.0],[\"2021-04-01\",\"RENT3\",-500000.0],[\"2021-05-01\",\"ITUB4\",\"SELL ALL\"],[\"2021-06-01\",\"VALE3\",-700000.0],[\"2021-07-01\",\"PETR4\",-200000.0],[\"2021-08-01\",\"ITSA4\",\"SELL ALL\"],[\"2021-09-15\",\"TASA3\",80000.0],[\"2021-09-25\",\"EMBR3\",700000.0],[\"2021-11-10\",\"PSSA3\",1500000.0],[\"2021-12-19\",\"RAPT4\",500000.0],[\"2022-02-05\",\"VALE3\",1000000.0],[\"2022-03-15\",\"SLCE3\",50000.0],[null,\"\",null],[null,\"\",null],[null,\"\",null],[null,\"\",null],[null,\"\",null],[null,\"\",null],[null,\"\",null],[null,\"\",null],[null,\"\",null],[null,\"\",null],[null,\"\",null],[null,\"\",null],[null,\"\",null],[null,\"\",null],[null,\"\",null],[null,\"\",null],[null,\"\",null],[null,\"\",null],[null,\"\",null],[null,\"\",null],[null,\"\",null],[null,\"\",null],[null,\"\",null],[null,\"\",null],[null,\"\",null],[null,\"\",null],[null,\"\",null],[null,\"\",null],[null,\"\",null],[null,\"\",null],[null,\"\",null],[null,\"\",null],[null,\"\",null],[null,\"\",null],[null,\"\",null],[null,\"\",null],[null,\"\",null],[null,\"\",null],[null,\"\",null],[null,\"\",null],[null,\"\",null],[null,\"\",null],[null,\"\",null],[null,\"\",null],[null,\"\",null],[null,\"\",null],[null,\"\",null],[null,\"\",null],[null,\"\",null],[null,\"\",null],[null,\"\",null],[null,\"\",null],[null,\"\",null],[null,\"\",null],[null,\"\",null],[null,\"\",null],[null,\"\",null],[null,\"\",null],[null,\"\",null],[null,\"\",null],[null,\"\",null],[null,\"\",null],[null,\"\",null],[null,\"\",null],[null,\"\",null],[null,\"\",null],[null,\"\",null],[null,\"\",null],[null,\"\",null],[null,\"\",null],[null,\"\",null],[null,\"\",null],[null,\"\",null],[null,\"\",null],[null,\"\",null],[null,\"\",null],[null,\"\",null],[null,\"\",null],[null,\"\",null],[null,\"\",null],[null,\"\",null],[null,\"\",null],[null,\"\",null],[null,\"\",null],[null,\"\",null],[null,\"\",null],[null,\"\",null],[null,\"\",null],[null,\"\",null],[null,\"\",null],[null,\"\",null],[null,\"\",null],[null,\"\",null],[null,\"\",null],[null,\"\",null],[null,\"\",null],[null,\"\",null],[null,\"\",null],[null,\"\",null],[null,\"\",null],[null,\"\",null],[null,\"\",null],[null,\"\",null],[null,\"\",null],[null,\"\",null],[null,\"\",null],[null,\"\",null],[null,\"\",null],[null,\"\",null],[null,\"\",null],[null,\"\",null],[null,\"\",null],[null,\"\",null],[null,\"\",null],[null,\"\",null],[null,\"\",null],[null,\"\",null],[null,\"\",null],[null,\"\",null],[null,\"\",null],[null,\"\",null],[null,\"\",null],[null,\"\",null],[null,\"\",null],[null,\"\",null],[null,\"\",null],[null,\"\",null],[null,\"\",null],[null,\"\",null],[null,\"\",null],[null,\"\",null],[null,\"\",null],[null,\"\",null],[null,\"\",null],[null,\"\",null],[null,\"\",null],[null,\"\",null],[null,\"\",null],[null,\"\",null],[null,\"\",null],[null,\"\",null],[null,\"\",null],[null,\"\",null],[null,\"\",null],[null,\"\",null]]}"},-31.80026118,31.202240195000002]
[null,"BDRX",null,"2018-01-01",null,null,null,null,null,null,null,"2018-01-31",2817287.4374000002,0,0,{"$f":"IF(O11=\"\",\"\",O11*(-1))","v":0},null,"2018-01-01",null,null,"2018-01-01",null,null,null,null,{"$f":"$F$9","v":"IMOB"},-38.543837037000003,35.159692673000002]
[null,"CDI Acumulado",null,"2018-01-02",100,100,100,100.02644402,100,100,null,"2018-02-28",5054313.8647999996,2000000,0,0,null,"2018-01-02",null,null,"2018-01-02",null,null,null,null,{"$f":"$G$9","v":"IBOV"},-22.046613225000002,20.242282793000001]
[null,"IBOV",null,"2018-01-03",99.400767017999996,100.40736665,100.13367391,100.05289506,100.91273603,100.93227580999999,null,"2018-03-31",5911504.3704000004,1033405.5441000001,0,0,null,"2018-01-03",-0.59923298168000005,null,"2018-01-03",null,null,null,null,{"$f":"$E$7","v":"CDI Acumulado"},8.3698356752999992,0.17137537450000001]
[null,"IBRA",null,"2018-01-04",99.808245446000001,100.89725453,100.97107446,100.07935313,102.17940009,102.21897402,null,"2018-04-30",7084907.0482999999,711601.73956000002,0,0,null,"2018-01-04",0.40993489274,null,"2018-01-04",null,null,null,null,{"$f":"$J$8","v":"Ifinanceiro+5%a.a.                                                                                                    <EcoBenchmark>{\"ticker\":\"IFNC\",\"operation\":{\"type\":\"A\",\"value\":5.0},\"name\":\"Ifinanceiro+5%a.a.\"}"},-21.320911453000001,25.108892736000001]
[null,"IBXL",null,"2018-01-05",101.36625119,101.38583254,101.51548880999999,100.10581802999999,102.78206732,102.84178411000001,null,"2018-05-31",6497900.7512999997,0,448014.25699999998,-448014.25699999998,null,"2018-01-05",1.5609990391999999,null,"2018-01-05"]
[null,"IBXX",null,"2018-01-08",103.61936720999999,100.55800062,101.90971901,100.13228995999999,102.96593396,103.04570651,null,"2018-06-30",5460564.0007999996,0,754654.22707999998,-754654.22707999998,null,"2018-01-08",2.2227476946000002,null,"2018-01-08"]
[null,"ICO2",null,"2018-01-09",103.2358581,99.703971496999998,101.24853898000001,100.15876892,101.84037687,101.93901208,null,"2018-07-31",6095853.9341000002,0,0,0,null,"2018-01-09",-0.37011334706999999,null,"2018-01-09"]
[null,"ICON",null,"2018-01-10",101.79769894,98.991407314,100.39738844999999,100.18525489,101.29855056,101.41629449,null,"2018-08-31",6856523.1721999999,597093.58551999996,0,0,null,"2018-01-10",-1.3930810310999999,null,"2018-01-10"]
[null,"IDA DI",null,"2018-01-11",103.78715244,100.61170491,101.89290063999999,100.21174789,102.98670294999999,103.12637364,null,"2018-09-30",7473254.1657999996,0,0,0,null,"2018-01-11",1.954320697,null,"2018-01-11"]
[null,"IDA Geral",null,"2018-01-12",104.38638542,99.989521115000002,101.8719483,100.23824792000001,102.93661304,103.09617449,null,"2018-10-31",8000623.1607999997,514736.12,0,0,null,"2018-01-12",0.57736720573,null,"2018-01-12"]
[null,"IDA IPCA",null,"2018-01-15",104.19463087,101.75914281999999,102.38965868,100.26475497,103.40391532,103.58425432,null,"2018-11-30",7657834.5663999999,50028.606068000001,0,0,null,"2018-01-15",-0.18369690015000001,null,"2018-01-15"]
[null,"IDIV",null,"2018-01-16",101.39022051000001,100.66016974999999,102.49158310999999,100.29126905,104.56685659999999,104.76950644,null,"2018-12-31",7568928.5831000004,36781.547639999997,0,0,null,"2018-01-16",-2.6915113870999998,null,"2018-01-16"]
[null,"IDKA IPCA 10A",null,"2018-01-17",103.42761265,101.52074819000001,104.23427392000001,100.31779014999999,106.48359005,106.71061294,null,"2019-01-31",7585609.2780999998,0,0,0,null,"2018-01-17",2.0094562648999998,null,"2018-01-17"]
[null,"IDKA IPCA 15A",null,"2018-01-18",102.73250238999999,102.53850989999999,103.94347026,100.34431827,106.95309140000001,107.2018688,null,"2019-02-28",7936092.7085999995,47835.410033,0,0,null,"2018-01-18",-0.67207416004999998,null,"2018-01-18"]
[null,"IDKA IPCA 20A",null,"2018-01-19",102.78044103000001,102.4088337,104.27322577,100.37085342,107.75843954,108.03000407,null,"2019-03-31",9193221.0905000009,500000,0,0,null,"2018-01-19",4.6663555804000001E-2,null,"2018-01-19"]
[null,"IDKA IPCA 2A",null,"2018-01-22",102.22914668999999,101.72770617,104.85855626,100.39739539999999,109.27103287,109.56762085,null,"2019-04-30",10560133.824999999,1177970.0863999999,0,0,null,"2018-01-22",-0.53638059689999995,null,"2018-01-22"]
[null,"IDKA IPCA 3A",null,"2018-01-23",97.962607861999999,100.2226763,103.57847321,100.42394441,108.9948053,109.31180553999999,null,"2019-05-31",10752593.497,231454.97145000001,0,0,null,"2018-01-23",-4.1735052758000002,null,"2018-01-23"]
[null,"IDKA IPCA 5A",null,"2018-01-24",100.14381591,102.59876349,107.43212569000001,100.45050044,114.41380135999999,114.76878062,null,"2019-06-30",11083331.205,0,0,0,null,"2018-01-24",2.2265720579999999,null,"2018-01-24"]
[null,"IDKA PRE 1A",null,"2018-01-25",null,null,null,100.4770635,null,null,null,"2019-07-31",12265317.753,301013.52916999999,0,0,null,"2018-01-25",null,null,"2018-01-25"]
[null,"IDKA PRE 2A",null,"2018-01-26",99.304889740999997,105.2368228,109.80831684,100.50363358,118.04922983,118.4384172,null,"2019-08-31",13409393.299000001,1252597.0281,0,0,null,"2018-01-26",-0.83772139787,null,"2018-01-26",29.483418447999998]
[null,"IDKA PRE 3A",null,"2018-01-29",100.40747842,104.22561039,108.73909245,100.53021068,115.66360588000001,116.06739811,null,"2019-09-30",13942452.255000001,0,0,0,null,"2018-01-29",1.1103065411999999,null,"2018-01-29",28.891913653]
[null,"IDKA PRE 3M",null,"2018-01-30",99.400767017999996,103.65582102,108.46235971999999,100.55679481,115.81082137,116.23763033,null,"2019-10-31",14099920.945,119911.04018,0,0,null,"2018-01-30",-1.002625925,null,"2018-01-30",28.473176290000001]
[null,"IDKA PRE 5A",null,"2018-01-31",99.352828380000005,103.48684899,109.01472106999999,100.58338596999999,116.88262344,117.33609786,null,"2019-11-30",15539447.460999999,894185.59764000005,250000,-250000,null,"2018-01-31",-4.8227634488E-2,null,"2018-01-31",27.794897878]
[null,"IEEX",null,"2018-02-01",100.16778523000001,105.16216074,109.76261196999999,100.60998434,116.8172622,117.29319019,null,"2019-12-31",18022260.912999999,463440.24531999999,0,0,null,"2018-02-01",0.82026537984000003,null,"2018-02-01",27.248291009999999]
[null,"IFIX",null,"2018-02-02",97.454403584000005,103.92172272000001,107.89603013999999,100.63658973,114.91787696,115.40840888,null,"2020-01-31",19472314.329999998,118767.76325,0,0,null,"2018-02-02",-2.7088366231999998,null,"2018-02-02",26.216125959999999]
[null,"IFNC",null,"2018-02-05",96.381157591000004,101.2142408,105.09692769999999,100.66320215,111.53387544,112.03165115,null,"2020-02-29",18928494.870000001,647255.87856999994,0,0,null,"2018-02-05",-1.1012801409999999,null,"2018-02-05",26.876775290000001]
[null,"IGCT",null,"2018-02-06",100.56065133,100.48988787,107.70691982,100.68982158999999,114.39706399000001,114.92986773,null,"2020-03-31",13576154.865,0,0,0,null,"2018-02-06",4.3364220211999998,null,"2018-02-06",30.316685929999998]
[null,"IGNM",null,"2018-02-07",98.998540208999998,99.301844283999998,106.25962883,100.71644806,112.90279623000001,113.45060367000001,null,"2020-04-30",15031615.267999999,0,0,0,null,"2018-02-07",-1.5534019552,null,"2018-02-07",30.047278124000002]
[null,"IGPDI",null,"2018-02-08",97.649749205000006,98.569632190999997,104.67510768,100.7421454,111.07072696,111.63125617999999,null,"2020-05-31",17251590.493999999,0,0,0,null,"2018-02-08",-1.3624352446000001,null,"2018-02-08",29.216629937]
[null,"IGPM",null,"2018-02-09",97.680460078999999,97.376349156000003,103.86136839,100.76784938,110.16263341,110.74001834000001,null,"2020-06-30",20424348.75,1000000,0,0,null,"2018-02-09",3.1450028837000002E-2,null,"2018-02-09",29.230960789000001]
[null,"IHFA",null,"2018-02-12",null,null,null,null,null,null,null,"2020-07-31",24022939.477000002,400000,922774.97253000003,-922774.97253000003,null,"2018-02-12",null,null,"2018-02-12"]
[null,"IMA ex-C",null,"2018-02-13",null,null,null,null,null,null,null,"2020-08-31",23777117.811000001,0,0,0,null,"2018-02-13",null,null,"2018-02-13"]
[null,"IMA-B",null,"2018-02-14",102.93686721,99.706591219000003,107.25603355,100.79355982,113.62702314000001,114.24468262000001,null,"2020-09-30",23059386.526999999,500000,0,0,null,"2018-02-14",5.3812268349999997,null,"2018-02-14",35.016668084000003]
[null,"IMA-B 5",null,"2018-02-15",105.86050571,99.242900555000006,108.21600275999999,100.81927691,114.63260878,115.2780515,null,"2020-10-31",24313249.590999998,530000,0,0,null,"2018-02-15",2.8402248701000001,null,"2018-02-15",36.389792100000001]
[null,"IMA-B 5+",null,"2018-02-16",105.02198008000001,99.584774179999997,108.51643525999999,100.84500045,115.42109738000001,116.0934546,null,"2020-11-30",29066712.934999999,0,0,0,null,"2018-02-16",-0.79210431085999999,null,"2018-02-16",35.102302072000001]
[null,"IMA-C",null,"2018-02-19",105.78884936,99.271717488999997,108.86067255,100.87073063,114.58765002,115.27746911,null,"2020-12-31",35821107.670999996,2200000,0,0,null,"2018-02-19",0.73019884258000001,null,"2018-02-19",36.288759874999997]
[null,"IMA-G",null,"2018-02-20",104.43147268,99.520591009,110.15896051,100.89646727,117.09031333999999,117.81800723000001,null,"2021-01-31",38501347.993000001,0,0,0,null,"2018-02-20",-1.2830999588000001,null,"2018-02-20",35.693757572999999]
[null,"IMA-S",null,"2018-02-21",103.23909322,100.12967620000001,110.47717426,100.92221055,118.69001427000001,119.45077483,null,"2021-02-28",41383605.112000003,400000,0,0,null,"2018-02-21",-1.1417817153000001,null,"2018-02-21",35.050207847000003]
[null,"IMAT",null,"2018-02-22",104.72696802999999,100.00130986000001,111.29194063,100.94796048000001,119.25151002,120.03910831,null,"2021-03-31",43230707.524999999,0,0,0,null,"2018-02-22",1.4411932185,null,"2018-02-22",35.314650966000002]
[null,"IMOB",null,"2018-02-23",106.81828563000001,101.38190296000001,112.07096477,100.97371687,120.40321161,121.22188404000001,null,"2021-04-30",48232253.156999998,0,930725.01497000002,-930725.01497000002,null,"2018-02-23",1.9969236571,null,"2018-02-23",31.998090065]
[null,"INCC-DI",null,"2018-02-26",109.22089822,101.80367808,112.53237856,100.99947989,120.62861624,121.47233749,null,"2021-05-31",47434158.101999998,0,0,0,null,"2018-02-26",2.2492521575,null,"2018-02-26",32.497924511999997]
[null,"INDX",null,"2018-02-27",108.48840721000001,100.63659226,111.61160513,101.02524938000001,119.11663376,119.97300558000001,null,"2021-06-30",48645149.967,0,700000,-700000,null,"2018-02-27",-0.67065097027999998,null,"2018-02-27",31.934353642000001]
[null,"INPC",null,"2018-02-28",104.59461489,99.495703657000007,109.58076821,101.05102551,116.23340924,117.09172067,null,"2021-07-31",46252121.009999998,0,200000,-200000,null,"2018-02-28",-3.5891321697,null,"2018-02-28",36.373581211000001]
[null,"IPC",null,"2018-03-01",103.52173137,98.576181493999997,109.61182441,101.07680827999999,117.0796845,117.96708275,null,"2021-08-31",45326657.824000001,0,0,0,null,"2018-03-01",-1.0257540681999999,null,"2018-03-01",36.615583940999997]
[null,"IPCA",null,"2018-03-02",102.4175596,99.173477942000005,110.10424304999999,101.10259751,117.75931916,118.67484329,null,"2021-09-30",44397790.781999998,780000,0,0,null,"2018-03-02",-1.0666086745000001,null,"2018-03-02",35.220195897000004]
[null,"IRF-M",null,"2018-03-05",101.90037719,99.531069893999998,110.43995561,101.12839338000001,119.20166445,120.15166266,null,"2021-10-31",39997290.737000003,0,0,0,null,"2018-03-05",-0.50497435731999996,null,"2018-03-05",34.956486015000003]
[null,"IRF-M 1",null,"2018-03-06",101.48980969,98.363984071999994,109.96517699,101.1541959,119.30013389,120.27420112,null,"2021-11-30",38407667.373000003,1500000,0,0,null,"2018-03-06",-0.40291068034999999,null,"2018-03-06",31.550168893999999]
[null,"IRF-M 1+",null,"2018-03-07",101.07447843,98.362674212000002,109.74760383,101.18000487,118.61329117,119.60490511,null,"2021-12-31",39310962.759999998,500000,0,0,null,"2018-03-07",-0.40923444066999998,null,"2018-03-07",30.996137313999998]
[null,"ISEE",null,"2018-03-08",99.035212423999994,98.162265535000003,109.10704235,101.20582048,118.04739727,119.05732897,null,"2022-01-31",40301102.598999999,0,0,0,null,"2018-03-08",-2.0175874691,null,"2018-03-08",31.533813033000001]
[null,"ITAG",null,"2018-03-09",100.84889672,99.335900659999993,110.8874782,101.23164275000001,119.69731029,120.74473284,null,"2022-02-28",41143973.884999998,1000000,0,0,null,"2018-03-09",1.8313529652,null,"2018-03-09",32.157331563]
[null,"IVBX",null,"2018-03-12",101.25228482,99.931887247000006,111.56665773,101.25747146,120.30571953,121.38196472,null,"2022-03-31",42736343.299000002,50000,0,0,null,"2018-03-12",0.39999258079,null,"2018-03-12",31.309525781000001]
[null,"LFT Acumulado",null,"2018-03-13",100.37585351,100.10871843,110.90344922,101.28330682000001,119.45455744,120.54652518,null,"2022-04-30",40023398.928000003,0,0,0,null,"2018-03-13",-0.86559163919000004,null,"2018-03-13",30.735654864000001]
[null,"MLCX",null,"2018-03-14",101.65962118,100.432254,110.47607016000001,101.30914883,118.0017055,119.1034499,null,"2022-05-31",39478199.090999998,0,0,0,null,"2018-03-14",1.2789606479,null,"2018-03-14",24.951175366000001]
[null,"OTNBTN",null,"2018-03-15",101.46332312,98.857801530000003,109.03462067,101.33499748,116.95934653,118.0742171,null,"2022-06-30",34301336.390000001,0,0,0,null,"2018-03-15",-0.19309343661,null,"2018-03-15",22.668166153000001]
[null,"PoupAcum",null,"2018-03-16",101.62331304999999,97.880645498999996,108.9810715,101.36085258999999,116.83314437,117.96965007,null,null,null,null,null,"",null,"2018-03-16",0.15768252288000001,null,"2018-03-16",22.598920765999999]
[null,"PoupAcumul Nova",null,"2018-03-19",100.00554364,97.118306611999998,107.73133854,101.38671434,115.60533054,116.75249503000001,null,null,null,null,null,"",null,"2018-03-19",-1.5919274455000001,null,"2018-03-19",22.877822622]
[null,"SMLL",null,"2018-03-20",100.43859227,96.805249920999998,108.05324976999999,101.41258273,116.24855838000001,117.42483832000001,null,null,null,null,null,"",null,"2018-03-20",0.43302463145999998,null,"2018-03-20",22.695179719999999]
[null,"UTIL",null,"2018-03-21",101.74727480999999,96.372995912999997,109.09674591,101.43845777,116.44745201000001,117.64852041,null,null,null,null,null,"",null,"2018-03-21",1.3029678149999999,null,"2018-03-21",22.974145133]
[null,null,null,"2018-03-22",101.05869506000001,98.754322540000004,108.82879468,101.46339438,116.00091872,117.22007446000001,null,null,null,null,null,"",null,"2018-03-22",-0.67675497630000003,null,"2018-03-22",22.386348319]
[null,null,null,"2018-03-23",100.26615097,97.444461908999997,108.32720938999999,101.48833707,115.85113765,117.09138728000001,null,null,null,null,null,"",null,"2018-03-23",-0.78424136454000004,null,"2018-03-23",21.034838798999999]
[null,null,null,"2018-03-26",100.34702486,98.323378391999995,109.23959931,101.51328589000001,116.7339419,118.00648767,null,null,null,null,null,"",null,"2018-03-26",8.0659216473999998E-2,null,"2018-03-26",18.979276046999999]
[null,null,null,"2018-03-27",98.208829100000003,98.205490936000004,107.59653485,101.53824084,115.40655909,116.68722456,null,null,null,null,null,"",null,"2018-03-27",-2.1308013573000002,null,"2018-03-27",19.893851562999998]
[null,null,null,"2018-03-28",99.547590434,97.11437703,107.68137131,101.56320196,116.304879,117.61828319,null,null,null,null,null,"",null,"2018-03-28",1.3631781849,null,"2018-03-28",17.249646662]
[null,null,null,"2018-03-29",101.16015256999999,98.618097034000002,109.59612299,101.58816914000001,118.24775694,119.60625655,null,null,null,null,null,"",null,"2018-03-29",1.6198906852999999,null,"2018-03-29",17.963100545]
[null,null,null,"2018-03-30",null,null,null,null,null,null,null,null,null,null,null,{"$f":"IF(O75=\"\",\"\",O75*(-1))","v":""},null,"2018-03-30",null,null,"2018-03-30"]
[null,null,null,"2018-04-02",101.37836188,97.271560305999998,108.69856147,101.61314258,117.00650435,118.37366004,null,null,null,null,null,"",null,"2018-04-02",0.21570677891000001,null,"2018-04-02",17.819683028]
[null,null,null,"2018-04-03",101.4525361,96.083516713999998,108.64338183,101.6381221,116.78928515,118.17678094999999,null,null,null,null,null,"",null,"2018-04-03",7.3165729737000001E-2,null,"2018-04-03",17.395292378000001]
[null,null,null,"2018-04-04",100.82350169999999,94.824740648000002,108.30474211000001,101.66310769,116.51427929,117.92133667,null,null,null,null,null,"",null,"2018-04-04",-0.62002826689000001,null,"2018-04-04",17.102060658999999]
[null,null,null,"2018-04-05",101.66422839000001,95.576600650000003,109.3959716,101.68809955,117.44289749000001,118.88418426,null,null,null,null,null,"",null,"2018-04-05",0.83385983871000002,null,"2018-04-05",17.282842025000001]
[null,null,null,"2018-04-06",100.06128433000001,96.238080268000004,108.89624788,101.71309748,117.04205598,118.50136457000001,null,null,null,null,null,"",null,"2018-04-06",-1.5767040993999999,null,"2018-04-06",18.020624483999999]
[null,null,null,"2018-04-09",99.236603177999996,94.298176674000004,106.95354690000001,101.73810149000001,114.30677996999999,115.75439372,null,null,null,null,null,"",null,"2018-04-09",-0.82417606482000005,null,"2018-04-09",16.413429405999999]
[null,null,null,"2018-04-10",101.56194246,94.571937546000001,108.49817899,101.76311176,114.34624105,115.81677587,null,null,null,null,null,"",null,"2018-04-10",2.3432274099999999,null,"2018-04-10",17.950597833]
[null,null,null,"2018-04-11",101.9617157,93.634077333999997,109.44210013999999,101.78812811,115.57051194,117.07945709000001,null,null,null,null,null,"",null,"2018-04-11",0.39362503849000002,null,"2018-04-11",17.578081843]
[null,null,null,"2018-04-12",102.86381783,94.450120506999994,109.69622436,101.81315053,115.69084991,117.22406002,null,null,null,null,null,"",null,"2018-04-12",0.88474593940000001,null,"2018-04-12",17.758942514000001]
[null,null,null,"2018-04-13",102.99357283000001,93.499161689000005,108.27228651,101.83817922,113.11744985999999,114.63874886000001,null,null,null,null,null,"",null,"2018-04-13",0.12614249918000001,null,"2018-04-13",17.457152919999999]
[null,null,null,"2018-04-16",102.14020631,91.631300429999996,106.3814015,101.86321398,110.54502717,112.05342281999999,null,null,null,null,null,"",null,"2018-04-16",-0.82856287980999999,null,"2018-04-16",18.067936630999998]
[null,null,null,"2018-04-17",104.01822681,92.566540919999994,107.95353355,101.88825500999999,112.17490420999999,113.72755653,null,null,null,null,null,"",null,"2018-04-17",1.8386691852000001,null,"2018-04-17",18.649236125000002]
[null,null,null,"2018-04-18",106.43099024999999,93.290893849,110.12365478,101.91330212,114.77176101000001,116.38288824999999,null,null,null,null,null,"",null,"2018-04-18",2.3195583238999999,null,"2018-04-18",19.597186421]
[null,null,null,"2018-04-19",107.28919325,92.888766634999996,110.18502255999999,101.93835549000001,114.12230246999999,115.74672058,null,null,null,null,null,"",null,"2018-04-19",0.80634691220999999,null,"2018-04-19",18.636839480999999]
[null,null,null,"2018-04-20",107.91083706000001,92.670019909999994,109.83303085999999,101.96341493,113.22105046999999,114.85487525000001,null,null,null,null,null,"",null,"2018-04-20",0.57940952156000003,null,"2018-04-20",18.653128836]
[null,null,null,"2018-04-23",107.65067188,92.609766320999995,109.90031716,101.98848045,113.02215683999999,114.67531185,null,null,null,null,null,"",null,"2018-04-23",-0.24109272563,null,"2018-04-23",18.612020133000001]
[null,null,null,"2018-04-24",108.30710797,91.749187886000001,109.72902659,102.01355223,112.59749207999999,114.2665568,null,null,null,null,null,"",null,"2018-04-24",0.60978355394999995,null,"2018-04-24",18.183536974999999]
[null,null,null,"2018-04-25",107.06515863,91.461018547999998,109.18379057999999,102.03863009,112.84354353000001,114.53842938,null,null,null,null,null,"",null,"2018-04-25",-1.1466923680000001,null,"2018-04-25",18.463357817999999]
[null,null,null,"2018-04-26",109.50335328,93.044640049999998,110.90261473,102.06371421999999,114.55515266,116.29826104999999,null,null,null,null,null,"",null,"2018-04-26",2.2772998113999998,null,"2018-04-26",19.534910985]
[null,null,null,"2018-04-27",109.14798472,93.415330608999994,110.98151982,102.08880442,114.72423667,116.49247003000001,null,null,null,null,null,"",null,"2018-04-27",-0.32452756413,null,"2018-04-27",17.644131474999998]
[null,null,null,"2018-04-30",109.06268473,93.077386566000001,110.55892949,102.11390088,113.37254192,115.14223247,null,null,null,null,null,"",null,"2018-04-30",-7.8150767785999997E-2,null,"2018-04-30",17.370492488]
[null,null,null,"2018-05-01",null,null,null,null,null,null,null,null,null,null,null,"",null,"2018-05-01",null,null,"2018-05-01"]
[null,null,null,"2018-05-02",108.63227775999999,91.037933563999999,108.54533461,102.13900341999999,110.02616892,111.76526118,null,null,null,null,null,"",null,"2018-05-02",-0.39464183073999998,null,"2018-05-02",17.552532131]
[null,null,null,"2018-05-03",107.49466876,89.259142827000005,106.9290383,102.16411223,107.57945970999999,109.30103879000001,null,null,null,null,null,"",null,"2018-05-03",-1.0472108442000001,null,"2018-05-03",18.151973044999998]
[null,null,null,"2018-05-04",107.51139166,88.845226867999997,106.71064348,102.18922711,106.55640369,108.28257369000001,null,null,null,null,null,"",null,"2018-05-04",1.5556956532E-2,null,"2018-05-04",17.899941514000002]
[null,null,null,"2018-05-07",106.32035714,89.257832966999999,106.19248374999999,102.21434825999999,106.27333457,108.01583008,null,null,null,null,null,"",null,"2018-05-07",-1.1078216970999999,null,"2018-05-07",17.694878712000001]
[null,null,null,"2018-05-08",106.11824796000001,88.595043486999998,106.50268631,102.23947548,106.840328,108.61314689,null,null,null,null,null,"",null,"2018-05-08",-0.19009452207999999,null,"2018-05-08",17.348883821000001]
[null,null,null,"2018-05-09",107.62503369,89.049565126000005,108.18380393,102.26460896,107.81463798,109.62484636000001,null,null,null,null,null,"",null,"2018-05-09",1.4199119934,null,"2018-05-09",17.283806848000001]
[null,null,null,"2018-05-10",110.62861096,91.480666456999998,110.23244778,102.28974852,109.61640896,111.47845053,null,null,null,null,null,"",null,"2018-05-10",2.7907794014,null,"2018-05-10",17.919697331999998]
[null,null,null,"2018-05-11",111.42269068,89.459551504000004,109.40955468,102.31489435,107.80339829,109.65587107,null,null,null,null,null,"",null,"2018-05-11",0.71778873916999997,null,"2018-05-11",17.949716651999999]
[null,null,null,"2018-05-14",112.79225655,87.625746621000005,109.42488378,102.34004643999999,106.09716466,107.94121450999999,null,null,null,null,null,"",null,"2018-05-14",1.2291624533000001,null,"2018-05-14",18.502387335000002]
[null,null,null,"2018-05-15",114.30184616,87.340197003,109.29423973999999,102.36520461000001,104.71981409999999,106.56055393,null,null,null,null,null,"",null,"2018-05-15",1.3383805367999999,null,"2018-05-15",18.297225697999998]
[null,null,null,"2018-05-16",117.12291801000001,88.322592475999997,111.10003153,102.39036904,106.21640309999999,108.10437786,null,null,null,null,null,"",null,"2018-05-16",2.4680894858000002,null,"2018-05-16",18.782182414000001]
[null,null,null,"2018-05-17",114.93512834000001,85.414701875999995,107.35759851,102.41553954,101.62376852,103.45013736999999,null,null,null,null,null,"",null,"2018-05-17",-1.8679432765999999,null,"2018-05-17",20.143113769999999]
[null,null,null,"2018-05-18",113.26845791,85.653096511000001,106.66423249,102.44071632000001,101.36036885,103.20198310000001,null,null,null,null,null,"",null,"2018-05-18",-1.4500966376,null,"2018-05-18",20.075228345999999]
[null,null,null,"2018-05-21",110.73348147999999,85.759195222000002,105.03816612999999,102.46589935,100.10836526,101.94696810000001,null,null,null,null,null,"",null,"2018-05-21",-2.2380250167,null,"2018-05-21",22.236136931000001]
[null,null,null,"2018-05-22",110.97345188,88.774494394000001,106.22387376,102.49108846,103.12304527000001,105.0373506,null,null,null,null,null,"",null,"2018-05-22",0.21670988298999999,null,"2018-05-22",21.702257711000001]
[null,null,null,"2018-05-23",109.88997873,87.169915121000003,103.82104283,102.51628384,100.73827651000001,102.62818074,null,null,null,null,null,"",null,"2018-05-23",-0.97633544883000001,null,"2018-05-23",21.997580361000001]
[null,null,null,"2018-05-24",112.3932006,88.098606308000001,102.86460418999999,102.54148529,100.87254192,102.78486348,null,null,null,null,null,"",null,"2018-05-24",2.2779346231000002,null,"2018-05-24",23.128390850999999]
[null,null,null,"2018-05-25",110.92682409,87.27077439,101.29234375999999,102.56669300999999,99.236678525000002,101.13756723,null,null,null,null,null,"",null,"2018-05-25",-1.3046843587000001,null,"2018-05-25",23.244768336]
[null,null,null,"2018-05-28",107.31010062,83.125065492999994,96.745196879999995,102.59190699,95.381343094000002,97.227204963999995,null,null,null,null,null,"",null,"2018-05-28",-3.2604588655,null,"2018-05-28",25.422041645]
[null,null,null,"2018-05-29",106.52163781,83.398826365000005,97.664596595000006,102.61712704999999,95.342737205999995,97.206670492000001,null,null,null,null,null,"",null,"2018-05-29",-0.73475172766999997,null,"2018-05-29",24.907259215]
[null,null,null,"2018-05-30",106.88276292,84.449334590999996,98.539716506000005,102.64235337,96.903343563000007,98.816916685999999,null,null,null,null,null,"",null,"2018-05-30",0.33901573423999998,null,"2018-05-30",24.954624014]
[null,null,null,"2018-05-31",null,null,null,null,null,null,null,null,null,null,null,"",null,"2018-05-31",null,null,"2018-05-31"]
[null,null,null,"2018-06-01",109.34740341,85.416011736000002,99.163844776000005,102.66758596,98.787579655000002,100.75786725,null,null,null,null,null,"",null,"2018-06-01",2.3059288755999998,null,"2018-06-01",25.615371914000001]
[null,null,null,"2018-06-04",109.41499585,86.594886303999999,100.9051362,102.69282462,100.41635716,102.43896169,null,null,null,null,null,"",null,"2018-06-04",6.1814393666E-2,null,"2018-06-04",26.532457669999999]
[null,null,null,"2018-06-05",108.87490523,83.478727863000003,98.396067122000005,102.71806955,96.367137104999998,98.327216966999998,null,null,null,null,null,"",null,"2018-06-05",-0.49361663058999999,null,"2018-06-05",25.967824568000001]
[null,null,null,"2018-06-06",111.56553294,81.851880960000003,97.722690568999994,102.74332074,94.150963680999993,96.084568515000001,null,null,null,null,null,"",null,"2018-06-06",2.4713019982,null,"2018-06-06",26.564551808000001]
[null,null,null,"2018-06-07",107.92864118999999,78.511736350999996,94.813806568999993,102.76857801,90.756088978999998,92.637906368000003,null,null,null,null,null,"",null,"2018-06-07",-3.2598703637000002,null,"2018-06-07",28.692078123000002]
[null,null,null,"2018-06-08",104.56799577,79.946033741999997,93.646291024000007,102.79384154,91.544577583000006,93.460837561000005,null,null,null,null,null,"",null,"2018-06-08",-3.1137660836999999,null,"2018-06-08",30.618365005000001]
[null,null,null,"2018-06-11",102.81532968,79.072356701000004,92.831948322000002,102.81911134000001,89.333413151000002,91.221047612999996,null,null,null,null,null,"",null,"2018-06-11",-1.6761018315,null,"2018-06-11",30.013253079999998]
[null,null,null,"2018-06-12",103.36166127,78.777638058999997,93.405005247999995,102.84438720999999,89.791796981999994,91.706871004000007,null,null,null,null,null,"",null,"2018-06-12",0.53137172653999998,null,"2018-06-12",29.458892680999998]
[null,null,null,"2018-06-13",102.35428607999999,78.260243110000005,92.593628226999996,102.86966935,88.406505335999995,90.309517233999998,null,null,null,null,null,"",null,"2018-06-13",-0.97461203313,null,"2018-06-13",28.854929749]
[null,null,null,"2018-06-14",101.64949969,76.645184951999994,91.693717274999997,102.89495776,85.951855037000001,87.819030021000003,null,null,null,null,null,"",null,"2018-06-14",-0.68857535461999997,null,"2018-06-14",28.322569742999999]
[null,null,null,"2018-06-15",99.314378547999993,76.515508749999995,90.841937661000003,102.92025242,86.087219985000004,87.974366791999998,null,null,null,null,null,"",null,"2018-06-15",-2.2972283749,null,"2018-06-15",28.235881506999998]
[null,null,null,"2018-06-18",98.662292320000006,75.461070942000006,89.631284933000003,102.94555317,84.064809022999995,85.924256217999996,null,null,null,null,null,"",null,"2018-06-18",-0.65658793600999998,null,"2018-06-18",26.998878564999998]
[null,null,null,"2018-06-19",98.141838864999997,77.518861993000002,91.659246044,102.97086018,87.864801204000003,89.825690851999994,null,null,null,null,null,"",null,"2018-06-19",-0.52750999612000005,null,"2018-06-19",26.353855387999999]
[null,null,null,"2018-06-20",99.220831204000007,78.210468406000004,92.595258709999996,102.99617345,89.035072716000002,91.039704110000002,null,null,null,null,null,"",null,"2018-06-20",1.0994213589999999,null,"2018-06-20",26.409179456]
[null,null,null,"2018-06-21",97.054097971999994,76.508959446999995,89.965289974000001,103.02149299,86.542427382,88.508071223000002,null,null,null,null,null,"",null,"2018-06-21",-2.1837483171000001,null,"2018-06-21",26.369787322000001]
[null,null,null,"2018-06-22",98.100362927999996,77.014565649999994,90.691625121000001,103.04681879,87.340689628000007,89.341760393000001,null,null,null,null,null,"",null,"2018-06-22",1.0780224409000001,null,"2018-06-22",26.821028510000001]
[null,null,null,"2018-06-25",98.160357426000004,78.008749868999999,91.092595502999998,103.07215067,88.004442119999993,90.038150939000005,null,null,null,null,null,"",null,"2018-06-25",6.1156244738E-2,null,"2018-06-25",26.200343714999999]
[null,null,null,"2018-06-26",99.790573593000005,80.670386671000003,91.672405452999996,103.09748882,88.330515266000006,90.389258091000002,null,null,null,null,null,"",null,"2018-06-26",1.6607683691999999,null,"2018-06-26",26.684510354]
[null,null,null,"2018-06-27",98.892469445000003,79.068427119000006,90.651004275000005,103.12283323,86.818166269000002,88.858862829000003,null,null,null,null,null,"",null,"2018-06-27",-0.89998896273999995,null,"2018-06-27",26.104565792999999]
[null,null,null,"2018-06-28",100.67212445,79.196793460999999,92.137080208,103.14818390000001,89.149057821,91.262210668999998,null,null,null,null,null,{"$f":"IF(O139=\"\",\"\",O139*(-1))","v":""},null,"2018-06-28",1.7995859773,null,"2018-06-28",25.287553335999998]
[null,null,null,"2018-06-29",102.01229060999999,80.277428482000005,93.415776704999999,103.17354084,90.400572734999997,92.561310204999998,null,null,null,null,null,"",null,"2018-06-29",1.3312187108,null,"2018-06-29",25.782753885000002]
[null,null,null,"2018-07-02",99.737083124999998,79.790160326999995,93.514915193999997,103.19890384999999,90.690239063000007,92.875880205000001,null,null,null,null,null,"",null,"2018-07-02",-2.2303268323999998,null,"2018-07-02",25.603961548000001]
[null,null,null,"2018-07-03",99.622453569000001,80.955936288000004,94.577964295000001,103.22427313,92.636782126,94.887704690000007,null,null,null,null,null,"",null,"2018-07-03",-0.11493173151,null,"2018-07-03",25.038084810000001]
[null,null,null,"2018-07-04",99.580928197000006,82.844755317999997,95.958559546999993,103.24964868000001,93.841627897999999,96.140438364999994,null,null,null,null,null,"",null,"2018-07-04",-4.1682743722000003E-2,null,"2018-07-04",25.01744497]
[null,null,null,"2018-07-05",101.70842064999999,82.861783505999995,95.714552019999999,103.27503049000001,93.312751671000001,95.617117221000001,null,null,null,null,null,"",null,"2018-07-05",2.1364456983000002,null,"2018-07-05",26.387418909000001]
[null,null,null,"2018-07-06",103.32809294,83.452530651000004,96.301692724000006,103.30041856,93.973572071000007,96.312902136999995,null,null,null,null,null,"",null,"2018-07-06",1.5924662728000001,null,"2018-07-06",25.497616644000001]
[null,null,null,"2018-07-09",null,null,null,103.3258129,null,null,null,null,null,null,null,"",null,"2018-07-09",null,null,"2018-07-09"]
[null,null,null,"2018-07-10",103.54591465,83.465629257000003,96.111670867000001,103.35121350999999,94.404834042999994,96.773634424999997,null,null,null,null,null,"",null,"2018-07-10",0.21080588921999999,null,"2018-07-10",21.477358706]
[null,null,null,"2018-07-11",102.51180213000001,82.940375144000001,95.516185172999997,103.37662019,94.607270612999997,96.999929029,null,null,null,null,null,"",null,"2018-07-11",-0.99869948780999995,null,"2018-07-11",20.966212736999999]
[null,null,null,"2018-07-12",104.94122294,84.791208214999997,97.387619936999997,103.40203313000001,96.631514132999996,99.094550549000004,null,null,null,null,null,"",null,"2018-07-12",2.3698937666000002,null,"2018-07-12",22.378131811999999]
[null,null,null,"2018-07-13",105.17095148,86.549041181999996,98.335264236,103.42745234,98.872366002999996,101.41215207,null,null,null,null,null,"",null,"2018-07-13",0.21891162978000001,null,"2018-07-13",22.066881944999999]
[null,null,null,"2018-07-16",105.43741502,85.531279471999994,98.410022513000001,103.45287782,99.070404432999993,101.63495344,null,null,null,null,null,"",null,"2018-07-16",0.25336230119000003,null,"2018-07-16",20.491566381999998]
[null,null,null,"2018-07-17",108.07922956,86.351252227000003,100.30717267999999,103.47830956,101.36782126,104.01197748,null,null,null,null,null,"",null,"2018-07-17",2.5055759748000002,null,"2018-07-17",21.307304706]
[null,null,null,"2018-07-18",109.44167618,85.684533165999994,99.321616453000004,103.50374755999999,99.770808084999999,102.39312918,null,null,null,null,null,"",null,"2018-07-18",1.2605998598000001,null,"2018-07-18",21.143841711]
[null,null,null,"2018-07-19",107.42367422,86.457350938000005,99.481069966000007,103.52919183,100.15344618,102.8057268,null,null,null,null,null,"",null,"2018-07-19",-1.8439063014999999,null,"2018-07-19",22.361642065000002]
[null,null,null,"2018-07-20",106.73374477,88.056690767999996,100.87333536,103.55464237,102.8712518,105.61595233,null,null,null,null,null,"",null,"2018-07-20",-0.64225084043000003,null,"2018-07-20",22.514422271000001]
[null,null,null,"2018-07-23",108.46457185,86.727182228000004,100.13490640000001,103.58009917,101.60018959999999,104.3311748,null,null,null,null,null,"",null,"2018-07-23",1.621630621,null,"2018-07-23",21.385871108]
[null,null,null,"2018-07-24",111.03823755000001,88.330451640000007,101.62271552,103.60556223,102.24060753000001,105.00913601000001,null,null,null,null,null,"",null,"2018-07-24",2.3728169052000001,null,"2018-07-24",21.780564509000001]
[null,null,null,"2018-07-25",111.46112166,88.361888295,102.98751948,103.63103156,104.45507056,107.30433689,null,null,null,null,null,"",null,"2018-07-25",0.38084548141000002,null,"2018-07-25",21.714227712]
[null,null,null,"2018-07-26",112.04742306999999,86.678717383999995,101.94412604999999,103.65650716,102.28067946,105.09097886000001,null,null,null,null,null,"",null,"2018-07-26",0.52601426924000005,null,"2018-07-26",21.397098274000001]
[null,null,null,"2018-07-27",112.37428672999999,86.562139787999996,102.53568318000001,103.68198902,102.74065151000001,105.58402959,null,null,null,null,null,"",null,"2018-07-27",0.29171903515999997,null,"2018-07-27",20.794308041000001]
[null,null,null,"2018-07-30",113.73965305,86.084040658000006,103.06140474999999,103.70747713999999,103.62308925000001,106.51150894,null,null,null,null,null,"",null,"2018-07-30",1.2150166736000001,null,"2018-07-30",20.825014756000002]
[null,null,null,"2018-07-31",113.88054841,85.218222780999994,101.70674316,103.73297153,101.10845322,103.94690262,null,null,null,null,null,"",null,"2018-07-31",0.12387532333,null,"2018-07-31",20.372741291000001]
[null,null,null,"2018-08-01",111.28571097,87.059886828000003,101.81100419000001,103.75847219000001,102.19894737,105.08835492999999,null,null,null,null,null,"",null,"2018-08-01",-2.2785607143000002,null,"2018-08-01",21.992937846]
[null,null,null,"2018-08-02",110.51221319,86.659069474999995,102.24114351999999,103.78397911,102.74248406,105.66771523,null,null,null,null,null,"",null,"2018-08-02",-0.69505579712999999,null,"2018-08-02",20.386383844000001]
[null,null,null,"2018-08-03",113.03144618,88.416902441999994,104.54986863000001,103.8094923,105.55998083999999,108.5864519,null,null,null,null,null,"",null,"2018-08-03",2.2795969018000002,null,"2018-08-03",21.104946662]
[null,null,null,"2018-08-06",113.34670765,88.017394949000007,104.05658982,103.83501175000001,104.63185132,107.65255311,null,null,null,null,null,"",null,"2018-08-06",0.27891483986999999,null,"2018-08-06",20.988892726]
[null,null,null,"2018-08-07",113.74182005,86.205857696999999,103.15246784999999,103.86053746,103.13795007,106.13607042,null,null,null,null,null,"",null,"2018-08-07",0.34858745293999999,null,"2018-08-07",20.486733697999998]
[null,null,null,"2018-08-08",112.68769464,85.277166510000001,101.61849167,103.88606944,101.49866589,104.46935836999999,null,null,null,null,null,"",null,"2018-08-08",-0.92677030207,null,"2018-08-08",20.535422649000001]
[null,null,null,"2018-08-09",111.36199978,84.479461384999993,101.12586761999999,103.91160769,101.2407639,104.22408509,null,null,null,null,null,"",null,"2018-08-09",-1.1764326795,null,"2018-08-09",20.723179158000001]
[null,null,null,"2018-08-10",109.22283779,82.276275803999994,98.232556658999997,103.9371522,97.463739786999994,100.35518924,null,null,null,null,null,"",null,"2018-08-10",-1.9209083818999999,null,"2018-08-10",21.984534666999998]
[null,null,null,"2018-08-13",110.79349297,82.949544168000003,99.493420553000007,103.96270298,98.350820009000003,101.28819509,null,null,null,null,null,"",null,"2018-08-13",1.4380281689000001,null,"2018-08-13",21.787166355]
[null,null,null,"2018-08-14",111.79471252,84.661532012999999,100.91291629,103.98826002,100.57688924,103.60080517,null,null,null,null,null,"",null,"2018-08-14",0.90368082964999996,null,"2018-08-14",21.395018472]
[null,null,null,"2018-08-15",108.6667326,83.452530651000004,98.955540971000005,104.01382332999999,99.930851480000001,102.95527524000001,null,null,null,null,null,"",null,"2018-08-15",-2.7979676740000001,null,"2018-08-15",23.228589765999999]
[null,null,null,"2018-08-16",107.98065027,83.208896573000004,98.623307636000007,104.0393929,99.962493647000002,103.00781666,null,null,null,null,null,"",null,"2018-08-16",-0.63136372901000004,null,"2018-08-16",23.359114170000002]
[null,null,null,"2018-08-17",108.66035046,81.914754270000003,97.608800704000004,104.06496892,97.678515579000006,100.67374771999999,null,null,null,null,null,"",null,"2018-08-17",0.62946480738999999,null,"2018-08-17",22.032525233000001]
[null,null,null,"2018-08-20",109.96091084,82.137430577000003,97.993158135000002,104.09055121,97.567340396000006,100.57863476,null,null,null,null,null,"",null,"2018-08-20",1.1969042700000001,null,"2018-08-20",21.871267301]
[null,null,null,"2018-08-21",110.11635319,80.507963953000001,96.519959162999996,104.11613977,95.639245083999995,98.610121427999999,null,null,null,null,null,"",null,"2018-08-21",0.14136146892000001,null,"2018-08-21",21.368412416999998]
[null,null,null,"2018-08-22",112.81481942000001,81.809965419999997,98.730624215000006,104.14173459,97.534598693999996,100.58382340999999,null,null,null,null,null,"",null,"2018-08-22",2.4505590211000001,null,"2018-08-22",22.162988462000001]
[null,null,null,"2018-08-23",112.79096546,80.112386041999997,97.102015842,104.16733567999999,94.421082724000001,97.391823955999996,null,null,null,null,null,"",null,"2018-08-23",-2.1144347465000001E-2,null,"2018-08-23",21.683856877]
[null,null,null,"2018-08-24",113.32912899,80.395315937999996,97.908873729000007,104.19294303,94.958877399000002,97.965504537000001,null,null,null,null,null,"",null,"2018-08-24",0.47713353833,null,"2018-08-24",20.438137941000001]
[null,null,null,"2018-08-27",115.75107176,82.382374514999995,100.04962059,104.21855665,97.647850775999999,100.75912356000001,null,null,null,null,null,"",null,"2018-08-27",2.1370876036999999,null,"2018-08-27",22.411358030999999]
[null,null,null,"2018-08-28",116.37200790999999,81.994655769000005,99.463532647999997,104.24417672,97.093318737999994,100.20632217000001,null,null,null,null,null,"",null,"2018-08-28",0.53644095642,null,"2018-08-28",21.934814496000001]
[null,null,null,"2018-08-29",117.27862587,82.454416850000001,100.63909789,104.26980304999999,98.804805700000003,101.9924278,null,null,null,null,null,"",null,"2018-08-29",0.77906876048999996,null,"2018-08-29",21.545505494]
[null,null,null,"2018-08-30",116.74528182,81.182542177000002,98.090999940000003,104.29543565,95.449514249999993,98.547966770000002,null,null,null,null,null,"",null,"2018-08-30",-0.45476662361999998,null,"2018-08-30",21.353142810000001]
[null,null,null,"2018-08-31",116.43170938,81.00047155,98.442041601,104.32107452,96.323888737000004,99.469981625000003,null,null,null,null,null,"",null,"2018-08-31",-0.26859539247999997,null,"2018-08-31",21.388872376999998]
[null,null,null,"2018-09-03",116.51197572,80.485696321999995,97.819646521999999,104.34671965,95.093142811999996,98.218051892000005,null,null,null,null,null,"",null,"2018-09-03",6.8938560435000004E-2,null,"2018-09-03",19.179668052]
[null,null,null,"2018-09-04",112.90853595999999,79.288483705000004,95.91834953,104.37237124000001,93.596431643000003,96.690875136000002,null,null,null,null,null,"",null,"2018-09-04",-3.0927634188000002,null,"2018-09-04",21.661069082000001]
[null,null,null,"2018-09-05",113.62284551,79.150948338999996,96.406813928999995,104.39802908999999,94.654184095999994,97.802532416999995,null,null,null,null,null,"",null,"2018-09-05",0.63264441887,null,"2018-09-05",21.284633886999998]
[null,null,null,"2018-09-06",117.03272781,80.209315728999997,98.106303369000003,104.42369321,96.435430431,99.662319760000003,null,null,null,null,null,"",null,"2018-09-06",3.0010534319,null,"2018-09-06",23.307349639000002]
[null,null,null,"2018-09-07",null,null,null,null,null,null,null,null,null,null,null,"",null,"2018-09-07",null,null,"2018-09-07"]
[null,null,null,"2018-09-10",116.67905601,80.213245310999994,98.132416770999995,104.44936359,96.627115993999993,99.879755462999995,null,null,null,null,null,"",null,"2018-09-10",-0.30219905639,null,"2018-09-10",22.945853460999999]
[null,null,null,"2018-09-11",115.36149718999999,77.968144189,95.847365756000002,104.47504024,93.433578326000003,96.597418259999998,null,null,null,null,null,"",null,"2018-09-11",-1.1292162197,null,"2018-09-11",22.934604628999999]
[null,null,null,"2018-09-12",116.20850709,78.671539347999996,96.448590236000001,104.50072333999999,93.694045896999995,96.885462110999995,null,null,null,null,null,"",null,"2018-09-12",0.73422235291000004,null,"2018-09-12",22.461397463000001]
[null,null,null,"2018-09-13",116.17020979999999,77.649848055999996,95.886099350999999,104.52641269999999,93.407556002999996,96.607916387000003,null,null,null,null,null,"",null,"2018-09-13",-3.2955663937000002E-2,null,"2018-09-13",22.124537192999998]
[null,null,null,"2018-09-14",118.68885003,77.788693283000001,96.839251344000004,104.55210834,94.499394034000005,97.756088229,null,null,null,null,null,"",null,"2018-09-14",2.1680603264,null,"2018-09-14",22.934030045]
[null,null,null,"2018-09-17",118.28645725,79.281934402000005,98.584972033,104.57781023,96.667920950999999,100.01871113,null,null,null,null,null,"",null,"2018-09-17",-0.33903166477000002,null,"2018-09-17",21.062966148000001]
[null,null,null,"2018-09-18",121.03615746,80.122864926999995,100.54297644,104.60351858,97.549992180999993,100.95090089,null,null,null,null,null,"",null,"2018-09-18",2.3246111802999998,null,"2018-09-18",21.509083555]
[null,null,null,"2018-09-19",122.21134649,79.904118202000006,100.35642097,104.6292332,97.492694201999996,100.91114100999999,null,null,null,null,null,"",null,"2018-09-19",0.97094046740999995,null,"2018-09-19",21.067785608000001]
[null,null,null,"2018-09-20",122.9848312,79.240018861999999,100.28883938,104.65495408,97.135711912000005,100.56110956000001,null,null,null,null,null,"",null,"2018-09-20",0.63290744329000004,null,"2018-09-20",20.949293296]
[null,null,null,"2018-09-21",126.06659903000001,80.190977680000003,101.99413180000001,104.68068142,98.944080104999998,102.45308231999999,null,null,null,null,null,"",null,"2018-09-21",2.5058113288000001,null,"2018-09-21",21.880802197000001]
[null,null,null,"2018-09-24",125.76574401000001,78.315257256999999,100.11959013000001,104.70641501999999,96.912750693999996,100.3691436,null,null,null,null,null,"",null,"2018-09-24",-0.238647688,null,"2018-09-24",22.071478135]
[null,null,null,"2018-09-25",128.1065299,77.394425233000007,100.94890246,104.73215489,96.928632863000004,100.40502992,null,null,null,null,null,"",null,"2018-09-25",1.8612269205,null,"2018-09-25",21.999346091]
[null,null,null,"2018-09-26",126.20755559,78.155454259999999,100.98229526,104.75790121,97.596050470999998,101.11596016,null,null,null,null,null,{"$f":"IF(O203=\"\",\"\",O203*(-1))","v":""},null,"2018-09-26",-1.4823399712000001,null,"2018-09-26",22.564227077000002]
[null,null,null,"2018-09-27",126.41130185,80.638950015999995,102.70769269,104.7836538,99.850341099999994,103.47158564999999,null,null,null,null,null,"",null,"2018-09-27",0.16143744305999999,null,"2018-09-27",21.866182668]
[null,null,null,"2018-09-28",126.90451637,80.063921199000006,101.86335938000001,104.80941265,98.845610656999995,102.45025058,null,null,null,null,null,"",null,"2018-09-28",0.39016647787999997,null,"2018-09-28",21.861219331000001]
[null,null,null,"2018-10-01",127.10212615,79.300272450999998,100.94057031,104.83521706000001,97.254217327000006,100.82034143,null,null,null,null,null,"",null,"2018-10-01",0.15571532313,null,"2018-10-01",22.570924666]
[null,null,null,"2018-10-02",129.00709538999999,83.225924762000005,104.7774943,104.86102774,102.40211696999999,106.17755984,null,null,null,null,null,"",null,"2018-10-02",1.4987705549999999,null,"2018-10-02",22.310727547999999]
[null,null,null,"2018-10-03",127.59624787,86.259561982999998,106.91011442999999,104.88684488,106.14456683,110.07929991,null,null,null,null,null,"",null,"2018-10-03",-1.093620096,null,"2018-10-03",22.915912668000001]
[null,null,null,"2018-10-04",125.879943,86.465210102,106.49852666,104.91266828000001,106.53978849000001,110.51056634,null,null,null,null,null,"",null,"2018-10-04",-1.3451060644999999,null,"2018-10-04",20.206973426000001]
[null,null,null,"2018-10-05",123.7682351,86.004139159999994,105.68804833,104.93849795,105.95056003000001,109.92065698,null,null,null,null,null,"",null,"2018-10-05",-1.6775570834,null,"2018-10-05",21.533171418999999]
[null,null,null,"2018-10-08",124.56482346,92.342554751999998,110.51838567999999,104.96433407000001,111.70760193,115.91586279000001,null,null,null,null,null,"",null,"2018-10-08",0.64361292789000002,null,"2018-10-08",19.577157344]
[null,null,null,"2018-10-09",126.55502097,93.307922036999997,110.52304604,104.99017645000001,111.52813343,115.75204211,null,null,null,null,null,"",null,"2018-10-09",1.5977203280000001,null,"2018-10-09",19.595531754]
[null,null,null,"2018-10-10",123.71284974,90.397411715000004,107.43099590999999,105.01602529,108.50429062000001,112.63548265,null,null,null,null,null,"",null,"2018-10-10",-2.2457988650999998,null,"2018-10-10",21.355354158000001]
[null,null,null,"2018-10-11",124.78516921000001,89.044325684,106.45779026,105.04188059000001,107.45447926,111.56729942,null,null,null,null,null,"",null,"2018-10-11",0.86678099123999997,null,"2018-10-11",20.869774215]
[null,null,null,"2018-10-12",null,null,null,null,null,null,null,null,null,null,null,"",null,"2018-10-12",null,null,"2018-10-12"]
[null,null,null,"2018-10-15",126.82808629,88.504663104000002,107.02100009999999,105.06774215,108.29623420999999,112.46304461,null,null,null,null,null,"",null,"2018-10-15",1.6371473459000001,null,"2018-10-15",21.335487002000001]
[null,null,null,"2018-10-16",127.63716796999999,92.464371791000005,110.04804917,105.09361016,112.31002482,116.65385336,null,null,null,null,null,"",null,"2018-10-16",0.63793572916999997,null,"2018-10-16",20.846696570999999]
[null,null,null,"2018-10-17",128.35845178,92.998794927999995,110.10760672000001,105.11948445,112.4212,116.79193857999999,null,null,null,null,null,"",null,"2018-10-17",0.56510483664,null,"2018-10-17",20.713353875999999]
[null,null,null,"2018-10-18",125.55201377,91.337891647999996,107.64668182,105.14536518,109.54274013,113.82360471,null,null,null,null,null,"",null,"2018-10-18",-2.1864068717,null,"2018-10-18",21.326241356000001]
[null,null,null,"2018-10-19",128.00010856,91.060201195000005,108.12508088,105.17125218,109.57401579,113.87814862,null,null,null,null,null,"",null,"2018-10-19",1.9498650098999999,null,"2018-10-19",21.995074392999999]
[null,null,null,"2018-10-22",130.62932287999999,93.442837682000004,109.89287086,105.19714564,111.09259548,115.47873490000001,null,null,null,null,null,"",null,"2018-10-22",2.0540719452,null,"2018-10-22",21.971705709999998]
[null,null,null,"2018-10-23",129.02691066,93.755894373000004,109.51200548,105.22304536,111.48549591,115.90958705,null,null,null,null,null,"",null,"2018-10-23",-1.2266864651,null,"2018-10-23",21.967120695999999]
[null,null,null,"2018-10-24",127.08667063999999,92.525935239999995,106.64071246,105.24895153,108.90806422999999,113.25179962,null,null,null,null,null,"",null,"2018-10-24",-1.5037483314,null,"2018-10-24",22.624607242]
[null,null,null,"2018-10-25",126.74763409000001,92.696217121999993,107.95016987,105.27486416000001,110.61197661999999,115.04594366000001,null,null,null,null,null,"",null,"2018-10-25",-0.26677585238000001,null,"2018-10-25",21.723118200999998]
[null,null,null,"2018-10-26",125.88973369999999,94.396416220999996,110.05101485,105.30078306,113.20651217,117.76728212,null,null,null,null,null,"",null,"2018-10-26",-0.67685712264999998,null,"2018-10-26",21.243310384000001]
[null,null,null,"2018-10-29",121.46739951000001,93.776852142999999,107.58196321,105.32670840999999,111.74327572999999,116.26760462,null,null,null,null,null,"",null,"2018-10-29",-3.5128632455000002,null,"2018-10-29",24.913691266000001]
[null,null,null,"2018-10-30",123.56335310999999,98.508068741000002,111.54775952999999,105.35264002,115.75914324,120.46939102,null,null,null,null,null,"",null,"2018-10-30",1.7255276772999999,null,"2018-10-30",25.173293766]
[null,null,null,"2018-10-31",127.11794908,98.690139368999994,112.23826257,105.37857809,115.20900933999999,119.92008782000001,null,null,null,null,null,"",null,"2018-10-31",2.8767396496000002,null,"2018-10-31",26.474428462999999]
[null,null,null,"2018-11-01",128.63896843000001,98.449125013,113.51632999,105.40452261999999,117.97250674,122.82036616000001,null,null,null,null,null,"",null,"2018-11-01",1.1965417589,null,"2018-11-01",26.759786164000001]
[null,null,null,"2018-11-02",null,null,null,null,null,null,null,null,null,null,null,"",null,"2018-11-02",null,null,"2018-11-02"]
[null,null,null,"2018-11-05",129.14884352999999,97.512574662000006,115.03012413,105.43047341,119.28779467,124.21375030999999,null,null,null,null,null,"",null,"2018-11-05",0.39636131005000003,null,"2018-11-05",26.679235378000001]
[null,null,null,"2018-11-06",128.65255429000001,95.914544692000007,113.83712427,105.45643065,118.21171664000001,123.11707054,null,null,null,null,null,"",null,"2018-11-06",-0.38427695017000002,null,"2018-11-06",26.088921385999999]
[null,null,null,"2018-11-07",129.69063431000001,94.757937755,112.61160461999999,105.48239435000001,116.56901168,121.42970729,null,null,null,null,null,"",null,"2018-11-07",0.80688643719999997,null,"2018-11-07",25.543592118999999]
[null,null,null,"2018-11-08",127.73359197000001,92.854710259000001,109.92296417999999,105.50836432,114.07001348,118.84951427,null,null,null,null,null,"",null,"2018-11-08",-1.5090082158,null,"2018-11-08",26.156408166999999]
[null,null,null,"2018-11-09",124.98509992,93.644556218999995,109.95002762,105.53434074,115.50270729,120.36553947,null,null,null,null,null,"",null,"2018-11-09",-2.1517378561,null,"2018-11-09",26.711464825]
[null,null,null,"2018-11-12",124.70839635,93.387823535999999,109.80043404,105.56032361,115.9056257,120.80880908,null,null,null,null,null,"",null,"2018-11-12",-0.22138924704999999,null,"2018-11-12",26.006482302999999]
[null,null,null,"2018-11-13",123.71751656000001,92.719794613999994,109.01653129,105.58631275,114.95917059999999,119.84551712,null,null,null,null,null,"",null,"2018-11-13",-0.79455739705999995,null,"2018-11-13",25.521509423000001]
[null,null,null,"2018-11-14",122.19778615,95.805826260000003,110.37605865,105.61230835000001,115.75010262000001,120.69343315,null,null,null,null,null,"",null,"2018-11-14",-1.2283874205,null,"2018-11-14",25.245922536999998]
[null,null,null,"2018-11-15",null,null,null,null,null,null,null,null,null,null,null,"",null,"2018-11-15",null,null,"2018-11-15"]
[null,null,null,"2018-11-16",124.51722422,98.683590065999994,113.63986153,105.63831039999999,119.84403709999999,124.98640346000001,null,null,null,null,null,"",null,"2018-11-16",1.8981015455000001,null,"2018-11-16",25.933221063000001]
[null,null,null,"2018-11-19",122.33712763,97.085560095999995,112.85102882,105.6643189,119.0662995,124.19933818,null,null,null,null,null,"",null,"2018-11-19",-1.7508393731,null,"2018-11-19",25.608412080000001]
[null,null,null,"2018-11-20",null,null,null,105.69033367,null,null,null,null,null,null,null,"",null,"2018-11-20",null,null,"2018-11-20"]
[null,null,null,"2018-11-21",120.97608081,97.710363616999999,112.0395876,105.7163549,118.54878513,123.68345763000001,null,null,null,null,null,"",null,"2018-11-21",-1.1125378256,null,"2018-11-21",25.145252005]
[null,null,null,"2018-11-22",120.22399569,98.158335953000005,112.30744897,105.74238258,118.80546542,123.97525619,null,null,null,null,null,"",null,"2018-11-22",-0.62168084705000004,null,"2018-11-22",23.701324087]
[null,null,null,"2018-11-23",115.51531401,97.612124069999993,110.706225,105.76841652,118.92030570999999,124.11912233,null,null,null,null,null,"",null,"2018-11-23",-3.9165905677000001,null,"2018-11-23",26.645987941000001]
[null,null,null,"2018-11-26",116.05100279,96.845855600999997,109.82843468999999,105.79445692,117.2504789,122.3999918,null,null,null,null,null,"",null,"2018-11-26",0.46373831791999998,null,"2018-11-26",28.043662135999998]
[null,null,null,"2018-11-27",117.19200185,99.237661113000001,112.83862688000001,105.82050377,121.40452128,126.76101523,null,null,null,null,null,"",null,"2018-11-27",0.98318759882999995,null,"2018-11-27",27.762683406000001]
[null,null,null,"2018-11-28",120.32338937999999,99.658126374999995,114.58420633999999,105.84655708,123.86014895,129.35002900999999,null,null,null,null,null,"",null,"2018-11-28",2.6720147088999999,null,"2018-11-28",28.999096613999999]
[null,null,null,"2018-11-29",120.99393121999999,99.608351670999994,115.17315727,105.87261685,124.5352633,130.08024922999999,null,null,null,null,null,"",null,"2018-11-29",0.55728303923,null,"2018-11-29",26.391230442000001]
[null,null,null,"2018-11-30",120.89746409999999,100.09430996,114.90927582,105.89868288,123.22241878,128.73387172,null,null,null,null,null,"",null,"2018-11-30",-7.9728890886999998E-2,null,"2018-11-30",23.880200119000001]
[null,null,null,"2018-12-03",122.93197684,99.503562821000003,115.31504778999999,105.92475536000001,122.26252492,127.75577666,null,null,null,null,null,"",null,"2018-12-03",1.6828415322000001,null,"2018-12-03",24.323558309999999]
[null,null,null,"2018-12-04",121.76790389999999,98.946872053000007,113.78003169,105.9508343,121.45803196999999,126.93971251000001,null,null,null,null,null,"",null,"2018-12-04",-0.94692444745000004,null,"2018-12-04",23.835521609000001]
[null,null,null,"2018-12-05",121.52181953,99.908309755999994,114.31327659,105.97691969,121.98251006,127.51254704,null,null,null,null,null,"",null,"2018-12-05",-0.20209296644999999,null,"2018-12-05",23.713195782]
[null,null,null,"2018-12-06",120.19436769000001,100.38116943999999,114.06509656999999,106.00301154,123.64867176,129.27927120000001,null,null,null,null,null,"",null,"2018-12-06",-1.0923567859000001,null,"2018-12-06",23.871672564000001]
[null,null,null,"2018-12-07",118.97265073,100.96667714,113.12607971,106.02910965,122.73691309,128.35084153,null,null,null,null,null,"",null,"2018-12-07",-1.0164510872999999,null,"2018-12-07",23.603626998999999]
[null,null,null,"2018-12-10",116.93954361,99.618830556999995,110.30114630999999,106.05521422,119.58002657999999,125.07377393,null,null,null,null,null,"",null,"2018-12-10",-1.7088861191,null,"2018-12-10",23.470752373]
[null,null,null,"2018-12-11",117.29187777999999,100.6719585,110.949321,106.08132525000001,120.26919054,125.81895715,null,null,null,null,null,"",null,"2018-12-11",0.30129599781999999,null,"2018-12-11",22.987081791000001]
[null,null,null,"2018-12-12",117.90661519,101.80629781,111.66555228,106.10744273,121.27489835,126.89563898999999,null,null,null,null,null,"",null,"2018-12-12",0.52410910647999998,null,"2018-12-12",23.169795551]
[null,null,null,"2018-12-13",118.53775987,102.91313004,112.76982563999999,106.13356666,122.89939989,128.62033148,null,null,null,null,null,"",null,"2018-12-13",0.53529200249999997,null,"2018-12-13",23.253068812999999]
[null,null,null,"2018-12-14",119.11552912000001,102.73498899000001,112.27159118,106.15969705000001,122.35696274,128.07743893,null,null,null,null,null,"",null,"2018-12-14",0.48741367153999998,null,"2018-12-14",23.061821949999999]
[null,null,null,"2018-12-17",118.44233919,101.03609975000001,110.92377249,106.18583389,120.06162281,125.69912092,null,null,null,null,null,"",null,"2018-12-17",-0.56515714914000004,null,"2018-12-17",21.901991376000002]
[null,null,null,"2018-12-18",117.70262556,101.7931992,111.19443262999999,106.21197719,121.27453183999999,126.99356720999999,null,null,null,null,null,"",null,"2018-12-18",-0.62453480422999996,null,"2018-12-18",21.411999028]
[null,null,null,"2018-12-19",116.74918332999999,102.55029863999999,109.99150865,106.23812675000001,120.09986219,125.78785442,null,null,null,null,null,"",null,"2018-12-19",-0.81004329732000002,null,"2018-12-19",20.846660067999998]
[null,null,null,"2018-12-20",116.59952991999999,102.48480561,109.4725401,106.26428276999999,120.10487118,125.81745802,null,null,null,null,null,"",null,"2018-12-20",-0.1281836895,null,"2018-12-20",20.369752523999999]
[null,null,null,"2018-12-21",118.05424481999999,102.53065073,110.0218459,106.29044524,120.06846435999999,125.80367429,null,null,null,null,null,"",null,"2018-12-21",1.247616434,null,"2018-12-21",20.666418108999999]
[null,null,null,"2018-12-24",null,null,null,106.31661416999999,null,null,null,null,null,null,null,"",null,"2018-12-24",null,null,"2018-12-24"]
[null,null,null,"2018-12-25",null,null,null,null,null,null,null,null,null,null,null,{"$f":"IF(O267=\"\",\"\",O267*(-1))","v":""},null,"2018-12-25",null,null,"2018-12-25"]
[null,null,null,"2018-12-26",116.67792141,101.87179084,109.30154482,106.34278955000001,118.68769302,124.38102809999999,null,null,null,null,null,"",null,"2018-12-26",-1.1658398318000001,null,"2018-12-26",16.782426359999999]
[null,null,null,"2018-12-27",116.42821739999999,104.10379335,109.71763889,106.36897139,120.4426727,126.24463255000001,null,null,null,null,null,"",null,"2018-12-27",-0.21401136264000001,null,"2018-12-27",16.434124957000002]
[null,null,null,"2018-12-28",118.91318204,106.63313423,112.83360704,106.39515968000001,123.72014152,129.70509347999999,null,null,null,null,null,"",null,"2018-12-28",2.1343319473000002,null,"2018-12-28",15.429090952999999]
[null,null,null,"2018-12-31",null,null,null,106.42135442999999,null,null,null,null,null,null,null,"",null,"2018-12-31",null,null,"2018-12-31"]
[null,null,null,"2019-01-01",null,null,null,null,null,null,null,null,null,null,null,"",null,"2019-01-01",null,null,"2019-01-01"]
[null,null,null,"2019-01-02",120.98754049,109.27119354,116.84568597000001,106.44755563,129.06314750000001,135.33276642999999,null,null,null,null,null,"",null,"2019-01-02",1.7444310356999999,null,"2019-01-02",16.940800959000001]
[null,null,null,"2019-01-03",119.18750668,109.89599706,117.55429122,106.47376328999999,130.82032624000001,137.20186656999999,null,null,null,null,null,"",null,"2019-01-03",-1.4877844525999999,null,"2019-01-03",16.528090518999999]
[null,null,null,"2019-01-04",122.803797,108.45253065,117.90932564000001,106.49997740000001,129.42990344,135.76990172000001,null,null,null,null,null,"",null,"2019-01-04",3.0341186146000001,null,"2019-01-04",19.642931313999998]
[null,null,null,"2019-01-07",121.90274356,107.89060044,117.72734065,106.52619797,129.64492357,136.02178728000001,null,null,null,null,null,"",null,"2019-01-07",-0.73373418480999997,null,"2019-01-07",20.017833618000001]
[null,null,null,"2019-01-08",123.18179814,107.82248767999999,118.15461701,106.55242499000001,130.09524415000001,136.52068729000001,null,null,null,null,null,"",null,"2019-01-08",1.0492418270999999,null,"2019-01-08",19.72758142]
[null,null,null,"2019-01-09",125.33632364,109.27381326,120.18461943,106.57865846999999,131.28848371999999,137.79953835000001,null,null,null,null,null,"",null,"2019-01-09",1.7490615806000001,null,"2019-01-09",19.963074109000001]
[null,null,null,"2019-01-10",124.87120889000001,109.17688357999999,120.43226024000001,106.6048984,131.88198815000001,138.44927956000001,null,null,null,null,null,"",null,"2019-01-10",-0.37109333880000001,null,"2019-01-10",18.704078764999998]
[null,null,null,"2019-01-11",124.55836078999999,108.73808026,120.24272624,106.63114478999999,131.81943684000001,138.41040867999999,null,null,null,null,null,"",null,"2019-01-11",-0.25053661528999999,null,"2019-01-11",18.823363238999999]
[null,null,null,"2019-01-14",125.76334964,109.78858849,121.29011244,106.65739763000001,133.60825775000001,140.3158348,null,null,null,null,null,"",null,"2019-01-14",0.96740904519000004,null,"2019-01-14",20.010860272999999]
[null,null,null,"2019-01-15",124.66730582,109.73881378999999,120.75293897,106.68365692,132.5156867,139.19536031999999,null,null,null,null,null,"",null,"2019-01-15",-0.87151290936000003,null,"2019-01-15",19.926446386999999]
[null,null,null,"2019-01-16",125.68529261,109.31834852,121.18605683,106.70992267,132.81585969,139.53767755000001,null,null,null,null,null,"",null,"2019-01-16",0.81656275725000005,null,"2019-01-16",19.496356918]
[null,null,null,"2019-01-17",127.47064315,111.62632295,122.41599290000001,106.73619488,133.42634583,140.20620337,null,null,null,null,null,"",null,"2019-01-17",1.4204928124,null,"2019-01-17",19.613395130000001]
[null,null,null,"2019-01-18",128.12970970999999,112.00356282,123.37330455,106.76247354,134.59881641000001,141.46563803000001,null,null,null,null,null,"",null,"2019-01-18",0.51703398731000005,null,"2019-01-18",19.245309990999999]
[null,null,null,"2019-01-21",129.42456916,111.804464,123.26164858,106.78875866,133.83329587,140.68829923000001,null,null,null,null,null,"",null,"2019-01-21",1.0105848656,null,"2019-01-21",19.457301097999999]
[null,null,null,"2019-01-22",128.26636997,111.59226658,122.09797173,106.81505023,133.07363950999999,139.91681983999999,null,null,null,null,null,"",null,"2019-01-22",-0.89488355725000002,null,"2019-01-22",19.62051568]
[null,null,null,"2019-01-23",129.70012112000001,114.219847,123.96602998,106.84134844,135.43934966,142.43175808999999,null,null,null,null,null,"",null,"2019-01-23",1.1177919386999999,null,"2019-01-23",19.235985014000001]
[null,null,null,"2019-01-24",129.55692318000001,115.68951063,125.40235693,106.86765312,136.58640876999999,143.66584982000001,null,null,null,null,null,"",null,"2019-01-24",-0.11040694244,null,"2019-01-24",18.865641073999999]
[null,null,null,"2019-01-25",null,null,null,106.89396424,null,null,null,null,null,null,null,"",null,"2019-01-25",null,null,"2019-01-25"]
[null,null,null,"2019-01-28",114.62851836999999,116.34706067,122.53512085,106.92028182,137.88092771000001,145.05554699999999,null,null,null,null,null,"",null,"2019-01-28",-11.522660799000001,null,"2019-01-28",49.612699274000001]
[null,null,null,"2019-01-29",115.74794402000001,116.45839882,122.7860483,106.94660586000001,137.18357832999999,144.34985624000001,null,null,null,null,null,"",null,"2019-01-29",0.97656818980000004,null,"2019-01-29",48.468958766999997]
[null,null,null,"2019-01-30",121.49912537,117.01116001,124.52807152,106.97293635,137.96644709,145.20173101,null,null,null,null,null,"",null,"2019-01-30",4.9687114524,null,"2019-01-30",50.298870092999998]
[null,null,null,"2019-01-31",119.17524747,117.75123126,125.03845114000001,106.99927329,140.75963192,148.1700817,null,null,null,null,null,"",null,"2019-01-31",-1.9126704778000001,null,"2019-01-31",49.568184086999999]
[null,null,null,"2019-02-01",120.7523267,116.80027244999999,125.63868706,107.02561669000001,141.15974041000001,148.62002615,null,null,null,null,null,"",null,"2019-02-01",1.3233278411,null,"2019-02-01",48.620157376000002]
[null,null,null,"2019-02-04",119.68616541,117.54034369999999,126.57250436,107.05196674,143.64041302999999,151.26108529999999,null,null,null,null,null,"",null,"2019-02-04",-0.88293229792000005,null,"2019-02-04",49.283264803999998]
[null,null,null,"2019-02-05",120.60567521,117.67656921,126.21632732,107.07832324,142.63042926,150.22660085000001,null,null,null,null,null,"",null,"2019-02-05",0.76826741241999996,null,"2019-02-05",48.190386324000002]
[null,null,null,"2019-02-06",117.20584092,115.02934087,121.49737632999999,107.10468619,136.60754427000001,143.91081086,null,null,null,null,null,"",null,"2019-02-06",-2.8189670856000002,null,"2019-02-06",47.967256169000002]
[null,null,null,"2019-02-07",115.60223972,112.88640888,121.20213056,107.1310556,136.73643418,144.07448325999999,null,null,null,null,null,"",null,"2019-02-07",-1.3681922246,null,"2019-02-07",48.094235976]
[null,null,null,"2019-02-08",116.43325768,113.94084669,122.40574782,107.15743146,138.91852202999999,146.40201666999999,null,null,null,null,null,"",null,"2019-02-08",0.71885973720999996,null,"2019-02-08",48.006120252999999]
[null,null,null,"2019-02-11",115.19820593,113.20732474,121.2115283,107.18381397,137.21473180999999,144.63444405000001,null,null,null,null,null,"",null,"2019-02-11",-1.0607379452000001,null,"2019-02-11",49.886794672000001]
[null,null,null,"2019-02-12",117.72497935,112.49738026999999,123.46529202000001,107.21020294,140.47570761,148.10042418,null,null,null,null,null,"",null,"2019-02-12",2.1934138584,null,"2019-02-12",49.447945288]
[null,null,null,"2019-02-13",119.43917866,112.03237975,123.04677149,107.23659836,138.16191993000001,145.68925356,null,null,null,null,null,"",null,"2019-02-13",1.4561050006,null,"2019-02-13",48.642478400000002]
[null,null,null,"2019-02-14",121.57694136000001,113.93298753000001,125.83616806000001,107.26300023,142.68418428999999,150.48703302999999,null,null,null,null,null,"",null,"2019-02-14",1.7898337255000001,null,"2019-02-14",48.935922642999998]
[null,null,null,"2019-02-15",122.28972054,112.88116943999999,125.20812406,107.28940856,141.73675183,149.51673452,null,null,null,null,null,"",null,"2019-02-15",0.58627826511000003,null,"2019-02-15",48.927488891000003]
[null,null,null,"2019-02-18",122.11637754,112.87462014,123.90371216,107.31582353,139.70713280000001,147.40424539,null,null,null,null,null,"",null,"2019-02-18",-0.141747815,null,"2019-02-18",50.836575969999998]
[null,null,null,"2019-02-19",122.89706468,113.18505711,125.37919637,107.34224496,141.76533972999999,149.60481092000001,null,null,null,null,null,"",null,"2019-02-19",0.63929766056000004,null,"2019-02-19",49.700050402000002]
[null,null,null,"2019-02-20",122.01480896,111.22681546,123.94855685,107.36867284,139.84139822,147.60305242000001,null,null,null,null,null,"",null,"2019-02-20",-0.71788184596000004,null,"2019-02-20",48.588026767999999]
[null,null,null,"2019-02-21",121.83317005000001,110.8063502,124.44599531999999,107.39510737000001,140.98344834,148.83730391,null,null,null,null,null,"",null,"2019-02-21",-0.14886628633000001,null,"2019-02-21",48.403477201999998]
[null,null,null,"2019-02-22",124.52693189999999,111.87126689,125.66991016999999,107.42154834999999,141.99453165,149.93373842,null,null,null,null,null,"",null,"2019-02-22",2.2110250022,null,"2019-02-22",49.019279615000002]
[null,null,null,"2019-02-25",123.67661769,112.26553493999999,124.84093163999999,107.44799578999999,140.92065267999999,148.82862885,null,null,null,null,null,"",null,"2019-02-25",-0.68283559066999999,null,"2019-02-25",50.004183277000003]
[null,null,null,"2019-02-26",123.37875475,111.60798491,125.30645373,107.47444968000001,141.88677723999999,149.87798429,null,null,null,null,null,"",null,"2019-02-26",-0.24084014211999999,null,"2019-02-26",48.854552634000001]
[null,null,null,"2019-02-27",124.31500094,112.0873939,124.92748845,107.50091021999999,140.25690019000001,148.18499849,null,null,null,null,null,"",null,"2019-02-27",0.75883906501999998,null,"2019-02-27",47.885492460000002]
[null,null,null,"2019-02-28",123.91040538,111.03426595000001,122.71546252,107.52737721,137.19371848,144.97673524000001,null,null,null,null,null,"",null,"2019-02-28",-0.32545996346,null,"2019-02-28",19.861518163]
[null,null,null,"2019-03-01",125.8647912,110.17106779,121.45653723,107.55385065999999,135.87354372999999,143.60946860000001,null,null,null,null,null,"",null,"2019-03-01",1.5772572222000001,null,"2019-03-01",20.057248077000001]
[null,null,null,"2019-03-04",null,null,null,null,null,null,null,null,null,null,null,"",null,"2019-03-04",null,null,"2019-03-04"]
[null,null,null,"2019-03-05",null,null,null,null,null,null,null,null,null,null,null,"",null,"2019-03-05",null,null,"2019-03-05"]
[null,null,null,"2019-03-06",127.53477266,108.68961542,120.95984339,107.58033075,134.56265393000001,142.25148253,null,null,null,null,null,"",null,"2019-03-06",1.3268058898999999,null,"2019-03-06",17.151955975]
[null,null,null,"2019-03-07",129.22748217,108.70402389,121.11814144,107.6068173,134.88774971999999,142.62276485999999,null,null,null,null,null,"",null,"2019-03-07",1.3272533213,null,"2019-03-07",15.839276054999999]
[null,null,null,"2019-03-08",129.70310942,111.25170281,122.43367144,107.63331030000001,137.32407444,145.22691331999999,null,null,null,null,null,"",null,"2019-03-08",0.36805425789000001,null,"2019-03-08",15.860069368]
[null,null,null,"2019-03-11",132.97825301,112.92046526,125.85095794999999,107.65980995,141.87394932999999,150.06768022,null,null,null,null,null,"",null,"2019-03-11",2.5251079994999999,null,"2019-03-11",15.907676027000001]
[null,null,null,"2019-03-12",132.79877680000001,112.16467566999999,125.59601207,107.68631605,142.02067614000001,150.25196876000001,null,null,null,null,null,"",null,"2019-03-12",-0.13496659257999999,null,"2019-03-12",15.320902604]
[null,null,null,"2019-03-13",134.43367241999999,113.22566279,126.9772364,107.71282861,143.30248935,151.63742977000001,null,null,null,null,null,"",null,"2019-03-13",1.2311074461,null,"2019-03-13",15.184080195]
[null,null,null,"2019-03-14",134.90124075,112.36246463000001,126.59308439,107.73934781,142.07992884999999,150.37287230000001,null,null,null,null,null,"",null,"2019-03-14",0.34780595834,null,"2019-03-14",14.589365223]
[null,null,null,"2019-03-15",136.97377682999999,112.06774599000001,127.27617964,107.76587345999999,142.99449744,151.37012677000001,null,null,null,null,null,"",null,"2019-03-15",1.5363358177999999,null,"2019-03-15",14.990471441]
[null,null,null,"2019-03-18",137.21356460000001,111.92366131999999,128.3766785,107.79240575999999,143.68146232999999,152.12678,null,null,null,null,null,"",null,"2019-03-18",0.17506108161,null,"2019-03-18",14.805248768]
[null,null,null,"2019-03-19",138.15459289,112.04678822,127.85601527,107.81894452,142.00626002000001,150.3822255,null,null,null,null,null,"",null,"2019-03-19",0.68581287123000001,null,"2019-03-19",14.805751504]
[null,null,null,"2019-03-20",137.30731714000001,111.39709734,125.8699075,107.84548973,139.05975115999999,147.2904369,null,null,null,null,null,"",null,"2019-03-20",-0.61328091087000003,null,"2019-03-20",14.673639525]
[null,null,null,"2019-03-21",137.27514532999999,109.78465891,124.18511808,107.87204158999999,136.43308476000001,144.53628424999999,null,null,null,null,null,"",null,"2019-03-21",-2.3430516831E-2,null,"2019-03-21",14.584047167]
[null,null,null,"2019-03-22",133.92426227999999,106.52965524,120.34138971,107.89859989999999,132.09468705,139.96731184999999,null,null,null,null,null,"",null,"2019-03-22",-2.4409976331999999,null,"2019-03-22",17.344522832999999]
[null,null,null,"2019-03-25",133.12712282000001,106.2847113,120.24747647,107.92516485,132.40573322,140.32406162000001,null,null,null,null,null,{"$f":"IF(O331=\"\",\"\",O331*(-1))","v":""},null,"2019-03-25",-0.59521661314999996,null,"2019-03-25",17.269787102999999]
[null,null,null,"2019-03-26",135.86476943,107.56182542000001,122.3591571,107.95173626,133.96695043,142.0061365,null,null,null,null,null,"",null,"2019-03-26",2.0564153614,null,"2019-03-26",18.036941942999999]
[null,null,null,"2019-03-27",132.50166637999999,103.39515874999999,117.98970715999999,107.97831432,128.44166602000001,136.17564945999999,null,null,null,null,null,"",null,"2019-03-27",-2.4753312123,null,"2019-03-27",21.117036638999998]
[null,null,null,"2019-03-28",133.25489252,106.33579587,121.18074171000001,108.00489881999999,133.05616911999999,141.09532522000001,null,null,null,null,null,"",null,"2019-03-28",0.56846540609999996,null,"2019-03-28",20.963354697]
[null,null,null,"2019-03-29",135.1555888,107.11123336,122.49747852,108.03148998,134.44194945000001,142.59243828000001,null,null,null,null,null,"",null,"2019-03-29",1.4263613456999999,null,"2019-03-29",20.717395406000001]
[null,null,null,"2019-04-01",137.52026623,106.79817667,123.31901076,108.05808759,135.13147993000001,143.35152312,null,null,null,null,null,"",null,"2019-04-01",1.7495964827999999,null,"2019-04-01",20.845929973000001]
[null,null,null,"2019-04-02",137.41045045999999,106.94619092000001,122.46178764,108.08469184,134.09303041999999,142.27744867999999,null,null,null,null,null,"",null,"2019-04-02",-7.9854242813000006E-2,null,"2019-04-02",20.405727205000002]
[null,null,null,"2019-04-03",137.46709576000001,105.54725977,121.31238715000001,108.11130255,132.55954592000001,140.67760157999999,null,null,null,null,null,"",null,"2019-04-03",4.1223429434000002E-2,null,"2019-04-03",19.959263020000002]
[null,null,null,"2019-04-04",138.77137698999999,107.16755737,123.65102584,108.1379199,135.00405606000001,143.29955734000001,null,null,null,null,null,"",null,"2019-04-04",0.94879521603000005,null,"2019-04-04",19.57732167]
[null,null,null,"2019-04-05",139.71986570000001,108.06743161999999,124.67181076999999,108.16454371,136.75720317,145.18853636,null,null,null,null,null,"",null,"2019-04-05",0.68349016527999995,null,"2019-04-05",19.162421303999999]
[null,null,null,"2019-04-08",140.08710263,106.22183799,125.00704829999999,108.19117417,136.76795418,145.22806532999999,null,null,null,null,null,"",null,"2019-04-08",0.26283801780999999,null,"2019-04-08",19.562021731000002]
[null,null,null,"2019-04-09",137.61381578000001,104.77182227,123.62370562,108.21781107,135.05524550999999,143.43718138,null,null,null,null,null,"",null,"2019-04-09",-1.7655350152,null,"2019-04-09",20.389427759]
[null,null,null,"2019-04-10",137.56447494,106.13538719,123.18932959999999,108.24445463000001,134.80516244,143.19929977999999,null,null,null,null,null,"",null,"2019-04-10",-3.5854564429999999E-2,null,"2019-04-10",19.965678150999999]
[null,null,null,"2019-04-11",135.87907604,103.3637221,121.65032075000001,108.27110463,132.74842156,141.04179310000001,null,null,null,null,null,"",null,"2019-04-11",-1.2251701649,null,"2019-04-11",19.011013576]
[null,null,null,"2019-04-12",134.89515076999999,100.68243738,119.23707784,108.29776129,131.01323350999999,139.22515332,null,null,null,null,null,"",null,"2019-04-12",-0.72411830588000003,null,"2019-04-12",19.184770671999999]
[null,null,null,"2019-04-15",134.58714431000001,101.87179084,119.50407903,108.32442439,131.13271628999999,139.37910811,null,null,null,null,null,"",null,"2019-04-15",-0.22833027042000001,null,"2019-04-15",18.866431704]
[null,null,null,"2019-04-16",137.01267949000001,102.76773550999999,121.10932142999999,108.35109414999999,131.99316334,140.32083023000001,null,null,null,null,null,"",null,"2019-04-16",1.8022042067999999,null,"2019-04-16",19.442016913]
[null,null,null,"2019-04-17",136.36192474999999,103.00874985999999,119.76313321000001,108.37777054,130.41691915000001,138.67198413,null,null,null,null,null,"",null,"2019-04-17",-0.47495950375000001,null,"2019-04-17",19.077367301999999]
[null,null,null,"2019-04-18",137.90748862999999,104.90935764,121.42379919,108.40445339999999,132.15968176999999,140.55226920000001,null,null,null,null,null,"",null,"2019-04-18",1.1334277425999999,null,"2019-04-18",19.429423642]
[null,null,null,"2019-04-19",null,null,null,null,null,null,null,null,null,null,null,"",null,"2019-04-19",null,null,"2019-04-19"]
[null,null,null,"2019-04-22",139.29728059999999,105.74111914,121.43638086999999,108.43114289,132.18875836000001,140.61041344,null,null,null,null,null,"",null,"2019-04-22",1.0077712081000001,null,"2019-04-22",18.696943058999999]
[null,null,null,"2019-04-23",141.10069254999999,107.44524782000001,123.15054465,108.45783883999999,134.96056335,143.58660560000001,null,null,null,null,null,"",null,"2019-04-23",1.29464979,null,"2019-04-23",18.614485358]
[null,null,null,"2019-04-24",138.45602363,106.54144399,122.02357292000001,108.48454144,134.59735036999999,143.22790567000001,null,null,null,null,null,"",null,"2019-04-24",-1.8743132048,null,"2019-04-24",19.515461860999999]
[null,null,null,"2019-04-25",138.88825151,107.8984596,123.95781337,108.51125068,136.86422456,145.66833513,null,null,null,null,null,"",null,"2019-04-25",0.31217701107000001,null,"2019-04-25",19.346958721]
[null,null,null,"2019-04-26",138.71438832999999,108.37524886999999,123.55213128,108.53796638,136.27951640000001,145.07409959,null,null,null,null,null,"",null,"2019-04-26",-0.12518206776999999,null,"2019-04-26",18.279067732000001]
[null,null,null,"2019-04-29",137.65865923000001,108.57958712999999,123.49013442,108.56468872000001,135.75296141000001,144.54154643999999,null,null,null,null,null,"",null,"2019-04-29",-0.76108117346000004,null,"2019-04-29",16.332660991000001]
[null,null,null,"2019-04-30",137.93335891999999,108.90050298,123.70271343,108.59141769999999,136.12716975000001,144.96804566,null,null,null,null,null,"",null,"2019-04-30",0.19955133320999999,null,"2019-04-30",15.943195233000001]
[null,null,null,"2019-05-01",null,null,null,null,null,null,null,null,null,null,null,"",null,"2019-05-01",null,null,"2019-05-01"]
[null,null,null,"2019-05-02",136.11895858,106.81258514,122.64263001,108.61815314,136.08905254000001,144.95551527999999,null,null,null,null,null,"",null,"2019-05-02",-1.3154180769999999,null,"2019-05-02",15.903542056999999]
[null,null,null,"2019-05-03",137.23814426000001,108.46824897,123.25922211,108.64489523,136.02137006999999,144.91147701,null,null,null,null,null,"",null,"2019-05-03",0.82221145894000003,null,"2019-05-03",16.183140300000002]
[null,null,null,"2019-05-06",135.30065286000001,107.97967096000001,121.97636595,108.67164396,133.76011571999999,142.53002405000001,null,null,null,null,null,"",null,"2019-05-06",-1.4117732401,null,"2019-05-06",16.652842225000001]
[null,null,null,"2019-05-07",134.67150343,107.78843130999999,121.1804721,108.69839914000001,133.1375347,141.89409355000001,null,null,null,null,null,"",null,"2019-05-07",-0.46500103308000001,null,"2019-05-07",16.263660106]
[null,null,null,"2019-05-08",135.66081237,109.24106675,122.73120245,108.72516097,135.19073263000001,144.11023064,null,null,null,null,null,"",null,"2019-05-08",0.73460897091999999,null,"2019-05-08",16.505342368000001]
[null,null,null,"2019-05-09",134.41231150999999,109.97196898,121.7185571,108.75192945000001,134.26468001000001,143.15079270999999,null,null,null,null,null,"",null,"2019-05-09",-0.92031062385999995,null,"2019-05-09",15.691405422000001]
[null,null,null,"2019-05-10",134.55119012,109.71392643,121.01207019,108.77870437999999,133.16416787,142.00493594,null,null,null,null,null,"",null,"2019-05-10",0.10332283527,null,"2019-05-10",15.707922631000001]
[null,null,null,"2019-05-13",129.91560935999999,107.24483914,117.76263354,108.80548595,130.08192756,138.74492576,null,null,null,null,null,"",null,"2019-05-13",-3.4452172073999998,null,"2019-05-13",19.722321116]
[null,null,null,"2019-05-14",130.02636342,107.64827622,118.23239232,108.83227417000001,130.05957035,138.74794027999999,null,null,null,null,null,"",null,"2019-05-14",8.5250769370999999E-2,null,"2019-05-14",19.247891112000001]
[null,null,null,"2019-05-15",130.31948574,105.83673897,117.63026915,108.85906903,129.18104206999999,137.83740802,null,null,null,null,null,"",null,"2019-05-15",0.22543299218999999,null,"2019-05-15",19.298545856]
[null,null,null,"2019-05-16",130.38753478999999,103.82086346,115.57743997,108.88587035,127.08655048999999,135.62882225999999,null,null,null,null,null,"",null,"2019-05-16",5.2217091616000001E-2,null,"2019-05-16",17.981533911]
[null,null,null,"2019-05-17",130.85245768999999,102.16388976,115.53669074,108.91267831,126.77049531999999,135.31771964999999,null,null,null,null,null,"",null,"2019-05-17",0.35657005392000002,null,"2019-05-17",18.078597195]
[null,null,null,"2019-05-20",132.47751338,106.92523315,118.04463002999999,108.93949292000001,130.50805836999999,139.33425387,null,null,null,null,null,"",null,"2019-05-20",1.241899249,null,"2019-05-20",18.181718991]
[null,null,null,"2019-05-21",135.15337098000001,109.1428272,121.30359281,108.96631417,135.59499492,144.79324839,null,null,null,null,null,"",null,"2019-05-21",2.0198579630000002,null,"2019-05-21",19.239976918]
[null,null,null,"2019-05-22",134.64885896000001,108.57434769,121.14443458,108.99314188,134.90986258000001,144.08953398,null,null,null,null,null,"",null,"2019-05-22",-0.37328852059000001,null,"2019-05-22",18.855570570000001]
[null,null,null,"2019-05-23",133.90951896000001,108.47217856,120.56589563999999,109.01997623,134.94663591,144.15671721999999,null,null,null,null,null,"",null,"2019-05-23",-0.54908746488000004,null,"2019-05-23",18.173083434999999]
[null,null,null,"2019-05-24",133.45986227,107.80545949,120.20355614,109.04681723,134.16547754000001,143.3499965,null,null,null,null,null,"",null,"2019-05-24",-0.33579142572999998,null,"2019-05-24",17.22136939]
[null,null,null,"2019-05-27",136.33392380000001,110.0243634,121.79096594000001,109.07366487,135.49689197999999,144.80058749,null,null,null,null,null,"",null,"2019-05-27",2.1535025389000002,null,"2019-05-27",19.323522802999999]
[null,null,null,"2019-05-28",139.21886330999999,111.54904118,123.75333542,109.10051916,138.64925818,148.19809641000001,null,null,null,null,null,"",null,"2019-05-28",2.1160833873999998,null,"2019-05-28",20.247430218000002]
[null,null,null,"2019-05-29",139.04559354,112.26946452,123.9764548,109.12737989999999,140.24260623999999,149.93020453,null,null,null,null,null,"",null,"2019-05-29",-0.12445854026,null,"2019-05-29",20.065925750000002]
[null,null,null,"2019-05-30",139.16608446999999,114.01943833,125.12011651,109.15424728000001,142.30618867000001,152.16579216,null,null,null,null,null,"",null,"2019-05-30",8.6655692940000001E-2,null,"2019-05-30",20.059322210000001]
[null,null,null,"2019-05-31",137.42401380999999,115.39741171,124.57186346,109.18112130999999,142.06306931,151.93524202,null,null,null,null,null,"",null,"2019-05-31",-1.2517925354999999,null,"2019-05-31",20.065480379]
[null,null,null,"2019-06-03",137.57101402999999,114.70449544,124.55923043,109.20800199,142.21199519000001,152.12396711,null,null,null,null,null,"",null,"2019-06-03",0.10696836615999999,null,"2019-06-03",19.821397229999999]
[null,null,null,"2019-06-04",137.13630731999999,117.01770931,125.02115775999999,109.23488931,142.50520445999999,152.46712922,null,null,null,null,null,"",null,"2019-06-04",-0.31598713940000001,null,"2019-06-04",19.396023591999999]
[null,null,null,"2019-06-05",134.29787368000001,116.50031436,123.24748777000001,109.26178328,140.02453184000001,149.84205184000001,null,null,null,null,null,"",null,"2019-06-05",-2.0697900468000001,null,"2019-06-05",20.138165255000001]
[null,null,null,"2019-06-06",135.85794283999999,118.15990778,124.79593288,109.28868389,142.68284041999999,152.71630683999999,null,null,null,null,null,"",null,"2019-06-06",1.1616484448,null,"2019-06-06",20.004121255000001]
[null,null,null,"2019-06-07",136.52772712000001,122.00696845,125.5873076,109.31559095,143.05521619000001,153.14451581,null,null,null,null,null,"",null,"2019-06-07",0.49300339888,null,"2019-06-07",19.990559053999998]
[null,null,null,"2019-06-10",136.10181663,121.42015089,125.13209478,109.34250466,141.73736267999999,151.76309791,null,null,null,null,null,"",null,"2019-06-10",-0.31195896399,null,"2019-06-10",20.549114954]
[null,null,null,"2019-06-11",138.77995508999999,121.76202452,127.04927293,109.36942501,142.84984753000001,152.98389055000001,null,null,null,null,null,"",null,"2019-06-11",1.9677462984,null,"2019-06-11",21.030872928000001]
[null,null,null,"2019-06-12",137.8368724,121.34286911,126.22874209,109.39635201,141.84804918,151.94043730000001,null,null,null,null,null,"",null,"2019-06-12",-0.67955252998000004,null,"2019-06-12",20.740243512999999]
[null,null,null,"2019-06-13",138.34414240999999,124.57429528999999,126.81009266,109.42328566,140.46556745999999,150.48872655,null,null,null,null,null,"",null,"2019-06-13",0.36802199666000002,null,"2019-06-13",16.760401235]
[null,null,null,"2019-06-14",137.36744583000001,125.47285968,125.86821282,109.45022595,138.45464053000001,148.36302856,null,null,null,null,null,"",null,"2019-06-14",-0.70599054997999999,null,"2019-06-14",17.052407004999999]
[null,null,null,"2019-06-17",136.66715991999999,125.01178874,125.33309351,109.47717288,138.28665605,148.21171516999999,null,null,null,null,null,"",null,"2019-06-17",-0.50979030183999996,null,"2019-06-17",18.010761715000001]
[null,null,null,"2019-06-18",139.40437990999999,127.30535471,127.61980068,109.50412645999999,142.20063332999999,152.43611555999999,null,null,null,null,null,"",null,"2019-06-18",2.0028366669,null,"2019-06-18",18.550747997999999]
[null,null,null,"2019-06-19",140.60973085000001,127.86335533,128.77400276,109.53108668,143.30664314000001,153.65148088999999,null,null,null,null,null,"",null,"2019-06-19",0.86464352553000001,null,"2019-06-19",18.237624226000001]
[null,null,null,"2019-06-20",null,null,null,null,null,null,null,null,null,null,null,"",null,"2019-06-20",null,null,"2019-06-20"]
[null,null,null,"2019-06-21",142.27547182000001,130.87603479000001,130.96838865999999,109.55805355,146.99093983,157.63225141000001,null,null,null,null,null,{"$f":"IF(O395=\"\",\"\",O395*(-1))","v":""},null,"2019-06-21",1.1846555395,null,"2019-06-21",17.674511501000001]
[null,null,null,"2019-06-24",142.40329412,131.53227497,131.03218290999999,109.58502706,147.31444740000001,158.00976867,null,null,null,null,null,"",null,"2019-06-24",8.9841418229999997E-2,null,"2019-06-24",18.036655687]
[null,null,null,"2019-06-25",140.04119632000001,128.56806036,128.50380480000001,109.61200722,144.73347276999999,155.27146963999999,null,null,null,null,null,"",null,"2019-06-25",-1.6587381753999999,null,"2019-06-25",18.852186693]
[null,null,null,"2019-06-26",140.42764998999999,129.6879912,129.26856541999999,109.63899402,146.56334297999999,157.26501751000001,null,null,null,null,null,"",null,"2019-06-26",0.27595713746,null,"2019-06-26",18.419383031999999]
[null,null,null,"2019-06-27",141.04879886000001,129.79278005,129.31393649,109.66598746,146.77213241000001,157.51954688999999,null,null,null,null,null,"",null,"2019-06-27",0.44232660784,null,"2019-06-27",17.232874271]
[null,null,null,"2019-06-28",141.65102223,132.70460023000001,129.62620604,109.69298755,146.67048653000001,157.44093744,null,null,null,null,null,"",null,"2019-06-28",0.42696100735999998,null,"2019-06-28",15.914813181]
[null,null,null,"2019-07-01",143.88930807,131.46154249,130.10441252000001,109.71999429,147.20107315000001,158.04108226,null,null,null,null,null,"",null,"2019-07-01",1.5801409731,null,"2019-07-01",16.664283029]
[null,null,null,"2019-07-02",141.54205335,132.11254323,129.16141574,109.74700767,146.24948688000001,157.04982415000001,null,null,null,null,null,"",null,"2019-07-02",-1.6312919606,null,"2019-07-02",17.45383777]
[null,null,null,"2019-07-03",142.97401006999999,134.27512313,131.00750740999999,109.7740277,148.66235485999999,159.67179067999999,null,null,null,null,null,"",null,"2019-07-03",1.0116828745999999,null,"2019-07-03",17.696321329]
[null,null,null,"2019-07-04",146.00109857999999,136.06177303000001,133.05274907,109.80105437,151.64698092,162.90898618,null,null,null,null,null,"",null,"2019-07-04",2.1172299147999998,null,"2019-07-04",18.726768211]
[null,null,null,"2019-07-05",147.49160171,138.14052185,133.63471587999999,109.82808768,153.22139254999999,164.63219253,null,null,null,null,null,"",null,"2019-07-05",1.0208848707,null,"2019-07-05",16.817196414000001]
[null,null,null,"2019-07-08",151.53475911000001,140.70260923999999,134.20057044000001,109.85512764000001,153.07637613,164.50822400000001,null,null,null,null,null,"",null,"2019-07-08",2.7412797454,null,"2019-07-08",18.799710245]
[null,null,null,"2019-07-09",null,null,null,109.88217425000001,null,null,null,null,null,null,null,"",null,"2019-07-09",null,null,"2019-07-09"]
[null,null,null,"2019-07-10",154.27021962000001,144.66493765000001,135.85267317,109.9092275,154.14634563999999,165.69017602,null,null,null,null,null,"",null,"2019-07-10",1.8051703315000001,null,"2019-07-10",19.029769598000001]
[null,null,null,"2019-07-11",153.90144373000001,142.38709001000001,134.99170122999999,109.93628739,152.43070487,163.87777862999999,null,null,null,null,null,"",null,"2019-07-11",-0.23904542231000001,null,"2019-07-11",18.615511874999999]
[null,null,null,"2019-07-12",152.59131016000001,140.27559468000001,133.39915604999999,109.96335393,149.39110208,160.64101005000001,null,null,null,null,null,"",null,"2019-07-12",-0.85128088385,null,"2019-07-12",18.764979399000001]
[null,null,null,"2019-07-15",151.70023001999999,138.9604946,133.26653489,109.99042711,148.84952010999999,160.08963646000001,null,null,null,null,null,"",null,"2019-07-15",-0.58396518743000003,null,"2019-07-15",19.146277007999998]
[null,null,null,"2019-07-16",151.98050845,139.23032588999999,133.23151161000001,110.01750694,149.70911197000001,161.04531617000001,null,null,null,null,null,"",null,"2019-07-16",0.18475807700999999,null,"2019-07-16",18.698035357999998]
[null,null,null,"2019-07-17",151.40101884000001,140.26511579000001,133.33437325,110.0445936,149.84777552,161.2256917,null,null,null,null,null,"",null,"2019-07-17",-0.38129206105000002,null,"2019-07-17",18.614763999000001]
[null,null,null,"2019-07-18",152.06926768,141.14665199999999,134.43984058000001,110.07168691,151.85271610000001,163.41450298999999,null,null,null,null,null,"",null,"2019-07-18",0.44137671520999999,null,"2019-07-18",17.827102522000001]
[null,null,null,"2019-07-19",151.94040057999999,138.5478885,132.81621351999999,110.09878686,149.11230893000001,160.49651725000001,null,null,null,null,null,"",null,"2019-07-19",-8.4742373474000002E-2,null,"2019-07-19",17.842515579000001]
[null,null,null,"2019-07-22",151.70662328,137.34674630999999,133.45496478000001,110.12589346,151.09220454000001,162.6590607,null,null,null,null,null,"",null,"2019-07-22",-0.15386118374999999,null,"2019-07-22",17.693642574999998]
[null,null,null,"2019-07-23",151.67166677,137.46856334,133.14019173,110.15300670000001,150.87694006999999,162.45876755,null,null,null,null,null,"",null,"2019-07-23",-2.3042176963E-2,null,"2019-07-23",17.306335352000001]
[null,null,null,"2019-07-24",151.19031193000001,137.79340877999999,133.67332109,110.18012659,153.03251691,164.8117202,null,null,null,null,null,"",null,"2019-07-24",-0.31736635137000002,null,"2019-07-24",17.421528244000001]
[null,null,null,"2019-07-25",149.69404187999999,136.61584407000001,131.79253994000001,110.20725312,148.39883302999999,159.85231916999999,null,null,null,null,null,"",null,"2019-07-25",-0.98966000987000002,null,"2019-07-25",16.640444640999998]
[null,null,null,"2019-07-26",150.20531625000001,139.17138216999999,132.00353981999999,110.23438649000001,148.71537687,160.22431232,null,null,null,null,null,"",null,"2019-07-26",0.34154623881000001,null,"2019-07-26",16.639940109000001]
[null,null,null,"2019-07-29",150.26477636000001,141.67583569000001,132.85562755000001,110.2615265,149.33698053000001,160.92517526,null,null,null,null,null,"",null,"2019-07-29",3.9585893683000001E-2,null,"2019-07-29",17.065759792000001]
[null,null,null,"2019-07-30",153.11622442999999,144.14492297999999,132.14967985999999,110.28867314999999,147.72200828999999,159.21570806,null,null,null,null,null,"",null,"2019-07-30",1.8976157515000001,null,"2019-07-30",17.494881672000002]
[null,null,null,"2019-07-31",152.67542692999999,144.13575395999999,130.71096496000001,110.31582645,144.83145354000001,156.13047577,null,null,null,null,null,"",null,"2019-07-31",-0.28788425125,null,"2019-07-31",17.230955634000001]
[null,null,null,"2019-08-01",152.32033017000001,146.24069999,131.11384827000001,110.34092406000001,145.26625845000001,156.62952436,null,null,null,null,null,"",null,"2019-08-01",-0.23258278506999999,null,"2019-08-01",16.785025348000001]
[null,null,null,"2019-08-02",152.75449598,146.29178454999999,131.81706137,110.36602736,145.29753410999999,156.69358130000001,null,null,null,null,null,"",null,"2019-08-02",0.28503470858000002,null,"2019-08-02",15.436973833]
[null,null,null,"2019-08-05",148.83955657000001,142.58356911000001,128.50996726,110.39113635,142.27650123000001,153.46531110999999,null,null,null,null,null,"",null,"2019-08-05",-2.5628963571000001,null,"2019-08-05",17.284520248]
[null,null,null,"2019-08-06",151.49609533,146.36906633000001,131.16231341,110.41625104000001,146.13428006999999,157.65699201000001,null,null,null,null,null,"",null,"2019-08-06",1.7848338296999999,null,"2019-08-06",17.846018094000001]
[null,null,null,"2019-08-07",152.64295731000001,148.46615320000001,131.95660244999999,110.44137143,149.24767387,161.04705501000001,null,null,null,null,null,"",null,"2019-08-07",0.75702412249999995,null,"2019-08-07",17.558389419000001]
[null,null,null,"2019-08-08",156.33835593000001,150.94440951000001,133.66778772000001,110.46649751,151.45651706000001,163.46217240999999,null,null,null,null,null,"",null,"2019-08-08",2.4209427579999998,null,"2019-08-08",17.062606805000001]
[null,null,null,"2019-08-09",156.16129647,149.48260504999999,133.51492033,110.49162929000001,151.12372454000001,163.13458180000001,null,null,null,null,null,"",null,"2019-08-09",-0.11325401409999999,null,"2019-08-09",16.707992072]
[null,null,null,"2019-08-12",154.61827632999999,147.58592686,130.84331650999999,110.51676676,146.85386449999999,158.55606151999999,null,null,null,null,null,"",null,"2019-08-12",-0.98809383098000003,null,"2019-08-12",16.535798919000001]
[null,null,null,"2019-08-13",158.59920607999999,147.24143351000001,132.62047856000001,110.54190993,149.61406328999999,161.56748786,null,null,null,null,null,"",null,"2019-08-13",2.5746825295,null,"2019-08-13",18.116604330000001]
[null,null,null,"2019-08-14",156.00139738999999,143.25683746999999,128.71571621000001,110.56705898,145.85402088000001,157.53753479,null,null,null,null,null,"",null,"2019-08-14",-1.6379708039,null,"2019-08-14",18.679556531999999]
[null,null,null,"2019-08-15",150.19469828000001,140.20093262,127.17369032000001,110.59221373,144.96999492,156.61301386,null,null,null,null,null,"",null,"2019-08-15",-3.7222096782,null,"2019-08-15",22.464894428000001]
[null,null,null,"2019-08-16",148.64845402,141.12700409000001,128.13512312,110.61737417000001,146.01394210000001,157.77134731999999,null,null,null,null,null,"",null,"2019-08-16",-1.0294932375000001,null,"2019-08-16",22.675186331999999]
[null,null,null,"2019-08-19",146.74183472999999,140.10007335,127.70232622,110.64254031,145.30278744,157.03332928,null,null,null,null,null,"",null,"2019-08-19",-1.2826364718000001,null,"2019-08-19",23.970889179]
[null,null,null,"2019-08-20",147.68189326000001,138.87797337999999,127.3859612,110.66771215,144.89009539,156.61763998000001,null,null,null,null,null,"",null,"2019-08-20",0.64062067049000004,null,"2019-08-20",23.570305175000001]
[null,null,null,"2019-08-21",151.67455311000001,143.4323588,129.92752440000001,110.69288967999999,147.29099066000001,159.2436945,null,null,null,null,null,"",null,"2019-08-21",2.7035540805,null,"2019-08-21",24.766618049000002]
[null,null,null,"2019-08-22",150.0675847,142.61500576,128.39895319999999,110.7180731,145.63545780000001,157.48430256,null,null,null,null,null,"",null,"2019-08-22",-1.0594845166,null,"2019-08-22",25.000168859999999]
[null,null,null,"2019-08-23",146.06993990000001,139.36917112,125.3898908,110.74326221,142.15408636000001,153.74945291,null,null,null,null,null,"",null,"2019-08-23",-2.663896276,null,"2019-08-23",26.432794525999999]
[null,null,null,"2019-08-26",143.16344196,135.60856125000001,123.80063226,110.76845701000001,140.00681711999999,151.45635394999999,null,null,null,null,null,"",null,"2019-08-26",-1.9897988203999999,null,"2019-08-26",28.168165412]
[null,null,null,"2019-08-27",144.54386009999999,138.06062034999999,124.88752236000001,110.79365752,141.69692423000001,153.31435596,null,null,null,null,null,"",null,"2019-08-27",0.96422530968999998,null,"2019-08-27",27.799603080000001]
[null,null,null,"2019-08-28",147.55707942999999,139.01419888999999,126.06524447,110.81886372,142.55346182,154.27098504,null,null,null,null,null,"",null,"2019-08-28",2.0846401404999999,null,"2019-08-28",28.137186566]
[null,null,null,"2019-08-29",150.33377222999999,142.11070942000001,129.05775811999999,110.8440758,144.77892021,156.70970821,null,null,null,null,null,"",null,"2019-08-29",1.8817753842,null,"2019-08-29",28.83176383]
[null,null,null,"2019-08-30",151.35544851,143.36817563,129.84113449,110.86929358,146.53988623000001,158.64650291999999,null,null,null,null,null,"",null,"2019-08-30",0.67960529594999997,null,"2019-08-30",28.230172001]
[null,null,null,"2019-09-02",151.87272558000001,145.60148799999999,129.18782443000001,110.89451705,144.55229387,156.52500473000001,null,null,null,null,null,"",null,"2019-09-02",0.34176310327999998,null,"2019-09-02",29.531762565000001]
[null,null,null,"2019-09-03",150.17072064000001,142.46437179,127.97470671000001,110.91974621999999,142.28798526,154.10298539999999,null,null,null,null,null,"",null,"2019-09-03",-1.1206784746,null,"2019-09-03",29.080911864000001]
[null,null,null,"2019-09-04",151.98695372,139.72021376999999,129.92622771000001,110.94498109,144.09439872999999,156.08961375000001,null,null,null,null,null,"",null,"2019-09-04",1.2094455389000001,null,"2019-09-04",28.741840413999999]
[null,null,null,"2019-09-05",152.64780951,140.63580635,131.26413513,110.97022183999999,146.99155069,159.25877206000001,null,null,null,null,null,"",null,"2019-09-05",0.43481086304,null,"2019-09-05",27.411312719000001]
[null,null,null,"2019-09-06",152.83601425000001,138.84522687,132.15310772999999,110.99546829000001,150.42869639,163.01432417000001,null,null,null,null,null,"",null,"2019-09-06",0.12329344808000001,null,"2019-09-06",26.831458488999999]
[null,null,null,"2019-09-09",152.99138801000001,134.02624961000001,132.46785510000001,111.02072043,150.60278940000001,163.23458375000001,null,null,null,null,null,"",null,"2019-09-09",0.10166043284,null,"2019-09-09",26.664050402000001]
[null,null,null,"2019-09-10",152.39467137,135.29419469999999,132.27644669,111.04597827000001,149.13955295,161.67991860000001,null,null,null,null,null,"",null,"2019-09-10",-0.39003282673,null,"2019-09-10",26.069028545999998]
[null,null,null,"2019-09-11",154.34077454000001,141.01435606999999,132.80808678,111.07124199,149.50740841999999,162.11008849000001,null,null,null,null,null,"",null,"2019-09-11",1.2770152345000001,null,"2019-09-11",25.884406384999998]
[null,null,null,"2019-09-12",155.47680381000001,139.49884732000001,133.99604113999999,111.09651141000001,149.73525645999999,162.38858020000001,null,null,null,null,null,"",null,"2019-09-12",0.73605259203999995,null,"2019-09-12",25.799228771999999]
[null,null,null,"2019-09-13",155.63778163999999,136.50319605999999,132.87944286999999,111.12178652,148.50463271000001,161.08514799,null,null,null,null,null,"",null,"2019-09-13",0.1035381596,null,"2019-09-13",24.359132812999999]
[null,null,null,"2019-09-16",155.15051731,135.96484333999999,133.10954636,111.14706751999999,147.74839711999999,160.29588036000001,null,null,null,null,null,"",null,"2019-09-16",-0.31307586451000002,null,"2019-09-16",20.595930430999999]
[null,null,null,"2019-09-17",156.41836848,140.31358064,134.31180273999999,111.17235422,150.15393487,162.93725111000001,null,null,null,null,null,"",null,"2019-09-17",0.81717495650000005,null,"2019-09-17",20.223235110000001]
[null,null,null,"2019-09-18",158.07425418,141.14141255000001,134.20276580999999,111.19764661000001,151.22170531,164.12769987999999,null,null,null,null,null,"",null,"2019-09-18",1.0586261161999999,null,"2019-09-18",19.956695171]
[null,null,null,"2019-09-19",157.99949119999999,144.53526145000001,133.95527906999999,111.22085595999999,149.56971539,162.36615408,null,null,null,null,null,{"$f":"IF(O459=\"\",\"\",O459*(-1))","v":""},null,"2019-09-19",-4.7296110006000001E-2,null,"2019-09-19",19.287657707000001]
[null,null,null,"2019-09-20",159.90944784999999,145.61720632999999,134.56926496,111.24407024999999,150.89612084000001,163.83775800999999,null,null,null,null,null,"",null,"2019-09-20",1.2088372108000001,null,"2019-09-20",19.474320076000001]
[null,null,null,"2019-09-23",159.14725318999999,144.91905061,134.33871213,111.26728928999999,150.33450291,163.25957872000001,null,null,null,null,null,"",null,"2019-09-23",-0.47664141674999999,null,"2019-09-23",14.920378035000001]
[null,null,null,"2019-09-24",156.63457381000001,144.48286701999999,133.36021704000001,111.29051327000001,148.53468666000001,161.33625602999999,null,null,null,null,null,"",null,"2019-09-24",-1.5788393002000001,null,"2019-09-24",16.006965847]
[null,null,null,"2019-09-25",157.83438459000001,142.73551294000001,134.13735392000001,111.31374199,149.16875171000001,162.05634140999999,null,null,null,null,null,"",null,"2019-09-25",0.76599358034999998,null,"2019-09-25",15.721462174999999]
[null,null,null,"2019-09-26",157.91466926999999,144.17897936,135.21375501,111.33697564000001,151.59151550000001,164.72031111000001,null,null,null,null,null,"",null,"2019-09-26",5.0866404307999998E-2,null,"2019-09-26",13.627264283000001]
[null,null,null,"2019-09-27",157.13740612000001,143.56989415999999,134.90335987,111.36021404,151.20875523000001,164.33621568999999,null,null,null,null,null,"",null,"2019-09-27",-0.49220452229,null,"2019-09-27",13.814881099000001]
[null,null,null,"2019-09-30",157.3722291,144.45274022999999,134.47672544,111.38345738,149.60160189999999,162.62101675,null,null,null,null,null,"",null,"2019-09-30",0.14943798815000001,null,"2019-09-30",11.778242019]
[null,null,null,"2019-10-01",155.83092529999999,143.42842922,133.58840760000001,111.40670547000001,147.69109914000001,160.57533447,null,null,null,null,null,"",null,"2019-10-01",-0.97940012183000003,null,"2019-10-01",12.140223892]
[null,null,null,"2019-10-02",150.99687840000001,140.39217227,129.70868023,111.42995849,143.57896126,156.13468961999999,null,null,null,null,null,"",null,"2019-10-02",-3.1021101152999999,null,"2019-10-02",16.249503704999999]
[null,null,null,"2019-10-03",150.01907869999999,142.55475217,130.33083138000001,111.45321645,144.03087005,156.65644463999999,null,null,null,null,null,"",null,"2019-10-03",-0.64756285792000001,null,"2019-10-03",15.953085749]
[null,null,null,"2019-10-04",150.21350573999999,144.44750078999999,131.65997013,111.47647915,145.04146467999999,157.78617309000001,null,null,null,null,null,"",null,"2019-10-04",0.12960154290000001,null,"2019-10-04",15.408645125]
[null,null,null,"2019-10-07",146.39208690000001,141.28549722,129.11981917,111.49974679,141.6220337,154.09611065000001,null,null,null,null,null,"",null,"2019-10-07",-2.5439915151000001,null,"2019-10-07",17.779896024999999]
[null,null,null,"2019-10-08",144.84450003000001,141.01697579,128.36059191999999,111.52301918000001,141.25698815000001,153.72867267000001,null,null,null,null,null,"",null,"2019-10-08",-1.0571519938,null,"2019-10-08",17.601079031000001]
[null,null,null,"2019-10-09",147.61721120000001,142.87697789000001,129.98771103999999,111.5462965,144.27472243,157.04324742,null,null,null,null,null,"",null,"2019-10-09",1.9142674832,null,"2019-10-09",18.953192570999999]
[null,null,null,"2019-10-10",148.28669794000001,142.35303364000001,130.71738418000001,111.56957876,145.12539583,157.99979432999999,null,null,null,null,null,"",null,"2019-10-10",0.45352891793,null,"2019-10-10",19.041782694999998]
[null,null,null,"2019-10-11",152.98079197999999,144.34009220999999,133.30406167000001,111.59286576,147.81155928999999,160.95541320000001,null,null,null,null,null,"",null,"2019-10-11",3.1655530169000001,null,"2019-10-11",21.421424242000001]
[null,null,null,"2019-10-14",153.91569127,145.67615006,133.90703217999999,111.6161577,149.34602115000001,162.6578135,null,null,null,null,null,"",null,"2019-10-14",0.61112201038000002,null,"2019-10-14",21.870544851999998]
[null,null,null,"2019-10-15",153.3841822,146.12543224999999,134.14836930999999,111.63945439,148.84793189999999,162.14671808,null,null,null,null,null,"",null,"2019-10-15",-0.34532481559,null,"2019-10-15",21.389650688]
[null,null,null,"2019-10-16",153.71525252999999,148.58535051999999,135.34650454999999,111.66275601,151.11822687,164.65172749000001,null,null,null,null,null,"",null,"2019-10-16",0.21584385885999999,null,"2019-10-16",21.391150778]
[null,null,null,"2019-10-17",153.39682227,149.25337944,134.82394124000001,111.68606257,151.09305974,164.65618279,null,null,null,null,null,"",null,"2019-10-17",-0.20715593064000001,null,"2019-10-17",21.188571519]
[null,null,null,"2019-10-18",152.49691666999999,149.83757728,134.45563186999999,111.70937388,150.96502502000001,164.54851026,null,null,null,null,null,"",null,"2019-10-18",-0.58665204651000002,null,"2019-10-18",20.868197613]
[null,null,null,"2019-10-21",154.09470059,150.33532432000001,136.11614377999999,111.73269012,152.90888032999999,166.69954107000001,null,null,null,null,null,"",null,"2019-10-21",1.0477483406999999,null,"2019-10-21",21.239134339]
[null,null,null,"2019-10-22",155.39453563999999,150.74007126000001,137.8606705,111.75601109999999,156.18280621,170.30170745000001,null,null,null,null,null,"",null,"2019-10-22",0.84353001766000002,null,"2019-10-22",21.021206935999999]
[null,null,null,"2019-10-23",156.65258564000001,149.10143561000001,138.06926958,111.77933702999999,157.68990187,171.97833813,null,null,null,null,null,"",null,"2019-10-23",0.80958444941999996,null,"2019-10-23",21.206009011999999]
[null,null,null,"2019-10-24",156.25960950999999,148.33123756000001,137.35360319,111.80266789,157.88207611999999,172.22126631,null,null,null,null,null,"",null,"2019-10-24",-0.25085837114999998,null,"2019-10-24",20.55910196]
[null,null,null,"2019-10-25",157.41454139000001,148.39411086999999,137.83840863,111.82600349000001,158.63195883,173.07276066,null,null,null,null,null,"",null,"2019-10-25",0.73911094314000003,null,"2019-10-25",20.547782451]
[null,null,null,"2019-10-28",158.65818049000001,150.09823954999999,138.89538514,111.84934404000001,160.83200575000001,175.50706220000001,null,null,null,null,null,"",null,"2019-10-28",0.79004080180000003,null,"2019-10-28",21.125906216000001]
[null,null,null,"2019-10-29",158.85689976,149.00843549999999,138.0855359,111.87268951,158.869214,173.39874505,null,null,null,null,null,"",null,"2019-10-29",0.12524993216999999,null,"2019-10-29",20.641854144]
[null,null,null,"2019-10-30",160.25568018999999,151.663523,139.17844722999999,111.89603974000001,159.79343406999999,174.44126112000001,null,null,null,null,null,"",null,"2019-10-30",0.88052859573999998,null,"2019-10-30",20.821490491999999]
[null,null,null,"2019-10-31",157.77923046999999,151.88226972999999,137.65361202,111.91728301000001,156.94234040000001,171.36198998,null,null,null,null,null,"",null,"2019-10-31",-1.5453116626000001,null,"2019-10-31",21.044460929]
[null,null,null,"2019-11-01",159.58506191999999,155.07570994,138.90638769,111.93853025999999,157.48783182,171.99089665,null,null,null,null,null,"",null,"2019-11-01",1.1445305216999999,null,"2019-11-01",21.066034860999999]
[null,null,null,"2019-11-04",161.56742474999999,157.03133187,139.65576784999999,111.95978169,157.71360296,172.27080949,null,null,null,null,null,"",null,"2019-11-04",1.2421982383000001,null,"2019-11-04",18.775497224999999]
[null,null,null,"2019-11-05",161.94370039,153.80252540999999,139.57833918,111.98103711,159.04758297999999,173.76155693000001,null,null,null,null,null,"",null,"2019-11-05",0.23289078707999999,null,"2019-11-05",18.347715836999999]
[null,null,null,"2019-11-06",162.48922354999999,154.88970972999999,139.11769569000001,112.00229652,157.90394463999999,172.54552075999999,null,null,null,null,null,"",null,"2019-11-06",0.33685975703999999,null,"2019-11-06",17.944428868999999]
[null,null,null,"2019-11-07",164.55856562,155.41365399,140.68443558999999,112.0235601,158.12702802999999,172.82274674000001,null,null,null,null,null,"",null,"2019-11-07",1.2735257302,null,"2019-11-07",15.198755983]
[null,null,null,"2019-11-08",162.93468177,152.8279891,138.17889708000001,112.04482767,155.38075667999999,169.85413004,null,null,null,null,null,"",null,"2019-11-08",-0.98681210729000002,null,"2019-11-08",15.119789703]
[null,null,null,"2019-11-11",163.08347928000001,153.99376505999999,139.12696505,112.06609923000001,156.90055806999999,171.54870821,null,null,null,null,null,"",null,"2019-11-11",9.1323410743000002E-2,null,"2019-11-11",11.714214267999999]
[null,null,null,"2019-11-12",159.63303317,151.47097349000001,137.05184833000001,112.08737477,154.83893037000001,169.32738867,null,null,null,null,null,"",null,"2019-11-12",-2.1157545359999999,null,"2019-11-12",14.008587226]
[null,null,null,"2019-11-13",158.90708977,150.37854972,136.16450621000001,112.10865449000001,153.58240647,167.98581125000001,null,null,null,null,null,"",null,"2019-11-13",-0.45475763036,null,"2019-11-13",13.860962747]
[null,null,null,"2019-11-14",160.50654725999999,155.06523106,136.80248717000001,112.1299382,154.85896633999999,169.41488816,null,null,null,null,null,"",null,"2019-11-14",1.0065362694,null,"2019-11-14",14.055429219000001]
[null,null,null,"2019-11-15",null,null,null,null,null,null,null,null,null,null,null,"",null,"2019-11-15",null,null,"2019-11-15"]
[null,null,null,"2019-11-18",160.56427013000001,153.99114534,136.43321491,112.15122589000001,153.40892431,167.86104660000001,null,null,null,null,null,"",null,"2019-11-18",3.5962933179999997E-2,null,"2019-11-18",14.597844905000001]
[null,null,null,"2019-11-19",159.81888262999999,153.19605994,135.91316792999999,112.17251757,152.41860998999999,166.8097314,null,null,null,null,null,"",null,"2019-11-19",-0.46422999138999999,null,"2019-11-19",14.454225734]
[null,null,null,"2019-11-20",null,null,null,112.19381343000001,null,null,null,null,null,null,null,"",null,"2019-11-20",null,null,"2019-11-20"]
[null,null,null,"2019-11-21",160.93177858000001,156.66195117000001,138.00910862000001,112.21511328,154.44835119000001,169.0638471,null,null,null,null,null,"",null,"2019-11-21",0.69634822411999997,null,"2019-11-21",14.264092354000001]
[null,null,null,"2019-11-22",163.28045526,156.91344441000001,139.54400917000001,112.23641711,155.96118887,170.75290165000001,null,null,null,null,null,"",null,"2019-11-22",1.4594238013,null,"2019-11-22",14.729405155]
[null,null,null,"2019-11-25",162.79186411000001,156.51000733999999,139.19948944000001,112.25772511,153.69553637999999,168.30495221000001,null,null,null,null,null,"",null,"2019-11-25",-0.29923431630000003,null,"2019-11-25",15.229322409]
[null,null,null,"2019-11-26",161.54031459999999,154.93817458000001,137.44764481000001,112.27903711,150.45532957,164.78865185999999,null,null,null,null,null,"",null,"2019-11-26",-0.76880347587999998,null,"2019-11-26",15.202167553000001]
[null,null,null,"2019-11-27",162.00351843000001,152.60269306999999,138.28002552999999,112.30035309,152.37328472999999,166.92163837000001,null,null,null,null,null,"",null,"2019-11-27",0.28674194236,null,"2019-11-27",14.845283971000001]
[null,null,null,"2019-11-28",163.94141590999999,155.41889343,139.02765966000001,112.32167325,152.99000156,167.62969027,null,null,null,null,null,"",null,"2019-11-28",1.1962070301000001,null,"2019-11-28",15.116408931]
[null,null,null,"2019-11-29",166.26060093999999,154.91459709,138.95472444999999,112.34299738999999,153.26891688000001,167.96781253,null,null,null,null,null,"",null,"2019-11-29",1.4146425507,null,"2019-11-29",15.693029542]
[null,null,null,"2019-12-02",166.71809271999999,156.33710572999999,139.84641879,112.36432551999999,153.83884241000001,168.62504006,null,null,null,null,null,"",null,"2019-12-02",0.27516548233999999,null,"2019-12-02",14.608713984]
[null,null,null,"2019-12-03",167.22393855000001,159.14675679000001,139.88261037000001,112.38565783,154.74168263000001,169.6474992,null,null,null,null,null,"",null,"2019-12-03",0.30341387774,null,"2019-12-03",14.241041275000001]
[null,null,null,"2019-12-04",171.49741943000001,160.25489888000001,141.60926597,112.40699413,158.03491145000001,173.29150321,null,null,null,null,null,"",null,"2019-12-04",2.5555437322999999,null,"2019-12-04",15.974887184]
[null,null,null,"2019-12-05",172.66656556000001,161.13774494,142.02181662999999,112.42833441000001,158.19324445999999,173.49870973,null,null,null,null,null,"",null,"2019-12-05",0.68172811642999998,null,"2019-12-05",16.026473094]
[null,null,null,"2019-12-06",174.79563748000001,164.21198784000001,142.66820677000001,112.44967887,157.21661323999999,172.46097502000001,null,null,null,null,null,"",null,"2019-12-06",1.2330539581,null,"2019-12-06",16.329882145999999]
[null,null,null,"2019-12-09",174.58196860000001,164.18841035,142.47753015000001,112.47102732,157.41220826,172.70897098,null,null,null,null,null,"",null,"2019-12-09",-0.12223925141,null,"2019-12-09",15.769629986]
[null,null,null,"2019-12-10",174.07269388,165.26904536999999,142.08567507000001,112.49237975,155.89533895,171.07781714000001,null,null,null,null,null,"",null,"2019-12-10",-0.29171094920000001,null,"2019-12-10",15.536760943000001]
[null,null,null,"2019-12-11",176.65851794,166.81206119999999,142.46037798,112.51373636,155.0970767,170.23476926000001,null,null,null,null,null,"",null,"2019-12-11",1.4854851705000001,null,"2019-12-11",15.998503355]
[null,null,null,"2019-12-12",178.16771510999999,169.82736037000001,144.04704315000001,112.53296342,156.37168184999999,171.66701119000001,null,null,null,null,null,"",null,"2019-12-12",0.85430195559,null,"2019-12-12",13.103710908]
[null,null,null,"2019-12-13",180.32518112,173.44388556999999,144.51580053000001,112.55219371,157.12791743,172.53061787999999,null,null,null,null,null,"",null,"2019-12-13",1.2109186071,null,"2019-12-13",12.753084318000001]
[null,null,null,"2019-12-16",179.59964600000001,175.45059205999999,143.65713951000001,112.57142722,155.26200692,170.51480916,null,null,null,null,null,"",null,"2019-12-16",-0.40234820271999999,null,"2019-12-16",13.160047451000001]
[null,null,null,"2019-12-17",180.54342208,173.87482972000001,144.58101984999999,112.59066396999999,158.24724383,173.82696479000001,null,null,null,null,null,"",null,"2019-12-17",0.52548883014000003,null,"2019-12-17",12.843529160999999]
[null,null,null,"2019-12-18",181.2867622,175.14539453,146.76225918,112.60990413,161.35770554000001,177.27797673000001,null,null,null,null,null,{"$f":"IF(O523=\"\",\"\",O523*(-1))","v":""},null,"2019-12-18",0.41172373622000003,null,"2019-12-18",12.721860614000001]
[null,null,null,"2019-12-19",181.54346498000001,176.93466415,147.81064677000001,112.62914752,162.45577427000001,178.51894583999999,null,null,null,null,null,"",null,"2019-12-19",0.14160039827000001,null,"2019-12-19",12.282480908]
[null,null,null,"2019-12-20",183.04690518000001,175.76102903,147.79759007000001,112.64839413,162.12554732000001,178.19056343,null,null,null,null,null,"",null,"2019-12-20",0.82814338966000001,null,"2019-12-20",12.021680824000001]
[null,null,null,"2019-12-23",185.36487554999999,178.32049670000001,148.75047244999999,112.66764417,162.35608311999999,178.4784952,null,null,null,null,null,"",null,"2019-12-23",1.2663258980000001,null,"2019-12-23",12.162310124999999]
[null,null,null,"2019-12-24",null,null,null,112.68689743,null,null,null,null,null,null,null,"",null,"2019-12-24",null,null,"2019-12-24"]
[null,null,null,"2019-12-25",null,null,null,null,null,null,null,null,null,null,null,"",null,"2019-12-25",null,null,"2019-12-25"]
[null,null,null,"2019-12-26",189.32275755000001,181.49559887000001,150.47070883000001,112.70615392000001,164.19670432999999,180.53684591000001,null,null,null,null,null,"",null,"2019-12-26",2.1351844502000001,null,"2019-12-26",11.866378619000001]
[null,null,null,"2019-12-27",189.37639723000001,181.65278214,149.61153426999999,112.72541382,162.47446636000001,178.67780909000001,null,null,null,null,null,"",null,"2019-12-27",2.8332400143000001E-2,null,"2019-12-27",12.037654762000001]
[null,null,null,"2019-12-30",187.86640149999999,181.92130356999999,148.47065850000001,112.74467695,161.51835979000001,177.66074527000001,null,null,null,null,null,"",null,"2019-12-30",-0.79735159478999995,null,"2019-12-30",13.173477261]
[null,null,null,"2019-12-31",null,null,null,112.76394332,null,null,null,null,null,null,null,"",null,"2019-12-31",null,null,"2019-12-31"]
[null,null,null,"2020-01-01",null,null,null,null,null,null,null,null,null,null,null,"",null,"2020-01-01",null,null,"2020-01-01"]
[null,null,null,"2020-01-02",192.56044484,186.13643508000001,152.22944770000001,112.78321309,166.30011435,182.95581447999999,null,null,null,null,null,"",null,"2020-01-02",2.4986071499000002,null,"2020-01-02",14.579205676999999]
[null,null,null,"2020-01-03",193.93656149,189.09802997,151.11707329000001,112.8024861,164.99814301000001,181.55859336,null,null,null,null,null,"",null,"2020-01-03",0.71464139346,null,"2020-01-03",14.481473380000001]
[null,null,null,"2020-01-06",196.01520815000001,188.0488316,150.05309982,112.82176233,163.39648735,179.83099756999999,null,null,null,null,null,"",null,"2020-01-06",1.0718178383999999,null,"2020-01-06",13.587356005]
[null,null,null,"2020-01-07",196.76583405,189.83810123000001,149.77581504,112.84104198,162.48607256,178.86363950000001,null,null,null,null,null,"",null,"2020-01-07",0.38294268288,null,"2020-01-07",13.247086284]
[null,null,null,"2020-01-08",194.18851516999999,187.75018338000001,149.24313502999999,112.86032486000001,160.78289319000001,177.02306086999999,null,null,null,null,null,"",null,"2020-01-08",-1.3098406517000001,null,"2020-01-08",14.673897498000001]
[null,null,null,"2020-01-09",191.46605006999999,188.14969087,148.85808431999999,112.87961115,159.26455784000001,175.38531667000001,null,null,null,null,null,"",null,"2020-01-09",-1.4019701914,null,"2020-01-09",16.104211311]
[null,null,null,"2020-01-10",193.19271526,188.69328303,148.28845526000001,112.89890068,157.61305661,173.60025827999999,null,null,null,null,null,"",null,"2020-01-10",0.90181272061999995,null,"2020-01-10",15.892741732999999]
[null,null,null,"2020-01-13",196.93279267,192.00068113,150.62744058999999,112.91819341999999,158.884974,175.03507594000001,null,null,null,null,null,"",null,"2020-01-13",1.9359308657000001,null,"2020-01-13",17.01217381]
[null,null,null,"2020-01-14",200.27945618000001,194.9793042,151.02173497999999,112.93748959,159.11428809,175.32164004000001,null,null,null,null,null,"",null,"2020-01-14",1.6993937210000001,null,"2020-01-14",17.068651672000001]
[null,null,null,"2020-01-15",199.78497329999999,194.11610605000001,149.45794792000001,112.95678899000001,156.86647249999999,172.87833040999999,null,null,null,null,null,"",null,"2020-01-15",-0.24689645733999999,null,"2020-01-15",16.872075367000001]
[null,null,null,"2020-01-16",201.95660674999999,193.32364036000001,149.83008315000001,112.97609161,157.83015363999999,173.97405771000001,null,null,null,null,null,"",null,"2020-01-16",1.0869853777,null,"2020-01-16",16.590337033000001]
[null,null,null,"2020-01-17",204.25846358000001,195.31986796999999,152.10773922000001,112.99539765,160.47954376999999,176.928697,null,null,null,null,null,"",null,"2020-01-17",1.1397779322999999,null,"2020-01-17",16.685137571999999]
[null,null,null,"2020-01-20",208.03674448999999,197.58330713999999,152.59987541999999,113.01470691,159.22778450999999,175.58262399,null,null,null,null,null,"",null,"2020-01-20",1.8497548836,null,"2020-01-20",18.002535102]
[null,null,null,"2020-01-21",207.14747338000001,195.60410772,150.24326289999999,113.03401941,155.63108409,171.64972416000001,null,null,null,null,null,"",null,"2020-01-21",-0.42745867313000002,null,"2020-01-21",18.014794468000002]
[null,null,null,"2020-01-22",210.59995774999999,196.86026407,151.99612175999999,113.05333532,158.50441280000001,174.85264620999999,null,null,null,null,null,"",null,"2020-01-22",1.6666794487000001,null,"2020-01-22",17.865388407000001]
[null,null,null,"2020-01-23",213.19847443,199.91092947999999,153.454916,113.07265446,161.87204346999999,178.60219232,null,null,null,null,null,"",null,"2020-01-23",1.2338638198,null,"2020-01-23",17.853359562000001]
[null,null,null,"2020-01-24",211.88471142,196.86812323000001,151.97686408999999,113.09197700999999,160.53610871999999,177.16248057999999,null,null,null,null,null,"",null,"2020-01-24",-0.61621595241000005,null,"2020-01-24",18.021206182]
[null,null,null,"2020-01-27",204.73764351,190.1118621,146.97690517000001,113.1113028,156.74308026,173.01011005000001,null,null,null,null,null,"",null,"2020-01-27",-3.3730927842999998,null,"2020-01-27",22.691703121]
[null,null,null,"2020-01-28",208.81723943,192.96211883000001,149.54092281000001,113.13063181,158.63782302000001,175.13539702,null,null,null,null,null,"",null,"2020-01-28",1.9925968922999999,null,"2020-01-28",22.768222427000001]
[null,null,null,"2020-01-29",206.52478418000001,194.23006391999999,148.13621695,113.14996424,156.63984615999999,172.96312459000001,null,null,null,null,null,"",null,"2020-01-29",-1.0978285407999999,null,"2020-01-29",22.862427943]
[null,null,null,"2020-01-30",205.53941628999999,191.92601907,148.32006351000001,113.16929989,157.66351304,174.12717655,null,null,null,null,null,"",null,"2020-01-30",-0.47711846882999998,null,"2020-01-30",22.682432130999999]
[null,null,null,"2020-01-31",201.74389703,188.93953683000001,146.0509065,113.18863897,155.43597775999999,171.70027580000001,null,null,null,null,null,"",null,"2020-01-31",-1.8466138169999999,null,"2020-01-31",23.421047622]
[null,null,null,"2020-02-03",205.28436033,192.46699151000001,147.16610537,113.20798127,155.93150143,172.28100180000001,null,null,null,null,null,"",null,"2020-02-03",1.7549295688,null,"2020-02-03",23.260279151999999]
[null,null,null,"2020-02-04",207.23953659,194.4802473,148.35687134,113.22732679000001,156.02386235,172.41642543,null,null,null,null,null,"",null,"2020-02-04",0.95242338775000002,null,"2020-02-04",22.835522354999998]
[null,null,null,"2020-02-05",209.10771792,194.21172587000001,148.96228116,113.24667574,157.94426092,174.57238563999999,null,null,null,null,null,"",null,"2020-02-05",0.90145990580000002,null,"2020-02-05",22.416730016999999]
[null,null,null,"2020-02-06",209.60227420000001,189.14387508999999,147.88603413000001,113.26495032,156.58853454000001,173.1074429,null,null,null,null,null,"",null,"2020-02-06",0.23650790445,null,"2020-02-06",22.277681843]
[null,null,null,"2020-02-07",205.11996773999999,185.75395578000001,146.06338546999999,113.28322795,156.15030884999999,172.65641278000001,null,null,null,null,null,"",null,"2020-02-07",-2.1384817904000002,null,"2020-02-07",23.644307869999999]
[null,null,null,"2020-02-10",199.37826794,179.82159698000001,144.52278465000001,113.30150841,155.31209684000001,171.7628484,null,null,null,null,null,"",null,"2020-02-10",-2.7991910614000002,null,"2020-02-10",25.649835834000001]
[null,null,null,"2020-02-11",206.11522816999999,185.66619512,148.11794784,113.31979192,158.64808533999999,175.48615971999999,null,null,null,null,null,"",null,"2020-02-11",3.3789842320000001,null,"2020-02-11",27.167917803999998]
[null,null,null,"2020-02-12",209.55368343000001,188.50728283000001,149.79146510000001,113.33807828,159.0703067,175.98726334,null,null,null,null,null,"",null,"2020-02-12",1.6682199004,null,"2020-02-12",26.933122332]
[null,null,null,"2020-02-13",208.30757059999999,187.25505605999999,148.49256088999999,113.35636767,156.89799249000001,173.61753698999999,null,null,null,null,null,"",null,"2020-02-13",-0.59465088233999996,null,"2020-02-13",26.560645745999999]
[null,null,null,"2020-02-14",207.32918563000001,185.43565964999999,146.84706996,113.37465991000001,155.42351636000001,172.01923776000001,null,null,null,null,null,"",null,"2020-02-14",-0.46968286633,null,"2020-02-14",26.193584545]
[null,null,null,"2020-02-17",209.19983572000001,185.33349052,148.03895288000001,113.39295519,155.71416005,172.37428609,null,null,null,null,null,"",null,"2020-02-17",0.90226085831000002,null,"2020-02-17",27.091234440000001]
[null,null,null,"2020-02-18",208.86277113,185.59808236000001,147.61298604000001,113.4112535,155.61581278,172.29877231,null,null,null,null,null,"",null,"2020-02-18",-0.16112086614000001,null,"2020-02-18",26.483988529000001]
[null,null,null,"2020-02-19",214.85197178000001,188.23090223,149.59049204999999,113.42955465999999,158.05494741999999,175.03328221000001,null,null,null,null,null,"",null,"2020-02-19",2.8675290572000001,null,"2020-02-19",27.363785905]
[null,null,null,"2020-02-20",212.76558578999999,186.68395683,147.11093855999999,113.44785886,155.68777122,172.44520704999999,null,null,null,null,null,"",null,"2020-02-20",-0.97108068267000003,null,"2020-02-20",27.058743334999999]
[null,null,null,"2020-02-21",213.47095601000001,187.27470396999999,145.94929019,113.46616591,154.29148423000001,170.93172204999999,null,null,null,null,null,"",null,"2020-02-21",0.33152458308999999,null,"2020-02-21",27.008600209000001]
[null,null,null,"2020-02-24",null,null,null,null,null,null,null,null,null,null,null,"",null,"2020-02-24",null,null,"2020-02-24"]
[null,null,null,"2020-02-25",null,null,null,null,null,null,null,null,null,null,null,"",null,"2020-02-25",null,null,"2020-02-25"]
[null,null,null,"2020-02-26",195.95227788,174.53106989,135.72586783,113.484476,145.09253196,160.77179297000001,null,null,null,null,null,"",null,"2020-02-26",-8.2065862539999994,null,"2020-02-26",39.915045261000003]
[null,null,null,"2020-02-27",188.99814956,168.21361207000001,132.21487350000001,113.50278892999999,143.85738789999999,159.43403977,null,null,null,null,null,"",null,"2020-02-27",-3.5488887353999998,null,"2020-02-27",40.086892683000002]
[null,null,null,"2020-02-28",189.40370075999999,168.94189458,133.74011952999999,113.5211049,147.19985144,163.17000859000001,null,null,null,null,null,"",null,"2020-02-28",0.21457945477000001,null,"2020-02-28",39.280433379000002]
[null,null,null,"2020-03-02",198.92181134,173.64036467,136.89046904,113.53942372,148.39101410999999,164.52225446,null,null,null,null,null,"",null,"2020-03-02",5.0253033821999997,null,"2020-03-02",44.918814156000003]
[null,null,null,"2020-03-03",198.52299869000001,171.95719374999999,135.49329936000001,113.55774558,145.06785350999999,160.86898395,null,null,null,null,null,"",null,"2020-03-03",-0.20048713876999999,null,"2020-03-03",44.403236356000001]
[null,null,null,"2020-03-04",201.66120509000001,176.9962276,137.65924810000001,113.57607047,143.67804156,159.35864115000001,null,null,null,null,null,"",null,"2020-03-04",1.5807772490000001,null,"2020-03-04",44.665296255999998]
[null,null,null,"2020-03-05",191.95237466,163.66577595999999,131.25160481,113.59439822,136.96037276999999,151.93723969999999,null,null,null,null,null,"",null,"2020-03-05",-4.8144264664999996,null,"2020-03-05",47.552694621000001]
[null,null,null,"2020-03-06",180.66098534,157.26710678000001,125.81263518,113.61272898999999,134.18172622,148.88356590000001,null,null,null,null,null,"",null,"2020-03-06",-5.8823910569000004,null,"2020-03-06",51.429759726]
[null,null,null,"2020-03-09",151.81067798000001,139.11112858000001,110.4969198,113.63106261999999,121.40598733,134.73411591999999,null,null,null,null,null,"",null,"2020-03-09",-15.969306988,null,"2020-03-09",78.229689586000006]
[null,null,null,"2020-03-10",167.38741891999999,148.44650529,118.38905989,113.64939929000001,127.52709742,141.55461450999999,null,null,null,null,null,"",null,"2020-03-10",10.26063591,null,"2020-03-10",87.733387265000005]
[null,null,null,"2020-03-11",155.06199548000001,137.29697160000001,109.34650506,113.66773899,117.86010985,130.84962503,null,null,null,null,null,"",null,"2020-03-11",-7.3634108974999997,null,"2020-03-11",89.300926536000006]
[null,null,null,"2020-03-12",127.97083198999999,114.77129832999999,93.184697494999995,113.68608154,102.55739570999999,113.88242579999999,null,null,null,null,null,"",null,"2020-03-12",-17.471182027000001,null,"2020-03-12",108.150049]
[null,null,null,"2020-03-13",145.34025813,125.07728177,106.14559774,113.70442713,115.66372805,128.46091061000001,null,null,null,null,null,"",null,"2020-03-13",13.572957104,null,"2020-03-13",120.96978563]
[null,null,null,"2020-03-16",123.85048629000001,102.95635544,91.368724823999997,113.72277556,100.30163904,111.42071070999999,null,null,null,null,null,"",null,"2020-03-16",-14.785835737999999,null,"2020-03-16",130.68088911999999]
[null,null,null,"2020-03-17",128.16765326000001,105.06654091999999,95.796949174000005,113.74112703999999,105.53737929,117.25956656,null,null,null,null,null,{"$f":"IF(O587=\"\",\"\",O587*(-1))","v":""},null,"2020-03-17",3.4857892684,null,"2020-03-17",131.90870305000001]
[null,null,null,"2020-03-18",113.21723179999999,86.511055224000003,85.882727974999995,113.75948136,96.274898354000001,106.98900097000001,null,null,null,null,null,"",null,"2020-03-18",-11.664738386,null,"2020-03-18",136.00708005000001]
[null,null,null,"2020-03-19",115.4222706,96.197474588999995,87.727420253000005,113.77566607,94.598840846000002,105.14677646,null,null,null,null,null,"",null,"2020-03-19",1.9476176583,null,"2020-03-19",135.51346495999999]
[null,null,null,"2020-03-20",119.37953193,92.565231058999998,86.106643331000001,113.79185307,91.485202705000006,101.70565173999999,null,null,null,null,null,"",null,"2020-03-20",3.4285076069999998,null,"2020-03-20",137.35313907]
[null,null,null,"2020-03-23",119.05903505000001,86.212406999999999,81.613520631,113.80804234,84.617508502999996,94.088934566000006,null,null,null,null,null,"",null,"2020-03-23",-0.26846886640000001,null,"2020-03-23",137.17414912999999]
[null,null,null,"2020-03-24",127.91536829,99.541548778999996,89.521593241000005,113.82423389,95.747854684999993,106.48574006,null,null,null,null,null,"",null,"2020-03-24",7.4386065956999996,null,"2020-03-24",138.32214956000001]
[null,null,null,"2020-03-25",138.56208591999999,109.07602430999999,96.231312356000004,113.84042771,102.81713026,114.36995865999999,null,null,null,null,null,"",null,"2020-03-25",8.3232513576000002,null,"2020-03-25",139.62559225999999]
[null,null,null,"2020-03-26",146.61533077999999,117.91103425999999,99.767136246000007,113.85662382,106.03559070999999,117.97289331,null,null,null,null,null,"",null,"2020-03-26",5.8120118509000003,null,"2020-03-26",139.94626589999999]
[null,null,null,"2020-03-27",138.37363145,110.31122288,94.271151085,113.8728222,100.21856307,111.5225848,null,null,null,null,null,"",null,"2020-03-27",-5.6213080031000002,null,"2020-03-27",140.55333601999999]
[null,null,null,"2020-03-30",136.74767305,108.40668552,95.825501880999994,113.88902306,102.66954826,114.27214794,null,null,null,null,null,"",null,"2020-03-30",-1.1750493096000001,null,"2020-03-30",140.43000208999999]
[null,null,null,"2020-03-31",135.84672164,99.219323063999994,93.746032920000005,113.90522618999999,99.164353571000007,110.3922053,null,null,null,null,null,"",null,"2020-03-31",-0.65884222294999994,null,"2020-03-31",137.23286275999999]
[null,null,null,"2020-04-01",132.25522910000001,92.363512521999994,91.110222691000004,113.92143159,94.393716525000002,105.10176138999999,null,null,null,null,null,"",null,"2020-04-01",-2.6437830114,null,"2020-04-01",134.26969933000001]
[null,null,null,"2020-04-02",136.61052280000001,91.606413078000003,92.762222714999993,113.93763928,96.224930607000005,107.16145452000001,null,null,null,null,null,"",null,"2020-04-02",3.2930975464999999,null,"2020-04-02",133.49811955999999]
[null,null,null,"2020-04-03",132.32387799,89.044325684,89.275428855000001,113.95384925,92.678564446999999,103.23200819,null,null,null,null,null,"",null,"2020-04-03",-3.1378584294,null,"2020-04-03",133.49705413999999]
[null,null,null,"2020-04-06",140.40917506,94.289007650000002,95.098203850000004,113.97006149000001,99.454019899000002,110.80044486,null,null,null,null,null,"",null,"2020-04-06",6.1102328542000004,null,"2020-04-06",140.26263896]
[null,null,null,"2020-04-07",147.58279167000001,96.762024521000001,98.031930244999998,113.98627601,103.13562883,114.92432659000001,null,null,null,null,null,"",null,"2020-04-07",5.1090796653000004,null,"2020-04-07",138.55456967000001]
[null,null,null,"2020-04-08",152.06664411,101.37273394,100.9418028,114.002493,106.40246882,118.58753346,null,null,null,null,null,"",null,"2020-04-08",3.0381946170999998,null,"2020-04-08",136.09960398999999]
[null,null,null,"2020-04-09",148.03169740999999,100.08907052000001,99.731548070000002,114.01871226999999,105.55741526,117.66848532,null,null,null,null,null,"",null,"2020-04-09",-2.6534068103999999,null,"2020-04-09",124.19339328]
[null,null,null,"2020-04-10",null,null,null,null,null,null,null,null,null,null,null,"",null,"2020-04-10",null,null,"2020-04-10"]
[null,null,null,"2020-04-13",149.88726317000001,99.962014042000007,101.2129508,114.03493381,107.44788205,119.799046,null,null,null,null,null,"",null,"2020-04-13",1.2534921798000001,null,"2020-04-13",95.542517868999994]
[null,null,null,"2020-04-14",152.25699673,100.56062034999999,102.60276406,114.05115764,108.89877927000001,121.44023425,null,null,null,null,null,"",null,"2020-04-14",1.5810106301,null,"2020-04-14",93.362510592000007]
[null,null,null,"2020-04-15",149.20401848,98.242167033000001,101.20735324,114.06738374,106.81125141,119.13535758,null,null,null,null,null,"",null,"2020-04-15",-2.0051480818999998,null,"2020-04-15",91.518043708999997]
[null,null,null,"2020-04-16",146.94225051999999,98.155716232000003,99.898332336999999,114.08361212,104.38347863,116.4500072,null,null,null,null,null,"",null,"2020-04-16",-1.5158894380000001,null,"2020-04-16",72.946715556000001]
[null,null,null,"2020-04-17",148.36620010999999,101.07015613,101.41126629999999,114.09984278,105.89350639,118.15746571,null,null,null,null,null,"",null,"2020-04-17",0.96905388454999997,null,"2020-04-17",72.374525828000003]
[null,null,null,"2020-04-20",147.77527286,105.57476684,101.3887605,114.1160759,105.04051174,117.22837687000001,null,null,null,null,null,"",null,"2020-04-20",-0.39828966956,null,"2020-04-20",58.917583110000002]
[null,null,null,"2020-04-21",null,null,null,null,null,null,null,null,null,null,null,"",null,"2020-04-21",null,null,"2020-04-21"]
[null,null,null,"2020-04-22",150.57108747999999,111.8110133,103.58977104,114.13231131000001,105.57659603,117.84947792,null,null,null,null,null,"",null,"2020-04-22",1.8919366976000001,null,"2020-04-22",57.562414369999999]
[null,null,null,"2020-04-23",149.24900883999999,110.8063502,102.28814508000001,114.14854898999999,103.38216896,115.42230192,null,null,null,null,null,"",null,"2020-04-23",-0.87804282939,null,"2020-04-23",57.774973127999999]
[null,null,null,"2020-04-24",143.09436409,98.984858011,96.712805478000007,114.16478895,95.190390554999993,106.29706791,null,null,null,null,null,"",null,"2020-04-24",-4.1237424643000002,null,"2020-04-24",56.151577705000001]
[null,null,null,"2020-04-27",148.24278995,102.42717174000001,100.44621306000001,114.18103119,98.985984596999998,110.55692943,null,null,null,null,null,"",null,"2020-04-27",3.5979235783000001,null,"2020-04-27",44.518240976000001]
[null,null,null,"2020-04-28",154.22369954999999,110.10164518000001,104.39227669,114.19727571,105.23989405,117.56464794999999,null,null,null,null,null,"",null,"2020-04-28",4.0345365857999997,null,"2020-04-28",45.136244845]
[null,null,null,"2020-04-29",156.14237946,113.39070522,106.77839195999999,114.2135227,107.12144239,119.68971748,null,null,null,null,null,"",null,"2020-04-29",1.2440888935000001,null,"2020-04-29",44.110934151999999]
[null,null,null,"2020-04-30",150.41045682000001,106.65147227999999,103.35706135,114.22977195999999,102.75470111999999,114.83286886,null,null,null,null,null,"",null,"2020-04-30",-3.6709589415999999,null,"2020-04-30",47.100227967000002]
[null,null,null,"2020-05-01",null,null,null,null,null,null,null,null,null,null,null,"",null,"2020-05-01",null,null,"2020-05-01"]
[null,null,null,"2020-05-04",147.90470882,101.57969192,101.26481812999999,114.24602350000001,99.587552289000001,111.31499144,null,null,null,null,null,"",null,"2020-05-04",-1.6659400249,null,"2020-05-04",45.726208651]
[null,null,null,"2020-05-05",148.40568795999999,100.37985958,102.02814084000001,114.26227732,100.57310194999999,112.43836681000001,null,null,null,null,null,"",null,"2020-05-05",0.33871750656999999,null,"2020-05-05",44.517710620999999]
[null,null,null,"2020-05-06",147.44986865999999,97.94351881,101.50548766,114.27853342,98.877374994999997,110.56398829,null,null,null,null,null,"",null,"2020-05-06",-0.64405840166999995,null,"2020-05-06",39.949440678000002]
[null,null,null,"2020-05-07",146.91402337,92.024258618999994,100.29211318,114.29149809,94.983555847000005,106.23051248,null,null,null,null,null,"",null,"2020-05-07",-0.36340845781999997,null,"2020-05-07",35.846543652999998]
[null,null,null,"2020-05-08",148.00195441,92.922823011999995,103.04567765,114.30446428,97.839780679,109.44612951000001,null,null,null,null,null,"",null,"2020-05-08",0.74052225609,null,"2020-05-08",34.181950421000003]
[null,null,null,"2020-05-11",148.37322706,90.682961332999994,101.5066688,114.31743197999999,96.594007779999998,108.07349773999999,null,null,null,null,null,"",null,"2020-05-11",0.25085658472,null,"2020-05-11",32.839087522]
[null,null,null,"2020-05-12",144.84746281,89.149114534000006,99.975491403999996,114.33040121000001,93.715670080999999,104.87339344999999,null,null,null,null,null,"",null,"2020-05-12",-2.3762806269999999,null,"2020-05-12",33.081996498000002]
[null,null,null,"2020-05-13",145.95576338000001,88.771874672999999,99.847427894000006,114.34337176,93.430401892000006,104.57440631,null,null,null,null,null,"",null,"2020-05-13",0.76515014479999999,null,"2020-05-13",32.874229477999997]
[null,null,null,"2020-05-14",146.88105289000001,92.011160012999994,101.43761078999999,114.35634383,96.916171469000005,108.49694878,null,null,null,null,null,"",null,"2020-05-14",0.63395201851000005,null,"2020-05-14",32.419948525000002]
[null,null,null,"2020-05-15",144.86723678000001,89.970397149999997,99.570656650999993,114.36931743,95.034745298999994,106.41130636,null,null,null,null,null,"",null,"2020-05-15",-1.3710523373000001,null,"2020-05-15",32.031731837000002]
[null,null,null,"2020-05-18",154.31189376,97.143193964000005,104.24086004999999,114.38229253999999,100.19241857999999,112.20812479999999,null,null,null,null,null,"",null,"2020-05-18",6.519525872,null,"2020-05-18",39.507027164]
[null,null,null,"2020-05-19",156.14281317999999,96.989940270000005,103.66063927,114.39526898,97.349510339999995,109.04538751,null,null,null,null,null,"",null,"2020-05-19",1.1865057026000001,null,"2020-05-19",38.653470331999998]
[null,null,null,"2020-05-20",156.59839353000001,100.25542282000001,104.40154604999999,114.40824693,97.960362993000004,109.75087693,null,null,null,null,null,"",null,"2020-05-20",0.29177157794000003,null,"2020-05-20",38.579902292]
[null,null,null,"2020-05-21",158.49940391000001,106.62658493000001,106.59389064,114.42122641,103.44484244,115.91790949,null,null,null,null,null,"",null,"2020-05-21",1.213939901,null,"2020-05-21",37.777447320999997]
[null,null,null,"2020-05-22",156.93338245999999,103.70428586,105.49764132,114.43420741,103.30630106,115.78507839,null,null,null,null,null,"",null,"2020-05-22",-0.98802986985999997,null,"2020-05-22",37.617436316999999]
[null,null,null,"2020-05-25",162.83762884000001,111.53201299,109.97860600999999,114.44718973000001,109.80149732,123.08868424000001,null,null,null,null,null,"",null,"2020-05-25",3.7622628749999998,null,"2020-05-25",36.461913254999999]
[null,null,null,"2020-05-26",166.09356528999999,109.37860211,109.72880834,114.46017356999999,107.40817662000001,120.42905969,null,null,null,null,null,"",null,"2020-05-26",1.9994988040999999,null,"2020-05-26",35.867621518]
[null,null,null,"2020-05-27",169.17136531,114.29581892,112.90932821,114.47315894,109.12870421,122.38185574000001,null,null,null,null,null,"",null,"2020-05-27",1.8530519315,null,"2020-05-27",34.702973808000003]
[null,null,null,"2020-05-28",168.52395808,109.76763072,111.62912961000001,114.48614582,107.85470991,120.97656124,null,null,null,null,null,"",null,"2020-05-28",-0.38269315072999999,null,"2020-05-28",32.757534538000002]
[null,null,null,"2020-05-29",172.62413658,107.74520591,112.21135319,114.49913422,107.25729602,120.3297596,null,null,null,null,null,"",null,"2020-05-29",2.4329944212000001,null,"2020-05-29",33.338333271000003]
[null,null,null,"2020-06-01",175.12462954,112.9257047,113.77444697,114.51212395,109.72672894999999,123.12400169,null,null,null,null,null,"",null,"2020-06-01",1.4485187349999999,null,"2020-06-01",29.894843388999998]
[null,null,null,"2020-06-02",177.89625357,117.2377659,116.88941371999999,114.52511518999999,114.32119609,128.30427696999999,null,null,null,null,null,"",null,"2020-06-02",1.5826580437,null,"2020-06-02",29.341121064999999]
[null,null,null,"2020-06-03",179.12909177,126.14481819,119.40030586,114.53810796,119.79871183,134.47780344,null,null,null,null,null,"",null,"2020-06-03",0.69300964787999997,null,"2020-06-03",28.697135861]
[null,null,null,"2020-06-04",182.56324099,125.14670439,120.461365,114.55110224000001,121.42419074,136.32884670000001,null,null,null,null,null,"",null,"2020-06-04",1.9171365115000001,null,"2020-06-04",27.684458800000002]
[null,null,null,"2020-06-05",185.87543233,125.72566277999999,121.49928926,114.56409786,122.63575589,137.71579066000001,null,null,null,null,null,"",null,"2020-06-05",1.8142706719999999,null,"2020-06-05",27.754279960000002]
[null,null,null,"2020-06-08",188.69485025,130.14513256000001,125.36059346,114.57709499000001,127.82812561,143.57444058999999,null,null,null,null,null,"",null,"2020-06-08",1.5168319333,null,"2020-06-08",28.017736016000001]
[null,null,null,"2020-06-09",185.73776027,130.88258408999999,124.20754685,114.59009364000001,126.42145412000001,142.02198486,null,null,null,null,null,"",null,"2020-06-09",-1.5671280738,null,"2020-06-09",28.830080934000001]
[null,null,null,"2020-06-10",180.55875737,125.67064864,121.56209493999999,114.60309381,122.27889577000001,137.39482945,null,null,null,null,null,"",null,"2020-06-10",-2.7883414188,null,"2020-06-10",30.841656275999998]
[null,null,null,"2020-06-11",null,null,null,null,null,null,null,null,null,null,null,"",null,"2020-06-11",null,null,"2020-06-11"]
[null,null,null,"2020-06-12",176.87958709,121.92444723,119.1347169,114.61609531000001,119.74068083,134.56889579,null,null,null,null,null,"",null,"2020-06-12",-2.0376581774,null,"2020-06-12",31.065818515]
[null,null,null,"2020-06-15",178.87977305000001,121.87467253,118.59582308,114.62909833000001,117.77911079,132.39004241999999,null,null,null,null,null,{"$f":"IF(O651=\"\",\"\",O651*(-1))","v":""},null,"2020-06-15",1.1308178629000001,null,"2020-06-15",31.457236931000001]
[null,null,null,"2020-06-16",180.33088744,121.74761605,120.07949823,114.64210287,119.74825540000001,134.62952999999999,null,null,null,null,null,"",null,"2020-06-16",0.81122329138000004,null,"2020-06-16",30.710430718000001]
[null,null,null,"2020-06-17",184.12453461000001,126.75783296,122.66788323,114.65510892,122.28524864000001,137.50841942,null,null,null,null,null,"",null,"2020-06-17",2.1037145809000002,null,"2020-06-17",30.200459642999999]
[null,null,null,"2020-06-18",185.48917867,125.76102902,123.40988129,114.66478767,123.77499609,139.21057425999999,null,null,null,null,null,"",null,"2020-06-18",0.74115275455999996,null,"2020-06-18",24.175827988000002]
[null,null,null,"2020-06-19",184.78200605000001,128.51828565,123.98358014,114.67446735999999,125.13121115,140.76316926999999,null,null,null,null,null,"",null,"2020-06-19",-0.38124737130000003,null,"2020-06-19",24.471579864999999]
[null,null,null,"2020-06-22",185.96764894,129.23477942,122.39656832999999,114.68414781,123.3740324,138.81334909,null,null,null,null,null,"",null,"2020-06-22",0.64164412397000004,null,"2020-06-22",24.757859197999998]
[null,null,null,"2020-06-23",187.82105844,130.73849942000001,123.21720187,114.69382903,124.02569001000001,139.57357714,null,null,null,null,null,"",null,"2020-06-23",0.99663006476000005,null,"2020-06-23",24.166028369999999]
[null,null,null,"2020-06-24",184.20027110000001,127.97731321000001,121.16587479,114.70351119,121.06720845,136.27060072,null,null,null,null,null,"",null,"2020-06-24",-1.9277856126999999,null,"2020-06-24",25.363484976999999]
[null,null,null,"2020-06-25",191.57379202999999,128.44624332000001,123.22738276,114.71319411,124.09483853,139.70548091000001,null,null,null,null,null,"",null,"2020-06-25",4.0029913566999999,null,"2020-06-25",25.683342827000001]
[null,null,null,"2020-06-26",190.81134736000001,123.02080058,120.46891401000001,114.72287779,120.82885374,136.05498738,null,null,null,null,null,"",null,"2020-06-26",-0.39799006944999998,null,"2020-06-26",25.570833923999999]
[null,null,null,"2020-06-29",193.91873731999999,127.66425652,122.90932307,114.73256241999999,124.54344872,140.26482781999999,null,null,null,null,null,"",null,"2020-06-29",1.6285142387,null,"2020-06-29",25.690123582999998]
[null,null,null,"2020-06-30",193.32539482000001,127.74415802,122.03691207,114.74224780999999,121.26952285,136.60407305000001,null,null,null,null,null,"",null,"2020-06-30",-0.30597481691,null,"2020-06-30",25.250104912000001]
[null,null,null,"2020-07-01",197.64666151,133.06743162999999,123.50996981999999,114.75193396,123.79087825000001,139.47125491,null,null,null,null,null,"",null,"2020-07-01",2.2352297257,null,"2020-07-01",25.710915236000002]
[null,null,null,"2020-07-02",199.26478827,132.54217750999999,123.55074473000001,114.76162085999999,124.3540844,140.13293016,null,null,null,null,null,"",null,"2020-07-02",0.81869673286,null,"2020-07-02",25.486315899000001]
[null,null,null,"2020-07-03",200.03692495000001,136.36566069,124.23104120000001,114.77130871999999,125.21037765,141.12519624999999,null,null,null,null,null,"",null,"2020-07-03",0.38749278464999998,null,"2020-07-03",25.485492492999999]
[null,null,null,"2020-07-06",203.19402933999999,139.22770617,127.01994992,114.78099734,128.83151218,145.23471017,null,null,null,null,null,"",null,"2020-07-06",1.5782608099,null,"2020-07-06",25.491900511000001]
[null,null,null,"2020-07-07",202.25696217000001,138.47322645,125.50999447,114.79068671,125.79777356,141.8421669,null,null,null,null,null,"",null,"2020-07-07",-0.46116865151000003,null,"2020-07-07",25.066067276999998]
[null,null,null,"2020-07-08",205.40411048999999,141.48983548000001,128.08903308999999,114.80037704,129.93935454999999,146.54033909,null,null,null,null,null,"",null,"2020-07-08",1.5560148267,null,"2020-07-08",25.086779909000001]
[null,null,null,"2020-07-09",203.94929465999999,142.76302000999999,127.30646554,114.81006812,128.26500743,144.6800873,null,null,null,null,null,"",null,"2020-07-09",-0.70827006921000002,null,"2020-07-09",24.425693226]
[null,null,null,"2020-07-10",207.32564883000001,146.32977051,128.42533621000001,114.81975997000001,129.737651,146.36953276,null,null,null,null,null,"",null,"2020-07-10",1.6554870544,null,"2020-07-10",21.766918644]
[null,null,null,"2020-07-13",207.68449050999999,141.76228649000001,126.71169879999999,114.82945276,128.57739746999999,145.08862721,null,null,null,null,null,"",null,"2020-07-13",0.17308117857999999,null,"2020-07-13",19.62642851]
[null,null,null,"2020-07-14",210.56277904000001,142.9333019,128.94965839,114.83914631,130.42424937999999,147.20113918999999,null,null,null,null,null,"",null,"2020-07-14",1.3858947882999999,null,"2020-07-14",19.281622987999999]
[null,null,null,"2020-07-15",212.18337445,142.61762547999999,130.68324675,114.84884063,131.76128367000001,148.73895530999999,null,null,null,null,null,"",null,"2020-07-15",0.76964951749999999,null,"2020-07-15",19.247293177]
[null,null,null,"2020-07-16",210.76022051000001,141.67452582999999,129.09478419999999,114.85853589,130.45833496,147.29663499,null,null,null,null,null,"",null,"2020-07-16",-0.67071887197000002,null,"2020-07-16",19.833219163999999]
[null,null,null,"2020-07-17",216.15627391000001,144.00869746999999,132.09253593,114.86823191000001,133.23319422,150.45877401000001,null,null,null,null,null,"",null,"2020-07-17",2.5602807684000002,null,"2020-07-17",20.237788768000001]
[null,null,null,"2020-07-20",219.89073723000001,146.19485487,134.06724316,114.87792869,136.04873627000001,153.66808359999999,null,null,null,null,null,"",null,"2020-07-20",1.7276682536000001,null,"2020-07-20",20.576409636000001]
[null,null,null,"2020-07-21",220.06372256,144.70030388999999,133.91750836,114.88762623,136.27963857,153.95869483999999,null,null,null,null,null,"",null,"2020-07-21",7.8668768764999994E-2,null,"2020-07-21",20.255599814]
[null,null,null,"2020-07-22",228.95424027000001,141.8552866,133.89161321,114.89732472,135.47429043,153.07850678,null,null,null,null,null,"",null,"2020-07-22",4.0399742391000002,null,"2020-07-22",22.783873373999999]
[null,null,null,"2020-07-23",225.18424679,137.29304202,131.32872535999999,114.90702396,132.94560479,150.25031831999999,null,null,null,null,null,"",null,"2020-07-23",-1.6466143927000001,null,"2020-07-23",24.355321403000001]
[null,null,null,"2020-07-24",224.82929895999999,135.36230745,131.44205033,114.91672397000001,133.05103796,150.39859118999999,null,null,null,null,null,"",null,"2020-07-24",-0.15762551492999999,null,"2020-07-24",22.684790987]
[null,null,null,"2020-07-27",233.16011689000001,135.21953264000001,134.13234693000001,114.92642493,136.88499354999999,154.76238917000001,null,null,null,null,null,"",null,"2020-07-27",3.7053969212000002,null,"2020-07-27",22.322771806999999]
[null,null,null,"2020-07-28",228.76629826999999,135.32301163,133.65987924000001,114.93612664,135.67843739,153.42795745999999,null,null,null,null,null,"",null,"2020-07-28",-1.8844640626,null,"2020-07-28",23.767590350999999]
[null,null,null,"2020-07-29",233.03428074999999,138.63433931,135.58063931000001,114.94582912,137.91977793999999,155.99271039000001,null,null,null,null,null,"",null,"2020-07-29",1.8656517606,null,"2020-07-29",23.868692957]
[null,null,null,"2020-07-30",233.46404827000001,139.49098816,134.81486446,114.95553253999999,135.83261659999999,153.66179640999999,null,null,null,null,null,"",null,"2020-07-30",0.18442244563999999,null,"2020-07-30",23.654035357000001]
[null,null,null,"2020-07-31",231.68389705999999,136.9511684,132.12333537000001,114.96523673,132.56394406000001,149.99312057,null,null,null,null,null,"",null,"2020-07-31",-0.76249479062000003,null,"2020-07-31",23.723205333999999]
[null,null,null,"2020-08-03",231.35440990999999,133.55469977999999,132.01770062,114.97494167000001,133.48510985999999,151.06464400999999,null,null,null,null,null,"",null,"2020-08-03",-0.14221409073999999,null,"2020-08-03",24.459268288000001]
[null,null,null,"2020-08-04",228.57182266999999,131.44058472,129.94545970999999,114.98464756,129.83905254000001,146.96686513,null,null,null,null,null,"",null,"2020-08-04",-1.2027379301000001,null,"2020-08-04",24.711203101999999]
[null,null,null,"2020-08-05",235.91796445,136.51629467000001,131.98149620000001,114.99435422000001,130.20984010000001,147.41510393999999,null,null,null,null,null,"",null,"2020-08-05",3.2139314882000001,null,"2020-08-05",25.546590981000001]
[null,null,null,"2020-08-06",238.9421681,141.83956827,133.68115254,115.00294341,132.19743245999999,149.69430639000001,null,null,null,null,null,"",null,"2020-08-06",1.2818878187,null,"2020-08-06",25.457601274999998]
[null,null,null,"2020-08-07",237.27566988999999,138.72602954999999,131.94784662999999,115.01153318,130.12810802000001,147.37963001,null,null,null,null,null,"",null,"2020-08-07",-0.69744834982000004,null,"2020-08-07",25.588240635999998]
[null,null,null,"2020-08-10",240.04605968999999,137.31399979,132.80664888000001,115.0201237,130.83266546999999,148.20628471000001,null,null,null,null,null,"",null,"2020-08-10",1.1675827503,null,"2020-08-10",26.011392570000002]
[null,null,null,"2020-08-11",233.47357339000001,137.82091585000001,131.17606337999999,115.02871479,129.22123617,146.40921322,null,null,null,null,null,"",null,"2020-08-11",-2.7380104902000002,null,"2020-08-11",27.888994812]
[null,null,null,"2020-08-12",234.91199677,133.93586922,131.10338493,115.03730665,128.68527405,145.83019340000001,null,null,null,null,null,"",null,"2020-08-12",0.61609687053999995,null,"2020-08-12",27.277035723000001]
[null,null,null,"2020-08-13",235.05744297999999,129.31075134,128.97581031000001,115.04589907,126.05347648,142.87541744000001,null,null,null,null,null,"",null,"2020-08-13",6.1915191691000002E-2,null,"2020-08-13",27.295908657999998]
[null,null,null,"2020-08-14",233.95424177999999,133.63853086,130.12209106,115.05449206,126.11199616,142.96942451000001,null,null,null,null,null,"",null,"2020-08-14",-0.46933259764000002,null,"2020-08-14",27.329383966999998]
[null,null,null,"2020-08-17",228.99497141000001,127.15341087,127.86504069999999,115.06308581,122.20388306,138.56573811999999,null,null,null,null,null,"",null,"2020-08-17",-2.1197608261999998,null,"2020-08-17",28.684597496999999]
[null,null,null,"2020-08-18",234.28344895999999,131.50214817,131.03606012,115.07168013,125.89257789,142.77595203999999,null,null,null,null,null,"",null,"2020-08-18",2.3094295543999999,null,"2020-08-18",28.801216067999999]
[null,null,null,"2020-08-19",232.79455884999999,128.56675050000001,129.48051534999999,115.08027502,123.88226181,140.52323805,null,null,null,null,null,"",null,"2020-08-19",-0.6355080206,null,"2020-08-19",28.354889393000001]
[null,null,null,"2020-08-20",235.23403307999999,132.84737504,130.26898858000001,115.08887067000001,125.24043159999999,142.09135728000001,null,null,null,null,null,"",null,"2020-08-20",1.047908611,null,"2020-08-20",28.076356409999999]
[null,null,null,"2020-08-21",235.71805043000001,133.33988264000001,130.33757155999999,115.09746689000001,125.03432991,141.88499285,null,null,null,null,null,"",null,"2020-08-21",0.20575991821,null,"2020-08-21",28.068732032]
[null,null,null,"2020-08-24",234.69221486999999,131.80734570000001,131.33468239999999,115.10606387,126.23270065,143.27260253,null,null,null,null,null,"",null,"2020-08-24",-0.43519601531000002,null,"2020-08-24",25.645074776000001]
[null,null,null,"2020-08-25",235.33176037999999,131.08954206999999,131.10319236000001,115.11466142,126.19629383,143.25901517,null,null,null,null,null,"",null,"2020-08-25",0.27250392886000002,null,"2020-08-25",25.056453686000001]
[null,null,null,"2020-08-26",231.33107482,128.08734150999999,129.18986573999999,115.12325954000001,123.65429159999999,140.40049500999999,null,null,null,null,null,"",null,"2020-08-26",-1.7000193880000001,null,"2020-08-26",25.283393749999998]
[null,null,null,"2020-08-27",233.60708835,127.12328408,129.18512835000001,115.13185841000001,124.77056374,141.69537244,null,null,null,null,null,"",null,"2020-08-27",0.98387712242000003,null,"2020-08-27",22.551387678000001]
[null,null,null,"2020-08-28",234.60181155000001,129.90018861999999,131.13566079,115.14045786,126.40117381,143.57496570999999,null,null,null,null,null,"",null,"2020-08-28",0.42581036887000001,null,"2020-08-28",21.630610569000002]
[null,null,null,"2020-08-31",229.31312467000001,126.11338153,127.57455799,115.14905788,122.08953145,138.70436415,null,null,null,null,null,"",null,"2020-08-31",-2.2543248248999999,null,"2020-08-31",23.002118403000001]
[null,null,null,"2020-09-01",236.16689391,130.15692129999999,131.16739742999999,115.15765865,125.02150201000001,142.06284099000001,null,null,null,null,null,"",null,"2020-09-01",2.9888255391,null,"2020-09-01",24.557278022999999]
[null,null,null,"2020-09-02",238.01997442000001,129.77968143999999,130.83806558000001,115.16625999999999,124.96444837,142.02550568000001,null,null,null,null,null,"",null,"2020-09-02",0.78464872186000001,null,"2020-09-02",24.122487807999999]
[null,null,null,"2020-09-03",230.51067886999999,127.71403122,129.31058565999999,115.1748621,125.30652585999999,142.44186182000001,null,null,null,null,null,"",null,"2020-09-03",-3.1549014205999999,null,"2020-09-03",26.413526303000001]
[null,null,null,"2020-09-04",230.67369783999999,127.99696111999999,129.97865992999999,115.18346477999999,125.66937233,142.88198754999999,null,null,null,null,null,"",null,"2020-09-04",7.0720788426000006E-2,null,"2020-09-04",26.102707715000001]
[null,null,null,"2020-09-07",null,null,null,null,null,null,null,null,null,null,null,"",null,"2020-09-07",null,null,"2020-09-07"]
[null,null,null,"2020-09-08",224.39746597999999,130.64549932,128.44921572000001,115.19206801999999,123.2136225,140.11700557,null,null,null,null,null,"",null,"2020-09-08",-2.7208268295,null,"2020-09-08",25.976304438]
[null,null,null,"2020-09-09",227.17447122999999,130.37697789000001,130.043263,115.20067203000001,123.84561065,140.86296475,null,null,null,null,null,"",null,"2020-09-09",1.2375385969999999,null,"2020-09-09",25.856463515000002]
[null,null,null,"2020-09-10",220.73900885,127.44027035000001,126.88826596,115.2092766,120.42129285,136.99464015000001,null,null,null,null,null,"",null,"2020-09-10",-2.8328281523999999,null,"2020-09-10",26.850781089000002]
[null,null,null,"2020-09-11",221.20625465000001,125.53311327,126.28310008,115.21788193,118.66130419,135.01856634000001,null,null,null,null,null,{"$f":"IF(O715=\"\",\"\",O715*(-1))","v":""},null,"2020-09-11",0.21167341619999999,null,"2020-09-11",25.585790290999999]
[null,null,null,"2020-09-14",224.92732968999999,131.03583778999999,128.73691249000001,115.22648783,121.458765,138.22841249000001,null,null,null,null,null,"",null,"2020-09-14",1.6821744213000001,null,"2020-09-14",27.468155596999999]
[null,null,null,"2020-09-15",225.51602506,129.90018861999999,128.76694161,115.2350943,119.71368114000001,136.26876795000001,null,null,null,null,null,"",null,"2020-09-15",0.26172691796000003,null,"2020-09-15",26.850877861000001]
[null,null,null,"2020-09-16",222.70922392,130.34161165,127.96809491,115.24370153,119.5944427,136.15939965999999,null,null,null,null,null,"",null,"2020-09-16",-1.2446127214,null,"2020-09-16",26.474375239]
[null,null,null,"2020-09-17",223.19785117999999,128.24976423000001,128.51006996000001,115.25230933,119.49585107999999,136.07349504999999,null,null,null,null,null,"",null,"2020-09-17",0.21940144816000001,null,"2020-09-17",25.652884216]
[null,null,null,"2020-09-18",217.9463083,124.00450592,126.18872465,115.26091769999999,116.59906564000001,132.80054819,null,null,null,null,null,"",null,"2020-09-18",-2.3528644427000001,null,"2020-09-18",25.28865789]
[null,null,null,"2020-09-21",215.55096607999999,121.08613643,124.52102321,115.26952683,115.33325677000001,131.3842898,null,null,null,null,null,"",null,"2020-09-21",-1.0990515267000001,null,"2020-09-21",26.058366619000001]
[null,null,null,"2020-09-22",217.17563243999999,122.16939117,124.90979707,115.27813653,116.44109914000001,132.67199596,null,null,null,null,null,"",null,"2020-09-22",0.75372724986999995,null,"2020-09-22",25.750888616000001]
[null,null,null,"2020-09-23",213.67226915000001,118.80828879000001,122.90864263,115.28674699,114.09420325000001,130.02313436,null,null,null,null,null,"",null,"2020-09-23",-1.6131475029,null,"2020-09-23",25.488720820000001]
[null,null,null,"2020-09-24",218.0694527,120.01205071,124.54843329000001,115.29535801999999,117.37154990000001,133.78393789,null,null,null,null,null,"",null,"2020-09-24",2.0579102584000002,null,"2020-09-24",26.779277874000002]
[null,null,null,"2020-09-25",216.97664134999999,119.14885255999999,124.53214130000001,115.30396961,116.77047089,133.12458032999999,null,null,null,null,null,"",null,"2020-09-25",-0.50112995241000002,null,"2020-09-25",26.700848575999999]
[null,null,null,"2020-09-28",213.96179592999999,115.01493241,121.53691875,115.31258197,115.36416591,131.546784,null,null,null,null,null,"",null,"2020-09-28",-1.3894792562,null,"2020-09-28",27.236726088000001]
[null,null,null,"2020-09-29",214.59443917999999,113.46405742,120.14263771,115.32119489999999,113.05123343,128.93436752,null,null,null,null,null,"",null,"2020-09-29",0.2956804723,null,"2020-09-29",26.702814736000001]
[null,null,null,"2020-09-30",217.94112626,116.01566593,121.45604937,115.32980858000001,114.16432913,130.22905904999999,null,null,null,null,null,"",null,"2020-09-30",1.5595404508999999,null,"2020-09-30",26.646045532999999]
[null,null,null,"2020-10-01",222.17000752999999,121.79215130999999,122.57959323,115.33842284000001,114.97859572,131.18330202000001,null,null,null,null,null,"",null,"2020-10-01",1.9403778147999999,null,"2020-10-01",25.371369092999998]
[null,null,null,"2020-10-02",220.37844219999999,119.27983862000001,120.70153383,115.34703766,114.55295359,130.72297834,null,null,null,null,null,"",null,"2020-10-02",-0.80639387305999999,null,"2020-10-02",25.133341995999999]
[null,null,null,"2020-10-05",226.83859396,119.64267002,123.36359868,115.35565325,116.76546190000001,133.27359994,null,null,null,null,null,"",null,"2020-10-05",2.9313900668000001,null,"2020-10-05",25.936678747999999]
[null,null,null,"2020-10-06",228.71265933999999,121.43193964,122.75485087,115.3642694,115.42305211,131.76691127999999,null,null,null,null,null,"",null,"2020-10-06",0.82616689724000003,null,"2020-10-06",25.496486889]
[null,null,null,"2020-10-07",232.39618383000001,122.1916588,122.64088398,115.37288631,114.27635951000001,130.48310807999999,null,null,null,null,null,"",null,"2020-10-07",1.6105468333999999,null,"2020-10-07",25.492578241]
[null,null,null,"2020-10-08",235.73837147,123.86173110999999,125.71372778999999,115.3815038,119.32200242,136.27070845,null,null,null,null,null,"",null,"2020-10-08",1.4381422228,null,"2020-10-08",23.951926660000002]
[null,null,null,"2020-10-09",237.80210609,126.91501624,125.15343228,115.39012185,118.9684409,135.89323442,null,null,null,null,null,"",null,"2020-10-09",0.87543432109999997,null,"2020-10-09",23.808442839000001]
[null,null,null,"2020-10-12",null,null,null,null,null,null,null,null,null,null,null,"",null,"2020-10-12",null,null,"2020-10-12"]
[null,null,null,"2020-10-13",241.42888852999999,125.86450800999999,126.4623248,115.39874066,118.92348215,135.86818282999999,null,null,null,null,null,"",null,"2020-10-13",1.5251262923,null,"2020-10-13",22.121552320999999]
[null,null,null,"2020-10-14",245.56756297999999,125.47154982000001,127.52998289999999,115.40736004,119.69682161,136.77819013999999,null,null,null,null,null,"",null,"2020-10-14",1.7142416054,null,"2020-10-14",22.143206917000001]
[null,null,null,"2020-10-15",244.07940532999999,126.72115685999999,127.17003136,115.41597999,118.84602603,135.83227772000001,null,null,null,null,null,"",null,"2020-10-15",-0.60600741844999995,null,"2020-10-15",22.410386627000001]
[null,null,null,"2020-10-16",243.83766516,125.13098606,126.21364407999999,115.4246007,116.40579185999999,133.06903055000001,null,null,null,null,null,"",null,"2020-10-16",-9.9041609427999999E-2,null,"2020-10-16",21.733245536999998]
[null,null,null,"2020-10-19",243.55898744999999,126.19197317,126.66110248,115.43322198,118.61365768,135.61920255000001,null,null,null,null,null,"",null,"2020-10-19",-0.11428821435,null,"2020-10-19",19.889489614999999]
[null,null,null,"2020-10-20",246.53647447,129.14046945000001,129.07752933,115.44184402,122.67314007,140.28784841999999,null,null,null,null,null,"",null,"2020-10-20",1.2224911296000001,null,"2020-10-20",19.537790163]
[null,null,null,"2020-10-21",243.18364740999999,131.23231688000001,129.09371861,115.45046662999999,123.40665194,141.15401211,null,null,null,null,null,"",null,"2020-10-21",-1.3599720144,null,"2020-10-21",19.83055074]
[null,null,null,"2020-10-22",249.29213664,128.88111705,130.84653896,115.45908980999999,126.30966807999999,144.50249156000001,null,null,null,null,null,"",null,"2020-10-22",2.5118832187,null,"2020-10-22",20.851437877999999]
[null,null,null,"2020-10-23",247.35033245,127.98910196,130.00179481000001,115.46771373999999,125.03494077000001,143.07185852000001,null,null,null,null,null,"",null,"2020-10-23",-0.77892716944999996,null,"2020-10-23",19.916483995]
[null,null,null,"2020-10-26",245.46646652999999,124.2677879,129.69009016000001,115.47633825,125.79618533999999,143.97078819000001,null,null,null,null,null,"",null,"2020-10-26",-0.76161851447999995,null,"2020-10-26",20.026100670000002]
[null,null,null,"2020-10-27",243.63710259999999,122.26763072,127.87804604999999,115.48496351999999,122.19948492,139.88152887000001,null,null,null,null,null,"",null,"2020-10-27",-0.74526021881000004,null,"2020-10-27",20.080795732999999]
[null,null,null,"2020-10-28",232.22263190999999,115.56507387000001,122.43867844,115.49358934999999,116.4955872,133.37810855000001,null,null,null,null,null,"",null,"2020-10-28",-4.6850297307000002,null,"2020-10-28",26.352412735000001]
[null,null,null,"2020-10-29",234.47408798000001,116.91815990000001,123.99649561,115.50221576,117.33025626,134.35974883,null,null,null,null,null,"",null,"2020-10-29",0.96952482799999995,null,"2020-10-29",26.420659896]
[null,null,null,"2020-10-30",224.73349769999999,113.13397254,120.62029214,115.51084292,114.12486805,130.71443108,null,null,null,null,null,"",null,"2020-10-30",-4.1542288798999998,null,"2020-10-30",30.410832366000001]
[null,null,null,"2020-11-02",null,null,null,null,null,null,null,null,null,null,null,"",null,"2020-11-02",null,null,"2020-11-02"]
[null,null,null,"2020-11-03",229.98904231,112.46856334,123.22304336000001,115.51947066,115.87325051000001,132.74266218,null,null,null,null,null,"",null,"2020-11-03",2.3385675284,null,"2020-11-03",31.269269838]
[null,null,null,"2020-11-04",237.18617921000001,119.03358482,125.64578673,115.52809915,119.04174322,136.39884588000001,null,null,null,null,null,"",null,"2020-11-04",3.1293390480999999,null,"2020-11-04",32.018872840999997]
[null,null,null,"2020-11-05",245.92845338000001,123.74122393,129.34915235,115.53672822,122.38103033,140.2521758,null,null,null,null,null,"",null,"2020-11-05",3.6858278161000002,null,"2020-11-05",32.799509663999999]
[null,null,null,"2020-11-06",247.42629278999999,126.663523,129.57216901999999,115.54535785,122.74485417,140.69636621000001,null,null,null,null,null,"",null,"2020-11-06",0.60905494337999999,null,"2020-11-06",32.773050990999998]
[null,null,null,"2020-11-09",246.92968669000001,133.62936184,132.89739101999999,115.55398824,127.73503166,146.44471096000001,null,null,null,null,null,"",null,"2020-11-09",-0.20070870087000001,null,"2020-11-09",33.850478064999997]
[null,null,null,"2020-11-10",242.17235115,133.23902337000001,134.88966124999999,115.5626192,131.92096054999999,151.27304905,null,null,null,null,null,"",null,"2020-11-10",-1.9265952167,null,"2020-11-10",33.816654874000001]
[null,null,null,"2020-11-11",242.23928319999999,131.99989521000001,134.55826241,115.57125093000001,131.81687126,151.18295839000001,null,null,null,null,null,"",null,"2020-11-11",2.7638187748E-2,null,"2020-11-11",33.002372377999997]
[null,null,null,"2020-11-12",240.87218067000001,127.19532641000001,131.60308297,115.57988322,128.3210837,147.20207887999999,null,null,null,null,null,"",null,"2020-11-12",-0.56436037748000001,null,"2020-11-12",32.316032601000003]
[null,null,null,"2020-11-13",250.47012875999999,130.30755528,134.44807001999999,115.58851608000001,130.97768189000001,150.27865833000001,null,null,null,null,null,"",null,"2020-11-13",3.9846644234999999,null,"2020-11-13",34.449691264000002]
[null,null,null,"2020-11-16",251.50591904000001,132.85392433999999,136.63949023999999,115.5971497,134.26724558999999,154.08280414000001,null,null,null,null,null,"",null,"2020-11-16",0.41353844571999998,null,"2020-11-16",35.610747449999998]
[null,null,null,"2020-11-17",253.25701343,133.28617835,137.69058674999999,115.60578389,135.09458441999999,155.06226305999999,null,null,null,null,null,"",null,"2020-11-17",0.69624381048999995,null,"2020-11-17",34.800270146000003]
[null,null,null,"2020-11-18",252.08600466999999,129.74431519999999,136.24043279,115.61441883000001,133.29928848,153.03123887000001,null,null,null,null,null,"",null,"2020-11-18",-0.46237959649999999,null,"2020-11-18",34.066765046999997]
[null,null,null,"2020-11-19",260.60340207000002,129.63035733000001,136.94758730000001,115.62305435,134.06065522,153.93510953000001,null,null,null,null,null,"",null,"2020-11-19",3.3787664663000001,null,"2020-11-19",35.620440907000003]
[null,null,null,"2020-11-20",259.69797464999999,127.94587654999999,136.14207744999999,115.63169044,133.06166680000001,152.81760577,null,null,null,null,null,"",null,"2020-11-20",-0.34743499517999998,null,"2020-11-20",35.539125011000003]
[null,null,null,"2020-11-23",262.29681541999997,128.39646862000001,137.85785888000001,115.64032729,133.61412193999999,153.48179807,null,null,null,null,null,"",null,"2020-11-23",1.0007166090999999,null,"2020-11-23",35.871337773999997]
[null,null,null,"2020-11-24",264.01289057000002,132.69281147999999,140.94856096000001,115.64896471,137.29365397000001,157.73899320999999,null,null,null,null,null,"",null,"2020-11-24",0.65424932999999996,null,"2020-11-24",35.027844776000002]
[null,null,null,"2020-11-25",268.03875212000003,135.08199728,141.39306651999999,115.65760288,136.86923354999999,157.28181809,null,null,null,null,null,"",null,"2020-11-25",1.5248731010000001,null,"2020-11-25",34.452882150999997]
[null,null,null,"2020-11-26",271.27586000999997,134.31965839,141.51446687999999,115.66624163,135.76725536999999,156.04570099,null,null,null,null,null,"",null,"2020-11-26",1.2077014462,null,"2020-11-26",34.327343208000002]
[null,null,null,"2020-11-27",273.32261668000001,136.11285759,141.9617327,115.67488093999999,135.80231831,156.11622399999999,null,null,null,null,null,"",null,"2020-11-27",0.75449273990999999,null,"2020-11-27",34.082904679999999]
[null,null,null,"2020-11-30",268.67095819999997,131.76543015999999,139.80211331000001,115.68352102,133.44870304,153.44024961,null,null,null,null,null,"",null,"2020-11-30",-1.7018929982,null,"2020-11-30",25.711463570999999]
[null,null,null,"2020-12-01",277.12445994000001,136.99308393999999,143.02018562999999,115.69216166,138.09851343,158.81737996999999,null,null,null,null,null,"",null,"2020-12-01",3.1464144054999998,null,"2020-12-01",26.175729812]
[null,null,null,"2020-12-02",273.30943064000002,139.17793147,143.63465939,115.70080307000001,139.89283201000001,160.91205092999999,null,null,null,null,null,"",null,"2020-12-02",-1.3766483466999999,null,"2020-12-02",26.761371703999998]
[null,null,null,"2020-12-03",277.12541357999999,143.22016137,144.16496429,115.70944504000001,139.95807106999999,161.01826431999999,null,null,null,null,null,"",null,"2020-12-03",1.396213417,null,"2020-12-03",26.370224027999999]
[null,null,null,"2020-12-04",280.16585507000002,140.52708792000001,146.0376187,115.71808758,140.75999844,161.97221841000001,null,null,null,null,null,"",null,"2020-12-04",1.0971355701000001,null,"2020-12-04",25.235762780999998]
[null,null,null,"2020-12-07",278.61910938,140.4078906,145.83162582,115.72673088000001,141.27531372999999,162.59666816000001,null,null,null,null,null,"",null,"2020-12-07",-0.55208215408000005,null,"2020-12-07",24.081790161000001]
[null,null,null,"2020-12-08",278.88463110999999,140.71963743000001,146.09261860999999,115.73537476,140.75340123000001,162.02735566999999,null,null,null,null,null,"",null,"2020-12-08",9.5299182066999999E-2,null,"2020-12-08",23.579414513]
[null,null,null,"2020-12-09",277.53488285999998,140.41836949,145.07594198000001,115.74401939000001,139.93033836000001,161.11108222999999,null,null,null,null,null,"",null,"2020-12-09",-0.48398086555999997,null,"2020-12-09",23.700697667]
[null,null,null,"2020-12-10",283.03097351000002,142.56130148,147.80728310000001,115.75266458999999,144.53665605,166.44686433000001,null,null,null,null,null,{"$f":"IF(O779=\"\",\"\",O779*(-1))","v":""},null,"2020-12-10",1.9803242728999999,null,"2020-12-10",22.515452588999999]
[null,null,null,"2020-12-11",284.71975719,141.96269516999999,147.80647427,115.76131036,145.08507956,167.11077445000001,null,null,null,null,null,"",null,"2020-12-11",0.59667804544000003,null,"2020-12-11",22.396732453999999]
[null,null,null,"2020-12-14",283.92130864000001,143.67468301,147.14288062,115.76995689,144.40141327000001,166.3555245,null,null,null,null,null,"",null,"2020-12-14",-0.28043314013999998,null,"2020-12-14",19.799142344]
[null,null,null,"2020-12-15",289.11736853000002,144.52871214999999,149.11680471,115.77860398999999,145.72452010999999,167.91229694,null,null,null,null,null,"",null,"2020-12-15",1.8301056425,null,"2020-12-15",19.757822237999999]
[null,null,null,"2020-12-16",293.68793038000001,144.91381117,151.31053585000001,115.78725184,148.61873997999999,171.28034466,null,null,null,null,null,"",null,"2020-12-16",1.580867271,null,"2020-12-16",19.965848748999999]
[null,null,null,"2020-12-17",300.79523169999999,142.97652729999999,152.00794597000001,115.79590027,148.79759763999999,171.51967981000001,null,null,null,null,null,"",null,"2020-12-17",2.4200181838999999,null,"2020-12-17",20.729462481999999]
[null,null,null,"2020-12-18",295.79798068999997,140.48517237999999,151.52406490000001,115.80454927,147.99933539,170.63255248999999,null,null,null,null,null,"",null,"2020-12-18",-1.6613464845000001,null,"2020-12-18",21.916721806000002]
[null,null,null,"2020-12-21",294.48122190999999,137.51702818999999,148.69819430000001,115.81319903000001,145.19625474,167.4332167,null,null,null,null,null,"",null,"2020-12-21",-0.44515475629000001,null,"2020-12-21",20.514345628000001]
[null,null,null,"2020-12-22",299.33233213,135.43696951000001,149.74274320000001,115.82184934999999,147.16491067000001,169.73623415,null,null,null,null,null,"",null,"2020-12-22",1.6473411079,null,"2020-12-22",20.332986306999999]
[null,null,null,"2020-12-23",303.89434419000003,136.11547730999999,151.24570169,115.83050043999999,149.05611048,171.95078398999999,null,null,null,null,null,"",null,"2020-12-23",1.5240625768,null,"2020-12-23",20.506007321999999]
[null,null,null,"2020-12-24",null,null,null,115.83915210000001,null,null,null,null,null,null,null,"",null,"2020-12-24",null,null,"2020-12-24"]
[null,null,null,"2020-12-25",null,null,null,null,null,null,null,null,null,null,null,"",null,"2020-12-25",null,null,"2020-12-25"]
[null,null,null,"2020-12-28",308.923541,137.97940899,152.93633259999999,115.84780431999999,151.51381504,174.81983018,null,null,null,null,null,"",null,"2020-12-28",1.6549162248,null,"2020-12-28",22.045001221]
[null,null,null,"2020-12-29",309.89395073999998,137.75542282000001,153.30280607,115.85645731,151.65968666000001,175.02202295999999,null,null,null,null,null,"",null,"2020-12-29",0.31412618901,null,"2020-12-29",21.517266892999999]
[null,null,null,"2020-12-30",310.00078395000003,137.77376086999999,152.79965448999999,115.86511086,149.98265178,173.12016499000001,null,null,null,null,null,"",null,"2020-12-30",3.4474118546999999E-2,null,"2020-12-30",19.905885496]
[null,null,null,"2020-12-31",null,null,null,115.87376517,null,null,null,null,null,null,null,"",null,"2020-12-31",null,null,"2020-12-31"]
[null,null,null,"2021-01-01",null,null,null,null,null,null,null,null,null,null,null,"",null,"2021-01-01",null,null,"2021-01-01"]
[null,null,null,"2021-01-04",313.8345807,133.37393900999999,152.59099121,115.88242006,147.04420618,169.76127607000001,null,null,null,null,null,"",null,"2021-01-04",1.2367055007000001,null,"2021-01-04",17.638523549999999]
[null,null,null,"2021-01-05",317.20545343999999,132.54479723,153.26051623000001,115.89107550999999,146.00600102000001,168.59531598000001,null,null,null,null,null,"",null,"2021-01-05",1.074092198,null,"2021-01-05",17.203410768000001]
[null,null,null,"2021-01-06",319.17175372999998,127.20449544,152.90600818999999,115.89973172000001,147.13583408,169.93284894999999,null,null,null,null,null,"",null,"2021-01-06",0.61988224425000005,null,"2021-01-06",16.746507437999998]
[null,null,null,"2021-01-07",332.72308232,126.29021272,157.1245165,115.9083885,152.1752463,175.78709161,null,null,null,null,null,"",null,"2021-01-07",4.2457794066999996,null,"2021-01-07",20.111142701999999]
[null,null,null,"2021-01-08",351.11010719000001,132.47013518,160.57897032,115.91704604,153.91874193999999,177.83553957999999,null,null,null,null,null,"",null,"2021-01-08",5.5262246131000001,null,"2021-01-08",25.252358485999999]
[null,null,null,"2021-01-11",353.94475305999998,127.951116,158.24044717000001,115.92570415,150.50322041999999,173.92296454999999,null,null,null,null,null,"",null,"2021-01-11",0.80733815920999996,null,"2021-01-11",25.638641766999999]
[null,null,null,"2021-01-12",354.09857840000001,131.20611966999999,159.19417688999999,115.93436283,152.04305778,175.73643672,null,null,null,null,null,"",null,"2021-01-12",4.3460267261000003E-2,null,"2021-01-12",25.318873877000001]
[null,null,null,"2021-01-13",353.77559609000002,130.98868279999999,156.54314026,115.94302227,150.22858106000001,173.67282587,null,null,null,null,null,"",null,"2021-01-13",-9.1212540246000007E-2,null,"2021-01-13",25.072519256]
[null,null,null,"2021-01-14",357.20137668000001,134.59472912000001,158.52981292999999,115.95168228,152.62776593999999,176.48058612,null,null,null,null,null,"",null,"2021-01-14",0.96834847335999996,null,"2021-01-14",24.517146886999999]
[null,null,null,"2021-01-15",343.61989272,132.28282511,154.50917075999999,115.96034305000001,147.75413914000001,170.87838489999999,null,null,null,null,null,"",null,"2021-01-15",-3.8021925017,null,"2021-01-15",30.274658862999999]
[null,null,null,"2021-01-18",352.43295857999999,132.20161375000001,155.65542583999999,115.96900438999999,148.52918897999999,171.80799467,null,null,null,null,null,"",null,"2021-01-18",2.5647717308,null,"2021-01-18",30.359828877999998]
[null,null,null,"2021-01-19",351.47534027,131.5178665,154.87839166000001,115.9776663,147.2534843,170.36533183,null,null,null,null,null,"",null,"2021-01-19",-0.27171644742000001,null,"2021-01-19",29.882216715999999]
[null,null,null,"2021-01-20",348.35517129999999,131.09609137999999,153.60739823,115.98632895999999,145.27077876000001,168.10397885,null,null,null,null,null,"",null,"2021-01-20",-0.88773481792999998,null,"2021-01-20",29.815190817000001]
[null,null,null,"2021-01-21",347.41720183000001,127.20187572,151.91604837,115.9949922,142.64594492000001,165.09854386999999,null,null,null,null,null,"",null,"2021-01-21",-0.26925665106000002,null,"2021-01-21",29.718972433000001]
[null,null,null,"2021-01-22",346.48505729999999,125.25804254000001,150.69832166,116.00365619999999,141.03036182,163.26027260000001,null,null,null,null,null,"",null,"2021-01-22",-0.26830696015,null,"2021-01-22",29.835380303000001]
[null,null,null,"2021-01-25",null,null,null,116.01232075999999,null,null,null,null,null,null,null,"",null,"2021-01-25",null,null,"2021-01-25"]
[null,null,null,"2021-01-26",346.14452031000002,125.32746514999999,149.52176784,116.0209859,139.09542496,161.05151977,null,null,null,null,null,"",null,"2021-01-26",-9.8283312218000005E-2,null,"2021-01-26",29.849995149000002]
[null,null,null,"2021-01-27",333.84764188000003,125.97191658,148.77487833999999,116.02965179,138.78914344,160.72800778999999,null,null,null,null,null,"",null,"2021-01-27",-3.5525272559999999,null,"2021-01-27",32.680782927000003]
[null,null,null,"2021-01-28",342.36164158000003,131.68814838,152.62763214,116.03831825,144.26262754999999,167.09905305999999,null,null,null,null,null,"",null,"2021-01-28",2.5502650419999999,null,"2021-01-28",33.213297103999999]
[null,null,null,"2021-01-29",333.19595169000002,128.09389081,147.72886586000001,116.04698548,140.22684623999999,162.45586764000001,null,null,null,null,null,"",null,"2021-01-29",-2.6771953325000002,null,"2021-01-29",35.044253470000001]
[null,null,null,"2021-02-01",338.14372802999998,129.95389291000001,150.87431108999999,116.05565326999999,143.06034736000001,165.77063268000001,null,null,null,null,null,"",null,"2021-02-01",1.4849449132999999,null,"2021-02-01",35.2279068]
[null,null,null,"2021-02-02",348.13809273999999,131.9671487,151.79385203000001,116.06432182,143.69392372999999,166.53702729,null,null,null,null,null,"",null,"2021-02-02",2.9556558002000002,null,"2021-02-02",35.385109673000002]
[null,null,null,"2021-02-03",361.83885277000002,135.87839253999999,153.70794895,116.07299094,145.25843954000001,168.38285281,null,null,null,null,null,"",null,"2021-02-03",3.9354383547,null,"2021-02-03",36.260201533]
[null,null,null,"2021-02-04",358.04165310000002,134.24106674999999,153.11237338999999,116.08166064,145.83325189000001,169.08190547000001,null,null,null,null,null,"",null,"2021-02-04",-1.0494173414000001,null,"2021-02-04",36.664781730999998]
[null,null,null,"2021-02-05",358.22536616999997,133.1447134,154.36982225,116.09033109000001,145.85011141999999,169.13419594000001,null,null,null,null,null,"",null,"2021-02-05",5.1310530398000001E-2,null,"2021-02-05",36.669887129000003]
[null,null,null,"2021-02-08",366.97058562000001,134.09436235999999,153.67153911,116.09900211,144.41729544,167.5050674,null,null,null,null,null,"",null,"2021-02-08",2.4412619197000001,null,"2021-02-08",32.212347225000002]
[null,null,null,"2021-02-09",361.00333834999998,131.78507807,153.38300785000001,116.10767389,144.87286935,168.06600961000001,null,null,null,null,null,"",null,"2021-02-09",-1.6260832637,null,"2021-02-09",32.058971055000001]
[null,null,null,"2021-02-10",357.54593029,128.70559571999999,152.05257241000001,116.11634624,142.05671645000001,164.83092031000001,null,null,null,null,null,"",null,"2021-02-10",-0.95772190534000001,null,"2021-02-10",31.530339004999998]
[null,null,null,"2021-02-11",357.11449359,129.42077963,153.16245617000001,116.12501915,142.58754740000001,165.47888841,null,null,null,null,null,"",null,"2021-02-11",-0.12066609315,null,"2021-02-11",31.436078494]
[null,null,null,"2021-02-12",362.65219284,129.42994865,153.32793090999999,116.13369283,142.25988604,165.13059165000001,null,null,null,null,null,"",null,"2021-02-12",1.5506789428000001,null,"2021-02-12",31.824133472]
[null,null,null,"2021-02-15",null,null,null,null,null,null,null,null,null,null,null,"",null,"2021-02-15",null,null,"2021-02-15"]
[null,null,null,"2021-02-16",null,null,null,null,null,null,null,null,null,null,null,"",null,"2021-02-16",null,null,"2021-02-16"]
[null,null,null,"2021-02-17",367.36444026999999,127.43241119,154.51814483000001,116.14236708,141.91976328000001,164.76768623000001,null,null,null,null,null,"",null,"2021-02-17",1.2993847868999999,null,"2021-02-17",30.150501198000001]
[null,null,null,"2021-02-18",367.73654464999998,126.03740962000001,153.03296759,116.15104209,140.19337152,162.79487544,null,null,null,null,null,"",null,"2021-02-18",0.10129025613000001,null,"2021-02-18",29.070948600000001]
[null,null,null,"2021-02-19",372.54601355,125.84224038000001,152.04640996000001,116.15971766,139.74134054999999,162.30138998000001,null,null,null,null,null,"",null,"2021-02-19",1.3078572068000001,null,"2021-02-19",29.248737950999999]
[null,null,null,"2021-02-22",369.19157688000001,121.10185475999999,144.64783112000001,116.16839381,132.22626471000001,153.60280556999999,null,null,null,null,null,"",null,"2021-02-22",-0.90040868727000001,null,"2021-02-22",30.679403982]
[null,null,null,"2021-02-23",369.26738814999999,120.88179817,147.93416547000001,116.17707072,136.77296317,158.91531719,null,null,null,null,null,"",null,"2021-02-23",2.0534398026999998E-2,null,"2021-02-23",29.884335999000001]
[null,null,null,"2021-02-24",373.01977973999999,120.281882,148.49946797000001,116.18574819,136.22563919999999,158.31003393,null,null,null,null,null,"",null,"2021-02-24",1.0161719432,null,"2021-02-24",29.221360383]
[null,null,null,"2021-02-25",357.56103741999999,118.57775332,144.11973444,116.19442642999999,132.72349876999999,154.27000509999999,null,null,null,null,null,"",null,"2021-02-25",-4.1442151755000003,null,"2021-02-25",32.484032884000001]
[null,null,null,"2021-02-26",354.51019829000001,115.14591847,141.2680714,116.20310523000001,130.61153680999999,151.84458051999999,null,null,null,null,null,"",null,"2021-02-26",-0.85323589856000004,null,"2021-02-26",32.654352498000002]
[null,null,null,"2021-03-01",368.48908518000002,113.30949387,141.65278831000001,116.21178479,128.88624458000001,149.86782715999999,null,null,null,null,null,"",null,"2021-03-01",3.9431550785999998,null,"2021-03-01",31.532552605999999]
[null,null,null,"2021-03-02",365.15827974000001,114.37834014000001,143.19978266999999,116.22046493000001,132.06512178,153.59393320000001,null,null,null,null,null,"",null,"2021-03-02",-0.90390884724999998,null,"2021-03-02",30.443156282]
[null,null,null,"2021-03-03",368.55149568000002,113.02263438999999,142.74292653000001,116.22914563,132.77542124000001,154.44992371999999,null,null,null,null,null,"",null,"2021-03-03",0.92924524306,null,"2021-03-03",27.299524891000001]
[null,null,null,"2021-03-04",363.98144493000001,115.24546788000001,144.67667911000001,116.23782709,134.12809336000001,156.0536194,null,null,null,null,null,"",null,"2021-03-04",-1.2400033112,null,"2021-03-04",27.422649041]
[null,null,null,"2021-03-05",369.55025658,119.79330399,147.90177406999999,116.24650912,137.15792250999999,159.60962515,null,null,null,null,null,"",null,"2021-03-05",1.5299713017000001,null,"2021-03-05",27.907217322000001]
[null,null,null,"2021-03-08",351.54062715999999,112.556324,142.00809233000001,116.25519190999999,130.58465928999999,151.98979317999999,null,null,null,null,null,"",null,"2021-03-08",-4.8733911300999999,null,"2021-03-08",32.249211809000002]
[null,null,null,"2021-03-09",357.44264303,110.22215236,142.93122803,116.26387527,131.1931907,152.72764065999999,null,null,null,null,null,"",null,"2021-03-09",1.6789000802,null,"2021-03-09",32.477372496999998]
[null,null,null,"2021-03-10",354.70542308,113.45881798000001,144.78750059000001,116.2725592,133.97977832999999,156.00182813000001,null,null,null,null,null,{"$f":"IF(O843=\"\",\"\",O843*(-1))","v":""},null,"2021-03-10",-0.76577878954,null,"2021-03-10",32.409210803999997]
[null,null,null,"2021-03-11",358.66108308000003,119.90988158,147.62129250999999,116.28124389,135.65986746999999,157.98865642999999,null,null,null,null,null,"",null,"2021-03-11",1.1151958053,null,"2021-03-11",32.676007745]
[null,null,null,"2021-03-12",356.14022806999998,122.17594047999999,146.56422613000001,116.28992915000001,134.40187752,156.55391673,null,null,null,null,null,"",null,"2021-03-12",-0.70285155816,null,"2021-03-12",32.235512673999999]
[null,null,null,"2021-03-15",362.79433071,124.15383002999999,147.45051548999999,116.29861517000001,134.80235252,157.05080172999999,null,null,null,null,null,"",null,"2021-03-15",1.8683939965,null,"2021-03-15",32.129507715999999]
[null,null,null,"2021-03-16",362.62625752999998,120.21376925,146.38240804,116.30730176,132.56418840000001,154.47314481999999,null,null,null,null,null,"",null,"2021-03-16",-4.6327400014E-2,null,"2021-03-16",31.316418120000002]
[null,null,null,"2021-03-17",370.01579038,124.07392853,149.63138251000001,116.31598911,136.49148227000001,159.08030155,null,null,null,null,null,"",null,"2021-03-17",2.0377820672000002,null,"2021-03-17",31.790991518999999]
[null,null,null,"2021-03-18",355.78599680999997,119.95179711999999,147.43085983,116.32806205,137.13874174,159.86562885999999,null,null,null,null,null,"",null,"2021-03-18",-3.8457260324,null,"2021-03-18",34.608740195999999]
[null,null,null,"2021-03-19",364.38966370999998,124.92271821999999,149.21046118000001,116.34013632,139.33793345999999,162.46072598000001,null,null,null,null,null,"",null,"2021-03-19",2.4182140326999999,null,"2021-03-19",35.386705026999998]
[null,null,null,"2021-03-22",359.73808962999999,124.96332390000001,147.61500167,116.35221192,139.05926248,162.16720466999999,null,null,null,null,null,"",null,"2021-03-22",-1.2765384246,null,"2021-03-22",35.518398857000001]
[null,null,null,"2021-03-23",361.65973198,124.2546893,145.41056327000001,116.36428866,137.56035223999999,160.45027755999999,null,null,null,null,null,"",null,"2021-03-23",0.53417817126,null,"2021-03-23",35.589836194]
[null,null,null,"2021-03-24",359.16533145,121.60222152,143.873018,116.37636673,135.16923062000001,157.69180337,null,null,null,null,null,"",null,"2021-03-24",-0.68970922502999998,null,"2021-03-24",35.404763617]
[null,null,null,"2021-03-25",357.34432412000001,124.55988682,146.03720787,116.38844594,136.98126393000001,159.83671000000001,null,null,null,null,null,"",null,"2021-03-25",-0.50701088584999998,null,"2021-03-25",32.249872693]
[null,null,null,"2021-03-26",362.88414026999999,123.34695588,147.3604923,116.40052648,137.91134818,160.95313904,null,null,null,null,null,"",null,"2021-03-26",1.5502740003,null,"2021-03-26",32.514461851999997]
[null,null,null,"2021-03-29",365.61693593000001,121.45158755,148.17971360999999,116.41260834000001,137.60091285999999,160.62193246000001,null,null,null,null,null,"",null,"2021-03-29",0.75307663137000003,null,"2021-03-29",31.803061268]
[null,null,null,"2021-03-30",368.52161696000002,127.86859478,150.01683120000001,116.42469135,139.91555572999999,163.35544605999999,null,null,null,null,null,"",null,"2021-03-30",0.79446019681000002,null,"2021-03-30",31.144839121]
[null,null,null,"2021-03-31",370.33329154,126.35832547,149.73958493999999,116.43677568,138.92450839,162.22977625999999,null,null,null,null,null,"",null,"2021-03-31",0.49160605630999998,null,"2021-03-31",30.477232941]
[null,null,null,"2021-04-01",372.10137244999999,125.00130986000001,147.96735286000001,116.44886115,135.83176141000001,158.64891913,null,null,null,null,null,"",null,"2021-04-01",0.47742964161000001,null,"2021-04-01",27.858624788]
[null,null,null,"2021-04-02",null,null,null,null,null,null,null,null,null,null,null,"",null,"2021-04-02",null,null,"2021-04-02"]
[null,null,null,"2021-04-05",377.90037746000002,127.37084774,150.87542802999999,116.46094796,137.34814202999999,160.45108511999999,null,null,null,null,null,"",null,"2021-04-05",1.5584476282999999,null,"2021-04-05",29.158053432999999]
[null,null,null,"2021-04-06",384.34323251000001,127.77297495000001,150.85030319000001,116.47303608999999,137.31344559999999,160.44161288000001,null,null,null,null,null,"",null,"2021-04-06",1.7049083393,null,"2021-04-06",28.951586787]
[null,null,null,"2021-04-07",391.09176843,125.75447972000001,151.01041147000001,116.48512536,137.06299601000001,160.17998894999999,null,null,null,null,null,"",null,"2021-04-07",1.7558617779000001,null,"2021-04-07",28.748732992000001]
[null,null,null,"2021-04-08",390.36236423999998,125.23053547000001,151.89581497,116.49721596000001,136.95133215000001,160.08048237,null,null,null,null,null,"",null,"2021-04-08",-0.18650461361000001,null,"2021-04-08",22.372949860999999]
[null,null,null,"2021-04-09",388.86957938,127.82929896,151.06987914999999,116.50930769,136.44065932999999,159.51444498999999,null,null,null,null,null,"",null,"2021-04-09",-0.38241003685000002,null,"2021-04-09",22.150252456]
[null,null,null,"2021-04-12",400.23196424000002,126.98705857,152.5358244,116.52140076000001,139.12364635,162.68265217999999,null,null,null,null,null,"",null,"2021-04-12",2.9219011880000001,null,"2021-04-12",23.871321701999999]
[null,null,null,"2021-04-13",400.99521864000002,127.19663627,153.15898978999999,116.53349516,138.30889108,161.76124322999999,null,null,null,null,null,"",null,"2021-04-13",0.19070300896,null,"2021-04-13",23.333893534000001]
[null,null,null,"2021-04-14",407.97708464999999,126.27318452999999,154.43968907999999,116.54559069,139.10593162000001,162.72493639000001,null,null,null,null,null,"",null,"2021-04-14",1.7411344795999999,null,"2021-04-14",23.118537680999999]
[null,null,null,"2021-04-15",407.26859507,127.26736875,154.96091720000001,116.55768756000001,138.6371633,162.20797751999999,null,null,null,null,null,"",null,"2021-04-15",-0.17365916118999999,null,"2021-04-15",22.849055294999999]
[null,null,null,"2021-04-16",410.45483281999998,128.40432777999999,155.49147887000001,116.56978556,140.33374545999999,164.22480196999999,null,null,null,null,null,"",null,"2021-04-16",0.78234309967000004,null,"2021-04-16",22.775300378000001]
[null,null,null,"2021-04-19",405.29610358999997,128.28251073999999,155.26019424,116.58188489,138.80038313,162.46184453000001,null,null,null,null,null,"",null,"2021-04-19",-1.2568323750999999,null,"2021-04-19",17.039581289000001]
[null,null,null,"2021-04-20",398.99746144,127.36298857,154.14095126000001,116.59398555,138.00505297000001,161.56221085000001,null,null,null,null,null,"",null,"2021-04-20",-1.5540840623000001,null,"2021-04-20",18.078651623999999]
[null,null,null,"2021-04-21",null,null,null,null,null,null,null,null,null,null,null,"",null,"2021-04-21",null,null,"2021-04-21"]
[null,null,null,"2021-04-22",397.88773528000002,125.49250759,153.25444364000001,116.60608735,137.45662945999999,160.95133171000001,null,null,null,null,null,"",null,"2021-04-22",-0.27812862618,null,"2021-04-22",17.232200794000001]
[null,null,null,"2021-04-23",410.10177375000001,126.86000208999999,154.74188045,116.61819048,139.50005375999999,163.37565561,null,null,null,null,null,"",null,"2021-04-23",3.0697197696999998,null,"2021-04-23",19.261555740999999]
[null,null,null,"2021-04-26",409.65612984000001,128.14628524,154.82475263000001,116.63029494,139.31203331,163.18704711000001,null,null,null,null,null,"",null,"2021-04-26",-0.10866666352,null,"2021-04-26",19.137516771000001]
[null,null,null,"2021-04-27",419.69244758000002,126.40548045,153.27612778,116.64240054,138.90202901000001,162.73828209999999,null,null,null,null,null,"",null,"2021-04-27",2.4499371561999999,null,"2021-04-27",19.645800482999999]
[null,null,null,"2021-04-28",424.03224211000003,127.20449544,155.41263796000001,116.65450746,143.04544254999999,167.62517631,null,null,null,null,null,"",null,"2021-04-28",1.0340416069,null,"2021-04-28",19.199419308]
[null,null,null,"2021-04-29",426.58187547,125.76233888,154.14577851000001,116.66661553,140.38053676999999,164.53420806,null,null,null,null,null,"",null,"2021-04-29",0.60128290023999997,null,"2021-04-29",19.205364028999998]
[null,null,null,"2021-04-30",421.72292468000001,123.80802681999999,152.64122805,116.67872491999999,140.02331014000001,164.1472953,null,null,null,null,null,"",null,"2021-04-30",-1.1390429524000001,null,"2021-04-30",20.717698838]
[null,null,null,"2021-05-03",418.98566667,126.59148066,153.04646080000001,116.69083565,141.83180050000001,166.29955674999999,null,null,null,null,null,"",null,"2021-05-03",-0.64906549933000002,null,"2021-05-03",21.198276200999999]
[null,null,null,"2021-05-04",411.46396150999999,125.37723986,151.12392901999999,116.70294751,137.57049240000001,161.33435301,null,null,null,null,null,"",null,"2021-05-04",-1.7952177741999999,null,"2021-05-04",22.227572825999999]
[null,null,null,"2021-05-05",419.75949557000001,126.41988892000001,153.50217431999999,116.7150607,139.96515696,164.17445380999999,null,null,null,null,null,"",null,"2021-05-05",2.0161022178999999,null,"2021-05-05",22.53654006]
[null,null,null,"2021-05-06",413.76981834999998,127.27391805000001,153.95944129,116.73054715000001,139.13293131,163.22988108000001,null,null,null,null,null,"",null,"2021-05-06",-1.4269307264,null,"2021-05-06",23.029298681]
[null,null,null,"2021-05-07",415.34039042000001,130.88651368000001,156.67798246999999,116.74603568000001,141.63657198999999,166.19931163000001,null,null,null,null,null,"",null,"2021-05-07",0.37957627718999998,null,"2021-05-07",22.497455493]
[null,null,null,"2021-05-10",402.70699046999999,130.34947081999999,156.5122638,116.7615263,142.38902028999999,167.1146024,null,null,null,null,null,"",null,"2021-05-10",-3.0416979045999999,null,"2021-05-10",25.756275448]
[null,null,null,"2021-05-11",406.31739470999997,129.68144189,157.86669429,116.77701902,142.32072696,167.06679303000001,null,null,null,null,null,"",null,"2021-05-11",0.89653378945999995,null,"2021-05-11",25.252384399]
[null,null,null,"2021-05-12",388.90584376999999,124.46295714,153.68908927000001,116.79251382,139.17740137999999,163.40855536999999,null,null,null,null,null,"",null,"2021-05-12",-4.2852093375000004,null,"2021-05-12",27.832210620000001]
[null,null,null,"2021-05-13",383.43517940999999,126.47228334,154.96764454999999,116.80801051,141.70242191,166.40540358000001,null,null,null,null,null,"",null,"2021-05-13",-1.4066809364999999,null,"2021-05-13",28.134158157000002]
[null,null,null,"2021-05-14",387.33754601999999,129.30289217000001,156.47604654,116.8235093,143.7014983,168.78565466000001,null,null,null,null,null,"",null,"2021-05-14",1.0177382831999999,null,"2021-05-14",27.643032351999999]
[null,null,null,"2021-05-17",391.60587614000002,132.40857173000001,157.83313458999999,116.83901018,143.80632061,168.94148038,null,null,null,null,null,"",null,"2021-05-17",1.1019665317,null,"2021-05-17",28.490228248000001]
[null,null,null,"2021-05-18",392.72483826000001,130.47259772000001,157.88717162,116.85451313999999,143.87473610999999,169.05458164999999,null,null,null,null,null,"",null,"2021-05-18",0.28573680355999997,null,"2021-05-18",27.859214774000002]
[null,null,null,"2021-05-19",386.08030987000001,129.04484962999999,157.44596554,116.87001819,144.59542006999999,169.93429223999999,null,null,null,null,null,"",null,"2021-05-19",-1.6919042902999999,null,"2021-05-19",28.098758831000001]
[null,null,null,"2021-05-20",387.26464169000002,131.38557058000001,157.52876069000001,116.88552532999999,145.97118241999999,171.58436044000001,null,null,null,null,null,"",null,"2021-05-20",0.30675789294,null,"2021-05-20",27.741992628999999]
[null,null,null,"2021-05-21",382.79657103,127.24117153,157.38969463000001,116.90103437,146.12902674,171.80316117999999,null,null,null,null,null,"",null,"2021-05-21",-1.1537512545999999,null,"2021-05-21",27.312523340999999]
[null,null,null,"2021-05-24",414.86141848,127.07481923,159.23733974999999,116.9165455,148.58025626,174.71888375,null,null,null,null,null,"",null,"2021-05-24",8.3764719648000003,null,"2021-05-24",38.157071889999997]
[null,null,null,"2021-05-25",403.76122197000001,128.54579272999999,157.89712141000001,116.93205871000001,146.44068376000001,172.23625580000001,null,null,null,null,null,"",null,"2021-05-25",-2.6756396272999998,null,"2021-05-25",38.386158037000001]
[null,null,null,"2021-05-26",403.65897969999997,130.32720319000001,159.18284054,116.94757402,147.93898315000001,174.0321725,null,null,null,null,null,"",null,"2021-05-26",-2.5322458714000001E-2,null,"2021-05-26",38.386205439000001]
[null,null,null,"2021-05-27",405.73382979000002,131.75495126999999,159.66736354,116.96309141,147.87924176000001,173.99557837,null,null,null,null,null,"",null,"2021-05-27",0.51401063574000005,null,"2021-05-27",37.477754566000002]
[null,null,null,"2021-05-28",410.50378632000002,133.00717804000001,161.20130119999999,116.97861089,149.38804780999999,175.80488296999999,null,null,null,null,null,"",null,"2021-05-28",1.1756368773000001,null,"2021-05-28",37.531192066000003]
[null,null,null,"2021-05-31",414.74471075000002,132.64303677999999,162.04139782999999,116.99413246,149.63678701000001,176.13170550000001,null,null,null,null,null,"",null,"2021-05-31",1.0331023915999999,null,"2021-05-31",38.372197837999998]
[null,null,null,"2021-06-01",411.20956274999998,135.47757519000001,164.67497417000001,117.00965592,152.30865652,179.31137373999999,null,null,null,null,null,"",null,"2021-06-01",-0.85236722998000003,null,"2021-06-01",37.577797615000001]
[null,null,null,"2021-06-02",414.35949339000001,137.26029550000001,166.38812372000001,117.02518148,154.18201943,181.55201133,null,null,null,null,null,"",null,"2021-06-02",0.76601590299,null,"2021-06-02",36.861522323000003]
[null,null,null,"2021-06-03",null,null,null,null,null,null,null,null,null,null,null,"",null,"2021-06-03",null,null,"2021-06-03"]
[null,null,null,"2021-06-04",416.79041553000002,140.90039820000001,167.06129485,117.04070912,156.12465304,183.87509313999999,null,null,null,null,null,"",null,"2021-06-04",0.58666983095000003,null,"2021-06-04",37.184550176999998]
[null,null,null,"2021-06-07",409.68671701,141.54092005000001,167.896423,117.05623885999999,157.74402341999999,185.81827229000001,null,null,null,null,null,"",null,"2021-06-07",-1.7043814489,null,"2021-06-07",38.469778587]
[null,null,null,"2021-06-08",403.33321233999999,140.87420098999999,166.62649517,117.07177068,155.33543141000001,183.01644554999999,null,null,null,null,null,{"$f":"IF(O907=\"\",\"\",O907*(-1))","v":""},null,"2021-06-08",-1.5508202755,null,"2021-06-08",37.881069355000001]
[null,null,null,"2021-06-09",406.80632639999999,138.60945194999999,166.78015854,117.08730457999999,155.56486766,183.32225761000001,null,null,null,null,null,"",null,"2021-06-09",0.86110291812999995,null,"2021-06-09",37.156695362000001]
[null,null,null,"2021-06-10",410.82969142000002,138.64743791000001,166.99760332,117.10284058000001,155.10636166,182.81733269,null,null,null,null,null,"",null,"2021-06-10",0.98901240126000001,null,"2021-06-10",35.813262385000002]
[null,null,null,"2021-06-11",409.98425407000002,135.28502567000001,166.18218218999999,117.11837848,153.74501544,181.24785958000001,null,null,null,null,null,"",null,"2021-06-11",-0.20578779177000001,null,"2021-06-11",35.715639662000001]
[null,null,null,"2021-06-14",409.39805035000001,138.47715603,167.16680120999999,117.13391846,154.13925974,181.74781381,null,null,null,null,null,"",null,"2021-06-14",-0.14298200766999999,null,"2021-06-14",33.236381475000002]
[null,null,null,"2021-06-15",410.28298804000002,137.65456355000001,167.01674543999999,117.14946053,155.01888756,182.82038835,null,null,null,null,null,"",null,"2021-06-15",0.21615581463,null,"2021-06-15",32.436043384000001]
[null,null,null,"2021-06-16",411.72926110999998,136.31588599,165.94911302,117.1650047,157.09676395,185.30679072999999,null,null,null,null,null,"",null,"2021-06-16",0.35250622331999998,null,"2021-06-16",31.691332657]
[null,null,null,"2021-06-17",409.47645562000002,135.16320863000001,164.40558503,117.18391167,156.92157141000001,185.13597971999999,null,null,null,null,null,"",null,"2021-06-17",-0.54715700234999998,null,"2021-06-17",31.671455632000001]
[null,null,null,"2021-06-18",411.91545085000001,135.96484333999999,164.85252989,117.20282168,155.64965401000001,183.67092972,null,null,null,null,null,"",null,"2021-06-18",0.59563747564000002,null,"2021-06-18",31.697083335999999]
[null,null,null,"2021-06-21",416.31838656000002,136.31064655,165.95613564999999,117.22173472999999,155.50793619999999,183.53923065999999,null,null,null,null,null,"",null,"2021-06-21",1.0688930705999999,null,"2021-06-21",32.143755501000001]
[null,null,null,"2021-06-22",416.95018098000003,134.41265849000001,165.31741005999999,117.24065082,154.26069724999999,182.10242271999999,null,null,null,null,null,"",null,"2021-06-22",0.15175751213999999,null,"2021-06-22",31.382183126000001]
[null,null,null,"2021-06-23",420.47942597999997,133.06743162999999,164.88158329999999,117.25956994000001,153.86278783,181.66786629999999,null,null,null,null,null,"",null,"2021-06-23",0.84644284997999997,null,"2021-06-23",30.694520098000002]
[null,null,null,"2021-06-24",417.63312952000001,135.07937755,166.27537647,117.27849211,153.56322569,181.34927719999999,null,null,null,null,null,"",null,"2021-06-24",-0.67691693839,null,"2021-06-24",15.87181563]
[null,null,null,"2021-06-25",414.61898839000003,131.21135910999999,163.37644227000001,117.29741731,149.90519567000001,177.06363385,null,null,null,null,null,"",null,"2021-06-25",-0.72171983520000005,null,"2021-06-25",13.047447705]
[null,null,null,"2021-06-28",415.02399708000002,129.17321597,163.59926636,117.31634554,150.08295379,177.30792212,null,null,null,null,null,"",null,"2021-06-28",9.7682137675000003E-2,null,"2021-06-28",13.043190102000001]
[null,null,null,"2021-06-29",423.88215057000002,127.24510112,163.46866084000001,117.33527682,149.82786171999999,177.04083034999999,null,null,null,null,null,"",null,"2021-06-29",2.1343713989999999,null,"2021-06-29",14.50476226]
[null,null,null,"2021-06-30",431.75950402000001,128.19736979999999,162.79364096,117.35421113,148.96289436999999,176.05284311,null,null,null,null,null,"",null,"2021-06-30",1.8583829119999999,null,"2021-06-30",15.3309321]
[null,null,null,"2021-07-01",433.82826863000003,125.216127,161.33587381000001,117.37314867000001,147.30711717,174.12966148999999,null,null,null,null,null,"",null,"2021-07-01",0.47914743900000001,null,"2021-07-01",14.89427435]
[null,null,null,"2021-07-02",443.69591638999998,126.7866499,163.84638079000001,117.39208925,149.24633,176.45613825000001,null,null,null,null,null,"",null,"2021-07-02",2.2745515859999998,null,"2021-07-02",16.284844015000001]
[null,null,null,"2021-07-05",442.07186372000001,126.58755108,162.94563534,117.41103286000001,147.24652058000001,174.12544353999999,null,null,null,null,null,"",null,"2021-07-05",-0.36602831232999999,null,"2021-07-05",16.420292514]
[null,null,null,"2021-07-06",433.97716415999997,123.95473121000001,160.60240048,117.42997952,145.44303920999999,172.02605106999999,null,null,null,null,null,"",null,"2021-07-06",-1.8310822792000001,null,"2021-07-06",17.518713943000002]
[null,null,null,"2021-07-07",436.04323320999998,125.61694435,163.07229946000001,117.44892921,147.20473826,174.14345349999999,null,null,null,null,null,"",null,"2021-07-07",0.47607782635000001,null,"2021-07-07",16.245006032999999]
[null,null,null,"2021-07-08",429.34449717000001,124.60704181,161.02977955,117.46788194,145.50620137999999,172.16741191,null,null,null,null,null,"",null,"2021-07-08",-1.5362550153000001,null,"2021-07-08",16.225808541999999]
[null,null,null,"2021-07-09",null,null,null,117.4868377,null,null,null,null,null,null,null,"",null,"2021-07-09",null,null,"2021-07-09"]
[null,null,null,"2021-07-12",437.52880076000002,127.83715812,163.81066422999999,117.50579651,148.89130244,176.20688000999999,null,null,null,null,null,"",null,"2021-07-12",1.9062323239000001,null,"2021-07-12",17.557414554000001]
[null,null,null,"2021-07-13",434.92183339000002,129.14963847999999,164.54747555,117.52475835,149.17033993000001,176.57129265,null,null,null,null,null,"",null,"2021-07-13",-0.59583903094000001,null,"2021-07-13",17.415925882]
[null,null,null,"2021-07-14",442.50301609000002,131.24410563000001,164.85401915,117.54372342000001,150.80693635,178.54307854999999,null,null,null,null,null,"",null,"2021-07-14",1.743113846,null,"2021-07-14",18.007680494999999]
[null,null,null,"2021-07-15",441.17745571,130.02462538,163.64896399,117.56269152,149.73550080000001,177.30891226,null,null,null,null,null,"",null,"2021-07-15",-0.29955962481999998,null,"2021-07-15",18.144696773]
[null,null,null,"2021-07-16",437.65651572000002,128.91910300999999,161.71341401999999,117.58166267,147.24065640000001,174.38840898000001,null,null,null,null,null,"",null,"2021-07-16",-0.79807794945999999,null,"2021-07-16",18.554159382000002]
[null,null,null,"2021-07-19",434.47670735000003,127.45729854,159.70331118999999,117.60063685,145.92634583,172.86523561999999,null,null,null,null,null,"",null,"2021-07-19",-0.72655341783000005,null,"2021-07-19",19.089135169999999]
[null,null,null,"2021-07-20",438.17974005000002,128.07293304000001,160.99587321000001,117.61961407,147.33326166000001,174.56567135,null,null,null,null,null,"",null,"2021-07-20",0.85229717533000005,null,"2021-07-20",18.732723360000001]
[null,null,null,"2021-07-21",444.91612151999999,127.20973488,161.67360199999999,117.63859432,148.06469662999999,175.46627047000001,null,null,null,null,null,"",null,"2021-07-21",1.5373557578999999,null,"2021-07-21",19.023468238]
[null,null,null,"2021-07-22",442.50936665,127.79786230000001,161.95272267999999,117.65757762,146.88587318,174.10299334000001,null,null,null,null,null,"",null,"2021-07-22",-0.54094575426000002,null,"2021-07-22",19.239059258000001]
[null,null,null,"2021-07-23",436.94998350999998,125.25149324,160.54835062000001,117.67656395,145.92940009,173.00278334000001,null,null,null,null,null,"",null,"2021-07-23",-1.2563311770000001,null,"2021-07-23",19.813819926000001]
[null,null,null,"2021-07-26",435.94923740000002,123.70061825000001,161.76938964999999,117.69555351,147.15379315000001,174.48811018999999,null,null,null,null,null,"",null,"2021-07-26",-0.22902990004000001,null,"2021-07-26",19.835802801]
[null,null,null,"2021-07-27",423.78474184999999,121.8091795,159.98249605999999,117.71454610000001,146.34685680000001,173.56488361000001,null,null,null,null,null,"",null,"2021-07-27",-2.7903467909000002,null,"2021-07-27",21.981775923000001]
[null,null,null,"2021-07-28",432.27815315999999,122.74834957,162.13108722000001,117.73354174000001,148.00971989000001,175.57100027999999,null,null,null,null,null,"",null,"2021-07-28",2.0041805375999999,null,"2021-07-28",22.882032702]
[null,null,null,"2021-07-29",428.38035977999999,124.14990045,161.34760815000001,117.75254040999999,146.86046171000001,174.24146764,null,null,null,null,null,"",null,"2021-07-29",-0.90168641581999998,null,"2021-07-29",22.107797613999999]
[null,null,null,"2021-07-30",412.20637585999998,120.46788221,156.37330044999999,117.77154212000001,143.10848254000001,169.82283727000001,null,null,null,null,null,"",null,"2021-07-30",-3.7756128530000002,null,"2021-07-30",24.782768242]
[null,null,null,"2021-08-02",414.47189546999999,121.91396835,157.29118521999999,117.79054687,144.71661323999999,171.76441342000001,null,null,null,null,null,"",null,"2021-08-02",0.54960809703000002,null,"2021-08-02",23.784596217000001]
[null,null,null,"2021-08-03",418.36854406999998,120.62768521,158.65311337,117.80955465,146.14539758999999,173.49382738,null,null,null,null,null,"",null,"2021-08-03",0.94014784518000005,null,"2021-08-03",23.609082591]
[null,null,null,"2021-08-04",410.91138900999999,119.24447238,156.37383965999999,117.82856566,142.93048008,169.71015174999999,null,null,null,null,null,"",null,"2021-08-04",-1.7824368391000001,null,"2021-08-04",23.606542956999998]
[null,null,null,"2021-08-05",407.79651180000002,117.15655454,156.15778143,117.8520484,142.14565658999999,168.81096316,null,null,null,null,null,"",null,"2021-08-05",-0.75804110129000002,null,"2021-08-05",23.645903997000001]
[null,null,null,"2021-08-06",413.16857864999997,118.34328827,157.66943155000001,117.87553588999999,145.13345909,172.39262579999999,null,null,null,null,null,"",null,"2021-08-06",1.3173400705,null,"2021-08-06",23.684766104000001]
[null,null,null,"2021-08-09",415.77524260000001,119.0676412,157.93778078,117.89902812,145.89201591,173.32721075000001,null,null,null,null,null,"",null,"2021-08-09",0.63089597988000001,null,"2021-08-09",23.837658268999999]
[null,null,null,"2021-08-10",422.74215791,116.83301896,156.88899519,117.92252491000001,143.98224618,171.09142829000001,null,null,null,null,null,"",null,"2021-08-10",1.6756445766000001,null,"2021-08-10",24.050185707000001]
[null,null,null,"2021-08-11",415.70553110999998,116.17022948,156.70138696000001,117.94602645000001,143.25545369,170.26075557999999,null,null,null,null,null,"",null,"2021-08-11",-1.664519772,null,"2021-08-11",24.090748967]
[null,null,null,"2021-08-12",403.23536639999998,113.73781829000001,154.96131518999999,117.96953273,138.86330095,165.07258838999999,null,null,null,null,null,"",null,"2021-08-12",-2.9997591484999999,null,"2021-08-12",24.822551683]
[null,null,null,"2021-08-13",399.02386014000001,113.07764853,155.59395534999999,117.99304356,140.48279350000001,167.03008249000001,null,null,null,null,null,"",null,"2021-08-13",-1.0444287918999999,null,"2021-08-13",24.914030953000001]
[null,null,null,"2021-08-16",390.21854490999999,110.83647698999999,153.00865157000001,118.01655915000001,137.75435904,163.81776478,null,null,null,null,null,"",null,"2021-08-16",-2.2067139606000001,null,"2021-08-16",25.660462005999999]
[null,null,null,"2021-08-17",383.74673260999998,108.04778371,151.37018327000001,118.04007948,136.36857871999999,162.20119301,null,null,null,null,null,"",null,"2021-08-17",-1.6585096689000001,null,"2021-08-17",25.345502754999998]
[null,null,null,"2021-08-18",382.60260747000001,108.26522058,149.75101115999999,118.06360436,135.79034559999999,161.54469778000001,null,null,null,null,null,"",null,"2021-08-18",-0.29814589852000001,null,"2021-08-18",24.807271592999999]
[null,null,null,"2021-08-19",389.93662925000001,109.24368647,150.42126797,118.08713400000001,136.92653153000001,162.92791742,null,null,null,null,null,"",null,"2021-08-19",1.9168771038000001,null,"2021-08-19",26.066167062000002]
[null,null,null,"2021-08-20",395.92820476999998,110.52996960999999,151.56142478000001,118.11066838000001,137.33030513,163.44000564000001,null,null,null,null,null,"",null,"2021-08-20",1.5365510868000001,null,"2021-08-20",26.528846892000001]
[null,null,null,"2021-08-23",397.53267561000001,108.45646023,150.81538262000001,118.1342075,136.92799758000001,162.99276427000001,null,null,null,null,null,"",null,"2021-08-23",0.40524287597000003,null,"2021-08-23",26.920102530000001]
[null,null,null,"2021-08-24",403.30518289999998,113.75353662000001,154.33193600000001,118.15775118000001,139.94316627000001,166.61413716000001,null,null,null,null,null,"",null,"2021-08-24",1.4520837267,null,"2021-08-24",27.034873645000001]
[null,null,null,"2021-08-25",400.03920837999999,114.48574871,155.11117838000001,118.18129961,139.77933558999999,166.45130674000001,null,null,null,null,null,"",null,"2021-08-25",-0.80980226793999999,null,"2021-08-25",26.480532821000001]
[null,null,null,"2021-08-26",399.17706999000001,110.25358901,152.42314135000001,118.20485278,137.38332714000001,163.62978190999999,null,null,null,null,null,"",null,"2021-08-26",-0.21551347418,null,"2021-08-26",26.481434696000001]
[null,null,null,"2021-08-27",416.54822360999998,113.13004296,154.9312989,118.22841052,140.51712341999999,167.39468205,null,null,null,null,null,"",null,"2021-08-27",4.3517413534999996,null,"2021-08-27",29.118752793999999]
[null,null,null,"2021-08-30",411.71800216000003,111.00675888000001,153.72751474,118.25197299,138.87637319999999,165.47212987,null,null,null,null,null,"",null,"2021-08-30",-1.1595827750000001,null,"2021-08-30",26.677107691]
[null,null,null,"2021-08-31",403.9584984,110.3871948,152.49639753,118.27554021,139.82747078,166.63762889,null,null,null,null,null,"",null,"2021-08-31",-1.8846646783000001,null,"2021-08-31",26.807956574999999]
[null,null,null,"2021-09-01",401.87418302999998,109.18212302000001,153.28540998,118.29911217999999,140.29904902000001,167.23200129,null,null,null,null,null,"",null,"2021-09-01",-0.51597265128000003,null,"2021-09-01",26.254847651999999]
[null,null,null,"2021-09-02",399.06639173999997,106.27161270000001,149.79525244000001,118.32268870999999,136.05557782,162.20532048000001,null,null,null,null,null,"",null,"2021-09-02",-0.69867421316,null,"2021-09-02",26.22301968]
[null,null,null,"2021-09-03",392.00757614000003,105.47259771,150.12412211,118.34626998,135.11107745000001,161.11047797000001,null,null,null,null,null,"",null,"2021-09-03",-1.7688323908000001,null,"2021-09-03",26.450082053999999]
[null,null,null,"2021-09-06",393.20032700000002,107.45441685,151.32501761,118.369856,136.87167696,163.24147174000001,null,null,null,null,null,{"$f":"IF(O971=\"\",\"\",O971*(-1))","v":""},null,"2021-09-06",0.30426729718000001,null,"2021-09-06",26.628985620000002]
[null,null,null,"2021-09-07",null,null,null,null,null,null,null,null,null,null,null,"",null,"2021-09-07",null,null,"2021-09-07"]
[null,null,null,"2021-09-08",382.52852948999998,102.04338258,145.60447517,118.39344676,129.22673384000001,154.15349148000001,null,null,null,null,null,"",null,"2021-09-08",-2.7140866314999998,null,"2021-09-08",27.3142687]
[null,null,null,"2021-09-09",400.03630283000001,104.48627266,148.10543036000001,118.41704209,132.00257046999999,157.49525378000001,null,null,null,null,null,"",null,"2021-09-09",4.5768542708000002,null,"2021-09-09",31.529396415000001]
[null,null,null,"2021-09-10",395.02760704000002,104.69061091,146.72538716,118.44064215,130.92685895,156.24204539999999,null,null,null,null,null,"",null,"2021-09-10",-1.2520603149,null,"2021-09-10",31.055927088000001]
[null,null,null,"2021-09-13",405.60535630999999,108.54291103,149.44430065,118.46424697,133.92858888000001,159.85511761999999,null,null,null,null,null,"",null,"2021-09-13",2.6777240579999999,null,"2021-09-13",31.737660504000001]
[null,null,null,"2021-09-14",410.63599248000003,107.87488211,149.15778503000001,118.48785653,133.62829371999999,159.52757331999999,null,null,null,null,null,"",null,"2021-09-14",1.2402785349000001,null,"2021-09-14",31.216183872999999]
[null,null,null,"2021-09-15",411.76945846000001,106.61872576,147.7224338,118.51147082999999,132.11618906000001,157.75293869999999,null,null,null,null,null,"",null,"2021-09-15",0.27602694536,null,"2021-09-15",30.501940003000001]
[null,null,null,"2021-09-16",406.51721470000001,105.60227390999999,146.09418489999999,118.53508969000001,131.98131280000001,157.6224047,null,null,null,null,null,"",null,"2021-09-16",-1.2755301928,null,"2021-09-16",29.810056147000001]
[null,null,null,"2021-09-17",392.27348142,105.57345698,143.07084614999999,118.55871329999999,129.02222037999999,154.11826135000001,null,null,null,null,null,"",null,"2021-09-17",-3.5038450441000002,null,"2021-09-17",31.757236715000001]
[null,null,null,"2021-09-20",376.78717831,104.77706172000001,139.73846029000001,118.58234166,125.04166015,149.39236586999999,null,null,null,null,null,"",null,"2021-09-20",-3.9478332937,null,"2021-09-20",35.003485130000001]
[null,null,null,"2021-09-21",383.31528474999999,107.39154354,141.54353312000001,118.60597476,125.74817231999999,150.26555511999999,null,null,null,null,null,"",null,"2021-09-21",1.7325712803,null,"2021-09-21",34.800137282000001]
[null,null,null,"2021-09-22",395.85065861999999,108.07398092,144.15301169,118.6296126,129.08293913,154.28037594,null,null,null,null,null,"",null,"2021-09-22",3.2702515049000001,null,"2021-09-22",35.781705870000003]
[null,null,null,"2021-09-23",402.11350714999998,105.9087813,146.44092567999999,118.65771193,131.10400622,156.72630344000001,null,null,null,null,null,"",null,"2021-09-23",1.5821240642000001,null,"2021-09-23",36.138603138999997]
[null,null,null,"2021-09-24",405.84942472,105.07963952,145.43735710999999,118.6858179,129.80863208,155.20781514999999,null,null,null,null,null,"",null,"2021-09-24",0.92907039907,null,"2021-09-24",35.950883310000002]
[null,null,null,"2021-09-27",406.14548774000002,103.94137062999999,145.82294702999999,118.71393051,131.36141952,157.09484333,null,null,null,null,null,"",null,"2021-09-27",7.2948981324000003E-2,null,"2021-09-27",34.357397341999999]
[null,null,null,"2021-09-28",384.31963865,99.834957560999996,141.38192275,118.74204976,126.83414617,151.71005674,null,null,null,null,null,"",null,"2021-09-28",-5.3738991929999997,null,"2021-09-28",38.172439140000002]
[null,null,null,"2021-09-29",386.26945094000001,99.037252436000003,142.64391642000001,118.77017567,127.87821552,152.98851633999999,null,null,null,null,null,"",null,"2021-09-29",0.50734131163999996,null,"2021-09-29",37.410602195000003]
[null,null,null,"2021-09-30",389.02676726999999,98.704547836000003,142.47993094,118.79830821,126.62889968,151.52321735999999,null,null,null,null,null,"",null,"2021-09-30",0.71383235809000001,null,"2021-09-30",37.887506997000003]
[null,null,null,"2021-10-01",404.22696268999999,101.80236822000001,144.94560607,118.82644740000001,130.68862641000001,156.41133687999999,null,null,null,null,null,"",null,"2021-10-01",3.9072363898,null,"2021-10-01",40.205110128000001]
[null,null,null,"2021-10-04",387.02064042000001,98.509378601999998,141.7275851,118.85459324,126.00069881,150.82991036999999,null,null,null,null,null,"",null,"2021-10-04",-4.2565993522000003,null,"2021-10-04",43.457184456]
[null,null,null,"2021-10-05",382.39632659,96.526249606999997,141.81045727,118.88274572,126.84844012000001,151.87410607999999,null,null,null,null,null,"",null,"2021-10-05",-1.1948494060999999,null,"2021-10-05",42.584014572000001]
[null,null,null,"2021-10-06",380.65875323,96.450277689999993,141.94131956999999,118.91090484999999,127.09400289,152.1975798,null,null,null,null,null,"",null,"2021-10-06",-0.45439070427,null,"2021-10-06",42.571074275000001]
[null,null,null,"2021-10-07",392.71562229,95.990516608999997,141.97451978999999,118.93907081,126.22439305,151.18547329,null,null,null,null,null,"",null,"2021-10-07",3.1673694500999998,null,"2021-10-07",42.976976379]
[null,null,null,"2021-10-08",404.32944649000001,101.35701561,144.86030742,118.96724340999999,128.88538937999999,154.40257725999999,null,null,null,null,null,"",null,"2021-10-08",2.9573114858,null,"2021-10-08",42.913877521000003]
[null,null,null,"2021-10-11",400.19135574000001,100.12050717,144.0223163,118.99542266,125.51555963,150.39469199999999,null,null,null,null,null,"",null,"2021-10-11",-1.0234453094,null,"2021-10-11",41.211755214999997]
[null,null,null,"2021-10-12",null,null,null,null,null,null,null,null,null,null,null,"",null,"2021-10-12",null,null,"2021-10-12"]
[null,null,null,"2021-10-13",406.54305355999998,103.49077858,145.65978319999999,119.02360856,127.85463661,153.22707403000001,null,null,null,null,null,"",null,"2021-10-13",1.5871651733000001,null,"2021-10-13",40.562354692]
[null,null,null,"2021-10-14",415.68972695999997,101.85083306999999,145.31258023999999,119.05180110000001,127.62923198,152.98655554000001,null,null,null,null,null,"",null,"2021-10-14",2.2498658671,null,"2021-10-14",41.056677190000002]
[null,null,null,"2021-10-15",414.08603669000001,102.64722833,147.19021597,119.08000027999999,131.67759685999999,157.86981037999999,null,null,null,null,null,"",null,"2021-10-15",-0.38579020929000002,null,"2021-10-15",41.075625629000001]
[null,null,null,"2021-10-18",408.00740682999998,103.65189143000001,146.90801407000001,119.10820630000001,131.99365202000001,158.27937438999999,null,null,null,null,null,"",null,"2021-10-18",-1.4679630142,null,"2021-10-18",40.106299571999998]
[null,null,null,"2021-10-19",395.91543261999999,97.609504349000005,142.08663795000001,119.13641896,127.26076566,152.63351166999999,null,null,null,null,null,"",null,"2021-10-19",-2.9636653656999998,null,"2021-10-19",40.611835458999998]
[null,null,null,"2021-10-20",401.06606366,96.598291942000003,142.23257258000001,119.16463827,130.90315785999999,157.03250996,null,null,null,null,null,"",null,"2021-10-20",1.3009422236999999,null,"2021-10-20",38.116789828999998]
[null,null,null,"2021-10-21",385.06836884000001,91.724300533999994,138.31502313999999,119.19286422,127.37927108,152.83481399999999,null,null,null,null,null,"",null,"2021-10-21",-3.9887929359999998,null,"2021-10-21",40.478095384]
[null,null,null,"2021-10-22",379.36507014,88.495494078999997,136.46778885000001,119.22109682,123.30366218,147.97337981999999,null,null,null,null,null,"",null,"2021-10-22",-1.4811132665,null,"2021-10-22",39.124353540000001]
[null,null,null,"2021-10-25",389.99923881000001,90.682961332999994,139.57260038999999,119.24933625,125.83980022,151.04617175999999,null,null,null,null,null,"",null,"2021-10-25",2.8031491322000002,null,"2021-10-25",40.774831120999998]
[null,null,null,"2021-10-26",383.59968443000002,86.643351147000004,136.62615109999999,119.27758233,122.34523437,146.88006100999999,null,null,null,null,null,"",null,"2021-10-26",-1.6409145835000001,null,"2021-10-26",40.095160753999998]
[null,null,null,"2021-10-27",374.77168883000002,89.339044326000007,136.55370374,119.30583505,123.12016204,147.83901145999999,null,null,null,null,null,"",null,"2021-10-27",-2.3013563235999999,null,"2021-10-27",40.667431168]
[null,null,null,"2021-10-28",362.18842857999999,87.585140941000006,135.70875418,119.34073955,122.19264337,146.75368524999999,null,null,null,null,null,"",null,"2021-10-28",-3.3575802617999999,null,"2021-10-28",38.006648607999999]
[null,null,null,"2021-10-29",350.46826521999998,86.655139892999998,132.87883947,119.37565429999999,119.47117264000001,143.51297486999999,null,null,null,null,null,"",null,"2021-10-29",-3.2359298188999999,null,"2021-10-29",39.208654154000001]
[null,null,null,"2021-11-01",362.32651609999999,90.107932516000005,135.51091371000001,119.41057911,123.63474432,148.54316054,null,null,null,null,null,"",null,"2021-11-01",3.3835448340999998,null,"2021-11-01",39.287952412000003]
[null,null,null,"2021-11-02",null,null,null,null,null,null,null,null,null,null,null,"",null,"2021-11-02",null,null,"2021-11-02"]
[null,null,null,"2021-11-03",365.54971789000001,93.421879911999994,135.59567314,119.44551417,124.53220903,149.65040675,null,null,null,null,null,"",null,"2021-11-03",0.88958484738999999,null,"2021-11-03",38.645869193999999]
[null,null,null,"2021-11-04",360.09394168,91.876244368000002,132.76506515,119.48045949,120.28776046,144.57784040999999,null,null,null,null,null,"",null,"2021-11-04",-1.4924854104,null,"2021-11-04",36.354761404999998]
[null,null,null,"2021-11-05",381.66819472999998,94.573247405999993,134.57803362000001,119.51541505,122.93067555,147.7830573,null,null,null,null,null,"",null,"2021-11-05",5.9912846475999997,null,"2021-11-05",41.716996268000003]
[null,null,null,"2021-11-08",378.23437794,92.548202871000001,134.52269992000001,119.55038087,121.29713339,145.84750378999999,null,null,null,null,null,"",null,"2021-11-08",-0.89968638586000005,null,"2021-11-08",40.729756905999999]
[null,null,null,"2021-11-09",372.44736909,95.088022635000002,135.49065464,119.58535694,121.17862796999999,145.73322597999999,null,null,null,null,null,"",null,"2021-11-09",-1.5300060459,null,"2021-11-09",39.911626869999999]
[null,null,null,"2021-11-10",368.23607750000002,97.908152572999995,136.04582761,119.62034307,124.52194670999999,149.7830031,null,null,null,null,null,"",null,"2021-11-10",-1.1307078362,null,"2021-11-10",39.027111402000003]
[null,null,null,"2021-11-11",374.72695169999997,100.0930001,138.13484836999999,119.65533945999999,125.72581511999999,151.26037636999999,null,null,null,null,null,"",null,"2021-11-11",1.7626937145999999,null,"2021-11-11",39.652450768000001]
[null,null,null,"2021-11-12",364.13342123000001,98.683590065999994,136.51703713000001,119.6903461,124.95858419,150.36643287999999,null,null,null,null,null,"",null,"2021-11-12",-2.8269998765,null,"2021-11-12",39.651045263]
[null,null,null,"2021-11-15",null,null,null,null,null,null,null,null,null,null,null,"",null,"2021-11-15",null,null,"2021-11-15"]
[null,null,null,"2021-11-16",354.22943135999998,94.777585665000004,134.03808705,119.72536298,122.85676238000001,147.86587311,null,null,null,null,null,"",null,"2021-11-16",-2.7198793909000001,null,"2021-11-16",40.338923469999997]
[null,null,null,"2021-11-17",345.62307563000002,93.090485172000001,132.16982338,119.76039012,121.72301985999999,146.52970951,null,null,null,null,null,"",null,"2021-11-17",-2.4295992825999999,null,"2021-11-17",39.773830523000001]
[null,null,null,"2021-11-18",338.53070521000001,94.189458242000001,131.49907870999999,119.79542752,120.41994898,144.98914661000001,null,null,null,null,null,"",null,"2021-11-18",-2.0520535008,null,"2021-11-18",39.935192258999997]
[null,null,null,"2021-11-19",339.63099926000001,95.999685632999999,132.28096582000001,119.83047516000001,120.33076449000001,144.90981941000001,null,null,null,null,null,"",null,"2021-11-19",0.32502045815000002,null,"2021-11-19",39.398342091000004]
[null,null,null,"2021-11-22",330.29474255999997,93.255527611999995,131.10926494,119.86553306,117.55382833,141.59307093999999,null,null,null,null,null,"",null,"2021-11-22",-2.7489412674000002,null,"2021-11-22",39.519602446]
[null,null,null,"2021-11-23",336.06040641999999,92.654301582000002,133.07540893000001,119.9006012,118.80473239,143.12748787999999,null,null,null,null,null,"",null,"2021-11-23",1.7456117566,null,"2021-11-23",39.447703933]
[null,null,null,"2021-11-24",335.65076390000002,92.921513150999999,134.17999040999999,119.9356796,121.16237929,145.99607692000001,null,null,null,null,null,"",null,"2021-11-24",-0.12189550279,null,"2021-11-24",38.531783246000003]
[null,null,null,"2021-11-25",340.74758622000002,96.082206853000002,135.84521402999999,119.97076826,123.51648324,148.86150155000001,null,null,null,null,null,"",null,"2021-11-25",1.5184897124000001,null,"2021-11-25",37.439825642999999]
[null,null,null,"2021-11-26",324.49505477000002,91.736089280000002,131.24007588000001,120.00586715999999,119.28999374,143.79559352999999,null,null,null,null,null,"",null,"2021-11-26",-4.7696688412999997,null,"2021-11-26",39.995707168000003]
[null,null,null,"2021-11-29",330.94640062000002,90.612228858999998,131.99724897999999,120.04097631,118.86642851000001,143.31276015,null,null,null,null,null,"",null,"2021-11-29",1.9881183867000001,null,"2021-11-29",40.040462529000003]
[null,null,null,"2021-11-30",324.94137583999998,89.134706066999996,130.84361179000001,120.07609591000001,116.95543707,141.0360536,null,null,null,null,null,"",null,"2021-11-30",-1.8145007076999999,null,"2021-11-30",39.383746162999998]
[null,null,null,"2021-12-01",321.54004614000002,86.758618882999997,129.37889903999999,120.11122576,115.45359474,139.25194665999999,null,null,null,null,null,"",null,"2021-12-01",-1.0467517975,null,"2021-12-01",37.036409747]
[null,null,null,"2021-12-02",329.83551261000002,90.469454049999996,134.11843005,120.14636586,119.41595156,144.05894953999999,null,null,null,null,null,"",null,"2021-12-02",2.5799170484,null,"2021-12-02",37.674500817000002]
[null,null,null,"2021-12-03",330.8419442,93.859373363000003,134.89316615000001,120.18151621,119.79284764000001,144.54160517,null,null,null,null,null,{"$f":"IF(O1035=\"\",\"\",O1035*(-1))","v":""},null,"2021-12-03",0.30513136097999999,null,"2021-12-03",37.478503508000003]
[null,null,null,"2021-12-06",338.09105605000002,95.922403856000003,137.19019542999999,120.21667682,121.37605555,146.48025551000001,null,null,null,null,null,"",null,"2021-12-06",2.1911102804000002,null,"2021-12-06",32.343311104999998]
[null,null,null,"2021-12-07",349.60431139999997,93.513570156,138.08734612000001,120.25184768,121.54587259,146.71359852000001,null,null,null,null,null,"",null,"2021-12-07",3.4053711683999999,null,"2021-12-07",34.278692618000001]
[null,null,null,"2021-12-08",349.70846567000001,97.730011527000002,138.77787484000001,120.28702896999999,121.88929395,147.15661843000001,null,null,null,null,null,"",null,"2021-12-08",2.979204437E-2,null,"2021-12-08",34.265174166999998]
[null,null,null,"2021-12-09",342.88071222000002,94.852247720999998,136.46144666000001,120.32882788000001,118.37860157999999,142.94584225,null,null,null,null,null,"",null,"2021-12-09",-1.9524129716,null,"2021-12-09",34.471284435000001]
[null,null,null,"2021-12-10",345.89740935999998,99.012365083999995,138.34497524,120.37064119999999,120.75665096,145.84564552000001,null,null,null,null,null,"",null,"2021-12-10",0.87980951630000004,null,"2021-12-10",34.621869941]
[null,null,null,"2021-12-13",343.57847765999998,97.158912291999997,137.86350779,120.41246915000001,118.59337738000001,143.26065385999999,null,null,null,null,null,"",null,"2021-12-13",-0.67041025422,null,"2021-12-13",33.532776163999998]
[null,null,null,"2021-12-14",334.48305692000002,94.308655559000002,137.06315900000001,120.45431153,118.0692658,142.65514476000001,null,null,null,null,null,"",null,"2021-12-14",-2.6472614929999998,null,"2021-12-14",33.709268121999997]
[null,null,null,"2021-12-15",339.58576941000001,94.908571727999998,137.92495260000001,120.49616852,118.62282046999999,143.3517195,null,null,null,null,null,"",null,"2021-12-15",1.5255518572,null,"2021-12-15",33.539633045000002]
[null,null,null,"2021-12-16",338.45241578999998,94.088598973000003,139.07418620000001,120.53803995,118.597409,143.3487619,null,null,null,null,null,"",null,"2021-12-16",-0.33374591002999998,null,"2021-12-16",32.459819944000003]
[null,null,null,"2021-12-17",333.29728302000001,96.311432464000006,137.62887233000001,120.57992599000001,116.7464033,141.13877364000001,null,null,null,null,null,"",null,"2021-12-17",-1.5231484641999999,null,"2021-12-17",31.863316966999999]
[null,null,null,"2021-12-20",323.31940771000001,92.409357643999996,134.82908946000001,120.62182665,113.99671116,137.84126062000001,null,null,null,null,null,"",null,"2021-12-20",-2.9936863622000001,null,"2021-12-20",33.391197732999998]
[null,null,null,"2021-12-21",326.26944967999998,91.464948129999996,135.4454633,120.66374174000001,112.94775499000001,136.59934027,null,null,null,null,null,"",null,"2021-12-21",0.91242341132000004,null,"2021-12-21",32.841553834999999]
[null,null,null,"2021-12-22",326.69579845999999,91.523891857999999,135.11659363999999,120.70567145,113.61981508,137.43873886,null,null,null,null,null,"",null,"2021-12-22",0.13067382915,null,"2021-12-22",31.583637782]
[null,null,null,"2021-12-23",325.42047357000001,91.140102693000003,134.66416676,120.74761577,113.40003029,137.19943989000001,null,null,null,null,null,"",null,"2021-12-23",-0.39037076649000002,null,"2021-12-23",30.987256565999999]
[null,null,null,"2021-12-24",null,null,null,120.78957472,null,null,null,null,null,null,null,"",null,"2021-12-24",null,null,"2021-12-24"]
[null,null,null,"2021-12-27",330.03978946000001,92.464371791000005,135.51545852000001,120.83154828000001,114.14160541,138.12339005999999,null,null,null,null,null,"",null,"2021-12-27",1.4194914791,null,"2021-12-27",27.488802356000001]
[null,null,null,"2021-12-28",325.67603021000002,94.080739808999994,134.62931037999999,120.87353627,113.48945912000001,137.36081630000001,null,null,null,null,null,"",null,"2021-12-28",-1.322191866,null,"2021-12-28",27.249912038000002]
[null,null,null,"2021-12-29",322.52059343000002,93.527978622999996,133.65752979999999,120.91553888,112.52052464,136.21444645,null,null,null,null,null,"",null,"2021-12-29",-0.96888824892000003,null,"2021-12-29",26.527388978000001]
[null,null,null,"2021-12-30",328.41534702000001,94.867966048,134.57573554000001,120.95755611,112.46664744,136.17558674,null,null,null,null,null,"",null,"2021-12-30",1.8277138628,null,"2021-12-30",26.570370425]
[null,null,null,"2021-12-31",null,null,null,120.99958796,null,null,null,null,null,null,null,"",null,"2021-12-31",null,null,"2021-12-31"]
[null,null,null,"2022-01-03",323.07594275000002,89.792256104000003,133.41918403,121.04163441999999,112.54129363,136.29235424000001,null,null,null,null,null,"",null,"2022-01-03",-1.6258083924,null,"2022-01-03",26.659699169]
[null,null,null,"2022-01-04",317.19548861999999,88.059310488999998,132.89543957999999,121.08369551,112.76840865,136.59384392000001,null,null,null,null,null,"",null,"2022-01-04",-1.8201460877,null,"2022-01-04",26.651111767]
[null,null,null,"2022-01-05",300.95716888999999,84.015770721999999,129.67555702999999,121.12577121,110.65717970999999,134.06251323999999,null,null,null,null,null,"",null,"2022-01-05",-5.1193413237999996,null,"2022-01-05",31.100997481]
[null,null,null,"2022-01-06",303.06953361000001,83.224614900999995,130.38861722999999,121.16786153,112.09683724,135.83297207999999,null,null,null,null,null,"",null,"2022-01-06",0.70188217433,null,"2022-01-06",29.994221121999999]
[null,null,null,"2022-01-07",314.65928644000002,83.232474065000005,131.87584862,121.20996647,114.02664294,138.19816195999999,null,null,null,null,null,"",null,"2022-01-07",3.8241233586000001,null,"2022-01-07",30.643939605]
[null,null,null,"2022-01-10",310.07719823000002,81.665880749999999,130.88180617,121.25208601999999,113.76422065,137.90680882999999,null,null,null,null,null,"",null,"2022-01-10",-1.4562062551999999,null,"2022-01-10",31.485019614999999]
[null,null,null,"2022-01-11",317.68335249,83.299276957000004,133.23609493000001,121.2942202,115.19056159,139.66287990999999,null,null,null,null,null,"",null,"2022-01-11",2.4529872907999999,null,"2022-01-11",32.394165463999997]
[null,null,null,"2022-01-12",321.64219114999997,87.007492403000001,135.68397597000001,121.336369,115.59604557999999,140.18164745999999,null,null,null,null,null,"",null,"2022-01-12",1.2461586761000001,null,"2022-01-12",32.109996270000003]
[null,null,null,"2022-01-13",316.54654414999999,87.296971601999999,135.48349078000001,121.37853241000001,116.38807713,141.16946204999999,null,null,null,null,null,"",null,"2022-01-13",-1.5842595112,null,"2022-01-13",32.373707987000003]
[null,null,null,"2022-01-14",326.28900499999997,89.724143350999995,137.27867800999999,121.42071063,118.68219535,143.97991812999999,null,null,null,null,null,"",null,"2022-01-14",3.077734076,null,"2022-01-14",33.268644121999998]
[null,null,null,"2022-01-17",322.79467684999997,88.773184533000006,136.56753075,121.46290347,118.94620587,144.32814476999999,null,null,null,null,null,"",null,"2022-01-17",-1.0709304004,null,"2022-01-17",34.238606601000001]
[null,null,null,"2022-01-18",325.23178438000002,87.796028503000002,136.94471148,121.50511093,118.776511,144.15014517,null,null,null,null,null,"",null,"2022-01-18",0.75500239053999996,null,"2022-01-18",33.523343494000002]
[null,null,null,"2022-01-19",330.29901089999998,91.117835061999997,138.67252253999999,121.54733299999999,119.27777669,144.78652341,null,null,null,null,null,"",null,"2022-01-19",1.5580354566000001,null,"2022-01-19",33.198128443999998]
[null,null,null,"2022-01-20",336.27391853,95.241276327999998,140.07001319,121.5895697,121.86009519,147.94973861,null,null,null,null,null,"",null,"2022-01-20",1.8089390018,null,"2022-01-20",31.960528134]
[null,null,null,"2022-01-21",331.31197085000002,97.361940689999997,139.86420003999999,121.6318212,122.1490285,148.32924661000001,null,null,null,null,null,"",null,"2022-01-21",-1.4755672111,null,"2022-01-21",32.335258195000002]
[null,null,null,"2022-01-24",324.84912831999998,96.131981557000003,138.57448815999999,121.67408732,121.25950486000001,147.27758317000001,null,null,null,null,null,"",null,"2022-01-24",-1.9506818644999999,null,"2022-01-24",33.852533497000003]
[null,null,null,"2022-01-25",329.67017879999997,99.934506967999994,141.48452761999999,121.71636805999999,125.02272370999999,151.87766053999999,null,null,null,null,null,"",null,"2022-01-25",1.4840890943,null,"2022-01-25",33.414408985000001]
[null,null,null,"2022-01-26",330.94210170000002,101.81939641,142.87802550999999,121.75866361,126.52297783,153.72993095000001,null,null,null,null,null,"",null,"2022-01-26",0.38581678873000003,null,"2022-01-26",32.663656715999998]
[null,null,null,"2022-01-27",338.03097600000001,103.53400397999999,144.57587162999999,121.80097378000001,129.10102036999999,156.89271792,null,null,null,null,null,"",null,"2022-01-27",2.1420285493,null,"2022-01-27",33.077242056999999]
[null,null,null,"2022-01-28",334.86138387,102.77297495000001,143.67519037,121.84329875,130.16304879,158.21399932,null,null,null,null,null,"",null,"2022-01-28",-0.93766321997000002,null,"2022-01-28",32.907897849000001]
[null,null,null,"2022-01-31",336.68726650999997,104.62380802,143.97485255999999,121.88563834999999,131.71852397999999,160.13569029999999,null,null,null,null,null,"",null,"2022-01-31",0.54526521325999999,null,"2022-01-31",32.984678283999997]
[null,null,null,"2022-02-01",343.19765805999998,103.15807398,145.36756731,121.92799275,131.64290043,160.07474094,null,null,null,null,null,"",null,"2022-02-01",1.9336613524999999,null,"2022-02-01",32.769389783000001]
[null,null,null,"2022-02-02",335.13720116000002,101.61374829,143.65498264999999,121.97036177,129.16809198999999,157.09584343,null,null,null,null,null,"",null,"2022-02-02",-2.3486340036,null,"2022-02-02",33.116921765999997]
[null,null,null,"2022-02-03",329.05112480999998,102.10232631,143.40024217999999,122.01935428,129.51395676000001,157.54698847,null,null,null,null,null,"",null,"2022-02-03",-1.8159954587,null,"2022-02-03",33.233229162999997]
[null,null,null,"2022-02-04",336.42241008000002,98.901026931000004,144.10507293000001,122.06836653000001,129.84821532999999,157.98418126000001,null,null,null,null,null,"",null,"2022-02-04",2.2401641322999999,null,"2022-02-04",33.261929498999997]
[null,null,null,"2022-02-07",338.33348166000002,99.409252855000005,143.78598617,122.11739833999999,128.78447652,156.72028775999999,null,null,null,null,null,"",null,"2022-02-07",0.56805715794,null,"2022-02-07",26.406708732999999]
[null,null,null,"2022-02-08",339.64496981000002,98.434716546000004,144.09161824,122.16644989,129.41841941000001,157.52224016,null,null,null,null,null,"",null,"2022-02-08",0.38763179417999999,null,"2022-02-08",25.799940797000001]
[null,null,null,"2022-02-09",343.21773571,99.386985225000004,144.38296112,122.21552119,127.00469622999999,154.61429785999999,null,null,null,null,null,"",null,"2022-02-09",1.0519119132000001,null,"2022-02-09",25.334132137000001]
[null,null,null,"2022-02-10",343.63121427999999,98.519857486999996,145.54661229000001,122.26461223,127.84901677000001,155.67230264,null,null,null,null,null,"",null,"2022-02-10",0.12047121363,null,"2022-02-10",24.577676777000001]
[null,null,null,"2022-02-11",344.02587,98.339096720000001,145.80926124000001,122.31372282,130.04808632000001,158.38060855000001,null,null,null,null,null,"",null,"2022-02-11",0.11484862278999999,null,"2022-02-11",23.6626634]
[null,null,null,"2022-02-14",351.05946369999998,99.248139997999999,146.22887305,122.36285316,130.89045213,159.43735973,null,null,null,null,null,"",null,"2022-02-14",2.0444955802,null,"2022-02-14",22.486434397]
[null,null,null,"2022-02-15",354.13515633999998,102.51362254999999,147.42155195000001,122.41200325,133.70758239,162.90043603999999,null,null,null,null,null,"",null,"2022-02-15",0.87611728177000003,null,"2022-02-15",22.037620569000001]
[null,null,null,"2022-02-16",350.15703141,102.30142512,147.87445385000001,122.46117307,134.03182297999999,163.32708821,null,null,null,null,null,"",null,"2022-02-16",-1.1233352164999999,null,"2022-02-16",22.094856311000001]
[null,null,null,"2022-02-17",342.77208538000002,100.89070522,145.75293898000001,122.51036265,132.40683275000001,161.37816641000001,null,null,null,null,null,"",null,"2022-02-17",-2.1090383367999999,null,"2022-02-17",23.061424072000001]
[null,null,null,"2022-02-18",337.58514957,101.26663523000001,144.92019877999999,122.55957196,132.89588139,162.00558469000001,null,null,null,null,null,"",null,"2022-02-18",-1.5132316881000001,null,"2022-02-18",23.699401925]
[null,null,null,"2022-02-21",338.61351162,97.770617205999997,143.43793586999999,122.60880121,130.20788537000001,158.75954093999999,null,null,null,null,null,"",null,"2022-02-21",0.30462301201999997,null,"2022-02-21",22.957133325000001]
[null,null,null,"2022-02-22",333.26163991999999,99.166928639000005,144.93554072000001,122.65805021,131.05574885999999,159.82426264,null,null,null,null,null,"",null,"2022-02-22",-1.5805251446999999,null,"2022-02-22",23.120549724]
[null,null,null,"2022-02-23",327.60544419000001,98.472702503999997,143.80037806999999,122.70731895,130.51563293999999,159.19640326999999,null,null,null,null,null,"",null,"2022-02-23",-1.6972237590999999,null,"2022-02-23",23.302182775999999]
[null,null,null,"2022-02-24",328.01592624,98.139997903999998,143.26663246000001,122.75660743,129.15098811999999,157.56238114000001,null,null,null,null,null,"",null,"2022-02-24",0.12529768919000001,null,"2022-02-24",22.378533303000001]
[null,null,null,"2022-02-25",335.39995732,97.361940689999997,145.25668164000001,122.80591566,129.98907795,158.61554577000001,null,null,null,null,null,"",null,"2022-02-25",2.2511196837999998,null,"2022-02-25",23.029374312000002]
[null,null,null,"2022-02-28",null,null,null,null,null,null,null,null,null,null,null,"",null,"2022-02-28",null,null,"2022-02-28"]
[null,null,null,"2022-03-01",null,null,null,null,null,null,null,null,null,null,null,"",null,"2022-03-01",null,null,"2022-03-01"]
[null,null,null,"2022-03-02",351.35921644000001,95.763910719999998,147.86503042999999,122.85524383000001,128.45767035,156.77723935,null,null,null,null,null,"",null,"2022-03-02",4.7582770279000002,null,"2022-03-02",27.434779953]
[null,null,null,"2022-03-03",355.4261659,96.583883474999993,147.85468263999999,122.90459173000001,129.78480883,158.42762708999999,null,null,null,null,null,{"$f":"IF(O1099=\"\",\"\",O1099*(-1))","v":""},null,"2022-03-03",1.1574904729,null,"2022-03-03",26.369030177999999]
[null,null,null,"2022-03-04",353.78816664999999,93.627528030999997,146.96655738999999,122.95395958,126.93896848999999,154.98372867,null,null,null,null,null,"",null,"2022-03-04",-0.46085499752999998,null,"2022-03-04",25.615140769]
[null,null,null,"2022-03-07",346.94618642,89.382269726000004,143.26867378,123.00334716,122.72151959999999,149.86352689,null,null,null,null,null,"",null,"2022-03-07",-1.9339200343,null,"2022-03-07",26.829510838000001]
[null,null,null,"2022-03-08",345.17783323999998,90.555904851999998,142.76796150000001,123.05275449,122.62329449000001,149.77257251,null,null,null,null,null,"",null,"2022-03-08",-0.50969091162000002,null,"2022-03-08",26.912203700999999]
[null,null,null,"2022-03-09",344.83375204999999,95.076233888999994,146.23034946999999,123.10218175999999,128.65631963999999,157.17176042,null,null,null,null,null,"",null,"2022-03-09",-9.9682295421999995E-2,null,"2022-03-09",26.663370490999998]
[null,null,null,"2022-03-10",341.67241204999999,94.210416011999996,145.92580867000001,123.15162896,126.84379764000001,154.98751479000001,null,null,null,null,null,"",null,"2022-03-10",-0.91677220671000004,null,"2022-03-10",26.879829119]
[null,null,null,"2022-03-11",333.84236555000001,89.231635753999996,143.42223444000001,123.2010959,125.5239894,153.40456954999999,null,null,null,null,null,"",null,"2022-03-11",-2.2916823910000002,null,"2022-03-11",28.121503875999998]
[null,null,null,"2022-03-14",321.66527937000001,88.195535995,141.12999389999999,123.25058278,125.96539153000001,153.97382134,null,null,null,null,null,"",null,"2022-03-14",-3.6475556835999998,null,"2022-03-14",29.568870427]
[null,null,null,"2022-03-15",318.07709316,88.733888714000003,139.88682138999999,123.30008959,125.66033170999999,153.63067323999999,null,null,null,null,null,"",null,"2022-03-15",-1.1155031149000001,null,"2022-03-15",29.173029271000001]
[null,null,null,"2022-03-16",324.92828897999999,89.515875511000004,142.65110596,123.34961615,128.22762324999999,156.79976551999999,null,null,null,null,null,"",null,"2022-03-16",2.1539419127000001,null,"2022-03-16",30.707953073999999]
[null,null,null,"2022-03-17",339.38971430999999,89.122917322000006,145.17244858999999,123.4035683,130.55875914000001,159.68124671000001,null,null,null,null,null,"",null,"2022-03-17",4.4506513651999997,null,"2022-03-17",34.460845628999998]
[null,null,null,"2022-03-18",348.26286954,93.696950643999998,148.04130230999999,123.45754399,131.91692893000001,161.37361118999999,null,null,null,null,null,"",null,"2022-03-18",2.6144443546999998,null,"2022-03-18",35.234553886999997]
[null,null,null,"2022-03-21",347.55524315999997,93.432358797000006,149.12437939,123.51154341,133.01035517,162.74270232000001,null,null,null,null,null,"",null,"2022-03-21",-0.20318743190999999,null,"2022-03-21",35.256431775999999]
[null,null,null,"2022-03-22",350.95330938000001,96.599601801999995,150.55960223,123.56556638000001,136.16455393000001,166.63423121,null,null,null,null,null,"",null,"2022-03-22",0.97770535466999997,null,"2022-03-22",34.716128650999998]
[null,null,null,"2022-03-23",353.96913046999998,98.010321701999999,150.79698511999999,123.61961307,136.12655889999999,166.61999046,null,null,null,null,null,"",null,"2022-03-23",0.85932259480999995,null,"2022-03-23",33.891758989000003]
[null,null,null,"2022-03-24",354.72309846000002,102.1691292,152.84544923000001,123.67368331,137.80811408,168.71088861999999,null,null,null,null,null,"",null,"2022-03-24",0.21300388307000001,null,"2022-03-24",33.882229700000003]
[null,null,null,"2022-03-25",350.10350727999997,104.77575186,152.88167933,123.72777728,139.24080789000001,170.49786399000001,null,null,null,null,null,"",null,"2022-03-25",-1.302309097,null,"2022-03-25",33.704876681000002]
[null,null,null,"2022-03-28",350.28701021000001,103.90731426000001,152.44087124999999,123.78189479,138.7341667,169.91038442999999,null,null,null,null,null,"",null,"2022-03-28",5.2413909178999997E-2,null,"2022-03-28",32.812539923999999]
[null,null,null,"2022-03-29",352.27168291999999,105.75290789,154.0795578,123.83603603,140.75107998999999,172.41391479999999,null,null,null,null,null,"",null,"2022-03-29",0.56658472839999996,null,"2022-03-29",32.002879765000003]
[null,null,null,"2022-03-30",352.63618673000002,104.25311746,154.39485723000001,123.890201,140.48951288000001,172.12682909,null,null,null,null,null,"",null,"2022-03-30",0.10347235729,null,"2022-03-30",31.235300537000001]
[null,null,null,"2022-03-31",347.93487783,102.93146809,154.06037716,123.9443897,139.77713652,171.28719025000001,null,null,null,null,null,"",null,"2022-03-31",-1.3331895814000001,null,"2022-03-31",30.961576395000002]
[null,null,null,"2022-04-01",355.93329598000003,106.50345803,156.07719449999999,123.99860194999999,140.88204680000001,172.67460979000001,null,null,null,null,null,"",null,"2022-04-01",2.2988262057000002,null,"2022-04-01",31.039056023000001]
[null,null,null,"2022-04-04",355.27236807000003,106.11049984,155.70405787000001,124.05283792,140.21255228999999,171.88730802000001,null,null,null,null,null,"",null,"2022-04-04",-0.18568870155,null,"2022-04-04",28.216170883]
[null,null,null,"2022-04-05",346.45278008999998,103.7959761,152.63007143999999,124.10709763,136.59948102000001,167.49044986000001,null,null,null,null,null,"",null,"2022-04-05",-2.4824863301,null,"2022-04-05",28.812465241999998]
[null,null,null,"2022-04-06",341.27308283999997,100.71387403999999,151.78607192999999,124.16138107,135.95087767000001,166.72744689999999,null,null,null,null,null,"",null,"2022-04-06",-1.495065866,null,"2022-04-06",28.547031339]
[null,null,null,"2022-04-07",342.94836612,100.48071885,152.6005045,124.21568824000001,136.58799698999999,167.54123214000001,null,null,null,null,null,"",null,"2022-04-07",0.49089229978999999,null,"2022-04-07",27.952009133000001]
[null,null,null,"2022-04-08",340.23967006999999,98.433406685999998,151.90740808999999,124.27001933,136.46167266,167.41869159999999,null,null,null,null,null,"",null,"2022-04-08",-0.78982620179999996,null,"2022-04-08",28.017744574999998]
[null,null,null,"2022-04-11",334.68109634000001,96.777742848000003,150.1492983,124.32437415,134.72404121,165.31887426,null,null,null,null,null,"",null,"2022-04-11",-1.6337229939,null,"2022-04-11",28.610615014]
[null,null,null,"2022-04-12",332.51000576000001,96.817038667000006,149.11453230000001,124.37875271,132.43542066000001,162.54199191000001,null,null,null,null,null,"",null,"2022-04-12",-0.64870427685999998,null,"2022-04-12",28.038589361]
[null,null,null,"2022-04-13",335.19805199000001,97.233574348000005,149.92990208000001,124.43315499000001,133.25787267000001,163.58308065,null,null,null,null,null,"",null,"2022-04-13",0.80841062991000001,null,"2022-04-13",27.551512683999999]
[null,null,null,"2022-04-14",335.06505117,95.845122079000006,149.1591459,124.48758119999999,133.38199793000001,163.76715701000001,null,null,null,null,null,"",null,"2022-04-14",-3.9678280245000003E-2,null,"2022-04-14",24.494336307000001]
[null,null,null,"2022-04-15",null,null,null,null,null,null,null,null,null,null,null,"",null,"2022-04-15",null,null,"2022-04-15"]
[null,null,null,"2022-04-18",334.38618324999999,96.492193231000002,148.52446442999999,124.54203113,135.03007837999999,165.82278147,null,null,null,null,null,"",null,"2022-04-18",-0.20260779729,null,"2022-04-18",17.125419252]
[null,null,null,"2022-04-19",332.57182992000003,98.315519229000003,147.71488479000001,124.59650480000001,133.90317741000001,164.47073868000001,null,null,null,null,null,"",null,"2022-04-19",-0.54259219232,null,"2022-04-19",16.752353929000002]
[null,null,null,"2022-04-20",332.44988735999999,98.712406999999999,146.79965756999999,124.65100239,134.27970698999999,164.96515893,null,null,null,null,null,"",null,"2022-04-20",-3.6666534378999999E-2,null,"2022-04-20",16.378355718000002]
[null,null,null,"2022-04-21",null,null,null,null,null,null,null,null,null,null,null,"",null,"2022-04-21",null,null,"2022-04-21"]
[null,null,null,"2022-04-22",321.19028383,95.735093785999993,142.60627410000001,124.70552370999999,131.49030943,161.56961004999999,null,null,null,null,null,"",null,"2022-04-22",-3.3868573742999999,null,"2022-04-22",19.455863679]
[null,null,null,"2022-04-25",321.11542938000002,96.573404589999996,142.10228802,124.76006895,130.91879569,160.89850748999999,null,null,null,null,null,"",null,"2022-04-25",-2.3305328431999998E-2,null,"2022-04-25",19.563685196000002]
[null,null,null,"2022-04-26",317.45548910000002,95.067064864000002,138.92850834000001,124.81463812,126.26776359,155.21246169,null,null,null,null,null,"",null,"2022-04-26",-1.1397584636,null,"2022-04-26",19.217784944999998]
[null,null,null,"2022-04-27",325.22981563000002,95.659121869000003,140.38761069,124.86923100999999,125.91493509999999,154.80872325999999,null,null,null,null,null,"",null,"2022-04-27",2.4489501033000001,null,"2022-04-27",21.176439382000002]
[null,null,null,"2022-04-28",330.34568021000001,96.915278213999997,141.11888863999999,124.92384783,125.76136674,154.6498546,null,null,null,null,null,"",null,"2022-04-28",1.5729998728000001,null,"2022-04-28",22.114343776999998]
[null,null,null,"2022-04-29",325.84763556000001,96.112333648000003,138.49623782,124.97848856,123.05883244,151.35582592,null,null,null,null,null,"",null,"2022-04-29",-1.3616175192,null,"2022-04-29",22.195911604999999]
[null,null,null,"2022-05-02",316.27091598999999,95.101121241000001,136.90745430999999,125.03315322,121.51288654,149.48333353000001,null,null,null,null,null,"",null,"2022-05-02",-2.9390176649000002,null,"2022-05-02",22.604398248999999]
[null,null,null,"2022-05-03",317.45595188999999,94.912501309999996,136.76552527999999,125.08784180000001,121.54672778,149.55391710999999,null,null,null,null,null,"",null,"2022-05-03",0.37469012987,null,"2022-05-03",22.29978865]
[null,null,null,"2022-05-04",326.60780038000001,96.657235670000006,139.09653793000001,125.1425543,123.13262344,151.53457599999999,null,null,null,null,null,"",null,"2022-05-04",2.8828719167000001,null,"2022-05-04",25.228829186999999]
[null,null,null,"2022-05-05",317.00796493000001,91.988892382000003,135.19422772999999,125.20172067999999,119.05640369,146.54649977,null,null,null,null,null,"",null,"2022-05-05",-2.9392547983999999,null,"2022-05-05",25.766210586]
[null,null,null,"2022-05-06",312.11443159999999,90.591271089000003,134.97666741,125.26091516,119.31638257,146.89494556,null,null,null,null,null,"",null,"2022-05-06",-1.5436625825000001,null,"2022-05-06",25.792396258]
[null,null,null,"2022-05-09",297.53701895,90.182594571999999,132.55699243000001,125.32013755,119.26824739,146.86411636,null,null,null,null,null,"",null,"2022-05-09",-4.6705346413999997,null,"2022-05-09",30.323669323000001]
[null,null,null,"2022-05-10",296.58855283000003,91.064130775999999,132.37715147,125.37938784000001,119.13789143,146.73200539000001,null,null,null,null,null,"",null,"2022-05-10",-0.31877247492999999,null,"2022-05-10",29.586101799000001]
[null,null,null,"2022-05-11",304.25692435000002,90.622707743999996,134.02940826,125.43866623,120.06699831,147.90494065999999,null,null,null,null,null,"",null,"2022-05-11",2.5855251154999999,null,"2022-05-11",31.381513208000001]
[null,null,null,"2022-05-12",309.06143907000001,92.997485068000003,135.68651799,125.49797273,122.96659369,151.50614762999999,null,null,null,null,null,"",null,"2022-05-12",1.5790979045,null,"2022-05-12",32.154686024999997]
[null,null,null,"2022-05-13",315.17364860999999,94.505134654000003,137.27404333000001,125.55730712,123.46908108,152.15471438,null,null,null,null,null,"",null,"2022-05-13",1.9776681172999999,null,"2022-05-13",32.922138384]
[null,null,null,"2022-05-16",317.75632138999998,96.78167243,138.95403117000001,125.61666962,124.926209,153.98018704,null,null,null,null,null,"",null,"2022-05-16",0.81944438862000002,null,"2022-05-16",33.142419554]
[null,null,null,"2022-05-17",318.31336112999998,97.054123441000002,139.66860629999999,125.67606021,126.89779702,156.44059136000001,null,null,null,null,null,"",null,"2022-05-17",0.17530406348999999,null,"2022-05-17",32.377930047]
[null,null,null,"2022-05-18",307.37550092999999,93.614429424999997,136.40484194000001,125.73547891,124.28701278,153.25166469000001,null,null,null,null,null,"",null,"2022-05-18",-3.4361926126000002,null,"2022-05-18",34.191322790000001]
[null,null,null,"2022-05-19",307.56517134000001,93.759823955000002,137.37808611,125.79492569999999,124.85803783999999,153.98557567,null,null,null,null,null,"",null,"2022-05-19",6.1706418455000002E-2,null,"2022-05-19",34.222234577999998]
[null,null,null,"2022-05-20",312.46674137000002,94.376768311999996,139.28159131000001,125.85440058,126.78955393,156.39796351000001,null,null,null,null,null,"",null,"2022-05-20",1.5936687514000001,null,"2022-05-20",34.843949924999997]
[null,null,null,"2022-05-23",317.63972193000001,94.684585560000002,141.66689776000001,125.91390357,128.66328336000001,158.73998477000001,null,null,null,null,null,"",null,"2022-05-23",1.6555299742,null,"2022-05-23",33.544689695999999]
[null,null,null,"2022-05-24",320.90572572999997,93.200513465,141.96856274999999,125.97343465,129.46020172999999,159.75412036,null,null,null,null,null,"",null,"2022-05-24",1.0282101306,null,"2022-05-24",32.965969190999999]
[null,null,null,"2022-05-25",319.39550091000001,92.594047993000004,141.96730457999999,126.03299383,128.04277923000001,158.03561306,null,null,null,null,null,"",null,"2022-05-25",-0.47061323703000002,null,"2022-05-25",33.002298838000002]
[null,null,null,"2022-05-26",321.73222118000001,93.436288379000004,143.64923103000001,126.09258130000001,129.66288263999999,160.06619837,null,null,null,null,null,"",null,"2022-05-26",0.73160713309000003,null,"2022-05-26",32.854293251999998]
[null,null,null,"2022-05-27",326.08000944000003,93.546316672000003,143.71573418,126.15219687,130.65857245999999,161.32658896000001,null,null,null,null,null,"",null,"2022-05-27",1.3513686165000001,null,"2022-05-27",32.154143345000001]
[null,null,null,"2022-05-30",323.08244212,92.894006078000004,142.54798754999999,126.21184072,129.78884045999999,160.28374435999999,null,null,null,null,null,"",null,"2022-05-30",-0.91927356424999995,null,"2022-05-30",32.267512271999998]
[null,null,null,"2022-05-31",321.40893014,91.818610500000005,142.95676370000001,126.27151268,130.74726827000001,161.49862729,null,null,null,null,null,"",null,"2022-05-31",-0.51798295499000002,null,"2022-05-31",31.565352039]
[null,null,null,"2022-06-01",324.66324698,90.685581053999996,142.96887036000001,126.33121292,128.95881387,159.32037718999999,null,null,null,null,null,{"$f":"IF(O1163=\"\",\"\",O1163*(-1))","v":""},null,"2022-06-01",1.0125160010000001,null,"2022-06-01",31.065165069999999]
[null,null,null,"2022-06-02",328.87985343000003,92.212878549999999,144.29504342999999,126.39094125,129.79055084000001,160.37898333999999,null,null,null,null,null,"",null,"2022-06-02",1.2987630994999999,null,"2022-06-02",29.640722371999999]
[null,null,null,"2022-06-03",322.32109879000001,91.415173425999996,142.63812629,126.45069788000001,127.90057272999999,158.07418605999999,null,null,null,null,null,"",null,"2022-06-03",-1.9942707278,null,"2022-06-03",30.457821209999999]
[null,null,null,"2022-06-06",318.79408591999999,88.978832651999994,141.46159814999999,126.51048279,126.58687302,156.48085899,null,null,null,null,null,"",null,"2022-06-06",-1.0942544179,null,"2022-06-06",28.221028535999999]
[null,null,null,"2022-06-07",320.07276919999998,88.059310488999998,141.31247959000001,126.57029599000001,125.12498045,154.70368432000001,null,null,null,null,null,"",null,"2022-06-07",0.40110006303000001,null,"2022-06-07",27.589957826999999]
[null,null,null,"2022-06-08",315.65404002999998,87.467253483999997,139.12726033999999,126.63013748,123.44257007,152.65311602,null,null,null,null,null,"",null,"2022-06-08",-1.3805389268999999,null,"2022-06-08",27.419613499]
[null,null,null,"2022-06-09",310.67038501000002,86.821492192999997,137.49169352000001,126.69000724999999,123.19920638000001,152.38166455000001,null,null,null,null,null,"",null,"2022-06-09",-1.5788345424000001,null,"2022-06-09",22.81745119]
[null,null,null,"2022-06-10",307.14803434999999,84.902546369000007,135.42151960000001,126.74990532,120.63570213,149.23982939000001,null,null,null,null,null,"",null,"2022-06-10",-1.1337902903999999,null,"2022-06-10",23.169428182000001]
[null,null,null,"2022-06-13",297.65605276000002,82.192444723999998,131.7201311,126.80983166999999,118.63467101000001,146.79274859,null,null,null,null,null,"",null,"2022-06-13",-3.0903605203,null,"2022-06-13",23.242712934]
[null,null,null,"2022-06-14",295.87855352999998,81.693387823999998,131.03336404000001,126.86978630999999,117.95650240000001,145.98187693,null,null,null,null,null,"",null,"2022-06-14",-0.59716548940000003,null,"2022-06-14",22.733998720999999]
[null,null,null,"2022-06-15",295.81434274999998,83.652939326999999,131.98799245999999,126.92976942,119.37746783999999,147.76905769000001,null,null,null,null,null,"",null,"2022-06-15",-2.1701737296000001E-2,null,"2022-06-15",22.250890180999999]
[null,null,null,"2022-06-16",null,null,null,null,null,null,null,null,null,null,null,"",null,"2022-06-16",null,null,"2022-06-16"]
[null,null,null,"2022-06-17",279.26187326000002,83.066121765000005,128.15972158,126.99201252,117.65351948,145.66330142000001,null,null,null,null,null,"",null,"2022-06-17",-5.5955601515,null,"2022-06-17",28.639861411999998]
[null,null,null,null,null,null,null,null,null,null,null,null,null,null,null,""]
[null,null,null,null,null,null,null,null,null,null,null,null,null,null,null,""]
[null,null,null,null,null,null,null,null,null,null,null,null,null,null,null,""]
[null,null,null,null,null,null,null,null,null,null,null,null,null,null,null,""]
[null,null,null,null,null,null,null,null,null,null,null,null,null,null,null,""]
[null,null,null,null,null,null,null,null,null,null,null,null,null,null,null,""]
[null,null,null,null,null,null,null,null,null,null,null,null,null,null,null,""]
[null,null,null,null,null,null,null,null,null,null,null,null,null,null,null,""]
[null,null,null,null,null,null,null,null,null,null,null,null,null,null,null,""]
[null,null,null,null,null,null,null,null,null,null,null,null,null,null,null,""]
[null,null,null,null,null,null,null,null,null,null,null,null,null,null,null,""]
[null,null,null,null,null,null,null,null,null,null,null,null,null,null,null,""]
[null,null,null,null,null,null,null,null,null,null,null,null,null,null,null,""]
[null,null,null,null,null,null,null,null,null,null,null,null,null,null,null,""]
[null,null,null,null,null,null,null,null,null,null,null,null,null,null,null,""]
[null,null,null,null,null,null,null,null,null,null,null,null,null,null,null,""]
[null,null,null,null,null,null,null,null,null,null,null,null,null,null,null,""]
[null,null,null,null,null,null,null,null,null,null,null,null,null,null,null,""]
[null,null,null,null,null,null,null,null,null,null,null,null,null,null,null,""]
[null,null,null,null,null,null,null,null,null,null,null,null,null,null,null,""]
[null,null,null,null,null,null,null,null,null,null,null,null,null,null,null,""]
[null,null,null,null,null,null,null,null,null,null,null,null,null,null,null,""]
[null,null,null,null,null,null,null,null,null,null,null,null,null,null,null,""]
[null,null,null,null,null,null,null,null,null,null,null,null,null,null,null,""]
[null,null,null,null,null,null,null,null,null,null,null,null,null,null,null,""]
[null,null,null,null,null,null,null,null,null,null,null,null,null,null,null,""]
[null,null,null,null,null,null,null,null,null,null,null,null,null,null,null,""]
[null,null,null,null,null,null,null,null,null,null,null,null,null,null,null,""]
[null,null,null,null,null,null,null,null,null,null,null,null,null,null,null,""]
[null,null,null,null,null,null,null,null,null,null,null,null,null,null,null,""]
[null,null,null,null,null,null,null,null,null,null,null,null,null,null,null,""]
[null,null,null,null,null,null,null,null,null,null,null,null,null,null,null,""]
[null,null,null,null,null,null,null,null,null,null,null,null,null,null,null,""]
[null,null,null,null,null,null,null,null,null,null,null,null,null,null,null,""]
[null,null,null,null,null,null,null,null,null,null,null,null,null,null,null,""]
[null,null,null,null,null,null,null,null,null,null,null,null,null,null,null,""]
[null,null,null,null,null,null,null,null,null,null,null,null,null,null,null,""]
[null,null,null,null,null,null,null,null,null,null,null,null,null,null,null,""]
[null,null,null,null,null,null,null,null,null,null,null,null,null,null,null,""]
[null,null,null,null,null,null,null,null,null,null,null,null,null,null,null,""]
[null,null,null,null,null,null,null,null,null,null,null,null,null,null,null,""]
[null,null,null,null,null,null,null,null,null,null,null,null,null,null,null,""]
[null,null,null,null,null,null,null,null,null,null,null,null,null,null,null,""]
[null,null,null,null,null,null,null,null,null,null,null,null,null,null,null,""]
[null,null,null,null,null,null,null,null,null,null,null,null,null,null,null,""]
[null,null,null,null,null,null,null,null,null,null,null,null,null,null,null,""]
[null,null,null,null,null,null,null,null,null,null,null,null,null,null,null,""]
[null,null,null,null,null,null,null,null,null,null,null,null,null,null,null,""]
[null,null,null,null,null,null,null,null,null,null,null,null,null,null,null,""]
[null,null,null,null,null,null,null,null,null,null,null,null,null,null,null,""]
[null,null,null,null,null,null,null,null,null,null,null,null,null,null,null,""]
[null,null,null,null,null,null,null,null,null,null,null,null,null,null,null,{"$f":"IF(O1227=\"\",\"\",O1227*(-1))","v":""}]
[null,null,null,null,null,null,null,null,null,null,null,null,null,null,null,""]
[null,null,null,null,null,null,null,null,null,null,null,null,null,null,null,""]
[null,null,null,null,null,null,null,null,null,null,null,null,null,null,null,""]
[null,null,null,null,null,null,null,null,null,null,null,null,null,null,null,""]
[null,null,null,null,null,null,null,null,null,null,null,null,null,null,null,""]
[null,null,null,null,null,null,null,null,null,null,null,null,null,null,null,""]
[null,null,null,null,null,null,null,null,null,null,null,null,null,null,null,""]
[null,null,null,null,null,null,null,null,null,null,null,null,null,null,null,""]
[null,null,null,null,null,null,null,null,null,null,null,null,null,null,null,""]
[null,null,null,null,null,null,null,null,null,null,null,null,null,null,null,""]
[null,null,null,null,null,null,null,null,null,null,null,null,null,null,null,""]
[null,null,null,null,null,null,null,null,null,null,null,null,null,null,null,""]
[null,null,null,null,null,null,null,null,null,null,null,null,null,null,null,""]
[null,null,null,null,null,null,null,null,null,null,null,null,null,null,null,""]
[null,null,null,null,null,null,null,null,null,null,null,null,null,null,null,""]
[null,null,null,null,null,null,null,null,null,null,null,null,null,null,null,""]
[null,null,null,null,null,null,null,null,null,null,null,null,null,null,null,""]
[null,null,null,null,null,null,null,null,null,null,null,null,null,null,null,""]
[null,null,null,null,null,null,null,null,null,null,null,null,null,null,null,""]
[null,null,null,null,null,null,null,null,null,null,null,null,null,null,null,""]
[null,null,null,null,null,null,null,null,null,null,null,null,null,null,null,""]
[null,null,null,null,null,null,null,null,null,null,null,null,null,null,null,""]
[null,null,null,null,null,null,null,null,null,null,null,null,null,null,null,""]
[null,null,null,null,null,null,null,null,null,null,null,null,null,null,null,""]
[null,null,null,null,null,null,null,null,null,null,null,null,null,null,null,""]
[null,null,null,null,null,null,null,null,null,null,null,null,null,null,null,""]
[null,null,null,null,null,null,null,null,null,null,null,null,null,null,null,""]
[null,null,null,null,null,null,null,null,null,null,null,null,null,null,null,""]
[null,null,null,null,null,null,null,null,null,null,null,null,null,null,null,""]
[null,null,null,null,null,null,null,null,null,null,null,null,null,null,null,""]
[null,null,null,null,null,null,null,null,null,null,null,null,null,null,null,""]
[null,null,null,null,null,null,null,null,null,null,null,null,null,null,null,""]
[null,null,null,null,null,null,null,null,null,null,null,null,null,null,null,""]
[null,null,null,null,null,null,null,null,null,null,null,null,null,null,null,""]
[null,null,null,null,null,null,null,null,null,null,null,null,null,null,null,""]
[null,null,null,null,null,null,null,null,null,null,null,null,null,null,null,""]
[null,null,null,null,null,null,null,null,null,null,null,null,null,null,null,""]
[null,null,null,null,null,null,null,null,null,null,null,null,null,null,null,""]
[null,null,null,null,null,null,null,null,null,null,null,null,null,null,null,""]
[null,null,null,null,null,null,null,null,null,null,null,null,null,null,null,""]
[null,null,null,null,null,null,null,null,null,null,null,null,null,null,null,""]
[null,null,null,null,null,null,null,null,null,null,null,null,null,null,null,""]
[null,null,null,null,null,null,null,null,null,null,null,null,null,null,null,""]
[null,null,null,null,null,null,null,null,null,null,null,null,null,null,null,""]
[null,null,null,null,null,null,null,null,null,null,null,null,null,null,null,""]
[null,null,null,null,null,null,null,null,null,null,null,null,null,null,null,""]
[null,null,null,null,null,null,null,null,null,null,null,null,null,null,null,""]
[null,null,null,null,null,null,null,null,null,null,null,null,null,null,null,""]
[null,null,null,null,null,null,null,null,null,null,null,null,null,null,null,""]
[null,null,null,null,null,null,null,null,null,null,null,null,null,null,null,""]
[null,null,null,null,null,null,null,null,null,null,null,null,null,null,null,""]
[null,null,null,null,null,null,null,null,null,null,null,null,null,null,null,""]
[null,null,null,null,null,null,null,null,null,null,null,null,null,null,null,""]
[null,null,null,null,null,null,null,null,null,null,null,null,null,null,null,""]
[null,null,null,null,null,null,null,null,null,null,null,null,null,null,null,""]
[null,null,null,null,null,null,null,null,null,null,null,null,null,null,null,""]
[null,null,null,null,null,null,null,null,null,null,null,null,null,null,null,""]
[null,null,null,null,null,null,null,null,null,null,null,null,null,null,null,""]
[null,null,null,null,null,null,null,null,null,null,null,null,null,null,null,""]
[null,null,null,null,null,null,null,null,null,null,null,null,null,null,null,""]
[null,null,null,null,null,null,null,null,null,null,null,null,null,null,null,""]
[null,null,null,null,null,null,null,null,null,null,null,null,null,null,null,""]
[null,null,null,null,null,null,null,null,null,null,null,null,null,null,null,""]
[null,null,null,null,null,null,null,null,null,null,null,null,null,null,null,{"$f":"IF(O1291=\"\",\"\",O1291*(-1))","v":""}]
[null,null,null,null,null,null,null,null,null,null,null,null,null,null,null,""]
[null,null,null,null,null,null,null,null,null,null,null,null,null,null,null,""]
[null,null,null,null,null,null,null,null,null,null,null,null,null,null,null,""]
[null,null,null,null,null,null,null,null,null,null,null,null,null,null,null,""]
[null,null,null,null,null,null,null,null,null,null,null,null,null,null,null,""]
[null,null,null,null,null,null,null,null,null,null,null,null,null,null,null,""]
[null,null,null,null,null,null,null,null,null,null,null,null,null,null,null,""]
[null,null,null,null,null,null,null,null,null,null,null,null,null,null,null,""]
[null,null,null,null,null,null,null,null,null,null,null,null,null,null,null,""]
[null,null,null,null,null,null,null,null,null,null,null,null,null,null,null,""]
[null,null,null,null,null,null,null,null,null,null,null,null,null,null,null,""]
[null,null,null,null,null,null,null,null,null,null,null,null,null,null,null,""]
[null,null,null,null,null,null,null,null,null,null,null,null,null,null,null,""]
[null,null,null,null,null,null,null,null,null,null,null,null,null,null,null,""]
[null,null,null,null,null,null,null,null,null,null,null,null,null,null,null,""]
[null,null,null,null,null,null,null,null,null,null,null,null,null,null,null,""]
[null,null,null,null,null,null,null,null,null,null,null,null,null,null,null,""]
[null,null,null,null,null,null,null,null,null,null,null,null,null,null,null,""]
[null,null,null,null,null,null,null,null,null,null,null,null,null,null,null,""]
[null,null,null,null,null,null,null,null,null,null,null,null,null,null,null,""]
[null,null,null,null,null,null,null,null,null,null,null,null,null,null,null,""]
[null,null,null,null,null,null,null,null,null,null,null,null,null,null,null,""]
[null,null,null,null,null,null,null,null,null,null,null,null,null,null,null,""]
[null,null,null,null,null,null,null,null,null,null,null,null,null,null,null,""]
[null,null,null,null,null,null,null,null,null,null,null,null,null,null,null,""]
[null,null,null,null,null,null,null,null,null,null,null,null,null,null,null,""]
[null,null,null,null,null,null,null,null,null,null,null,null,null,null,null,""]
[null,null,null,null,null,null,null,null,null,null,null,null,null,null,null,""]
[null,null,null,null,null,null,null,null,null,null,null,null,null,null,null,""]
[null,null,null,null,null,null,null,null,null,null,null,null,null,null,null,""]
[null,null,null,null,null,null,null,null,null,null,null,null,null,null,null,""]
[null,null,null,null,null,null,null,null,null,null,null,null,null,null,null,""]
[null,null,null,null,null,null,null,null,null,null,null,null,null,null,null,""]
[null,null,null,null,null,null,null,null,null,null,null,null,null,null,null,""]
[null,null,null,null,null,null,null,null,null,null,null,null,null,null,null,""]
[null,null,null,null,null,null,null,null,null,null,null,null,null,null,null,""]
[null,null,null,null,null,null,null,null,null,null,null,null,null,null,null,""]
[null,null,null,null,null,null,null,null,null,null,null,null,null,null,null,""]
[null,null,null,null,null,null,null,null,null,null,null,null,null,null,null,""]
[null,null,null,null,null,null,null,null,null,null,null,null,null,null,null,""]
[null,null,null,null,null,null,null,null,null,null,null,null,null,null,null,""]
[null,null,null,null,null,null,null,null,null,null,null,null,null,null,null,""]
[null,null,null,null,null,null,null,null,null,null,null,null,null,null,null,""]
[null,null,null,null,null,null,null,null,null,null,null,null,null,null,null,""]
[null,null,null,null,null,null,null,null,null,null,null,null,null,null,null,""]
[null,null,null,null,null,null,null,null,null,null,null,null,null,null,null,""]
[null,null,null,null,null,null,null,null,null,null,null,null,null,null,null,""]
[null,null,null,null,null,null,null,null,null,null,null,null,null,null,null,""]
[null,null,null,null,null,null,null,null,null,null,null,null,null,null,null,""]
[null,null,null,null,null,null,null,null,null,null,null,null,null,null,null,""]
[null,null,null,null,null,null,null,null,null,null,null,null,null,null,null,""]
[null,null,null,null,null,null,null,null,null,null,null,null,null,null,null,""]
[null,null,null,null,null,null,null,null,null,null,null,null,null,null,null,""]
[null,null,null,null,null,null,null,null,null,null,null,null,null,null,null,""]
[null,null,null,null,null,null,null,null,null,null,null,null,null,null,null,""]
[null,null,null,null,null,null,null,null,null,null,null,null,null,null,null,""]
[null,null,null,null,null,null,null,null,null,null,null,null,null,null,null,""]
[null,null,null,null,null,null,null,null,null,null,null,null,null,null,null,""]
[null,null,null,null,null,null,null,null,null,null,null,null,null,null,null,""]
[null,null,null,null,null,null,null,null,null,null,null,null,null,null,null,""]
[null,null,null,null,null,null,null,null,null,null,null,null,null,null,null,""]
[null,null,null,null,null,null,null,null,null,null,null,null,null,null,null,""]
[null,null,null,null,null,null,null,null,null,null,null,null,null,null,null,""]
[null,null,null,null,null,null,null,null,null,null,null,null,null,null,null,{"$f":"IF(O1355=\"\",\"\",O1355*(-1))","v":""}]
[null,null,null,null,null,null,null,null,null,null,null,null,null,null,null,""]
[null,null,null,null,null,null,null,null,null,null,null,null,null,null,null,""]
[null,null,null,null,null,null,null,null,null,null,null,null,null,null,null,""]
[null,null,null,null,null,null,null,null,null,null,null,null,null,null,null,""]
[null,null,null,null,null,null,null,null,null,null,null,null,null,null,null,""]
[null,null,null,null,null,null,null,null,null,null,null,null,null,null,null,""]
[null,null,null,null,null,null,null,null,null,null,null,null,null,null,null,""]
[null,null,null,null,null,null,null,null,null,null,null,null,null,null,null,""]
[null,null,null,null,null,null,null,null,null,null,null,null,null,null,null,""]
[null,null,null,null,null,null,null,null,null,null,null,null,null,null,null,""]
[null,null,null,null,null,null,null,null,null,null,null,null,null,null,null,""]
[null,null,null,null,null,null,null,null,null,null,null,null,null,null,null,""]
[null,null,null,null,null,null,null,null,null,null,null,null,null,null,null,""]
[null,null,null,null,null,null,null,null,null,null,null,null,null,null,null,""]
[null,null,null,null,null,null,null,null,null,null,null,null,null,null,null,""]
[null,null,null,null,null,null,null,null,null,null,null,null,null,null,null,""]
[null,null,null,null,null,null,null,null,null,null,null,null,null,null,null,""]
[null,null,null,null,null,null,null,null,null,null,null,null,null,null,null,""]
[null,null,null,null,null,null,null,null,null,null,null,null,null,null,null,""]
[null,null,null,null,null,null,null,null,null,null,null,null,null,null,null,""]
[null,null,null,null,null,null,null,null,null,null,null,null,null,null,null,""]
[null,null,null,null,null,null,null,null,null,null,null,null,null,null,null,""]
[null,null,null,null,null,null,null,null,null,null,null,null,null,null,null,""]
[null,null,null,null,null,null,null,null,null,null,null,null,null,null,null,""]
[null,null,null,null,null,null,null,null,null,null,null,null,null,null,null,""]
[null,null,null,null,null,null,null,null,null,null,null,null,null,null,null,""]
[null,null,null,null,null,null,null,null,null,null,null,null,null,null,null,""]
[null,null,null,null,null,null,null,null,null,null,null,null,null,null,null,""]
[null,null,null,null,null,null,null,null,null,null,null,null,null,null,null,""]
[null,null,null,null,null,null,null,null,null,null,null,null,null,null,null,""]
[null,null,null,null,null,null,null,null,null,null,null,null,null,null,null,""]
[null,null,null,null,null,null,null,null,null,null,null,null,null,null,null,""]
[null,null,null,null,null,null,null,null,null,null,null,null,null,null,null,""]
[null,null,null,null,null,null,null,null,null,null,null,null,null,null,null,""]
[null,null,null,null,null,null,null,null,null,null,null,null,null,null,null,""]
[null,null,null,null,null,null,null,null,null,null,null,null,null,null,null,""]
[null,null,null,null,null,null,null,null,null,null,null,null,null,null,null,""]
[null,null,null,null,null,null,null,null,null,null,null,null,null,null,null,""]
[null,null,null,null,null,null,null,null,null,null,null,null,null,null,null,""]
[null,null,null,null,null,null,null,null,null,null,null,null,null,null,null,""]
[null,null,null,null,null,null,null,null,null,null,null,null,null,null,null,""]
[null,null,null,null,null,null,null,null,null,null,null,null,null,null,null,""]
[null,null,null,null,null,null,null,null,null,null,null,null,null,null,null,""]
[null,null,null,null,null,null,null,null,null,null,null,null,null,null,null,""]
[null,null,null,null,null,null,null,null,null,null,null,null,null,null,null,""]
[null,null,null,null,null,null,null,null,null,null,null,null,null,null,null,""]
[null,null,null,null,null,null,null,null,null,null,null,null,null,null,null,""]
[null,null,null,null,null,null,null,null,null,null,null,null,null,null,null,""]
[null,null,null,null,null,null,null,null,null,null,null,null,null,null,null,""]
[null,null,null,null,null,null,null,null,null,null,null,null,null,null,null,""]
[null,null,null,null,null,null,null,null,null,null,null,null,null,null,null,""]
[null,null,null,null,null,null,null,null,null,null,null,null,null,null,null,""]
[null,null,null,null,null,null,null,null,null,null,null,null,null,null,null,""]
[null,null,null,null,null,null,null,null,null,null,null,null,null,null,null,""]
[null,null,null,null,null,null,null,null,null,null,null,null,null,null,null,""]
[null,null,null,null,null,null,null,null,null,null,null,null,null,null,null,""]
[null,null,null,null,null,null,null,null,null,null,null,null,null,null,null,""]
[null,null,null,null,null,null,null,null,null,null,null,null,null,null,null,""]
[null,null,null,null,null,null,null,null,null,null,null,null,null,null,null,""]
[null,null,null,null,null,null,null,null,null,null,null,null,null,null,null,""]
[null,null,null,null,null,null,null,null,null,null,null,null,null,null,null,""]
[null,null,null,null,null,null,null,null,null,null,null,null,null,null,null,""]
[null,null,null,null,null,null,null,null,null,null,null,null,null,null,null,""]
[null,null,null,null,null,null,null,null,null,null,null,null,null,null,null,{"$f":"IF(O1419=\"\",\"\",O1419*(-1))","v":""}]
[null,null,null,null,null,null,null,null,null,null,null,null,null,null,null,""]
[null,null,null,null,null,null,null,null,null,null,null,null,null,null,null,""]
[null,null,null,null,null,null,null,null,null,null,null,null,null,null,null,""]
[null,null,null,null,null,null,null,null,null,null,null,null,null,null,null,""]
[null,null,null,null,null,null,null,null,null,null,null,null,null,null,null,""]
[null,null,null,null,null,null,null,null,null,null,null,null,null,null,null,""]
[null,null,null,null,null,null,null,null,null,null,null,null,null,null,null,""]
[null,null,null,null,null,null,null,null,null,null,null,null,null,null,null,""]
[null,null,null,null,null,null,null,null,null,null,null,null,null,null,null,""]
[null,null,null,null,null,null,null,null,null,null,null,null,null,null,null,""]
[null,null,null,null,null,null,null,null,null,null,null,null,null,null,null,""]
[null,null,null,null,null,null,null,null,null,null,null,null,null,null,null,""]
[null,null,null,null,null,null,null,null,null,null,null,null,null,null,null,""]
[null,null,null,null,null,null,null,null,null,null,null,null,null,null,null,""]
[null,null,null,null,null,null,null,null,null,null,null,null,null,null,null,""]
[null,null,null,null,null,null,null,null,null,null,null,null,null,null,null,""]
[null,null,null,null,null,null,null,null,null,null,null,null,null,null,null,""]
[null,null,null,null,null,null,null,null,null,null,null,null,null,null,null,""]
[null,null,null,null,null,null,null,null,null,null,null,null,null,null,null,""]
[null,null,null,null,null,null,null,null,null,null,null,null,null,null,null,""]
[null,null,null,null,null,null,null,null,null,null,null,null,null,null,null,""]
[null,null,null,null,null,null,null,null,null,null,null,null,null,null,null,""]
[null,null,null,null,null,null,null,null,null,null,null,null,null,null,null,""]
[null,null,null,null,null,null,null,null,null,null,null,null,null,null,null,""]
[null,null,null,null,null,null,null,null,null,null,null,null,null,null,null,""]
[null,null,null,null,null,null,null,null,null,null,null,null,null,null,null,""]
[null,null,null,null,null,null,null,null,null,null,null,null,null,null,null,""]
[null,null,null,null,null,null,null,null,null,null,null,null,null,null,null,""]
[null,null,null,null,null,null,null,null,null,null,null,null,null,null,null,""]
[null,null,null,null,null,null,null,null,null,null,null,null,null,null,null,""]
[null,null,null,null,null,null,null,null,null,null,null,null,null,null,null,""]
[null,null,null,null,null,null,null,null,null,null,null,null,null,null,null,""]
[null,null,null,null,null,null,null,null,null,null,null,null,null,null,null,""]
[null,null,null,null,null,null,null,null,null,null,null,null,null,null,null,""]
[null,null,null,null,null,null,null,null,null,null,null,null,null,null,null,""]
[null,null,null,null,null,null,null,null,null,null,null,null,null,null,null,""]
[null,null,null,null,null,null,null,null,null,null,null,null,null,null,null,""]
[null,null,null,null,null,null,null,null,null,null,null,null,null,null,null,""]
[null,null,null,null,null,null,null,null,null,null,null,null,null,null,null,""]
[null,null,null,null,null,null,null,null,null,null,null,null,null,null,null,""]
[null,null,null,null,null,null,null,null,null,null,null,null,null,null,null,""]
[null,null,null,null,null,null,null,null,null,null,null,null,null,null,null,""]
[null,null,null,null,null,null,null,null,null,null,null,null,null,null,null,""]
[null,null,null,null,null,null,null,null,null,null,null,null,null,null,null,""]
[null,null,null,null,null,null,null,null,null,null,null,null,null,null,null,""]
[null,null,null,null,null,null,null,null,null,null,null,null,null,null,null,""]
[null,null,null,null,null,null,null,null,null,null,null,null,null,null,null,""]
[null,null,null,null,null,null,null,null,null,null,null,null,null,null,null,""]
[null,null,null,null,null,null,null,null,null,null,null,null,null,null,null,""]
[null,null,null,null,null,null,null,null,null,null,null,null,null,null,null,""]
[null,null,null,null,null,null,null,null,null,null,null,null,null,null,null,""]
[null,null,null,null,null,null,null,null,null,null,null,null,null,null,null,""]
[null,null,null,null,null,null,null,null,null,null,null,null,null,null,null,""]
[null,null,null,null,null,null,null,null,null,null,null,null,null,null,null,""]
[null,null,null,null,null,null,null,null,null,null,null,null,null,null,null,""]
[null,null,null,null,null,null,null,null,null,null,null,null,null,null,null,""]
[null,null,null,null,null,null,null,null,null,null,null,null,null,null,null,""]
[null,null,null,null,null,null,null,null,null,null,null,null,null,null,null,""]
[null,null,null,null,null,null,null,null,null,null,null,null,null,null,null,""]
[null,null,null,null,null,null,null,null,null,null,null,null,null,null,null,""]
[null,null,null,null,null,null,null,null,null,null,null,null,null,null,null,""]
[null,null,null,null,null,null,null,null,null,null,null,null,null,null,null,""]
[null,null,null,null,null,null,null,null,null,null,null,null,null,null,null,""]
[null,null,null,null,null,null,null,null,null,null,null,null,null,null,null,{"$f":"IF(O1483=\"\",\"\",O1483*(-1))","v":""}]
[null,null,null,null,null,null,null,null,null,null,null,null,null,null,null,""]
[null,null,null,null,null,null,null,null,null,null,null,null,null,null,null,""]
[null,null,null,null,null,null,null,null,null,null,null,null,null,null,null,""]
[null,null,null,null,null,null,null,null,null,null,null,null,null,null,null,""]
[null,null,null,null,null,null,null,null,null,null,null,null,null,null,null,""]
[null,null,null,null,null,null,null,null,null,null,null,null,null,null,null,""]
[null,null,null,null,null,null,null,null,null,null,null,null,null,null,null,""]
[null,null,null,null,null,null,null,null,null,null,null,null,null,null,null,""]
[null,null,null,null,null,null,null,null,null,null,null,null,null,null,null,""]
[null,null,null,null,null,null,null,null,null,null,null,null,null,null,null,""]
[null,null,null,null,null,null,null,null,null,null,null,null,null,null,null,""]
[null,null,null,null,null,null,null,null,null,null,null,null,null,null,null,""]
[null,null,null,null,null,null,null,null,null,null,null,null,null,null,null,""]
[null,null,null,null,null,null,null,null,null,null,null,null,null,null,null,""]
[null,null,null,null,null,null,null,null,null,null,null,null,null,null,null,""]
[null,null,null,null,null,null,null,null,null,null,null,null,null,null,null,""]
[null,null,null,null,null,null,null,null,null,null,null,null,null,null,null,""]
[null,null,null,null,null,null,null,null,null,null,null,null,null,null,null,""]
[null,null,null,null,null,null,null,null,null,null,null,null,null,null,null,""]
[null,null,null,null,null,null,null,null,null,null,null,null,null,null,null,""]
[null,null,null,null,null,null,null,null,null,null,null,null,null,null,null,""]
[null,null,null,null,null,null,null,null,null,null,null,null,null,null,null,""]
[null,null,null,null,null,null,null,null,null,null,null,null,null,null,null,""]
[null,null,null,null,null,null,null,null,null,null,null,null,null,null,null,""]
[null,null,null,null,null,null,null,null,null,null,null,null,null,null,null,""]
[null,null,null,null,null,null,null,null,null,null,null,null,null,null,null,""]
[null,null,null,null,null,null,null,null,null,null,null,null,null,null,null,""]
[null,null,null,null,null,null,null,null,null,null,null,null,null,null,null,""]
[null,null,null,null,null,null,null,null,null,null,null,null,null,null,null,""]
[null,null,null,null,null,null,null,null,null,null,null,null,null,null,null,""]
[null,null,null,null,null,null,null,null,null,null,null,null,null,null,null,""]
[null,null,null,null,null,null,null,null,null,null,null,null,null,null,null,""]
[null,null,null,null,null,null,null,null,null,null,null,null,null,null,null,""]
[null,null,null,null,null,null,null,null,null,null,null,null,null,null,null,""]
[null,null,null,null,null,null,null,null,null,null,null,null,null,null,null,""]
[null,null,null,null,null,null,null,null,null,null,null,null,null,null,null,""]
[null,null,null,null,null,null,null,null,null,null,null,null,null,null,null,""]
[null,null,null,null,null,null,null,null,null,null,null,null,null,null,null,""]
[null,null,null,null,null,null,null,null,null,null,null,null,null,null,null,""]
[null,null,null,null,null,null,null,null,null,null,null,null,null,null,null,""]
[null,null,null,null,null,null,null,null,null,null,null,null,null,null,null,""]
[null,null,null,null,null,null,null,null,null,null,null,null,null,null,null,""]
[null,null,null,null,null,null,null,null,null,null,null,null,null,null,null,""]
[null,null,null,null,null,null,null,null,null,null,null,null,null,null,null,""]
[null,null,null,null,null,null,null,null,null,null,null,null,null,null,null,""]
[null,null,null,null,null,null,null,null,null,null,null,null,null,null,null,""]
[null,null,null,null,null,null,null,null,null,null,null,null,null,null,null,""]
[null,null,null,null,null,null,null,null,null,null,null,null,null,null,null,""]
[null,null,null,null,null,null,null,null,null,null,null,null,null,null,null,""]
[null,null,null,null,null,null,null,null,null,null,null,null,null,null,null,""]
[null,null,null,null,null,null,null,null,null,null,null,null,null,null,null,""]
[null,null,null,null,null,null,null,null,null,null,null,null,null,null,null,""]
[null,null,null,null,null,null,null,null,null,null,null,null,null,null,null,""]
[null,null,null,null,null,null,null,null,null,null,null,null,null,null,null,""]
[null,null,null,null,null,null,null,null,null,null,null,null,null,null,null,""]
[null,null,null,null,null,null,null,null,null,null,null,null,null,null,null,""]
[null,null,null,null,null,null,null,null,null,null,null,null,null,null,null,""]
[null,null,null,null,null,null,null,null,null,null,null,null,null,null,null,""]
[null,null,null,null,null,null,null,null,null,null,null,null,null,null,null,""]
[null,null,null,null,null,null,null,null,null,null,null,null,null,null,null,""]
[null,null,null,null,null,null,null,null,null,null,null,null,null,null,null,""]
[null,null,null,null,null,null,null,null,null,null,null,null,null,null,null,""]
[null,null,null,null,null,null,null,null,null,null,null,null,null,null,null,""]
[null,null,null,null,null,null,null,null,null,null,null,null,null,null,null,{"$f":"IF(O1547=\"\",\"\",O1547*(-1))","v":""}]
[null,null,null,null,null,null,null,null,null,null,null,null,null,null,null,""]
[null,null,null,null,null,null,null,null,null,null,null,null,null,null,null,""]
[null,null,null,null,null,null,null,null,null,null,null,null,null,null,null,""]
[null,null,null,null,null,null,null,null,null,null,null,null,null,null,null,""]
[null,null,null,null,null,null,null,null,null,null,null,null,null,null,null,""]
[null,null,null,null,null,null,null,null,null,null,null,null,null,null,null,""]
[null,null,null,null,null,null,null,null,null,null,null,null,null,null,null,""]
[null,null,null,null,null,null,null,null,null,null,null,null,null,null,null,""]
[null,null,null,null,null,null,null,null,null,null,null,null,null,null,null,""]
[null,null,null,null,null,null,null,null,null,null,null,null,null,null,null,""]
[null,null,null,null,null,null,null,null,null,null,null,null,null,null,null,""]
[null,null,null,null,null,null,null,null,null,null,null,null,null,null,null,""]
[null,null,null,null,null,null,null,null,null,null,null,null,null,null,null,""]
[null,null,null,null,null,null,null,null,null,null,null,null,null,null,null,""]
[null,null,null,null,null,null,null,null,null,null,null,null,null,null,null,""]
[null,null,null,null,null,null,null,null,null,null,null,null,null,null,null,""]
[null,null,null,null,null,null,null,null,null,null,null,null,null,null,null,""]
[null,null,null,null,null,null,null,null,null,null,null,null,null,null,null,""]
[null,null,null,null,null,null,null,null,null,null,null,null,null,null,null,""]
[null,null,null,null,null,null,null,null,null,null,null,null,null,null,null,""]
[null,null,null,null,null,null,null,null,null,null,null,null,null,null,null,""]
[null,null,null,null,null,null,null,null,null,null,null,null,null,null,null,""]
[null,null,null,null,null,null,null,null,null,null,null,null,null,null,null,""]
[null,null,null,null,null,null,null,null,null,null,null,null,null,null,null,""]
[null,null,null,null,null,null,null,null,null,null,null,null,null,null,null,""]
[null,null,null,null,null,null,null,null,null,null,null,null,null,null,null,""]
[null,null,null,null,null,null,null,null,null,null,null,null,null,null,null,""]
[null,null,null,null,null,null,null,null,null,null,null,null,null,null,null,""]
[null,null,null,null,null,null,null,null,null,null,null,null,null,null,null,""]
[null,null,null,null,null,null,null,null,null,null,null,null,null,null,null,""]
[null,null,null,null,null,null,null,null,null,null,null,null,null,null,null,""]
[null,null,null,null,null,null,null,null,null,null,null,null,null,null,null,""]
[null,null,null,null,null,null,null,null,null,null,null,null,null,null,null,""]
[null,null,null,null,null,null,null,null,null,null,null,null,null,null,null,""]
[null,null,null,null,null,null,null,null,null,null,null,null,null,null,null,""]
[null,null,null,null,null,null,null,null,null,null,null,null,null,null,null,""]
[null,null,null,null,null,null,null,null,null,null,null,null,null,null,null,""]
[null,null,null,null,null,null,null,null,null,null,null,null,null,null,null,""]
[null,null,null,null,null,null,null,null,null,null,null,null,null,null,null,""]
[null,null,null,null,null,null,null,null,null,null,null,null,null,null,null,""]
[null,null,null,null,null,null,null,null,null,null,null,null,null,null,null,""]
[null,null,null,null,null,null,null,null,null,null,null,null,null,null,null,""]
[null,null,null,null,null,null,null,null,null,null,null,null,null,null,null,""]
[null,null,null,null,null,null,null,null,null,null,null,null,null,null,null,""]
[null,null,null,null,null,null,null,null,null,null,null,null,null,null,null,""]
[null,null,null,null,null,null,null,null,null,null,null,null,null,null,null,""]
[null,null,null,null,null,null,null,null,null,null,null,null,null,null,null,""]
[null,null,null,null,null,null,null,null,null,null,null,null,null,null,null,""]
[null,null,null,null,null,null,null,null,null,null,null,null,null,null,null,""]
[null,null,null,null,null,null,null,null,null,null,null,null,null,null,null,""]
[null,null,null,null,null,null,null,null,null,null,null,null,null,null,null,""]
[null,null,null,null,null,null,null,null,null,null,null,null,null,null,null,""]
[null,null,null,null,null,null,null,null,null,null,null,null,null,null,null,""]
[null,null,null,null,null,null,null,null,null,null,null,null,null,null,null,""]
[null,null,null,null,null,null,null,null,null,null,null,null,null,null,null,""]
[null,null,null,null,null,null,null,null,null,null,null,null,null,null,null,""]
[null,null,null,null,null,null,null,null,null,null,null,null,null,null,null,""]
[null,null,null,null,null,null,null,null,null,null,null,null,null,null,null,""]
[null,null,null,null,null,null,null,null,null,null,null,null,null,null,null,""]
[null,null,null,null,null,null,null,null,null,null,null,null,null,null,null,""]
[null,null,null,null,null,null,null,null,null,null,null,null,null,null,null,""]
[null,null,null,null,null,null,null,null,null,null,null,null,null,null,null,""]
[null,null,null,null,null,null,null,null,null,null,null,null,null,null,null,""]
[null,null,null,null,null,null,null,null,null,null,null,null,null,null,null,{"$f":"IF(O1611=\"\",\"\",O1611*(-1))","v":""}]
[null,null,null,null,null,null,null,null,null,null,null,null,null,null,null,""]
[null,null,null,null,null,null,null,null,null,null,null,null,null,null,null,""]
[null,null,null,null,null,null,null,null,null,null,null,null,null,null,null,""]
[null,null,null,null,null,null,null,null,null,null,null,null,null,null,null,""]
[null,null,null,null,null,null,null,null,null,null,null,null,null,null,null,""]
[null,null,null,null,null,null,null,null,null,null,null,null,null,null,null,""]
[null,null,null,null,null,null,null,null,null,null,null,null,null,null,null,""]
[null,null,null,null,null,null,null,null,null,null,null,null,null,null,null,""]
[null,null,null,null,null,null,null,null,null,null,null,null,null,null,null,""]
[null,null,null,null,null,null,null,null,null,null,null,null,null,null,null,""]
[null,null,null,null,null,null,null,null,null,null,null,null,null,null,null,""]
[null,null,null,null,null,null,null,null,null,null,null,null,null,null,null,""]
[null,null,null,null,null,null,null,null,null,null,null,null,null,null,null,""]
[null,null,null,null,null,null,null,null,null,null,null,null,null,null,null,""]
[null,null,null,null,null,null,null,null,null,null,null,null,null,null,null,""]
[null,null,null,null,null,null,null,null,null,null,null,null,null,null,null,""]
[null,null,null,null,null,null,null,null,null,null,null,null,null,null,null,""]
[null,null,null,null,null,null,null,null,null,null,null,null,null,null,null,""]
[null,null,null,null,null,null,null,null,null,null,null,null,null,null,null,""]
[null,null,null,null,null,null,null,null,null,null,null,null,null,null,null,""]
[null,null,null,null,null,null,null,null,null,null,null,null,null,null,null,""]
[null,null,null,null,null,null,null,null,null,null,null,null,null,null,null,""]
[null,null,null,null,null,null,null,null,null,null,null,null,null,null,null,""]
[null,null,null,null,null,null,null,null,null,null,null,null,null,null,null,""]
[null,null,null,null,null,null,null,null,null,null,null,null,null,null,null,""]
[null,null,null,null,null,null,null,null,null,null,null,null,null,null,null,""]
[null,null,null,null,null,null,null,null,null,null,null,null,null,null,null,""]
[null,null,null,null,null,null,null,null,null,null,null,null,null,null,null,""]
[null,null,null,null,null,null,null,null,null,null,null,null,null,null,null,""]
[null,null,null,null,null,null,null,null,null,null,null,null,null,null,null,""]
[null,null,null,null,null,null,null,null,null,null,null,null,null,null,null,""]
[null,null,null,null,null,null,null,null,null,null,null,null,null,null,null,""]
[null,null,null,null,null,null,null,null,null,null,null,null,null,null,null,""]
[null,null,null,null,null,null,null,null,null,null,null,null,null,null,null,""]
[null,null,null,null,null,null,null,null,null,null,null,null,null,null,null,""]
[null,null,null,null,null,null,null,null,null,null,null,null,null,null,null,""]
[null,null,null,null,null,null,null,null,null,null,null,null,null,null,null,""]
[null,null,null,null,null,null,null,null,null,null,null,null,null,null,null,""]
[null,null,null,null,null,null,null,null,null,null,null,null,null,null,null,""]
[null,null,null,null,null,null,null,null,null,null,null,null,null,null,null,""]
[null,null,null,null,null,null,null,null,null,null,null,null,null,null,null,""]
[null,null,null,null,null,null,null,null,null,null,null,null,null,null,null,""]
[null,null,null,null,null,null,null,null,null,null,null,null,null,null,null,""]
[null,null,null,null,null,null,null,null,null,null,null,null,null,null,null,""]
[null,null,null,null,null,null,null,null,null,null,null,null,null,null,null,""]
[null,null,null,null,null,null,null,null,null,null,null,null,null,null,null,""]
[null,null,null,null,null,null,null,null,null,null,null,null,null,null,null,""]
[null,null,null,null,null,null,null,null,null,null,null,null,null,null,null,""]
[null,null,null,null,null,null,null,null,null,null,null,null,null,null,null,""]
[null,null,null,null,null,null,null,null,null,null,null,null,null,null,null,""]
[null,null,null,null,null,null,null,null,null,null,null,null,null,null,null,""]
[null,null,null,null,null,null,null,null,null,null,null,null,null,null,null,""]
[null,null,null,null,null,null,null,null,null,null,null,null,null,null,null,""]
[null,null,null,null,null,null,null,null,null,null,null,null,null,null,null,""]
[null,null,null,null,null,null,null,null,null,null,null,null,null,null,null,""]
[null,null,null,null,null,null,null,null,null,null,null,null,null,null,null,""]
[null,null,null,null,null,null,null,null,null,null,null,null,null,null,null,""]
[null,null,null,null,null,null,null,null,null,null,null,null,null,null,null,""]
[null,null,null,null,null,null,null,null,null,null,null,null,null,null,null,""]
[null,null,null,null,null,null,null,null,null,null,null,null,null,null,null,""]
[null,null,null,null,null,null,null,null,null,null,null,null,null,null,null,""]
[null,null,null,null,null,null,null,null,null,null,null,null,null,null,null,""]
[null,null,null,null,null,null,null,null,null,null,null,null,null,null,null,""]
[null,null,null,null,null,null,null,null,null,null,null,null,null,null,null,{"$f":"IF(O1675=\"\",\"\",O1675*(-1))","v":""}]
[null,null,null,null,null,null,null,null,null,null,null,null,null,null,null,""]
[null,null,null,null,null,null,null,null,null,null,null,null,null,null,null,""]
[null,null,null,null,null,null,null,null,null,null,null,null,null,null,null,""]
[null,null,null,null,null,null,null,null,null,null,null,null,null,null,null,""]
[null,null,null,null,null,null,null,null,null,null,null,null,null,null,null,""]
[null,null,null,null,null,null,null,null,null,null,null,null,null,null,null,""]
[null,null,null,null,null,null,null,null,null,null,null,null,null,null,null,""]
[null,null,null,null,null,null,null,null,null,null,null,null,null,null,null,""]
[null,null,null,null,null,null,null,null,null,null,null,null,null,null,null,""]
[null,null,null,null,null,null,null,null,null,null,null,null,null,null,null,""]
[null,null,null,null,null,null,null,null,null,null,null,null,null,null,null,""]
[null,null,null,null,null,null,null,null,null,null,null,null,null,null,null,""]
[null,null,null,null,null,null,null,null,null,null,null,null,null,null,null,""]
[null,null,null,null,null,null,null,null,null,null,null,null,null,null,null,""]
[null,null,null,null,null,null,null,null,null,null,null,null,null,null,null,""]
[null,null,null,null,null,null,null,null,null,null,null,null,null,null,null,""]

{"sheet":"Drawdown","index":6,"n_rows":10304,"n_cols":6,"rows_kept":10304,"cut":false,"hidden":false,"merged":[]}
[null,null,null,"Planilha Auxiliar Não Modificar"]
[null,"Ativo",{"$f":"'Criar Carteira'!$B$2","v":"Economatica                                                                                                     <EcoPortfolio>{\"type\":\"F\",\"tolerance\":\"0d\",\"rebalance\":null,\"name\":\"Economatica\",\"data\":[[\"2017-12-29\",\"VALE3\",2736405.12016054],[\"2018-02-01\",\"WEGE3\",2000000.0],[\"2018-03-01\",\"SANB11\",449400.423391945],[\"2018-04-01\",\"BRSR6\",584005.120708887],[\"2018-05-01\",\"CVCB3\",711601.739560784],[\"2018-05-05\",\"SANB11\",\"SELL ALL\"],[\"2018-06-01\",\"VALE3\",-200000.0],[\"2018-07-01\",\"CVCB3\",\"SELL ALL\"],[\"2018-08-01\",\"PRIO3\",584236.22],[\"2018-09-01\",\"CPFE3\",12857.365519577499],[\"2018-10-01\",\"BIDI4\",514736.12],[\"2018-11-01\",\"CSAN3\",21746.581395242098],[\"2018-12-01\",\"POMO4\",28282.0246727596],[\"2019-01-01\",\"SBSP3\",36781.54763974],[\"2019-02-01\",\"QUAL3\",47835.4100326317],[\"2019-03-01\",\"PETR4\",500000.0],[\"2019-04-01\",\"SANB11\",\"SELL ALL\"],[\"2019-05-01\",\"ITSA4\",1177970.08644623],[\"2019-06-01\",\"CMIG4\",231454.97144607303],[\"2019-07-01\",\"TAEE11\",301013.529165687],[\"2019-08-01\",\"CYRE3\",391476.338463064],[\"2019-09-01\",\"BRKM5\",861120.68964325206],[\"2019-10-01\",\"ODPV3\",119911.04018044],[\"2019-11-01\",\"MOTV3\",894185.59763512],[\"2019-12-01\",\"ITSA4\",-250000.0],[\"2020-01-01\",\"MRVE3\",463440.24531704],[\"2020-02-01\",\"BBSE3\",118767.76325908],[\"2020-03-01\",\"ENBR3\",647255.87857121],[\"2020-05-01\",\"EZTC3\",\"SELL ALL\"],[\"2020-06-01\",\"BIDI11\",1000000.0],[\"2020-07-01\",\"ITUB4\",400000.0],[\"2020-08-01\",\"ITSA4\",\"SELL ALL\"],[\"2020-09-01\",\"VALE3\",500000.0],[\"2020-10-01\",\"USIM5\",450000.0],[\"2020-11-01\",\"JHSF3\",80000.0],[\"2020-12-01\",\"RENT3\",700000.0],[\"2021-01-01\",\"PRIO3\",1500000.0],[\"2021-02-01\",\"LWSA3\",400000.0],[\"2021-04-01\",\"RENT3\",-500000.0],[\"2021-05-01\",\"ITUB4\",\"SELL ALL\"],[\"2021-06-01\",\"VALE3\",-700000.0],[\"2021-07-01\",\"PETR4\",-200000.0],[\"2021-08-01\",\"ITSA4\",\"SELL ALL\"],[\"2021-09-15\",\"TASA3\",80000.0],[\"2021-09-25\",\"EMBR3\",700000.0],[\"2021-11-10\",\"PSSA3\",1500000.0],[\"2021-12-19\",\"RAPT4\",500000.0],[\"2022-02-05\",\"VALE3\",1000000.0],[\"2022-03-15\",\"SLCE3\",50000.0],[null,\"\",null],[null,\"\",null],[null,\"\",null],[null,\"\",null],[null,\"\",null],[null,\"\",null],[null,\"\",null],[null,\"\",null],[null,\"\",null],[null,\"\",null],[null,\"\",null],[null,\"\",null],[null,\"\",null],[null,\"\",null],[null,\"\",null],[null,\"\",null],[null,\"\",null],[null,\"\",null],[null,\"\",null],[null,\"\",null],[null,\"\",null],[null,\"\",null],[null,\"\",null],[null,\"\",null],[null,\"\",null],[null,\"\",null],[null,\"\",null],[null,\"\",null],[null,\"\",null],[null,\"\",null],[null,\"\",null],[null,\"\",null],[null,\"\",null],[null,\"\",null],[null,\"\",null],[null,\"\",null],[null,\"\",null],[null,\"\",null],[null,\"\",null],[null,\"\",null],[null,\"\",null],[null,\"\",null],[null,\"\",null],[null,\"\",null],[null,\"\",null],[null,\"\",null],[null,\"\",null],[null,\"\",null],[null,\"\",null],[null,\"\",null],[null,\"\",null],[null,\"\",null],[null,\"\",null],[null,\"\",null],[null,\"\",null],[null,\"\",null],[null,\"\",null],[null,\"\",null],[null,\"\",null],[null,\"\",null],[null,\"\",null],[null,\"\",null],[null,\"\",null],[null,\"\",null],[null,\"\",null],[null,\"\",null],[null,\"\",null],[null,\"\",null],[null,\"\",null],[null,\"\",null],[null,\"\",null],[null,\"\",null],[null,\"\",null],[null,\"\",null],[null,\"\",null],[null,\"\",null],[null,\"\",null],[null,\"\",null],[null,\"\",null],[null,\"\",null],[null,\"\",null],[null,\"\",null],[null,\"\",null],[null,\"\",null],[null,\"\",null],[null,\"\",null],[null,\"\",null],[null,\"\",null],[null,\"\",null],[null,\"\",null],[null,\"\",null],[null,\"\",null],[null,\"\",null],[null,\"\",null],[null,\"\",null],[null,\"\",null],[null,\"\",null],[null,\"\",null],[null,\"\",null],[null,\"\",null],[null,\"\",null],[null,\"\",null],[null,\"\",null],[null,\"\",null],[null,\"\",null],[null,\"\",null],[null,\"\",null],[null,\"\",null],[null,\"\",null],[null,\"\",null],[null,\"\",null],[null,\"\",null],[null,\"\",null],[null,\"\",null],[null,\"\",null],[null,\"\",null],[null,\"\",null],[null,\"\",null],[null,\"\",null],[null,\"\",null],[null,\"\",null],[null,\"\",null],[null,\"\",null],[null,\"\",null],[null,\"\",null],[null,\"\",null],[null,\"\",null],[null,\"\",null],[null,\"\",null],[null,\"\",null],[null,\"\",null],[null,\"\",null],[null,\"\",null],[null,\"\",null],[null,\"\",null],[null,\"\",null],[null,\"\",null],[null,\"\",null],[null,\"\",null],[null,\"\",null],[null,\"\",null],[null,\"\",null],[null,\"\",null],[null,\"\",null],[null,\"\",null]]}"},"."]
[null,"Data fim",{"$f":"Lamina!$E$3","v":"2022-06-17"}]
[null,"Data Inicio",{"$f":"'Criar Carteira'!$B$4","v":"2017-12-29"}]
[]
[null,{"$f":"_xll.ECONOMATICA($C$2,\"MaxDrawdown\",\"1Y\",$C$3,$C$4,\"D\",\"ORIGINAL CURRENCY\",,\"true\",\"true\",\"Max DrawDown\")","v":"data"},"Max DrawDown",{"$f":"_xll.ECONOMATICA($C$2,\"close\",,$C$3,$C$4,\"D\",,,\"false\",\"true\",\"Fechamento\")","v":"Fechamento"},{"$f":"_xll.ECONOMATICA($C$2,\"close\",,$C$3,$C$4,\"D\",,,\"false\",\"true\",\"Base 100\",\"def.defdef=7\")","v":"Base 100"},"Max DrawDown / Calculo"]
[null,null,"Economatica","Economatica","Economatica",{"$f":"C7","v":"Economatica"}]
[null,"2017-12-29"]
[null,"2018-01-01",null,null,null,{"$f":"IF(B9=\"\",\"\",IF(C9=\"\",F8,IF(E9=\"\",F8,E9/MAX($E$9:E9)-1)))","v":0}]
[null,"2018-01-02",0,103.62642821,100,{"$f":"IF(B10=\"\",\"\",IF(C10=\"\",F9,IF(E10=\"\",F9,E10/MAX($E$9:E10)-1)))","v":0}]
[null,"2018-01-03",0,103.00546448,99.400767017999996,{"$f":"IF(B11=\"\",\"\",IF(C11=\"\",F10,IF(E11=\"\",F10,E11/MAX($E$9:E11)-1)))","v":-5.9923298200000863E-3}]
[null,"2018-01-04",0,103.42771981999999,99.808245446000001,{"$f":"IF(B12=\"\",\"\",IF(C12=\"\",F11,IF(E12=\"\",F11,E12/MAX($E$9:E12)-1)))","v":-1.9175455400000097E-3}]
[null,"2018-01-05",-0.59923298169000005,105.04222553,101.36625119,{"$f":"IF(B13=\"\",\"\",IF(C13=\"\",F12,IF(E13=\"\",F12,E13/MAX($E$9:E13)-1)))","v":0}]
[null,"2018-01-08",-0.59923298169000005,107.37704918,103.61936720999999,{"$f":"IF(B14=\"\",\"\",IF(C14=\"\",F13,IF(E14=\"\",F13,E14/MAX($E$9:E14)-1)))","v":0}]
[null,"2018-01-09",-0.59923298169000005,106.97963238,103.2358581,{"$f":"IF(B15=\"\",\"\",IF(C15=\"\",F14,IF(E15=\"\",F14,E15/MAX($E$9:E15)-1)))","v":-3.7011334881321689E-3}]
[null,"2018-01-10",-0.59923298169000005,105.48931942,101.79769894,{"$f":"IF(B16=\"\",\"\",IF(C16=\"\",F15,IF(E16=\"\",F15,E16/MAX($E$9:E16)-1)))","v":-1.7580384044501129E-2}]
[null,"2018-01-11",-1.7580383992999999,107.55091901999999,103.78715244,{"$f":"IF(B17=\"\",\"\",IF(C17=\"\",F16,IF(E17=\"\",F16,E17/MAX($E$9:E17)-1)))","v":0}]
[null,"2018-01-12",-1.7580383992999999,108.17188276,104.38638542,{"$f":"IF(B18=\"\",\"\",IF(C18=\"\",F17,IF(E18=\"\",F17,E18/MAX($E$9:E18)-1)))","v":0}]
[null,"2018-01-15",-1.7580383992999999,107.97317436,104.19463087,{"$f":"IF(B19=\"\",\"\",IF(C19=\"\",F18,IF(E19=\"\",F18,E19/MAX($E$9:E19)-1)))","v":-1.8369689613111362E-3}]
[null,"2018-01-16",-1.7580383992999999,105.06706407999999,101.39022051000001,{"$f":"IF(B20=\"\",\"\",IF(C20=\"\",F19,IF(E20=\"\",F19,E20/MAX($E$9:E20)-1)))","v":-2.8702640655147493E-2}]
[null,"2018-01-17",-1.7580383992999999,107.17834078,103.42761265,{"$f":"IF(B21=\"\",\"\",IF(C21=\"\",F20,IF(E21=\"\",F20,E21/MAX($E$9:E21)-1)))","v":-9.1848449981514202E-3}]
[null,"2018-01-18",-1.7580383992999999,106.45802285000001,102.73250238999999,{"$f":"IF(B22=\"\",\"\",IF(C22=\"\",F21,IF(E22=\"\",F21,E22/MAX($E$9:E22)-1)))","v":-1.5843857638575987E-2}]
[null,"2018-01-19",-1.7580383992999999,106.50769995,102.78044103000001,{"$f":"IF(B23=\"\",\"\",IF(C23=\"\",F22,IF(E23=\"\",F22,E23/MAX($E$9:E23)-1)))","v":-1.5384615374298583E-2}]
[null,"2018-01-22",-1.7580383992999999,105.93641331000001,102.22914668999999,{"$f":"IF(B24=\"\",\"\",IF(C24=\"\",F23,IF(E24=\"\",F23,E24/MAX($E$9:E24)-1)))","v":-2.0665901221891381E-2}]
[null,"2018-01-23",-1.7580383992999999,101.51515151,97.962607861999999,{"$f":"IF(B25=\"\",\"\",IF(C25=\"\",F24,IF(E25=\"\",F24,E25/MAX($E$9:E25)-1)))","v":-6.15384614780351E-2}]
[null,"2018-01-24",-1.7580383992999999,103.77545951,100.14381591,{"$f":"IF(B26=\"\",\"\",IF(C26=\"\",F25,IF(E26=\"\",F25,E26/MAX($E$9:E26)-1)))","v":-4.0642939143164747E-2}]
[null,"2018-01-25",null,null,null,{"$f":"IF(B27=\"\",\"\",IF(C27=\"\",F26,IF(E27=\"\",F26,E27/MAX($E$9:E27)-1)))","v":-4.0642939143164747E-2}]
[null,"2018-01-26",-1.7580383992999999,102.90611027999999,99.304889740999997,{"$f":"IF(B28=\"\",\"\",IF(C28=\"\",F27,IF(E28=\"\",F27,E28/MAX($E$9:E28)-1)))","v":-4.8679678471043264E-2}]
[null,"2018-01-29",-1.7580383992999999,104.04868355000001,100.40747842,{"$f":"IF(B29=\"\",\"\",IF(C29=\"\",F28,IF(E29=\"\",F28,E29/MAX($E$9:E29)-1)))","v":-3.8117106785437671E-2}]
[null,"2018-01-30",-1.7580383992999999,103.00546448,99.400767017999996,{"$f":"IF(B30=\"\",\"\",IF(C30=\"\",F29,IF(E30=\"\",F29,E30/MAX($E$9:E30)-1)))","v":-4.7761193971228133E-2}]
[null,"2018-01-31",-1.7580383992999999,102.95578738,99.352828380000005,{"$f":"IF(B31=\"\",\"\",IF(C31=\"\",F30,IF(E31=\"\",F30,E31/MAX($E$9:E31)-1)))","v":-4.8220436216345752E-2}]
[null,"2018-02-01",-1.7580383992999999,103.80029806,100.16778523000001,{"$f":"IF(B32=\"\",\"\",IF(C32=\"\",F31,IF(E32=\"\",F31,E32/MAX($E$9:E32)-1)))","v":-4.0413318011025989E-2}]
[null,"2018-02-02",-1.7580383992999999,100.98851757,97.454403584000005,{"$f":"IF(B33=\"\",\"\",IF(C33=\"\",F32,IF(E33=\"\",F32,E33/MAX($E$9:E33)-1)))","v":-6.6406953436591087E-2}]
[null,"2018-02-05",-1.7580383992999999,99.876351084999996,96.381157591000004,{"$f":"IF(B34=\"\",\"\",IF(C34=\"\",F33,IF(E34=\"\",F33,E34/MAX($E$9:E34)-1)))","v":-7.6688428254229279E-2}]
[null,"2018-02-06",-1.7580383992999999,104.20741116000001,100.56065133,{"$f":"IF(B35=\"\",\"\",IF(C35=\"\",F34,IF(E35=\"\",F34,E35/MAX($E$9:E35)-1)))","v":-3.6649741962106464E-2}]
[null,"2018-02-07",-1.7580383992999999,102.5886512,98.998540208999998,{"$f":"IF(B36=\"\",\"\",IF(C36=\"\",F35,IF(E36=\"\",F35,E36/MAX($E$9:E36)-1)))","v":-5.161444367789858E-2}]
[null,"2018-02-08",-1.7580383992999999,101.19094726,97.649749205000006,{"$f":"IF(B37=\"\",\"\",IF(C37=\"\",F36,IF(E37=\"\",F36,E37/MAX($E$9:E37)-1)))","v":-6.453558275722493E-2}]
[null,"2018-02-09",-1.7580383992999999,101.22277183999999,97.680460078999999,{"$f":"IF(B38=\"\",\"\",IF(C38=\"\",F37,IF(E38=\"\",F37,E38/MAX($E$9:E38)-1)))","v":-6.4241378930965154E-2}]
[null,"2018-02-12",null,null,null,{"$f":"IF(B39=\"\",\"\",IF(C39=\"\",F38,IF(E39=\"\",F38,E39/MAX($E$9:E39)-1)))","v":-6.4241378930965154E-2}]
[null,"2018-02-13",null,null,null,{"$f":"IF(B40=\"\",\"\",IF(C40=\"\",F39,IF(E40=\"\",F39,E40/MAX($E$9:E40)-1)))","v":-6.4241378930965154E-2}]
[null,"2018-02-14",-1.7580383992999999,106.6697988,102.93686721,{"$f":"IF(B41=\"\",\"\",IF(C41=\"\",F40,IF(E41=\"\",F40,E41/MAX($E$9:E41)-1)))","v":-1.3886084896682971E-2}]
[null,"2018-02-15",-7.6688428318000001,109.69946096,105.86050571,{"$f":"IF(B42=\"\",\"\",IF(C42=\"\",F41,IF(E42=\"\",F41,E42/MAX($E$9:E42)-1)))","v":0}]
[null,"2018-02-16",-7.6688428318000001,108.8305268,105.02198008000001,{"$f":"IF(B43=\"\",\"\",IF(C43=\"\",F42,IF(E43=\"\",F42,E43/MAX($E$9:E43)-1)))","v":-7.9210431159010275E-3}]
[null,"2018-02-19",-7.6688428318000001,109.62520605,105.78884936,{"$f":"IF(B44=\"\",\"\",IF(C44=\"\",F43,IF(E44=\"\",F43,E44/MAX($E$9:E44)-1)))","v":-6.7689408358106995E-4}]
[null,"2018-02-20",-7.6688428318000001,108.21860507,104.43147268,{"$f":"IF(B45=\"\",\"\",IF(C45=\"\",F44,IF(E45=\"\",F44,E45/MAX($E$9:E45)-1)))","v":-1.3499208419755382E-2}]
[null,"2018-02-21",-7.6688428318000001,106.98298483000001,103.23909322,{"$f":"IF(B46=\"\",\"\",IF(C46=\"\",F45,IF(E46=\"\",F45,E46/MAX($E$9:E46)-1)))","v":-2.4762894078564468E-2}]
[null,"2018-02-22",-7.6688428318000001,108.52481634999999,104.72696802999999,{"$f":"IF(B47=\"\",\"\",IF(C47=\"\",F46,IF(E47=\"\",F46,E47/MAX($E$9:E47)-1)))","v":-1.0707843046823151E-2}]
[null,"2018-02-23",-7.6688428318000001,110.69197407999999,106.81828563000001,{"$f":"IF(B48=\"\",\"\",IF(C48=\"\",F47,IF(E48=\"\",F47,E48/MAX($E$9:E48)-1)))","v":0}]
[null,"2018-02-26",-7.6688428318000001,113.1817157,109.22089822,{"$f":"IF(B49=\"\",\"\",IF(C49=\"\",F48,IF(E49=\"\",F48,E49/MAX($E$9:E49)-1)))","v":0}]
[null,"2018-02-27",-7.6688428318000001,112.42266142,108.48840721000001,{"$f":"IF(B50=\"\",\"\",IF(C50=\"\",F49,IF(E50=\"\",F49,E50/MAX($E$9:E50)-1)))","v":-6.7065096692809911E-3}]
[null,"2018-02-28",-7.6688428318000001,108.38766351,104.59461489,{"$f":"IF(B51=\"\",\"\",IF(C51=\"\",F50,IF(E51=\"\",F50,E51/MAX($E$9:E51)-1)))","v":-4.2357125837597764E-2}]
[null,"2018-03-01",-7.6688428318000001,107.27587265,103.52173137,{"$f":"IF(B52=\"\",\"\",IF(C52=\"\",F51,IF(E52=\"\",F51,E52/MAX($E$9:E52)-1)))","v":-5.2180186602387768E-2}]
[null,"2018-03-02",-7.6688428318000001,106.13165888,102.4175596,{"$f":"IF(B53=\"\",\"\",IF(C53=\"\",F52,IF(E53=\"\",F52,E53/MAX($E$9:E53)-1)))","v":-6.2289714980152011E-2}]
[null,"2018-03-05",-7.6688428318000001,105.59572122,101.90037719,{"$f":"IF(B54=\"\",\"\",IF(C54=\"\",F53,IF(E54=\"\",F53,E54/MAX($E$9:E54)-1)))","v":-6.7024911434572898E-2}]
[null,"2018-03-06",-7.6688428318000001,105.17026478,101.48980969,{"$f":"IF(B55=\"\",\"\",IF(C55=\"\",F54,IF(E55=\"\",F54,E55/MAX($E$9:E55)-1)))","v":-7.0783967683799132E-2}]
[null,"2018-03-07",-7.6688428318000001,104.73987184000001,101.07447843,{"$f":"IF(B56=\"\",\"\",IF(C56=\"\",F55,IF(E56=\"\",F55,E56/MAX($E$9:E56)-1)))","v":-7.4586639761842433E-2}]
[null,"2018-03-08",-7.6688428318000001,102.62665330999999,99.035212423999994,{"$f":"IF(B57=\"\",\"\",IF(C57=\"\",F56,IF(E57=\"\",F56,E57/MAX($E$9:E57)-1)))","v":-9.3257663707208449E-2}]
[null,"2018-03-09",-7.6688428318000001,104.50610957000001,100.84889672,{"$f":"IF(B58=\"\",\"\",IF(C58=\"\",F57,IF(E58=\"\",F57,E58/MAX($E$9:E58)-1)))","v":-7.6652011075174942E-2}]
[null,"2018-03-12",-7.6688428318000001,104.92412625,101.25228482,{"$f":"IF(B59=\"\",\"\",IF(C59=\"\",F58,IF(E59=\"\",F58,E59/MAX($E$9:E59)-1)))","v":-7.2958687667529332E-2}]
[null,"2018-03-13",-7.6688428318000001,104.01591179,100.37585351,{"$f":"IF(B60=\"\",\"\",IF(C60=\"\",F59,IF(E60=\"\",F59,E60/MAX($E$9:E60)-1)))","v":-8.0983079741605124E-2}]
[null,"2018-03-14",-7.6688428318000001,105.34623437,101.65962118,{"$f":"IF(B61=\"\",\"\",IF(C61=\"\",F60,IF(E61=\"\",F60,E61/MAX($E$9:E61)-1)))","v":-6.9229214950874751E-2}]
[null,"2018-03-15",-7.6688428318000001,105.14281769999999,101.46332312,{"$f":"IF(B62=\"\",\"\",IF(C62=\"\",F61,IF(E62=\"\",F61,E62/MAX($E$9:E62)-1)))","v":-7.1026472281652264E-2}]
[null,"2018-03-16",-7.6688428318000001,105.30860955,101.62331304999999,{"$f":"IF(B63=\"\",\"\",IF(C63=\"\",F62,IF(E63=\"\",F62,E63/MAX($E$9:E63)-1)))","v":-6.9561643365141035E-2}]
[null,"2018-03-19",-7.6688428318000001,103.63217289000001,100.00554364,{"$f":"IF(B64=\"\",\"\",IF(C64=\"\",F63,IF(E64=\"\",F63,E64/MAX($E$9:E64)-1)))","v":-8.4373546914417563E-2}]
[null,"2018-03-20",-7.6688428318000001,104.08092573,100.43859227,{"$f":"IF(B65=\"\",\"\",IF(C65=\"\",F64,IF(E65=\"\",F64,E65/MAX($E$9:E65)-1)))","v":-8.0408658902530683E-2}]
[null,"2018-03-21",-7.6688428318000001,105.43706668999999,101.74727480999999,{"$f":"IF(B66=\"\",\"\",IF(C66=\"\",F65,IF(E66=\"\",F65,E66/MAX($E$9:E66)-1)))","v":-6.8426679617174857E-2}]
[null,"2018-03-22",-7.6688428318000001,104.72351609,101.05869506000001,{"$f":"IF(B67=\"\",\"\",IF(C67=\"\",F66,IF(E67=\"\",F66,E67/MAX($E$9:E67)-1)))","v":-7.4731148461708696E-2}]
[null,"2018-03-23",-7.6688428318000001,103.90223096,100.26615097,{"$f":"IF(B68=\"\",\"\",IF(C68=\"\",F67,IF(E68=\"\",F67,E68/MAX($E$9:E68)-1)))","v":-8.1987489536688773E-2}]
[null,"2018-03-26",-7.6688428318000001,103.98603769,100.34702486,{"$f":"IF(B69=\"\",\"\",IF(C69=\"\",F68,IF(E69=\"\",F68,E69/MAX($E$9:E69)-1)))","v":-8.1247027854739362E-2}]
[null,"2018-03-27",-7.6688428318000001,101.77030178,98.208829100000003,{"$f":"IF(B70=\"\",\"\",IF(C70=\"\",F69,IF(E70=\"\",F69,E70/MAX($E$9:E70)-1)))","v":-0.10082382858469774}]
[null,"2018-03-28",-7.6688428318000001,103.15761234,99.547590434,{"$f":"IF(B71=\"\",\"\",IF(C71=\"\",F70,IF(E71=\"\",F70,E71/MAX($E$9:E71)-1)))","v":-8.8566455171567804E-2}]
[null,"2018-03-29",-7.6688428318000001,104.82865289,101.16015256999999,{"$f":"IF(B72=\"\",\"\",IF(C72=\"\",F71,IF(E72=\"\",F71,E72/MAX($E$9:E72)-1)))","v":-7.3802228157504368E-2}]
[null,"2018-03-30",null,null,null,{"$f":"IF(B73=\"\",\"\",IF(C73=\"\",F72,IF(E73=\"\",F72,E73/MAX($E$9:E73)-1)))","v":-7.3802228157504368E-2}]
[null,"2018-04-02",-7.6688428318000001,105.0547754,101.37836188,{"$f":"IF(B74=\"\",\"\",IF(C74=\"\",F73,IF(E74=\"\",F73,E74/MAX($E$9:E74)-1)))","v":-7.1804356746847486E-2}]
[null,"2018-04-03",-7.6688428318000001,105.13163949,101.4525361,{"$f":"IF(B75=\"\",\"\",IF(C75=\"\",F74,IF(E75=\"\",F74,E75/MAX($E$9:E75)-1)))","v":-7.1125235615188243E-2}]
[null,"2018-04-04",-7.6688428318000001,104.47979361,100.82350169999999,{"$f":"IF(B76=\"\",\"\",IF(C76=\"\",F75,IF(E76=\"\",F75,E76/MAX($E$9:E76)-1)))","v":-7.6884521706509057E-2}]
[null,"2018-04-05",-7.6688428318000001,105.35100865,101.66422839000001,{"$f":"IF(B77=\"\",\"\",IF(C77=\"\",F76,IF(E77=\"\",F76,E77/MAX($E$9:E77)-1)))","v":-6.9187032455811148E-2}]
[null,"2018-04-06",-7.6688428318000001,103.68993498,100.06128433000001,{"$f":"IF(B78=\"\",\"\",IF(C78=\"\",F77,IF(E78=\"\",F77,E78/MAX($E$9:E78)-1)))","v":-8.3863198703512665E-2}]
[null,"2018-04-09",-7.6688428318000001,102.83534735000001,99.236603177999996,{"$f":"IF(B79=\"\",\"\",IF(C79=\"\",F78,IF(E79=\"\",F78,E79/MAX($E$9:E79)-1)))","v":-9.1413778907851184E-2}]
[null,"2018-04-10",-7.6688428318000001,105.2450134,101.56194246,{"$f":"IF(B80=\"\",\"\",IF(C80=\"\",F79,IF(E80=\"\",F79,E80/MAX($E$9:E80)-1)))","v":-7.0123537572203576E-2}]
[null,"2018-04-11",-7.6688428318000001,105.65928412,101.9617157,{"$f":"IF(B81=\"\",\"\",IF(C81=\"\",F80,IF(E81=\"\",F80,E81/MAX($E$9:E81)-1)))","v":-6.6463310944193776E-2}]
[null,"2018-04-12",-7.6688428318000001,106.59410035000001,102.86381783,{"$f":"IF(B82=\"\",\"\",IF(C82=\"\",F81,IF(E82=\"\",F81,E82/MAX($E$9:E82)-1)))","v":-5.8203883081011987E-2}]
[null,"2018-04-13",-7.6688428318000001,106.72856081,102.99357283000001,{"$f":"IF(B83=\"\",\"\",IF(C83=\"\",F82,IF(E83=\"\",F82,E83/MAX($E$9:E83)-1)))","v":-5.7015877835544737E-2}]
[null,"2018-04-16",-7.6688428318000001,105.84424756999999,102.14020631,{"$f":"IF(B84=\"\",\"\",IF(C84=\"\",F83,IF(E84=\"\",F83,E84/MAX($E$9:E84)-1)))","v":-6.4829094297847667E-2}]
[null,"2018-04-17",-7.6688428318000001,107.79037314,104.01822681,{"$f":"IF(B85=\"\",\"\",IF(C85=\"\",F84,IF(E85=\"\",F84,E85/MAX($E$9:E85)-1)))","v":-4.7634395017704612E-2}]
[null,"2018-04-18",-7.6688428318000001,110.29063370999999,106.43099024999999,{"$f":"IF(B86=\"\",\"\",IF(C86=\"\",F85,IF(E86=\"\",F85,E86/MAX($E$9:E86)-1)))","v":-2.5543719338220305E-2}]
[null,"2018-04-19",-7.6688428318000001,111.17995883,107.28919325,{"$f":"IF(B87=\"\",\"\",IF(C87=\"\",F86,IF(E87=\"\",F86,E87/MAX($E$9:E87)-1)))","v":-1.7686221240453714E-2}]
[null,"2018-04-20",-7.6688428318000001,111.82414609999999,107.91083706000001,{"$f":"IF(B88=\"\",\"\",IF(C88=\"\",F87,IF(E88=\"\",F87,E88/MAX($E$9:E88)-1)))","v":-1.1994601595027854E-2}]
[null,"2018-04-23",-7.6688428318000001,111.55454622000001,107.65067188,{"$f":"IF(B89=\"\",\"\",IF(C89=\"\",F88,IF(E89=\"\",F88,E89/MAX($E$9:E89)-1)))","v":-1.4376610754813002E-2}]
[null,"2018-04-24",-7.6688428318000001,112.23478749,108.30710797,{"$f":"IF(B90=\"\",\"\",IF(C90=\"\",F89,IF(E90=\"\",F89,E90/MAX($E$9:E90)-1)))","v":-8.3664414493220818E-3}]
[null,"2018-04-25",-7.6688428318000001,110.94779975,107.06515863,{"$f":"IF(B91=\"\",\"\",IF(C91=\"\",F90,IF(E91=\"\",F90,E91/MAX($E$9:E91)-1)))","v":-1.9737427773737659E-2}]
[null,"2018-04-26",-10.082382865,113.47441379,109.50335328,{"$f":"IF(B92=\"\",\"\",IF(C92=\"\",F91,IF(E92=\"\",F91,E92/MAX($E$9:E92)-1)))","v":0}]
[null,"2018-04-27",-10.082382865,113.10615803,109.14798472,{"$f":"IF(B93=\"\",\"\",IF(C93=\"\",F92,IF(E93=\"\",F92,E93/MAX($E$9:E93)-1)))","v":-3.2452755952717682E-3}]
[null,"2018-04-30",-10.082382865,113.0177647,109.06268473,{"$f":"IF(B94=\"\",\"\",IF(C94=\"\",F93,IF(E94=\"\",F93,E94/MAX($E$9:E94)-1)))","v":-4.0242470828560917E-3}]
[null,"2018-05-01",null,null,null,{"$f":"IF(B95=\"\",\"\",IF(C95=\"\",F94,IF(E95=\"\",F94,E95/MAX($E$9:E95)-1)))","v":-4.0242470828560917E-3}]
[null,"2018-05-02",-10.082382865,112.57174933,108.63227775999999,{"$f":"IF(B96=\"\",\"\",IF(C96=\"\",F95,IF(E96=\"\",F95,E96/MAX($E$9:E96)-1)))","v":-7.9547839760912842E-3}]
[null,"2018-05-03",-10.082382865,111.39288576,107.49466876,{"$f":"IF(B97=\"\",\"\",IF(C97=\"\",F96,IF(E97=\"\",F96,E97/MAX($E$9:E97)-1)))","v":-1.8343589121547654E-2}]
[null,"2018-05-04",-10.082382865,111.4102151,107.51139166,{"$f":"IF(B98=\"\",\"\",IF(C98=\"\",F97,IF(E98=\"\",F97,E98/MAX($E$9:E98)-1)))","v":-1.8190873250306328E-2}]
[null,"2018-05-07",-10.082382865,110.17598857,106.32035714,{"$f":"IF(B99=\"\",\"\",IF(C99=\"\",F98,IF(E99=\"\",F98,E99/MAX($E$9:E99)-1)))","v":-2.9067567747090628E-2}]
[null,"2018-05-08",-10.082382865,109.96655005,106.11824796000001,{"$f":"IF(B100=\"\",\"\",IF(C100=\"\",F99,IF(E100=\"\",F99,E100/MAX($E$9:E100)-1)))","v":-3.091325716158011E-2}]
[null,"2018-05-09",-10.082382865,111.52797828,107.62503369,{"$f":"IF(B101=\"\",\"\",IF(C101=\"\",F100,IF(E101=\"\",F100,E101/MAX($E$9:E101)-1)))","v":-1.7153078273294042E-2}]
[null,"2018-05-10",-10.082382865,114.64047813000001,110.62861096,{"$f":"IF(B102=\"\",\"\",IF(C102=\"\",F101,IF(E102=\"\",F101,E102/MAX($E$9:E102)-1)))","v":0}]
[null,"2018-05-11",-10.082382865,115.46335457000001,111.42269068,{"$f":"IF(B103=\"\",\"\",IF(C103=\"\",F102,IF(E103=\"\",F102,E103/MAX($E$9:E103)-1)))","v":0}]
[null,"2018-05-14",-10.082382865,116.88258677,112.79225655,{"$f":"IF(B104=\"\",\"\",IF(C104=\"\",F103,IF(E104=\"\",F103,E104/MAX($E$9:E104)-1)))","v":0}]
[null,"2018-05-15",-10.082382865,118.44692056,114.30184616,{"$f":"IF(B105=\"\",\"\",IF(C105=\"\",F104,IF(E105=\"\",F104,E105/MAX($E$9:E105)-1)))","v":0}]
[null,"2018-05-16",-10.082382865,121.37029656,117.12291801000001,{"$f":"IF(B106=\"\",\"\",IF(C106=\"\",F105,IF(E106=\"\",F105,E106/MAX($E$9:E106)-1)))","v":0}]
[null,"2018-05-17",-10.082382865,119.10316826,114.93512834000001,{"$f":"IF(B107=\"\",\"\",IF(C107=\"\",F106,IF(E107=\"\",F106,E107/MAX($E$9:E107)-1)))","v":-1.8679432746144586E-2}]
[null,"2018-05-18",-10.082382865,117.37605722000001,113.26845791,{"$f":"IF(B108=\"\",\"\",IF(C108=\"\",F107,IF(E108=\"\",F107,E108/MAX($E$9:E108)-1)))","v":-3.2909529283337347E-2}]
[null,"2018-05-21",-10.082382865,114.7491517,110.73348147999999,{"$f":"IF(B109=\"\",\"\",IF(C109=\"\",F108,IF(E109=\"\",F108,E109/MAX($E$9:E109)-1)))","v":-5.4553256002847217E-2}]
[null,"2018-05-22",-10.082382865,114.99782445,110.97345188,{"$f":"IF(B110=\"\",\"\",IF(C110=\"\",F109,IF(E110=\"\",F109,E110/MAX($E$9:E110)-1)))","v":-5.2504379454369143E-2}]
[null,"2018-05-23",-10.082382865,113.87505993000001,109.88997873,{"$f":"IF(B111=\"\",\"\",IF(C111=\"\",F110,IF(E111=\"\",F110,E111/MAX($E$9:E111)-1)))","v":-6.1755115078181877E-2}]
[null,"2018-05-24",-10.082382865,116.46905934,112.3932006,{"$f":"IF(B112=\"\",\"\",IF(C112=\"\",F111,IF(E112=\"\",F111,E112/MAX($E$9:E112)-1)))","v":-4.0382510019056905E-2}]
[null,"2018-05-25",-10.082382865,114.94950574000001,110.92682409,{"$f":"IF(B113=\"\",\"\",IF(C113=\"\",F112,IF(E113=\"\",F112,E113/MAX($E$9:E113)-1)))","v":-5.2902489327246616E-2}]
[null,"2018-05-28",-10.082382865,111.20162439000001,107.31010062,{"$f":"IF(B114=\"\",\"\",IF(C114=\"\",F113,IF(E114=\"\",F113,E114/MAX($E$9:E114)-1)))","v":-8.3782214076686401E-2}]
[null,"2018-05-29",-10.082382865,110.38456854,106.52163781,{"$f":"IF(B115=\"\",\"\",IF(C115=\"\",F114,IF(E115=\"\",F114,E115/MAX($E$9:E115)-1)))","v":-9.0514140017369349E-2}]
[null,"2018-05-30",-10.082382865,110.75878959000001,106.88276292,{"$f":"IF(B116=\"\",\"\",IF(C116=\"\",F115,IF(E116=\"\",F115,E116/MAX($E$9:E116)-1)))","v":-8.7430839873078425E-2}]
[null,"2018-05-31",null,null,null,{"$f":"IF(B117=\"\",\"\",IF(C117=\"\",F116,IF(E117=\"\",F116,E117/MAX($E$9:E117)-1)))","v":-8.7430839873078425E-2}]
[null,"2018-06-01",-10.082382865,113.3128085,109.34740341,{"$f":"IF(B118=\"\",\"\",IF(C118=\"\",F117,IF(E118=\"\",F117,E118/MAX($E$9:E118)-1)))","v":-6.638764412731013E-2}]
[null,"2018-06-04",-10.082382865,113.38285213,109.41499585,{"$f":"IF(B119=\"\",\"\",IF(C119=\"\",F118,IF(E119=\"\",F118,E119/MAX($E$9:E119)-1)))","v":-6.5810537262586899E-2}]
[null,"2018-06-05",-10.082382865,112.82317551,108.87490523,{"$f":"IF(B120=\"\",\"\",IF(C120=\"\",F119,IF(E120=\"\",F119,E120/MAX($E$9:E120)-1)))","v":-7.0421851847097816E-2}]
[null,"2018-06-06",-10.082382865,115.61137691,111.56553294,{"$f":"IF(B121=\"\",\"\",IF(C121=\"\",F120,IF(E121=\"\",F120,E121/MAX($E$9:E121)-1)))","v":-4.7449168484049564E-2}]
[null,"2018-06-07",-10.082382865,111.84259589,107.92864118999999,{"$f":"IF(B122=\"\",\"\",IF(C122=\"\",F121,IF(E122=\"\",F121,E122/MAX($E$9:E122)-1)))","v":-7.8501090787500671E-2}]
[null,"2018-06-08",-10.082382865,108.36007907,104.56799577,{"$f":"IF(B123=\"\",\"\",IF(C123=\"\",F122,IF(E123=\"\",F122,E123/MAX($E$9:E123)-1)))","v":-0.10719441125030771}]
[null,"2018-06-11",-10.082382865,106.54385379999999,102.81532968,{"$f":"IF(B124=\"\",\"\",IF(C124=\"\",F123,IF(E124=\"\",F123,E124/MAX($E$9:E124)-1)))","v":-0.12215874205574706}]
[null,"2018-06-12",-10.082382865,107.10999772,103.36166127,{"$f":"IF(B125=\"\",\"\",IF(C125=\"\",F124,IF(E125=\"\",F124,E125/MAX($E$9:E125)-1)))","v":-0.11749414182820361}]
[null,"2018-06-13",-10.082382865,106.06609079,102.35428607999999,{"$f":"IF(B126=\"\",\"\",IF(C126=\"\",F125,IF(E126=\"\",F125,E126/MAX($E$9:E126)-1)))","v":-0.12609515012885064}]
[null,"2018-06-14",-10.082382865,105.33574582999999,101.64949969,{"$f":"IF(B127=\"\",\"\",IF(C127=\"\",F126,IF(E127=\"\",F126,E127/MAX($E$9:E127)-1)))","v":-0.13211264356203012}]
[null,"2018-06-15",-10.082382865,102.91594318999999,99.314378547999993,{"$f":"IF(B128=\"\",\"\",IF(C128=\"\",F127,IF(E128=\"\",F127,E128/MAX($E$9:E128)-1)))","v":-0.15204999810950337}]
[null,"2018-06-18",-10.082382865,102.24020951999999,98.662292320000006,{"$f":"IF(B129=\"\",\"\",IF(C129=\"\",F128,IF(E129=\"\",F128,E129/MAX($E$9:E129)-1)))","v":-0.15761753552301205}]
[null,"2018-06-19",-10.082382865,101.7008822,98.141838864999997,{"$f":"IF(B130=\"\",\"\",IF(C130=\"\",F129,IF(E130=\"\",F129,E130/MAX($E$9:E130)-1)))","v":-0.16206118723390583}]
[null,"2018-06-20",-10.082382865,102.81900342,99.220831204000007,{"$f":"IF(B131=\"\",\"\",IF(C131=\"\",F130,IF(E131=\"\",F130,E131/MAX($E$9:E131)-1)))","v":-0.15284870894756486}]
[null,"2018-06-21",-10.082382865,100.57369516,97.054097971999994,{"$f":"IF(B132=\"\",\"\",IF(C132=\"\",F131,IF(E132=\"\",F131,E132/MAX($E$9:E132)-1)))","v":-0.17134836101237272}]
[null,"2018-06-22",-10.082382865,101.65790217,98.100362927999996,{"$f":"IF(B133=\"\",\"\",IF(C133=\"\",F132,IF(E133=\"\",F132,E133/MAX($E$9:E133)-1)))","v":-0.16241531038678403}]
[null,"2018-06-25",-10.082382865,101.72007232,98.160357426000004,{"$f":"IF(B134=\"\",\"\",IF(C134=\"\",F133,IF(E134=\"\",F133,E134/MAX($E$9:E134)-1)))","v":-0.1619030750444671}]
[null,"2018-06-26",-10.082382865,103.40940711,99.790573593000005,{"$f":"IF(B135=\"\",\"\",IF(C135=\"\",F134,IF(E135=\"\",F134,E135/MAX($E$9:E135)-1)))","v":-0.14798422641348608}]
[null,"2018-06-27",-10.082382865,102.47873386000001,98.892469445000003,{"$f":"IF(B136=\"\",\"\",IF(C136=\"\",F135,IF(E136=\"\",F135,E136/MAX($E$9:E136)-1)))","v":-0.15565227433492979}]
[null,"2018-06-28",-10.082382865,104.32292678,100.67212445,{"$f":"IF(B137=\"\",\"\",IF(C137=\"\",F136,IF(E137=\"\",F136,E137/MAX($E$9:E137)-1)))","v":-0.14045751113027627}]
[null,"2018-06-29",-10.082382865,105.71169310000001,102.01229060999999,{"$f":"IF(B138=\"\",\"\",IF(C138=\"\",F137,IF(E138=\"\",F137,E138/MAX($E$9:E138)-1)))","v":-0.12901512066758669}]
[null,"2018-07-02",-10.082382865,103.35397685,99.737083124999998,{"$f":"IF(B139=\"\",\"\",IF(C139=\"\",F138,IF(E139=\"\",F138,E139/MAX($E$9:E139)-1)))","v":-0.14844093009632497}]
[null,"2018-07-03",-10.082382865,103.23519032999999,99.622453569000001,{"$f":"IF(B140=\"\",\"\",IF(C140=\"\",F139,IF(E140=\"\",F139,E140/MAX($E$9:E140)-1)))","v":-0.14941964167513144}]
[null,"2018-07-04",-10.082382865,103.19215907,99.580928197000006,{"$f":"IF(B141=\"\",\"\",IF(C141=\"\",F140,IF(E141=\"\",F140,E141/MAX($E$9:E141)-1)))","v":-0.14977418690595001}]
[null,"2018-07-05",-10.082382865,105.39680351,101.70842064999999,{"$f":"IF(B142=\"\",\"\",IF(C142=\"\",F141,IF(E142=\"\",F141,E142/MAX($E$9:E142)-1)))","v":-0.13160957412864249}]
[null,"2018-07-06",-10.082382865,107.07521206,103.32809294,{"$f":"IF(B143=\"\",\"\",IF(C143=\"\",F142,IF(E143=\"\",F142,E143/MAX($E$9:E143)-1)))","v":-0.11778074952693884}]
[null,"2018-07-09",null,null,null,{"$f":"IF(B144=\"\",\"\",IF(C144=\"\",F143,IF(E144=\"\",F143,E144/MAX($E$9:E144)-1)))","v":-0.11778074952693884}]
[null,"2018-07-10",-10.082382865,107.30093291999999,103.54591465,{"$f":"IF(B145=\"\",\"\",IF(C145=\"\",F144,IF(E145=\"\",F144,E145/MAX($E$9:E145)-1)))","v":-0.11592097934958212}]
[null,"2018-07-11",-10.082382865,106.22931905,102.51180213000001,{"$f":"IF(B146=\"\",\"\",IF(C146=\"\",F145,IF(E146=\"\",F145,E146/MAX($E$9:E146)-1)))","v":-0.12475027200699096}]
[null,"2018-07-12",-10.082382865,108.74684105999999,104.94122294,{"$f":"IF(B147=\"\",\"\",IF(C147=\"\",F146,IF(E147=\"\",F146,E147/MAX($E$9:E147)-1)))","v":-0.10400778325007176}]
[null,"2018-07-13",-10.082382865,108.98490054,105.17095148,{"$f":"IF(B148=\"\",\"\",IF(C148=\"\",F147,IF(E148=\"\",F147,E148/MAX($E$9:E148)-1)))","v":-0.10204635209805435}]
[null,"2018-07-16",-10.082382865,109.26102718999999,105.43741502,{"$f":"IF(B149=\"\",\"\",IF(C149=\"\",F148,IF(E149=\"\",F148,E149/MAX($E$9:E149)-1)))","v":-9.9771276096470629E-2}]
[null,"2018-07-17",-10.082382865,111.99864524,108.07922956,{"$f":"IF(B150=\"\",\"\",IF(C150=\"\",F149,IF(E150=\"\",F149,E150/MAX($E$9:E150)-1)))","v":-7.7215361465190369E-2}]
[null,"2018-07-18",-10.082382865,113.41050001000001,109.44167618,{"$f":"IF(B151=\"\",\"\",IF(C151=\"\",F150,IF(E151=\"\",F150,E151/MAX($E$9:E151)-1)))","v":-6.5582739574027493E-2}]
[null,"2018-07-19",-10.082382865,111.31931665,107.42367422,{"$f":"IF(B152=\"\",\"\",IF(C152=\"\",F151,IF(E152=\"\",F151,E152/MAX($E$9:E152)-1)))","v":-8.2812518291013548E-2}]
[null,"2018-07-20",-10.082382865,110.6043674,106.73374477,{"$f":"IF(B153=\"\",\"\",IF(C153=\"\",F152,IF(E153=\"\",F152,E153/MAX($E$9:E153)-1)))","v":-8.8703162596350027E-2}]
[null,"2018-07-23",-10.082382865,112.39796169,108.46457185,{"$f":"IF(B154=\"\",\"\",IF(C154=\"\",F153,IF(E154=\"\",F153,E154/MAX($E$9:E154)-1)))","v":-7.3925294102224814E-2}]
[null,"2018-07-24",-10.082382865,115.06495953,111.03823755000001,{"$f":"IF(B155=\"\",\"\",IF(C155=\"\",F154,IF(E155=\"\",F154,E155/MAX($E$9:E155)-1)))","v":-5.1951236900368958E-2}]
[null,"2018-07-25",-10.082382865,115.50317923,111.46112166,{"$f":"IF(B156=\"\",\"\",IF(C156=\"\",F155,IF(E156=\"\",F155,E156/MAX($E$9:E156)-1)))","v":-4.8340636027498829E-2}]
[null,"2018-07-26",-10.082382865,116.11074243,112.04742306999999,{"$f":"IF(B157=\"\",\"\",IF(C157=\"\",F156,IF(E157=\"\",F156,E157/MAX($E$9:E157)-1)))","v":-4.3334771932224792E-2}]
[null,"2018-07-27",-10.082382865,116.44945957,112.37428672999999,{"$f":"IF(B158=\"\",\"\",IF(C158=\"\",F157,IF(E158=\"\",F157,E158/MAX($E$9:E158)-1)))","v":-4.054399737201364E-2}]
[null,"2018-07-30",-10.082382865,117.86433992000001,113.73965305,{"$f":"IF(B159=\"\",\"\",IF(C159=\"\",F158,IF(E159=\"\",F158,E159/MAX($E$9:E159)-1)))","v":-2.8886446969423552E-2}]
[null,"2018-07-31",-10.082382865,118.01034475,113.88054841,{"$f":"IF(B160=\"\",\"\",IF(C160=\"\",F159,IF(E160=\"\",F159,E160/MAX($E$9:E160)-1)))","v":-2.7683476941064322E-2}]
[null,"2018-08-01",-10.082382865,115.3214074,111.28571097,{"$f":"IF(B161=\"\",\"\",IF(C161=\"\",F160,IF(E161=\"\",F160,E161/MAX($E$9:E161)-1)))","v":-4.9838299277188636E-2}]
[null,"2018-08-02",-10.082382865,114.51985927,110.51221319,{"$f":"IF(B162=\"\",\"\",IF(C162=\"\",F161,IF(E162=\"\",F161,E162/MAX($E$9:E162)-1)))","v":-5.6442453213431554E-2}]
[null,"2018-08-03",-10.082382865,117.13045043,113.03144618,{"$f":"IF(B163=\"\",\"\",IF(C163=\"\",F162,IF(E163=\"\",F162,E163/MAX($E$9:E163)-1)))","v":-3.4933144593022103E-2}]
[null,"2018-08-06",-10.082382865,117.45714464,113.34670765,{"$f":"IF(B164=\"\",\"\",IF(C164=\"\",F163,IF(E164=\"\",F163,E164/MAX($E$9:E164)-1)))","v":-3.2241429979379399E-2}]
[null,"2018-08-07",-10.082382865,117.86658550999999,113.74182005,{"$f":"IF(B165=\"\",\"\",IF(C165=\"\",F164,IF(E165=\"\",F164,E165/MAX($E$9:E165)-1)))","v":-2.8867945039683263E-2}]
[null,"2018-08-08",-10.082382865,116.774233,112.68769464,{"$f":"IF(B166=\"\",\"\",IF(C166=\"\",F165,IF(E166=\"\",F165,E166/MAX($E$9:E166)-1)))","v":-3.7868108525278776E-2}]
[null,"2018-08-09",-10.082382865,115.40046276,111.36199978,{"$f":"IF(B167=\"\",\"\",IF(C167=\"\",F166,IF(E167=\"\",F166,E167/MAX($E$9:E167)-1)))","v":-4.9186942469347739E-2}]
[null,"2018-08-10",-10.082382865,113.1837256,109.22283779,{"$f":"IF(B168=\"\",\"\",IF(C168=\"\",F167,IF(E168=\"\",F167,E168/MAX($E$9:E168)-1)))","v":-6.745119020451229E-2}]
[null,"2018-08-13",-10.082382865,114.81133946,110.79349297,{"$f":"IF(B169=\"\",\"\",IF(C169=\"\",F168,IF(E169=\"\",F168,E169/MAX($E$9:E169)-1)))","v":-5.4040875582177628E-2}]
[null,"2018-08-14",-10.082382865,115.84886752,111.79471252,{"$f":"IF(B170=\"\",\"\",IF(C170=\"\",F169,IF(E170=\"\",F169,E170/MAX($E$9:E170)-1)))","v":-4.5492424373725693E-2}]
[null,"2018-08-15",-10.082382865,112.60745366,108.6667326,{"$f":"IF(B171=\"\",\"\",IF(C171=\"\",F170,IF(E171=\"\",F170,E171/MAX($E$9:E171)-1)))","v":-7.2199237806541028E-2}]
[null,"2018-08-16",-10.082382865,111.89649104,107.98065027,{"$f":"IF(B172=\"\",\"\",IF(C172=\"\",F171,IF(E172=\"\",F171,E172/MAX($E$9:E172)-1)))","v":-7.805703525265173E-2}]
[null,"2018-08-17",-10.082382865,112.60084007,108.66035046,{"$f":"IF(B173=\"\",\"\",IF(C173=\"\",F172,IF(E173=\"\",F172,E173/MAX($E$9:E173)-1)))","v":-7.2253728764488767E-2}]
[null,"2018-08-20",-10.082382865,113.94856433,109.96091084,{"$f":"IF(B174=\"\",\"\",IF(C174=\"\",F173,IF(E174=\"\",F173,E174/MAX($E$9:E174)-1)))","v":-6.1149493981942249E-2}]
[null,"2018-08-21",-10.082382865,114.10964370000001,110.11635319,{"$f":"IF(B175=\"\",\"\",IF(C175=\"\",F174,IF(E175=\"\",F174,E175/MAX($E$9:E175)-1)))","v":-5.982232119081754E-2}]
[null,"2018-08-22",-10.082382865,116.90596787,112.81481942000001,{"$f":"IF(B176=\"\",\"\",IF(C176=\"\",F175,IF(E176=\"\",F175,E176/MAX($E$9:E176)-1)))","v":-3.6782712241101856E-2}]
[null,"2018-08-23",-10.082382865,116.88124886,112.79096546,{"$f":"IF(B177=\"\",\"\",IF(C177=\"\",F176,IF(E177=\"\",F176,E177/MAX($E$9:E177)-1)))","v":-3.6986378273380693E-2}]
[null,"2018-08-24",-10.082382865,117.4389285,113.32912899,{"$f":"IF(B178=\"\",\"\",IF(C178=\"\",F177,IF(E178=\"\",F177,E178/MAX($E$9:E178)-1)))","v":-3.2391517257759017E-2}]
[null,"2018-08-27",-10.082382865,119.94870127999999,115.75107176,{"$f":"IF(B179=\"\",\"\",IF(C179=\"\",F178,IF(E179=\"\",F178,E179/MAX($E$9:E179)-1)))","v":-1.1712876295336794E-2}]
[null,"2018-08-28",-10.082382865,120.59215524,116.37200790999999,{"$f":"IF(B180=\"\",\"\",IF(C180=\"\",F179,IF(E180=\"\",F179,E180/MAX($E$9:E180)-1)))","v":-6.4112994515377331E-3}]
[null,"2018-08-29",-17.134836104000001,121.53165104999999,117.27862587,{"$f":"IF(B181=\"\",\"\",IF(C181=\"\",F180,IF(E181=\"\",F180,E181/MAX($E$9:E181)-1)))","v":0}]
[null,"2018-08-30",-17.134836104000001,120.97896566999999,116.74528182,{"$f":"IF(B182=\"\",\"\",IF(C182=\"\",F181,IF(E182=\"\",F181,E182/MAX($E$9:E182)-1)))","v":-4.5476662609535978E-3}]
[null,"2018-08-31",-17.134836104000001,120.65402174,116.43170938,{"$f":"IF(B183=\"\",\"\",IF(C183=\"\",F182,IF(E183=\"\",F182,E183/MAX($E$9:E183)-1)))","v":-7.2214052962965569E-3}]
[null,"2018-09-03",-17.134836104000001,120.73719887999999,116.51197572,{"$f":"IF(B184=\"\",\"\",IF(C184=\"\",F183,IF(E184=\"\",F183,E184/MAX($E$9:E184)-1)))","v":-6.5369980617765444E-3}]
[null,"2018-09-04",-17.134836104000001,117.00308296,112.90853595999999,{"$f":"IF(B185=\"\",\"\",IF(C185=\"\",F184,IF(E185=\"\",F184,E185/MAX($E$9:E185)-1)))","v":-3.7262458334429316E-2}]
[null,"2018-09-05",-17.134836104000001,117.74329643999999,113.62284551,{"$f":"IF(B186=\"\",\"\",IF(C186=\"\",F185,IF(E186=\"\",F185,E186/MAX($E$9:E186)-1)))","v":-3.1171753018766846E-2}]
[null,"2018-09-06",-17.134836104000001,121.27683568,117.03272781,{"$f":"IF(B187=\"\",\"\",IF(C187=\"\",F186,IF(E187=\"\",F186,E187/MAX($E$9:E187)-1)))","v":-2.0966997027452861E-3}]
[null,"2018-09-07",null,null,null,{"$f":"IF(B188=\"\",\"\",IF(C188=\"\",F187,IF(E188=\"\",F187,E188/MAX($E$9:E188)-1)))","v":-2.0966997027452861E-3}]
[null,"2018-09-10",-17.134836104000001,120.91033822,116.67905601,{"$f":"IF(B189=\"\",\"\",IF(C189=\"\",F188,IF(E189=\"\",F188,E189/MAX($E$9:E189)-1)))","v":-5.1123540675229728E-3}]
[null,"2018-09-11",-17.134836104000001,119.54499907,115.36149718999999,{"$f":"IF(B190=\"\",\"\",IF(C190=\"\",F189,IF(E190=\"\",F189,E190/MAX($E$9:E190)-1)))","v":-1.6346786686647241E-2}]
[null,"2018-09-12",-17.134836104000001,120.42272518,116.20850709,{"$f":"IF(B191=\"\",\"\",IF(C191=\"\",F190,IF(E191=\"\",F190,E191/MAX($E$9:E191)-1)))","v":-9.1245849110322963E-3}]
[null,"2018-09-13",-17.134836104000001,120.38303907,116.17020979999999,{"$f":"IF(B192=\"\",\"\",IF(C192=\"\",F191,IF(E192=\"\",F191,E192/MAX($E$9:E192)-1)))","v":-9.4511345249614909E-3}]
[null,"2018-09-14",-17.134836104000001,122.99301598,118.68885003,{"$f":"IF(B193=\"\",\"\",IF(C193=\"\",F192,IF(E193=\"\",F192,E193/MAX($E$9:E193)-1)))","v":0}]
[null,"2018-09-17",-17.134836104000001,122.57603071,118.28645725,{"$f":"IF(B194=\"\",\"\",IF(C194=\"\",F193,IF(E194=\"\",F193,E194/MAX($E$9:E194)-1)))","v":-3.3903166127087214E-3}]
[null,"2018-09-18",-17.134836104000001,125.42544682,121.03615746,{"$f":"IF(B195=\"\",\"\",IF(C195=\"\",F194,IF(E195=\"\",F194,E195/MAX($E$9:E195)-1)))","v":0}]
[null,"2018-09-19",-17.134836104000001,126.64325324000001,122.21134649,{"$f":"IF(B196=\"\",\"\",IF(C196=\"\",F195,IF(E196=\"\",F195,E196/MAX($E$9:E196)-1)))","v":0}]
[null,"2018-09-20",-17.134836104000001,127.44478782,122.9848312,{"$f":"IF(B197=\"\",\"\",IF(C197=\"\",F196,IF(E197=\"\",F196,E197/MAX($E$9:E197)-1)))","v":0}]
[null,"2018-09-21",-17.134836104000001,130.63831375999999,126.06659903000001,{"$f":"IF(B198=\"\",\"\",IF(C198=\"\",F197,IF(E198=\"\",F197,E198/MAX($E$9:E198)-1)))","v":0}]
[null,"2018-09-24",-17.134836104000001,130.32654844000001,125.76574401000001,{"$f":"IF(B199=\"\",\"\",IF(C199=\"\",F198,IF(E199=\"\",F198,E199/MAX($E$9:E199)-1)))","v":-2.3864768488630617E-3}]
[null,"2018-09-25",-17.134836104000001,132.75222124000001,128.1065299,{"$f":"IF(B200=\"\",\"\",IF(C200=\"\",F199,IF(E200=\"\",F199,E200/MAX($E$9:E200)-1)))","v":0}]
[null,"2018-09-26",-17.134836104000001,130.78438201,126.20755559,{"$f":"IF(B201=\"\",\"\",IF(C201=\"\",F200,IF(E201=\"\",F200,E201/MAX($E$9:E201)-1)))","v":-1.4823399802354698E-2}]
[null,"2018-09-27",-17.134836104000001,130.99551697000001,126.41130185,{"$f":"IF(B202=\"\",\"\",IF(C202=\"\",F201,IF(E202=\"\",F201,E202/MAX($E$9:E202)-1)))","v":-1.3232955816719794E-2}]
[null,"2018-09-28",-17.134836104000001,131.50661756,126.90451637,{"$f":"IF(B203=\"\",\"\",IF(C203=\"\",F202,IF(E203=\"\",F202,E203/MAX($E$9:E203)-1)))","v":-9.3829216273229044E-3}]
[null,"2018-10-01",-17.134836104000001,131.71139352,127.10212615,{"$f":"IF(B204=\"\",\"\",IF(C204=\"\",F203,IF(E204=\"\",F203,E204/MAX($E$9:E204)-1)))","v":-7.8403790250507477E-3}]
[null,"2018-10-02",-17.134836104000001,133.68544510000001,129.00709538999999,{"$f":"IF(B205=\"\",\"\",IF(C205=\"\",F204,IF(E205=\"\",F204,E205/MAX($E$9:E205)-1)))","v":0}]
[null,"2018-10-03",-17.134836104000001,132.22343420999999,127.59624787,{"$f":"IF(B206=\"\",\"\",IF(C206=\"\",F205,IF(E206=\"\",F205,E206/MAX($E$9:E206)-1)))","v":-1.0936200956504494E-2}]
[null,"2018-10-04",-17.134836104000001,130.44488878000001,125.879943,{"$f":"IF(B207=\"\",\"\",IF(C207=\"\",F206,IF(E207=\"\",F206,E207/MAX($E$9:E207)-1)))","v":-2.4240158113368326E-2}]
[null,"2018-10-05",-17.134836104000001,128.2566013,123.7682351,{"$f":"IF(B208=\"\",\"\",IF(C208=\"\",F207,IF(E208=\"\",F207,E208/MAX($E$9:E208)-1)))","v":-4.0609086454992616E-2}]
[null,"2018-10-08",-17.134836104000001,129.08207737000001,124.56482346,{"$f":"IF(B209=\"\",\"\",IF(C209=\"\",F208,IF(E209=\"\",F208,E209/MAX($E$9:E209)-1)))","v":-3.443432251978551E-2}]
[null,"2018-10-09",-17.134836104000001,131.14444796000001,126.55502097,{"$f":"IF(B210=\"\",\"\",IF(C210=\"\",F209,IF(E210=\"\",F209,E210/MAX($E$9:E210)-1)))","v":-1.9007283379159468E-2}]
[null,"2018-10-10",-17.134836104000001,128.19920744000001,123.71284974,{"$f":"IF(B211=\"\",\"\",IF(C211=\"\",F210,IF(E211=\"\",F210,E211/MAX($E$9:E211)-1)))","v":-4.1038406717049281E-2}]
[null,"2018-10-11",-17.134836104000001,129.31041379999999,124.78516921000001,{"$f":"IF(B212=\"\",\"\",IF(C212=\"\",F211,IF(E212=\"\",F211,E212/MAX($E$9:E212)-1)))","v":-3.2726309876497273E-2}]
[null,"2018-10-12",null,null,null,{"$f":"IF(B213=\"\",\"\",IF(C213=\"\",F212,IF(E213=\"\",F212,E213/MAX($E$9:E213)-1)))","v":-3.2726309876497273E-2}]
[null,"2018-10-15",-17.134836104000001,131.42741581000001,126.82808629,{"$f":"IF(B214=\"\",\"\",IF(C214=\"\",F213,IF(E214=\"\",F213,E214/MAX($E$9:E214)-1)))","v":-1.6890614375997259E-2}]
[null,"2018-10-16",-17.134836104000001,132.26583825,127.63716796999999,{"$f":"IF(B215=\"\",\"\",IF(C215=\"\",F214,IF(E215=\"\",F214,E215/MAX($E$9:E215)-1)))","v":-1.0619008325538859E-2}]
[null,"2018-10-17",-17.134836104000001,133.01327889999999,128.35845178,{"$f":"IF(B216=\"\",\"\",IF(C216=\"\",F215,IF(E216=\"\",F215,E216/MAX($E$9:E216)-1)))","v":-5.0279684852920781E-3}]
[null,"2018-10-18",-17.134836104000001,130.10506742999999,125.55201377,{"$f":"IF(B217=\"\",\"\",IF(C217=\"\",F216,IF(E217=\"\",F216,E217/MAX($E$9:E217)-1)))","v":-2.6782105352848751E-2}]
[null,"2018-10-19",-17.134836104000001,132.64194061000001,128.00010856,{"$f":"IF(B218=\"\",\"\",IF(C218=\"\",F217,IF(E218=\"\",F217,E218/MAX($E$9:E218)-1)))","v":-7.8056701219090252E-3}]
[null,"2018-10-22",-17.134836104000001,135.3665015,130.62932287999999,{"$f":"IF(B219=\"\",\"\",IF(C219=\"\",F218,IF(E219=\"\",F218,E219/MAX($E$9:E219)-1)))","v":0}]
[null,"2018-10-23",-17.134836104000001,133.70597895,129.02691066,{"$f":"IF(B220=\"\",\"\",IF(C220=\"\",F219,IF(E220=\"\",F219,E220/MAX($E$9:E220)-1)))","v":-1.2266864626344409E-2}]
[null,"2018-10-24",-17.134836104000001,131.69537751999999,127.08667063999999,{"$f":"IF(B221=\"\",\"\",IF(C221=\"\",F220,IF(E221=\"\",F220,E221/MAX($E$9:E221)-1)))","v":-2.711988519801467E-2}]
[null,"2018-10-25",-17.134836104000001,131.34404606000001,126.74763409000001,{"$f":"IF(B222=\"\",\"\",IF(C222=\"\",F221,IF(E222=\"\",F221,E222/MAX($E$9:E222)-1)))","v":-2.9715294425630812E-2}]
[null,"2018-10-26",-17.134836104000001,130.45503453000001,125.88973369999999,{"$f":"IF(B223=\"\",\"\",IF(C223=\"\",F222,IF(E223=\"\",F222,E223/MAX($E$9:E223)-1)))","v":-3.6282735571965929E-2}]
[null,"2018-10-29",-17.134836104000001,125.87232756,121.46739951000001,{"$f":"IF(B224=\"\",\"\",IF(C224=\"\",F223,IF(E224=\"\",F223,E224/MAX($E$9:E224)-1)))","v":-7.0136805182833273E-2}]
[null,"2018-10-30",-17.134836104000001,128.04428942000001,123.56335310999999,{"$f":"IF(B225=\"\",\"\",IF(C225=\"\",F224,IF(E225=\"\",F224,E225/MAX($E$9:E225)-1)))","v":-5.4091758375652055E-2}]
[null,"2018-10-31",-17.134836104000001,131.72779026000001,127.11794908,{"$f":"IF(B226=\"\",\"\",IF(C226=\"\",F225,IF(E226=\"\",F225,E226/MAX($E$9:E226)-1)))","v":-2.6880440949890283E-2}]
[null,"2018-11-01",-17.134836104000001,133.30396827999999,128.63896843000001,{"$f":"IF(B227=\"\",\"\",IF(C227=\"\",F226,IF(E227=\"\",F226,E227/MAX($E$9:E227)-1)))","v":-1.5236659014365328E-2}]
[null,"2018-11-02",null,null,null,{"$f":"IF(B228=\"\",\"\",IF(C228=\"\",F227,IF(E228=\"\",F227,E228/MAX($E$9:E228)-1)))","v":-1.5236659014365328E-2}]
[null,"2018-11-05",-17.134836104000001,133.83233362999999,129.14884352999999,{"$f":"IF(B229=\"\",\"\",IF(C229=\"\",F228,IF(E229=\"\",F228,E229/MAX($E$9:E229)-1)))","v":-1.1333438139000451E-2}]
[null,"2018-11-06",-17.134836104000001,133.31804682000001,128.65255429000001,{"$f":"IF(B230=\"\",\"\",IF(C230=\"\",F229,IF(E230=\"\",F229,E230/MAX($E$9:E230)-1)))","v":-1.5132655872494238E-2}]
[null,"2018-11-07",-17.134836104000001,134.39377206,129.69063431000001,{"$f":"IF(B231=\"\",\"\",IF(C231=\"\",F230,IF(E231=\"\",F230,E231/MAX($E$9:E231)-1)))","v":-7.1858947846058507E-3}]
[null,"2018-11-08",-17.134836104000001,132.365759,127.73359197000001,{"$f":"IF(B232=\"\",\"\",IF(C232=\"\",F231,IF(E232=\"\",F231,E232/MAX($E$9:E232)-1)))","v":-2.2167541300509463E-2}]
[null,"2018-11-09",-17.134836104000001,129.51759486,124.98509992,{"$f":"IF(B233=\"\",\"\",IF(C233=\"\",F232,IF(E233=\"\",F232,E233/MAX($E$9:E233)-1)))","v":-4.3207932457744902E-2}]
[null,"2018-11-12",-17.134836104000001,129.23085682999999,124.70839635,{"$f":"IF(B234=\"\",\"\",IF(C234=\"\",F233,IF(E234=\"\",F233,E234/MAX($E$9:E234)-1)))","v":-4.5326167199374767E-2}]
[null,"2018-11-13",-17.134836104000001,128.20404350000001,123.71751656000001,{"$f":"IF(B235=\"\",\"\",IF(C235=\"\",F234,IF(E235=\"\",F234,E235/MAX($E$9:E235)-1)))","v":-5.2911598771352208E-2}]
[null,"2018-11-14",-17.134836104000001,126.62920115,122.19778615,{"$f":"IF(B236=\"\",\"\",IF(C236=\"\",F235,IF(E236=\"\",F235,E236/MAX($E$9:E236)-1)))","v":-6.4545513550165579E-2}]
[null,"2018-11-15",null,null,null,{"$f":"IF(B237=\"\",\"\",IF(C237=\"\",F236,IF(E237=\"\",F236,E237/MAX($E$9:E237)-1)))","v":-6.4545513550165579E-2}]
[null,"2018-11-16",-17.134836104000001,129.03275198,124.51722422,{"$f":"IF(B238=\"\",\"\",IF(C238=\"\",F237,IF(E238=\"\",F237,E238/MAX($E$9:E238)-1)))","v":-4.6789637466120415E-2}]
[null,"2018-11-19",-17.134836104000001,126.77359575,122.33712763,{"$f":"IF(B239=\"\",\"\",IF(C239=\"\",F238,IF(E239=\"\",F238,E239/MAX($E$9:E239)-1)))","v":-6.3478819817641141E-2}]
[null,"2018-11-20",null,null,null,{"$f":"IF(B240=\"\",\"\",IF(C240=\"\",F239,IF(E240=\"\",F239,E240/MAX($E$9:E240)-1)))","v":-6.3478819817641141E-2}]
[null,"2018-11-21",-17.134836104000001,125.36319154,120.97608081,{"$f":"IF(B241=\"\",\"\",IF(C241=\"\",F240,IF(E241=\"\",F240,E241/MAX($E$9:E241)-1)))","v":-7.3897972194709616E-2}]
[null,"2018-11-22",-17.134836104000001,124.58383259,120.22399569,{"$f":"IF(B242=\"\",\"\",IF(C242=\"\",F241,IF(E242=\"\",F241,E242/MAX($E$9:E242)-1)))","v":-7.9655371095804006E-2}]
[null,"2018-11-23",-17.134836104000001,119.70439395,115.51531401,{"$f":"IF(B243=\"\",\"\",IF(C243=\"\",F242,IF(E243=\"\",F242,E243/MAX($E$9:E243)-1)))","v":-0.11570150205772844}]
[null,"2018-11-26",-17.134836104000001,120.2595091,116.05100279,{"$f":"IF(B244=\"\",\"\",IF(C244=\"\",F243,IF(E244=\"\",F243,E244/MAX($E$9:E244)-1)))","v":-0.11160067103304261}]
[null,"2018-11-27",-17.134836104000001,121.44188568,117.19200185,{"$f":"IF(B245=\"\",\"\",IF(C245=\"\",F244,IF(E245=\"\",F244,E245/MAX($E$9:E245)-1)))","v":-0.10286603906187219}]
[null,"2018-11-28",-17.134836104000001,124.68683072,120.32338937999999,{"$f":"IF(B246=\"\",\"\",IF(C246=\"\",F245,IF(E246=\"\",F245,E246/MAX($E$9:E246)-1)))","v":-7.8894487644763589E-2}]
[null,"2018-11-29",-17.134836104000001,125.38168928,120.99393121999999,{"$f":"IF(B247=\"\",\"\",IF(C247=\"\",F246,IF(E247=\"\",F246,E247/MAX($E$9:E247)-1)))","v":-7.3761322860498635E-2}]
[null,"2018-11-30",-17.134836104000001,125.28172385000001,120.89746409999999,{"$f":"IF(B248=\"\",\"\",IF(C248=\"\",F247,IF(E248=\"\",F247,E248/MAX($E$9:E248)-1)))","v":-7.4499802689323991E-2}]
[null,"2018-12-03",-17.134836104000001,127.39001673,122.93197684,{"$f":"IF(B249=\"\",\"\",IF(C249=\"\",F248,IF(E249=\"\",F248,E249/MAX($E$9:E249)-1)))","v":-5.8925100967345601E-2}]
[null,"2018-12-04",-17.134836104000001,126.18372952,121.76790389999999,{"$f":"IF(B250=\"\",\"\",IF(C250=\"\",F249,IF(E250=\"\",F249,E250/MAX($E$9:E250)-1)))","v":-6.7836369236487282E-2}]
[null,"2018-12-05",-17.134836104000001,125.92872108,121.52181953,{"$f":"IF(B251=\"\",\"\",IF(C251=\"\",F250,IF(E251=\"\",F250,E251/MAX($E$9:E251)-1)))","v":-6.9720206376376992E-2}]
[null,"2018-12-06",-17.134836104000001,124.55313015,120.19436769000001,{"$f":"IF(B252=\"\",\"\",IF(C252=\"\",F251,IF(E252=\"\",F251,E252/MAX($E$9:E252)-1)))","v":-7.9882180814684678E-2}]
[null,"2018-12-07",-17.134836104000001,123.2871085,118.97265073,{"$f":"IF(B253=\"\",\"\",IF(C253=\"\",F252,IF(E253=\"\",F252,E253/MAX($E$9:E253)-1)))","v":-8.9234728413222775E-2}]
[null,"2018-12-10",-17.134836104000001,121.18027222000001,116.93954361,{"$f":"IF(B254=\"\",\"\",IF(C254=\"\",F253,IF(E254=\"\",F253,E254/MAX($E$9:E254)-1)))","v":-0.10479866976403018}]
[null,"2018-12-11",-17.134836104000001,121.54538353,117.29187777999999,{"$f":"IF(B255=\"\",\"\",IF(C255=\"\",F254,IF(E255=\"\",F254,E255/MAX($E$9:E255)-1)))","v":-0.10210146394352948}]
[null,"2018-12-12",-17.134836104000001,122.18241395,117.90661519,{"$f":"IF(B256=\"\",\"\",IF(C256=\"\",F255,IF(E256=\"\",F255,E256/MAX($E$9:E256)-1)))","v":-9.7395495969059387E-2}]
[null,"2018-12-13",-17.134836104000001,122.83644665,118.53775987,{"$f":"IF(B257=\"\",\"\",IF(C257=\"\",F256,IF(E257=\"\",F256,E257/MAX($E$9:E257)-1)))","v":-9.2563926256493456E-2}]
[null,"2018-12-14",-17.134836104000001,123.43516828,119.11552912000001,{"$f":"IF(B258=\"\",\"\",IF(C258=\"\",F257,IF(E258=\"\",F257,E258/MAX($E$9:E258)-1)))","v":-8.8140958753777698E-2}]
[null,"2018-12-17",-17.134836104000001,122.7375656,118.44233919,{"$f":"IF(B259=\"\",\"\",IF(C259=\"\",F258,IF(E259=\"\",F258,E259/MAX($E$9:E259)-1)))","v":-9.3294395326501967E-2}]
[null,"2018-12-18",-17.134836104000001,121.97102679,117.70262556,{"$f":"IF(B260=\"\",\"\",IF(C260=\"\",F259,IF(E260=\"\",F259,E260/MAX($E$9:E260)-1)))","v":-9.895708739051523E-2}]
[null,"2018-12-19",-17.134836104000001,120.98300866,116.74918332999999,{"$f":"IF(B261=\"\",\"\",IF(C261=\"\",F260,IF(E261=\"\",F260,E261/MAX($E$9:E261)-1)))","v":-0.1062559251168339}]
[null,"2018-12-20",-17.134836104000001,120.82792818,116.59952991999999,{"$f":"IF(B262=\"\",\"\",IF(C262=\"\",F261,IF(E262=\"\",F261,E262/MAX($E$9:E262)-1)))","v":-0.10740155924170391}]
[null,"2018-12-21",-17.134836104000001,122.33539725999999,118.05424481999999,{"$f":"IF(B263=\"\",\"\",IF(C263=\"\",F262,IF(E263=\"\",F262,E263/MAX($E$9:E263)-1)))","v":-9.6265354384113544E-2}]
[null,"2018-12-24",null,null,null,{"$f":"IF(B264=\"\",\"\",IF(C264=\"\",F263,IF(E264=\"\",F263,E264/MAX($E$9:E264)-1)))","v":-9.6265354384113544E-2}]
[null,"2018-12-25",null,null,null,{"$f":"IF(B265=\"\",\"\",IF(C265=\"\",F264,IF(E265=\"\",F264,E265/MAX($E$9:E265)-1)))","v":-9.6265354384113544E-2}]
[null,"2018-12-26",-17.134836104000001,120.90916247,116.67792141,{"$f":"IF(B266=\"\",\"\",IF(C266=\"\",F265,IF(E266=\"\",F265,E266/MAX($E$9:E266)-1)))","v":-0.10680145286228093}]
[null,"2018-12-27",-17.134836104000001,120.65040313,116.42821739999999,{"$f":"IF(B267=\"\",\"\",IF(C267=\"\",F266,IF(E267=\"\",F266,E267/MAX($E$9:E267)-1)))","v":-0.10871299924784539}]
[null,"2018-12-28",-17.134836104000001,123.22548322999999,118.91318204,{"$f":"IF(B268=\"\",\"\",IF(C268=\"\",F267,IF(E268=\"\",F267,E268/MAX($E$9:E268)-1)))","v":-8.9689976045905007E-2}]
[null,"2018-12-31",null,null,null,{"$f":"IF(B269=\"\",\"\",IF(C269=\"\",F268,IF(E269=\"\",F268,E269/MAX($E$9:E269)-1)))","v":-8.9689976045905007E-2}]
[null,"2019-01-01",null,null,null,{"$f":"IF(B270=\"\",\"\",IF(C270=\"\",F269,IF(E270=\"\",F269,E270/MAX($E$9:E270)-1)))","v":-8.9689976045905007E-2}]
[null,"2019-01-02",-17.134836104000001,125.3750668,120.98754049,{"$f":"IF(B271=\"\",\"\",IF(C271=\"\",F270,IF(E271=\"\",F270,E271/MAX($E$9:E271)-1)))","v":-7.3810245490265713E-2}]
[null,"2019-01-03",-17.134836104000001,123.50975604999999,119.18750668,{"$f":"IF(B272=\"\",\"\",IF(C272=\"\",F271,IF(E272=\"\",F271,E272/MAX($E$9:E272)-1)))","v":-8.7589952605899857E-2}]
[null,"2019-01-04",-17.134836104000001,127.25718855,122.803797,{"$f":"IF(B273=\"\",\"\",IF(C273=\"\",F272,IF(E273=\"\",F272,E273/MAX($E$9:E273)-1)))","v":-5.9906349565853168E-2}]
[null,"2019-01-07",-17.134836104000001,126.32345905,121.90274356,{"$f":"IF(B274=\"\",\"\",IF(C274=\"\",F273,IF(E274=\"\",F273,E274/MAX($E$9:E274)-1)))","v":-6.6804138057245277E-2}]
[null,"2019-01-08",-17.134836104000001,127.64889762,123.18179814,{"$f":"IF(B275=\"\",\"\",IF(C275=\"\",F274,IF(E275=\"\",F274,E275/MAX($E$9:E275)-1)))","v":-5.7012656697620012E-2}]
[null,"2019-01-09",-17.134836104000001,129.88155545000001,125.33632364,{"$f":"IF(B276=\"\",\"\",IF(C276=\"\",F275,IF(E276=\"\",F275,E276/MAX($E$9:E276)-1)))","v":-4.0519227408552738E-2}]
[null,"2019-01-10",-17.134836104000001,129.39957365000001,124.87120889000001,{"$f":"IF(B277=\"\",\"\",IF(C277=\"\",F276,IF(E277=\"\",F276,E277/MAX($E$9:E277)-1)))","v":-4.4079796657061188E-2}]
[null,"2019-01-11",-17.134836104000001,129.07538034000001,124.55836078999999,{"$f":"IF(B278=\"\",\"\",IF(C278=\"\",F277,IF(E278=\"\",F277,E278/MAX($E$9:E278)-1)))","v":-4.6474726777669728E-2}]
[null,"2019-01-14",-17.134836104000001,130.32406725000001,125.76334964,{"$f":"IF(B279=\"\",\"\",IF(C279=\"\",F278,IF(E279=\"\",F278,E279/MAX($E$9:E279)-1)))","v":-3.7250237027332767E-2}]
[null,"2019-01-15",-17.134836104000001,129.18827618,124.66730582,{"$f":"IF(B280=\"\",\"\",IF(C280=\"\",F279,IF(E280=\"\",F279,E280/MAX($E$9:E280)-1)))","v":-4.5640725440159291E-2}]
[null,"2019-01-16",-17.134836104000001,130.24317952999999,125.68529261,{"$f":"IF(B281=\"\",\"\",IF(C281=\"\",F280,IF(E281=\"\",F280,E281/MAX($E$9:E281)-1)))","v":-3.78477830321583E-2}]
[null,"2019-01-17",-17.134836104000001,132.09327453,127.47064315,{"$f":"IF(B282=\"\",\"\",IF(C282=\"\",F281,IF(E282=\"\",F281,E282/MAX($E$9:E282)-1)))","v":-2.4180480005256189E-2}]
[null,"2019-01-18",-17.134836104000001,132.77624165,128.12970970999999,{"$f":"IF(B283=\"\",\"\",IF(C283=\"\",F282,IF(E283=\"\",F282,E283/MAX($E$9:E283)-1)))","v":-1.9135161347320295E-2}]
[null,"2019-01-21",-17.134836104000001,134.11805826,129.42456916,{"$f":"IF(B284=\"\",\"\",IF(C284=\"\",F283,IF(E284=\"\",F283,E284/MAX($E$9:E284)-1)))","v":-9.2226897716273237E-3}]
[null,"2019-01-22",-17.134836104000001,132.91785780999999,128.26636997,{"$f":"IF(B285=\"\",\"\",IF(C285=\"\",F284,IF(E285=\"\",F284,E285/MAX($E$9:E285)-1)))","v":-1.8088993021656119E-2}]
[null,"2019-01-23",-17.134836104000001,134.40360290999999,129.70012112000001,{"$f":"IF(B286=\"\",\"\",IF(C286=\"\",F285,IF(E286=\"\",F285,E286/MAX($E$9:E286)-1)))","v":-7.1132708913570486E-3}]
[null,"2019-01-24",-17.134836104000001,134.255212,129.55692318000001,{"$f":"IF(B287=\"\",\"\",IF(C287=\"\",F286,IF(E287=\"\",F286,E287/MAX($E$9:E287)-1)))","v":-8.2094867856362663E-3}]
[null,"2019-01-25",null,null,null,{"$f":"IF(B288=\"\",\"\",IF(C288=\"\",F287,IF(E288=\"\",F287,E288/MAX($E$9:E288)-1)))","v":-8.2094867856362663E-3}]
[null,"2019-01-28",-17.134836104000001,118.78543931,114.62851836999999,{"$f":"IF(B289=\"\",\"\",IF(C289=\"\",F288,IF(E289=\"\",F288,E289/MAX($E$9:E289)-1)))","v":-0.12249014353920229}]
[null,"2019-01-29",-17.134836104000001,119.94546012000001,115.74794402000001,{"$f":"IF(B290=\"\",\"\",IF(C290=\"\",F289,IF(E290=\"\",F289,E290/MAX($E$9:E290)-1)))","v":-0.11392066139445933}]
[null,"2019-01-30",-17.134836104000001,125.90520394000001,121.49912537,{"$f":"IF(B291=\"\",\"\",IF(C291=\"\",F290,IF(E291=\"\",F290,E291/MAX($E$9:E291)-1)))","v":-6.9893935823178599E-2}]
[null,"2019-01-31",-17.134836104000001,123.49705227,119.17524747,{"$f":"IF(B292=\"\",\"\",IF(C292=\"\",F291,IF(E292=\"\",F291,E292/MAX($E$9:E292)-1)))","v":-8.7683799911617455E-2}]
[null,"2019-02-01",-17.134836104000001,125.13132315,120.7523267,{"$f":"IF(B293=\"\",\"\",IF(C293=\"\",F292,IF(E293=\"\",F292,E293/MAX($E$9:E293)-1)))","v":-7.5610865632927626E-2}]
[null,"2019-02-04",-17.134836104000001,124.02649828,119.68616541,{"$f":"IF(B294=\"\",\"\",IF(C294=\"\",F293,IF(E294=\"\",F293,E294/MAX($E$9:E294)-1)))","v":-8.3772595836332231E-2}]
[null,"2019-02-05",-17.134836104000001,124.97935345,120.60567521,{"$f":"IF(B295=\"\",\"\",IF(C295=\"\",F294,IF(E295=\"\",F294,E295/MAX($E$9:E295)-1)))","v":-7.6733519312566667E-2}]
[null,"2019-02-06",-17.134836104000001,121.45622661,117.20584092,{"$f":"IF(B296=\"\",\"\",IF(C296=\"\",F295,IF(E296=\"\",F295,E296/MAX($E$9:E296)-1)))","v":-0.10276009753438897}]
[null,"2019-02-07",-17.134836104000001,119.79447196,115.60223972,{"$f":"IF(B297=\"\",\"\",IF(C297=\"\",F296,IF(E297=\"\",F296,E297/MAX($E$9:E297)-1)))","v":-0.11503606409875}]
[null,"2019-02-08",-17.134836104000001,120.65562619000001,116.43325768,{"$f":"IF(B298=\"\",\"\",IF(C298=\"\",F297,IF(E298=\"\",F297,E298/MAX($E$9:E298)-1)))","v":-0.10867441464915906}]
[null,"2019-02-11",-17.134836104000001,119.37578618000001,115.19820593,{"$f":"IF(B299=\"\",\"\",IF(C299=\"\",F298,IF(E299=\"\",F298,E299/MAX($E$9:E299)-1)))","v":-0.11812904338618879}]
[null,"2019-02-12",-17.134836104000001,121.99419122,117.72497935,{"$f":"IF(B300=\"\",\"\",IF(C300=\"\",F299,IF(E300=\"\",F299,E300/MAX($E$9:E300)-1)))","v":-9.8785963560833134E-2}]
[null,"2019-02-13",-17.134836104000001,123.77055473,119.43917866,{"$f":"IF(B301=\"\",\"\",IF(C301=\"\",F300,IF(E301=\"\",F300,E301/MAX($E$9:E301)-1)))","v":-8.5663340919860609E-2}]
[null,"2019-02-14",-17.134836104000001,125.98584187,121.57694136000001,{"$f":"IF(B302=\"\",\"\",IF(C302=\"\",F301,IF(E302=\"\",F301,E302/MAX($E$9:E302)-1)))","v":-6.9298235039584322E-2}]
[null,"2019-02-15",-17.134836104000001,126.72446947,122.28972054,{"$f":"IF(B303=\"\",\"\",IF(C303=\"\",F302,IF(E303=\"\",F302,E303/MAX($E$9:E303)-1)))","v":-6.3841732898370696E-2}]
[null,"2019-02-18",-17.134836104000001,126.54484031,122.11637754,{"$f":"IF(B304=\"\",\"\",IF(C304=\"\",F303,IF(E304=\"\",F303,E304/MAX($E$9:E304)-1)))","v":-6.5168716734605114E-2}]
[null,"2019-02-19",-17.134836104000001,127.35383851,122.89706468,{"$f":"IF(B305=\"\",\"\",IF(C305=\"\",F304,IF(E305=\"\",F304,E305/MAX($E$9:E305)-1)))","v":-5.9192362247051378E-2}]
[null,"2019-02-20",-17.134836104000001,126.43958842000001,122.01480896,{"$f":"IF(B306=\"\",\"\",IF(C306=\"\",F305,IF(E306=\"\",F305,E306/MAX($E$9:E306)-1)))","v":-6.5946249510253852E-2}]
[null,"2019-02-21",-17.134836104000001,126.2513625,121.83317005000001,{"$f":"IF(B307=\"\",\"\",IF(C307=\"\",F306,IF(E307=\"\",F306,E307/MAX($E$9:E307)-1)))","v":-6.7336740603642253E-2}]
[null,"2019-02-22",-17.134836104000001,129.04281169999999,124.52693189999999,{"$f":"IF(B308=\"\",\"\",IF(C308=\"\",F307,IF(E308=\"\",F307,E308/MAX($E$9:E308)-1)))","v":-4.6715322758013822E-2}]
[null,"2019-02-25",-17.134836104000001,128.16166145,123.67661769,{"$f":"IF(B309=\"\",\"\",IF(C309=\"\",F308,IF(E309=\"\",F308,E309/MAX($E$9:E309)-1)))","v":-5.3224689807103709E-2}]
[null,"2019-02-26",-17.134836104000001,127.85299671999999,123.37875475,{"$f":"IF(B310=\"\",\"\",IF(C310=\"\",F309,IF(E310=\"\",F309,E310/MAX($E$9:E310)-1)))","v":-5.5504904795844245E-2}]
[null,"2019-02-27",-17.134836104000001,128.82319520999999,124.31500094,{"$f":"IF(B311=\"\",\"\",IF(C311=\"\",F310,IF(E311=\"\",F310,E311/MAX($E$9:E311)-1)))","v":-4.8337707038415223E-2}]
[null,"2019-02-28",-17.134836104000001,128.40392729000001,123.91040538,{"$f":"IF(B312=\"\",\"\",IF(C312=\"\",F311,IF(E312=\"\",F311,E312/MAX($E$9:E312)-1)))","v":-5.1434986815113382E-2}]
[null,"2019-03-01",-17.134836104000001,130.42918750000001,125.8647912,{"$f":"IF(B313=\"\",\"\",IF(C313=\"\",F312,IF(E313=\"\",F312,E313/MAX($E$9:E313)-1)))","v":-3.6473676621418538E-2}]
[null,"2019-03-04",null,null,null,{"$f":"IF(B314=\"\",\"\",IF(C314=\"\",F313,IF(E314=\"\",F313,E314/MAX($E$9:E314)-1)))","v":-3.6473676621418538E-2}]
[null,"2019-03-05",null,null,null,{"$f":"IF(B315=\"\",\"\",IF(C315=\"\",F314,IF(E315=\"\",F314,E315/MAX($E$9:E315)-1)))","v":-3.6473676621418538E-2}]
[null,"2019-03-06",-17.134836104000001,132.15972965,127.53477266,{"$f":"IF(B316=\"\",\"\",IF(C316=\"\",F315,IF(E316=\"\",F315,E316/MAX($E$9:E316)-1)))","v":-2.3689552634692412E-2}]
[null,"2019-03-07",-17.134836104000001,133.91382404999999,129.22748217,{"$f":"IF(B317=\"\",\"\",IF(C317=\"\",F316,IF(E317=\"\",F316,E317/MAX($E$9:E317)-1)))","v":-1.073143976477442E-2}]
[null,"2019-03-08",-17.134836104000001,134.40669958000001,129.70310942,{"$f":"IF(B318=\"\",\"\",IF(C318=\"\",F317,IF(E318=\"\",F317,E318/MAX($E$9:E318)-1)))","v":-7.0903947106181198E-3}]
[null,"2019-03-11",-17.134836104000001,137.8006139,132.97825301,{"$f":"IF(B319=\"\",\"\",IF(C319=\"\",F318,IF(E319=\"\",F318,E319/MAX($E$9:E319)-1)))","v":0}]
[null,"2019-03-12",-17.134836104000001,137.61462911000001,132.79877680000001,{"$f":"IF(B320=\"\",\"\",IF(C320=\"\",F319,IF(E320=\"\",F319,E320/MAX($E$9:E320)-1)))","v":-1.349665873460526E-3}]
[null,"2019-03-13",-17.134836104000001,139.30881305,134.43367241999999,{"$f":"IF(B321=\"\",\"\",IF(C321=\"\",F320,IF(E321=\"\",F320,E321/MAX($E$9:E321)-1)))","v":0}]
[null,"2019-03-14",-17.134836104000001,139.79333740999999,134.90124075,{"$f":"IF(B322=\"\",\"\",IF(C322=\"\",F321,IF(E322=\"\",F321,E322/MAX($E$9:E322)-1)))","v":0}]
[null,"2019-03-15",-17.134836104000001,141.94103251999999,136.97377682999999,{"$f":"IF(B323=\"\",\"\",IF(C323=\"\",F322,IF(E323=\"\",F322,E323/MAX($E$9:E323)-1)))","v":0}]
[null,"2019-03-18",-17.134836104000001,142.18951602999999,137.21356460000001,{"$f":"IF(B324=\"\",\"\",IF(C324=\"\",F323,IF(E324=\"\",F323,E324/MAX($E$9:E324)-1)))","v":0}]
[null,"2019-03-19",-17.134836104000001,143.16467003,138.15459289,{"$f":"IF(B325=\"\",\"\",IF(C325=\"\",F324,IF(E325=\"\",F324,E325/MAX($E$9:E325)-1)))","v":0}]
[null,"2019-03-20",-17.134836104000001,142.28666844,137.30731714000001,{"$f":"IF(B326=\"\",\"\",IF(C326=\"\",F325,IF(E326=\"\",F325,E326/MAX($E$9:E326)-1)))","v":-6.1328091399365237E-3}]
[null,"2019-03-21",-17.134836104000001,142.25332993000001,137.27514532999999,{"$f":"IF(B327=\"\",\"\",IF(C327=\"\",F326,IF(E327=\"\",F326,E327/MAX($E$9:E327)-1)))","v":-6.3656773300344582E-3}]
[null,"2019-03-22",-17.134836104000001,138.78092952,133.92426227999999,{"$f":"IF(B328=\"\",\"\",IF(C328=\"\",F327,IF(E328=\"\",F327,E328/MAX($E$9:E328)-1)))","v":-3.0620267640093846E-2}]
[null,"2019-03-25",-17.134836104000001,137.95488237000001,133.12712282000001,{"$f":"IF(B329=\"\",\"\",IF(C329=\"\",F328,IF(E329=\"\",F328,E329/MAX($E$9:E329)-1)))","v":-3.639017686515067E-2}]
[null,"2019-03-26",-17.134836104000001,140.79180776000001,135.86476943,{"$f":"IF(B330=\"\",\"\",IF(C330=\"\",F329,IF(E330=\"\",F329,E330/MAX($E$9:E330)-1)))","v":-1.6574356393805778E-2}]
[null,"2019-03-27",-17.134836104000001,137.3067442,132.50166637999999,{"$f":"IF(B331=\"\",\"\",IF(C331=\"\",F330,IF(E331=\"\",F330,E331/MAX($E$9:E331)-1)))","v":-4.0917398341587696E-2}]
[null,"2019-03-28",-17.134836104000001,138.08728554000001,133.25489252,{"$f":"IF(B332=\"\",\"\",IF(C332=\"\",F331,IF(E332=\"\",F331,E332/MAX($E$9:E332)-1)))","v":-3.5465345505387491E-2}]
[null,"2019-03-29",-17.134836104000001,140.05690920999999,135.1555888,{"$f":"IF(B333=\"\",\"\",IF(C333=\"\",F332,IF(E333=\"\",F332,E333/MAX($E$9:E333)-1)))","v":-2.1707596014472252E-2}]
[null,"2019-04-01",-17.134836104000001,142.50733996,137.52026623,{"$f":"IF(B334=\"\",\"\",IF(C334=\"\",F333,IF(E334=\"\",F333,E334/MAX($E$9:E334)-1)))","v":-4.5914265080210237E-3}]
[null,"2019-04-02",-17.134836104000001,142.39354180999999,137.41045045999999,{"$f":"IF(B335=\"\",\"\",IF(C335=\"\",F334,IF(E335=\"\",F334,E335/MAX($E$9:E335)-1)))","v":-5.3863025067324433E-3}]
[null,"2019-04-03",-17.134836104000001,142.45224131000001,137.46709576000001,{"$f":"IF(B336=\"\",\"\",IF(C336=\"\",F335,IF(E336=\"\",F335,E336/MAX($E$9:E336)-1)))","v":-4.9762886315867227E-3}]
[null,"2019-04-04",-17.134836104000001,143.80382136,138.77137698999999,{"$f":"IF(B337=\"\",\"\",IF(C337=\"\",F336,IF(E337=\"\",F336,E337/MAX($E$9:E337)-1)))","v":0}]
[null,"2019-04-05",-17.134836104000001,144.78670632999999,139.71986570000001,{"$f":"IF(B338=\"\",\"\",IF(C338=\"\",F337,IF(E338=\"\",F337,E338/MAX($E$9:E338)-1)))","v":0}]
[null,"2019-04-08",-17.134836104000001,145.16726084000001,140.08710263,{"$f":"IF(B339=\"\",\"\",IF(C339=\"\",F338,IF(E339=\"\",F338,E339/MAX($E$9:E339)-1)))","v":0}]
[null,"2019-04-09",-17.134836104000001,142.60428202,137.61381578000001,{"$f":"IF(B340=\"\",\"\",IF(C340=\"\",F339,IF(E340=\"\",F339,E340/MAX($E$9:E340)-1)))","v":-1.7655350161195571E-2}]
[null,"2019-04-10",-17.134836104000001,142.55315188,137.56447494,{"$f":"IF(B341=\"\",\"\",IF(C341=\"\",F340,IF(E341=\"\",F340,E341/MAX($E$9:E341)-1)))","v":-1.8007565597689679E-2}]
[null,"2019-04-11",-17.134836104000001,140.80663319000001,135.87907604,{"$f":"IF(B342=\"\",\"\",IF(C342=\"\",F341,IF(E342=\"\",F341,E342/MAX($E$9:E342)-1)))","v":-3.0038643893680161E-2}]
[null,"2019-04-12",-17.134836104000001,139.78702659000001,134.89515076999999,{"$f":"IF(B343=\"\",\"\",IF(C343=\"\",F342,IF(E343=\"\",F342,E343/MAX($E$9:E343)-1)))","v":-3.7062311679848747E-2}]
[null,"2019-04-15",-17.134836104000001,139.46785048999999,134.58714431000001,{"$f":"IF(B344=\"\",\"\",IF(C344=\"\",F343,IF(E344=\"\",F343,E344/MAX($E$9:E344)-1)))","v":-3.9260989889458697E-2}]
[null,"2019-04-16",-17.134836104000001,141.98134596,137.01267949000001,{"$f":"IF(B345=\"\",\"\",IF(C345=\"\",F344,IF(E345=\"\",F344,E345/MAX($E$9:E345)-1)))","v":-2.1946511008370306E-2}]
[null,"2019-04-17",-17.134836104000001,141.30699206,136.36192474999999,{"$f":"IF(B346=\"\",\"\",IF(C346=\"\",F345,IF(E346=\"\",F345,E346/MAX($E$9:E346)-1)))","v":-2.6591868987675515E-2}]
[null,"2019-04-18",-17.134836104000001,142.90860470999999,137.90748862999999,{"$f":"IF(B347=\"\",\"\",IF(C347=\"\",F346,IF(E347=\"\",F346,E347/MAX($E$9:E347)-1)))","v":-1.5558991221032215E-2}]
[null,"2019-04-19",null,null,null,{"$f":"IF(B348=\"\",\"\",IF(C348=\"\",F347,IF(E348=\"\",F347,E348/MAX($E$9:E348)-1)))","v":-1.5558991221032215E-2}]
[null,"2019-04-22",-17.134836104000001,144.34879648,139.29728059999999,{"$f":"IF(B349=\"\",\"\",IF(C349=\"\",F348,IF(E349=\"\",F348,E349/MAX($E$9:E349)-1)))","v":-5.638078132617963E-3}]
[null,"2019-04-23",-17.134836104000001,146.21760786999999,141.10069254999999,{"$f":"IF(B350=\"\",\"\",IF(C350=\"\",F349,IF(E350=\"\",F349,E350/MAX($E$9:E350)-1)))","v":0}]
[null,"2019-04-24",-17.134836104000001,143.47703193999999,138.45602363,{"$f":"IF(B351=\"\",\"\",IF(C351=\"\",F350,IF(E351=\"\",F350,E351/MAX($E$9:E351)-1)))","v":-1.8743132100948579E-2}]
[null,"2019-04-25",-17.134836104000001,143.92493425000001,138.88825151,{"$f":"IF(B352=\"\",\"\",IF(C352=\"\",F351,IF(E352=\"\",F351,E352/MAX($E$9:E352)-1)))","v":-1.5679873712993952E-2}]
[null,"2019-04-26",-17.134836104000001,143.74476604,138.71438832999999,{"$f":"IF(B353=\"\",\"\",IF(C353=\"\",F352,IF(E353=\"\",F352,E353/MAX($E$9:E353)-1)))","v":-1.6912065964200695E-2}]
[null,"2019-04-29",-17.134836104000001,142.65075168999999,137.65865923000001,{"$f":"IF(B354=\"\",\"\",IF(C354=\"\",F353,IF(E354=\"\",F353,E354/MAX($E$9:E354)-1)))","v":-2.4394163187967832E-2}]
[null,"2019-04-30",-17.134836104000001,142.93541317,137.93335891999999,{"$f":"IF(B355=\"\",\"\",IF(C355=\"\",F354,IF(E355=\"\",F354,E355/MAX($E$9:E355)-1)))","v":-2.2447328732122518E-2}]
[null,"2019-05-01",null,null,null,{"$f":"IF(B356=\"\",\"\",IF(C356=\"\",F355,IF(E356=\"\",F355,E356/MAX($E$9:E356)-1)))","v":-2.2447328732122518E-2}]
[null,"2019-05-02",-17.134836104000001,141.05521490999999,136.11895858,{"$f":"IF(B357=\"\",\"\",IF(C357=\"\",F356,IF(E357=\"\",F356,E357/MAX($E$9:E357)-1)))","v":-3.5306233300270162E-2}]
[null,"2019-05-03",-17.134836104000001,142.21498704999999,137.23814426000001,{"$f":"IF(B358=\"\",\"\",IF(C358=\"\",F357,IF(E358=\"\",F357,E358/MAX($E$9:E358)-1)))","v":-2.7374410573011598E-2}]
[null,"2019-05-06",-17.134836104000001,140.20723391999999,135.30065286000001,{"$f":"IF(B359=\"\",\"\",IF(C359=\"\",F358,IF(E359=\"\",F358,E359/MAX($E$9:E359)-1)))","v":-4.1105678400158774E-2}]
[null,"2019-05-07",-17.134836104000001,139.55526882999999,134.67150343,{"$f":"IF(B360=\"\",\"\",IF(C360=\"\",F359,IF(E360=\"\",F359,E360/MAX($E$9:E360)-1)))","v":-4.5564546876492251E-2}]
[null,"2019-05-08",-17.134836104000001,140.58045435,135.66081237,{"$f":"IF(B361=\"\",\"\",IF(C361=\"\",F360,IF(E361=\"\",F360,E361/MAX($E$9:E361)-1)))","v":-3.8553178454969861E-2}]
[null,"2019-05-09",-17.134836104000001,139.2866775,134.41231150999999,{"$f":"IF(B362=\"\",\"\",IF(C362=\"\",F361,IF(E362=\"\",F361,E362/MAX($E$9:E362)-1)))","v":-4.7401475635067691E-2}]
[null,"2019-05-10",-17.134836104000001,139.43059244,134.55119012,{"$f":"IF(B363=\"\",\"\",IF(C363=\"\",F362,IF(E363=\"\",F362,E363/MAX($E$9:E363)-1)))","v":-4.6417223839486987E-2}]
[null,"2019-05-13",-17.134836104000001,134.62690567999999,129.91560935999999,{"$f":"IF(B364=\"\",\"\",IF(C364=\"\",F363,IF(E364=\"\",F363,E364/MAX($E$9:E364)-1)))","v":-7.9270221767596905E-2}]
[null,"2019-05-14",-17.134836104000001,134.74167614999999,130.02636342,{"$f":"IF(B365=\"\",\"\",IF(C365=\"\",F364,IF(E365=\"\",F364,E365/MAX($E$9:E365)-1)))","v":-7.8485292523108874E-2}]
[null,"2019-05-15",-17.134836104000001,135.04542834,130.31948574,{"$f":"IF(B366=\"\",\"\",IF(C366=\"\",F365,IF(E366=\"\",F365,E366/MAX($E$9:E366)-1)))","v":-7.6407894356575135E-2}]
[null,"2019-05-16",-15.557498066000001,135.11594514000001,130.38753478999999,{"$f":"IF(B367=\"\",\"\",IF(C367=\"\",F366,IF(E367=\"\",F366,E367/MAX($E$9:E367)-1)))","v":-7.5925621387036957E-2}]
[null,"2019-05-17",-14.314982509,135.59772813999999,130.85245768999999,{"$f":"IF(B368=\"\",\"\",IF(C368=\"\",F367,IF(E368=\"\",F367,E368/MAX($E$9:E368)-1)))","v":-7.2630648898965977E-2}]
[null,"2019-05-20",-13.647714054,137.2817153,132.47751338,{"$f":"IF(B369=\"\",\"\",IF(C369=\"\",F368,IF(E369=\"\",F368,E369/MAX($E$9:E369)-1)))","v":-6.1113655887580443E-2}]
[null,"2019-05-21",-13.647714054,140.05461095999999,135.15337098000001,{"$f":"IF(B370=\"\",\"\",IF(C370=\"\",F369,IF(E370=\"\",F369,E370/MAX($E$9:E370)-1)))","v":-4.214948532511642E-2}]
[null,"2019-05-22",-13.647714054,139.53180318,134.64885896000001,{"$f":"IF(B371=\"\",\"\",IF(C371=\"\",F370,IF(E371=\"\",F370,E371/MAX($E$9:E371)-1)))","v":-4.5725031347480627E-2}]
[null,"2019-05-23",-13.647714054,138.76565153999999,133.90951896000001,{"$f":"IF(B372=\"\",\"\",IF(C372=\"\",F371,IF(E372=\"\",F371,E372/MAX($E$9:E372)-1)))","v":-5.0964835537229858E-2}]
[null,"2019-05-24",-13.007095101999999,138.29968837999999,133.45986227,{"$f":"IF(B373=\"\",\"\",IF(C373=\"\",F372,IF(E373=\"\",F372,E373/MAX($E$9:E373)-1)))","v":-5.4151614296949035E-2}]
[null,"2019-05-27",-13.007095101999999,141.27797568,136.33392380000001,{"$f":"IF(B374=\"\",\"\",IF(C374=\"\",F373,IF(E374=\"\",F373,E374/MAX($E$9:E374)-1)))","v":-3.378274524280489E-2}]
[null,"2019-05-28",-13.007095101999999,144.26753545,139.21886330999999,{"$f":"IF(B375=\"\",\"\",IF(C375=\"\",F374,IF(E375=\"\",F374,E375/MAX($E$9:E375)-1)))","v":-1.3336782449406948E-2}]
[null,"2019-05-29",-13.007095101999999,144.08798218000001,139.04559354,{"$f":"IF(B376=\"\",\"\",IF(C376=\"\",F375,IF(E376=\"\",F375,E376/MAX($E$9:E376)-1)))","v":-1.4564769122389354E-2}]
[null,"2019-05-30",-13.007095101999999,144.21284262,139.16608446999999,{"$f":"IF(B377=\"\",\"\",IF(C377=\"\",F376,IF(E377=\"\",F376,E377/MAX($E$9:E377)-1)))","v":-1.3710833342043705E-2}]
[null,"2019-05-31",-13.007095101999999,142.40759702,137.42401380999999,{"$f":"IF(B378=\"\",\"\",IF(C378=\"\",F377,IF(E378=\"\",F377,E378/MAX($E$9:E378)-1)))","v":-2.6057127527543078E-2}]
[null,"2019-06-03",-13.007095101999999,142.55992810000001,137.57101402999999,{"$f":"IF(B379=\"\",\"\",IF(C379=\"\",F378,IF(E379=\"\",F378,E379/MAX($E$9:E379)-1)))","v":-2.501531676571489E-2}]
[null,"2019-06-04",-13.007095101999999,142.10945706000001,137.13630731999999,{"$f":"IF(B380=\"\",\"\",IF(C380=\"\",F379,IF(E380=\"\",F379,E380/MAX($E$9:E380)-1)))","v":-2.8096142962552806E-2}]
[null,"2019-06-05",-13.007095101999999,139.16808967,134.29787368000001,{"$f":"IF(B381=\"\",\"\",IF(C381=\"\",F380,IF(E381=\"\",F380,E381/MAX($E$9:E381)-1)))","v":-4.8212512263817286E-2}]
[null,"2019-06-06",-12.249014347999999,140.78473360999999,135.85794283999999,{"$f":"IF(B382=\"\",\"\",IF(C382=\"\",F381,IF(E382=\"\",F381,E382/MAX($E$9:E382)-1)))","v":-3.715608772183876E-2}]
[null,"2019-06-07",-12.249014347999999,141.47880713999999,136.52772712000001,{"$f":"IF(B383=\"\",\"\",IF(C383=\"\",F382,IF(E383=\"\",F382,E383/MAX($E$9:E383)-1)))","v":-3.2409234478984028E-2}]
[null,"2019-06-10",-12.249014347999999,141.03745132,136.10181663,{"$f":"IF(B384=\"\",\"\",IF(C384=\"\",F383,IF(E384=\"\",F383,E384/MAX($E$9:E384)-1)))","v":-3.5427720655790584E-2}]
[null,"2019-06-11",-12.249014347999999,143.81271054000001,138.77995508999999,{"$f":"IF(B385=\"\",\"\",IF(C385=\"\",F384,IF(E385=\"\",F384,E385/MAX($E$9:E385)-1)))","v":-1.6447385325041086E-2}]
[null,"2019-06-12",-12.249014347999999,142.83542763,137.8368724,{"$f":"IF(B386=\"\",\"\",IF(C386=\"\",F385,IF(E386=\"\",F385,E386/MAX($E$9:E386)-1)))","v":-2.3131141959798929E-2}]
[null,"2019-06-13",-12.249014347999999,143.36109342,138.34414240999999,{"$f":"IF(B387=\"\",\"\",IF(C387=\"\",F386,IF(E387=\"\",F386,E387/MAX($E$9:E387)-1)))","v":-1.9536049683265722E-2}]
[null,"2019-06-14",-12.249014347999999,142.34897764999999,137.36744583000001,{"$f":"IF(B388=\"\",\"\",IF(C388=\"\",F387,IF(E388=\"\",F387,E388/MAX($E$9:E388)-1)))","v":-2.6458032576112789E-2}]
[null,"2019-06-17",-12.249014347999999,141.62329636999999,136.66715991999999,{"$f":"IF(B389=\"\",\"\",IF(C389=\"\",F388,IF(E389=\"\",F388,E389/MAX($E$9:E389)-1)))","v":-3.1421055062709535E-2}]
[null,"2019-06-18",-12.249014347999999,144.45977968,139.40437990999999,{"$f":"IF(B390=\"\",\"\",IF(C390=\"\",F389,IF(E390=\"\",F389,E390/MAX($E$9:E390)-1)))","v":-1.2022000809095212E-2}]
[null,"2019-06-19",-12.249014347999999,145.70884181,140.60973085000001,{"$f":"IF(B391=\"\",\"\",IF(C391=\"\",F390,IF(E391=\"\",F390,E391/MAX($E$9:E391)-1)))","v":-3.4795130422624609E-3}]
[null,"2019-06-20",null,null,null,{"$f":"IF(B392=\"\",\"\",IF(C392=\"\",F391,IF(E392=\"\",F391,E392/MAX($E$9:E392)-1)))","v":-3.4795130422624609E-3}]
[null,"2019-06-21",-12.249014347999999,147.43498966999999,142.27547182000001,{"$f":"IF(B393=\"\",\"\",IF(C393=\"\",F392,IF(E393=\"\",F392,E393/MAX($E$9:E393)-1)))","v":0}]
[null,"2019-06-24",-12.249014347999999,147.56744735999999,142.40329412,{"$f":"IF(B394=\"\",\"\",IF(C394=\"\",F393,IF(E394=\"\",F393,E394/MAX($E$9:E394)-1)))","v":0}]
[null,"2019-06-25",-12.249014347999999,145.11968977999999,140.04119632000001,{"$f":"IF(B395=\"\",\"\",IF(C395=\"\",F394,IF(E395=\"\",F394,E395/MAX($E$9:E395)-1)))","v":-1.6587381735772899E-2}]
[null,"2019-06-26",-12.249014347999999,145.52015792,140.42764998999999,{"$f":"IF(B396=\"\",\"\",IF(C396=\"\",F395,IF(E396=\"\",F395,E396/MAX($E$9:E396)-1)))","v":-1.3873584471544409E-2}]
[null,"2019-06-27",-12.249014347999999,146.1638323,141.04879886000001,{"$f":"IF(B397=\"\",\"\",IF(C397=\"\",F396,IF(E397=\"\",F396,E397/MAX($E$9:E397)-1)))","v":-9.5116848832063061E-3}]
[null,"2019-06-28",-12.249014347999999,146.78789487,141.65102223,{"$f":"IF(B398=\"\",\"\",IF(C398=\"\",F397,IF(E398=\"\",F397,E398/MAX($E$9:E398)-1)))","v":-5.2826860126289343E-3}]
[null,"2019-07-01",-12.249014347999999,149.10735054,143.88930807,{"$f":"IF(B399=\"\",\"\",IF(C399=\"\",F398,IF(E399=\"\",F398,E399/MAX($E$9:E399)-1)))","v":0}]
[null,"2019-07-02",-12.249014347999999,146.67497431999999,141.54205335,{"$f":"IF(B400=\"\",\"\",IF(C400=\"\",F399,IF(E400=\"\",F399,E400/MAX($E$9:E400)-1)))","v":-1.631291964277215E-2}]
[null,"2019-07-03",-12.249014347999999,148.15885990999999,142.97401006999999,{"$f":"IF(B401=\"\",\"\",IF(C401=\"\",F400,IF(E401=\"\",F400,E401/MAX($E$9:E401)-1)))","v":-6.3611258701357087E-3}]
[null,"2019-07-04",-12.249014347999999,151.29572361999999,146.00109857999999,{"$f":"IF(B402=\"\",\"\",IF(C402=\"\",F401,IF(E402=\"\",F401,E402/MAX($E$9:E402)-1)))","v":0}]
[null,"2019-07-05",-12.249014347999999,152.84027877,147.49160171,{"$f":"IF(B403=\"\",\"\",IF(C403=\"\",F402,IF(E403=\"\",F402,E403/MAX($E$9:E403)-1)))","v":0}]
[null,"2019-07-08",-12.249014347999999,157.03005837000001,151.53475911000001,{"$f":"IF(B404=\"\",\"\",IF(C404=\"\",F403,IF(E404=\"\",F403,E404/MAX($E$9:E404)-1)))","v":0}]
[null,"2019-07-09",null,null,null,{"$f":"IF(B405=\"\",\"\",IF(C405=\"\",F404,IF(E405=\"\",F404,E405/MAX($E$9:E405)-1)))","v":0}]
[null,"2019-07-10",-12.249014347999999,159.86471839999999,154.27021962000001,{"$f":"IF(B406=\"\",\"\",IF(C406=\"\",F405,IF(E406=\"\",F405,E406/MAX($E$9:E406)-1)))","v":0}]
[null,"2019-07-11",-12.249014347999999,159.48256910999999,153.90144373000001,{"$f":"IF(B407=\"\",\"\",IF(C407=\"\",F406,IF(E407=\"\",F406,E407/MAX($E$9:E407)-1)))","v":-2.3904541713130056E-3}]
[null,"2019-07-12",-12.249014347999999,158.12492448,152.59131016000001,{"$f":"IF(B408=\"\",\"\",IF(C408=\"\",F407,IF(E408=\"\",F407,E408/MAX($E$9:E408)-1)))","v":-1.0882913527546112E-2}]
[null,"2019-07-15",-12.249014347999999,157.20152997,151.70023001999999,{"$f":"IF(B409=\"\",\"\",IF(C409=\"\",F408,IF(E409=\"\",F408,E409/MAX($E$9:E409)-1)))","v":-1.6659013037840009E-2}]
[null,"2019-07-16",-12.249014347999999,157.49197248999999,151.98050845,{"$f":"IF(B410=\"\",\"\",IF(C410=\"\",F409,IF(E410=\"\",F409,E410/MAX($E$9:E410)-1)))","v":-1.4842211125647209E-2}]
[null,"2019-07-17",-12.249014347999999,156.89146811000001,151.40101884000001,{"$f":"IF(B411=\"\",\"\",IF(C411=\"\",F410,IF(E411=\"\",F410,E411/MAX($E$9:E411)-1)))","v":-1.8598539543584258E-2}]
[null,"2019-07-18",-12.249014347999999,157.58395052,152.06926768,{"$f":"IF(B412=\"\",\"\",IF(C412=\"\",F411,IF(E412=\"\",F411,E412/MAX($E$9:E412)-1)))","v":-1.426686203870986E-2}]
[null,"2019-07-19",-12.249014347999999,157.45041014,151.94040057999999,{"$f":"IF(B413=\"\",\"\",IF(C413=\"\",F412,IF(E413=\"\",F412,E413/MAX($E$9:E413)-1)))","v":-1.5102195652141104E-2}]
[null,"2019-07-22",-12.249014347999999,157.20815507,151.70662328,{"$f":"IF(B414=\"\",\"\",IF(C414=\"\",F413,IF(E414=\"\",F413,E414/MAX($E$9:E414)-1)))","v":-1.6617571079594495E-2}]
[null,"2019-07-23",-12.249014347999999,157.17193089,151.67166677,{"$f":"IF(B415=\"\",\"\",IF(C415=\"\",F414,IF(E415=\"\",F414,E415/MAX($E$9:E415)-1)))","v":-1.684416380815934E-2}]
[null,"2019-07-24",-12.249014347999999,156.67312007000001,151.19031193000001,{"$f":"IF(B416=\"\",\"\",IF(C416=\"\",F415,IF(E416=\"\",F415,E416/MAX($E$9:E416)-1)))","v":-1.9964369646886193E-2}]
[null,"2019-07-25",-12.249014347999999,155.12258885,149.69404187999999,{"$f":"IF(B417=\"\",\"\",IF(C417=\"\",F416,IF(E417=\"\",F416,E417/MAX($E$9:E417)-1)))","v":-2.9663390324277117E-2}]
[null,"2019-07-26",-12.249014347999999,155.65240421999999,150.20531625000001,{"$f":"IF(B418=\"\",\"\",IF(C418=\"\",F417,IF(E418=\"\",F417,E418/MAX($E$9:E418)-1)))","v":-2.6349242128602013E-2}]
[null,"2019-07-29",-12.249014347999999,155.71402061000001,150.26477636000001,{"$f":"IF(B419=\"\",\"\",IF(C419=\"\",F418,IF(E419=\"\",F418,E419/MAX($E$9:E419)-1)))","v":-2.596381381880597E-2}]
[null,"2019-07-30",-12.249014347999999,158.66887439999999,153.11622442999999,{"$f":"IF(B420=\"\",\"\",IF(C420=\"\",F419,IF(E420=\"\",F419,E420/MAX($E$9:E420)-1)))","v":-7.480349693171795E-3}]
[null,"2019-07-31",-12.249014347999999,158.2120917,152.67542692999999,{"$f":"IF(B421=\"\",\"\",IF(C421=\"\",F420,IF(E421=\"\",F420,E421/MAX($E$9:E421)-1)))","v":-1.0337657481322871E-2}]
[null,"2019-08-01",-12.249014347999999,157.84411761000001,152.32033017000001,{"$f":"IF(B422=\"\",\"\",IF(C422=\"\",F421,IF(E422=\"\",F421,E422/MAX($E$9:E422)-1)))","v":-1.2639441719879518E-2}]
[null,"2019-08-02",-12.249014347999999,158.29402812999999,152.75449598,{"$f":"IF(B423=\"\",\"\",IF(C423=\"\",F422,IF(E423=\"\",F422,E423/MAX($E$9:E423)-1)))","v":-9.825121424819061E-3}]
[null,"2019-08-05",-12.249014347999999,154.23711625000001,148.83955657000001,{"$f":"IF(B424=\"\",\"\",IF(C424=\"\",F423,IF(E424=\"\",F423,E424/MAX($E$9:E424)-1)))","v":-3.5202277298735041E-2}]
[null,"2019-08-06",-12.249014347999999,156.98999248000001,151.49609533,{"$f":"IF(B425=\"\",\"\",IF(C425=\"\",F424,IF(E425=\"\",F424,E425/MAX($E$9:E425)-1)))","v":-1.7982241140469313E-2}]
[null,"2019-08-07",-12.249014347999999,158.17844459,152.64295731000001,{"$f":"IF(B426=\"\",\"\",IF(C426=\"\",F425,IF(E426=\"\",F425,E426/MAX($E$9:E426)-1)))","v":-1.0548129859465294E-2}]
[null,"2019-08-08",-12.249014347999999,162.00785418999999,156.33835593000001,{"$f":"IF(B427=\"\",\"\",IF(C427=\"\",F426,IF(E427=\"\",F426,E427/MAX($E$9:E427)-1)))","v":0}]
[null,"2019-08-09",-12.249014347999999,161.82437379000001,156.16129647,{"$f":"IF(B428=\"\",\"\",IF(C428=\"\",F427,IF(E428=\"\",F427,E428/MAX($E$9:E428)-1)))","v":-1.1325401175338312E-3}]
[null,"2019-08-12",-12.249014347999999,160.22539713,154.61827632999999,{"$f":"IF(B429=\"\",\"\",IF(C429=\"\",F428,IF(E429=\"\",F428,E429/MAX($E$9:E429)-1)))","v":-1.100228788877744E-2}]
[null,"2019-08-13",-12.249014347999999,164.35069243999999,158.59920607999999,{"$f":"IF(B430=\"\",\"\",IF(C430=\"\",F429,IF(E430=\"\",F429,E430/MAX($E$9:E430)-1)))","v":0}]
[null,"2019-08-14",-12.249014347999999,161.65867607999999,156.00139738999999,{"$f":"IF(B431=\"\",\"\",IF(C431=\"\",F430,IF(E431=\"\",F430,E431/MAX($E$9:E431)-1)))","v":-1.6379708033907869E-2}]
[null,"2019-08-15",-12.249014347999999,155.64140119999999,150.19469828000001,{"$f":"IF(B432=\"\",\"\",IF(C432=\"\",F431,IF(E432=\"\",F431,E432/MAX($E$9:E432)-1)))","v":-5.2992117726999299E-2}]
[null,"2019-08-16",-12.249014347999999,154.0390835,148.64845402,{"$f":"IF(B433=\"\",\"\",IF(C433=\"\",F432,IF(E433=\"\",F432,E433/MAX($E$9:E433)-1)))","v":-6.274149982176247E-2}]
[null,"2019-08-19",-12.249014347999999,152.06332202999999,146.74183472999999,{"$f":"IF(B434=\"\",\"\",IF(C434=\"\",F433,IF(E434=\"\",F433,E434/MAX($E$9:E434)-1)))","v":-7.4763119205142448E-2}]
[null,"2019-08-20",-12.249014347999999,153.0374711,147.68189326000001,{"$f":"IF(B435=\"\",\"\",IF(C435=\"\",F434,IF(E435=\"\",F434,E435/MAX($E$9:E435)-1)))","v":-6.8835860467631238E-2}]
[null,"2019-08-21",-12.249014347999999,157.17492189999999,151.67455311000001,{"$f":"IF(B436=\"\",\"\",IF(C436=\"\",F435,IF(E436=\"\",F435,E436/MAX($E$9:E436)-1)))","v":-4.3661334385917905E-2}]
[null,"2019-08-22",-12.249014347999999,155.50967793999999,150.0675847,{"$f":"IF(B437=\"\",\"\",IF(C437=\"\",F436,IF(E437=\"\",F436,E437/MAX($E$9:E437)-1)))","v":-5.3793594500696984E-2}]
[null,"2019-08-23",-12.249014347999999,151.36706142,146.06993990000001,{"$f":"IF(B438=\"\",\"\",IF(C438=\"\",F437,IF(E438=\"\",F437,E438/MAX($E$9:E438)-1)))","v":-7.8999551698134107E-2}]
[null,"2019-08-26",-12.249014347999999,148.35516142,143.16344196,{"$f":"IF(B439=\"\",\"\",IF(C439=\"\",F438,IF(E439=\"\",F438,E439/MAX($E$9:E439)-1)))","v":-9.73256077474558E-2}]
[null,"2019-08-27",-12.249014347999999,149.78563943,144.54386009999999,{"$f":"IF(B440=\"\",\"\",IF(C440=\"\",F439,IF(E440=\"\",F439,E440/MAX($E$9:E440)-1)))","v":-8.8621792803365351E-2}]
[null,"2019-08-28",-12.249014347999999,152.90813098999999,147.55707942999999,{"$f":"IF(B441=\"\",\"\",IF(C441=\"\",F440,IF(E441=\"\",F440,E441/MAX($E$9:E441)-1)))","v":-6.9622836853484471E-2}]
[null,"2019-08-29",-12.249014347999999,155.78551856000001,150.33377222999999,{"$f":"IF(B442=\"\",\"\",IF(C442=\"\",F441,IF(E442=\"\",F441,E442/MAX($E$9:E442)-1)))","v":-5.2115228406823033E-2}]
[null,"2019-08-30",-12.249014347999999,156.84424519999999,151.35544851,{"$f":"IF(B443=\"\",\"\",IF(C443=\"\",F442,IF(E443=\"\",F442,E443/MAX($E$9:E443)-1)))","v":-4.5673353284921947E-2}]
[null,"2019-09-02",-12.249014347999999,157.38028095999999,151.87272558000001,{"$f":"IF(B444=\"\",\"\",IF(C444=\"\",F443,IF(E444=\"\",F443,E444/MAX($E$9:E444)-1)))","v":-4.2411816970931326E-2}]
[null,"2019-09-03",-12.249014347999999,155.61655403,150.17072064000001,{"$f":"IF(B445=\"\",\"\",IF(C445=\"\",F444,IF(E445=\"\",F444,E445/MAX($E$9:E445)-1)))","v":-5.3143301585939273E-2}]
[null,"2019-09-04",-12.249014347999999,157.49865149999999,151.98695372,{"$f":"IF(B446=\"\",\"\",IF(C446=\"\",F445,IF(E446=\"\",F445,E446/MAX($E$9:E446)-1)))","v":-4.1691585496743677E-2}]
[null,"2019-09-05",-12.249014347999999,158.18347274000001,152.64780951,{"$f":"IF(B447=\"\",\"\",IF(C447=\"\",F446,IF(E447=\"\",F446,E447/MAX($E$9:E447)-1)))","v":-3.7524756378654267E-2}]
[null,"2019-09-06",-12.249014347999999,158.37850259999999,152.83601425000001,{"$f":"IF(B448=\"\",\"\",IF(C448=\"\",F447,IF(E448=\"\",F447,E448/MAX($E$9:E448)-1)))","v":-3.6338087512827411E-2}]
[null,"2019-09-09",-12.249014347999999,158.53951086999999,152.99138801000001,{"$f":"IF(B449=\"\",\"\",IF(C449=\"\",F448,IF(E449=\"\",F448,E449/MAX($E$9:E449)-1)))","v":-3.5358424601263816E-2}]
[null,"2019-09-10",-12.249014347999999,157.92115473999999,152.39467137,{"$f":"IF(B450=\"\",\"\",IF(C450=\"\",F449,IF(E450=\"\",F449,E450/MAX($E$9:E450)-1)))","v":-3.9120843435182961E-2}]
[null,"2019-09-11",-12.249014347999999,159.93783194,154.34077454000001,{"$f":"IF(B451=\"\",\"\",IF(C451=\"\",F450,IF(E451=\"\",F450,E451/MAX($E$9:E451)-1)))","v":-2.6850270220469818E-2}]
[null,"2019-09-12",-12.249014347999999,161.1150585,155.47680381000001,{"$f":"IF(B452=\"\",\"\",IF(C452=\"\",F451,IF(E452=\"\",F451,E452/MAX($E$9:E452)-1)))","v":-1.968737641993612E-2}]
[null,"2019-09-13",-12.249014347999999,161.28187406000001,155.63778163999999,{"$f":"IF(B453=\"\",\"\",IF(C453=\"\",F452,IF(E453=\"\",F452,E453/MAX($E$9:E453)-1)))","v":-1.8672378716109161E-2}]
[null,"2019-09-16",-12.249014347999999,160.77693944000001,155.15051731,{"$f":"IF(B454=\"\",\"\",IF(C454=\"\",F453,IF(E454=\"\",F453,E454/MAX($E$9:E454)-1)))","v":-2.1744678647763305E-2}]
[null,"2019-09-17",-12.249014347999999,162.09076833,156.41836848,{"$f":"IF(B455=\"\",\"\",IF(C455=\"\",F454,IF(E455=\"\",F454,E455/MAX($E$9:E455)-1)))","v":-1.3750621165782739E-2}]
[null,"2019-09-18",-12.249014347999999,163.80670352999999,158.07425418,{"$f":"IF(B456=\"\",\"\",IF(C456=\"\",F455,IF(E456=\"\",F455,E456/MAX($E$9:E456)-1)))","v":-3.3099276659379617E-3}]
[null,"2019-09-19",-12.249014347999999,163.72922933000001,157.99949119999999,{"$f":"IF(B457=\"\",\"\",IF(C457=\"\",F456,IF(E457=\"\",F456,E457/MAX($E$9:E457)-1)))","v":-3.7813233421704062E-3}]
[null,"2019-09-20",-12.249014347999999,165.70844918,159.90944784999999,{"$f":"IF(B458=\"\",\"\",IF(C458=\"\",F457,IF(E458=\"\",F457,E458/MAX($E$9:E458)-1)))","v":0}]
[null,"2019-09-23",-12.249014347999999,164.91861408,159.14725318999999,{"$f":"IF(B459=\"\",\"\",IF(C459=\"\",F458,IF(E459=\"\",F458,E459/MAX($E$9:E459)-1)))","v":-4.7664141815746408E-3}]
[null,"2019-09-24",-12.249014347999999,162.31481418999999,156.63457381000001,{"$f":"IF(B460=\"\",\"\",IF(C460=\"\",F459,IF(E460=\"\",F459,E460/MAX($E$9:E460)-1)))","v":-2.0479553172317422E-2}]
[null,"2019-09-25",-12.249014347999999,163.55813524999999,157.83438459000001,{"$f":"IF(B461=\"\",\"\",IF(C461=\"\",F460,IF(E461=\"\",F460,E461/MAX($E$9:E461)-1)))","v":-1.2976489431358984E-2}]
[null,"2019-09-26",-12.249014347999999,163.64133139,157.91466926999999,{"$f":"IF(B462=\"\",\"\",IF(C462=\"\",F461,IF(E462=\"\",F461,E462/MAX($E$9:E462)-1)))","v":-1.2474426038111108E-2}]
[null,"2019-09-27",-12.249014347999999,162.83588136,157.13740612000001,{"$f":"IF(B463=\"\",\"\",IF(C463=\"\",F462,IF(E463=\"\",F462,E463/MAX($E$9:E463)-1)))","v":-1.7335071612530673E-2}]
[null,"2019-09-30",-12.249014347999999,163.07922002000001,157.3722291,{"$f":"IF(B464=\"\",\"\",IF(C464=\"\",F463,IF(E464=\"\",F463,E464/MAX($E$9:E464)-1)))","v":-1.5866596902892049E-2}]
[null,"2019-10-01",-12.249014347999999,161.48202194000001,155.83092529999999,{"$f":"IF(B465=\"\",\"\",IF(C465=\"\",F464,IF(E465=\"\",F464,E465/MAX($E$9:E465)-1)))","v":-2.5505200629707514E-2}]
[null,"2019-10-02",-12.249014347999999,156.47267181000001,150.99687840000001,{"$f":"IF(B466=\"\",\"\",IF(C466=\"\",F465,IF(E466=\"\",F465,E466/MAX($E$9:E466)-1)))","v":-5.5735102395952474E-2}]
[null,"2019-10-03",-12.249014347999999,155.45941289999999,150.01907869999999,{"$f":"IF(B467=\"\",\"\",IF(C467=\"\",F466,IF(E467=\"\",F466,E467/MAX($E$9:E467)-1)))","v":-6.1849811146102329E-2}]
[null,"2019-10-04",-12.249014347999999,155.66089070000001,150.21350573999999,{"$f":"IF(B468=\"\",\"\",IF(C468=\"\",F467,IF(E468=\"\",F467,E468/MAX($E$9:E468)-1)))","v":-6.063395403062799E-2}]
[null,"2019-10-07",-12.249014347999999,151.70089085000001,146.39208690000001,{"$f":"IF(B469=\"\",\"\",IF(C469=\"\",F468,IF(E469=\"\",F468,E469/MAX($E$9:E469)-1)))","v":-8.4531346532317975E-2}]
[null,"2019-10-08",-12.249014347999999,150.09718185,144.84450003000001,{"$f":"IF(B470=\"\",\"\",IF(C470=\"\",F469,IF(E470=\"\",F469,E470/MAX($E$9:E470)-1)))","v":-9.4209241683651967E-2}]
[null,"2019-10-09",-12.249014347999999,152.97044339999999,147.61721120000001,{"$f":"IF(B471=\"\",\"\",IF(C471=\"\",F470,IF(E471=\"\",F470,E471/MAX($E$9:E471)-1)))","v":-7.6869983701841504E-2}]
[null,"2019-10-10",-12.249014347999999,153.66420859999999,148.28669794000001,{"$f":"IF(B472=\"\",\"\",IF(C472=\"\",F471,IF(E472=\"\",F471,E472/MAX($E$9:E472)-1)))","v":-7.2683322131800954E-2}]
[null,"2019-10-11",-12.249014347999999,158.52853059,152.98079197999999,{"$f":"IF(B473=\"\",\"\",IF(C473=\"\",F472,IF(E473=\"\",F472,E473/MAX($E$9:E473)-1)))","v":-4.332862106121016E-2}]
[null,"2019-10-14",-12.249014347999999,159.49733333,153.91569127,{"$f":"IF(B474=\"\",\"\",IF(C474=\"\",F473,IF(E474=\"\",F473,E474/MAX($E$9:E474)-1)))","v":-3.7482191706535883E-2}]
[null,"2019-10-15",-12.249014347999999,158.94654946,153.3841822,{"$f":"IF(B475=\"\",\"\",IF(C475=\"\",F474,IF(E475=\"\",F474,E475/MAX($E$9:E475)-1)))","v":-4.080600450900751E-2}]
[null,"2019-10-16",-12.249014347999999,159.28962582,153.71525252999999,{"$f":"IF(B476=\"\",\"\",IF(C476=\"\",F475,IF(E476=\"\",F475,E476/MAX($E$9:E476)-1)))","v":-3.8735643223597127E-2}]
[null,"2019-10-17",-12.249014347999999,158.95964792000001,153.39682227,{"$f":"IF(B477=\"\",\"\",IF(C477=\"\",F476,IF(E477=\"\",F476,E477/MAX($E$9:E477)-1)))","v":-4.0726959335817603E-2}]
[null,"2019-10-18",-12.249014347999999,158.02710789,152.49691666999999,{"$f":"IF(B478=\"\",\"\",IF(C478=\"\",F477,IF(E478=\"\",F477,E478/MAX($E$9:E478)-1)))","v":-4.6354554278451254E-2}]
[null,"2019-10-21",-12.249014347999999,159.68283428999999,154.09470059,{"$f":"IF(B479=\"\",\"\",IF(C479=\"\",F478,IF(E479=\"\",F478,E479/MAX($E$9:E479)-1)))","v":-3.6362749907400072E-2}]
[null,"2019-10-22",-11.620345924,161.02980693000001,155.39453563999999,{"$f":"IF(B480=\"\",\"\",IF(C480=\"\",F479,IF(E480=\"\",F479,E480/MAX($E$9:E480)-1)))","v":-2.8234180473408532E-2}]
[null,"2019-10-23",-11.620345924,162.33347921000001,156.65258564000001,{"$f":"IF(B481=\"\",\"\",IF(C481=\"\",F480,IF(E481=\"\",F480,E481/MAX($E$9:E481)-1)))","v":-2.0366915487413983E-2}]
[null,"2019-10-24",-11.620345924,161.92625208999999,156.25960950999999,{"$f":"IF(B482=\"\",\"\",IF(C482=\"\",F481,IF(E482=\"\",F481,E482/MAX($E$9:E482)-1)))","v":-2.2824407119607204E-2}]
[null,"2019-10-25",-11.620345924,163.12306673000001,157.41454139000001,{"$f":"IF(B483=\"\",\"\",IF(C483=\"\",F482,IF(E483=\"\",F482,E483/MAX($E$9:E483)-1)))","v":-1.5601995338888841E-2}]
[null,"2019-10-28",-11.620345924,164.41180552,158.65818049000001,{"$f":"IF(B484=\"\",\"\",IF(C484=\"\",F483,IF(E484=\"\",F483,E484/MAX($E$9:E484)-1)))","v":-7.824849480899454E-3}]
[null,"2019-10-29",-11.620345924,164.61773119,158.85689976,{"$f":"IF(B485=\"\",\"\",IF(C485=\"\",F484,IF(E485=\"\",F484,E485/MAX($E$9:E485)-1)))","v":-6.5821507368801768E-3}]
[null,"2019-10-30",-11.620345924,166.06723739,160.25568018999999,{"$f":"IF(B486=\"\",\"\",IF(C486=\"\",F485,IF(E486=\"\",F485,E486/MAX($E$9:E486)-1)))","v":0}]
[null,"2019-10-31",-11.620345924,163.500981,157.77923046999999,{"$f":"IF(B487=\"\",\"\",IF(C487=\"\",F486,IF(E487=\"\",F486,E487/MAX($E$9:E487)-1)))","v":-1.5453116651240828E-2}]
[null,"2019-11-01",-11.620345924,165.37229962999999,159.58506191999999,{"$f":"IF(B488=\"\",\"\",IF(C488=\"\",F487,IF(E488=\"\",F487,E488/MAX($E$9:E488)-1)))","v":-4.1846770685751711E-3}]
[null,"2019-11-04",-11.620345924,167.42655142999999,161.56742474999999,{"$f":"IF(B489=\"\",\"\",IF(C489=\"\",F488,IF(E489=\"\",F488,E489/MAX($E$9:E489)-1)))","v":0}]
[null,"2019-11-05",-11.620345924,167.81647244000001,161.94370039,{"$f":"IF(B490=\"\",\"\",IF(C490=\"\",F489,IF(E490=\"\",F489,E490/MAX($E$9:E490)-1)))","v":0}]
[null,"2019-11-06",-11.620345924,168.38177859999999,162.48922354999999,{"$f":"IF(B491=\"\",\"\",IF(C491=\"\",F490,IF(E491=\"\",F490,E491/MAX($E$9:E491)-1)))","v":0}]
[null,"2019-11-07",-11.620345924,170.52616388000001,164.55856562,{"$f":"IF(B492=\"\",\"\",IF(C492=\"\",F491,IF(E492=\"\",F491,E492/MAX($E$9:E492)-1)))","v":0}]
[null,"2019-11-08",-11.620345924,168.84339104,162.93468177,{"$f":"IF(B493=\"\",\"\",IF(C493=\"\",F492,IF(E493=\"\",F492,E493/MAX($E$9:E493)-1)))","v":-9.868121078242087E-3}]
[null,"2019-11-11",-11.620345924,168.99758459,163.08347928000001,{"$f":"IF(B494=\"\",\"\",IF(C494=\"\",F493,IF(E494=\"\",F493,E494/MAX($E$9:E494)-1)))","v":-8.9638988675088127E-3}]
[null,"2019-11-12",-11.620345924,165.42201052999999,159.63303317,{"$f":"IF(B495=\"\",\"\",IF(C495=\"\",F494,IF(E495=\"\",F494,E495/MAX($E$9:E495)-1)))","v":-2.9931790128592151E-2}]
[null,"2019-11-13",-11.620345924,164.66974131000001,158.90708977,{"$f":"IF(B496=\"\",\"\",IF(C496=\"\",F495,IF(E496=\"\",F495,E496/MAX($E$9:E496)-1)))","v":-3.4343249339268245E-2}]
[null,"2019-11-14",-11.620345924,166.32720198000001,160.50654725999999,{"$f":"IF(B497=\"\",\"\",IF(C497=\"\",F496,IF(E497=\"\",F496,E497/MAX($E$9:E497)-1)))","v":-2.4623563925301628E-2}]
[null,"2019-11-15",null,null,null,{"$f":"IF(B498=\"\",\"\",IF(C498=\"\",F497,IF(E498=\"\",F497,E498/MAX($E$9:E498)-1)))","v":-2.4623563925301628E-2}]
[null,"2019-11-18",-11.620345924,166.38701811999999,160.56427013000001,{"$f":"IF(B499=\"\",\"\",IF(C499=\"\",F498,IF(E499=\"\",F498,E499/MAX($E$9:E499)-1)))","v":-2.4272789902797576E-2}]
[null,"2019-11-19",-11.620345924,165.61459968,159.81888262999999,{"$f":"IF(B500=\"\",\"\",IF(C500=\"\",F499,IF(E500=\"\",F499,E500/MAX($E$9:E500)-1)))","v":-2.8802408262022183E-2}]
[null,"2019-11-20",null,null,null,{"$f":"IF(B501=\"\",\"\",IF(C501=\"\",F500,IF(E501=\"\",F500,E501/MAX($E$9:E501)-1)))","v":-2.8802408262022183E-2}]
[null,"2019-11-21",-11.620345924,166.76785401000001,160.93177858000001,{"$f":"IF(B502=\"\",\"\",IF(C502=\"\",F501,IF(E502=\"\",F501,E502/MAX($E$9:E502)-1)))","v":-2.2039491085350082E-2}]
[null,"2019-11-22",-11.620345924,169.20170375999999,163.28045526,{"$f":"IF(B503=\"\",\"\",IF(C503=\"\",F502,IF(E503=\"\",F502,E503/MAX($E$9:E503)-1)))","v":-7.7669026536815178E-3}]
[null,"2019-11-25",-11.620345924,168.69539420000001,162.79186411000001,{"$f":"IF(B504=\"\",\"\",IF(C504=\"\",F503,IF(E504=\"\",F503,E504/MAX($E$9:E504)-1)))","v":-1.0736004554631751E-2}]
[null,"2019-11-26",-11.620345924,167.39845815000001,161.54031459999999,{"$f":"IF(B505=\"\",\"\",IF(C505=\"\",F504,IF(E505=\"\",F504,E505/MAX($E$9:E505)-1)))","v":-1.8341500538901045E-2}]
[null,"2019-11-27",-11.620345924,167.87845974000001,162.00351843000001,{"$f":"IF(B506=\"\",\"\",IF(C506=\"\",F505,IF(E506=\"\",F505,E506/MAX($E$9:E506)-1)))","v":-1.5526673925319145E-2}]
[null,"2019-11-28",-11.620345924,169.88663367000001,163.94141590999999,{"$f":"IF(B507=\"\",\"\",IF(C507=\"\",F506,IF(E507=\"\",F506,E507/MAX($E$9:E507)-1)))","v":-3.7503347678973231E-3}]
[null,"2019-11-29",-11.620345924,172.28992228000001,166.26060093999999,{"$f":"IF(B508=\"\",\"\",IF(C508=\"\",F507,IF(E508=\"\",F507,E508/MAX($E$9:E508)-1)))","v":0}]
[null,"2019-12-02",-11.620345924,172.76400468,166.71809271999999,{"$f":"IF(B509=\"\",\"\",IF(C509=\"\",F508,IF(E509=\"\",F508,E509/MAX($E$9:E509)-1)))","v":0}]
[null,"2019-12-03",-11.620345924,173.28819464,167.22393855000001,{"$f":"IF(B510=\"\",\"\",IF(C510=\"\",F509,IF(E510=\"\",F509,E510/MAX($E$9:E510)-1)))","v":0}]
[null,"2019-12-04",-11.620345924,177.71665024000001,171.49741943000001,{"$f":"IF(B511=\"\",\"\",IF(C511=\"\",F510,IF(E511=\"\",F510,E511/MAX($E$9:E511)-1)))","v":0}]
[null,"2019-12-05",-11.620345924,178.92819460999999,172.66656556000001,{"$f":"IF(B512=\"\",\"\",IF(C512=\"\",F511,IF(E512=\"\",F511,E512/MAX($E$9:E512)-1)))","v":0}]
[null,"2019-12-06",-11.620345924,181.13447579999999,174.79563748000001,{"$f":"IF(B513=\"\",\"\",IF(C513=\"\",F512,IF(E513=\"\",F512,E513/MAX($E$9:E513)-1)))","v":0}]
[null,"2019-12-09",-11.620345924,180.91305836999999,174.58196860000001,{"$f":"IF(B514=\"\",\"\",IF(C514=\"\",F513,IF(E514=\"\",F513,E514/MAX($E$9:E514)-1)))","v":-1.2223925212346831E-3}]
[null,"2019-12-10",-11.620345924,180.38531517000001,174.07269388,{"$f":"IF(B515=\"\",\"\",IF(C515=\"\",F514,IF(E515=\"\",F514,E515/MAX($E$9:E515)-1)))","v":-4.1359361733654953E-3}]
[null,"2019-12-11",-11.620345924,183.06491227999999,176.65851794,{"$f":"IF(B516=\"\",\"\",IF(C516=\"\",F515,IF(E516=\"\",F515,E516/MAX($E$9:E516)-1)))","v":0}]
[null,"2019-12-12",-11.620345924,184.6288394,178.16771510999999,{"$f":"IF(B517=\"\",\"\",IF(C517=\"\",F516,IF(E517=\"\",F516,E517/MAX($E$9:E517)-1)))","v":0}]
[null,"2019-12-13",-11.620345924,186.86454437,180.32518112,{"$f":"IF(B518=\"\",\"\",IF(C518=\"\",F517,IF(E518=\"\",F517,E518/MAX($E$9:E518)-1)))","v":0}]
[null,"2019-12-16",-11.620345924,186.11269823999999,179.59964600000001,{"$f":"IF(B519=\"\",\"\",IF(C519=\"\",F518,IF(E519=\"\",F518,E519/MAX($E$9:E519)-1)))","v":-4.0234819978757219E-3}]
[null,"2019-12-17",-11.620345924,187.09069968,180.54342208,{"$f":"IF(B520=\"\",\"\",IF(C520=\"\",F519,IF(E520=\"\",F519,E520/MAX($E$9:E520)-1)))","v":0}]
[null,"2019-12-18",-11.620345924,187.8609965,181.2867622,{"$f":"IF(B521=\"\",\"\",IF(C521=\"\",F520,IF(E521=\"\",F520,E521/MAX($E$9:E521)-1)))","v":0}]
[null,"2019-12-19",-11.620345924,188.12700842000001,181.54346498000001,{"$f":"IF(B522=\"\",\"\",IF(C522=\"\",F521,IF(E522=\"\",F521,E522/MAX($E$9:E522)-1)))","v":0}]
[null,"2019-12-20",-11.620345924,189.6849698,183.04690518000001,{"$f":"IF(B523=\"\",\"\",IF(C523=\"\",F522,IF(E523=\"\",F522,E523/MAX($E$9:E523)-1)))","v":0}]
[null,"2019-12-23",-11.620345924,192.08699970000001,185.36487554999999,{"$f":"IF(B524=\"\",\"\",IF(C524=\"\",F523,IF(E524=\"\",F523,E524/MAX($E$9:E524)-1)))","v":0}]
[null,"2019-12-24",null,null,null,{"$f":"IF(B525=\"\",\"\",IF(C525=\"\",F524,IF(E525=\"\",F524,E525/MAX($E$9:E525)-1)))","v":0}]
[null,"2019-12-25",null,null,null,{"$f":"IF(B526=\"\",\"\",IF(C526=\"\",F525,IF(E526=\"\",F525,E526/MAX($E$9:E526)-1)))","v":0}]
[null,"2019-12-26",-11.620345924,196.18841144999999,189.32275755000001,{"$f":"IF(B527=\"\",\"\",IF(C527=\"\",F526,IF(E527=\"\",F526,E527/MAX($E$9:E527)-1)))","v":0}]
[null,"2019-12-27",-11.620345924,196.24399632999999,189.37639723000001,{"$f":"IF(B528=\"\",\"\",IF(C528=\"\",F527,IF(E528=\"\",F527,E528/MAX($E$9:E528)-1)))","v":0}]
[null,"2019-12-30",-11.620345924,194.67924170000001,187.86640149999999,{"$f":"IF(B529=\"\",\"\",IF(C529=\"\",F528,IF(E529=\"\",F528,E529/MAX($E$9:E529)-1)))","v":-7.9735159823856039E-3}]
[null,"2019-12-31",null,null,null,{"$f":"IF(B530=\"\",\"\",IF(C530=\"\",F529,IF(E530=\"\",F529,E530/MAX($E$9:E530)-1)))","v":-7.9735159823856039E-3}]
[null,"2020-01-01",null,null,null,{"$f":"IF(B531=\"\",\"\",IF(C531=\"\",F530,IF(E531=\"\",F530,E531/MAX($E$9:E531)-1)))","v":-7.9735159823856039E-3}]
[null,"2020-01-02",-11.620345924,199.54351115,192.56044484,{"$f":"IF(B532=\"\",\"\",IF(C532=\"\",F531,IF(E532=\"\",F531,E532/MAX($E$9:E532)-1)))","v":0}]
[null,"2020-01-03",-11.620345924,200.96953167999999,193.93656149,{"$f":"IF(B533=\"\",\"\",IF(C533=\"\",F532,IF(E533=\"\",F532,E533/MAX($E$9:E533)-1)))","v":0}]
[null,"2020-01-06",-11.620345924,203.12355897,196.01520815000001,{"$f":"IF(B534=\"\",\"\",IF(C534=\"\",F533,IF(E534=\"\",F533,E534/MAX($E$9:E534)-1)))","v":0}]
[null,"2020-01-07",-11.620345924,203.90140577,196.76583405,{"$f":"IF(B535=\"\",\"\",IF(C535=\"\",F534,IF(E535=\"\",F534,E535/MAX($E$9:E535)-1)))","v":0}]
[null,"2020-01-08",-11.620345924,201.23062227,194.18851516999999,{"$f":"IF(B536=\"\",\"\",IF(C536=\"\",F535,IF(E536=\"\",F535,E536/MAX($E$9:E536)-1)))","v":-1.30984065015326E-2}]
[null,"2020-01-09",-11.620345924,198.40942892999999,191.46605006999999,{"$f":"IF(B537=\"\",\"\",IF(C537=\"\",F536,IF(E537=\"\",F536,E537/MAX($E$9:E537)-1)))","v":-2.6934472671984677E-2}]
[null,"2020-01-10",-11.620345924,200.19871040000001,193.19271526,{"$f":"IF(B538=\"\",\"\",IF(C538=\"\",F537,IF(E538=\"\",F537,E538/MAX($E$9:E538)-1)))","v":-1.8159243992999508E-2}]
[null,"2020-01-13",-11.620345924,204.07441903,196.93279267,{"$f":"IF(B539=\"\",\"\",IF(C539=\"\",F538,IF(E539=\"\",F538,E539/MAX($E$9:E539)-1)))","v":0}]
[null,"2020-01-14",-11.620345924,207.54244689000001,200.27945618000001,{"$f":"IF(B540=\"\",\"\",IF(C540=\"\",F539,IF(E540=\"\",F539,E540/MAX($E$9:E540)-1)))","v":0}]
[null,"2020-01-15",-11.620345924,207.03003193999999,199.78497329999999,{"$f":"IF(B541=\"\",\"\",IF(C541=\"\",F540,IF(E541=\"\",F540,E541/MAX($E$9:E541)-1)))","v":-2.4689645629735191E-3}]
[null,"2020-01-16",-11.620345924,209.28041812000001,201.95660674999999,{"$f":"IF(B542=\"\",\"\",IF(C542=\"\",F541,IF(E542=\"\",F541,E542/MAX($E$9:E542)-1)))","v":0}]
[null,"2020-01-17",-11.620345924,211.66575014,204.25846358000001,{"$f":"IF(B543=\"\",\"\",IF(C543=\"\",F542,IF(E543=\"\",F542,E543/MAX($E$9:E543)-1)))","v":0}]
[null,"2020-01-20",-11.620345924,215.58104768999999,208.03674448999999,{"$f":"IF(B544=\"\",\"\",IF(C544=\"\",F543,IF(E544=\"\",F543,E544/MAX($E$9:E544)-1)))","v":0}]
[null,"2020-01-21",-11.620345924,214.65952780000001,207.14747338000001,{"$f":"IF(B545=\"\",\"\",IF(C545=\"\",F544,IF(E545=\"\",F544,E545/MAX($E$9:E545)-1)))","v":-4.274586742741171E-3}]
[null,"2020-01-22",-11.620345924,218.23721404,210.59995774999999,{"$f":"IF(B546=\"\",\"\",IF(C546=\"\",F545,IF(E546=\"\",F545,E546/MAX($E$9:E546)-1)))","v":0}]
[null,"2020-01-23",-11.522660799000001,220.92996406,213.19847443,{"$f":"IF(B547=\"\",\"\",IF(C547=\"\",F546,IF(E547=\"\",F546,E547/MAX($E$9:E547)-1)))","v":0}]
[null,"2020-01-24",-9.7325607751999996,219.56855838000001,211.88471142,{"$f":"IF(B548=\"\",\"\",IF(C548=\"\",F547,IF(E548=\"\",F547,E548/MAX($E$9:E548)-1)))","v":-6.1621595253551487E-3}]
[null,"2020-01-27",-9.7325607751999996,212.16230718,204.73764351,{"$f":"IF(B549=\"\",\"\",IF(C549=\"\",F548,IF(E549=\"\",F548,E549/MAX($E$9:E549)-1)))","v":-3.9685232000935211E-2}]
[null,"2020-01-28",-9.7325607751999996,216.38984672000001,208.81723943,{"$f":"IF(B550=\"\",\"\",IF(C550=\"\",F549,IF(E550=\"\",F549,E550/MAX($E$9:E550)-1)))","v":-2.0550029786627344E-2}]
[null,"2020-01-29",-9.7325607751999996,214.01425721999999,206.52478418000001,{"$f":"IF(B551=\"\",\"\",IF(C551=\"\",F550,IF(E551=\"\",F550,E551/MAX($E$9:E551)-1)))","v":-3.1302711090417268E-2}]
[null,"2020-01-30",-9.7325607751999996,212.99315568,205.53941628999999,{"$f":"IF(B552=\"\",\"\",IF(C552=\"\",F551,IF(E552=\"\",F551,E552/MAX($E$9:E552)-1)))","v":-3.5924544772081513E-2}]
[null,"2020-01-31",-9.7325607751999996,209.05999464000001,201.74389703,{"$f":"IF(B553=\"\",\"\",IF(C553=\"\",F552,IF(E553=\"\",F552,E553/MAX($E$9:E553)-1)))","v":-5.3727295331847724E-2}]
[null,"2020-02-03",-9.7325607751999996,212.7288503,205.28436033,{"$f":"IF(B554=\"\",\"\",IF(C554=\"\",F553,IF(E554=\"\",F553,E554/MAX($E$9:E554)-1)))","v":-3.7120875846597401E-2}]
[null,"2020-02-04",-9.7325607751999996,214.75492962000001,207.23953659,{"$f":"IF(B555=\"\",\"\",IF(C555=\"\",F554,IF(E555=\"\",F554,E555/MAX($E$9:E555)-1)))","v":-2.7950189868532704E-2}]
[null,"2020-02-05",-9.7325607751999996,216.69085921000001,209.10771792,{"$f":"IF(B556=\"\",\"\",IF(C556=\"\",F555,IF(E556=\"\",F555,E556/MAX($E$9:E556)-1)))","v":-1.9187550572005274E-2}]
[null,"2020-02-06",-9.7325607751999996,217.20335022,209.60227420000001,{"$f":"IF(B557=\"\",\"\",IF(C557=\"\",F556,IF(E557=\"\",F556,E557/MAX($E$9:E557)-1)))","v":-1.6867851609232543E-2}]
[null,"2020-02-07",-9.7325607751999996,212.55849613000001,205.11996773999999,{"$f":"IF(B558=\"\",\"\",IF(C558=\"\",F557,IF(E558=\"\",F557,E558/MAX($E$9:E558)-1)))","v":-3.7891953549847979E-2}]
[null,"2020-02-10",-9.7325607751999996,206.60857770000001,199.37826794,{"$f":"IF(B559=\"\",\"\",IF(C559=\"\",F558,IF(E559=\"\",F558,E559/MAX($E$9:E559)-1)))","v":-6.4823195977125159E-2}]
[null,"2020-02-11",-9.7325607751999996,213.58984896000001,206.11522816999999,{"$f":"IF(B560=\"\",\"\",IF(C560=\"\",F559,IF(E560=\"\",F559,E560/MAX($E$9:E560)-1)))","v":-3.3223719254734441E-2}]
[null,"2020-02-12",-9.7325607751999996,217.15299733000001,209.55368343000001,{"$f":"IF(B561=\"\",\"\",IF(C561=\"\",F560,IF(E561=\"\",F560,E561/MAX($E$9:E561)-1)))","v":-1.7095764919259349E-2}]
[null,"2020-02-13",-9.7325607751999996,215.86169512000001,208.30757059999999,{"$f":"IF(B562=\"\",\"\",IF(C562=\"\",F561,IF(E562=\"\",F561,E562/MAX($E$9:E562)-1)))","v":-2.2940613637485785E-2}]
[null,"2020-02-14",-9.7325607751999996,214.84782971999999,207.32918563000001,{"$f":"IF(B563=\"\",\"\",IF(C563=\"\",F562,IF(E563=\"\",F562,E563/MAX($E$9:E563)-1)))","v":-2.7529694176714581E-2}]
[null,"2020-02-17",-9.7325607751999996,216.78631759000001,209.19983572000001,{"$f":"IF(B564=\"\",\"\",IF(C564=\"\",F563,IF(E564=\"\",F563,E564/MAX($E$9:E564)-1)))","v":-1.8755475247609565E-2}]
[null,"2020-02-18",-9.7325607751999996,216.43702959999999,208.86277113,{"$f":"IF(B565=\"\",\"\",IF(C565=\"\",F564,IF(E565=\"\",F564,E565/MAX($E$9:E565)-1)))","v":-2.033646493762109E-2}]
[null,"2020-02-19",-9.7325607751999996,222.64342431,214.85197178000001,{"$f":"IF(B566=\"\",\"\",IF(C566=\"\",F565,IF(E566=\"\",F565,E566/MAX($E$9:E566)-1)))","v":0}]
[null,"2020-02-20",-9.7325607751999996,220.48137703,212.76558578999999,{"$f":"IF(B567=\"\",\"\",IF(C567=\"\",F566,IF(E567=\"\",F566,E567/MAX($E$9:E567)-1)))","v":-9.7108068067274234E-3}]
[null,"2020-02-21",-9.7325607751999996,221.21232699000001,213.47095601000001,{"$f":"IF(B568=\"\",\"\",IF(C568=\"\",F567,IF(E568=\"\",F567,E568/MAX($E$9:E568)-1)))","v":-6.4277546934226049E-3}]
[null,"2020-02-24",null,null,null,{"$f":"IF(B569=\"\",\"\",IF(C569=\"\",F568,IF(E569=\"\",F568,E569/MAX($E$9:E569)-1)))","v":-6.4277546934226049E-3}]
[null,"2020-02-25",null,null,null,{"$f":"IF(B570=\"\",\"\",IF(C570=\"\",F569,IF(E570=\"\",F569,E570/MAX($E$9:E570)-1)))","v":-6.4277546934226049E-3}]
[null,"2020-02-26",-9.7325607751999996,203.05834657,195.95227788,{"$f":"IF(B571=\"\",\"\",IF(C571=\"\",F570,IF(E571=\"\",F570,E571/MAX($E$9:E571)-1)))","v":-8.7966117990076254E-2}]
[null,"2020-02-27",-9.7325607751999996,195.85203179000001,188.99814956,{"$f":"IF(B572=\"\",\"\",IF(C572=\"\",F571,IF(E572=\"\",F571,E572/MAX($E$9:E572)-1)))","v":-0.1203331857083132}]
[null,"2020-02-28",-9.7325607751999996,196.27229001000001,189.40370075999999,{"$f":"IF(B573=\"\",\"\",IF(C573=\"\",F572,IF(E573=\"\",F572,E573/MAX($E$9:E573)-1)))","v":-0.1184456014490668}]
[null,"2020-03-02",-9.7325607751999996,206.13556804000001,198.92181134,{"$f":"IF(B574=\"\",\"\",IF(C574=\"\",F573,IF(E574=\"\",F573,E574/MAX($E$9:E574)-1)))","v":-7.4144818444169869E-2}]
[null,"2020-03-03",-9.7325607751999996,205.72229272999999,198.52299869000001,{"$f":"IF(B575=\"\",\"\",IF(C575=\"\",F574,IF(E575=\"\",F574,E575/MAX($E$9:E575)-1)))","v":-7.6001039016389549E-2}]
[null,"2020-03-04",-9.7325607751999996,208.97430392999999,201.66120509000001,{"$f":"IF(B576=\"\",\"\",IF(C576=\"\",F575,IF(E576=\"\",F575,E576/MAX($E$9:E576)-1)))","v":-6.1394673647709563E-2}]
[null,"2020-03-05",-9.7325607751999996,198.91338974000001,191.95237466,{"$f":"IF(B577=\"\",\"\",IF(C577=\"\",F576,IF(E577=\"\",F576,E577/MAX($E$9:E577)-1)))","v":-0.10658313689319221}]
[null,"2020-03-06",-9.7325607751999996,187.21252629,180.66098534,{"$f":"IF(B578=\"\",\"\",IF(C578=\"\",F577,IF(E578=\"\",F577,E578/MAX($E$9:E578)-1)))","v":-0.15913741054706376}]
[null,"2020-03-09",-9.7325607751999996,157.31598324999999,151.81067798000001,{"$f":"IF(B579=\"\",\"\",IF(C579=\"\",F578,IF(E579=\"\",F578,E579/MAX($E$9:E579)-1)))","v":-0.29341733882038479}]
[null,"2020-03-10",-9.7325607751999996,173.45760351000001,167.38741891999999,{"$f":"IF(B580=\"\",\"\",IF(C580=\"\",F579,IF(E580=\"\",F579,E580/MAX($E$9:E580)-1)))","v":-0.22091746455369687}]
[null,"2020-03-11",-9.7325607751999996,160.68520742999999,155.06199548000001,{"$f":"IF(B581=\"\",\"\",IF(C581=\"\",F580,IF(E581=\"\",F580,E581/MAX($E$9:E581)-1)))","v":-0.27828451284227729}]
[null,"2020-03-12",-9.7325607751999996,132.61160235,127.97083198999999,{"$f":"IF(B582=\"\",\"\",IF(C582=\"\",F581,IF(E582=\"\",F581,E582/MAX($E$9:E582)-1)))","v":-0.40437673934388141}]
[null,"2020-03-13",-9.7325607751999996,150.61091826000001,145.34025813,{"$f":"IF(B583=\"\",\"\",IF(C583=\"\",F582,IF(E583=\"\",F582,E583/MAX($E$9:E583)-1)))","v":-0.32353304963464469}]
[null,"2020-03-16",-9.7325607751999996,128.34183528,123.85048629000001,{"$f":"IF(B584=\"\",\"\",IF(C584=\"\",F583,IF(E584=\"\",F583,E584/MAX($E$9:E584)-1)))","v":-0.42355434179204066}]
[null,"2020-03-17",-9.7325607751999996,132.81556119999999,128.16765326000001,{"$f":"IF(B585=\"\",\"\",IF(C585=\"\",F584,IF(E585=\"\",F584,E585/MAX($E$9:E585)-1)))","v":-0.40346066085333088}]
[null,"2020-03-18",-9.7325607751999996,117.32297344,113.21723179999999,{"$f":"IF(B586=\"\",\"\",IF(C586=\"\",F585,IF(E586=\"\",F585,E586/MAX($E$9:E586)-1)))","v":-0.47304541418903057}]
[null,"2020-03-19",-9.7325607751999996,119.60797639,115.4222706,{"$f":"IF(B587=\"\",\"\",IF(C587=\"\",F586,IF(E587=\"\",F586,E587/MAX($E$9:E587)-1)))","v":-0.462782353618854}]
[null,"2020-03-20",-9.7325607751999996,123.70874496,119.37953193,{"$f":"IF(B588=\"\",\"\",IF(C588=\"\",F587,IF(E588=\"\",F587,E588/MAX($E$9:E588)-1)))","v":-0.44436380573579304}]
[null,"2020-03-23",-9.7325607751999996,123.3766255,119.05903505000001,{"$f":"IF(B589=\"\",\"\",IF(C589=\"\",F588,IF(E589=\"\",F588,E589/MAX($E$9:E589)-1)))","v":-0.44585551594605899}]
[null,"2020-03-24",-9.7325607751999996,132.5541273,127.91536829,{"$f":"IF(B590=\"\",\"\",IF(C590=\"\",F589,IF(E590=\"\",F589,E590/MAX($E$9:E590)-1)))","v":-0.40463488777761691}]
[null,"2020-03-25",-9.7325607751999996,143.5869405,138.56208591999999,{"$f":"IF(B591=\"\",\"\",IF(C591=\"\",F590,IF(E591=\"\",F590,E591/MAX($E$9:E591)-1)))","v":-0.35508115298154153}]
[null,"2020-03-26",-9.7325607751999996,151.9322305,146.61533077999999,{"$f":"IF(B592=\"\",\"\",IF(C592=\"\",F591,IF(E592=\"\",F591,E592/MAX($E$9:E592)-1)))","v":-0.31759839313865668}]
[null,"2020-03-27",-9.7325607751999996,143.39165187,138.37363145,{"$f":"IF(B593=\"\",\"\",IF(C593=\"\",F592,IF(E593=\"\",F592,E593/MAX($E$9:E593)-1)))","v":-0.35595828931144657}]
[null,"2020-03-30",-9.7325607751999996,141.70672925,136.74767305,{"$f":"IF(B594=\"\",\"\",IF(C594=\"\",F593,IF(E594=\"\",F593,E594/MAX($E$9:E594)-1)))","v":-0.36352609698167326}]
[null,"2020-03-31",-9.7325607751999996,140.77310549000001,135.84672164,{"$f":"IF(B595=\"\",\"\",IF(C595=\"\",F594,IF(E595=\"\",F594,E595/MAX($E$9:E595)-1)))","v":-0.36771945579767962}]
[null,"2020-04-01",-9.7325607751999996,137.05137003999999,132.25522910000001,{"$f":"IF(B596=\"\",\"\",IF(C596=\"\",F595,IF(E596=\"\",F595,E596/MAX($E$9:E596)-1)))","v":-0.38443558137123279}]
[null,"2020-04-02",-9.7325607751999996,141.56460534999999,136.61052280000001,{"$f":"IF(B597=\"\",\"\",IF(C597=\"\",F596,IF(E597=\"\",F596,E597/MAX($E$9:E597)-1)))","v":-0.36416444462569875}]
[null,"2020-04-03",-9.7325607751999996,137.12250843999999,132.32387799,{"$f":"IF(B598=\"\",\"\",IF(C598=\"\",F597,IF(E598=\"\",F597,E598/MAX($E$9:E598)-1)))","v":-0.38411606421981337}]
[null,"2020-04-06",-9.7325607751999996,145.50101301000001,140.40917506,{"$f":"IF(B599=\"\",\"\",IF(C599=\"\",F598,IF(E599=\"\",F598,E599/MAX($E$9:E599)-1)))","v":-0.34648412161758757}]
[null,"2020-04-07",-9.7325607751999996,152.93477566999999,147.58279167000001,{"$f":"IF(B600=\"\",\"\",IF(C600=\"\",F599,IF(E600=\"\",F599,E600/MAX($E$9:E600)-1)))","v":-0.31309547477125788}]
[null,"2020-04-08",-9.7325607751999996,157.58123180000001,152.06664411,{"$f":"IF(B601=\"\",\"\",IF(C601=\"\",F600,IF(E601=\"\",F600,E601/MAX($E$9:E601)-1)))","v":-0.29222597842522813}]
[null,"2020-04-09",-9.7325607751999996,153.39996066,148.03169740999999,{"$f":"IF(B602=\"\",\"\",IF(C602=\"\",F601,IF(E602=\"\",F601,E602/MAX($E$9:E602)-1)))","v":-0.31100610255707295}]
[null,"2020-04-10",null,null,null,{"$f":"IF(B603=\"\",\"\",IF(C603=\"\",F602,IF(E603=\"\",F602,E603/MAX($E$9:E603)-1)))","v":-0.31100610255707295}]
[null,"2020-04-13",-9.7325607751999996,155.32281717000001,149.88726317000001,{"$f":"IF(B604=\"\",\"\",IF(C604=\"\",F603,IF(E604=\"\",F603,E604/MAX($E$9:E604)-1)))","v":-0.30236961788985262}]
[null,"2020-04-14",-9.7325607751999996,157.77848742,152.25699673,{"$f":"IF(B605=\"\",\"\",IF(C605=\"\",F604,IF(E605=\"\",F604,E605/MAX($E$9:E605)-1)))","v":-0.29134000740795996}]
[null,"2020-04-15",-9.7325607751999996,154.61479510999999,149.20401848,{"$f":"IF(B606=\"\",\"\",IF(C606=\"\",F605,IF(E606=\"\",F605,E606/MAX($E$9:E606)-1)))","v":-0.30554968965898499}]
[null,"2020-04-16",-9.7325607751999996,152.27100576000001,146.94225051999999,{"$f":"IF(B607=\"\",\"\",IF(C607=\"\",F606,IF(E607=\"\",F606,E607/MAX($E$9:E607)-1)))","v":-0.31607678857858901}]
[null,"2020-04-17",-9.7325607751999996,153.74659385000001,148.36620010999999,{"$f":"IF(B608=\"\",\"\",IF(C608=\"\",F607,IF(E608=\"\",F607,E608/MAX($E$9:E608)-1)))","v":-0.30944920411565424}]
[null,"2020-04-20",-9.7325607751999996,153.13423705,147.77527286,{"$f":"IF(B609=\"\",\"\",IF(C609=\"\",F608,IF(E609=\"\",F608,E609/MAX($E$9:E609)-1)))","v":-0.31219959660730467}]
[null,"2020-04-21",null,null,null,{"$f":"IF(B610=\"\",\"\",IF(C610=\"\",F609,IF(E610=\"\",F609,E610/MAX($E$9:E610)-1)))","v":-0.31219959660730467}]
[null,"2020-04-22",-9.7325607751999996,156.03143987999999,150.57108747999999,{"$f":"IF(B611=\"\",\"\",IF(C611=\"\",F610,IF(E611=\"\",F610,E611/MAX($E$9:E611)-1)))","v":-0.29918684835632381}]
[null,"2020-04-23",-9.7325607751999996,154.66141701000001,149.24900883999999,{"$f":"IF(B612=\"\",\"\",IF(C612=\"\",F611,IF(E612=\"\",F611,E612/MAX($E$9:E612)-1)))","v":-0.30534028799686741}]
[null,"2020-04-24",-9.7325607751999996,148.28357847999999,143.09436409,{"$f":"IF(B613=\"\",\"\",IF(C613=\"\",F612,IF(E613=\"\",F612,E613/MAX($E$9:E613)-1)))","v":-0.33398626549947141}]
[null,"2020-04-27",-9.7325607751999996,153.61870830999999,148.24278995,{"$f":"IF(B614=\"\",\"\",IF(C614=\"\",F613,IF(E614=\"\",F613,E614/MAX($E$9:E614)-1)))","v":-0.31002360033355991}]
[null,"2020-04-28",-9.7325607751999996,159.8165113,154.22369954999999,{"$f":"IF(B615=\"\",\"\",IF(C615=\"\",F614,IF(E615=\"\",F614,E615/MAX($E$9:E615)-1)))","v":-0.28218625003861264}]
[null,"2020-04-29",-9.7325607751999996,161.80477077,156.14237946,{"$f":"IF(B616=\"\",\"\",IF(C616=\"\",F615,IF(E616=\"\",F615,E616/MAX($E$9:E616)-1)))","v":-0.27325600893305424}]
[null,"2020-04-30",-9.7325607751999996,155.86498406999999,150.41045682000001,{"$f":"IF(B617=\"\",\"\",IF(C617=\"\",F616,IF(E617=\"\",F616,E617/MAX($E$9:E617)-1)))","v":-0.29993448245374066}]
[null,"2020-05-01",null,null,null,{"$f":"IF(B618=\"\",\"\",IF(C618=\"\",F617,IF(E618=\"\",F617,E618/MAX($E$9:E618)-1)))","v":-0.29993448245374066}]
[null,"2020-05-04",-9.7325607751999996,153.26836692000001,147.90470882,{"$f":"IF(B619=\"\",\"\",IF(C619=\"\",F618,IF(E619=\"\",F618,E619/MAX($E$9:E619)-1)))","v":-0.31159715410269251}]
[null,"2020-05-05",-9.7325607751999996,153.78751371000001,148.40568795999999,{"$f":"IF(B620=\"\",\"\",IF(C620=\"\",F619,IF(E620=\"\",F619,E620/MAX($E$9:E620)-1)))","v":-0.30926541315635869}]
[null,"2020-05-06",-9.7325607751999996,152.79703230000001,147.44986865999999,{"$f":"IF(B621=\"\",\"\",IF(C621=\"\",F620,IF(E621=\"\",F620,E621/MAX($E$9:E621)-1)))","v":-0.3137141472874968}]
[null,"2020-05-07",-9.7325607751999996,152.24175496999999,146.91402337,{"$f":"IF(B622=\"\",\"\",IF(C622=\"\",F621,IF(E622=\"\",F621,E622/MAX($E$9:E622)-1)))","v":-0.31620816810359931}]
[null,"2020-05-08",-9.7325607751999996,153.36913903999999,148.00195441,{"$f":"IF(B623=\"\",\"\",IF(C623=\"\",F622,IF(E623=\"\",F622,E623/MAX($E$9:E623)-1)))","v":-0.31114453740481285}]
[null,"2020-05-11",-9.7325607751999996,153.75387563000001,148.37322706,{"$f":"IF(B624=\"\",\"\",IF(C624=\"\",F623,IF(E624=\"\",F623,E624/MAX($E$9:E624)-1)))","v":-0.30941649810908711}]
[null,"2020-05-12",-9.7325607751999996,150.10025207000001,144.84746281,{"$f":"IF(B625=\"\",\"\",IF(C625=\"\",F624,IF(E625=\"\",F624,E625/MAX($E$9:E625)-1)))","v":-0.32582670007646886}]
[null,"2020-05-13",-9.7325607751999996,151.24874435999999,145.95576338000001,{"$f":"IF(B626=\"\",\"\",IF(C626=\"\",F625,IF(E626=\"\",F625,E626/MAX($E$9:E626)-1)))","v":-0.32066826210255595}]
[null,"2020-05-14",-9.7325607751999996,152.20758882999999,146.88105289000001,{"$f":"IF(B627=\"\",\"\",IF(C627=\"\",F626,IF(E627=\"\",F626,E627/MAX($E$9:E627)-1)))","v":-0.3163616248288359}]
[null,"2020-05-15",-9.7325607751999996,150.12074312999999,144.86723678000001,{"$f":"IF(B628=\"\",\"\",IF(C628=\"\",F627,IF(E628=\"\",F627,E628/MAX($E$9:E628)-1)))","v":-0.32573466475635426}]
[null,"2020-05-18",-9.7325607751999996,159.90790382,154.31189376,{"$f":"IF(B629=\"\",\"\",IF(C629=\"\",F628,IF(E629=\"\",F628,E629/MAX($E$9:E629)-1)))","v":-0.28177576178817043}]
[null,"2020-05-19",-9.7325607751999996,161.80522020999999,156.14281317999999,{"$f":"IF(B630=\"\",\"\",IF(C630=\"\",F629,IF(E630=\"\",F629,E630/MAX($E$9:E630)-1)))","v":-0.2732539902408524}]
[null,"2020-05-20",-9.7325607751999996,162.27732186,156.59839353000001,{"$f":"IF(B631=\"\",\"\",IF(C631=\"\",F630,IF(E631=\"\",F630,E631/MAX($E$9:E631)-1)))","v":-0.27113355193988808}]
[null,"2020-05-21",-9.7325607751999996,164.24727102,158.49940391000001,{"$f":"IF(B632=\"\",\"\",IF(C632=\"\",F631,IF(E632=\"\",F631,E632/MAX($E$9:E632)-1)))","v":-0.26228555131764308}]
[null,"2020-05-22",-9.7325607751999996,162.62445892,156.93338245999999,{"$f":"IF(B633=\"\",\"\",IF(C633=\"\",F632,IF(E633=\"\",F632,E633/MAX($E$9:E633)-1)))","v":-0.26957439040543874}]
[null,"2020-05-25",-9.7325607751999996,168.74281855999999,162.83762884000001,{"$f":"IF(B634=\"\",\"\",IF(C634=\"\",F633,IF(E634=\"\",F633,E634/MAX($E$9:E634)-1)))","v":-0.2420938588977003}]
[null,"2020-05-26",-9.7325607751999996,172.11682920000001,166.09356528999999,{"$f":"IF(B635=\"\",\"\",IF(C635=\"\",F634,IF(E635=\"\",F634,E635/MAX($E$9:E635)-1)))","v":-0.22693953462957617}]
[null,"2020-05-27",-9.7325607751999996,175.30624342999999,169.17136531,{"$f":"IF(B636=\"\",\"\",IF(C636=\"\",F635,IF(E636=\"\",F635,E636/MAX($E$9:E636)-1)))","v":-0.21261432274298675}]
[null,"2020-05-28",-9.7325607751999996,174.63535844,168.52395808,{"$f":"IF(B637=\"\",\"\",IF(C637=\"\",F636,IF(E637=\"\",F636,E637/MAX($E$9:E637)-1)))","v":-0.21562759380881125}]
[null,"2020-05-29",-9.7325607751999996,178.88422696999999,172.62413658,{"$f":"IF(B638=\"\",\"\",IF(C638=\"\",F637,IF(E638=\"\",F637,E638/MAX($E$9:E638)-1)))","v":-0.19654385691763476}]
[null,"2020-06-01",-9.7325607751999996,181.47539850999999,175.12462954,{"$f":"IF(B639=\"\",\"\",IF(C639=\"\",F638,IF(E639=\"\",F638,E639/MAX($E$9:E639)-1)))","v":-0.18490564415521982}]
[null,"2020-06-02",-9.7325607751999996,184.34753351000001,177.89625357,{"$f":"IF(B640=\"\",\"\",IF(C640=\"\",F639,IF(E640=\"\",F639,E640/MAX($E$9:E640)-1)))","v":-0.1720054877962266}]
[null,"2020-06-03",-9.7325607751999996,185.62507969999999,179.12909177,{"$f":"IF(B641=\"\",\"\",IF(C641=\"\",F640,IF(E641=\"\",F640,E641/MAX($E$9:E641)-1)))","v":-0.16626740594486533}]
[null,"2020-06-04",-9.7325607751999996,189.18376588000001,182.56324099,{"$f":"IF(B642=\"\",\"\",IF(C642=\"\",F641,IF(E642=\"\",F641,E642/MAX($E$9:E642)-1)))","v":-0.15028361398080359}]
[null,"2020-06-05",-9.7325607751999996,192.61607146,185.87543233,{"$f":"IF(B643=\"\",\"\",IF(C643=\"\",F642,IF(E643=\"\",F642,E643/MAX($E$9:E643)-1)))","v":-0.13486745879004947}]
[null,"2020-06-08",-9.7325607751999996,195.53773354,188.69485025,{"$f":"IF(B644=\"\",\"\",IF(C644=\"\",F643,IF(E644=\"\",F643,E644/MAX($E$9:E644)-1)))","v":-0.12174485211047481}]
[null,"2020-06-09",-9.7325607751999996,192.47340682000001,185.73776027,{"$f":"IF(B645=\"\",\"\",IF(C645=\"\",F644,IF(E645=\"\",F644,E645/MAX($E$9:E645)-1)))","v":-0.13550823512949572}]
[null,"2020-06-10",-9.7325607751999996,187.1065911,180.55875737,{"$f":"IF(B646=\"\",\"\",IF(C646=\"\",F645,IF(E646=\"\",F645,E646/MAX($E$9:E646)-1)))","v":-0.15961321707168197}]
[null,"2020-06-11",null,null,null,{"$f":"IF(B647=\"\",\"\",IF(C647=\"\",F646,IF(E647=\"\",F646,E647/MAX($E$9:E647)-1)))","v":-0.15961321707168197}]
[null,"2020-06-12",-9.7325607751999996,183.29399834,176.87958709,{"$f":"IF(B648=\"\",\"\",IF(C648=\"\",F647,IF(E648=\"\",F647,E648/MAX($E$9:E648)-1)))","v":-0.17673742705457807}]
[null,"2020-06-15",-9.7325607751999996,185.36671962,178.87977305000001,{"$f":"IF(B649=\"\",\"\",IF(C649=\"\",F648,IF(E649=\"\",F648,E649/MAX($E$9:E649)-1)))","v":-0.16742782685203428}]
[null,"2020-06-16",-9.7325607751999996,186.87045762,180.33088744,{"$f":"IF(B650=\"\",\"\",IF(C650=\"\",F649,IF(E650=\"\",F649,E650/MAX($E$9:E650)-1)))","v":-0.16067380743123105}]
[null,"2020-06-17",-9.7325607751999996,190.80167868999999,184.12453461000001,{"$f":"IF(B651=\"\",\"\",IF(C651=\"\",F650,IF(E651=\"\",F650,E651/MAX($E$9:E651)-1)))","v":-0.14301677995054052}]
[null,"2020-06-18",-9.7325607751999996,192.21581058000001,185.48917867,{"$f":"IF(B652=\"\",\"\",IF(C652=\"\",F651,IF(E652=\"\",F651,E652/MAX($E$9:E652)-1)))","v":-0.13666522520941238}]
[null,"2020-06-19",-9.7325607751999996,191.48299286,184.78200605000001,{"$f":"IF(B653=\"\",\"\",IF(C653=\"\",F652,IF(E653=\"\",F652,E653/MAX($E$9:E653)-1)))","v":-0.1399566663544074}]
[null,"2020-06-22",-9.7325607751999996,192.71163222999999,185.96764894,{"$f":"IF(B654=\"\",\"\",IF(C654=\"\",F653,IF(E654=\"\",F653,E654/MAX($E$9:E654)-1)))","v":-0.13443824881242616}]
[null,"2020-06-23",-9.7325607751999996,194.6322543,187.82105844,{"$f":"IF(B655=\"\",\"\",IF(C655=\"\",F654,IF(E655=\"\",F654,E655/MAX($E$9:E655)-1)))","v":-0.12581180017132265}]
[null,"2020-06-24",-9.7325607751999996,190.8801617,184.20027110000001,{"$f":"IF(B656=\"\",\"\",IF(C656=\"\",F655,IF(E656=\"\",F655,E656/MAX($E$9:E656)-1)))","v":-0.14266427450517483}]
[null,"2020-06-25",-9.7325607751999996,198.52107808,191.57379202999999,{"$f":"IF(B657=\"\",\"\",IF(C657=\"\",F656,IF(E657=\"\",F656,E657/MAX($E$9:E657)-1)))","v":-0.10834519952107291}]
[null,"2020-06-26",-9.7325607751999996,197.73098390000001,190.81134736000001,{"$f":"IF(B658=\"\",\"\",IF(C658=\"\",F657,IF(E658=\"\",F657,E658/MAX($E$9:E658)-1)))","v":-0.11189389709030295}]
[null,"2020-06-29",-9.7325607751999996,200.95106113,193.91873731999999,{"$f":"IF(B659=\"\",\"\",IF(C659=\"\",F658,IF(E659=\"\",F658,E659/MAX($E$9:E659)-1)))","v":-9.7430962753438655E-2}]
[null,"2020-06-30",-9.7325607751999996,200.33620148,193.32539482000001,{"$f":"IF(B660=\"\",\"\",IF(C660=\"\",F659,IF(E660=\"\",F659,E660/MAX($E$9:E660)-1)))","v":-0.10019259670580249}]
[null,"2020-07-01",-9.7325607751999996,204.81417580999999,197.64666151,{"$f":"IF(B661=\"\",\"\",IF(C661=\"\",F660,IF(E661=\"\",F660,E661/MAX($E$9:E661)-1)))","v":-8.0079834164229036E-2}]
[null,"2020-07-02",-9.7325607751999996,206.49098278,199.26478827,{"$f":"IF(B662=\"\",\"\",IF(C662=\"\",F661,IF(E662=\"\",F661,E662/MAX($E$9:E662)-1)))","v":-7.2548477823422886E-2}]
[null,"2020-07-03",-9.7325607751999996,207.29112043999999,200.03692495000001,{"$f":"IF(B663=\"\",\"\",IF(C663=\"\",F662,IF(E663=\"\",F662,E663/MAX($E$9:E663)-1)))","v":-6.8954670079407143E-2}]
[null,"2020-07-06",-9.7325607751999996,210.56271494999999,203.19402933999999,{"$f":"IF(B664=\"\",\"\",IF(C664=\"\",F663,IF(E664=\"\",F663,E664/MAX($E$9:E664)-1)))","v":-5.4260346523313796E-2}]
[null,"2020-07-07",-9.7325607751999996,209.59166572000001,202.25696217000001,{"$f":"IF(B665=\"\",\"\",IF(C665=\"\",F664,IF(E665=\"\",F664,E665/MAX($E$9:E665)-1)))","v":-5.8621801353058056E-2}]
[null,"2020-07-08",-9.7325607751999996,212.85294311000001,205.40411048999999,{"$f":"IF(B666=\"\",\"\",IF(C666=\"\",F665,IF(E666=\"\",F665,E666/MAX($E$9:E666)-1)))","v":-4.3973817003989391E-2}]
[null,"2020-07-09",-9.7325607751999996,211.34536943000001,203.94929465999999,{"$f":"IF(B667=\"\",\"\",IF(C667=\"\",F666,IF(E667=\"\",F666,E667/MAX($E$9:E667)-1)))","v":-5.0745064286233044E-2}]
[null,"2020-07-10",-9.7325607751999996,214.84416465999999,207.32564883000001,{"$f":"IF(B668=\"\",\"\",IF(C668=\"\",F667,IF(E668=\"\",F667,E668/MAX($E$9:E668)-1)))","v":-3.5030271715200567E-2}]
[null,"2020-07-13",-9.7325607751999996,215.21601946999999,207.68449050999999,{"$f":"IF(B669=\"\",\"\",IF(C669=\"\",F668,IF(E669=\"\",F668,E669/MAX($E$9:E669)-1)))","v":-3.3360090720225055E-2}]
[null,"2020-07-14",-9.7325607751999996,218.19868707000001,210.56277904000001,{"$f":"IF(B670=\"\",\"\",IF(C670=\"\",F669,IF(E670=\"\",F669,E670/MAX($E$9:E670)-1)))","v":-1.9963478596286555E-2}]
[null,"2020-07-15",-9.7325607751999996,219.87805220999999,212.18337445,{"$f":"IF(B671=\"\",\"\",IF(C671=\"\",F670,IF(E671=\"\",F670,E671/MAX($E$9:E671)-1)))","v":-1.24206322515511E-2}]
[null,"2020-07-16",-9.7325607751999996,218.40328862000001,210.76022051000001,{"$f":"IF(B672=\"\",\"\",IF(C672=\"\",F671,IF(E672=\"\",F671,E672/MAX($E$9:E672)-1)))","v":-1.9044513467113E-2}]
[null,"2020-07-17",-47.304541415999999,223.99502601,216.15627391000001,{"$f":"IF(B673=\"\",\"\",IF(C673=\"\",F672,IF(E673=\"\",F672,E673/MAX($E$9:E673)-1)))","v":0}]
[null,"2020-07-20",-47.304541415999999,227.86491697,219.89073723000001,{"$f":"IF(B674=\"\",\"\",IF(C674=\"\",F673,IF(E674=\"\",F673,E674/MAX($E$9:E674)-1)))","v":0}]
[null,"2020-07-21",-47.304541415999999,228.04417548999999,220.06372256,{"$f":"IF(B675=\"\",\"\",IF(C675=\"\",F674,IF(E675=\"\",F674,E675/MAX($E$9:E675)-1)))","v":0}]
[null,"2020-07-22",-47.304541415999999,237.25710144000001,228.95424027000001,{"$f":"IF(B676=\"\",\"\",IF(C676=\"\",F675,IF(E676=\"\",F675,E676/MAX($E$9:E676)-1)))","v":0}]
[null,"2020-07-23",-47.304541415999999,233.35039186,225.18424679,{"$f":"IF(B677=\"\",\"\",IF(C677=\"\",F676,IF(E677=\"\",F676,E677/MAX($E$9:E677)-1)))","v":-1.6466143957649115E-2}]
[null,"2020-07-24",-47.304541415999999,232.9825721,224.82929895999999,{"$f":"IF(B678=\"\",\"\",IF(C678=\"\",F677,IF(E678=\"\",F677,E678/MAX($E$9:E678)-1)))","v":-1.8016444269106313E-2}]
[null,"2020-07-27",-47.304541415999999,241.61550115,233.16011689000001,{"$f":"IF(B679=\"\",\"\",IF(C679=\"\",F678,IF(E679=\"\",F678,E679/MAX($E$9:E679)-1)))","v":0}]
[null,"2020-07-28",-47.304541415999999,237.06234386,228.76629826999999,{"$f":"IF(B680=\"\",\"\",IF(C680=\"\",F679,IF(E680=\"\",F679,E680/MAX($E$9:E680)-1)))","v":-1.8844640664136048E-2}]
[null,"2020-07-29",-47.304541415999999,241.48510166,233.03428074999999,{"$f":"IF(B681=\"\",\"\",IF(C681=\"\",F680,IF(E681=\"\",F680,E681/MAX($E$9:E681)-1)))","v":-5.3969839129641706E-4}]
[null,"2020-07-30",-47.304541415999999,241.93045438999999,233.46404827000001,{"$f":"IF(B682=\"\",\"\",IF(C682=\"\",F681,IF(E682=\"\",F681,E682/MAX($E$9:E682)-1)))","v":0}]
[null,"2020-07-31",-47.304541415999999,240.08574727999999,231.68389705999999,{"$f":"IF(B683=\"\",\"\",IF(C683=\"\",F682,IF(E683=\"\",F682,E683/MAX($E$9:E683)-1)))","v":-7.624947923207781E-3}]
[null,"2020-08-03",-47.304541415999999,239.74431150999999,231.35440990999999,{"$f":"IF(B684=\"\",\"\",IF(C684=\"\",F683,IF(E684=\"\",F683,E684/MAX($E$9:E684)-1)))","v":-9.0362450905513425E-3}]
[null,"2020-08-04",-47.304541415999999,236.86081573999999,228.57182266999999,{"$f":"IF(B685=\"\",\"\",IF(C685=\"\",F684,IF(E685=\"\",F684,E685/MAX($E$9:E685)-1)))","v":-2.0954942040335878E-2}]
[null,"2020-08-05",-47.304541415999999,244.47336007999999,235.91796445,{"$f":"IF(B686=\"\",\"\",IF(C686=\"\",F685,IF(E686=\"\",F685,E686/MAX($E$9:E686)-1)))","v":0}]
[null,"2020-08-06",-47.304541415999999,247.60723431,238.9421681,{"$f":"IF(B687=\"\",\"\",IF(C687=\"\",F686,IF(E687=\"\",F686,E687/MAX($E$9:E687)-1)))","v":0}]
[null,"2020-08-07",-47.304541415999999,245.88030173999999,237.27566988999999,{"$f":"IF(B688=\"\",\"\",IF(C688=\"\",F687,IF(E688=\"\",F687,E688/MAX($E$9:E688)-1)))","v":-6.9744835047389486E-3}]
[null,"2020-08-10",-47.304541415999999,248.75115772999999,240.04605968999999,{"$f":"IF(B689=\"\",\"\",IF(C689=\"\",F688,IF(E689=\"\",F688,E689/MAX($E$9:E689)-1)))","v":0}]
[null,"2020-08-11",-47.304541415999999,241.94032493,233.47357339000001,{"$f":"IF(B690=\"\",\"\",IF(C690=\"\",F689,IF(E690=\"\",F689,E690/MAX($E$9:E690)-1)))","v":-2.7380104920229908E-2}]
[null,"2020-08-12",-47.304541415999999,243.4309117,234.91199677,{"$f":"IF(B691=\"\",\"\",IF(C691=\"\",F690,IF(E691=\"\",F690,E691/MAX($E$9:E691)-1)))","v":-2.1387824181035131E-2}]
[null,"2020-08-13",-47.304541415999999,243.58163242000001,235.05744297999999,{"$f":"IF(B692=\"\",\"\",IF(C692=\"\",F691,IF(E692=\"\",F691,E692/MAX($E$9:E692)-1)))","v":-2.0781914589401707E-2}]
[null,"2020-08-14",-47.304541415999999,242.43842441999999,233.95424177999999,{"$f":"IF(B693=\"\",\"\",IF(C693=\"\",F692,IF(E693=\"\",F692,E693/MAX($E$9:E693)-1)))","v":-2.5377704253371602E-2}]
[null,"2020-08-17",-47.304541415999999,237.29930967000001,228.99497141000001,{"$f":"IF(B694=\"\",\"\",IF(C694=\"\",F693,IF(E694=\"\",F693,E694/MAX($E$9:E694)-1)))","v":-4.6037365888328186E-2}]
[null,"2020-08-18",-47.304541415999999,242.77957006,234.28344895999999,{"$f":"IF(B695=\"\",\"\",IF(C695=\"\",F694,IF(E695=\"\",F694,E695/MAX($E$9:E695)-1)))","v":-2.4006270869190494E-2}]
[null,"2020-08-19",-47.304541415999999,241.23668642000001,232.79455884999999,{"$f":"IF(B696=\"\",\"\",IF(C696=\"\",F695,IF(E696=\"\",F695,E696/MAX($E$9:E696)-1)))","v":-3.0208789302206163E-2}]
[null,"2020-08-20",-47.304541415999999,243.76462642999999,235.23403307999999,{"$f":"IF(B697=\"\",\"\",IF(C697=\"\",F696,IF(E697=\"\",F696,E697/MAX($E$9:E697)-1)))","v":-2.0046263688786814E-2}]
[null,"2020-08-21",-47.304541415999999,244.26619632000001,235.71805043000001,{"$f":"IF(B698=\"\",\"\",IF(C698=\"\",F697,IF(E698=\"\",F697,E698/MAX($E$9:E698)-1)))","v":-1.8029911699401602E-2}]
[null,"2020-08-24",-47.304541415999999,243.20315957,234.69221486999999,{"$f":"IF(B699=\"\",\"\",IF(C699=\"\",F698,IF(E699=\"\",F698,E699/MAX($E$9:E699)-1)))","v":-2.2303406383400226E-2}]
[null,"2020-08-25",-47.304541415999999,243.86589774000001,235.33176037999999,{"$f":"IF(B700=\"\",\"\",IF(C700=\"\",F699,IF(E700=\"\",F699,E700/MAX($E$9:E700)-1)))","v":-1.9639144737839676E-2}]
[null,"2020-08-26",-47.304541415999999,239.72013018999999,231.33107482,{"$f":"IF(B701=\"\",\"\",IF(C701=\"\",F700,IF(E701=\"\",F700,E701/MAX($E$9:E701)-1)))","v":-3.6305469380562561E-2}]
[null,"2020-08-27",-47.304541415999999,242.07868171000001,233.60708835,{"$f":"IF(B702=\"\",\"\",IF(C702=\"\",F701,IF(E702=\"\",F701,E702/MAX($E$9:E702)-1)))","v":-2.6823899331300805E-2}]
[null,"2020-08-28",-47.304541415999999,243.10947784000001,234.60181155000001,{"$f":"IF(B703=\"\",\"\",IF(C703=\"\",F702,IF(E703=\"\",F702,E703/MAX($E$9:E703)-1)))","v":-2.2680014606491716E-2}]
[null,"2020-08-31",-47.304541415999999,237.62900053000001,229.31312467000001,{"$f":"IF(B704=\"\",\"\",IF(C704=\"\",F703,IF(E704=\"\",F703,E704/MAX($E$9:E704)-1)))","v":-4.4711981666604728E-2}]
[null,"2020-09-01",-47.304541415999999,244.73131678999999,236.16689391,{"$f":"IF(B705=\"\",\"\",IF(C705=\"\",F704,IF(E705=\"\",F704,E705/MAX($E$9:E705)-1)))","v":-1.6160089380386489E-2}]
[null,"2020-09-02",-47.304541415999999,246.65159793000001,238.01997442000001,{"$f":"IF(B706=\"\",\"\",IF(C706=\"\",F705,IF(E706=\"\",F705,E706/MAX($E$9:E706)-1)))","v":-8.4404021153960951E-3}]
[null,"2020-09-03",-47.304541415999999,238.86998317000001,230.51067886999999,{"$f":"IF(B707=\"\",\"\",IF(C707=\"\",F706,IF(E707=\"\",F706,E707/MAX($E$9:E707)-1)))","v":-3.9723129937288548E-2}]
[null,"2020-09-04",-47.304541415999999,239.03891390000001,230.67369783999999,{"$f":"IF(B708=\"\",\"\",IF(C708=\"\",F707,IF(E708=\"\",F707,E708/MAX($E$9:E708)-1)))","v":-3.9044014561637197E-2}]
[null,"2020-09-07",null,null,null,{"$f":"IF(B709=\"\",\"\",IF(C709=\"\",F708,IF(E709=\"\",F708,E709/MAX($E$9:E709)-1)))","v":-3.9044014561637197E-2}]
[null,"2020-09-08",-47.304541415999999,232.535079,224.39746597999999,{"$f":"IF(B710=\"\",\"\",IF(C710=\"\",F709,IF(E710=\"\",F709,E710/MAX($E$9:E710)-1)))","v":-6.5189962835502824E-2}]
[null,"2020-09-09",-47.304541415999999,235.41279034999999,227.17447122999999,{"$f":"IF(B711=\"\",\"\",IF(C711=\"\",F710,IF(E711=\"\",F710,E711/MAX($E$9:E711)-1)))","v":-5.3621327826095633E-2}]
[null,"2020-09-10",-47.304541415999999,228.74395054999999,220.73900885,{"$f":"IF(B712=\"\",\"\",IF(C712=\"\",F711,IF(E712=\"\",F711,E712/MAX($E$9:E712)-1)))","v":-8.0430609296122113E-2}]
[null,"2020-09-11",-47.304541415999999,229.22814069,221.20625465000001,{"$f":"IF(B713=\"\",\"\",IF(C713=\"\",F712,IF(E713=\"\",F712,E713/MAX($E$9:E713)-1)))","v":-7.8484125356317325E-2}]
[null,"2020-09-14",-47.304541415999999,233.08415783999999,224.92732968999999,{"$f":"IF(B714=\"\",\"\",IF(C714=\"\",F713,IF(E714=\"\",F713,E714/MAX($E$9:E714)-1)))","v":-6.2982621000005623E-2}]
[null,"2020-09-15",-47.304541415999999,233.69420181999999,225.51602506,{"$f":"IF(B715=\"\",\"\",IF(C715=\"\",F714,IF(E715=\"\",F714,E715/MAX($E$9:E715)-1)))","v":-6.0530194283398564E-2}]
[null,"2020-09-16",-47.304541415999999,230.78561406,222.70922392,{"$f":"IF(B716=\"\",\"\",IF(C716=\"\",F715,IF(E716=\"\",F715,E716/MAX($E$9:E716)-1)))","v":-7.2222955012838375E-2}]
[null,"2020-09-17",-47.304541415999999,231.29196103999999,223.19785117999999,{"$f":"IF(B717=\"\",\"\",IF(C717=\"\",F716,IF(E717=\"\",F716,E717/MAX($E$9:E717)-1)))","v":-7.0187398750715224E-2}]
[null,"2020-09-18",-47.304541415999999,225.84997473000001,217.9463083,{"$f":"IF(B718=\"\",\"\",IF(C718=\"\",F717,IF(E718=\"\",F717,E718/MAX($E$9:E718)-1)))","v":-9.2064628840565099E-2}]
[null,"2020-09-21",-47.304541415999999,223.36776713,215.55096607999999,{"$f":"IF(B719=\"\",\"\",IF(C719=\"\",F718,IF(E719=\"\",F718,E719/MAX($E$9:E719)-1)))","v":-0.10204330636225989}]
[null,"2020-09-22",-47.304541415999999,225.05135086000001,217.17563243999999,{"$f":"IF(B720=\"\",\"\",IF(C720=\"\",F719,IF(E720=\"\",F719,E720/MAX($E$9:E720)-1)))","v":-9.5275162106536193E-2}]
[null,"2020-09-23",-47.304541415999999,221.42094061,213.67226915000001,{"$f":"IF(B721=\"\",\"\",IF(C721=\"\",F720,IF(E721=\"\",F720,E721/MAX($E$9:E721)-1)))","v":-0.10986970823041042}]
[null,"2020-09-24",-47.304541415999999,225.97758486000001,218.0694527,{"$f":"IF(B722=\"\",\"\",IF(C722=\"\",F721,IF(E722=\"\",F721,E722/MAX($E$9:E722)-1)))","v":-9.1551625627102506E-2}]
[null,"2020-09-25",-47.304541415999999,224.84514350000001,216.97664134999999,{"$f":"IF(B723=\"\",\"\",IF(C723=\"\",F722,IF(E723=\"\",F722,E723/MAX($E$9:E723)-1)))","v":-9.6104132556028121E-2}]
[null,"2020-09-28",-47.304541415999999,221.72096687000001,213.96179592999999,{"$f":"IF(B724=\"\",\"\",IF(C724=\"\",F723,IF(E724=\"\",F723,E724/MAX($E$9:E724)-1)))","v":-0.10866357812198923}]
[null,"2020-09-29",-47.304541415999999,222.37655247000001,214.59443917999999,{"$f":"IF(B725=\"\",\"\",IF(C725=\"\",F724,IF(E725=\"\",F724,E725/MAX($E$9:E725)-1)))","v":-0.10602807037478013}]
[null,"2020-09-30",-47.304541415999999,225.84460476000001,217.94112626,{"$f":"IF(B726=\"\",\"\",IF(C726=\"\",F725,IF(E726=\"\",F725,E726/MAX($E$9:E726)-1)))","v":-9.2086216530888776E-2}]
[null,"2020-10-01",-47.304541415999999,230.22684337000001,222.17000752999999,{"$f":"IF(B727=\"\",\"\",IF(C727=\"\",F726,IF(E727=\"\",F726,E727/MAX($E$9:E727)-1)))","v":-7.4469258870924482E-2}]
[null,"2020-10-02",-47.304541415999999,228.37030820999999,220.37844219999999,{"$f":"IF(B728=\"\",\"\",IF(C728=\"\",F727,IF(E728=\"\",F727,E728/MAX($E$9:E728)-1)))","v":-8.1932682066929718E-2}]
[null,"2020-10-05",-47.304541415999999,235.06473274000001,226.83859396,{"$f":"IF(B729=\"\",\"\",IF(C729=\"\",F728,IF(E729=\"\",F728,E729/MAX($E$9:E729)-1)))","v":-5.502054791924671E-2}]
[null,"2020-10-06",-47.304541415999999,237.00675974999999,228.71265933999999,{"$f":"IF(B730=\"\",\"\",IF(C730=\"\",F729,IF(E730=\"\",F729,E730/MAX($E$9:E730)-1)))","v":-4.7213440473199864E-2}]
[null,"2020-10-07",-47.304541415999999,240.82386460999999,232.39618383000001,{"$f":"IF(B731=\"\",\"\",IF(C731=\"\",F730,IF(E731=\"\",F730,E731/MAX($E$9:E731)-1)))","v":-3.1868366720450125E-2}]
[null,"2020-10-08",-47.304541415999999,244.28725428999999,235.73837147,{"$f":"IF(B732=\"\",\"\",IF(C732=\"\",F731,IF(E732=\"\",F731,E732/MAX($E$9:E732)-1)))","v":-1.7945256945950394E-2}]
[null,"2020-10-09",-47.304541415999999,246.42582876,237.80210609,{"$f":"IF(B733=\"\",\"\",IF(C733=\"\",F732,IF(E733=\"\",F732,E733/MAX($E$9:E733)-1)))","v":-9.3480126393155061E-3}]
[null,"2020-10-12",null,null,null,{"$f":"IF(B734=\"\",\"\",IF(C734=\"\",F733,IF(E734=\"\",F733,E734/MAX($E$9:E734)-1)))","v":-9.3480126393155061E-3}]
[null,"2020-10-13",-47.304541415999999,250.18413387000001,241.42888852999999,{"$f":"IF(B735=\"\",\"\",IF(C735=\"\",F734,IF(E735=\"\",F734,E735/MAX($E$9:E735)-1)))","v":0}]
[null,"2020-10-14",-47.304541415999999,254.47289438000001,245.56756297999999,{"$f":"IF(B736=\"\",\"\",IF(C736=\"\",F735,IF(E736=\"\",F735,E736/MAX($E$9:E736)-1)))","v":0}]
[null,"2020-10-15",-47.304541415999999,252.93076976,244.07940532999999,{"$f":"IF(B737=\"\",\"\",IF(C737=\"\",F736,IF(E737=\"\",F736,E737/MAX($E$9:E737)-1)))","v":-6.0600741887120169E-3}]
[null,"2020-10-16",-47.304541415999999,252.68026305999999,243.83766516,{"$f":"IF(B738=\"\",\"\",IF(C738=\"\",F737,IF(E738=\"\",F737,E738/MAX($E$9:E738)-1)))","v":-7.0444882826030675E-3}]
[null,"2020-10-19",-47.304541415999999,252.39147929000001,243.55898744999999,{"$f":"IF(B739=\"\",\"\",IF(C739=\"\",F738,IF(E739=\"\",F738,E739/MAX($E$9:E739)-1)))","v":-8.1793193922912177E-3}]
[null,"2020-10-20",-47.304541415999999,255.47694274,246.53647447,{"$f":"IF(B740=\"\",\"\",IF(C740=\"\",F739,IF(E740=\"\",F739,E740/MAX($E$9:E740)-1)))","v":0}]
[null,"2020-10-21",-47.304541415999999,252.00252782000001,243.18364740999999,{"$f":"IF(B741=\"\",\"\",IF(C741=\"\",F740,IF(E741=\"\",F740,E741/MAX($E$9:E741)-1)))","v":-1.3599720151786343E-2}]
[null,"2020-10-22",-47.304541415999999,258.33253702000002,249.29213664,{"$f":"IF(B742=\"\",\"\",IF(C742=\"\",F741,IF(E742=\"\",F741,E742/MAX($E$9:E742)-1)))","v":0}]
[null,"2020-10-23",-47.304541415999999,256.32031469999998,247.35033245,{"$f":"IF(B743=\"\",\"\",IF(C743=\"\",F742,IF(E743=\"\",F742,E743/MAX($E$9:E743)-1)))","v":-7.7892717202072692E-3}]
[null,"2020-10-26",-47.304541415999999,254.36813172999999,245.46646652999999,{"$f":"IF(B744=\"\",\"\",IF(C744=\"\",F743,IF(E744=\"\",F743,E744/MAX($E$9:E744)-1)))","v":-1.5346132299088988E-2}]
[null,"2020-10-27",-47.304541415999999,252.47242724,243.63710259999999,{"$f":"IF(B745=\"\",\"\",IF(C745=\"\",F744,IF(E745=\"\",F744,E745/MAX($E$9:E745)-1)))","v":-2.2684365885821678E-2}]
[null,"2020-10-28",-47.304541415999999,240.64401896000001,232.22263190999999,{"$f":"IF(B746=\"\",\"\",IF(C746=\"\",F745,IF(E746=\"\",F745,E746/MAX($E$9:E746)-1)))","v":-6.8471893899525127E-2}]
[null,"2020-10-29",-47.304541415999999,242.97712247000001,234.47408798000001,{"$f":"IF(B747=\"\",\"\",IF(C747=\"\",F746,IF(E747=\"\",F746,E747/MAX($E$9:E747)-1)))","v":-5.9440497641522372E-2}]
[null,"2020-10-30",-47.304541415999999,232.88329668,224.73349769999999,{"$f":"IF(B748=\"\",\"\",IF(C748=\"\",F747,IF(E748=\"\",F747,E748/MAX($E$9:E748)-1)))","v":-9.8513492126167113E-2}]
[null,"2020-11-02",null,null,null,{"$f":"IF(B749=\"\",\"\",IF(C749=\"\",F748,IF(E749=\"\",F748,E749/MAX($E$9:E749)-1)))","v":-9.8513492126167113E-2}]
[null,"2020-11-03",-47.304541415999999,238.32942983000001,229.98904231,{"$f":"IF(B750=\"\",\"\",IF(C750=\"\",F749,IF(E750=\"\",F749,E750/MAX($E$9:E750)-1)))","v":-7.7431621350637969E-2}]
[null,"2020-11-04",-47.304541415999999,245.78756573999999,237.18617921000001,{"$f":"IF(B751=\"\",\"\",IF(C751=\"\",F750,IF(E751=\"\",F750,E751/MAX($E$9:E751)-1)))","v":-4.8561328861656317E-2}]
[null,"2020-11-05",-47.304541415999999,254.84687220999999,245.92845338000001,{"$f":"IF(B752=\"\",\"\",IF(C752=\"\",F751,IF(E752=\"\",F751,E752/MAX($E$9:E752)-1)))","v":-1.3492937664766558E-2}]
[null,"2020-11-06",-47.304541415999999,256.39902968000001,247.42629278999999,{"$f":"IF(B753=\"\",\"\",IF(C753=\"\",F752,IF(E753=\"\",F752,E753/MAX($E$9:E753)-1)))","v":-7.4845676046911835E-3}]
[null,"2020-11-09",-47.304541415999999,255.88441452000001,246.92968669000001,{"$f":"IF(B754=\"\",\"\",IF(C754=\"\",F753,IF(E754=\"\",F753,E754/MAX($E$9:E754)-1)))","v":-9.4766324435318072E-3}]
[null,"2020-11-10",-47.304541415999999,250.95455763000001,242.17235115,{"$f":"IF(B755=\"\",\"\",IF(C755=\"\",F754,IF(E755=\"\",F754,E755/MAX($E$9:E755)-1)))","v":-2.8560008293729733E-2}]
[null,"2020-11-11",-47.304541415999999,251.02391692,242.23928319999999,{"$f":"IF(B756=\"\",\"\",IF(C756=\"\",F755,IF(E756=\"\",F755,E756/MAX($E$9:E756)-1)))","v":-2.829151988129075E-2}]
[null,"2020-11-12",-47.304541415999999,249.6072374,240.87218067000001,{"$f":"IF(B757=\"\",\"\",IF(C757=\"\",F756,IF(E757=\"\",F756,E757/MAX($E$9:E757)-1)))","v":-3.3775457515369478E-2}]
[null,"2020-11-13",-47.304541415999999,259.55324818000003,250.47012875999999,{"$f":"IF(B758=\"\",\"\",IF(C758=\"\",F757,IF(E758=\"\",F757,E758/MAX($E$9:E758)-1)))","v":0}]
[null,"2020-11-16",-47.304541415999999,260.62660065,251.50591904000001,{"$f":"IF(B759=\"\",\"\",IF(C759=\"\",F758,IF(E759=\"\",F758,E759/MAX($E$9:E759)-1)))","v":0}]
[null,"2020-11-17",-47.304541415999999,262.44119723,253.25701343,{"$f":"IF(B760=\"\",\"\",IF(C760=\"\",F759,IF(E760=\"\",F759,E760/MAX($E$9:E760)-1)))","v":0}]
[null,"2020-11-18",-47.304541415999999,261.22772268,252.08600466999999,{"$f":"IF(B761=\"\",\"\",IF(C761=\"\",F760,IF(E761=\"\",F760,E761/MAX($E$9:E761)-1)))","v":-4.6237959776133097E-3}]
[null,"2020-11-19",-47.304541415999999,270.05399736999999,260.60340207000002,{"$f":"IF(B762=\"\",\"\",IF(C762=\"\",F761,IF(E762=\"\",F761,E762/MAX($E$9:E762)-1)))","v":0}]
[null,"2020-11-20",-47.304541415999999,269.11573528000002,259.69797464999999,{"$f":"IF(B763=\"\",\"\",IF(C763=\"\",F762,IF(E763=\"\",F762,E763/MAX($E$9:E763)-1)))","v":-3.474349961697043E-3}]
[null,"2020-11-23",-47.304541415999999,271.80882114000002,262.29681541999997,{"$f":"IF(B764=\"\",\"\",IF(C764=\"\",F763,IF(E764=\"\",F763,E764/MAX($E$9:E764)-1)))","v":0}]
[null,"2020-11-24",-47.304541415999999,273.58712852999997,264.01289057000002,{"$f":"IF(B765=\"\",\"\",IF(C765=\"\",F764,IF(E765=\"\",F764,E765/MAX($E$9:E765)-1)))","v":0}]
[null,"2020-11-25",-47.304541415999999,277.75898505999999,268.03875212000003,{"$f":"IF(B766=\"\",\"\",IF(C766=\"\",F765,IF(E766=\"\",F765,E766/MAX($E$9:E766)-1)))","v":0}]
[null,"2020-11-26",-47.304541415999999,281.11348434000001,271.27586000999997,{"$f":"IF(B767=\"\",\"\",IF(C767=\"\",F766,IF(E767=\"\",F766,E767/MAX($E$9:E767)-1)))","v":0}]
[null,"2020-11-27",-47.304541415999999,283.23446517000002,273.32261668000001,{"$f":"IF(B768=\"\",\"\",IF(C768=\"\",F767,IF(E768=\"\",F767,E768/MAX($E$9:E768)-1)))","v":0}]
[null,"2020-11-30",-47.304541415999999,278.41411763999997,268.67095819999997,{"$f":"IF(B769=\"\",\"\",IF(C769=\"\",F768,IF(E769=\"\",F768,E769/MAX($E$9:E769)-1)))","v":-1.7018929997461907E-2}]
[null,"2020-12-01",-47.304541415999999,287.17417955000002,277.12445994000001,{"$f":"IF(B770=\"\",\"\",IF(C770=\"\",F769,IF(E770=\"\",F769,E770/MAX($E$9:E770)-1)))","v":0}]
[null,"2020-12-02",-47.304541415999999,283.22080095000001,273.30943064000002,{"$f":"IF(B771=\"\",\"\",IF(C771=\"\",F770,IF(E771=\"\",F770,E771/MAX($E$9:E771)-1)))","v":-1.3766483481198244E-2}]
[null,"2020-12-03",-47.304541415999999,287.17516776999997,277.12541357999999,{"$f":"IF(B772=\"\",\"\",IF(C772=\"\",F771,IF(E772=\"\",F771,E772/MAX($E$9:E772)-1)))","v":0}]
[null,"2020-12-04",-47.304541415999999,290.32586868999999,280.16585507000002,{"$f":"IF(B773=\"\",\"\",IF(C773=\"\",F772,IF(E773=\"\",F772,E773/MAX($E$9:E773)-1)))","v":0}]
[null,"2020-12-07",-47.304541415999999,288.72303138000001,278.61910938,{"$f":"IF(B774=\"\",\"\",IF(C774=\"\",F773,IF(E774=\"\",F773,E774/MAX($E$9:E774)-1)))","v":-5.5208215491269197E-3}]
[null,"2020-12-08",-47.304541415999999,288.99818205999998,278.88463110999999,{"$f":"IF(B775=\"\",\"\",IF(C775=\"\",F774,IF(E775=\"\",F774,E775/MAX($E$9:E775)-1)))","v":-4.5730910345228581E-3}]
[null,"2020-12-09",-47.304541415999999,287.59948616000003,277.53488285999998,{"$f":"IF(B776=\"\",\"\",IF(C776=\"\",F775,IF(E776=\"\",F775,E776/MAX($E$9:E776)-1)))","v":-9.3907667989829857E-3}]
[null,"2020-12-10",-47.304541415999999,293.29488859999998,283.03097351000002,{"$f":"IF(B777=\"\",\"\",IF(C777=\"\",F776,IF(E777=\"\",F776,E777/MAX($E$9:E777)-1)))","v":0}]
[null,"2020-12-11",-47.304541415999999,295.04491480000002,284.71975719,{"$f":"IF(B778=\"\",\"\",IF(C778=\"\",F777,IF(E778=\"\",F777,E778/MAX($E$9:E778)-1)))","v":0}]
[null,"2020-12-14",-47.304541415999999,294.21751108000001,283.92130864000001,{"$f":"IF(B779=\"\",\"\",IF(C779=\"\",F778,IF(E779=\"\",F778,E779/MAX($E$9:E779)-1)))","v":-2.8043313814263282E-3}]
[null,"2020-12-15",-47.304541415999999,299.60200235999997,289.11736853000002,{"$f":"IF(B780=\"\",\"\",IF(C780=\"\",F779,IF(E780=\"\",F779,E780/MAX($E$9:E780)-1)))","v":0}]
[null,"2020-12-16",-47.304541415999999,304.33831235000002,293.68793038000001,{"$f":"IF(B781=\"\",\"\",IF(C781=\"\",F780,IF(E781=\"\",F780,E781/MAX($E$9:E781)-1)))","v":0}]
[null,"2020-12-17",-47.304541415999999,311.70335484999998,300.79523169999999,{"$f":"IF(B782=\"\",\"\",IF(C782=\"\",F781,IF(E782=\"\",F781,E782/MAX($E$9:E782)-1)))","v":0}]
[null,"2020-12-18",-47.304541415999999,306.52488212999998,295.79798068999997,{"$f":"IF(B783=\"\",\"\",IF(C783=\"\",F782,IF(E783=\"\",F782,E783/MAX($E$9:E783)-1)))","v":-1.6613464853671767E-2}]
[null,"2020-12-21",-47.304541415999999,305.16037203000002,294.48122190999999,{"$f":"IF(B784=\"\",\"\",IF(C784=\"\",F783,IF(E784=\"\",F783,E784/MAX($E$9:E784)-1)))","v":-2.0991056787420526E-2}]
[null,"2020-12-22",-47.304541415999999,310.18740429000002,299.33233213,{"$f":"IF(B785=\"\",\"\",IF(C785=\"\",F784,IF(E785=\"\",F784,E785/MAX($E$9:E785)-1)))","v":-4.8634400277296486E-3}]
[null,"2020-12-23",-47.304541415999999,314.91485442999999,303.89434419000003,{"$f":"IF(B786=\"\",\"\",IF(C786=\"\",F785,IF(E786=\"\",F785,E786/MAX($E$9:E786)-1)))","v":0}]
[null,"2020-12-24",null,null,null,{"$f":"IF(B787=\"\",\"\",IF(C787=\"\",F786,IF(E787=\"\",F786,E787/MAX($E$9:E787)-1)))","v":0}]
[null,"2020-12-25",null,null,null,{"$f":"IF(B788=\"\",\"\",IF(C788=\"\",F787,IF(E788=\"\",F787,E788/MAX($E$9:E788)-1)))","v":0}]
[null,"2020-12-28",-47.304541415999999,320.12643144999998,308.923541,{"$f":"IF(B789=\"\",\"\",IF(C789=\"\",F788,IF(E789=\"\",F788,E789/MAX($E$9:E789)-1)))","v":0}]
[null,"2020-12-29",-47.304541415999999,321.13203241000002,309.89395073999998,{"$f":"IF(B790=\"\",\"\",IF(C790=\"\",F789,IF(E790=\"\",F789,E790/MAX($E$9:E790)-1)))","v":0}]
[null,"2020-12-30",-47.304541415999999,321.24273985000002,310.00078395000003,{"$f":"IF(B791=\"\",\"\",IF(C791=\"\",F790,IF(E791=\"\",F790,E791/MAX($E$9:E791)-1)))","v":0}]
[null,"2020-12-31",null,null,null,{"$f":"IF(B792=\"\",\"\",IF(C792=\"\",F791,IF(E792=\"\",F791,E792/MAX($E$9:E792)-1)))","v":0}]
[null,"2021-01-01",null,null,null,{"$f":"IF(B793=\"\",\"\",IF(C793=\"\",F792,IF(E793=\"\",F792,E793/MAX($E$9:E793)-1)))","v":0}]
[null,"2021-01-04",-47.304541415999999,325.21556649000001,313.8345807,{"$f":"IF(B794=\"\",\"\",IF(C794=\"\",F793,IF(E794=\"\",F793,E794/MAX($E$9:E794)-1)))","v":0}]
[null,"2021-01-05",-47.304541415999999,328.70868151000002,317.20545343999999,{"$f":"IF(B795=\"\",\"\",IF(C795=\"\",F794,IF(E795=\"\",F794,E795/MAX($E$9:E795)-1)))","v":0}]
[null,"2021-01-06",-47.304541415999999,330.74628826000003,319.17175372999998,{"$f":"IF(B796=\"\",\"\",IF(C796=\"\",F795,IF(E796=\"\",F795,E796/MAX($E$9:E796)-1)))","v":0}]
[null,"2021-01-07",-47.304541415999999,344.78904605999998,332.72308232,{"$f":"IF(B797=\"\",\"\",IF(C797=\"\",F796,IF(E797=\"\",F796,E797/MAX($E$9:E797)-1)))","v":0}]
[null,"2021-01-08",-47.304541415999999,363.84286319,351.11010719000001,{"$f":"IF(B798=\"\",\"\",IF(C798=\"\",F797,IF(E798=\"\",F797,E798/MAX($E$9:E798)-1)))","v":0}]
[null,"2021-01-11",-47.304541415999999,366.78030546000002,353.94475305999998,{"$f":"IF(B799=\"\",\"\",IF(C799=\"\",F798,IF(E799=\"\",F798,E799/MAX($E$9:E799)-1)))","v":0}]
[null,"2021-01-12",-47.304541415999999,366.93970916000001,354.09857840000001,{"$f":"IF(B800=\"\",\"\",IF(C800=\"\",F799,IF(E800=\"\",F799,E800/MAX($E$9:E800)-1)))","v":0}]
[null,"2021-01-13",-47.304541415999999,366.60501412999997,353.77559609000002,{"$f":"IF(B801=\"\",\"\",IF(C801=\"\",F800,IF(E801=\"\",F800,E801/MAX($E$9:E801)-1)))","v":-9.1212540716600898E-4}]
[null,"2021-01-14",-47.304541415999999,370.15502819,357.20137668000001,{"$f":"IF(B802=\"\",\"\",IF(C802=\"\",F801,IF(E802=\"\",F801,E802/MAX($E$9:E802)-1)))","v":0}]
[null,"2021-01-15",-47.304541415999999,356.08102145999999,343.61989272,{"$f":"IF(B803=\"\",\"\",IF(C803=\"\",F802,IF(E803=\"\",F802,E803/MAX($E$9:E803)-1)))","v":-3.8021925016730962E-2}]
[null,"2021-01-18",-47.304541415999999,365.21368683999998,352.43295857999999,{"$f":"IF(B804=\"\",\"\",IF(C804=\"\",F803,IF(E804=\"\",F803,E804/MAX($E$9:E804)-1)))","v":-1.3349383320747421E-2}]
[null,"2021-01-19",-47.304541415999999,364.22134118000002,351.47534027,{"$f":"IF(B805=\"\",\"\",IF(C805=\"\",F804,IF(E805=\"\",F804,E805/MAX($E$9:E805)-1)))","v":-1.6030275311983755E-2}]
[null,"2021-01-20",-47.304541415999999,360.98802152000002,348.35517129999999,{"$f":"IF(B806=\"\",\"\",IF(C806=\"\",F805,IF(E806=\"\",F805,E806/MAX($E$9:E806)-1)))","v":-2.4765317150288957E-2}]
[null,"2021-01-21",-47.304541415999999,360.01603727000003,347.41720183000001,{"$f":"IF(B807=\"\",\"\",IF(C807=\"\",F806,IF(E807=\"\",F806,E807/MAX($E$9:E807)-1)))","v":-2.7391201402801935E-2}]
[null,"2021-01-22",-47.304541415999999,359.05008917999999,346.48505729999999,{"$f":"IF(B808=\"\",\"\",IF(C808=\"\",F807,IF(E808=\"\",F807,E808/MAX($E$9:E808)-1)))","v":-3.0000778495319902E-2}]
[null,"2021-01-25",null,null,null,{"$f":"IF(B809=\"\",\"\",IF(C809=\"\",F808,IF(E809=\"\",F808,E809/MAX($E$9:E809)-1)))","v":-3.0000778495319902E-2}]
[null,"2021-01-26",-47.304541415999999,358.69720286,346.14452031000002,{"$f":"IF(B810=\"\",\"\",IF(C810=\"\",F809,IF(E810=\"\",F809,E810/MAX($E$9:E810)-1)))","v":-3.0954125856870074E-2}]
[null,"2021-01-27",-47.304541415999999,345.95438696000002,333.84764188000003,{"$f":"IF(B811=\"\",\"\",IF(C811=\"\",F810,IF(E811=\"\",F810,E811/MAX($E$9:E811)-1)))","v":-6.5379744661290928E-2}]
[null,"2021-01-28",-47.304541415999999,354.77714075,342.36164158000003,{"$f":"IF(B812=\"\",\"\",IF(C812=\"\",F811,IF(E812=\"\",F811,E812/MAX($E$9:E812)-1)))","v":-4.1544451026274243E-2}]
[null,"2021-01-29",-47.304541415999999,345.27906369999999,333.19595169000002,{"$f":"IF(B813=\"\",\"\",IF(C813=\"\",F812,IF(E813=\"\",F812,E813/MAX($E$9:E813)-1)))","v":-6.7204178251265012E-2}]
[null,"2021-02-01",-47.304541415999999,350.40626759000003,338.14372802999998,{"$f":"IF(B814=\"\",\"\",IF(C814=\"\",F813,IF(E814=\"\",F813,E814/MAX($E$9:E814)-1)))","v":-5.3352674133372413E-2}]
[null,"2021-02-02",-47.304541415999999,360.76307077000001,348.13809273999999,{"$f":"IF(B815=\"\",\"\",IF(C815=\"\",F814,IF(E815=\"\",F814,E815/MAX($E$9:E815)-1)))","v":-2.5373037540444288E-2}]
[null,"2021-02-03",-47.304541415999999,374.96067901999999,361.83885277000002,{"$f":"IF(B816=\"\",\"\",IF(C816=\"\",F815,IF(E816=\"\",F815,E816/MAX($E$9:E816)-1)))","v":0}]
[null,"2021-02-04",-47.304541415999999,371.02577663,358.04165310000002,{"$f":"IF(B817=\"\",\"\",IF(C817=\"\",F816,IF(E817=\"\",F816,E817/MAX($E$9:E817)-1)))","v":-1.0494173417064379E-2}]
[null,"2021-02-05",-47.304541415999999,371.21615193000002,358.22536616999997,{"$f":"IF(B818=\"\",\"\",IF(C818=\"\",F817,IF(E818=\"\",F817,E818/MAX($E$9:E818)-1)))","v":-9.986452732584028E-3}]
[null,"2021-02-08",-47.304541415999999,380.27851048000002,366.97058562000001,{"$f":"IF(B819=\"\",\"\",IF(C819=\"\",F818,IF(E819=\"\",F818,E819/MAX($E$9:E819)-1)))","v":0}]
[null,"2021-02-09",-47.304541415999999,374.09486527000001,361.00333834999998,{"$f":"IF(B820=\"\",\"\",IF(C820=\"\",F819,IF(E820=\"\",F819,E820/MAX($E$9:E820)-1)))","v":-1.6260832622097765E-2}]
[null,"2021-02-10",-47.304541415999999,370.51207679999999,357.54593029,{"$f":"IF(B821=\"\",\"\",IF(C821=\"\",F820,IF(E821=\"\",F820,E821/MAX($E$9:E821)-1)))","v":-2.5682318145681782E-2}]
[null,"2021-02-11",-47.304541415999999,370.06499435000001,357.11449359,{"$f":"IF(B822=\"\",\"\",IF(C822=\"\",F821,IF(E822=\"\",F821,E822/MAX($E$9:E822)-1)))","v":-2.6857989212808575E-2}]
[null,"2021-02-12",-47.304541415999999,375.80351429000001,362.65219284,{"$f":"IF(B823=\"\",\"\",IF(C823=\"\",F822,IF(E823=\"\",F822,E823/MAX($E$9:E823)-1)))","v":-1.1767680978310713E-2}]
[null,"2021-02-15",null,null,null,{"$f":"IF(B824=\"\",\"\",IF(C824=\"\",F823,IF(E824=\"\",F823,E824/MAX($E$9:E824)-1)))","v":-1.1767680978310713E-2}]
[null,"2021-02-16",null,null,null,{"$f":"IF(B825=\"\",\"\",IF(C825=\"\",F824,IF(E825=\"\",F824,E825/MAX($E$9:E825)-1)))","v":-1.1767680978310713E-2}]
[null,"2021-02-17",-47.304541415999999,380.68664798999998,367.36444026999999,{"$f":"IF(B826=\"\",\"\",IF(C826=\"\",F825,IF(E826=\"\",F825,E826/MAX($E$9:E826)-1)))","v":0}]
[null,"2021-02-18",-47.304541415999999,381.07224646999998,367.73654464999998,{"$f":"IF(B827=\"\",\"\",IF(C827=\"\",F826,IF(E827=\"\",F826,E827/MAX($E$9:E827)-1)))","v":0}]
[null,"2021-02-19",-46.963636682000001,386.05612731000002,372.54601355,{"$f":"IF(B828=\"\",\"\",IF(C828=\"\",F827,IF(E828=\"\",F827,E828/MAX($E$9:E828)-1)))","v":0}]
[null,"2021-02-22",-43.857703440000002,382.58004440000002,369.19157688000001,{"$f":"IF(B829=\"\",\"\",IF(C829=\"\",F828,IF(E829=\"\",F828,E829/MAX($E$9:E829)-1)))","v":-9.0040868724791112E-3}]
[null,"2021-02-23",-43.857703440000002,382.65860491000001,369.26738814999999,{"$f":"IF(B830=\"\",\"\",IF(C830=\"\",F829,IF(E830=\"\",F829,E830/MAX($E$9:E830)-1)))","v":-8.8005918215522394E-3}]
[null,"2021-02-24",-43.857703440000002,386.54707429000001,373.01977973999999,{"$f":"IF(B831=\"\",\"\",IF(C831=\"\",F830,IF(E831=\"\",F830,E831/MAX($E$9:E831)-1)))","v":0}]
[null,"2021-02-25",-43.857703440000002,370.52773177,357.56103741999999,{"$f":"IF(B832=\"\",\"\",IF(C832=\"\",F831,IF(E832=\"\",F831,E832/MAX($E$9:E832)-1)))","v":-4.144215175606758E-2}]
[null,"2021-02-26",-43.857703440000002,367.36625615000003,354.51019829000001,{"$f":"IF(B833=\"\",\"\",IF(C833=\"\",F832,IF(E833=\"\",F832,E833/MAX($E$9:E833)-1)))","v":-4.9620911424325564E-2}]
[null,"2021-03-01",-43.857703440000002,381.85207733999999,368.48908518000002,{"$f":"IF(B834=\"\",\"\",IF(C834=\"\",F833,IF(E834=\"\",F833,E834/MAX($E$9:E834)-1)))","v":-1.214599012191242E-2}]
[null,"2021-03-02",-43.857703440000002,378.40048263,365.15827974000001,{"$f":"IF(B835=\"\",\"\",IF(C835=\"\",F834,IF(E835=\"\",F834,E835/MAX($E$9:E835)-1)))","v":-2.1075289909504358E-2}]
[null,"2021-03-03",-43.857703440000002,381.91675111000001,368.55149568000002,{"$f":"IF(B836=\"\",\"\",IF(C836=\"\",F835,IF(E836=\"\",F835,E836/MAX($E$9:E836)-1)))","v":-1.1978678618904448E-2}]
[null,"2021-03-04",-41.018061377000002,377.18097074999997,363.98144493000001,{"$f":"IF(B837=\"\",\"\",IF(C837=\"\",F836,IF(E837=\"\",F836,E837/MAX($E$9:E837)-1)))","v":-2.4230175719635594E-2}]
[null,"2021-03-05",-37.331664832999998,382.95173136,369.55025658,{"$f":"IF(B838=\"\",\"\",IF(C838=\"\",F837,IF(E838=\"\",F837,E838/MAX($E$9:E838)-1)))","v":-9.3011774400229008E-3}]
[null,"2021-03-08",-32.362161663000002,364.28899565,351.54062715999999,{"$f":"IF(B839=\"\",\"\",IF(C839=\"\",F838,IF(E839=\"\",F838,E839/MAX($E$9:E839)-1)))","v":-5.7581805970105093E-2}]
[null,"2021-03-09",-32.362161663000002,370.40504389,357.44264303,{"$f":"IF(B840=\"\",\"\",IF(C840=\"\",F839,IF(E840=\"\",F839,E840/MAX($E$9:E840)-1)))","v":-4.1759546158269378E-2}]
[null,"2021-03-10",-26.985828177999998,367.56856062999998,354.70542308,{"$f":"IF(B841=\"\",\"\",IF(C841=\"\",F840,IF(E841=\"\",F840,E841/MAX($E$9:E841)-1)))","v":-4.9097548319730788E-2}]
[null,"2021-03-11",-22.101946652999999,371.6676698,358.66108308000003,{"$f":"IF(B842=\"\",\"\",IF(C842=\"\",F841,IF(E842=\"\",F841,E842/MAX($E$9:E842)-1)))","v":-3.8493124064381212E-2}]
[null,"2021-03-12",-22.101946652999999,369.05539778999997,356.14022806999998,{"$f":"IF(B843=\"\",\"\",IF(C843=\"\",F842,IF(E843=\"\",F842,E843/MAX($E$9:E843)-1)))","v":-4.5251090121186888E-2}]
[null,"2021-03-15",-11.664738386,375.95080668999998,362.79433071,{"$f":"IF(B844=\"\",\"\",IF(C844=\"\",F843,IF(E844=\"\",F843,E844/MAX($E$9:E844)-1)))","v":-2.7412618808384082E-2}]
[null,"2021-03-16",-11.664738386,375.77663846000002,362.62625752999998,{"$f":"IF(B845=\"\",\"\",IF(C845=\"\",F844,IF(E845=\"\",F844,E845/MAX($E$9:E845)-1)))","v":-2.7863193252766538E-2}]
[null,"2021-03-17",-10.98697082,383.43414740999998,370.01579038,{"$f":"IF(B846=\"\",\"\",IF(C846=\"\",F845,IF(E846=\"\",F845,E846/MAX($E$9:E846)-1)))","v":-8.053163727922974E-3}]
[null,"2021-03-18",-10.98697082,368.68832057999998,355.78599680999997,{"$f":"IF(B847=\"\",\"\",IF(C847=\"\",F846,IF(E847=\"\",F846,E847/MAX($E$9:E847)-1)))","v":-4.6200721425582847E-2}]
[null,"2021-03-19",-10.98697082,377.60399329000001,364.38966370999998,{"$f":"IF(B848=\"\",\"\",IF(C848=\"\",F847,IF(E848=\"\",F847,E848/MAX($E$9:E848)-1)))","v":-2.3135813430631758E-2}]
[null,"2021-03-22",-10.98697082,372.78373321999999,359.73808962999999,{"$f":"IF(B849=\"\",\"\",IF(C849=\"\",F848,IF(E849=\"\",F848,E849/MAX($E$9:E849)-1)))","v":-3.5605860148374746E-2}]
[null,"2021-03-23",-10.98697082,374.77506254999997,361.65973198,{"$f":"IF(B850=\"\",\"\",IF(C850=\"\",F849,IF(E850=\"\",F849,E850/MAX($E$9:E850)-1)))","v":-3.0454277164385535E-2}]
[null,"2021-03-24",-10.98697082,372.19020437,359.16533145,{"$f":"IF(B851=\"\",\"\",IF(C851=\"\",F850,IF(E851=\"\",F850,E851/MAX($E$9:E851)-1)))","v":-3.7141323443107277E-2}]
[null,"2021-03-25",-10.98697082,370.30315952000001,357.34432412000001,{"$f":"IF(B852=\"\",\"\",IF(C852=\"\",F851,IF(E852=\"\",F851,E852/MAX($E$9:E852)-1)))","v":-4.2023121752219117E-2}]
[null,"2021-03-26",-10.98697082,376.04387312,362.88414026999999,{"$f":"IF(B853=\"\",\"\",IF(C853=\"\",F852,IF(E853=\"\",F852,E853/MAX($E$9:E853)-1)))","v":-2.7171855275515688E-2}]
[null,"2021-03-29",-10.98697082,378.87577166,365.61693593000001,{"$f":"IF(B854=\"\",\"\",IF(C854=\"\",F853,IF(E854=\"\",F853,E854/MAX($E$9:E854)-1)))","v":-1.9845713852385649E-2}]
[null,"2021-03-30",-10.98697082,381.88578885999999,368.52161696000002,{"$f":"IF(B855=\"\",\"\",IF(C855=\"\",F854,IF(E855=\"\",F854,E855/MAX($E$9:E855)-1)))","v":-1.2058778178291929E-2}]
[null,"2021-03-31",-10.98697082,383.76316251999998,370.33329154,{"$f":"IF(B856=\"\",\"\",IF(C856=\"\",F855,IF(E856=\"\",F855,E856/MAX($E$9:E856)-1)))","v":-7.2019993199087251E-3}]
[null,"2021-04-01",-10.98697082,385.59536161,372.10137244999999,{"$f":"IF(B857=\"\",\"\",IF(C857=\"\",F856,IF(E857=\"\",F856,E857/MAX($E$9:E857)-1)))","v":-2.4620873741337812E-3}]
[null,"2021-04-02",null,null,null,{"$f":"IF(B858=\"\",\"\",IF(C858=\"\",F857,IF(E858=\"\",F857,E858/MAX($E$9:E858)-1)))","v":-2.4620873741337812E-3}]
[null,"2021-04-05",-10.98697082,391.60466337999998,377.90037746000002,{"$f":"IF(B859=\"\",\"\",IF(C859=\"\",F858,IF(E859=\"\",F858,E859/MAX($E$9:E859)-1)))","v":0}]
[null,"2021-04-06",-10.98697082,398.28116395000001,384.34323251000001,{"$f":"IF(B860=\"\",\"\",IF(C860=\"\",F859,IF(E860=\"\",F859,E860/MAX($E$9:E860)-1)))","v":0}]
[null,"2021-04-07",-10.98697082,405.27443067000002,391.09176843,{"$f":"IF(B861=\"\",\"\",IF(C861=\"\",F860,IF(E861=\"\",F860,E861/MAX($E$9:E861)-1)))","v":0}]
[null,"2021-04-08",-10.98697082,404.51857516000001,390.36236423999998,{"$f":"IF(B862=\"\",\"\",IF(C862=\"\",F861,IF(E862=\"\",F861,E862/MAX($E$9:E862)-1)))","v":-1.8650461320833811E-3}]
[null,"2021-04-09",-10.98697082,402.97165553000002,388.86957938,{"$f":"IF(B863=\"\",\"\",IF(C863=\"\",F862,IF(E863=\"\",F862,E863/MAX($E$9:E863)-1)))","v":-5.6820143745821561E-3}]
[null,"2021-04-12",-10.98697082,414.74608912000002,400.23196424000002,{"$f":"IF(B864=\"\",\"\",IF(C864=\"\",F863,IF(E864=\"\",F863,E864/MAX($E$9:E864)-1)))","v":0}]
[null,"2021-04-13",-10.98697082,415.53702239,400.99521864000002,{"$f":"IF(B865=\"\",\"\",IF(C865=\"\",F864,IF(E865=\"\",F864,E865/MAX($E$9:E865)-1)))","v":0}]
[null,"2021-04-14",-10.98697082,422.77208075999999,407.97708464999999,{"$f":"IF(B866=\"\",\"\",IF(C866=\"\",F865,IF(E866=\"\",F865,E866/MAX($E$9:E866)-1)))","v":0}]
[null,"2021-04-15",-10.98697082,422.03789831,407.26859507,{"$f":"IF(B867=\"\",\"\",IF(C867=\"\",F866,IF(E867=\"\",F866,E867/MAX($E$9:E867)-1)))","v":-1.7365916044226326E-3}]
[null,"2021-04-16",-10.98697082,425.33968269000002,410.45483281999998,{"$f":"IF(B868=\"\",\"\",IF(C868=\"\",F867,IF(E868=\"\",F867,E868/MAX($E$9:E868)-1)))","v":0}]
[null,"2021-04-19",-10.98697082,419.99387584999999,405.29610358999997,{"$f":"IF(B869=\"\",\"\",IF(C869=\"\",F868,IF(E869=\"\",F868,E869/MAX($E$9:E869)-1)))","v":-1.256832376550987E-2}]
[null,"2021-04-20",-10.98697082,413.46681797000002,398.99746144,{"$f":"IF(B870=\"\",\"\",IF(C870=\"\",F869,IF(E870=\"\",F869,E870/MAX($E$9:E870)-1)))","v":-2.7913842069498762E-2}]
[null,"2021-04-21",null,null,null,{"$f":"IF(B871=\"\",\"\",IF(C871=\"\",F870,IF(E871=\"\",F870,E871/MAX($E$9:E871)-1)))","v":-2.7913842069498762E-2}]
[null,"2021-04-22",-10.98697082,412.31684839000002,397.88773528000002,{"$f":"IF(B872=\"\",\"\",IF(C872=\"\",F871,IF(E872=\"\",F871,E872/MAX($E$9:E872)-1)))","v":-3.0617491950718723E-2}]
[null,"2021-04-23",-10.98697082,424.97382019000003,410.10177375000001,{"$f":"IF(B873=\"\",\"\",IF(C873=\"\",F872,IF(E873=\"\",F872,E873/MAX($E$9:E873)-1)))","v":-8.601654598004993E-4}]
[null,"2021-04-26",-10.98697082,424.51201531999999,409.65612984000001,{"$f":"IF(B874=\"\",\"\",IF(C874=\"\",F873,IF(E874=\"\",F873,E874/MAX($E$9:E874)-1)))","v":-1.9458973707595639E-3}]
[null,"2021-04-27",-10.98697082,434.91229292000003,419.69244758000002,{"$f":"IF(B875=\"\",\"\",IF(C875=\"\",F874,IF(E875=\"\",F874,E875/MAX($E$9:E875)-1)))","v":0}]
[null,"2021-04-28",-10.98697082,439.40946697999999,424.03224211000003,{"$f":"IF(B876=\"\",\"\",IF(C876=\"\",F875,IF(E876=\"\",F875,E876/MAX($E$9:E876)-1)))","v":0}]
[null,"2021-04-29",-10.98697082,442.05156097000003,426.58187547,{"$f":"IF(B877=\"\",\"\",IF(C877=\"\",F876,IF(E877=\"\",F876,E877/MAX($E$9:E877)-1)))","v":0}]
[null,"2021-04-30",-10.98697082,437.01640381999999,421.72292468000001,{"$f":"IF(B878=\"\",\"\",IF(C878=\"\",F877,IF(E878=\"\",F877,E878/MAX($E$9:E878)-1)))","v":-1.1390429526914381E-2}]
[null,"2021-05-03",-10.98697082,434.17988111,418.98566667,{"$f":"IF(B879=\"\",\"\",IF(C879=\"\",F878,IF(E879=\"\",F878,E879/MAX($E$9:E879)-1)))","v":-1.780715317928272E-2}]
[null,"2021-05-04",-10.98697082,426.38540671999999,411.46396150999999,{"$f":"IF(B880=\"\",\"\",IF(C880=\"\",F879,IF(E880=\"\",F879,E880/MAX($E$9:E880)-1)))","v":-3.543965374371183E-2}]
[null,"2021-05-05",-10.98697082,434.98177235999998,419.75949557000001,{"$f":"IF(B881=\"\",\"\",IF(C881=\"\",F880,IF(E881=\"\",F880,E881/MAX($E$9:E881)-1)))","v":-1.5993131195466748E-2}]
[null,"2021-05-06",-10.98697082,428.77488378999999,413.76981834999998,{"$f":"IF(B882=\"\",\"\",IF(C882=\"\",F881,IF(E882=\"\",F881,E882/MAX($E$9:E882)-1)))","v":-3.0034227558036641E-2}]
[null,"2021-05-07",-10.98697082,430.40241152999999,415.34039042000001,{"$f":"IF(B883=\"\",\"\",IF(C883=\"\",F882,IF(E883=\"\",F882,E883/MAX($E$9:E883)-1)))","v":-2.6352467595146534E-2}]
[null,"2021-05-10",-10.98697082,417.3108704,402.70699046999999,{"$f":"IF(B884=\"\",\"\",IF(C884=\"\",F883,IF(E884=\"\",F883,E884/MAX($E$9:E884)-1)))","v":-5.5967884180956107E-2}]
[null,"2021-05-11",-10.98697082,421.05220336000002,406.31739470999997,{"$f":"IF(B885=\"\",\"\",IF(C885=\"\",F884,IF(E885=\"\",F884,E885/MAX($E$9:E885)-1)))","v":-4.75043172841626E-2}]
[null,"2021-05-12",-10.98697082,403.00923503000001,388.90584376999999,{"$f":"IF(B886=\"\",\"\",IF(C886=\"\",F885,IF(E886=\"\",F885,E886/MAX($E$9:E886)-1)))","v":-8.8320751223875282E-2}]
[null,"2021-05-13",-10.98697082,397.34018094999999,383.43517940999999,{"$f":"IF(B887=\"\",\"\",IF(C887=\"\",F886,IF(E887=\"\",F886,E887/MAX($E$9:E887)-1)))","v":-0.10114516940613516}]
[null,"2021-05-14",-10.98697082,401.38406407999997,387.33754601999999,{"$f":"IF(B888=\"\",\"\",IF(C888=\"\",F887,IF(E888=\"\",F887,E888/MAX($E$9:E888)-1)))","v":-9.1997179689740305E-2}]
[null,"2021-05-17",-10.98697082,405.80718213,391.60587614000002,{"$f":"IF(B889=\"\",\"\",IF(C889=\"\",F888,IF(E889=\"\",F888,E889/MAX($E$9:E889)-1)))","v":-8.1991292507362368E-2}]
[null,"2021-05-18",-10.98697082,406.96672260000003,392.72483826000001,{"$f":"IF(B890=\"\",\"\",IF(C890=\"\",F889,IF(E890=\"\",F889,E890/MAX($E$9:E890)-1)))","v":-7.9368203753844235E-2}]
[null,"2021-05-19",-10.98697082,400.08123516000001,386.08030987000001,{"$f":"IF(B891=\"\",\"\",IF(C891=\"\",F890,IF(E891=\"\",F890,E891/MAX($E$9:E891)-1)))","v":-9.4944412618037544E-2}]
[null,"2021-05-20",-10.98697082,401.30851593,387.26464169000002,{"$f":"IF(B892=\"\",\"\",IF(C892=\"\",F891,IF(E892=\"\",F891,E892/MAX($E$9:E892)-1)))","v":-9.216808317671954E-2}]
[null,"2021-05-21",-10.98697082,396.67841389,382.79657103,{"$f":"IF(B893=\"\",\"\",IF(C893=\"\",F892,IF(E893=\"\",F892,E893/MAX($E$9:E893)-1)))","v":-0.10264220530175638}]
[null,"2021-05-24",-10.98697082,429.90607002000002,414.86141848,{"$f":"IF(B894=\"\",\"\",IF(C894=\"\",F893,IF(E894=\"\",F893,E894/MAX($E$9:E894)-1)))","v":-2.7475281215561753E-2}]
[null,"2021-05-25",-10.98697082,418.40333285000003,403.76122197000001,{"$f":"IF(B895=\"\",\"\",IF(C895=\"\",F894,IF(E895=\"\",F894,E895/MAX($E$9:E895)-1)))","v":-5.3496537973763192E-2}]
[null,"2021-05-26",-10.98697082,418.29738284000001,403.65897969999997,{"$f":"IF(B896=\"\",\"\",IF(C896=\"\",F895,IF(E896=\"\",F895,E896/MAX($E$9:E896)-1)))","v":-5.3736215925123454E-2}]
[null,"2021-05-27",-10.98697082,420.44747588000001,405.73382979000002,{"$f":"IF(B897=\"\",\"\",IF(C897=\"\",F896,IF(E897=\"\",F896,E897/MAX($E$9:E897)-1)))","v":-4.8872319427612831E-2}]
[null,"2021-05-28",-10.98697082,425.39041146,410.50378632000002,{"$f":"IF(B898=\"\",\"\",IF(C898=\"\",F897,IF(E898=\"\",F897,E898/MAX($E$9:E898)-1)))","v":-3.7690511656843007E-2}]
[null,"2021-05-31",-10.98697082,429.78512997000001,414.74471075000002,{"$f":"IF(B899=\"\",\"\",IF(C899=\"\",F898,IF(E899=\"\",F898,E899/MAX($E$9:E899)-1)))","v":-2.7748869327741565E-2}]
[null,"2021-06-01",-10.98697082,426.12178236,411.20956274999998,{"$f":"IF(B900=\"\",\"\",IF(C900=\"\",F899,IF(E900=\"\",F899,E900/MAX($E$9:E900)-1)))","v":-3.6036019352821969E-2}]
[null,"2021-06-02",-10.98697082,429.38594297999998,414.35949339000001,{"$f":"IF(B901=\"\",\"\",IF(C901=\"\",F900,IF(E901=\"\",F900,E901/MAX($E$9:E901)-1)))","v":-2.8651901974348082E-2}]
[null,"2021-06-03",null,null,null,{"$f":"IF(B902=\"\",\"\",IF(C902=\"\",F901,IF(E902=\"\",F901,E902/MAX($E$9:E902)-1)))","v":-2.8651901974348082E-2}]
[null,"2021-06-04",-10.98697082,431.90502077000002,416.79041553000002,{"$f":"IF(B903=\"\",\"\",IF(C903=\"\",F902,IF(E903=\"\",F902,E903/MAX($E$9:E903)-1)))","v":-2.2953295728309953E-2}]
[null,"2021-06-07",-10.98697082,424.54371171999998,409.68671701,{"$f":"IF(B904=\"\",\"\",IF(C904=\"\",F903,IF(E904=\"\",F903,E904/MAX($E$9:E904)-1)))","v":-3.9605898495770009E-2}]
[null,"2021-06-08",-10.98697082,417.95980176,403.33321233999999,{"$f":"IF(B905=\"\",\"\",IF(C905=\"\",F904,IF(E905=\"\",F904,E905/MAX($E$9:E905)-1)))","v":-5.4499884938583154E-2}]
[null,"2021-06-09",-10.98697082,421.55886580999999,406.80632639999999,{"$f":"IF(B906=\"\",\"\",IF(C906=\"\",F905,IF(E906=\"\",F905,E906/MAX($E$9:E906)-1)))","v":-4.6358155859790529E-2}]
[null,"2021-06-10",-10.98697082,425.72813527,410.82969142000002,{"$f":"IF(B907=\"\",\"\",IF(C907=\"\",F906,IF(E907=\"\",F906,E907/MAX($E$9:E907)-1)))","v":-3.692651975109007E-2}]
[null,"2021-06-11",-10.98697082,424.85203874000001,409.98425407000002,{"$f":"IF(B908=\"\",\"\",IF(C908=\"\",F907,IF(E908=\"\",F907,E908/MAX($E$9:E908)-1)))","v":-3.8908407399430689E-2}]
[null,"2021-06-14",-10.98697082,424.24457675999997,409.39805035000001,{"$f":"IF(B909=\"\",\"\",IF(C909=\"\",F908,IF(E909=\"\",F908,E909/MAX($E$9:E909)-1)))","v":-4.0282595459704362E-2}]
[null,"2021-06-15",-10.98697082,425.16160609000002,410.28298804000002,{"$f":"IF(B910=\"\",\"\",IF(C910=\"\",F909,IF(E910=\"\",F909,E910/MAX($E$9:E910)-1)))","v":-3.8208110487681135E-2}]
[null,"2021-06-16",-10.98697082,426.66032720999999,411.72926110999998,{"$f":"IF(B911=\"\",\"\",IF(C911=\"\",F910,IF(E911=\"\",F910,E911/MAX($E$9:E911)-1)))","v":-3.4817734212536977E-2}]
[null,"2021-06-17",-10.98697082,424.32582535,409.47645562000002,{"$f":"IF(B912=\"\",\"\",IF(C912=\"\",F911,IF(E912=\"\",F911,E912/MAX($E$9:E912)-1)))","v":-4.0098796581907181E-2}]
[null,"2021-06-18",-10.98697082,426.85326898,411.91545085000001,{"$f":"IF(B913=\"\",\"\",IF(C913=\"\",F912,IF(E913=\"\",F912,E913/MAX($E$9:E913)-1)))","v":-3.4381265270215233E-2}]
[null,"2021-06-21",-10.98697082,431.41587399999997,416.31838656000002,{"$f":"IF(B914=\"\",\"\",IF(C914=\"\",F913,IF(E914=\"\",F913,E914/MAX($E$9:E914)-1)))","v":-2.4059833528304209E-2}]
[null,"2021-06-22",-10.98697082,432.07057999,416.95018098000003,{"$f":"IF(B915=\"\",\"\",IF(C915=\"\",F914,IF(E915=\"\",F914,E915/MAX($E$9:E915)-1)))","v":-2.2578771025815292E-2}]
[null,"2021-06-23",-10.98697082,435.72781053,420.47942597999997,{"$f":"IF(B916=\"\",\"\",IF(C916=\"\",F915,IF(E916=\"\",F915,E916/MAX($E$9:E916)-1)))","v":-1.4305458906983426E-2}]
[null,"2021-06-24",-10.98697082,432.77829516999998,417.63312952000001,{"$f":"IF(B917=\"\",\"\",IF(C917=\"\",F916,IF(E917=\"\",F916,E917/MAX($E$9:E917)-1)))","v":-2.097779222368612E-2}]
[null,"2021-06-25",-10.98697082,429.65484837000002,414.61898839000003,{"$f":"IF(B918=\"\",\"\",IF(C918=\"\",F917,IF(E918=\"\",F917,E918/MAX($E$9:E918)-1)))","v":-2.8043589678580449E-2}]
[null,"2021-06-28",-10.98697082,430.07454440999999,415.02399708000002,{"$f":"IF(B919=\"\",\"\",IF(C919=\"\",F918,IF(E919=\"\",F918,E919/MAX($E$9:E919)-1)))","v":-2.7094161882207812E-2}]
[null,"2021-06-29",-10.98697082,439.25393248,423.88215057000002,{"$f":"IF(B920=\"\",\"\",IF(C920=\"\",F919,IF(E920=\"\",F919,E920/MAX($E$9:E920)-1)))","v":-6.3287379404609601E-3}]
[null,"2021-06-30",-10.98697082,447.41695249999998,431.75950402000001,{"$f":"IF(B921=\"\",\"\",IF(C921=\"\",F920,IF(E921=\"\",F920,E921/MAX($E$9:E921)-1)))","v":0}]
[null,"2021-07-01",-10.98697082,449.56073937000002,433.82826863000003,{"$f":"IF(B922=\"\",\"\",IF(C922=\"\",F921,IF(E922=\"\",F921,E922/MAX($E$9:E922)-1)))","v":0}]
[null,"2021-07-02",-10.98697082,459.7862303,443.69591638999998,{"$f":"IF(B923=\"\",\"\",IF(C923=\"\",F922,IF(E923=\"\",F922,E923/MAX($E$9:E923)-1)))","v":0}]
[null,"2021-07-05",-10.98697082,458.10328251999999,442.07186372000001,{"$f":"IF(B924=\"\",\"\",IF(C924=\"\",F923,IF(E924=\"\",F923,E924/MAX($E$9:E924)-1)))","v":-3.6602831128436097E-3}]
[null,"2021-07-06",-10.98697082,449.7150345,433.97716415999997,{"$f":"IF(B925=\"\",\"\",IF(C925=\"\",F924,IF(E925=\"\",F924,E925/MAX($E$9:E925)-1)))","v":-2.1904083114115069E-2}]
[null,"2021-07-07",-10.98697082,451.85602806000003,436.04323320999998,{"$f":"IF(B926=\"\",\"\",IF(C926=\"\",F925,IF(E926=\"\",F925,E926/MAX($E$9:E926)-1)))","v":-1.7247585333360238E-2}]
[null,"2021-07-08",-10.98697082,444.91436715999998,429.34449717000001,{"$f":"IF(B927=\"\",\"\",IF(C927=\"\",F926,IF(E927=\"\",F926,E927/MAX($E$9:E927)-1)))","v":-3.2345168593765794E-2}]
[null,"2021-07-09",null,null,null,{"$f":"IF(B928=\"\",\"\",IF(C928=\"\",F927,IF(E928=\"\",F927,E928/MAX($E$9:E928)-1)))","v":-3.2345168593765794E-2}]
[null,"2021-07-12",-10.98697082,453.39546863999999,437.52880076000002,{"$f":"IF(B929=\"\",\"\",IF(C929=\"\",F928,IF(E929=\"\",F928,E929/MAX($E$9:E929)-1)))","v":-1.3899419404570734E-2}]
[null,"2021-07-13",-10.98697082,450.69396147999998,434.92183339000002,{"$f":"IF(B930=\"\",\"\",IF(C930=\"\",F929,IF(E930=\"\",F929,E930/MAX($E$9:E930)-1)))","v":-1.97749915559009E-2}]
[null,"2021-07-14",-10.98697082,458.55007031999997,442.50301609000002,{"$f":"IF(B931=\"\",\"\",IF(C931=\"\",F930,IF(E931=\"\",F930,E931/MAX($E$9:E931)-1)))","v":-2.6885537052169228E-3}]
[null,"2021-07-15",-10.98697082,457.17643944999998,441.17745571,{"$f":"IF(B932=\"\",\"\",IF(C932=\"\",F931,IF(E932=\"\",F931,E932/MAX($E$9:E932)-1)))","v":-5.6760961437073432E-3}]
[null,"2021-07-16",-10.98697082,453.5278151,437.65651572000002,{"$f":"IF(B933=\"\",\"\",IF(C933=\"\",F932,IF(E933=\"\",F932,E933/MAX($E$9:E933)-1)))","v":-1.3611575962063749E-2}]
[null,"2021-07-19",-10.98697082,450.23269326000002,434.47670735000003,{"$f":"IF(B934=\"\",\"\",IF(C934=\"\",F933,IF(E934=\"\",F933,E934/MAX($E$9:E934)-1)))","v":-2.0778214762509628E-2}]
[null,"2021-07-20",-10.98697082,454.07001379000002,438.17974005000002,{"$f":"IF(B935=\"\",\"\",IF(C935=\"\",F934,IF(E935=\"\",F934,E935/MAX($E$9:E935)-1)))","v":-1.2432335156204899E-2}]
[null,"2021-07-21",-10.98697082,461.05068528999999,444.91612151999999,{"$f":"IF(B936=\"\",\"\",IF(C936=\"\",F935,IF(E936=\"\",F935,E936/MAX($E$9:E936)-1)))","v":0}]
[null,"2021-07-22",-10.98697082,458.55665118000002,442.50936665,{"$f":"IF(B937=\"\",\"\",IF(C937=\"\",F936,IF(E937=\"\",F936,E937/MAX($E$9:E937)-1)))","v":-5.4094575439919135E-3}]
[null,"2021-07-23",-10.98697082,452.79566101,436.94998350999998,{"$f":"IF(B938=\"\",\"\",IF(C938=\"\",F937,IF(E938=\"\",F937,E938/MAX($E$9:E938)-1)))","v":-1.7904808625016089E-2}]
[null,"2021-07-26",-10.98697082,451.75862355999999,435.94923740000002,{"$f":"IF(B939=\"\",\"\",IF(C939=\"\",F938,IF(E939=\"\",F938,E939/MAX($E$9:E939)-1)))","v":-2.0154100259090924E-2}]
[null,"2021-07-27",-10.98697082,439.1529913,423.78474184999999,{"$f":"IF(B940=\"\",\"\",IF(C940=\"\",F939,IF(E940=\"\",F939,E940/MAX($E$9:E940)-1)))","v":-4.7495198865366572E-2}]
[null,"2021-07-28",-10.98697082,447.95441008,432.27815315999999,{"$f":"IF(B941=\"\",\"\",IF(C941=\"\",F940,IF(E941=\"\",F940,E941/MAX($E$9:E941)-1)))","v":-2.8405283038124063E-2}]
[null,"2021-07-29",-10.98697082,443.91526601999999,428.38035977999999,{"$f":"IF(B942=\"\",\"\",IF(C942=\"\",F941,IF(E942=\"\",F941,E942/MAX($E$9:E942)-1)))","v":-3.7166020605204575E-2}]
[null,"2021-07-30",-10.98697082,427.15474418000002,412.20637585999998,{"$f":"IF(B943=\"\",\"\",IF(C943=\"\",F942,IF(E943=\"\",F942,E943/MAX($E$9:E943)-1)))","v":-7.3518904076236402E-2}]
[null,"2021-08-02",-10.98697082,429.50242123999999,414.47189546999999,{"$f":"IF(B944=\"\",\"\",IF(C944=\"\",F943,IF(E944=\"\",F943,E944/MAX($E$9:E944)-1)))","v":-6.8426888974018607E-2}]
[null,"2021-08-03",-10.98697082,433.54037899999997,418.36854406999998,{"$f":"IF(B945=\"\",\"\",IF(C945=\"\",F944,IF(E945=\"\",F944,E945/MAX($E$9:E945)-1)))","v":-5.9668724431255815E-2}]
[null,"2021-08-04",-10.98697082,425.81279556999999,410.91138900999999,{"$f":"IF(B946=\"\",\"\",IF(C946=\"\",F945,IF(E946=\"\",F945,E946/MAX($E$9:E946)-1)))","v":-7.642953551295717E-2}]
[null,"2021-08-05",-10.98697082,422.58495957000002,407.79651180000002,{"$f":"IF(B947=\"\",\"\",IF(C947=\"\",F946,IF(E947=\"\",F946,E947/MAX($E$9:E947)-1)))","v":-8.3430579213865097E-2}]
[null,"2021-08-06",-10.98697082,428.15184056999999,413.16857864999997,{"$f":"IF(B948=\"\",\"\",IF(C948=\"\",F947,IF(E948=\"\",F947,E948/MAX($E$9:E948)-1)))","v":-7.1356242973481199E-2}]
[null,"2021-08-09",-10.98697082,430.85303332000001,415.77524260000001,{"$f":"IF(B949=\"\",\"\",IF(C949=\"\",F948,IF(E949=\"\",F948,E949/MAX($E$9:E949)-1)))","v":-6.5497466849355424E-2}]
[null,"2021-08-10",-10.264220529999999,438.07259880999999,422.74215791,{"$f":"IF(B950=\"\",\"\",IF(C950=\"\",F949,IF(E950=\"\",F949,E950/MAX($E$9:E950)-1)))","v":-4.9838525819755453E-2}]
[null,"2021-08-11",-10.264220529999999,430.78079378000001,415.70553110999998,{"$f":"IF(B951=\"\",\"\",IF(C951=\"\",F950,IF(E951=\"\",F950,E951/MAX($E$9:E951)-1)))","v":-6.5654151416688844E-2}]
[null,"2021-08-12",-10.264220529999999,417.85840751000001,403.23536639999998,{"$f":"IF(B952=\"\",\"\",IF(C952=\"\",F951,IF(E952=\"\",F951,E952/MAX($E$9:E952)-1)))","v":-9.3682276510014817E-2}]
[null,"2021-08-13",-10.264220529999999,413.49417398999998,399.02386014000001,{"$f":"IF(B953=\"\",\"\",IF(C953=\"\",F952,IF(E953=\"\",F952,E953/MAX($E$9:E953)-1)))","v":-0.10314811974718929}]
[null,"2021-08-16",-10.264220529999999,404.36954033000001,390.21854490999999,{"$f":"IF(B954=\"\",\"\",IF(C954=\"\",F953,IF(E954=\"\",F953,E954/MAX($E$9:E954)-1)))","v":-0.12293907539949911}]
[null,"2021-08-17",-10.264220529999999,397.66303241000003,383.74673260999998,{"$f":"IF(B955=\"\",\"\",IF(C955=\"\",F954,IF(E955=\"\",F954,E955/MAX($E$9:E955)-1)))","v":-0.13748521564249572}]
[null,"2021-08-18",-10.264220529999999,396.47741638000002,382.60260747000001,{"$f":"IF(B956=\"\",\"\",IF(C956=\"\",F955,IF(E956=\"\",F955,E956/MAX($E$9:E956)-1)))","v":-0.14005676808723788}]
[null,"2021-08-19",-10.264220529999999,404.0774012,389.93662925000001,{"$f":"IF(B957=\"\",\"\",IF(C957=\"\",F956,IF(E957=\"\",F956,E957/MAX($E$9:E957)-1)))","v":-0.1235727131715737}]
[null,"2021-08-20",-10.264220529999999,410.28625690000001,395.92820476999998,{"$f":"IF(B958=\"\",\"\",IF(C958=\"\",F957,IF(E958=\"\",F957,E958/MAX($E$9:E958)-1)))","v":-0.11010596015860008}]
[null,"2021-08-23",-10.264220529999999,411.94891273000002,397.53267561000001,{"$f":"IF(B959=\"\",\"\",IF(C959=\"\",F958,IF(E959=\"\",F958,E959/MAX($E$9:E959)-1)))","v":-0.10649972796697138}]
[null,"2021-08-24",-10.264220529999999,417.93075585000003,403.30518289999998,{"$f":"IF(B960=\"\",\"\",IF(C960=\"\",F959,IF(E960=\"\",F959,E960/MAX($E$9:E960)-1)))","v":-9.3525355920665354E-2}]
[null,"2021-08-25",-10.264220529999999,414.54634311000001,400.03920837999999,{"$f":"IF(B961=\"\",\"\",IF(C961=\"\",F960,IF(E961=\"\",F960,E961/MAX($E$9:E961)-1)))","v":-0.10086600815156721}]
[null,"2021-08-26",-10.264220529999999,413.65293989000003,399.17706999000001,{"$f":"IF(B962=\"\",\"\",IF(C962=\"\",F961,IF(E962=\"\",F961,E962/MAX($E$9:E962)-1)))","v":-0.10280376304130823}]
[null,"2021-08-27",-10.264220529999999,431.65404593,416.54822360999998,{"$f":"IF(B963=\"\",\"\",IF(C963=\"\",F962,IF(E963=\"\",F962,E963/MAX($E$9:E963)-1)))","v":-6.3760103394510992E-2}]
[null,"2021-08-30",-10.264220529999999,426.64865996999998,411.71800216000003,{"$f":"IF(B964=\"\",\"\",IF(C964=\"\",F963,IF(E964=\"\",F963,E964/MAX($E$9:E964)-1)))","v":-7.4616579966989671E-2}]
[null,"2021-08-31",-10.264220529999999,418.60776336999999,403.9584984,{"$f":"IF(B965=\"\",\"\",IF(C965=\"\",F964,IF(E965=\"\",F964,E965/MAX($E$9:E965)-1)))","v":-9.2056954421146697E-2}]
[null,"2021-09-01",-10.264220529999999,416.4478618,401.87418302999998,{"$f":"IF(B966=\"\",\"\",IF(C966=\"\",F965,IF(E966=\"\",F965,E966/MAX($E$9:E966)-1)))","v":-9.6741692215945418E-2}]
[null,"2021-09-02",-10.264220529999999,413.53824797999999,399.06639173999997,{"$f":"IF(B967=\"\",\"\",IF(C967=\"\",F966,IF(E967=\"\",F966,E967/MAX($E$9:E967)-1)))","v":-0.10305252509924834}]
[null,"2021-09-03",-10.264220529999999,406.22344950000002,392.00757614000003,{"$f":"IF(B968=\"\",\"\",IF(C968=\"\",F967,IF(E968=\"\",F967,E968/MAX($E$9:E968)-1)))","v":-0.11891802256848905}]
[null,"2021-09-06",-10.264220529999999,407.45945461000002,393.20032700000002,{"$f":"IF(B969=\"\",\"\",IF(C969=\"\",F968,IF(E969=\"\",F968,E969/MAX($E$9:E969)-1)))","v":-0.11623717824231561}]
[null,"2021-09-07",null,null,null,{"$f":"IF(B970=\"\",\"\",IF(C970=\"\",F969,IF(E970=\"\",F969,E970/MAX($E$9:E970)-1)))","v":-0.11623717824231561}]
[null,"2021-09-08",-10.264220529999999,396.40065202,382.52852948999998,{"$f":"IF(B971=\"\",\"\",IF(C971=\"\",F970,IF(E971=\"\",F970,E971/MAX($E$9:E971)-1)))","v":-0.14022326684153552}]
[null,"2021-09-09",-10.264220529999999,414.54333219,400.03630283000001,{"$f":"IF(B972=\"\",\"\",IF(C972=\"\",F971,IF(E972=\"\",F971,E972/MAX($E$9:E972)-1)))","v":-0.10087253870836088}]
[null,"2021-09-10",-10.264220529999999,409.35299964000001,395.02760704000002,{"$f":"IF(B973=\"\",\"\",IF(C973=\"\",F972,IF(E973=\"\",F972,E973/MAX($E$9:E973)-1)))","v":-0.11213015682498118}]
[null,"2021-09-13",-10.264220529999999,420.31434339999998,405.60535630999999,{"$f":"IF(B974=\"\",\"\",IF(C974=\"\",F973,IF(E974=\"\",F973,E974/MAX($E$9:E974)-1)))","v":-8.8355452429324632E-2}]
[null,"2021-09-14",-10.264220529999999,425.52741198000001,410.63599248000003,{"$f":"IF(B975=\"\",\"\",IF(C975=\"\",F974,IF(E975=\"\",F974,E975/MAX($E$9:E975)-1)))","v":-7.7048520792832198E-2}]
[null,"2021-09-15",-10.264220529999999,426.70198228999999,411.76945846000001,{"$f":"IF(B976=\"\",\"\",IF(C976=\"\",F975,IF(E976=\"\",F975,E976/MAX($E$9:E976)-1)))","v":-7.4500926032436299E-2}]
[null,"2021-09-16",-10.264220529999999,421.25926967999999,406.51721470000001,{"$f":"IF(B977=\"\",\"\",IF(C977=\"\",F976,IF(E977=\"\",F976,E977/MAX($E$9:E977)-1)))","v":-8.6305946138375389E-2}]
[null,"2021-09-17",-10.264220529999999,406.49899763000002,392.27348142,{"$f":"IF(B978=\"\",\"\",IF(C978=\"\",F977,IF(E978=\"\",F977,E978/MAX($E$9:E978)-1)))","v":-0.11832036996131545}]
[null,"2021-09-20",-10.264220529999999,390.45109487000002,376.78717831,{"$f":"IF(B979=\"\",\"\",IF(C979=\"\",F978,IF(E979=\"\",F978,E979/MAX($E$9:E979)-1)))","v":-0.15312761195806079}]
[null,"2021-09-21",-10.264220529999999,397.21593840000003,383.31528474999999,{"$f":"IF(B980=\"\",\"\",IF(C980=\"\",F979,IF(E980=\"\",F979,E980/MAX($E$9:E980)-1)))","v":-0.13845494418037374}]
[null,"2021-09-22",-10.264220529999999,410.20589860000001,395.85065861999999,{"$f":"IF(B981=\"\",\"\",IF(C981=\"\",F980,IF(E981=\"\",F980,E981/MAX($E$9:E981)-1)))","v":-0.11028025402265496}]
[null,"2021-09-23",-10.264220529999999,416.69586484000001,402.11350714999998,{"$f":"IF(B982=\"\",\"\",IF(C982=\"\",F981,IF(E982=\"\",F981,E982/MAX($E$9:E982)-1)))","v":-9.6203783813834987E-2}]
[null,"2021-09-24",-10.264220529999999,420.56726277000001,405.84942472,{"$f":"IF(B983=\"\",\"\",IF(C983=\"\",F982,IF(E983=\"\",F982,E983/MAX($E$9:E983)-1)))","v":-8.7806880691429057E-2}]
[null,"2021-09-27",-10.264220529999999,420.87406229999999,406.14548774000002,{"$f":"IF(B984=\"\",\"\",IF(C984=\"\",F983,IF(E984=\"\",F983,E984/MAX($E$9:E984)-1)))","v":-8.7141445105529014E-2}]
[null,"2021-09-28",-10.264220529999999,398.25671447000002,384.31963865,{"$f":"IF(B985=\"\",\"\",IF(C985=\"\",F984,IF(E985=\"\",F984,E985/MAX($E$9:E985)-1)))","v":-0.13619754362458192}]
[null,"2021-09-29",-10.264220529999999,400.27723530999998,386.26945094000001,{"$f":"IF(B986=\"\",\"\",IF(C986=\"\",F985,IF(E986=\"\",F985,E986/MAX($E$9:E986)-1)))","v":-0.13181511692505321}]
[null,"2021-09-30",-10.264220529999999,403.13454373000002,389.02676726999999,{"$f":"IF(B987=\"\",\"\",IF(C987=\"\",F986,IF(E987=\"\",F986,E987/MAX($E$9:E987)-1)))","v":-0.12561773230212703}]
[null,"2021-10-01",-10.264220529999999,418.88596332999998,404.22696268999999,{"$f":"IF(B988=\"\",\"\",IF(C988=\"\",F987,IF(E988=\"\",F987,E988/MAX($E$9:E988)-1)))","v":-9.1453550145565887E-2}]
[null,"2021-10-04",-10.264220529999999,401.05566612000001,387.02064042000001,{"$f":"IF(B989=\"\",\"\",IF(C989=\"\",F988,IF(E989=\"\",F988,E989/MAX($E$9:E989)-1)))","v":-0.13012673243263773}]
[null,"2021-10-05",-10.264220529999999,396.26365487999999,382.39632659,{"$f":"IF(B990=\"\",\"\",IF(C990=\"\",F989,IF(E990=\"\",F989,E990/MAX($E$9:E990)-1)))","v":-0.14052040801850241}]
[null,"2021-10-06",-10.264220529999999,394.46306966999998,380.65875323,{"$f":"IF(B991=\"\",\"\",IF(C991=\"\",F990,IF(E991=\"\",F990,E991/MAX($E$9:E991)-1)))","v":-0.14442580338620403}]
[null,"2021-10-07",-10.264220529999999,406.95717243000001,392.71562229,{"$f":"IF(B992=\"\",\"\",IF(C992=\"\",F991,IF(E992=\"\",F991,E992/MAX($E$9:E992)-1)))","v":-0.11732660765733449}]
[null,"2021-10-08",-10.264220529999999,418.99216362999999,404.32944649000001,{"$f":"IF(B993=\"\",\"\",IF(C993=\"\",F992,IF(E993=\"\",F992,E993/MAX($E$9:E993)-1)))","v":-9.1223206053628103E-2}]
[null,"2021-10-11",-10.264220529999999,414.70400797999997,400.19135574000001,{"$f":"IF(B994=\"\",\"\",IF(C994=\"\",F993,IF(E994=\"\",F993,E994/MAX($E$9:E994)-1)))","v":-0.10052403951379296}]
[null,"2021-10-12",null,null,null,{"$f":"IF(B995=\"\",\"\",IF(C995=\"\",F994,IF(E995=\"\",F994,E995/MAX($E$9:E995)-1)))","v":-0.10052403951379296}]
[null,"2021-10-13",-10.264220529999999,421.28604557,406.54305355999998,{"$f":"IF(B996=\"\",\"\",IF(C996=\"\",F995,IF(E996=\"\",F995,E996/MAX($E$9:E996)-1)))","v":-8.6247870337679E-2}]
[null,"2021-10-14",-10.264220529999999,430.76441650999999,415.68972695999997,{"$f":"IF(B997=\"\",\"\",IF(C997=\"\",F996,IF(E997=\"\",F996,E997/MAX($E$9:E997)-1)))","v":-6.568967305601725E-2}]
[null,"2021-10-15",-10.264220529999999,429.10256957000001,414.08603669000001,{"$f":"IF(B998=\"\",\"\",IF(C998=\"\",F997,IF(E998=\"\",F997,E998/MAX($E$9:E998)-1)))","v":-6.9294150827065693E-2}]
[null,"2021-10-18",-10.264220529999999,422.80350255000002,408.00740682999998,{"$f":"IF(B999=\"\",\"\",IF(C999=\"\",F998,IF(E999=\"\",F998,E999/MAX($E$9:E999)-1)))","v":-8.2956568451388102E-2}]
[null,"2021-10-19",-10.264220529999999,410.27302157999998,395.91543261999999,{"$f":"IF(B1000=\"\",\"\",IF(C1000=\"\",F999,IF(E1000=\"\",F999,E1000/MAX($E$9:E1000)-1)))","v":-0.1101346670302602}]
[null,"2021-10-20",-10.264220529999999,415.61043654999997,401.06606366,{"$f":"IF(B1001=\"\",\"\",IF(C1001=\"\",F1000,IF(E1001=\"\",F1000,E1001/MAX($E$9:E1001)-1)))","v":-9.855803316407552E-2}]
[null,"2021-10-21",-10.264220529999999,399.03259681999998,385.06836884000001,{"$f":"IF(B1002=\"\",\"\",IF(C1002=\"\",F1001,IF(E1002=\"\",F1001,E1002/MAX($E$9:E1002)-1)))","v":-0.13451468666843913}]
[null,"2021-10-22",-10.264220529999999,393.12247208999997,379.36507014,{"$f":"IF(B1003=\"\",\"\",IF(C1003=\"\",F1002,IF(E1003=\"\",F1002,E1003/MAX($E$9:E1003)-1)))","v":-0.14733350447282756}]
[null,"2021-10-25",-10.264220529999999,404.14228126,389.99923881000001,{"$f":"IF(B1004=\"\",\"\",IF(C1004=\"\",F1003,IF(E1004=\"\",F1003,E1004/MAX($E$9:E1004)-1)))","v":-0.12343199100626734}]
[null,"2021-10-26",-10.264220529999999,397.51065161999998,383.59968443000002,{"$f":"IF(B1005=\"\",\"\",IF(C1005=\"\",F1004,IF(E1005=\"\",F1004,E1005/MAX($E$9:E1005)-1)))","v":-0.13781572328851577}]
[null,"2021-10-27",-10.264220529999999,388.36251511,374.77168883000002,{"$f":"IF(B1006=\"\",\"\",IF(C1006=\"\",F1005,IF(E1006=\"\",F1005,E1006/MAX($E$9:E1006)-1)))","v":-0.15765765567307455}]
[null,"2021-10-28",-10.264220529999999,375.32293195,362.18842857999999,{"$f":"IF(B1007=\"\",\"\",IF(C1007=\"\",F1006,IF(E1007=\"\",F1006,E1007/MAX($E$9:E1007)-1)))","v":-0.18593997596079737}]
[null,"2021-10-29",-10.264220529999999,363.17774528000001,350.46826521999998,{"$f":"IF(B1008=\"\",\"\",IF(C1008=\"\",F1007,IF(E1008=\"\",F1007,E1008/MAX($E$9:E1008)-1)))","v":-0.21228238702012148}]
[null,"2021-11-01",-10.264220529999999,375.46602711999998,362.32651609999999,{"$f":"IF(B1009=\"\",\"\",IF(C1009=\"\",F1008,IF(E1009=\"\",F1008,E1009/MAX($E$9:E1009)-1)))","v":-0.18562960842561294}]
[null,"2021-11-02",null,null,null,{"$f":"IF(B1010=\"\",\"\",IF(C1010=\"\",F1009,IF(E1010=\"\",F1009,E1010/MAX($E$9:E1010)-1)))","v":-0.18562960842561294}]
[null,"2021-11-03",-10.264220529999999,378.80611599999997,365.54971789000001,{"$f":"IF(B1011=\"\",\"\",IF(C1011=\"\",F1010,IF(E1011=\"\",F1010,E1011/MAX($E$9:E1011)-1)))","v":-0.1783850928099765}]
[null,"2021-11-04",-10.264220529999999,373.15248998999999,360.09394168,{"$f":"IF(B1012=\"\",\"\",IF(C1012=\"\",F1011,IF(E1012=\"\",F1011,E1012/MAX($E$9:E1012)-1)))","v":-0.19064757543560273}]
[null,"2021-11-05",-10.264220529999999,395.50911783999999,381.66819472999998,{"$f":"IF(B1013=\"\",\"\",IF(C1013=\"\",F1012,IF(E1013=\"\",F1012,E1013/MAX($E$9:E1013)-1)))","v":-0.14215696786603604}]
[null,"2021-11-08",-10.264220529999999,391.95077615000002,378.23437794,{"$f":"IF(B1014=\"\",\"\",IF(C1014=\"\",F1013,IF(E1014=\"\",F1013,E1014/MAX($E$9:E1014)-1)))","v":-0.14987486484461432}]
[null,"2021-11-09",-10.264220529999999,385.95390558000003,372.44736909,{"$f":"IF(B1015=\"\",\"\",IF(C1015=\"\",F1014,IF(E1015=\"\",F1014,E1015/MAX($E$9:E1015)-1)))","v":-0.16288183080986052}]
[null,"2021-11-10",-10.264220529999999,381.58989451999997,368.23607750000002,{"$f":"IF(B1016=\"\",\"\",IF(C1016=\"\",F1015,IF(E1016=\"\",F1015,E1016/MAX($E$9:E1016)-1)))","v":-0.17234719155159461}]
[null,"2021-11-11",-10.264220529999999,388.31615561000001,374.72695169999997,{"$f":"IF(B1017=\"\",\"\",IF(C1017=\"\",F1016,IF(E1017=\"\",F1016,E1017/MAX($E$9:E1017)-1)))","v":-0.15775820750259073}]
[null,"2021-11-12",-10.264220529999999,377.33845837000001,364.13342123000001,{"$f":"IF(B1018=\"\",\"\",IF(C1018=\"\",F1017,IF(E1018=\"\",F1017,E1018/MAX($E$9:E1018)-1)))","v":-0.18156838195481895}]
[null,"2021-11-15",null,null,null,{"$f":"IF(B1019=\"\",\"\",IF(C1019=\"\",F1018,IF(E1019=\"\",F1018,E1019/MAX($E$9:E1019)-1)))","v":-0.18156838195481895}]
[null,"2021-11-16",-10.264220529999999,367.07530740999999,354.22943135999998,{"$f":"IF(B1020=\"\",\"\",IF(C1020=\"\",F1019,IF(E1020=\"\",F1019,E1020/MAX($E$9:E1020)-1)))","v":-0.20382873484148056}]
[null,"2021-11-17",-10.264220529999999,358.15684836999998,345.62307563000002,{"$f":"IF(B1021=\"\",\"\",IF(C1021=\"\",F1020,IF(E1021=\"\",F1020,E1021/MAX($E$9:E1021)-1)))","v":-0.2231725062035913}]
[null,"2021-11-18",-10.264220529999999,350.80727822,338.53070521000001,{"$f":"IF(B1022=\"\",\"\",IF(C1022=\"\",F1021,IF(E1022=\"\",F1021,E1022/MAX($E$9:E1022)-1)))","v":-0.23911342197838903}]
[null,"2021-11-19",-10.264220529999999,351.94747365000001,339.63099926000001,{"$f":"IF(B1023=\"\",\"\",IF(C1023=\"\",F1022,IF(E1023=\"\",F1022,E1023/MAX($E$9:E1023)-1)))","v":-0.23664038493437056}]
[null,"2021-11-22",-10.264220529999999,342.27264430000002,330.29474255999997,{"$f":"IF(B1024=\"\",\"\",IF(C1024=\"\",F1023,IF(E1024=\"\",F1023,E1024/MAX($E$9:E1024)-1)))","v":-0.25762469242159736}]
[null,"2021-11-23",-10.264220529999999,348.24739582000001,336.06040641999999,{"$f":"IF(B1025=\"\",\"\",IF(C1025=\"\",F1024,IF(E1025=\"\",F1024,E1025/MAX($E$9:E1025)-1)))","v":-0.24466570176892699}]
[null,"2021-11-24",-10.264220529999999,347.82289790999999,335.65076390000002,{"$f":"IF(B1026=\"\",\"\",IF(C1026=\"\",F1025,IF(E1026=\"\",F1025,E1026/MAX($E$9:E1026)-1)))","v":-0.24558642030481748}]
[null,"2021-11-25",-10.264220529999999,353.10455282999999,340.74758622000002,{"$f":"IF(B1027=\"\",\"\",IF(C1027=\"\",F1026,IF(E1027=\"\",F1026,E1027/MAX($E$9:E1027)-1)))","v":-0.23413072770687937}]
[null,"2021-11-26",-10.264220529999999,336.26263499999999,324.49505477000002,{"$f":"IF(B1028=\"\",\"\",IF(C1028=\"\",F1027,IF(E1028=\"\",F1027,E1028/MAX($E$9:E1028)-1)))","v":-0.27066015575834057}]
[null,"2021-11-29",-10.264220529999999,342.94793427000002,330.94640062000002,{"$f":"IF(B1029=\"\",\"\",IF(C1029=\"\",F1028,IF(E1029=\"\",F1028,E1029/MAX($E$9:E1029)-1)))","v":-0.25616001620853102}]
[null,"2021-11-30",-10.264220529999999,336.72514158000001,324.94137583999998,{"$f":"IF(B1030=\"\",\"\",IF(C1030=\"\",F1029,IF(E1030=\"\",F1029,E1030/MAX($E$9:E1030)-1)))","v":-0.26965699797553155}]
[null,"2021-12-01",-10.264220529999999,333.20046510999998,321.54004614000002,{"$f":"IF(B1031=\"\",\"\",IF(C1031=\"\",F1030,IF(E1031=\"\",F1030,E1031/MAX($E$9:E1031)-1)))","v":-0.2773018764941606}]
[null,"2021-12-02",-10.264220529999999,341.79676071,329.83551261000002,{"$f":"IF(B1032=\"\",\"\",IF(C1032=\"\",F1031,IF(E1032=\"\",F1031,E1032/MAX($E$9:E1032)-1)))","v":-0.25865686439241975}]
[null,"2021-12-03",-10.264220529999999,342.83968981999999,330.8419442,{"$f":"IF(B1033=\"\",\"\",IF(C1033=\"\",F1032,IF(E1033=\"\",F1032,E1033/MAX($E$9:E1033)-1)))","v":-0.25639479399011189}]
[null,"2021-12-06",-10.264220529999999,350.35168550999998,338.09105605000002,{"$f":"IF(B1034=\"\",\"\",IF(C1034=\"\",F1033,IF(E1034=\"\",F1033,E1034/MAX($E$9:E1034)-1)))","v":-0.24010158387842984}]
[null,"2021-12-07",-10.264220529999999,362.28246079000002,349.60431139999997,{"$f":"IF(B1035=\"\",\"\",IF(C1035=\"\",F1034,IF(E1035=\"\",F1034,E1035/MAX($E$9:E1035)-1)))","v":-0.21422422229695615}]
[null,"2021-12-08",-10.264220529999999,362.39039214000002,349.70846567000001,{"$f":"IF(B1036=\"\",\"\",IF(C1036=\"\",F1035,IF(E1036=\"\",F1035,E1036/MAX($E$9:E1036)-1)))","v":-0.21399012363214664}]
[null,"2021-12-09",-10.264220529999999,355.31503512,342.88071222000002,{"$f":"IF(B1037=\"\",\"\",IF(C1037=\"\",F1036,IF(E1037=\"\",F1036,E1037/MAX($E$9:E1037)-1)))","v":-0.22933628242422155}]
[null,"2021-12-10",-10.264220529999999,358.44113061000002,345.89740935999998,{"$f":"IF(B1038=\"\",\"\",IF(C1038=\"\",F1037,IF(E1038=\"\",F1037,E1038/MAX($E$9:E1038)-1)))","v":-0.22255590968858363}]
[null,"2021-12-13",-10.264220529999999,356.03810451999999,343.57847765999998,{"$f":"IF(B1039=\"\",\"\",IF(C1039=\"\",F1038,IF(E1039=\"\",F1038,E1039/MAX($E$9:E1039)-1)))","v":-0.22776797458764297}]
[null,"2021-12-14",-10.264220529999999,346.61284488000001,334.48305692000002,{"$f":"IF(B1040=\"\",\"\",IF(C1040=\"\",F1039,IF(E1040=\"\",F1039,E1040/MAX($E$9:E1040)-1)))","v":-0.24821097563900196}]
[null,"2021-12-15",-10.264220529999999,351.90060356999999,339.58576941000001,{"$f":"IF(B1041=\"\",\"\",IF(C1041=\"\",F1040,IF(E1041=\"\",F1040,E1041/MAX($E$9:E1041)-1)))","v":-0.23674204420858491}]
[null,"2021-12-16",-10.264220529999999,350.72614970000001,338.45241578999998,{"$f":"IF(B1042=\"\",\"\",IF(C1042=\"\",F1041,IF(E1042=\"\",F1041,E1042/MAX($E$9:E1042)-1)))","v":-0.23928938642699693}]
[null,"2021-12-17",-10.264220529999999,345.38406973000002,333.29728302000001,{"$f":"IF(B1043=\"\",\"\",IF(C1043=\"\",F1042,IF(E1043=\"\",F1042,E1043/MAX($E$9:E1043)-1)))","v":-0.2508761384475533}]
[null,"2021-12-20",-10.264220529999999,335.04435394000001,323.31940771000001,{"$f":"IF(B1044=\"\",\"\",IF(C1044=\"\",F1043,IF(E1044=\"\",F1043,E1044/MAX($E$9:E1044)-1)))","v":-0.27330255733278463}]
[null,"2021-12-21",-10.264220529999999,338.10137707000001,326.26944967999998,{"$f":"IF(B1045=\"\",\"\",IF(C1045=\"\",F1044,IF(E1045=\"\",F1044,E1045/MAX($E$9:E1045)-1)))","v":-0.26667199973482325}]
[null,"2021-12-22",-10.264220529999999,338.54318708,326.69579845999999,{"$f":"IF(B1046=\"\",\"\",IF(C1046=\"\",F1045,IF(E1046=\"\",F1045,E1046/MAX($E$9:E1046)-1)))","v":-0.26571373196393766}]
[null,"2021-12-23",-10.264220529999999,337.22161345000001,325.42047357000001,{"$f":"IF(B1047=\"\",\"\",IF(C1047=\"\",F1046,IF(E1047=\"\",F1046,E1047/MAX($E$9:E1047)-1)))","v":-0.26858017089099429}]
[null,"2021-12-24",null,null,null,{"$f":"IF(B1048=\"\",\"\",IF(C1048=\"\",F1047,IF(E1048=\"\",F1047,E1048/MAX($E$9:E1048)-1)))","v":-0.26858017089099429}]
[null,"2021-12-27",-10.264220529999999,342.00844552000001,330.03978946000001,{"$f":"IF(B1049=\"\",\"\",IF(C1049=\"\",F1048,IF(E1049=\"\",F1048,E1049/MAX($E$9:E1049)-1)))","v":-0.25819772874837499}]
[null,"2021-12-28",-10.264220529999999,337.48643766999999,325.67603021000002,{"$f":"IF(B1050=\"\",\"\",IF(C1050=\"\",F1049,IF(E1050=\"\",F1049,E1050/MAX($E$9:E1050)-1)))","v":-0.26800577803886083}]
[null,"2021-12-29",-10.264220529999999,334.21657123,322.52059343000002,{"$f":"IF(B1051=\"\",\"\",IF(C1051=\"\",F1050,IF(E1051=\"\",F1050,E1051/MAX($E$9:E1051)-1)))","v":-0.27509798402415953}]
[null,"2021-12-30",-10.264220529999999,340.32509384000002,328.41534702000001,{"$f":"IF(B1052=\"\",\"\",IF(C1052=\"\",F1051,IF(E1052=\"\",F1051,E1052/MAX($E$9:E1052)-1)))","v":-0.261848849401073}]
[null,"2021-12-31",null,null,null,{"$f":"IF(B1053=\"\",\"\",IF(C1053=\"\",F1052,IF(E1053=\"\",F1052,E1053/MAX($E$9:E1053)-1)))","v":-0.261848849401073}]
[null,"2022-01-03",-10.264220529999999,334.79205990000003,323.07594275000002,{"$f":"IF(B1054=\"\",\"\",IF(C1054=\"\",F1053,IF(E1054=\"\",F1053,E1054/MAX($E$9:E1054)-1)))","v":-0.2738497727476098}]
[null,"2022-01-04",-10.264220529999999,328.69835532000002,317.19548861999999,{"$f":"IF(B1055=\"\",\"\",IF(C1055=\"\",F1054,IF(E1055=\"\",F1054,E1055/MAX($E$9:E1055)-1)))","v":-0.28706676769468031}]
[null,"2022-01-05",-10.264220529999999,311.87116458000003,300.95716888999999,{"$f":"IF(B1056=\"\",\"\",IF(C1056=\"\",F1055,IF(E1056=\"\",F1055,E1056/MAX($E$9:E1056)-1)))","v":-0.32356425327583627}]
[null,"2022-01-06",-10.264220529999999,314.06013268999999,303.06953361000001,{"$f":"IF(B1057=\"\",\"\",IF(C1057=\"\",F1056,IF(E1057=\"\",F1056,E1057/MAX($E$9:E1057)-1)))","v":-0.31881647135059743}]
[null,"2022-01-07",-10.264220529999999,326.07017959000001,314.65928644000002,{"$f":"IF(B1058=\"\",\"\",IF(C1058=\"\",F1057,IF(E1058=\"\",F1057,E1058/MAX($E$9:E1058)-1)))","v":-0.29276717291114085}]
[null,"2022-01-10",-10.264220529999999,321.32192523999998,310.07719823000002,{"$f":"IF(B1059=\"\",\"\",IF(C1059=\"\",F1058,IF(E1059=\"\",F1058,E1059/MAX($E$9:E1059)-1)))","v":-0.30306594157419997}]
[null,"2022-01-11",-10.264220529999999,329.20391123000002,317.68335249,{"$f":"IF(B1060=\"\",\"\",IF(C1060=\"\",F1059,IF(E1060=\"\",F1059,E1060/MAX($E$9:E1060)-1)))","v":-0.28597023770531227}]
[null,"2022-01-12",-10.264220529999999,333.30631433000002,321.64219114999997,{"$f":"IF(B1061=\"\",\"\",IF(C1061=\"\",F1060,IF(E1061=\"\",F1060,E1061/MAX($E$9:E1061)-1)))","v":-0.27707229387159571}]
[null,"2022-01-13",-10.264220529999999,328.02587734000002,316.54654414999999,{"$f":"IF(B1062=\"\",\"\",IF(C1062=\"\",F1061,IF(E1062=\"\",F1061,E1062/MAX($E$9:E1062)-1)))","v":-0.28852534480306413}]
[null,"2022-01-14",-10.264220529999999,338.12164154999999,326.28900499999997,{"$f":"IF(B1063=\"\",\"\",IF(C1063=\"\",F1062,IF(E1063=\"\",F1062,E1063/MAX($E$9:E1063)-1)))","v":-0.26662804691078712}]
[null,"2022-01-17",-10.264220529999999,334.5005941,322.79467684999997,{"$f":"IF(B1064=\"\",\"\",IF(C1064=\"\",F1063,IF(E1064=\"\",F1063,E1064/MAX($E$9:E1064)-1)))","v":-0.27448195010957899}]
[null,"2022-01-18",-10.264220529999999,337.02608157999998,325.23178438000002,{"$f":"IF(B1065=\"\",\"\",IF(C1065=\"\",F1064,IF(E1065=\"\",F1064,E1065/MAX($E$9:E1065)-1)))","v":-0.26900427148180983}]
[null,"2022-01-19",-10.264220529999999,342.27706742999999,330.29901089999998,{"$f":"IF(B1066=\"\",\"\",IF(C1066=\"\",F1065,IF(E1066=\"\",F1065,E1066/MAX($E$9:E1066)-1)))","v":-0.25761509883801259}]
[null,"2022-01-20",-10.264220529999999,348.46865079999998,336.27391853,{"$f":"IF(B1067=\"\",\"\",IF(C1067=\"\",F1066,IF(E1067=\"\",F1066,E1067/MAX($E$9:E1067)-1)))","v":-0.24418580881905916}]
[null,"2022-01-21",-10.264220529999999,343.32676163999997,331.31197085000002,{"$f":"IF(B1068=\"\",\"\",IF(C1068=\"\",F1067,IF(E1068=\"\",F1067,E1068/MAX($E$9:E1068)-1)))","v":-0.25533835519802173}]
[null,"2022-01-24",-10.264220529999999,336.62954876999999,324.84912831999998,{"$f":"IF(B1069=\"\",\"\",IF(C1069=\"\",F1068,IF(E1069=\"\",F1068,E1069/MAX($E$9:E1069)-1)))","v":-0.26986433485441308}]
[null,"2022-01-25",-10.264220529999999,341.62543118999997,329.67017879999997,{"$f":"IF(B1070=\"\",\"\",IF(C1070=\"\",F1069,IF(E1070=\"\",F1069,E1070/MAX($E$9:E1070)-1)))","v":-0.25902847108861049}]
[null,"2022-01-26",-10.264220529999999,342.94347945999999,330.94210170000002,{"$f":"IF(B1071=\"\",\"\",IF(C1071=\"\",F1070,IF(E1071=\"\",F1070,E1071/MAX($E$9:E1071)-1)))","v":-0.25616967852417227}]
[null,"2022-01-27",-10.264220529999999,350.28942669000003,338.03097600000001,{"$f":"IF(B1072=\"\",\"\",IF(C1072=\"\",F1071,IF(E1072=\"\",F1071,E1072/MAX($E$9:E1072)-1)))","v":-0.24023662067996165}]
[null,"2022-01-28",-10.264220529999999,347.00489157999999,334.86138387,{"$f":"IF(B1073=\"\",\"\",IF(C1073=\"\",F1072,IF(E1073=\"\",F1072,E1073/MAX($E$9:E1073)-1)))","v":-0.24736064243752687}]
[null,"2022-01-31",-10.264220529999999,348.89698854,336.68726650999997,{"$f":"IF(B1074=\"\",\"\",IF(C1074=\"\",F1073,IF(E1074=\"\",F1073,E1074/MAX($E$9:E1074)-1)))","v":-0.24325676183692724}]
[null,"2022-02-01",-10.264220529999999,355.64347477000001,343.19765805999998,{"$f":"IF(B1075=\"\",\"\",IF(C1075=\"\",F1074,IF(E1075=\"\",F1074,E1075/MAX($E$9:E1075)-1)))","v":-0.22862391030581597}]
[null,"2022-02-02",-10.264220529999999,347.29071119000002,335.13720116000002,{"$f":"IF(B1076=\"\",\"\",IF(C1076=\"\",F1075,IF(E1076=\"\",F1075,E1076/MAX($E$9:E1076)-1)))","v":-0.24674071145130483}]
[null,"2022-02-03",-10.264220529999999,340.98392763999999,329.05112480999998,{"$f":"IF(B1077=\"\",\"\",IF(C1077=\"\",F1076,IF(E1077=\"\",F1076,E1077/MAX($E$9:E1077)-1)))","v":-0.26041986591576372}]
[null,"2022-02-04",-10.264220529999999,348.62252728999999,336.42241008000002,{"$f":"IF(B1078=\"\",\"\",IF(C1078=\"\",F1077,IF(E1078=\"\",F1077,E1078/MAX($E$9:E1078)-1)))","v":-0.24385205703345803}]
[null,"2022-02-07",-10.264220529999999,350.60290250999998,338.33348166000002,{"$f":"IF(B1079=\"\",\"\",IF(C1079=\"\",F1078,IF(E1079=\"\",F1078,E1079/MAX($E$9:E1079)-1)))","v":-0.23955670452190803}]
[null,"2022-02-08",-10.264220529999999,351.96195082999998,339.64496981000002,{"$f":"IF(B1080=\"\",\"\",IF(C1080=\"\",F1079,IF(E1080=\"\",F1079,E1080/MAX($E$9:E1080)-1)))","v":-0.23660898452129431}]
[null,"2022-02-09",-10.264220529999999,355.66428051999998,343.21773571,{"$f":"IF(B1081=\"\",\"\",IF(C1081=\"\",F1080,IF(E1081=\"\",F1080,E1081/MAX($E$9:E1081)-1)))","v":-0.22857878348521121}]
[null,"2022-02-10",-10.264220529999999,356.09275359999998,343.63121427999999,{"$f":"IF(B1082=\"\",\"\",IF(C1082=\"\",F1081,IF(E1082=\"\",F1081,E1082/MAX($E$9:E1082)-1)))","v":-0.22764944298708001}]
[null,"2022-02-11",-10.264220529999999,356.50172121999998,344.02587,{"$f":"IF(B1083=\"\",\"\",IF(C1083=\"\",F1082,IF(E1083=\"\",F1082,E1083/MAX($E$9:E1083)-1)))","v":-0.22676240900267031}]
[null,"2022-02-14",-10.264220529999999,363.79038315000003,351.05946369999998,{"$f":"IF(B1084=\"\",\"\",IF(C1084=\"\",F1083,IF(E1084=\"\",F1083,E1084/MAX($E$9:E1084)-1)))","v":-0.21095360064578139}]
[null,"2022-02-15",-10.264220529999999,366.97761357000002,354.13515633999998,{"$f":"IF(B1085=\"\",\"\",IF(C1085=\"\",F1084,IF(E1085=\"\",F1084,E1085/MAX($E$9:E1085)-1)))","v":-0.2040406287590979}]
[null,"2022-02-16",-10.264220529999999,362.85522479999997,350.15703141,{"$f":"IF(B1086=\"\",\"\",IF(C1086=\"\",F1085,IF(E1086=\"\",F1085,E1086/MAX($E$9:E1086)-1)))","v":-0.21298192069612465}]
[null,"2022-02-17",-10.264220529999999,355.20246900000001,342.77208538000002,{"$f":"IF(B1087=\"\",\"\",IF(C1087=\"\",F1086,IF(E1087=\"\",F1086,E1087/MAX($E$9:E1087)-1)))","v":-0.22958043370295889}]
[null,"2022-02-18",-10.264220529999999,349.82743268000002,337.58514957,{"$f":"IF(B1088=\"\",\"\",IF(C1088=\"\",F1087,IF(E1088=\"\",F1087,E1088/MAX($E$9:E1088)-1)))","v":-0.24123866670265226}]
[null,"2022-02-21",-10.264220529999999,350.89308755000002,338.61351162,{"$f":"IF(B1089=\"\",\"\",IF(C1089=\"\",F1088,IF(E1089=\"\",F1088,E1089/MAX($E$9:E1089)-1)))","v":-0.2389273050768097}]
[null,"2022-02-22",-10.264220529999999,345.34713406999998,333.26163991999999,{"$f":"IF(B1090=\"\",\"\",IF(C1090=\"\",F1089,IF(E1090=\"\",F1089,E1090/MAX($E$9:E1090)-1)))","v":-0.25095625040186564}]
[null,"2022-02-23",-10.264220529999999,339.48582046000001,327.60544419000001,{"$f":"IF(B1091=\"\",\"\",IF(C1091=\"\",F1090,IF(E1091=\"\",F1090,E1091/MAX($E$9:E1091)-1)))","v":-0.2636691988800558}]
[null,"2022-02-24",-10.264220529999999,339.91118834000002,328.01592624,{"$f":"IF(B1092=\"\",\"\",IF(C1092=\"\",F1091,IF(E1092=\"\",F1091,E1092/MAX($E$9:E1092)-1)))","v":-0.26274659340422457}]
[null,"2022-02-25",-10.264220529999999,347.56299601000001,335.39995732,{"$f":"IF(B1093=\"\",\"\",IF(C1093=\"\",F1092,IF(E1093=\"\",F1092,E1093/MAX($E$9:E1093)-1)))","v":-0.24615013685242915}]
[null,"2022-02-28",null,null,null,{"$f":"IF(B1094=\"\",\"\",IF(C1094=\"\",F1093,IF(E1094=\"\",F1093,E1094/MAX($E$9:E1094)-1)))","v":-0.24615013685242915}]
[null,"2022-03-01",null,null,null,{"$f":"IF(B1095=\"\",\"\",IF(C1095=\"\",F1094,IF(E1095=\"\",F1094,E1095/MAX($E$9:E1095)-1)))","v":-0.24615013685242915}]
[null,"2022-03-02",-10.264220529999999,364.10100620999998,351.35921644000001,{"$f":"IF(B1096=\"\",\"\",IF(C1096=\"\",F1095,IF(E1096=\"\",F1095,E1096/MAX($E$9:E1096)-1)))","v":-0.21027987199109477}]
[null,"2022-03-03",-10.264220529999999,368.31544066999999,355.4261659,{"$f":"IF(B1097=\"\",\"\",IF(C1097=\"\",F1096,IF(E1097=\"\",F1096,E1097/MAX($E$9:E1097)-1)))","v":-0.20113893673771321}]
[null,"2022-03-04",-10.264220529999999,366.61804054999999,353.78816664999999,{"$f":"IF(B1098=\"\",\"\",IF(C1098=\"\",F1097,IF(E1098=\"\",F1097,E1098/MAX($E$9:E1098)-1)))","v":-0.20482052787539551}]
[null,"2022-03-07",-10.264220529999999,359.52794082000003,346.94618642,{"$f":"IF(B1099=\"\",\"\",IF(C1099=\"\",F1098,IF(E1099=\"\",F1098,E1099/MAX($E$9:E1099)-1)))","v":-0.22019866298685253}]
[null,"2022-03-08",-10.264220529999999,357.69545957999998,345.17783323999998,{"$f":"IF(B1100=\"\",\"\",IF(C1100=\"\",F1099,IF(E1100=\"\",F1099,E1100/MAX($E$9:E1100)-1)))","v":-0.22417323952941215}]
[null,"2022-03-09",-10.264220529999999,357.33890052999999,344.83375204999999,{"$f":"IF(B1101=\"\",\"\",IF(C1101=\"\",F1100,IF(E1101=\"\",F1100,E1101/MAX($E$9:E1101)-1)))","v":-0.2249466014584528}]
[null,"2022-03-10",-10.264220529999999,354.06291680999999,341.67241204999999,{"$f":"IF(B1102=\"\",\"\",IF(C1102=\"\",F1101,IF(E1102=\"\",F1101,E1102/MAX($E$9:E1102)-1)))","v":-0.23205207560760177}]
[null,"2022-03-11",-10.264220529999999,345.94891928999999,333.84236555000001,{"$f":"IF(B1103=\"\",\"\",IF(C1103=\"\",F1102,IF(E1103=\"\",F1102,E1103/MAX($E$9:E1103)-1)))","v":-0.24965100295878351}]
[null,"2022-03-14",-10.264220529999999,333.33023981999997,321.66527937000001,{"$f":"IF(B1104=\"\",\"\",IF(C1104=\"\",F1103,IF(E1104=\"\",F1103,E1104/MAX($E$9:E1104)-1)))","v":-0.27702040044970488}]
[null,"2022-03-15",-10.264220529999999,329.61193062000001,318.07709316,{"$f":"IF(B1105=\"\",\"\",IF(C1105=\"\",F1104,IF(E1105=\"\",F1104,E1105/MAX($E$9:E1105)-1)))","v":-0.28508526040070292}]
[null,"2022-03-16",-10.264220529999999,336.71158014000002,324.92828897999999,{"$f":"IF(B1106=\"\",\"\",IF(C1106=\"\",F1105,IF(E1106=\"\",F1105,E1106/MAX($E$9:E1106)-1)))","v":-0.26968641219400336}]
[null,"2022-03-17",-10.264220529999999,351.69743868,339.38971430999999,{"$f":"IF(B1107=\"\",\"\",IF(C1107=\"\",F1106,IF(E1107=\"\",F1106,E1107/MAX($E$9:E1107)-1)))","v":-0.23718270052674717}]
[null,"2022-03-18",-10.264220529999999,360.89237250999997,348.26286954,{"$f":"IF(B1108=\"\",\"\",IF(C1108=\"\",F1107,IF(E1108=\"\",F1107,E1108/MAX($E$9:E1108)-1)))","v":-0.21723926669547577}]
[null,"2022-03-21",-10.264220529999999,360.15908456,347.55524315999997,{"$f":"IF(B1109=\"\",\"\",IF(C1109=\"\",F1108,IF(E1109=\"\",F1108,E1109/MAX($E$9:E1109)-1)))","v":-0.21882973812542195}]
[null,"2022-03-22",-10.264220529999999,363.68037922000002,350.95330938000001,{"$f":"IF(B1110=\"\",\"\",IF(C1110=\"\",F1109,IF(E1110=\"\",F1109,E1110/MAX($E$9:E1110)-1)))","v":-0.21119219465230399}]
[null,"2022-03-23",-10.264220529999999,366.80556689000002,353.96913046999998,{"$f":"IF(B1111=\"\",\"\",IF(C1111=\"\",F1110,IF(E1111=\"\",F1110,E1111/MAX($E$9:E1111)-1)))","v":-0.20441379093949452}]
[null,"2022-03-24",-10.264220529999999,367.58687699000001,354.72309846000002,{"$f":"IF(B1112=\"\",\"\",IF(C1112=\"\",F1111,IF(E1112=\"\",F1111,E1112/MAX($E$9:E1112)-1)))","v":-0.20271916142725255}]
[null,"2022-03-25",-10.264220529999999,362.79975965,350.10350727999997,{"$f":"IF(B1113=\"\",\"\",IF(C1113=\"\",F1112,IF(E1113=\"\",F1112,E1113/MAX($E$9:E1113)-1)))","v":-0.21310222231571341}]
[null,"2022-03-28",-10.264220529999999,362.98991719000003,350.28701021000001,{"$f":"IF(B1114=\"\",\"\",IF(C1114=\"\",F1113,IF(E1114=\"\",F1113,E1114/MAX($E$9:E1114)-1)))","v":-0.21268977843893699}]
[null,"2022-03-29",-10.264220529999999,365.04656262999998,352.27168291999999,{"$f":"IF(B1115=\"\",\"\",IF(C1115=\"\",F1114,IF(E1115=\"\",F1114,E1115/MAX($E$9:E1115)-1)))","v":-0.20822899894814317}]
[null,"2022-03-30",-10.264220529999999,365.42428490999998,352.63618673000002,{"$f":"IF(B1116=\"\",\"\",IF(C1116=\"\",F1115,IF(E1116=\"\",F1115,E1116/MAX($E$9:E1116)-1)))","v":-0.20740973483886616}]
[null,"2022-03-31",-10.264220529999999,360.55248641999998,347.93487783,{"$f":"IF(B1117=\"\",\"\",IF(C1117=\"\",F1116,IF(E1117=\"\",F1116,E1117/MAX($E$9:E1117)-1)))","v":-0.21797646567329532}]
[null,"2022-04-01",-10.264220529999999,368.84096146000002,355.93329598000003,{"$f":"IF(B1118=\"\",\"\",IF(C1118=\"\",F1117,IF(E1118=\"\",F1117,E1118/MAX($E$9:E1118)-1)))","v":-0.1999991037321851}]
[null,"2022-04-04",-10.264220529999999,368.15606546999999,355.27236807000003,{"$f":"IF(B1119=\"\",\"\",IF(C1119=\"\",F1118,IF(E1119=\"\",F1118,E1119/MAX($E$9:E1119)-1)))","v":-0.20148461499606563}]
[null,"2022-04-05",-10.264220529999999,359.01664147000002,346.45278008999998,{"$f":"IF(B1120=\"\",\"\",IF(C1120=\"\",F1119,IF(E1120=\"\",F1119,E1120/MAX($E$9:E1120)-1)))","v":-0.22130765029060395}]
[null,"2022-04-06",-10.264220529999999,353.64910621000001,341.27308283999997,{"$f":"IF(B1121=\"\",\"\",IF(C1121=\"\",F1120,IF(E1121=\"\",F1120,E1121/MAX($E$9:E1121)-1)))","v":-0.23294961379667833}]
[null,"2022-04-07",-10.264220529999999,355.38514243999998,342.94836612,{"$f":"IF(B1122=\"\",\"\",IF(C1122=\"\",F1121,IF(E1122=\"\",F1121,E1122/MAX($E$9:E1122)-1)))","v":-0.2291842225263494}]
[null,"2022-04-08",-10.264220529999999,352.57821747000003,340.23967006999999,{"$f":"IF(B1123=\"\",\"\",IF(C1123=\"\",F1122,IF(E1123=\"\",F1122,E1123/MAX($E$9:E1123)-1)))","v":-0.23527232749486815}]
[null,"2022-04-11",-10.264220529999999,346.81806605999998,334.68109634000001,{"$f":"IF(B1124=\"\",\"\",IF(C1124=\"\",F1123,IF(E1124=\"\",F1123,E1124/MAX($E$9:E1124)-1)))","v":-0.24776585933410522}]
[null,"2022-04-12",-10.264220529999999,344.56824243,332.51000576000001,{"$f":"IF(B1125=\"\",\"\",IF(C1125=\"\",F1124,IF(E1125=\"\",F1124,E1125/MAX($E$9:E1125)-1)))","v":-0.2526456343635709}]
[null,"2022-04-13",-10.264220529999999,347.35376873000001,335.19805199000001,{"$f":"IF(B1126=\"\",\"\",IF(C1126=\"\",F1125,IF(E1126=\"\",F1125,E1126/MAX($E$9:E1126)-1)))","v":-0.24660394223334048}]
[null,"2022-04-14",-10.264220529999999,347.21594472999999,335.06505117,{"$f":"IF(B1127=\"\",\"\",IF(C1127=\"\",F1126,IF(E1127=\"\",F1126,E1127/MAX($E$9:E1127)-1)))","v":-0.24690287682700196}]
[null,"2022-04-15",null,null,null,{"$f":"IF(B1128=\"\",\"\",IF(C1128=\"\",F1127,IF(E1128=\"\",F1127,E1128/MAX($E$9:E1128)-1)))","v":-0.24690287682700196}]
[null,"2022-04-18",-10.264220529999999,346.51245814999999,334.38618324999999,{"$f":"IF(B1129=\"\",\"\",IF(C1129=\"\",F1128,IF(E1129=\"\",F1128,E1129/MAX($E$9:E1129)-1)))","v":-0.24842871032047198}]
[null,"2022-04-19",-10.264220529999999,344.63230859999999,332.57182992000003,{"$f":"IF(B1130=\"\",\"\",IF(C1130=\"\",F1129,IF(E1130=\"\",F1129,E1130/MAX($E$9:E1130)-1)))","v":-0.25250667747482336}]
[null,"2022-04-20",-10.264220529999999,344.50594388000002,332.44988735999999,{"$f":"IF(B1131=\"\",\"\",IF(C1131=\"\",F1130,IF(E1131=\"\",F1130,E1131/MAX($E$9:E1131)-1)))","v":-0.25278075736112515}]
[null,"2022-04-21",null,null,null,{"$f":"IF(B1132=\"\",\"\",IF(C1132=\"\",F1131,IF(E1132=\"\",F1131,E1132/MAX($E$9:E1132)-1)))","v":-0.25278075736112515}]
[null,"2022-04-22",-10.264220529999999,332.83801892000002,321.19028383,{"$f":"IF(B1133=\"\",\"\",IF(C1133=\"\",F1132,IF(E1133=\"\",F1132,E1133/MAX($E$9:E1133)-1)))","v":-0.27808800739183426}]
[null,"2022-04-25",-10.264220529999999,332.76044991999999,321.11542938000002,{"$f":"IF(B1134=\"\",\"\",IF(C1134=\"\",F1133,IF(E1134=\"\",F1133,E1134/MAX($E$9:E1134)-1)))","v":-0.27825625135149179}]
[null,"2022-04-26",-10.264220529999999,328.96778453000002,317.45548910000002,{"$f":"IF(B1135=\"\",\"\",IF(C1135=\"\",F1134,IF(E1135=\"\",F1134,E1135/MAX($E$9:E1135)-1)))","v":-0.2864823868025882}]
[null,"2022-04-27",-10.264220529999999,337.02404143000001,325.22981563000002,{"$f":"IF(B1136=\"\",\"\",IF(C1136=\"\",F1135,IF(E1136=\"\",F1135,E1136/MAX($E$9:E1136)-1)))","v":-0.26900869647318415}]
[null,"2022-04-28",-10.264220529999999,342.32542917000001,330.34568021000001,{"$f":"IF(B1137=\"\",\"\",IF(C1137=\"\",F1136,IF(E1137=\"\",F1136,E1137/MAX($E$9:E1137)-1)))","v":-0.25751020421239057}]
[null,"2022-04-29",-9.2303148283999992,337.66426616000001,325.84763556000001,{"$f":"IF(B1138=\"\",\"\",IF(C1138=\"\",F1137,IF(E1138=\"\",F1137,E1138/MAX($E$9:E1138)-1)))","v":-0.26762007533738597}]
[null,"2022-05-02",-8.8057387454999994,327.74025373000001,316.27091598999999,{"$f":"IF(B1139=\"\",\"\",IF(C1139=\"\",F1138,IF(E1139=\"\",F1138,E1139/MAX($E$9:E1139)-1)))","v":-0.28914485069792439}]
[null,"2022-05-03",-8.8057387454999994,328.96826411000001,317.45595188999999,{"$f":"IF(B1140=\"\",\"\",IF(C1140=\"\",F1139,IF(E1140=\"\",F1139,E1140/MAX($E$9:E1140)-1)))","v":-0.28648134662899682}]
[null,"2022-05-04",-8.8057387454999994,338.45199781000002,326.60780038000001,{"$f":"IF(B1141=\"\",\"\",IF(C1141=\"\",F1140,IF(E1141=\"\",F1140,E1141/MAX($E$9:E1141)-1)))","v":-0.26591151773915156}]
[null,"2022-05-05",-7.8354574087,328.50403122,317.00796493000001,{"$f":"IF(B1142=\"\",\"\",IF(C1142=\"\",F1141,IF(E1142=\"\",F1141,E1142/MAX($E$9:E1142)-1)))","v":-0.2874882486906023}]
[null,"2022-05-06",-7.8354574087,323.43303741,312.11443159999999,{"$f":"IF(B1143=\"\",\"\",IF(C1143=\"\",F1142,IF(E1143=\"\",F1142,E1143/MAX($E$9:E1143)-1)))","v":-0.29848702597311993}]
[null,"2022-05-09",-5.7887808860999996,308.32698535999998,297.53701895,{"$f":"IF(B1144=\"\",\"\",IF(C1144=\"\",F1143,IF(E1144=\"\",F1143,E1144/MAX($E$9:E1144)-1)))","v":-0.33125143244191246}]
[null,"2022-05-10",-5.7887808860999996,307.34412379000003,296.58855283000003,{"$f":"IF(B1145=\"\",\"\",IF(C1145=\"\",F1144,IF(E1145=\"\",F1144,E1145/MAX($E$9:E1145)-1)))","v":-0.33338321880370947}]
[null,"2022-05-11",-3.2345168597999998,315.29058330999999,304.25692435000002,{"$f":"IF(B1146=\"\",\"\",IF(C1146=\"\",F1145,IF(E1146=\"\",F1145,E1146/MAX($E$9:E1146)-1)))","v":-0.31614767450874903}]
[null,"2022-05-12",-3.2345168597999998,320.26933029999998,309.06143907000001,{"$f":"IF(B1147=\"\",\"\",IF(C1147=\"\",F1146,IF(E1147=\"\",F1146,E1147/MAX($E$9:E1147)-1)))","v":-0.30534897675964079}]
[null,"2022-05-13",-3.2345168597999998,326.60319473999999,315.17364860999999,{"$f":"IF(B1148=\"\",\"\",IF(C1148=\"\",F1147,IF(E1148=\"\",F1147,E1148/MAX($E$9:E1148)-1)))","v":-0.29161108495406096}]
[null,"2022-05-16",-3.2345168597999998,329.27952628999998,317.75632138999998,{"$f":"IF(B1149=\"\",\"\",IF(C1149=\"\",F1148,IF(E1149=\"\",F1148,E1149/MAX($E$9:E1149)-1)))","v":-0.2858062317354888}]
[null,"2022-05-17",-3.2345168597999998,329.85676668000002,318.31336112999998,{"$f":"IF(B1150=\"\",\"\",IF(C1150=\"\",F1149,IF(E1150=\"\",F1149,E1150/MAX($E$9:E1150)-1)))","v":-0.28455422104615491}]
[null,"2022-05-18",-3.2345168597999998,318.52225283000001,307.37550092999999,{"$f":"IF(B1151=\"\",\"\",IF(C1151=\"\",F1150,IF(E1151=\"\",F1150,E1151/MAX($E$9:E1151)-1)))","v":-0.30913831604957309}]
[null,"2022-05-19",-3.2345168597999998,318.71880149999998,307.56517134000001,{"$f":"IF(B1152=\"\",\"\",IF(C1152=\"\",F1151,IF(E1152=\"\",F1151,E1152/MAX($E$9:E1152)-1)))","v":-0.30871201005429461}]
[null,"2022-05-20",-3.2345168597999998,323.79812344999999,312.46674137000002,{"$f":"IF(B1153=\"\",\"\",IF(C1153=\"\",F1152,IF(E1153=\"\",F1152,E1153/MAX($E$9:E1153)-1)))","v":-0.29769516936698837}]
[null,"2022-05-23",-3.2345168597999998,329.15869844000002,317.63972193000001,{"$f":"IF(B1154=\"\",\"\",IF(C1154=\"\",F1153,IF(E1154=\"\",F1153,E1154/MAX($E$9:E1154)-1)))","v":-0.28606830239186698}]
[null,"2022-05-24",-3.2345168597999998,332.54314152000001,320.90572572999997,{"$f":"IF(B1155=\"\",\"\",IF(C1155=\"\",F1154,IF(E1155=\"\",F1154,E1155/MAX($E$9:E1155)-1)))","v":-0.27872758435080769}]
[null,"2022-05-25",-3.2345168597999998,330.97814948000001,319.39550091000001,{"$f":"IF(B1156=\"\",\"\",IF(C1156=\"\",F1155,IF(E1156=\"\",F1155,E1156/MAX($E$9:E1156)-1)))","v":-0.28212198780564424}]
[null,"2022-05-26",-3.2345168597999998,333.39960923000001,321.73222118000001,{"$f":"IF(B1157=\"\",\"\",IF(C1157=\"\",F1156,IF(E1157=\"\",F1156,E1157/MAX($E$9:E1157)-1)))","v":-0.27686994105576046}]
[null,"2022-05-27",-3.2345168597999998,337.90506691000002,326.08000944000003,{"$f":"IF(B1158=\"\",\"\",IF(C1158=\"\",F1157,IF(E1158=\"\",F1157,E1158/MAX($E$9:E1158)-1)))","v":-0.26709778839663378}]
[null,"2022-05-30",-3.2345168597999998,334.79879496000001,323.08244212,{"$f":"IF(B1159=\"\",\"\",IF(C1159=\"\",F1158,IF(E1159=\"\",F1158,E1159/MAX($E$9:E1159)-1)))","v":-0.27383516466827618}]
[null,"2022-05-31",-3.2345168597999998,333.06459426999999,321.40893014,{"$f":"IF(B1160=\"\",\"\",IF(C1160=\"\",F1159,IF(E1160=\"\",F1159,E1160/MAX($E$9:E1160)-1)))","v":-0.27759657473874677}]
[null,"2022-06-01",-3.2345168597999998,336.43692657999998,324.66324698,{"$f":"IF(B1161=\"\",\"\",IF(C1161=\"\",F1160,IF(E1161=\"\",F1160,E1161/MAX($E$9:E1161)-1)))","v":-0.2702821244803878}]
[null,"2022-06-02",-3.2345168597999998,340.80644524000002,328.87985343000003,{"$f":"IF(B1162=\"\",\"\",IF(C1162=\"\",F1161,IF(E1162=\"\",F1161,E1162/MAX($E$9:E1162)-1)))","v":-0.26080481798136834}]
[null,"2022-06-03",-3.2345168597999998,334.00984205999998,322.32109879000001,{"$f":"IF(B1163=\"\",\"\",IF(C1163=\"\",F1162,IF(E1163=\"\",F1162,E1163/MAX($E$9:E1163)-1)))","v":-0.27554637110287106}]
[null,"2022-06-06",-3.2345168597999998,330.35492461000001,318.79408591999999,{"$f":"IF(B1164=\"\",\"\",IF(C1164=\"\",F1163,IF(E1164=\"\",F1163,E1164/MAX($E$9:E1164)-1)))","v":-0.28347373695769873}]
[null,"2022-06-07",-3.2345168597999998,331.67997842,320.07276919999998,{"$f":"IF(B1165=\"\",\"\",IF(C1165=\"\",F1164,IF(E1165=\"\",F1164,E1165/MAX($E$9:E1165)-1)))","v":-0.2805997496640229}]
[null,"2022-06-08",-3.2345168597999998,327.10100720000003,315.65404002999998,{"$f":"IF(B1166=\"\",\"\",IF(C1166=\"\",F1165,IF(E1166=\"\",F1165,E1166/MAX($E$9:E1166)-1)))","v":-0.2905313501529061}]
[null,"2022-06-09",-3.2345168597999998,321.93662351,310.67038501000002,{"$f":"IF(B1167=\"\",\"\",IF(C1167=\"\",F1166,IF(E1167=\"\",F1166,E1167/MAX($E$9:E1167)-1)))","v":-0.30173268626761895}]
[null,"2022-06-10",-3.2345168597999998,318.28653732999999,307.14803434999999,{"$f":"IF(B1168=\"\",\"\",IF(C1168=\"\",F1167,IF(E1168=\"\",F1167,E1168/MAX($E$9:E1168)-1)))","v":-0.30964957327087328}]
[null,"2022-06-13",-3.2345168597999998,308.45033583999998,297.65605276000002,{"$f":"IF(B1169=\"\",\"\",IF(C1169=\"\",F1168,IF(E1169=\"\",F1168,E1169/MAX($E$9:E1169)-1)))","v":-0.33098389030477127}]
[null,"2022-06-14",-3.2345168597999998,306.60837688999999,295.87855352999998,{"$f":"IF(B1170=\"\",\"\",IF(C1170=\"\",F1169,IF(E1170=\"\",F1169,E1170/MAX($E$9:E1170)-1)))","v":-0.33497902364344967}]
[null,"2022-06-15",-3.2345168597999998,306.54183754000002,295.81434274999998,{"$f":"IF(B1171=\"\",\"\",IF(C1171=\"\",F1170,IF(E1171=\"\",F1170,E1171/MAX($E$9:E1171)-1)))","v":-0.33512334473431205}]
[null,"2022-06-16",null,null,null,{"$f":"IF(B1172=\"\",\"\",IF(C1172=\"\",F1171,IF(E1172=\"\",F1171,E1172/MAX($E$9:E1172)-1)))","v":-0.33512334473431205}]
[null,"2022-06-17",-3.2345168597999998,289.38910463000002,279.26187326000002,{"$f":"IF(B1173=\"\",\"\",IF(C1173=\"\",F1172,IF(E1173=\"\",F1172,E1173/MAX($E$9:E1173)-1)))","v":-0.37232691792345729}]
[null,null,null,null,null,{"$f":"IF(B1174=\"\",\"\",IF(C1174=\"\",F1173,IF(E1174=\"\",F1173,E1174/MAX($E$9:E1174)-1)))","v":""}]
[null,null,null,null,null,{"$f":"IF(B1175=\"\",\"\",IF(C1175=\"\",F1174,IF(E1175=\"\",F1174,E1175/MAX($E$9:E1175)-1)))","v":""}]
[null,null,null,null,null,{"$f":"IF(B1176=\"\",\"\",IF(C1176=\"\",F1175,IF(E1176=\"\",F1175,E1176/MAX($E$9:E1176)-1)))","v":""}]
[null,null,null,null,null,{"$f":"IF(B1177=\"\",\"\",IF(C1177=\"\",F1176,IF(E1177=\"\",F1176,E1177/MAX($E$9:E1177)-1)))","v":""}]
[null,null,null,null,null,{"$f":"IF(B1178=\"\",\"\",IF(C1178=\"\",F1177,IF(E1178=\"\",F1177,E1178/MAX($E$9:E1178)-1)))","v":""}]
[null,null,null,null,null,{"$f":"IF(B1179=\"\",\"\",IF(C1179=\"\",F1178,IF(E1179=\"\",F1178,E1179/MAX($E$9:E1179)-1)))","v":""}]
[null,null,null,null,null,{"$f":"IF(B1180=\"\",\"\",IF(C1180=\"\",F1179,IF(E1180=\"\",F1179,E1180/MAX($E$9:E1180)-1)))","v":""}]
[null,null,null,null,null,{"$f":"IF(B1181=\"\",\"\",IF(C1181=\"\",F1180,IF(E1181=\"\",F1180,E1181/MAX($E$9:E1181)-1)))","v":""}]
[null,null,null,null,null,{"$f":"IF(B1182=\"\",\"\",IF(C1182=\"\",F1181,IF(E1182=\"\",F1181,E1182/MAX($E$9:E1182)-1)))","v":""}]
[null,null,null,null,null,{"$f":"IF(B1183=\"\",\"\",IF(C1183=\"\",F1182,IF(E1183=\"\",F1182,E1183/MAX($E$9:E1183)-1)))","v":""}]
[null,null,null,null,null,{"$f":"IF(B1184=\"\",\"\",IF(C1184=\"\",F1183,IF(E1184=\"\",F1183,E1184/MAX($E$9:E1184)-1)))","v":""}]
[null,null,null,null,null,{"$f":"IF(B1185=\"\",\"\",IF(C1185=\"\",F1184,IF(E1185=\"\",F1184,E1185/MAX($E$9:E1185)-1)))","v":""}]
[null,null,null,null,null,{"$f":"IF(B1186=\"\",\"\",IF(C1186=\"\",F1185,IF(E1186=\"\",F1185,E1186/MAX($E$9:E1186)-1)))","v":""}]
[null,null,null,null,null,{"$f":"IF(B1187=\"\",\"\",IF(C1187=\"\",F1186,IF(E1187=\"\",F1186,E1187/MAX($E$9:E1187)-1)))","v":""}]
[null,null,null,null,null,{"$f":"IF(B1188=\"\",\"\",IF(C1188=\"\",F1187,IF(E1188=\"\",F1187,E1188/MAX($E$9:E1188)-1)))","v":""}]
[null,null,null,null,null,{"$f":"IF(B1189=\"\",\"\",IF(C1189=\"\",F1188,IF(E1189=\"\",F1188,E1189/MAX($E$9:E1189)-1)))","v":""}]
[null,null,null,null,null,{"$f":"IF(B1190=\"\",\"\",IF(C1190=\"\",F1189,IF(E1190=\"\",F1189,E1190/MAX($E$9:E1190)-1)))","v":""}]
[null,null,null,null,null,{"$f":"IF(B1191=\"\",\"\",IF(C1191=\"\",F1190,IF(E1191=\"\",F1190,E1191/MAX($E$9:E1191)-1)))","v":""}]
[null,null,null,null,null,{"$f":"IF(B1192=\"\",\"\",IF(C1192=\"\",F1191,IF(E1192=\"\",F1191,E1192/MAX($E$9:E1192)-1)))","v":""}]
[null,null,null,null,null,{"$f":"IF(B1193=\"\",\"\",IF(C1193=\"\",F1192,IF(E1193=\"\",F1192,E1193/MAX($E$9:E1193)-1)))","v":""}]
[null,null,null,null,null,{"$f":"IF(B1194=\"\",\"\",IF(C1194=\"\",F1193,IF(E1194=\"\",F1193,E1194/MAX($E$9:E1194)-1)))","v":""}]
[null,null,null,null,null,{"$f":"IF(B1195=\"\",\"\",IF(C1195=\"\",F1194,IF(E1195=\"\",F1194,E1195/MAX($E$9:E1195)-1)))","v":""}]
[null,null,null,null,null,{"$f":"IF(B1196=\"\",\"\",IF(C1196=\"\",F1195,IF(E1196=\"\",F1195,E1196/MAX($E$9:E1196)-1)))","v":""}]
[null,null,null,null,null,{"$f":"IF(B1197=\"\",\"\",IF(C1197=\"\",F1196,IF(E1197=\"\",F1196,E1197/MAX($E$9:E1197)-1)))","v":""}]
[null,null,null,null,null,{"$f":"IF(B1198=\"\",\"\",IF(C1198=\"\",F1197,IF(E1198=\"\",F1197,E1198/MAX($E$9:E1198)-1)))","v":""}]
[null,null,null,null,null,{"$f":"IF(B1199=\"\",\"\",IF(C1199=\"\",F1198,IF(E1199=\"\",F1198,E1199/MAX($E$9:E1199)-1)))","v":""}]
[null,null,null,null,null,{"$f":"IF(B1200=\"\",\"\",IF(C1200=\"\",F1199,IF(E1200=\"\",F1199,E1200/MAX($E$9:E1200)-1)))","v":""}]
[null,null,null,null,null,{"$f":"IF(B1201=\"\",\"\",IF(C1201=\"\",F1200,IF(E1201=\"\",F1200,E1201/MAX($E$9:E1201)-1)))","v":""}]
[null,null,null,null,null,{"$f":"IF(B1202=\"\",\"\",IF(C1202=\"\",F1201,IF(E1202=\"\",F1201,E1202/MAX($E$9:E1202)-1)))","v":""}]
[null,null,null,null,null,{"$f":"IF(B1203=\"\",\"\",IF(C1203=\"\",F1202,IF(E1203=\"\",F1202,E1203/MAX($E$9:E1203)-1)))","v":""}]
[null,null,null,null,null,{"$f":"IF(B1204=\"\",\"\",IF(C1204=\"\",F1203,IF(E1204=\"\",F1203,E1204/MAX($E$9:E1204)-1)))","v":""}]
[null,null,null,null,null,{"$f":"IF(B1205=\"\",\"\",IF(C1205=\"\",F1204,IF(E1205=\"\",F1204,E1205/MAX($E$9:E1205)-1)))","v":""}]
[null,null,null,null,null,{"$f":"IF(B1206=\"\",\"\",IF(C1206=\"\",F1205,IF(E1206=\"\",F1205,E1206/MAX($E$9:E1206)-1)))","v":""}]
[null,null,null,null,null,{"$f":"IF(B1207=\"\",\"\",IF(C1207=\"\",F1206,IF(E1207=\"\",F1206,E1207/MAX($E$9:E1207)-1)))","v":""}]
[null,null,null,null,null,{"$f":"IF(B1208=\"\",\"\",IF(C1208=\"\",F1207,IF(E1208=\"\",F1207,E1208/MAX($E$9:E1208)-1)))","v":""}]
[null,null,null,null,null,{"$f":"IF(B1209=\"\",\"\",IF(C1209=\"\",F1208,IF(E1209=\"\",F1208,E1209/MAX($E$9:E1209)-1)))","v":""}]
[null,null,null,null,null,{"$f":"IF(B1210=\"\",\"\",IF(C1210=\"\",F1209,IF(E1210=\"\",F1209,E1210/MAX($E$9:E1210)-1)))","v":""}]
[null,null,null,null,null,{"$f":"IF(B1211=\"\",\"\",IF(C1211=\"\",F1210,IF(E1211=\"\",F1210,E1211/MAX($E$9:E1211)-1)))","v":""}]
[null,null,null,null,null,{"$f":"IF(B1212=\"\",\"\",IF(C1212=\"\",F1211,IF(E1212=\"\",F1211,E1212/MAX($E$9:E1212)-1)))","v":""}]
[null,null,null,null,null,{"$f":"IF(B1213=\"\",\"\",IF(C1213=\"\",F1212,IF(E1213=\"\",F1212,E1213/MAX($E$9:E1213)-1)))","v":""}]
[null,null,null,null,null,{"$f":"IF(B1214=\"\",\"\",IF(C1214=\"\",F1213,IF(E1214=\"\",F1213,E1214/MAX($E$9:E1214)-1)))","v":""}]
[null,null,null,null,null,{"$f":"IF(B1215=\"\",\"\",IF(C1215=\"\",F1214,IF(E1215=\"\",F1214,E1215/MAX($E$9:E1215)-1)))","v":""}]
[null,null,null,null,null,{"$f":"IF(B1216=\"\",\"\",IF(C1216=\"\",F1215,IF(E1216=\"\",F1215,E1216/MAX($E$9:E1216)-1)))","v":""}]
[null,null,null,null,null,{"$f":"IF(B1217=\"\",\"\",IF(C1217=\"\",F1216,IF(E1217=\"\",F1216,E1217/MAX($E$9:E1217)-1)))","v":""}]
[null,null,null,null,null,{"$f":"IF(B1218=\"\",\"\",IF(C1218=\"\",F1217,IF(E1218=\"\",F1217,E1218/MAX($E$9:E1218)-1)))","v":""}]
[null,null,null,null,null,{"$f":"IF(B1219=\"\",\"\",IF(C1219=\"\",F1218,IF(E1219=\"\",F1218,E1219/MAX($E$9:E1219)-1)))","v":""}]
[null,null,null,null,null,{"$f":"IF(B1220=\"\",\"\",IF(C1220=\"\",F1219,IF(E1220=\"\",F1219,E1220/MAX($E$9:E1220)-1)))","v":""}]
[null,null,null,null,null,{"$f":"IF(B1221=\"\",\"\",IF(C1221=\"\",F1220,IF(E1221=\"\",F1220,E1221/MAX($E$9:E1221)-1)))","v":""}]
[null,null,null,null,null,{"$f":"IF(B1222=\"\",\"\",IF(C1222=\"\",F1221,IF(E1222=\"\",F1221,E1222/MAX($E$9:E1222)-1)))","v":""}]
[null,null,null,null,null,{"$f":"IF(B1223=\"\",\"\",IF(C1223=\"\",F1222,IF(E1223=\"\",F1222,E1223/MAX($E$9:E1223)-1)))","v":""}]
[null,null,null,null,null,{"$f":"IF(B1224=\"\",\"\",IF(C1224=\"\",F1223,IF(E1224=\"\",F1223,E1224/MAX($E$9:E1224)-1)))","v":""}]
[null,null,null,null,null,{"$f":"IF(B1225=\"\",\"\",IF(C1225=\"\",F1224,IF(E1225=\"\",F1224,E1225/MAX($E$9:E1225)-1)))","v":""}]
[null,null,null,null,null,{"$f":"IF(B1226=\"\",\"\",IF(C1226=\"\",F1225,IF(E1226=\"\",F1225,E1226/MAX($E$9:E1226)-1)))","v":""}]
[null,null,null,null,null,{"$f":"IF(B1227=\"\",\"\",IF(C1227=\"\",F1226,IF(E1227=\"\",F1226,E1227/MAX($E$9:E1227)-1)))","v":""}]
[null,null,null,null,null,{"$f":"IF(B1228=\"\",\"\",IF(C1228=\"\",F1227,IF(E1228=\"\",F1227,E1228/MAX($E$9:E1228)-1)))","v":""}]
[null,null,null,null,null,{"$f":"IF(B1229=\"\",\"\",IF(C1229=\"\",F1228,IF(E1229=\"\",F1228,E1229/MAX($E$9:E1229)-1)))","v":""}]
[null,null,null,null,null,{"$f":"IF(B1230=\"\",\"\",IF(C1230=\"\",F1229,IF(E1230=\"\",F1229,E1230/MAX($E$9:E1230)-1)))","v":""}]
[null,null,null,null,null,{"$f":"IF(B1231=\"\",\"\",IF(C1231=\"\",F1230,IF(E1231=\"\",F1230,E1231/MAX($E$9:E1231)-1)))","v":""}]
[null,null,null,null,null,{"$f":"IF(B1232=\"\",\"\",IF(C1232=\"\",F1231,IF(E1232=\"\",F1231,E1232/MAX($E$9:E1232)-1)))","v":""}]
[null,null,null,null,null,{"$f":"IF(B1233=\"\",\"\",IF(C1233=\"\",F1232,IF(E1233=\"\",F1232,E1233/MAX($E$9:E1233)-1)))","v":""}]
[null,null,null,null,null,{"$f":"IF(B1234=\"\",\"\",IF(C1234=\"\",F1233,IF(E1234=\"\",F1233,E1234/MAX($E$9:E1234)-1)))","v":""}]
[null,null,null,null,null,{"$f":"IF(B1235=\"\",\"\",IF(C1235=\"\",F1234,IF(E1235=\"\",F1234,E1235/MAX($E$9:E1235)-1)))","v":""}]
[null,null,null,null,null,{"$f":"IF(B1236=\"\",\"\",IF(C1236=\"\",F1235,IF(E1236=\"\",F1235,E1236/MAX($E$9:E1236)-1)))","v":""}]
[null,null,null,null,null,{"$f":"IF(B1237=\"\",\"\",IF(C1237=\"\",F1236,IF(E1237=\"\",F1236,E1237/MAX($E$9:E1237)-1)))","v":""}]
[null,null,null,null,null,{"$f":"IF(B1238=\"\",\"\",IF(C1238=\"\",F1237,IF(E1238=\"\",F1237,E1238/MAX($E$9:E1238)-1)))","v":""}]
[null,null,null,null,null,{"$f":"IF(B1239=\"\",\"\",IF(C1239=\"\",F1238,IF(E1239=\"\",F1238,E1239/MAX($E$9:E1239)-1)))","v":""}]
[null,null,null,null,null,{"$f":"IF(B1240=\"\",\"\",IF(C1240=\"\",F1239,IF(E1240=\"\",F1239,E1240/MAX($E$9:E1240)-1)))","v":""}]
[null,null,null,null,null,{"$f":"IF(B1241=\"\",\"\",IF(C1241=\"\",F1240,IF(E1241=\"\",F1240,E1241/MAX($E$9:E1241)-1)))","v":""}]
[null,null,null,null,null,{"$f":"IF(B1242=\"\",\"\",IF(C1242=\"\",F1241,IF(E1242=\"\",F1241,E1242/MAX($E$9:E1242)-1)))","v":""}]
[null,null,null,null,null,{"$f":"IF(B1243=\"\",\"\",IF(C1243=\"\",F1242,IF(E1243=\"\",F1242,E1243/MAX($E$9:E1243)-1)))","v":""}]
[null,null,null,null,null,{"$f":"IF(B1244=\"\",\"\",IF(C1244=\"\",F1243,IF(E1244=\"\",F1243,E1244/MAX($E$9:E1244)-1)))","v":""}]
[null,null,null,null,null,{"$f":"IF(B1245=\"\",\"\",IF(C1245=\"\",F1244,IF(E1245=\"\",F1244,E1245/MAX($E$9:E1245)-1)))","v":""}]
[null,null,null,null,null,{"$f":"IF(B1246=\"\",\"\",IF(C1246=\"\",F1245,IF(E1246=\"\",F1245,E1246/MAX($E$9:E1246)-1)))","v":""}]
[null,null,null,null,null,{"$f":"IF(B1247=\"\",\"\",IF(C1247=\"\",F1246,IF(E1247=\"\",F1246,E1247/MAX($E$9:E1247)-1)))","v":""}]
[null,null,null,null,null,{"$f":"IF(B1248=\"\",\"\",IF(C1248=\"\",F1247,IF(E1248=\"\",F1247,E1248/MAX($E$9:E1248)-1)))","v":""}]
[null,null,null,null,null,{"$f":"IF(B1249=\"\",\"\",IF(C1249=\"\",F1248,IF(E1249=\"\",F1248,E1249/MAX($E$9:E1249)-1)))","v":""}]
[null,null,null,null,null,{"$f":"IF(B1250=\"\",\"\",IF(C1250=\"\",F1249,IF(E1250=\"\",F1249,E1250/MAX($E$9:E1250)-1)))","v":""}]
[null,null,null,null,null,{"$f":"IF(B1251=\"\",\"\",IF(C1251=\"\",F1250,IF(E1251=\"\",F1250,E1251/MAX($E$9:E1251)-1)))","v":""}]
[null,null,null,null,null,{"$f":"IF(B1252=\"\",\"\",IF(C1252=\"\",F1251,IF(E1252=\"\",F1251,E1252/MAX($E$9:E1252)-1)))","v":""}]
[null,null,null,null,null,{"$f":"IF(B1253=\"\",\"\",IF(C1253=\"\",F1252,IF(E1253=\"\",F1252,E1253/MAX($E$9:E1253)-1)))","v":""}]
[null,null,null,null,null,{"$f":"IF(B1254=\"\",\"\",IF(C1254=\"\",F1253,IF(E1254=\"\",F1253,E1254/MAX($E$9:E1254)-1)))","v":""}]
[null,null,null,null,null,{"$f":"IF(B1255=\"\",\"\",IF(C1255=\"\",F1254,IF(E1255=\"\",F1254,E1255/MAX($E$9:E1255)-1)))","v":""}]
[null,null,null,null,null,{"$f":"IF(B1256=\"\",\"\",IF(C1256=\"\",F1255,IF(E1256=\"\",F1255,E1256/MAX($E$9:E1256)-1)))","v":""}]
[null,null,null,null,null,{"$f":"IF(B1257=\"\",\"\",IF(C1257=\"\",F1256,IF(E1257=\"\",F1256,E1257/MAX($E$9:E1257)-1)))","v":""}]
[null,null,null,null,null,{"$f":"IF(B1258=\"\",\"\",IF(C1258=\"\",F1257,IF(E1258=\"\",F1257,E1258/MAX($E$9:E1258)-1)))","v":""}]
[null,null,null,null,null,{"$f":"IF(B1259=\"\",\"\",IF(C1259=\"\",F1258,IF(E1259=\"\",F1258,E1259/MAX($E$9:E1259)-1)))","v":""}]
[null,null,null,null,null,{"$f":"IF(B1260=\"\",\"\",IF(C1260=\"\",F1259,IF(E1260=\"\",F1259,E1260/MAX($E$9:E1260)-1)))","v":""}]
[null,null,null,null,null,{"$f":"IF(B1261=\"\",\"\",IF(C1261=\"\",F1260,IF(E1261=\"\",F1260,E1261/MAX($E$9:E1261)-1)))","v":""}]
[null,null,null,null,null,{"$f":"IF(B1262=\"\",\"\",IF(C1262=\"\",F1261,IF(E1262=\"\",F1261,E1262/MAX($E$9:E1262)-1)))","v":""}]
[null,null,null,null,null,{"$f":"IF(B1263=\"\",\"\",IF(C1263=\"\",F1262,IF(E1263=\"\",F1262,E1263/MAX($E$9:E1263)-1)))","v":""}]
[null,null,null,null,null,{"$f":"IF(B1264=\"\",\"\",IF(C1264=\"\",F1263,IF(E1264=\"\",F1263,E1264/MAX($E$9:E1264)-1)))","v":""}]
[null,null,null,null,null,{"$f":"IF(B1265=\"\",\"\",IF(C1265=\"\",F1264,IF(E1265=\"\",F1264,E1265/MAX($E$9:E1265)-1)))","v":""}]
[null,null,null,null,null,{"$f":"IF(B1266=\"\",\"\",IF(C1266=\"\",F1265,IF(E1266=\"\",F1265,E1266/MAX($E$9:E1266)-1)))","v":""}]
[null,null,null,null,null,{"$f":"IF(B1267=\"\",\"\",IF(C1267=\"\",F1266,IF(E1267=\"\",F1266,E1267/MAX($E$9:E1267)-1)))","v":""}]
[null,null,null,null,null,{"$f":"IF(B1268=\"\",\"\",IF(C1268=\"\",F1267,IF(E1268=\"\",F1267,E1268/MAX($E$9:E1268)-1)))","v":""}]
[null,null,null,null,null,{"$f":"IF(B1269=\"\",\"\",IF(C1269=\"\",F1268,IF(E1269=\"\",F1268,E1269/MAX($E$9:E1269)-1)))","v":""}]
[null,null,null,null,null,{"$f":"IF(B1270=\"\",\"\",IF(C1270=\"\",F1269,IF(E1270=\"\",F1269,E1270/MAX($E$9:E1270)-1)))","v":""}]
[null,null,null,null,null,{"$f":"IF(B1271=\"\",\"\",IF(C1271=\"\",F1270,IF(E1271=\"\",F1270,E1271/MAX($E$9:E1271)-1)))","v":""}]
[null,null,null,null,null,{"$f":"IF(B1272=\"\",\"\",IF(C1272=\"\",F1271,IF(E1272=\"\",F1271,E1272/MAX($E$9:E1272)-1)))","v":""}]
[null,null,null,null,null,{"$f":"IF(B1273=\"\",\"\",IF(C1273=\"\",F1272,IF(E1273=\"\",F1272,E1273/MAX($E$9:E1273)-1)))","v":""}]
[null,null,null,null,null,{"$f":"IF(B1274=\"\",\"\",IF(C1274=\"\",F1273,IF(E1274=\"\",F1273,E1274/MAX($E$9:E1274)-1)))","v":""}]
[null,null,null,null,null,{"$f":"IF(B1275=\"\",\"\",IF(C1275=\"\",F1274,IF(E1275=\"\",F1274,E1275/MAX($E$9:E1275)-1)))","v":""}]
[null,null,null,null,null,{"$f":"IF(B1276=\"\",\"\",IF(C1276=\"\",F1275,IF(E1276=\"\",F1275,E1276/MAX($E$9:E1276)-1)))","v":""}]
[null,null,null,null,null,{"$f":"IF(B1277=\"\",\"\",IF(C1277=\"\",F1276,IF(E1277=\"\",F1276,E1277/MAX($E$9:E1277)-1)))","v":""}]
[null,null,null,null,null,{"$f":"IF(B1278=\"\",\"\",IF(C1278=\"\",F1277,IF(E1278=\"\",F1277,E1278/MAX($E$9:E1278)-1)))","v":""}]
[null,null,null,null,null,{"$f":"IF(B1279=\"\",\"\",IF(C1279=\"\",F1278,IF(E1279=\"\",F1278,E1279/MAX($E$9:E1279)-1)))","v":""}]
[null,null,null,null,null,{"$f":"IF(B1280=\"\",\"\",IF(C1280=\"\",F1279,IF(E1280=\"\",F1279,E1280/MAX($E$9:E1280)-1)))","v":""}]
[null,null,null,null,null,{"$f":"IF(B1281=\"\",\"\",IF(C1281=\"\",F1280,IF(E1281=\"\",F1280,E1281/MAX($E$9:E1281)-1)))","v":""}]
[null,null,null,null,null,{"$f":"IF(B1282=\"\",\"\",IF(C1282=\"\",F1281,IF(E1282=\"\",F1281,E1282/MAX($E$9:E1282)-1)))","v":""}]
[null,null,null,null,null,{"$f":"IF(B1283=\"\",\"\",IF(C1283=\"\",F1282,IF(E1283=\"\",F1282,E1283/MAX($E$9:E1283)-1)))","v":""}]
[null,null,null,null,null,{"$f":"IF(B1284=\"\",\"\",IF(C1284=\"\",F1283,IF(E1284=\"\",F1283,E1284/MAX($E$9:E1284)-1)))","v":""}]
[null,null,null,null,null,{"$f":"IF(B1285=\"\",\"\",IF(C1285=\"\",F1284,IF(E1285=\"\",F1284,E1285/MAX($E$9:E1285)-1)))","v":""}]
[null,null,null,null,null,{"$f":"IF(B1286=\"\",\"\",IF(C1286=\"\",F1285,IF(E1286=\"\",F1285,E1286/MAX($E$9:E1286)-1)))","v":""}]
[null,null,null,null,null,{"$f":"IF(B1287=\"\",\"\",IF(C1287=\"\",F1286,IF(E1287=\"\",F1286,E1287/MAX($E$9:E1287)-1)))","v":""}]
[null,null,null,null,null,{"$f":"IF(B1288=\"\",\"\",IF(C1288=\"\",F1287,IF(E1288=\"\",F1287,E1288/MAX($E$9:E1288)-1)))","v":""}]
[null,null,null,null,null,{"$f":"IF(B1289=\"\",\"\",IF(C1289=\"\",F1288,IF(E1289=\"\",F1288,E1289/MAX($E$9:E1289)-1)))","v":""}]
[null,null,null,null,null,{"$f":"IF(B1290=\"\",\"\",IF(C1290=\"\",F1289,IF(E1290=\"\",F1289,E1290/MAX($E$9:E1290)-1)))","v":""}]
[null,null,null,null,null,{"$f":"IF(B1291=\"\",\"\",IF(C1291=\"\",F1290,IF(E1291=\"\",F1290,E1291/MAX($E$9:E1291)-1)))","v":""}]
[null,null,null,null,null,{"$f":"IF(B1292=\"\",\"\",IF(C1292=\"\",F1291,IF(E1292=\"\",F1291,E1292/MAX($E$9:E1292)-1)))","v":""}]
[null,null,null,null,null,{"$f":"IF(B1293=\"\",\"\",IF(C1293=\"\",F1292,IF(E1293=\"\",F1292,E1293/MAX($E$9:E1293)-1)))","v":""}]
[null,null,null,null,null,{"$f":"IF(B1294=\"\",\"\",IF(C1294=\"\",F1293,IF(E1294=\"\",F1293,E1294/MAX($E$9:E1294)-1)))","v":""}]
[null,null,null,null,null,{"$f":"IF(B1295=\"\",\"\",IF(C1295=\"\",F1294,IF(E1295=\"\",F1294,E1295/MAX($E$9:E1295)-1)))","v":""}]
[null,null,null,null,null,{"$f":"IF(B1296=\"\",\"\",IF(C1296=\"\",F1295,IF(E1296=\"\",F1295,E1296/MAX($E$9:E1296)-1)))","v":""}]
[null,null,null,null,null,{"$f":"IF(B1297=\"\",\"\",IF(C1297=\"\",F1296,IF(E1297=\"\",F1296,E1297/MAX($E$9:E1297)-1)))","v":""}]
[null,null,null,null,null,{"$f":"IF(B1298=\"\",\"\",IF(C1298=\"\",F1297,IF(E1298=\"\",F1297,E1298/MAX($E$9:E1298)-1)))","v":""}]
[null,null,null,null,null,{"$f":"IF(B1299=\"\",\"\",IF(C1299=\"\",F1298,IF(E1299=\"\",F1298,E1299/MAX($E$9:E1299)-1)))","v":""}]
[null,null,null,null,null,{"$f":"IF(B1300=\"\",\"\",IF(C1300=\"\",F1299,IF(E1300=\"\",F1299,E1300/MAX($E$9:E1300)-1)))","v":""}]
[null,null,null,null,null,{"$f":"IF(B1301=\"\",\"\",IF(C1301=\"\",F1300,IF(E1301=\"\",F1300,E1301/MAX($E$9:E1301)-1)))","v":""}]
[null,null,null,null,null,{"$f":"IF(B1302=\"\",\"\",IF(C1302=\"\",F1301,IF(E1302=\"\",F1301,E1302/MAX($E$9:E1302)-1)))","v":""}]
[null,null,null,null,null,{"$f":"IF(B1303=\"\",\"\",IF(C1303=\"\",F1302,IF(E1303=\"\",F1302,E1303/MAX($E$9:E1303)-1)))","v":""}]
[null,null,null,null,null,{"$f":"IF(B1304=\"\",\"\",IF(C1304=\"\",F1303,IF(E1304=\"\",F1303,E1304/MAX($E$9:E1304)-1)))","v":""}]
[null,null,null,null,null,{"$f":"IF(B1305=\"\",\"\",IF(C1305=\"\",F1304,IF(E1305=\"\",F1304,E1305/MAX($E$9:E1305)-1)))","v":""}]
[null,null,null,null,null,{"$f":"IF(B1306=\"\",\"\",IF(C1306=\"\",F1305,IF(E1306=\"\",F1305,E1306/MAX($E$9:E1306)-1)))","v":""}]
[null,null,null,null,null,{"$f":"IF(B1307=\"\",\"\",IF(C1307=\"\",F1306,IF(E1307=\"\",F1306,E1307/MAX($E$9:E1307)-1)))","v":""}]
[null,null,null,null,null,{"$f":"IF(B1308=\"\",\"\",IF(C1308=\"\",F1307,IF(E1308=\"\",F1307,E1308/MAX($E$9:E1308)-1)))","v":""}]
[null,null,null,null,null,{"$f":"IF(B1309=\"\",\"\",IF(C1309=\"\",F1308,IF(E1309=\"\",F1308,E1309/MAX($E$9:E1309)-1)))","v":""}]
[null,null,null,null,null,{"$f":"IF(B1310=\"\",\"\",IF(C1310=\"\",F1309,IF(E1310=\"\",F1309,E1310/MAX($E$9:E1310)-1)))","v":""}]
[null,null,null,null,null,{"$f":"IF(B1311=\"\",\"\",IF(C1311=\"\",F1310,IF(E1311=\"\",F1310,E1311/MAX($E$9:E1311)-1)))","v":""}]
[null,null,null,null,null,{"$f":"IF(B1312=\"\",\"\",IF(C1312=\"\",F1311,IF(E1312=\"\",F1311,E1312/MAX($E$9:E1312)-1)))","v":""}]
[null,null,null,null,null,{"$f":"IF(B1313=\"\",\"\",IF(C1313=\"\",F1312,IF(E1313=\"\",F1312,E1313/MAX($E$9:E1313)-1)))","v":""}]
[null,null,null,null,null,{"$f":"IF(B1314=\"\",\"\",IF(C1314=\"\",F1313,IF(E1314=\"\",F1313,E1314/MAX($E$9:E1314)-1)))","v":""}]
[null,null,null,null,null,{"$f":"IF(B1315=\"\",\"\",IF(C1315=\"\",F1314,IF(E1315=\"\",F1314,E1315/MAX($E$9:E1315)-1)))","v":""}]
[null,null,null,null,null,{"$f":"IF(B1316=\"\",\"\",IF(C1316=\"\",F1315,IF(E1316=\"\",F1315,E1316/MAX($E$9:E1316)-1)))","v":""}]
[null,null,null,null,null,{"$f":"IF(B1317=\"\",\"\",IF(C1317=\"\",F1316,IF(E1317=\"\",F1316,E1317/MAX($E$9:E1317)-1)))","v":""}]
[null,null,null,null,null,{"$f":"IF(B1318=\"\",\"\",IF(C1318=\"\",F1317,IF(E1318=\"\",F1317,E1318/MAX($E$9:E1318)-1)))","v":""}]
[null,null,null,null,null,{"$f":"IF(B1319=\"\",\"\",IF(C1319=\"\",F1318,IF(E1319=\"\",F1318,E1319/MAX($E$9:E1319)-1)))","v":""}]
[null,null,null,null,null,{"$f":"IF(B1320=\"\",\"\",IF(C1320=\"\",F1319,IF(E1320=\"\",F1319,E1320/MAX($E$9:E1320)-1)))","v":""}]
[null,null,null,null,null,{"$f":"IF(B1321=\"\",\"\",IF(C1321=\"\",F1320,IF(E1321=\"\",F1320,E1321/MAX($E$9:E1321)-1)))","v":""}]
[null,null,null,null,null,{"$f":"IF(B1322=\"\",\"\",IF(C1322=\"\",F1321,IF(E1322=\"\",F1321,E1322/MAX($E$9:E1322)-1)))","v":""}]
[null,null,null,null,null,{"$f":"IF(B1323=\"\",\"\",IF(C1323=\"\",F1322,IF(E1323=\"\",F1322,E1323/MAX($E$9:E1323)-1)))","v":""}]
[null,null,null,null,null,{"$f":"IF(B1324=\"\",\"\",IF(C1324=\"\",F1323,IF(E1324=\"\",F1323,E1324/MAX($E$9:E1324)-1)))","v":""}]
[null,null,null,null,null,{"$f":"IF(B1325=\"\",\"\",IF(C1325=\"\",F1324,IF(E1325=\"\",F1324,E1325/MAX($E$9:E1325)-1)))","v":""}]
[null,null,null,null,null,{"$f":"IF(B1326=\"\",\"\",IF(C1326=\"\",F1325,IF(E1326=\"\",F1325,E1326/MAX($E$9:E1326)-1)))","v":""}]
[null,null,null,null,null,{"$f":"IF(B1327=\"\",\"\",IF(C1327=\"\",F1326,IF(E1327=\"\",F1326,E1327/MAX($E$9:E1327)-1)))","v":""}]
[null,null,null,null,null,{"$f":"IF(B1328=\"\",\"\",IF(C1328=\"\",F1327,IF(E1328=\"\",F1327,E1328/MAX($E$9:E1328)-1)))","v":""}]
[null,null,null,null,null,{"$f":"IF(B1329=\"\",\"\",IF(C1329=\"\",F1328,IF(E1329=\"\",F1328,E1329/MAX($E$9:E1329)-1)))","v":""}]
[null,null,null,null,null,{"$f":"IF(B1330=\"\",\"\",IF(C1330=\"\",F1329,IF(E1330=\"\",F1329,E1330/MAX($E$9:E1330)-1)))","v":""}]
[null,null,null,null,null,{"$f":"IF(B1331=\"\",\"\",IF(C1331=\"\",F1330,IF(E1331=\"\",F1330,E1331/MAX($E$9:E1331)-1)))","v":""}]
[null,null,null,null,null,{"$f":"IF(B1332=\"\",\"\",IF(C1332=\"\",F1331,IF(E1332=\"\",F1331,E1332/MAX($E$9:E1332)-1)))","v":""}]
[null,null,null,null,null,{"$f":"IF(B1333=\"\",\"\",IF(C1333=\"\",F1332,IF(E1333=\"\",F1332,E1333/MAX($E$9:E1333)-1)))","v":""}]
[null,null,null,null,null,{"$f":"IF(B1334=\"\",\"\",IF(C1334=\"\",F1333,IF(E1334=\"\",F1333,E1334/MAX($E$9:E1334)-1)))","v":""}]
[null,null,null,null,null,{"$f":"IF(B1335=\"\",\"\",IF(C1335=\"\",F1334,IF(E1335=\"\",F1334,E1335/MAX($E$9:E1335)-1)))","v":""}]
[null,null,null,null,null,{"$f":"IF(B1336=\"\",\"\",IF(C1336=\"\",F1335,IF(E1336=\"\",F1335,E1336/MAX($E$9:E1336)-1)))","v":""}]
[null,null,null,null,null,{"$f":"IF(B1337=\"\",\"\",IF(C1337=\"\",F1336,IF(E1337=\"\",F1336,E1337/MAX($E$9:E1337)-1)))","v":""}]
[null,null,null,null,null,{"$f":"IF(B1338=\"\",\"\",IF(C1338=\"\",F1337,IF(E1338=\"\",F1337,E1338/MAX($E$9:E1338)-1)))","v":""}]
[null,null,null,null,null,{"$f":"IF(B1339=\"\",\"\",IF(C1339=\"\",F1338,IF(E1339=\"\",F1338,E1339/MAX($E$9:E1339)-1)))","v":""}]
[null,null,null,null,null,{"$f":"IF(B1340=\"\",\"\",IF(C1340=\"\",F1339,IF(E1340=\"\",F1339,E1340/MAX($E$9:E1340)-1)))","v":""}]
[null,null,null,null,null,{"$f":"IF(B1341=\"\",\"\",IF(C1341=\"\",F1340,IF(E1341=\"\",F1340,E1341/MAX($E$9:E1341)-1)))","v":""}]
[null,null,null,null,null,{"$f":"IF(B1342=\"\",\"\",IF(C1342=\"\",F1341,IF(E1342=\"\",F1341,E1342/MAX($E$9:E1342)-1)))","v":""}]
[null,null,null,null,null,{"$f":"IF(B1343=\"\",\"\",IF(C1343=\"\",F1342,IF(E1343=\"\",F1342,E1343/MAX($E$9:E1343)-1)))","v":""}]
[null,null,null,null,null,{"$f":"IF(B1344=\"\",\"\",IF(C1344=\"\",F1343,IF(E1344=\"\",F1343,E1344/MAX($E$9:E1344)-1)))","v":""}]
[null,null,null,null,null,{"$f":"IF(B1345=\"\",\"\",IF(C1345=\"\",F1344,IF(E1345=\"\",F1344,E1345/MAX($E$9:E1345)-1)))","v":""}]
[null,null,null,null,null,{"$f":"IF(B1346=\"\",\"\",IF(C1346=\"\",F1345,IF(E1346=\"\",F1345,E1346/MAX($E$9:E1346)-1)))","v":""}]
[null,null,null,null,null,{"$f":"IF(B1347=\"\",\"\",IF(C1347=\"\",F1346,IF(E1347=\"\",F1346,E1347/MAX($E$9:E1347)-1)))","v":""}]
[null,null,null,null,null,{"$f":"IF(B1348=\"\",\"\",IF(C1348=\"\",F1347,IF(E1348=\"\",F1347,E1348/MAX($E$9:E1348)-1)))","v":""}]
[null,null,null,null,null,{"$f":"IF(B1349=\"\",\"\",IF(C1349=\"\",F1348,IF(E1349=\"\",F1348,E1349/MAX($E$9:E1349)-1)))","v":""}]
[null,null,null,null,null,{"$f":"IF(B1350=\"\",\"\",IF(C1350=\"\",F1349,IF(E1350=\"\",F1349,E1350/MAX($E$9:E1350)-1)))","v":""}]
[null,null,null,null,null,{"$f":"IF(B1351=\"\",\"\",IF(C1351=\"\",F1350,IF(E1351=\"\",F1350,E1351/MAX($E$9:E1351)-1)))","v":""}]
[null,null,null,null,null,{"$f":"IF(B1352=\"\",\"\",IF(C1352=\"\",F1351,IF(E1352=\"\",F1351,E1352/MAX($E$9:E1352)-1)))","v":""}]
[null,null,null,null,null,{"$f":"IF(B1353=\"\",\"\",IF(C1353=\"\",F1352,IF(E1353=\"\",F1352,E1353/MAX($E$9:E1353)-1)))","v":""}]
[null,null,null,null,null,{"$f":"IF(B1354=\"\",\"\",IF(C1354=\"\",F1353,IF(E1354=\"\",F1353,E1354/MAX($E$9:E1354)-1)))","v":""}]
[null,null,null,null,null,{"$f":"IF(B1355=\"\",\"\",IF(C1355=\"\",F1354,IF(E1355=\"\",F1354,E1355/MAX($E$9:E1355)-1)))","v":""}]
[null,null,null,null,null,{"$f":"IF(B1356=\"\",\"\",IF(C1356=\"\",F1355,IF(E1356=\"\",F1355,E1356/MAX($E$9:E1356)-1)))","v":""}]
[null,null,null,null,null,{"$f":"IF(B1357=\"\",\"\",IF(C1357=\"\",F1356,IF(E1357=\"\",F1356,E1357/MAX($E$9:E1357)-1)))","v":""}]
[null,null,null,null,null,{"$f":"IF(B1358=\"\",\"\",IF(C1358=\"\",F1357,IF(E1358=\"\",F1357,E1358/MAX($E$9:E1358)-1)))","v":""}]
[null,null,null,null,null,{"$f":"IF(B1359=\"\",\"\",IF(C1359=\"\",F1358,IF(E1359=\"\",F1358,E1359/MAX($E$9:E1359)-1)))","v":""}]
[null,null,null,null,null,{"$f":"IF(B1360=\"\",\"\",IF(C1360=\"\",F1359,IF(E1360=\"\",F1359,E1360/MAX($E$9:E1360)-1)))","v":""}]
[null,null,null,null,null,{"$f":"IF(B1361=\"\",\"\",IF(C1361=\"\",F1360,IF(E1361=\"\",F1360,E1361/MAX($E$9:E1361)-1)))","v":""}]
[null,null,null,null,null,{"$f":"IF(B1362=\"\",\"\",IF(C1362=\"\",F1361,IF(E1362=\"\",F1361,E1362/MAX($E$9:E1362)-1)))","v":""}]
[null,null,null,null,null,{"$f":"IF(B1363=\"\",\"\",IF(C1363=\"\",F1362,IF(E1363=\"\",F1362,E1363/MAX($E$9:E1363)-1)))","v":""}]
[null,null,null,null,null,{"$f":"IF(B1364=\"\",\"\",IF(C1364=\"\",F1363,IF(E1364=\"\",F1363,E1364/MAX($E$9:E1364)-1)))","v":""}]
[null,null,null,null,null,{"$f":"IF(B1365=\"\",\"\",IF(C1365=\"\",F1364,IF(E1365=\"\",F1364,E1365/MAX($E$9:E1365)-1)))","v":""}]
[null,null,null,null,null,{"$f":"IF(B1366=\"\",\"\",IF(C1366=\"\",F1365,IF(E1366=\"\",F1365,E1366/MAX($E$9:E1366)-1)))","v":""}]
[null,null,null,null,null,{"$f":"IF(B1367=\"\",\"\",IF(C1367=\"\",F1366,IF(E1367=\"\",F1366,E1367/MAX($E$9:E1367)-1)))","v":""}]
[null,null,null,null,null,{"$f":"IF(B1368=\"\",\"\",IF(C1368=\"\",F1367,IF(E1368=\"\",F1367,E1368/MAX($E$9:E1368)-1)))","v":""}]
[null,null,null,null,null,{"$f":"IF(B1369=\"\",\"\",IF(C1369=\"\",F1368,IF(E1369=\"\",F1368,E1369/MAX($E$9:E1369)-1)))","v":""}]
[null,null,null,null,null,{"$f":"IF(B1370=\"\",\"\",IF(C1370=\"\",F1369,IF(E1370=\"\",F1369,E1370/MAX($E$9:E1370)-1)))","v":""}]
[null,null,null,null,null,{"$f":"IF(B1371=\"\",\"\",IF(C1371=\"\",F1370,IF(E1371=\"\",F1370,E1371/MAX($E$9:E1371)-1)))","v":""}]
[null,null,null,null,null,{"$f":"IF(B1372=\"\",\"\",IF(C1372=\"\",F1371,IF(E1372=\"\",F1371,E1372/MAX($E$9:E1372)-1)))","v":""}]
[null,null,null,null,null,{"$f":"IF(B1373=\"\",\"\",IF(C1373=\"\",F1372,IF(E1373=\"\",F1372,E1373/MAX($E$9:E1373)-1)))","v":""}]
[null,null,null,null,null,{"$f":"IF(B1374=\"\",\"\",IF(C1374=\"\",F1373,IF(E1374=\"\",F1373,E1374/MAX($E$9:E1374)-1)))","v":""}]
[null,null,null,null,null,{"$f":"IF(B1375=\"\",\"\",IF(C1375=\"\",F1374,IF(E1375=\"\",F1374,E1375/MAX($E$9:E1375)-1)))","v":""}]
[null,null,null,null,null,{"$f":"IF(B1376=\"\",\"\",IF(C1376=\"\",F1375,IF(E1376=\"\",F1375,E1376/MAX($E$9:E1376)-1)))","v":""}]
[null,null,null,null,null,{"$f":"IF(B1377=\"\",\"\",IF(C1377=\"\",F1376,IF(E1377=\"\",F1376,E1377/MAX($E$9:E1377)-1)))","v":""}]
[null,null,null,null,null,{"$f":"IF(B1378=\"\",\"\",IF(C1378=\"\",F1377,IF(E1378=\"\",F1377,E1378/MAX($E$9:E1378)-1)))","v":""}]
[null,null,null,null,null,{"$f":"IF(B1379=\"\",\"\",IF(C1379=\"\",F1378,IF(E1379=\"\",F1378,E1379/MAX($E$9:E1379)-1)))","v":""}]
[null,null,null,null,null,{"$f":"IF(B1380=\"\",\"\",IF(C1380=\"\",F1379,IF(E1380=\"\",F1379,E1380/MAX($E$9:E1380)-1)))","v":""}]
[null,null,null,null,null,{"$f":"IF(B1381=\"\",\"\",IF(C1381=\"\",F1380,IF(E1381=\"\",F1380,E1381/MAX($E$9:E1381)-1)))","v":""}]
[null,null,null,null,null,{"$f":"IF(B1382=\"\",\"\",IF(C1382=\"\",F1381,IF(E1382=\"\",F1381,E1382/MAX($E$9:E1382)-1)))","v":""}]
[null,null,null,null,null,{"$f":"IF(B1383=\"\",\"\",IF(C1383=\"\",F1382,IF(E1383=\"\",F1382,E1383/MAX($E$9:E1383)-1)))","v":""}]
[null,null,null,null,null,{"$f":"IF(B1384=\"\",\"\",IF(C1384=\"\",F1383,IF(E1384=\"\",F1383,E1384/MAX($E$9:E1384)-1)))","v":""}]
[null,null,null,null,null,{"$f":"IF(B1385=\"\",\"\",IF(C1385=\"\",F1384,IF(E1385=\"\",F1384,E1385/MAX($E$9:E1385)-1)))","v":""}]
[null,null,null,null,null,{"$f":"IF(B1386=\"\",\"\",IF(C1386=\"\",F1385,IF(E1386=\"\",F1385,E1386/MAX($E$9:E1386)-1)))","v":""}]
[null,null,null,null,null,{"$f":"IF(B1387=\"\",\"\",IF(C1387=\"\",F1386,IF(E1387=\"\",F1386,E1387/MAX($E$9:E1387)-1)))","v":""}]
[null,null,null,null,null,{"$f":"IF(B1388=\"\",\"\",IF(C1388=\"\",F1387,IF(E1388=\"\",F1387,E1388/MAX($E$9:E1388)-1)))","v":""}]
[null,null,null,null,null,{"$f":"IF(B1389=\"\",\"\",IF(C1389=\"\",F1388,IF(E1389=\"\",F1388,E1389/MAX($E$9:E1389)-1)))","v":""}]
[null,null,null,null,null,{"$f":"IF(B1390=\"\",\"\",IF(C1390=\"\",F1389,IF(E1390=\"\",F1389,E1390/MAX($E$9:E1390)-1)))","v":""}]
[null,null,null,null,null,{"$f":"IF(B1391=\"\",\"\",IF(C1391=\"\",F1390,IF(E1391=\"\",F1390,E1391/MAX($E$9:E1391)-1)))","v":""}]
[null,null,null,null,null,{"$f":"IF(B1392=\"\",\"\",IF(C1392=\"\",F1391,IF(E1392=\"\",F1391,E1392/MAX($E$9:E1392)-1)))","v":""}]
[null,null,null,null,null,{"$f":"IF(B1393=\"\",\"\",IF(C1393=\"\",F1392,IF(E1393=\"\",F1392,E1393/MAX($E$9:E1393)-1)))","v":""}]
[null,null,null,null,null,{"$f":"IF(B1394=\"\",\"\",IF(C1394=\"\",F1393,IF(E1394=\"\",F1393,E1394/MAX($E$9:E1394)-1)))","v":""}]
[null,null,null,null,null,{"$f":"IF(B1395=\"\",\"\",IF(C1395=\"\",F1394,IF(E1395=\"\",F1394,E1395/MAX($E$9:E1395)-1)))","v":""}]
[null,null,null,null,null,{"$f":"IF(B1396=\"\",\"\",IF(C1396=\"\",F1395,IF(E1396=\"\",F1395,E1396/MAX($E$9:E1396)-1)))","v":""}]
[null,null,null,null,null,{"$f":"IF(B1397=\"\",\"\",IF(C1397=\"\",F1396,IF(E1397=\"\",F1396,E1397/MAX($E$9:E1397)-1)))","v":""}]
[null,null,null,null,null,{"$f":"IF(B1398=\"\",\"\",IF(C1398=\"\",F1397,IF(E1398=\"\",F1397,E1398/MAX($E$9:E1398)-1)))","v":""}]
[null,null,null,null,null,{"$f":"IF(B1399=\"\",\"\",IF(C1399=\"\",F1398,IF(E1399=\"\",F1398,E1399/MAX($E$9:E1399)-1)))","v":""}]
[null,null,null,null,null,{"$f":"IF(B1400=\"\",\"\",IF(C1400=\"\",F1399,IF(E1400=\"\",F1399,E1400/MAX($E$9:E1400)-1)))","v":""}]
[null,null,null,null,null,{"$f":"IF(B1401=\"\",\"\",IF(C1401=\"\",F1400,IF(E1401=\"\",F1400,E1401/MAX($E$9:E1401)-1)))","v":""}]
[null,null,null,null,null,{"$f":"IF(B1402=\"\",\"\",IF(C1402=\"\",F1401,IF(E1402=\"\",F1401,E1402/MAX($E$9:E1402)-1)))","v":""}]
[null,null,null,null,null,{"$f":"IF(B1403=\"\",\"\",IF(C1403=\"\",F1402,IF(E1403=\"\",F1402,E1403/MAX($E$9:E1403)-1)))","v":""}]
[null,null,null,null,null,{"$f":"IF(B1404=\"\",\"\",IF(C1404=\"\",F1403,IF(E1404=\"\",F1403,E1404/MAX($E$9:E1404)-1)))","v":""}]
[null,null,null,null,null,{"$f":"IF(B1405=\"\",\"\",IF(C1405=\"\",F1404,IF(E1405=\"\",F1404,E1405/MAX($E$9:E1405)-1)))","v":""}]
[null,null,null,null,null,{"$f":"IF(B1406=\"\",\"\",IF(C1406=\"\",F1405,IF(E1406=\"\",F1405,E1406/MAX($E$9:E1406)-1)))","v":""}]
[null,null,null,null,null,{"$f":"IF(B1407=\"\",\"\",IF(C1407=\"\",F1406,IF(E1407=\"\",F1406,E1407/MAX($E$9:E1407)-1)))","v":""}]
[null,null,null,null,null,{"$f":"IF(B1408=\"\",\"\",IF(C1408=\"\",F1407,IF(E1408=\"\",F1407,E1408/MAX($E$9:E1408)-1)))","v":""}]
[null,null,null,null,null,{"$f":"IF(B1409=\"\",\"\",IF(C1409=\"\",F1408,IF(E1409=\"\",F1408,E1409/MAX($E$9:E1409)-1)))","v":""}]
[null,null,null,null,null,{"$f":"IF(B1410=\"\",\"\",IF(C1410=\"\",F1409,IF(E1410=\"\",F1409,E1410/MAX($E$9:E1410)-1)))","v":""}]
[null,null,null,null,null,{"$f":"IF(B1411=\"\",\"\",IF(C1411=\"\",F1410,IF(E1411=\"\",F1410,E1411/MAX($E$9:E1411)-1)))","v":""}]
[null,null,null,null,null,{"$f":"IF(B1412=\"\",\"\",IF(C1412=\"\",F1411,IF(E1412=\"\",F1411,E1412/MAX($E$9:E1412)-1)))","v":""}]
[null,null,null,null,null,{"$f":"IF(B1413=\"\",\"\",IF(C1413=\"\",F1412,IF(E1413=\"\",F1412,E1413/MAX($E$9:E1413)-1)))","v":""}]
[null,null,null,null,null,{"$f":"IF(B1414=\"\",\"\",IF(C1414=\"\",F1413,IF(E1414=\"\",F1413,E1414/MAX($E$9:E1414)-1)))","v":""}]
[null,null,null,null,null,{"$f":"IF(B1415=\"\",\"\",IF(C1415=\"\",F1414,IF(E1415=\"\",F1414,E1415/MAX($E$9:E1415)-1)))","v":""}]
[null,null,null,null,null,{"$f":"IF(B1416=\"\",\"\",IF(C1416=\"\",F1415,IF(E1416=\"\",F1415,E1416/MAX($E$9:E1416)-1)))","v":""}]
[null,null,null,null,null,{"$f":"IF(B1417=\"\",\"\",IF(C1417=\"\",F1416,IF(E1417=\"\",F1416,E1417/MAX($E$9:E1417)-1)))","v":""}]
[null,null,null,null,null,{"$f":"IF(B1418=\"\",\"\",IF(C1418=\"\",F1417,IF(E1418=\"\",F1417,E1418/MAX($E$9:E1418)-1)))","v":""}]
[null,null,null,null,null,{"$f":"IF(B1419=\"\",\"\",IF(C1419=\"\",F1418,IF(E1419=\"\",F1418,E1419/MAX($E$9:E1419)-1)))","v":""}]
[null,null,null,null,null,{"$f":"IF(B1420=\"\",\"\",IF(C1420=\"\",F1419,IF(E1420=\"\",F1419,E1420/MAX($E$9:E1420)-1)))","v":""}]
[null,null,null,null,null,{"$f":"IF(B1421=\"\",\"\",IF(C1421=\"\",F1420,IF(E1421=\"\",F1420,E1421/MAX($E$9:E1421)-1)))","v":""}]
[null,null,null,null,null,{"$f":"IF(B1422=\"\",\"\",IF(C1422=\"\",F1421,IF(E1422=\"\",F1421,E1422/MAX($E$9:E1422)-1)))","v":""}]
[null,null,null,null,null,{"$f":"IF(B1423=\"\",\"\",IF(C1423=\"\",F1422,IF(E1423=\"\",F1422,E1423/MAX($E$9:E1423)-1)))","v":""}]
[null,null,null,null,null,{"$f":"IF(B1424=\"\",\"\",IF(C1424=\"\",F1423,IF(E1424=\"\",F1423,E1424/MAX($E$9:E1424)-1)))","v":""}]
[null,null,null,null,null,{"$f":"IF(B1425=\"\",\"\",IF(C1425=\"\",F1424,IF(E1425=\"\",F1424,E1425/MAX($E$9:E1425)-1)))","v":""}]
[null,null,null,null,null,{"$f":"IF(B1426=\"\",\"\",IF(C1426=\"\",F1425,IF(E1426=\"\",F1425,E1426/MAX($E$9:E1426)-1)))","v":""}]
[null,null,null,null,null,{"$f":"IF(B1427=\"\",\"\",IF(C1427=\"\",F1426,IF(E1427=\"\",F1426,E1427/MAX($E$9:E1427)-1)))","v":""}]
[null,null,null,null,null,{"$f":"IF(B1428=\"\",\"\",IF(C1428=\"\",F1427,IF(E1428=\"\",F1427,E1428/MAX($E$9:E1428)-1)))","v":""}]
[null,null,null,null,null,{"$f":"IF(B1429=\"\",\"\",IF(C1429=\"\",F1428,IF(E1429=\"\",F1428,E1429/MAX($E$9:E1429)-1)))","v":""}]
[null,null,null,null,null,{"$f":"IF(B1430=\"\",\"\",IF(C1430=\"\",F1429,IF(E1430=\"\",F1429,E1430/MAX($E$9:E1430)-1)))","v":""}]
[null,null,null,null,null,{"$f":"IF(B1431=\"\",\"\",IF(C1431=\"\",F1430,IF(E1431=\"\",F1430,E1431/MAX($E$9:E1431)-1)))","v":""}]
[null,null,null,null,null,{"$f":"IF(B1432=\"\",\"\",IF(C1432=\"\",F1431,IF(E1432=\"\",F1431,E1432/MAX($E$9:E1432)-1)))","v":""}]
[null,null,null,null,null,{"$f":"IF(B1433=\"\",\"\",IF(C1433=\"\",F1432,IF(E1433=\"\",F1432,E1433/MAX($E$9:E1433)-1)))","v":""}]
[null,null,null,null,null,{"$f":"IF(B1434=\"\",\"\",IF(C1434=\"\",F1433,IF(E1434=\"\",F1433,E1434/MAX($E$9:E1434)-1)))","v":""}]
[null,null,null,null,null,{"$f":"IF(B1435=\"\",\"\",IF(C1435=\"\",F1434,IF(E1435=\"\",F1434,E1435/MAX($E$9:E1435)-1)))","v":""}]
[null,null,null,null,null,{"$f":"IF(B1436=\"\",\"\",IF(C1436=\"\",F1435,IF(E1436=\"\",F1435,E1436/MAX($E$9:E1436)-1)))","v":""}]
[null,null,null,null,null,{"$f":"IF(B1437=\"\",\"\",IF(C1437=\"\",F1436,IF(E1437=\"\",F1436,E1437/MAX($E$9:E1437)-1)))","v":""}]
[null,null,null,null,null,{"$f":"IF(B1438=\"\",\"\",IF(C1438=\"\",F1437,IF(E1438=\"\",F1437,E1438/MAX($E$9:E1438)-1)))","v":""}]
[null,null,null,null,null,{"$f":"IF(B1439=\"\",\"\",IF(C1439=\"\",F1438,IF(E1439=\"\",F1438,E1439/MAX($E$9:E1439)-1)))","v":""}]
[null,null,null,null,null,{"$f":"IF(B1440=\"\",\"\",IF(C1440=\"\",F1439,IF(E1440=\"\",F1439,E1440/MAX($E$9:E1440)-1)))","v":""}]
[null,null,null,null,null,{"$f":"IF(B1441=\"\",\"\",IF(C1441=\"\",F1440,IF(E1441=\"\",F1440,E1441/MAX($E$9:E1441)-1)))","v":""}]
[null,null,null,null,null,{"$f":"IF(B1442=\"\",\"\",IF(C1442=\"\",F1441,IF(E1442=\"\",F1441,E1442/MAX($E$9:E1442)-1)))","v":""}]
[null,null,null,null,null,{"$f":"IF(B1443=\"\",\"\",IF(C1443=\"\",F1442,IF(E1443=\"\",F1442,E1443/MAX($E$9:E1443)-1)))","v":""}]
[null,null,null,null,null,{"$f":"IF(B1444=\"\",\"\",IF(C1444=\"\",F1443,IF(E1444=\"\",F1443,E1444/MAX($E$9:E1444)-1)))","v":""}]
[null,null,null,null,null,{"$f":"IF(B1445=\"\",\"\",IF(C1445=\"\",F1444,IF(E1445=\"\",F1444,E1445/MAX($E$9:E1445)-1)))","v":""}]
[null,null,null,null,null,{"$f":"IF(B1446=\"\",\"\",IF(C1446=\"\",F1445,IF(E1446=\"\",F1445,E1446/MAX($E$9:E1446)-1)))","v":""}]
[null,null,null,null,null,{"$f":"IF(B1447=\"\",\"\",IF(C1447=\"\",F1446,IF(E1447=\"\",F1446,E1447/MAX($E$9:E1447)-1)))","v":""}]
[null,null,null,null,null,{"$f":"IF(B1448=\"\",\"\",IF(C1448=\"\",F1447,IF(E1448=\"\",F1447,E1448/MAX($E$9:E1448)-1)))","v":""}]
[null,null,null,null,null,{"$f":"IF(B1449=\"\",\"\",IF(C1449=\"\",F1448,IF(E1449=\"\",F1448,E1449/MAX($E$9:E1449)-1)))","v":""}]
[null,null,null,null,null,{"$f":"IF(B1450=\"\",\"\",IF(C1450=\"\",F1449,IF(E1450=\"\",F1449,E1450/MAX($E$9:E1450)-1)))","v":""}]
[null,null,null,null,null,{"$f":"IF(B1451=\"\",\"\",IF(C1451=\"\",F1450,IF(E1451=\"\",F1450,E1451/MAX($E$9:E1451)-1)))","v":""}]
[null,null,null,null,null,{"$f":"IF(B1452=\"\",\"\",IF(C1452=\"\",F1451,IF(E1452=\"\",F1451,E1452/MAX($E$9:E1452)-1)))","v":""}]
[null,null,null,null,null,{"$f":"IF(B1453=\"\",\"\",IF(C1453=\"\",F1452,IF(E1453=\"\",F1452,E1453/MAX($E$9:E1453)-1)))","v":""}]
[null,null,null,null,null,{"$f":"IF(B1454=\"\",\"\",IF(C1454=\"\",F1453,IF(E1454=\"\",F1453,E1454/MAX($E$9:E1454)-1)))","v":""}]
[null,null,null,null,null,{"$f":"IF(B1455=\"\",\"\",IF(C1455=\"\",F1454,IF(E1455=\"\",F1454,E1455/MAX($E$9:E1455)-1)))","v":""}]
[null,null,null,null,null,{"$f":"IF(B1456=\"\",\"\",IF(C1456=\"\",F1455,IF(E1456=\"\",F1455,E1456/MAX($E$9:E1456)-1)))","v":""}]
[null,null,null,null,null,{"$f":"IF(B1457=\"\",\"\",IF(C1457=\"\",F1456,IF(E1457=\"\",F1456,E1457/MAX($E$9:E1457)-1)))","v":""}]
[null,null,null,null,null,{"$f":"IF(B1458=\"\",\"\",IF(C1458=\"\",F1457,IF(E1458=\"\",F1457,E1458/MAX($E$9:E1458)-1)))","v":""}]
[null,null,null,null,null,{"$f":"IF(B1459=\"\",\"\",IF(C1459=\"\",F1458,IF(E1459=\"\",F1458,E1459/MAX($E$9:E1459)-1)))","v":""}]
[null,null,null,null,null,{"$f":"IF(B1460=\"\",\"\",IF(C1460=\"\",F1459,IF(E1460=\"\",F1459,E1460/MAX($E$9:E1460)-1)))","v":""}]
[null,null,null,null,null,{"$f":"IF(B1461=\"\",\"\",IF(C1461=\"\",F1460,IF(E1461=\"\",F1460,E1461/MAX($E$9:E1461)-1)))","v":""}]
[null,null,null,null,null,{"$f":"IF(B1462=\"\",\"\",IF(C1462=\"\",F1461,IF(E1462=\"\",F1461,E1462/MAX($E$9:E1462)-1)))","v":""}]
[null,null,null,null,null,{"$f":"IF(B1463=\"\",\"\",IF(C1463=\"\",F1462,IF(E1463=\"\",F1462,E1463/MAX($E$9:E1463)-1)))","v":""}]
[null,null,null,null,null,{"$f":"IF(B1464=\"\",\"\",IF(C1464=\"\",F1463,IF(E1464=\"\",F1463,E1464/MAX($E$9:E1464)-1)))","v":""}]
[null,null,null,null,null,{"$f":"IF(B1465=\"\",\"\",IF(C1465=\"\",F1464,IF(E1465=\"\",F1464,E1465/MAX($E$9:E1465)-1)))","v":""}]
[null,null,null,null,null,{"$f":"IF(B1466=\"\",\"\",IF(C1466=\"\",F1465,IF(E1466=\"\",F1465,E1466/MAX($E$9:E1466)-1)))","v":""}]
[null,null,null,null,null,{"$f":"IF(B1467=\"\",\"\",IF(C1467=\"\",F1466,IF(E1467=\"\",F1466,E1467/MAX($E$9:E1467)-1)))","v":""}]
[null,null,null,null,null,{"$f":"IF(B1468=\"\",\"\",IF(C1468=\"\",F1467,IF(E1468=\"\",F1467,E1468/MAX($E$9:E1468)-1)))","v":""}]
[null,null,null,null,null,{"$f":"IF(B1469=\"\",\"\",IF(C1469=\"\",F1468,IF(E1469=\"\",F1468,E1469/MAX($E$9:E1469)-1)))","v":""}]
[null,null,null,null,null,{"$f":"IF(B1470=\"\",\"\",IF(C1470=\"\",F1469,IF(E1470=\"\",F1469,E1470/MAX($E$9:E1470)-1)))","v":""}]
[null,null,null,null,null,{"$f":"IF(B1471=\"\",\"\",IF(C1471=\"\",F1470,IF(E1471=\"\",F1470,E1471/MAX($E$9:E1471)-1)))","v":""}]
[null,null,null,null,null,{"$f":"IF(B1472=\"\",\"\",IF(C1472=\"\",F1471,IF(E1472=\"\",F1471,E1472/MAX($E$9:E1472)-1)))","v":""}]
[null,null,null,null,null,{"$f":"IF(B1473=\"\",\"\",IF(C1473=\"\",F1472,IF(E1473=\"\",F1472,E1473/MAX($E$9:E1473)-1)))","v":""}]
[null,null,null,null,null,{"$f":"IF(B1474=\"\",\"\",IF(C1474=\"\",F1473,IF(E1474=\"\",F1473,E1474/MAX($E$9:E1474)-1)))","v":""}]
[null,null,null,null,null,{"$f":"IF(B1475=\"\",\"\",IF(C1475=\"\",F1474,IF(E1475=\"\",F1474,E1475/MAX($E$9:E1475)-1)))","v":""}]
[null,null,null,null,null,{"$f":"IF(B1476=\"\",\"\",IF(C1476=\"\",F1475,IF(E1476=\"\",F1475,E1476/MAX($E$9:E1476)-1)))","v":""}]
[null,null,null,null,null,{"$f":"IF(B1477=\"\",\"\",IF(C1477=\"\",F1476,IF(E1477=\"\",F1476,E1477/MAX($E$9:E1477)-1)))","v":""}]
[null,null,null,null,null,{"$f":"IF(B1478=\"\",\"\",IF(C1478=\"\",F1477,IF(E1478=\"\",F1477,E1478/MAX($E$9:E1478)-1)))","v":""}]
[null,null,null,null,null,{"$f":"IF(B1479=\"\",\"\",IF(C1479=\"\",F1478,IF(E1479=\"\",F1478,E1479/MAX($E$9:E1479)-1)))","v":""}]
[null,null,null,null,null,{"$f":"IF(B1480=\"\",\"\",IF(C1480=\"\",F1479,IF(E1480=\"\",F1479,E1480/MAX($E$9:E1480)-1)))","v":""}]
[null,null,null,null,null,{"$f":"IF(B1481=\"\",\"\",IF(C1481=\"\",F1480,IF(E1481=\"\",F1480,E1481/MAX($E$9:E1481)-1)))","v":""}]
[null,null,null,null,null,{"$f":"IF(B1482=\"\",\"\",IF(C1482=\"\",F1481,IF(E1482=\"\",F1481,E1482/MAX($E$9:E1482)-1)))","v":""}]
[null,null,null,null,null,{"$f":"IF(B1483=\"\",\"\",IF(C1483=\"\",F1482,IF(E1483=\"\",F1482,E1483/MAX($E$9:E1483)-1)))","v":""}]
[null,null,null,null,null,{"$f":"IF(B1484=\"\",\"\",IF(C1484=\"\",F1483,IF(E1484=\"\",F1483,E1484/MAX($E$9:E1484)-1)))","v":""}]
[null,null,null,null,null,{"$f":"IF(B1485=\"\",\"\",IF(C1485=\"\",F1484,IF(E1485=\"\",F1484,E1485/MAX($E$9:E1485)-1)))","v":""}]
[null,null,null,null,null,{"$f":"IF(B1486=\"\",\"\",IF(C1486=\"\",F1485,IF(E1486=\"\",F1485,E1486/MAX($E$9:E1486)-1)))","v":""}]
[null,null,null,null,null,{"$f":"IF(B1487=\"\",\"\",IF(C1487=\"\",F1486,IF(E1487=\"\",F1486,E1487/MAX($E$9:E1487)-1)))","v":""}]
[null,null,null,null,null,{"$f":"IF(B1488=\"\",\"\",IF(C1488=\"\",F1487,IF(E1488=\"\",F1487,E1488/MAX($E$9:E1488)-1)))","v":""}]
[null,null,null,null,null,{"$f":"IF(B1489=\"\",\"\",IF(C1489=\"\",F1488,IF(E1489=\"\",F1488,E1489/MAX($E$9:E1489)-1)))","v":""}]
[null,null,null,null,null,{"$f":"IF(B1490=\"\",\"\",IF(C1490=\"\",F1489,IF(E1490=\"\",F1489,E1490/MAX($E$9:E1490)-1)))","v":""}]
[null,null,null,null,null,{"$f":"IF(B1491=\"\",\"\",IF(C1491=\"\",F1490,IF(E1491=\"\",F1490,E1491/MAX($E$9:E1491)-1)))","v":""}]
[null,null,null,null,null,{"$f":"IF(B1492=\"\",\"\",IF(C1492=\"\",F1491,IF(E1492=\"\",F1491,E1492/MAX($E$9:E1492)-1)))","v":""}]
[null,null,null,null,null,{"$f":"IF(B1493=\"\",\"\",IF(C1493=\"\",F1492,IF(E1493=\"\",F1492,E1493/MAX($E$9:E1493)-1)))","v":""}]
[null,null,null,null,null,{"$f":"IF(B1494=\"\",\"\",IF(C1494=\"\",F1493,IF(E1494=\"\",F1493,E1494/MAX($E$9:E1494)-1)))","v":""}]
[null,null,null,null,null,{"$f":"IF(B1495=\"\",\"\",IF(C1495=\"\",F1494,IF(E1495=\"\",F1494,E1495/MAX($E$9:E1495)-1)))","v":""}]
[null,null,null,null,null,{"$f":"IF(B1496=\"\",\"\",IF(C1496=\"\",F1495,IF(E1496=\"\",F1495,E1496/MAX($E$9:E1496)-1)))","v":""}]
[null,null,null,null,null,{"$f":"IF(B1497=\"\",\"\",IF(C1497=\"\",F1496,IF(E1497=\"\",F1496,E1497/MAX($E$9:E1497)-1)))","v":""}]
[null,null,null,null,null,{"$f":"IF(B1498=\"\",\"\",IF(C1498=\"\",F1497,IF(E1498=\"\",F1497,E1498/MAX($E$9:E1498)-1)))","v":""}]
[null,null,null,null,null,{"$f":"IF(B1499=\"\",\"\",IF(C1499=\"\",F1498,IF(E1499=\"\",F1498,E1499/MAX($E$9:E1499)-1)))","v":""}]
[null,null,null,null,null,{"$f":"IF(B1500=\"\",\"\",IF(C1500=\"\",F1499,IF(E1500=\"\",F1499,E1500/MAX($E$9:E1500)-1)))","v":""}]
[null,null,null,null,null,{"$f":"IF(B1501=\"\",\"\",IF(C1501=\"\",F1500,IF(E1501=\"\",F1500,E1501/MAX($E$9:E1501)-1)))","v":""}]
[null,null,null,null,null,{"$f":"IF(B1502=\"\",\"\",IF(C1502=\"\",F1501,IF(E1502=\"\",F1501,E1502/MAX($E$9:E1502)-1)))","v":""}]
[null,null,null,null,null,{"$f":"IF(B1503=\"\",\"\",IF(C1503=\"\",F1502,IF(E1503=\"\",F1502,E1503/MAX($E$9:E1503)-1)))","v":""}]
[null,null,null,null,null,{"$f":"IF(B1504=\"\",\"\",IF(C1504=\"\",F1503,IF(E1504=\"\",F1503,E1504/MAX($E$9:E1504)-1)))","v":""}]
[null,null,null,null,null,{"$f":"IF(B1505=\"\",\"\",IF(C1505=\"\",F1504,IF(E1505=\"\",F1504,E1505/MAX($E$9:E1505)-1)))","v":""}]
[null,null,null,null,null,{"$f":"IF(B1506=\"\",\"\",IF(C1506=\"\",F1505,IF(E1506=\"\",F1505,E1506/MAX($E$9:E1506)-1)))","v":""}]
[null,null,null,null,null,{"$f":"IF(B1507=\"\",\"\",IF(C1507=\"\",F1506,IF(E1507=\"\",F1506,E1507/MAX($E$9:E1507)-1)))","v":""}]
[null,null,null,null,null,{"$f":"IF(B1508=\"\",\"\",IF(C1508=\"\",F1507,IF(E1508=\"\",F1507,E1508/MAX($E$9:E1508)-1)))","v":""}]
[null,null,null,null,null,{"$f":"IF(B1509=\"\",\"\",IF(C1509=\"\",F1508,IF(E1509=\"\",F1508,E1509/MAX($E$9:E1509)-1)))","v":""}]
[null,null,null,null,null,{"$f":"IF(B1510=\"\",\"\",IF(C1510=\"\",F1509,IF(E1510=\"\",F1509,E1510/MAX($E$9:E1510)-1)))","v":""}]
[null,null,null,null,null,{"$f":"IF(B1511=\"\",\"\",IF(C1511=\"\",F1510,IF(E1511=\"\",F1510,E1511/MAX($E$9:E1511)-1)))","v":""}]
[null,null,null,null,null,{"$f":"IF(B1512=\"\",\"\",IF(C1512=\"\",F1511,IF(E1512=\"\",F1511,E1512/MAX($E$9:E1512)-1)))","v":""}]
[null,null,null,null,null,{"$f":"IF(B1513=\"\",\"\",IF(C1513=\"\",F1512,IF(E1513=\"\",F1512,E1513/MAX($E$9:E1513)-1)))","v":""}]
[null,null,null,null,null,{"$f":"IF(B1514=\"\",\"\",IF(C1514=\"\",F1513,IF(E1514=\"\",F1513,E1514/MAX($E$9:E1514)-1)))","v":""}]
[null,null,null,null,null,{"$f":"IF(B1515=\"\",\"\",IF(C1515=\"\",F1514,IF(E1515=\"\",F1514,E1515/MAX($E$9:E1515)-1)))","v":""}]
[null,null,null,null,null,{"$f":"IF(B1516=\"\",\"\",IF(C1516=\"\",F1515,IF(E1516=\"\",F1515,E1516/MAX($E$9:E1516)-1)))","v":""}]
[null,null,null,null,null,{"$f":"IF(B1517=\"\",\"\",IF(C1517=\"\",F1516,IF(E1517=\"\",F1516,E1517/MAX($E$9:E1517)-1)))","v":""}]
[null,null,null,null,null,{"$f":"IF(B1518=\"\",\"\",IF(C1518=\"\",F1517,IF(E1518=\"\",F1517,E1518/MAX($E$9:E1518)-1)))","v":""}]
[null,null,null,null,null,{"$f":"IF(B1519=\"\",\"\",IF(C1519=\"\",F1518,IF(E1519=\"\",F1518,E1519/MAX($E$9:E1519)-1)))","v":""}]
[null,null,null,null,null,{"$f":"IF(B1520=\"\",\"\",IF(C1520=\"\",F1519,IF(E1520=\"\",F1519,E1520/MAX($E$9:E1520)-1)))","v":""}]
[null,null,null,null,null,{"$f":"IF(B1521=\"\",\"\",IF(C1521=\"\",F1520,IF(E1521=\"\",F1520,E1521/MAX($E$9:E1521)-1)))","v":""}]
[null,null,null,null,null,{"$f":"IF(B1522=\"\",\"\",IF(C1522=\"\",F1521,IF(E1522=\"\",F1521,E1522/MAX($E$9:E1522)-1)))","v":""}]
[null,null,null,null,null,{"$f":"IF(B1523=\"\",\"\",IF(C1523=\"\",F1522,IF(E1523=\"\",F1522,E1523/MAX($E$9:E1523)-1)))","v":""}]
[null,null,null,null,null,{"$f":"IF(B1524=\"\",\"\",IF(C1524=\"\",F1523,IF(E1524=\"\",F1523,E1524/MAX($E$9:E1524)-1)))","v":""}]
[null,null,null,null,null,{"$f":"IF(B1525=\"\",\"\",IF(C1525=\"\",F1524,IF(E1525=\"\",F1524,E1525/MAX($E$9:E1525)-1)))","v":""}]
[null,null,null,null,null,{"$f":"IF(B1526=\"\",\"\",IF(C1526=\"\",F1525,IF(E1526=\"\",F1525,E1526/MAX($E$9:E1526)-1)))","v":""}]
[null,null,null,null,null,{"$f":"IF(B1527=\"\",\"\",IF(C1527=\"\",F1526,IF(E1527=\"\",F1526,E1527/MAX($E$9:E1527)-1)))","v":""}]
[null,null,null,null,null,{"$f":"IF(B1528=\"\",\"\",IF(C1528=\"\",F1527,IF(E1528=\"\",F1527,E1528/MAX($E$9:E1528)-1)))","v":""}]
[null,null,null,null,null,{"$f":"IF(B1529=\"\",\"\",IF(C1529=\"\",F1528,IF(E1529=\"\",F1528,E1529/MAX($E$9:E1529)-1)))","v":""}]
[null,null,null,null,null,{"$f":"IF(B1530=\"\",\"\",IF(C1530=\"\",F1529,IF(E1530=\"\",F1529,E1530/MAX($E$9:E1530)-1)))","v":""}]
[null,null,null,null,null,{"$f":"IF(B1531=\"\",\"\",IF(C1531=\"\",F1530,IF(E1531=\"\",F1530,E1531/MAX($E$9:E1531)-1)))","v":""}]
[null,null,null,null,null,{"$f":"IF(B1532=\"\",\"\",IF(C1532=\"\",F1531,IF(E1532=\"\",F1531,E1532/MAX($E$9:E1532)-1)))","v":""}]
[null,null,null,null,null,{"$f":"IF(B1533=\"\",\"\",IF(C1533=\"\",F1532,IF(E1533=\"\",F1532,E1533/MAX($E$9:E1533)-1)))","v":""}]
[null,null,null,null,null,{"$f":"IF(B1534=\"\",\"\",IF(C1534=\"\",F1533,IF(E1534=\"\",F1533,E1534/MAX($E$9:E1534)-1)))","v":""}]
[null,null,null,null,null,{"$f":"IF(B1535=\"\",\"\",IF(C1535=\"\",F1534,IF(E1535=\"\",F1534,E1535/MAX($E$9:E1535)-1)))","v":""}]
[null,null,null,null,null,{"$f":"IF(B1536=\"\",\"\",IF(C1536=\"\",F1535,IF(E1536=\"\",F1535,E1536/MAX($E$9:E1536)-1)))","v":""}]
[null,null,null,null,null,{"$f":"IF(B1537=\"\",\"\",IF(C1537=\"\",F1536,IF(E1537=\"\",F1536,E1537/MAX($E$9:E1537)-1)))","v":""}]
[null,null,null,null,null,{"$f":"IF(B1538=\"\",\"\",IF(C1538=\"\",F1537,IF(E1538=\"\",F1537,E1538/MAX($E$9:E1538)-1)))","v":""}]
[null,null,null,null,null,{"$f":"IF(B1539=\"\",\"\",IF(C1539=\"\",F1538,IF(E1539=\"\",F1538,E1539/MAX($E$9:E1539)-1)))","v":""}]
[null,null,null,null,null,{"$f":"IF(B1540=\"\",\"\",IF(C1540=\"\",F1539,IF(E1540=\"\",F1539,E1540/MAX($E$9:E1540)-1)))","v":""}]
[null,null,null,null,null,{"$f":"IF(B1541=\"\",\"\",IF(C1541=\"\",F1540,IF(E1541=\"\",F1540,E1541/MAX($E$9:E1541)-1)))","v":""}]
[null,null,null,null,null,{"$f":"IF(B1542=\"\",\"\",IF(C1542=\"\",F1541,IF(E1542=\"\",F1541,E1542/MAX($E$9:E1542)-1)))","v":""}]
[null,null,null,null,null,{"$f":"IF(B1543=\"\",\"\",IF(C1543=\"\",F1542,IF(E1543=\"\",F1542,E1543/MAX($E$9:E1543)-1)))","v":""}]
[null,null,null,null,null,{"$f":"IF(B1544=\"\",\"\",IF(C1544=\"\",F1543,IF(E1544=\"\",F1543,E1544/MAX($E$9:E1544)-1)))","v":""}]
[null,null,null,null,null,{"$f":"IF(B1545=\"\",\"\",IF(C1545=\"\",F1544,IF(E1545=\"\",F1544,E1545/MAX($E$9:E1545)-1)))","v":""}]
[null,null,null,null,null,{"$f":"IF(B1546=\"\",\"\",IF(C1546=\"\",F1545,IF(E1546=\"\",F1545,E1546/MAX($E$9:E1546)-1)))","v":""}]
[null,null,null,null,null,{"$f":"IF(B1547=\"\",\"\",IF(C1547=\"\",F1546,IF(E1547=\"\",F1546,E1547/MAX($E$9:E1547)-1)))","v":""}]
[null,null,null,null,null,{"$f":"IF(B1548=\"\",\"\",IF(C1548=\"\",F1547,IF(E1548=\"\",F1547,E1548/MAX($E$9:E1548)-1)))","v":""}]
[null,null,null,null,null,{"$f":"IF(B1549=\"\",\"\",IF(C1549=\"\",F1548,IF(E1549=\"\",F1548,E1549/MAX($E$9:E1549)-1)))","v":""}]
[null,null,null,null,null,{"$f":"IF(B1550=\"\",\"\",IF(C1550=\"\",F1549,IF(E1550=\"\",F1549,E1550/MAX($E$9:E1550)-1)))","v":""}]
[null,null,null,null,null,{"$f":"IF(B1551=\"\",\"\",IF(C1551=\"\",F1550,IF(E1551=\"\",F1550,E1551/MAX($E$9:E1551)-1)))","v":""}]
[null,null,null,null,null,{"$f":"IF(B1552=\"\",\"\",IF(C1552=\"\",F1551,IF(E1552=\"\",F1551,E1552/MAX($E$9:E1552)-1)))","v":""}]
[null,null,null,null,null,{"$f":"IF(B1553=\"\",\"\",IF(C1553=\"\",F1552,IF(E1553=\"\",F1552,E1553/MAX($E$9:E1553)-1)))","v":""}]
[null,null,null,null,null,{"$f":"IF(B1554=\"\",\"\",IF(C1554=\"\",F1553,IF(E1554=\"\",F1553,E1554/MAX($E$9:E1554)-1)))","v":""}]
[null,null,null,null,null,{"$f":"IF(B1555=\"\",\"\",IF(C1555=\"\",F1554,IF(E1555=\"\",F1554,E1555/MAX($E$9:E1555)-1)))","v":""}]
[null,null,null,null,null,{"$f":"IF(B1556=\"\",\"\",IF(C1556=\"\",F1555,IF(E1556=\"\",F1555,E1556/MAX($E$9:E1556)-1)))","v":""}]
[null,null,null,null,null,{"$f":"IF(B1557=\"\",\"\",IF(C1557=\"\",F1556,IF(E1557=\"\",F1556,E1557/MAX($E$9:E1557)-1)))","v":""}]
[null,null,null,null,null,{"$f":"IF(B1558=\"\",\"\",IF(C1558=\"\",F1557,IF(E1558=\"\",F1557,E1558/MAX($E$9:E1558)-1)))","v":""}]
[null,null,null,null,null,{"$f":"IF(B1559=\"\",\"\",IF(C1559=\"\",F1558,IF(E1559=\"\",F1558,E1559/MAX($E$9:E1559)-1)))","v":""}]
[null,null,null,null,null,{"$f":"IF(B1560=\"\",\"\",IF(C1560=\"\",F1559,IF(E1560=\"\",F1559,E1560/MAX($E$9:E1560)-1)))","v":""}]
[null,null,null,null,null,{"$f":"IF(B1561=\"\",\"\",IF(C1561=\"\",F1560,IF(E1561=\"\",F1560,E1561/MAX($E$9:E1561)-1)))","v":""}]
[null,null,null,null,null,{"$f":"IF(B1562=\"\",\"\",IF(C1562=\"\",F1561,IF(E1562=\"\",F1561,E1562/MAX($E$9:E1562)-1)))","v":""}]
[null,null,null,null,null,{"$f":"IF(B1563=\"\",\"\",IF(C1563=\"\",F1562,IF(E1563=\"\",F1562,E1563/MAX($E$9:E1563)-1)))","v":""}]
[null,null,null,null,null,{"$f":"IF(B1564=\"\",\"\",IF(C1564=\"\",F1563,IF(E1564=\"\",F1563,E1564/MAX($E$9:E1564)-1)))","v":""}]
[null,null,null,null,null,{"$f":"IF(B1565=\"\",\"\",IF(C1565=\"\",F1564,IF(E1565=\"\",F1564,E1565/MAX($E$9:E1565)-1)))","v":""}]
[null,null,null,null,null,{"$f":"IF(B1566=\"\",\"\",IF(C1566=\"\",F1565,IF(E1566=\"\",F1565,E1566/MAX($E$9:E1566)-1)))","v":""}]
[null,null,null,null,null,{"$f":"IF(B1567=\"\",\"\",IF(C1567=\"\",F1566,IF(E1567=\"\",F1566,E1567/MAX($E$9:E1567)-1)))","v":""}]
[null,null,null,null,null,{"$f":"IF(B1568=\"\",\"\",IF(C1568=\"\",F1567,IF(E1568=\"\",F1567,E1568/MAX($E$9:E1568)-1)))","v":""}]
[null,null,null,null,null,{"$f":"IF(B1569=\"\",\"\",IF(C1569=\"\",F1568,IF(E1569=\"\",F1568,E1569/MAX($E$9:E1569)-1)))","v":""}]
[null,null,null,null,null,{"$f":"IF(B1570=\"\",\"\",IF(C1570=\"\",F1569,IF(E1570=\"\",F1569,E1570/MAX($E$9:E1570)-1)))","v":""}]
[null,null,null,null,null,{"$f":"IF(B1571=\"\",\"\",IF(C1571=\"\",F1570,IF(E1571=\"\",F1570,E1571/MAX($E$9:E1571)-1)))","v":""}]
[null,null,null,null,null,{"$f":"IF(B1572=\"\",\"\",IF(C1572=\"\",F1571,IF(E1572=\"\",F1571,E1572/MAX($E$9:E1572)-1)))","v":""}]
[null,null,null,null,null,{"$f":"IF(B1573=\"\",\"\",IF(C1573=\"\",F1572,IF(E1573=\"\",F1572,E1573/MAX($E$9:E1573)-1)))","v":""}]
[null,null,null,null,null,{"$f":"IF(B1574=\"\",\"\",IF(C1574=\"\",F1573,IF(E1574=\"\",F1573,E1574/MAX($E$9:E1574)-1)))","v":""}]
[null,null,null,null,null,{"$f":"IF(B1575=\"\",\"\",IF(C1575=\"\",F1574,IF(E1575=\"\",F1574,E1575/MAX($E$9:E1575)-1)))","v":""}]
[null,null,null,null,null,{"$f":"IF(B1576=\"\",\"\",IF(C1576=\"\",F1575,IF(E1576=\"\",F1575,E1576/MAX($E$9:E1576)-1)))","v":""}]
[null,null,null,null,null,{"$f":"IF(B1577=\"\",\"\",IF(C1577=\"\",F1576,IF(E1577=\"\",F1576,E1577/MAX($E$9:E1577)-1)))","v":""}]
[null,null,null,null,null,{"$f":"IF(B1578=\"\",\"\",IF(C1578=\"\",F1577,IF(E1578=\"\",F1577,E1578/MAX($E$9:E1578)-1)))","v":""}]
[null,null,null,null,null,{"$f":"IF(B1579=\"\",\"\",IF(C1579=\"\",F1578,IF(E1579=\"\",F1578,E1579/MAX($E$9:E1579)-1)))","v":""}]
[null,null,null,null,null,{"$f":"IF(B1580=\"\",\"\",IF(C1580=\"\",F1579,IF(E1580=\"\",F1579,E1580/MAX($E$9:E1580)-1)))","v":""}]
[null,null,null,null,null,{"$f":"IF(B1581=\"\",\"\",IF(C1581=\"\",F1580,IF(E1581=\"\",F1580,E1581/MAX($E$9:E1581)-1)))","v":""}]
[null,null,null,null,null,{"$f":"IF(B1582=\"\",\"\",IF(C1582=\"\",F1581,IF(E1582=\"\",F1581,E1582/MAX($E$9:E1582)-1)))","v":""}]
[null,null,null,null,null,{"$f":"IF(B1583=\"\",\"\",IF(C1583=\"\",F1582,IF(E1583=\"\",F1582,E1583/MAX($E$9:E1583)-1)))","v":""}]
[null,null,null,null,null,{"$f":"IF(B1584=\"\",\"\",IF(C1584=\"\",F1583,IF(E1584=\"\",F1583,E1584/MAX($E$9:E1584)-1)))","v":""}]
[null,null,null,null,null,{"$f":"IF(B1585=\"\",\"\",IF(C1585=\"\",F1584,IF(E1585=\"\",F1584,E1585/MAX($E$9:E1585)-1)))","v":""}]
[null,null,null,null,null,{"$f":"IF(B1586=\"\",\"\",IF(C1586=\"\",F1585,IF(E1586=\"\",F1585,E1586/MAX($E$9:E1586)-1)))","v":""}]
[null,null,null,null,null,{"$f":"IF(B1587=\"\",\"\",IF(C1587=\"\",F1586,IF(E1587=\"\",F1586,E1587/MAX($E$9:E1587)-1)))","v":""}]
[null,null,null,null,null,{"$f":"IF(B1588=\"\",\"\",IF(C1588=\"\",F1587,IF(E1588=\"\",F1587,E1588/MAX($E$9:E1588)-1)))","v":""}]
[null,null,null,null,null,{"$f":"IF(B1589=\"\",\"\",IF(C1589=\"\",F1588,IF(E1589=\"\",F1588,E1589/MAX($E$9:E1589)-1)))","v":""}]
[null,null,null,null,null,{"$f":"IF(B1590=\"\",\"\",IF(C1590=\"\",F1589,IF(E1590=\"\",F1589,E1590/MAX($E$9:E1590)-1)))","v":""}]
[null,null,null,null,null,{"$f":"IF(B1591=\"\",\"\",IF(C1591=\"\",F1590,IF(E1591=\"\",F1590,E1591/MAX($E$9:E1591)-1)))","v":""}]
[null,null,null,null,null,{"$f":"IF(B1592=\"\",\"\",IF(C1592=\"\",F1591,IF(E1592=\"\",F1591,E1592/MAX($E$9:E1592)-1)))","v":""}]
[null,null,null,null,null,{"$f":"IF(B1593=\"\",\"\",IF(C1593=\"\",F1592,IF(E1593=\"\",F1592,E1593/MAX($E$9:E1593)-1)))","v":""}]
[null,null,null,null,null,{"$f":"IF(B1594=\"\",\"\",IF(C1594=\"\",F1593,IF(E1594=\"\",F1593,E1594/MAX($E$9:E1594)-1)))","v":""}]
[null,null,null,null,null,{"$f":"IF(B1595=\"\",\"\",IF(C1595=\"\",F1594,IF(E1595=\"\",F1594,E1595/MAX($E$9:E1595)-1)))","v":""}]
[null,null,null,null,null,{"$f":"IF(B1596=\"\",\"\",IF(C1596=\"\",F1595,IF(E1596=\"\",F1595,E1596/MAX($E$9:E1596)-1)))","v":""}]
[null,null,null,null,null,{"$f":"IF(B1597=\"\",\"\",IF(C1597=\"\",F1596,IF(E1597=\"\",F1596,E1597/MAX($E$9:E1597)-1)))","v":""}]
[null,null,null,null,null,{"$f":"IF(B1598=\"\",\"\",IF(C1598=\"\",F1597,IF(E1598=\"\",F1597,E1598/MAX($E$9:E1598)-1)))","v":""}]
[null,null,null,null,null,{"$f":"IF(B1599=\"\",\"\",IF(C1599=\"\",F1598,IF(E1599=\"\",F1598,E1599/MAX($E$9:E1599)-1)))","v":""}]
[null,null,null,null,null,{"$f":"IF(B1600=\"\",\"\",IF(C1600=\"\",F1599,IF(E1600=\"\",F1599,E1600/MAX($E$9:E1600)-1)))","v":""}]
[null,null,null,null,null,{"$f":"IF(B1601=\"\",\"\",IF(C1601=\"\",F1600,IF(E1601=\"\",F1600,E1601/MAX($E$9:E1601)-1)))","v":""}]
[null,null,null,null,null,{"$f":"IF(B1602=\"\",\"\",IF(C1602=\"\",F1601,IF(E1602=\"\",F1601,E1602/MAX($E$9:E1602)-1)))","v":""}]
[null,null,null,null,null,{"$f":"IF(B1603=\"\",\"\",IF(C1603=\"\",F1602,IF(E1603=\"\",F1602,E1603/MAX($E$9:E1603)-1)))","v":""}]
[null,null,null,null,null,{"$f":"IF(B1604=\"\",\"\",IF(C1604=\"\",F1603,IF(E1604=\"\",F1603,E1604/MAX($E$9:E1604)-1)))","v":""}]
[null,null,null,null,null,{"$f":"IF(B1605=\"\",\"\",IF(C1605=\"\",F1604,IF(E1605=\"\",F1604,E1605/MAX($E$9:E1605)-1)))","v":""}]
[null,null,null,null,null,{"$f":"IF(B1606=\"\",\"\",IF(C1606=\"\",F1605,IF(E1606=\"\",F1605,E1606/MAX($E$9:E1606)-1)))","v":""}]
[null,null,null,null,null,{"$f":"IF(B1607=\"\",\"\",IF(C1607=\"\",F1606,IF(E1607=\"\",F1606,E1607/MAX($E$9:E1607)-1)))","v":""}]
[null,null,null,null,null,{"$f":"IF(B1608=\"\",\"\",IF(C1608=\"\",F1607,IF(E1608=\"\",F1607,E1608/MAX($E$9:E1608)-1)))","v":""}]
[null,null,null,null,null,{"$f":"IF(B1609=\"\",\"\",IF(C1609=\"\",F1608,IF(E1609=\"\",F1608,E1609/MAX($E$9:E1609)-1)))","v":""}]
[null,null,null,null,null,{"$f":"IF(B1610=\"\",\"\",IF(C1610=\"\",F1609,IF(E1610=\"\",F1609,E1610/MAX($E$9:E1610)-1)))","v":""}]
[null,null,null,null,null,{"$f":"IF(B1611=\"\",\"\",IF(C1611=\"\",F1610,IF(E1611=\"\",F1610,E1611/MAX($E$9:E1611)-1)))","v":""}]
[null,null,null,null,null,{"$f":"IF(B1612=\"\",\"\",IF(C1612=\"\",F1611,IF(E1612=\"\",F1611,E1612/MAX($E$9:E1612)-1)))","v":""}]
[null,null,null,null,null,{"$f":"IF(B1613=\"\",\"\",IF(C1613=\"\",F1612,IF(E1613=\"\",F1612,E1613/MAX($E$9:E1613)-1)))","v":""}]
[null,null,null,null,null,{"$f":"IF(B1614=\"\",\"\",IF(C1614=\"\",F1613,IF(E1614=\"\",F1613,E1614/MAX($E$9:E1614)-1)))","v":""}]
[null,null,null,null,null,{"$f":"IF(B1615=\"\",\"\",IF(C1615=\"\",F1614,IF(E1615=\"\",F1614,E1615/MAX($E$9:E1615)-1)))","v":""}]
[null,null,null,null,null,{"$f":"IF(B1616=\"\",\"\",IF(C1616=\"\",F1615,IF(E1616=\"\",F1615,E1616/MAX($E$9:E1616)-1)))","v":""}]
[null,null,null,null,null,{"$f":"IF(B1617=\"\",\"\",IF(C1617=\"\",F1616,IF(E1617=\"\",F1616,E1617/MAX($E$9:E1617)-1)))","v":""}]
[null,null,null,null,null,{"$f":"IF(B1618=\"\",\"\",IF(C1618=\"\",F1617,IF(E1618=\"\",F1617,E1618/MAX($E$9:E1618)-1)))","v":""}]
[null,null,null,null,null,{"$f":"IF(B1619=\"\",\"\",IF(C1619=\"\",F1618,IF(E1619=\"\",F1618,E1619/MAX($E$9:E1619)-1)))","v":""}]
[null,null,null,null,null,{"$f":"IF(B1620=\"\",\"\",IF(C1620=\"\",F1619,IF(E1620=\"\",F1619,E1620/MAX($E$9:E1620)-1)))","v":""}]
[null,null,null,null,null,{"$f":"IF(B1621=\"\",\"\",IF(C1621=\"\",F1620,IF(E1621=\"\",F1620,E1621/MAX($E$9:E1621)-1)))","v":""}]
[null,null,null,null,null,{"$f":"IF(B1622=\"\",\"\",IF(C1622=\"\",F1621,IF(E1622=\"\",F1621,E1622/MAX($E$9:E1622)-1)))","v":""}]
[null,null,null,null,null,{"$f":"IF(B1623=\"\",\"\",IF(C1623=\"\",F1622,IF(E1623=\"\",F1622,E1623/MAX($E$9:E1623)-1)))","v":""}]
[null,null,null,null,null,{"$f":"IF(B1624=\"\",\"\",IF(C1624=\"\",F1623,IF(E1624=\"\",F1623,E1624/MAX($E$9:E1624)-1)))","v":""}]
[null,null,null,null,null,{"$f":"IF(B1625=\"\",\"\",IF(C1625=\"\",F1624,IF(E1625=\"\",F1624,E1625/MAX($E$9:E1625)-1)))","v":""}]
[null,null,null,null,null,{"$f":"IF(B1626=\"\",\"\",IF(C1626=\"\",F1625,IF(E1626=\"\",F1625,E1626/MAX($E$9:E1626)-1)))","v":""}]
[null,null,null,null,null,{"$f":"IF(B1627=\"\",\"\",IF(C1627=\"\",F1626,IF(E1627=\"\",F1626,E1627/MAX($E$9:E1627)-1)))","v":""}]
[null,null,null,null,null,{"$f":"IF(B1628=\"\",\"\",IF(C1628=\"\",F1627,IF(E1628=\"\",F1627,E1628/MAX($E$9:E1628)-1)))","v":""}]
[null,null,null,null,null,{"$f":"IF(B1629=\"\",\"\",IF(C1629=\"\",F1628,IF(E1629=\"\",F1628,E1629/MAX($E$9:E1629)-1)))","v":""}]
[null,null,null,null,null,{"$f":"IF(B1630=\"\",\"\",IF(C1630=\"\",F1629,IF(E1630=\"\",F1629,E1630/MAX($E$9:E1630)-1)))","v":""}]
[null,null,null,null,null,{"$f":"IF(B1631=\"\",\"\",IF(C1631=\"\",F1630,IF(E1631=\"\",F1630,E1631/MAX($E$9:E1631)-1)))","v":""}]
[null,null,null,null,null,{"$f":"IF(B1632=\"\",\"\",IF(C1632=\"\",F1631,IF(E1632=\"\",F1631,E1632/MAX($E$9:E1632)-1)))","v":""}]
[null,null,null,null,null,{"$f":"IF(B1633=\"\",\"\",IF(C1633=\"\",F1632,IF(E1633=\"\",F1632,E1633/MAX($E$9:E1633)-1)))","v":""}]
[null,null,null,null,null,{"$f":"IF(B1634=\"\",\"\",IF(C1634=\"\",F1633,IF(E1634=\"\",F1633,E1634/MAX($E$9:E1634)-1)))","v":""}]
[null,null,null,null,null,{"$f":"IF(B1635=\"\",\"\",IF(C1635=\"\",F1634,IF(E1635=\"\",F1634,E1635/MAX($E$9:E1635)-1)))","v":""}]
[null,null,null,null,null,{"$f":"IF(B1636=\"\",\"\",IF(C1636=\"\",F1635,IF(E1636=\"\",F1635,E1636/MAX($E$9:E1636)-1)))","v":""}]
[null,null,null,null,null,{"$f":"IF(B1637=\"\",\"\",IF(C1637=\"\",F1636,IF(E1637=\"\",F1636,E1637/MAX($E$9:E1637)-1)))","v":""}]
[null,null,null,null,null,{"$f":"IF(B1638=\"\",\"\",IF(C1638=\"\",F1637,IF(E1638=\"\",F1637,E1638/MAX($E$9:E1638)-1)))","v":""}]
[null,null,null,null,null,{"$f":"IF(B1639=\"\",\"\",IF(C1639=\"\",F1638,IF(E1639=\"\",F1638,E1639/MAX($E$9:E1639)-1)))","v":""}]
[null,null,null,null,null,{"$f":"IF(B1640=\"\",\"\",IF(C1640=\"\",F1639,IF(E1640=\"\",F1639,E1640/MAX($E$9:E1640)-1)))","v":""}]
[null,null,null,null,null,{"$f":"IF(B1641=\"\",\"\",IF(C1641=\"\",F1640,IF(E1641=\"\",F1640,E1641/MAX($E$9:E1641)-1)))","v":""}]
[null,null,null,null,null,{"$f":"IF(B1642=\"\",\"\",IF(C1642=\"\",F1641,IF(E1642=\"\",F1641,E1642/MAX($E$9:E1642)-1)))","v":""}]
[null,null,null,null,null,{"$f":"IF(B1643=\"\",\"\",IF(C1643=\"\",F1642,IF(E1643=\"\",F1642,E1643/MAX($E$9:E1643)-1)))","v":""}]
[null,null,null,null,null,{"$f":"IF(B1644=\"\",\"\",IF(C1644=\"\",F1643,IF(E1644=\"\",F1643,E1644/MAX($E$9:E1644)-1)))","v":""}]
[null,null,null,null,null,{"$f":"IF(B1645=\"\",\"\",IF(C1645=\"\",F1644,IF(E1645=\"\",F1644,E1645/MAX($E$9:E1645)-1)))","v":""}]
[null,null,null,null,null,{"$f":"IF(B1646=\"\",\"\",IF(C1646=\"\",F1645,IF(E1646=\"\",F1645,E1646/MAX($E$9:E1646)-1)))","v":""}]
[null,null,null,null,null,{"$f":"IF(B1647=\"\",\"\",IF(C1647=\"\",F1646,IF(E1647=\"\",F1646,E1647/MAX($E$9:E1647)-1)))","v":""}]
[null,null,null,null,null,{"$f":"IF(B1648=\"\",\"\",IF(C1648=\"\",F1647,IF(E1648=\"\",F1647,E1648/MAX($E$9:E1648)-1)))","v":""}]
[null,null,null,null,null,{"$f":"IF(B1649=\"\",\"\",IF(C1649=\"\",F1648,IF(E1649=\"\",F1648,E1649/MAX($E$9:E1649)-1)))","v":""}]
[null,null,null,null,null,{"$f":"IF(B1650=\"\",\"\",IF(C1650=\"\",F1649,IF(E1650=\"\",F1649,E1650/MAX($E$9:E1650)-1)))","v":""}]
[null,null,null,null,null,{"$f":"IF(B1651=\"\",\"\",IF(C1651=\"\",F1650,IF(E1651=\"\",F1650,E1651/MAX($E$9:E1651)-1)))","v":""}]
[null,null,null,null,null,{"$f":"IF(B1652=\"\",\"\",IF(C1652=\"\",F1651,IF(E1652=\"\",F1651,E1652/MAX($E$9:E1652)-1)))","v":""}]
[null,null,null,null,null,{"$f":"IF(B1653=\"\",\"\",IF(C1653=\"\",F1652,IF(E1653=\"\",F1652,E1653/MAX($E$9:E1653)-1)))","v":""}]
[null,null,null,null,null,{"$f":"IF(B1654=\"\",\"\",IF(C1654=\"\",F1653,IF(E1654=\"\",F1653,E1654/MAX($E$9:E1654)-1)))","v":""}]
[null,null,null,null,null,{"$f":"IF(B1655=\"\",\"\",IF(C1655=\"\",F1654,IF(E1655=\"\",F1654,E1655/MAX($E$9:E1655)-1)))","v":""}]
[null,null,null,null,null,{"$f":"IF(B1656=\"\",\"\",IF(C1656=\"\",F1655,IF(E1656=\"\",F1655,E1656/MAX($E$9:E1656)-1)))","v":""}]
[null,null,null,null,null,{"$f":"IF(B1657=\"\",\"\",IF(C1657=\"\",F1656,IF(E1657=\"\",F1656,E1657/MAX($E$9:E1657)-1)))","v":""}]
[null,null,null,null,null,{"$f":"IF(B1658=\"\",\"\",IF(C1658=\"\",F1657,IF(E1658=\"\",F1657,E1658/MAX($E$9:E1658)-1)))","v":""}]
[null,null,null,null,null,{"$f":"IF(B1659=\"\",\"\",IF(C1659=\"\",F1658,IF(E1659=\"\",F1658,E1659/MAX($E$9:E1659)-1)))","v":""}]
[null,null,null,null,null,{"$f":"IF(B1660=\"\",\"\",IF(C1660=\"\",F1659,IF(E1660=\"\",F1659,E1660/MAX($E$9:E1660)-1)))","v":""}]
[null,null,null,null,null,{"$f":"IF(B1661=\"\",\"\",IF(C1661=\"\",F1660,IF(E1661=\"\",F1660,E1661/MAX($E$9:E1661)-1)))","v":""}]
[null,null,null,null,null,{"$f":"IF(B1662=\"\",\"\",IF(C1662=\"\",F1661,IF(E1662=\"\",F1661,E1662/MAX($E$9:E1662)-1)))","v":""}]
[null,null,null,null,null,{"$f":"IF(B1663=\"\",\"\",IF(C1663=\"\",F1662,IF(E1663=\"\",F1662,E1663/MAX($E$9:E1663)-1)))","v":""}]
[null,null,null,null,null,{"$f":"IF(B1664=\"\",\"\",IF(C1664=\"\",F1663,IF(E1664=\"\",F1663,E1664/MAX($E$9:E1664)-1)))","v":""}]
[null,null,null,null,null,{"$f":"IF(B1665=\"\",\"\",IF(C1665=\"\",F1664,IF(E1665=\"\",F1664,E1665/MAX($E$9:E1665)-1)))","v":""}]
[null,null,null,null,null,{"$f":"IF(B1666=\"\",\"\",IF(C1666=\"\",F1665,IF(E1666=\"\",F1665,E1666/MAX($E$9:E1666)-1)))","v":""}]
[null,null,null,null,null,{"$f":"IF(B1667=\"\",\"\",IF(C1667=\"\",F1666,IF(E1667=\"\",F1666,E1667/MAX($E$9:E1667)-1)))","v":""}]
[null,null,null,null,null,{"$f":"IF(B1668=\"\",\"\",IF(C1668=\"\",F1667,IF(E1668=\"\",F1667,E1668/MAX($E$9:E1668)-1)))","v":""}]
[null,null,null,null,null,{"$f":"IF(B1669=\"\",\"\",IF(C1669=\"\",F1668,IF(E1669=\"\",F1668,E1669/MAX($E$9:E1669)-1)))","v":""}]
[null,null,null,null,null,{"$f":"IF(B1670=\"\",\"\",IF(C1670=\"\",F1669,IF(E1670=\"\",F1669,E1670/MAX($E$9:E1670)-1)))","v":""}]
[null,null,null,null,null,{"$f":"IF(B1671=\"\",\"\",IF(C1671=\"\",F1670,IF(E1671=\"\",F1670,E1671/MAX($E$9:E1671)-1)))","v":""}]
[null,null,null,null,null,{"$f":"IF(B1672=\"\",\"\",IF(C1672=\"\",F1671,IF(E1672=\"\",F1671,E1672/MAX($E$9:E1672)-1)))","v":""}]
[null,null,null,null,null,{"$f":"IF(B1673=\"\",\"\",IF(C1673=\"\",F1672,IF(E1673=\"\",F1672,E1673/MAX($E$9:E1673)-1)))","v":""}]
[null,null,null,null,null,{"$f":"IF(B1674=\"\",\"\",IF(C1674=\"\",F1673,IF(E1674=\"\",F1673,E1674/MAX($E$9:E1674)-1)))","v":""}]
[null,null,null,null,null,{"$f":"IF(B1675=\"\",\"\",IF(C1675=\"\",F1674,IF(E1675=\"\",F1674,E1675/MAX($E$9:E1675)-1)))","v":""}]
[null,null,null,null,null,{"$f":"IF(B1676=\"\",\"\",IF(C1676=\"\",F1675,IF(E1676=\"\",F1675,E1676/MAX($E$9:E1676)-1)))","v":""}]
[null,null,null,null,null,{"$f":"IF(B1677=\"\",\"\",IF(C1677=\"\",F1676,IF(E1677=\"\",F1676,E1677/MAX($E$9:E1677)-1)))","v":""}]
[null,null,null,null,null,{"$f":"IF(B1678=\"\",\"\",IF(C1678=\"\",F1677,IF(E1678=\"\",F1677,E1678/MAX($E$9:E1678)-1)))","v":""}]
[null,null,null,null,null,{"$f":"IF(B1679=\"\",\"\",IF(C1679=\"\",F1678,IF(E1679=\"\",F1678,E1679/MAX($E$9:E1679)-1)))","v":""}]
[null,null,null,null,null,{"$f":"IF(B1680=\"\",\"\",IF(C1680=\"\",F1679,IF(E1680=\"\",F1679,E1680/MAX($E$9:E1680)-1)))","v":""}]
[null,null,null,null,null,{"$f":"IF(B1681=\"\",\"\",IF(C1681=\"\",F1680,IF(E1681=\"\",F1680,E1681/MAX($E$9:E1681)-1)))","v":""}]
[null,null,null,null,null,{"$f":"IF(B1682=\"\",\"\",IF(C1682=\"\",F1681,IF(E1682=\"\",F1681,E1682/MAX($E$9:E1682)-1)))","v":""}]
[null,null,null,null,null,{"$f":"IF(B1683=\"\",\"\",IF(C1683=\"\",F1682,IF(E1683=\"\",F1682,E1683/MAX($E$9:E1683)-1)))","v":""}]
[null,null,null,null,null,{"$f":"IF(B1684=\"\",\"\",IF(C1684=\"\",F1683,IF(E1684=\"\",F1683,E1684/MAX($E$9:E1684)-1)))","v":""}]
[null,null,null,null,null,{"$f":"IF(B1685=\"\",\"\",IF(C1685=\"\",F1684,IF(E1685=\"\",F1684,E1685/MAX($E$9:E1685)-1)))","v":""}]
[null,null,null,null,null,{"$f":"IF(B1686=\"\",\"\",IF(C1686=\"\",F1685,IF(E1686=\"\",F1685,E1686/MAX($E$9:E1686)-1)))","v":""}]
[null,null,null,null,null,{"$f":"IF(B1687=\"\",\"\",IF(C1687=\"\",F1686,IF(E1687=\"\",F1686,E1687/MAX($E$9:E1687)-1)))","v":""}]
[null,null,null,null,null,{"$f":"IF(B1688=\"\",\"\",IF(C1688=\"\",F1687,IF(E1688=\"\",F1687,E1688/MAX($E$9:E1688)-1)))","v":""}]
[null,null,null,null,null,{"$f":"IF(B1689=\"\",\"\",IF(C1689=\"\",F1688,IF(E1689=\"\",F1688,E1689/MAX($E$9:E1689)-1)))","v":""}]
[null,null,null,null,null,{"$f":"IF(B1690=\"\",\"\",IF(C1690=\"\",F1689,IF(E1690=\"\",F1689,E1690/MAX($E$9:E1690)-1)))","v":""}]
[null,null,null,null,null,{"$f":"IF(B1691=\"\",\"\",IF(C1691=\"\",F1690,IF(E1691=\"\",F1690,E1691/MAX($E$9:E1691)-1)))","v":""}]
[null,null,null,null,null,{"$f":"IF(B1692=\"\",\"\",IF(C1692=\"\",F1691,IF(E1692=\"\",F1691,E1692/MAX($E$9:E1692)-1)))","v":""}]
[null,null,null,null,null,{"$f":"IF(B1693=\"\",\"\",IF(C1693=\"\",F1692,IF(E1693=\"\",F1692,E1693/MAX($E$9:E1693)-1)))","v":""}]
[null,null,null,null,null,{"$f":"IF(B1694=\"\",\"\",IF(C1694=\"\",F1693,IF(E1694=\"\",F1693,E1694/MAX($E$9:E1694)-1)))","v":""}]
[null,null,null,null,null,{"$f":"IF(B1695=\"\",\"\",IF(C1695=\"\",F1694,IF(E1695=\"\",F1694,E1695/MAX($E$9:E1695)-1)))","v":""}]
[null,null,null,null,null,{"$f":"IF(B1696=\"\",\"\",IF(C1696=\"\",F1695,IF(E1696=\"\",F1695,E1696/MAX($E$9:E1696)-1)))","v":""}]
[null,null,null,null,null,{"$f":"IF(B1697=\"\",\"\",IF(C1697=\"\",F1696,IF(E1697=\"\",F1696,E1697/MAX($E$9:E1697)-1)))","v":""}]
[null,null,null,null,null,{"$f":"IF(B1698=\"\",\"\",IF(C1698=\"\",F1697,IF(E1698=\"\",F1697,E1698/MAX($E$9:E1698)-1)))","v":""}]
[null,null,null,null,null,{"$f":"IF(B1699=\"\",\"\",IF(C1699=\"\",F1698,IF(E1699=\"\",F1698,E1699/MAX($E$9:E1699)-1)))","v":""}]
[null,null,null,null,null,{"$f":"IF(B1700=\"\",\"\",IF(C1700=\"\",F1699,IF(E1700=\"\",F1699,E1700/MAX($E$9:E1700)-1)))","v":""}]
[null,null,null,null,null,{"$f":"IF(B1701=\"\",\"\",IF(C1701=\"\",F1700,IF(E1701=\"\",F1700,E1701/MAX($E$9:E1701)-1)))","v":""}]
[null,null,null,null,null,{"$f":"IF(B1702=\"\",\"\",IF(C1702=\"\",F1701,IF(E1702=\"\",F1701,E1702/MAX($E$9:E1702)-1)))","v":""}]
[null,null,null,null,null,{"$f":"IF(B1703=\"\",\"\",IF(C1703=\"\",F1702,IF(E1703=\"\",F1702,E1703/MAX($E$9:E1703)-1)))","v":""}]
[null,null,null,null,null,{"$f":"IF(B1704=\"\",\"\",IF(C1704=\"\",F1703,IF(E1704=\"\",F1703,E1704/MAX($E$9:E1704)-1)))","v":""}]
[null,null,null,null,null,{"$f":"IF(B1705=\"\",\"\",IF(C1705=\"\",F1704,IF(E1705=\"\",F1704,E1705/MAX($E$9:E1705)-1)))","v":""}]
[null,null,null,null,null,{"$f":"IF(B1706=\"\",\"\",IF(C1706=\"\",F1705,IF(E1706=\"\",F1705,E1706/MAX($E$9:E1706)-1)))","v":""}]
[null,null,null,null,null,{"$f":"IF(B1707=\"\",\"\",IF(C1707=\"\",F1706,IF(E1707=\"\",F1706,E1707/MAX($E$9:E1707)-1)))","v":""}]
[null,null,null,null,null,{"$f":"IF(B1708=\"\",\"\",IF(C1708=\"\",F1707,IF(E1708=\"\",F1707,E1708/MAX($E$9:E1708)-1)))","v":""}]
[null,null,null,null,null,{"$f":"IF(B1709=\"\",\"\",IF(C1709=\"\",F1708,IF(E1709=\"\",F1708,E1709/MAX($E$9:E1709)-1)))","v":""}]
[null,null,null,null,null,{"$f":"IF(B1710=\"\",\"\",IF(C1710=\"\",F1709,IF(E1710=\"\",F1709,E1710/MAX($E$9:E1710)-1)))","v":""}]
[null,null,null,null,null,{"$f":"IF(B1711=\"\",\"\",IF(C1711=\"\",F1710,IF(E1711=\"\",F1710,E1711/MAX($E$9:E1711)-1)))","v":""}]
[null,null,null,null,null,{"$f":"IF(B1712=\"\",\"\",IF(C1712=\"\",F1711,IF(E1712=\"\",F1711,E1712/MAX($E$9:E1712)-1)))","v":""}]
[null,null,null,null,null,{"$f":"IF(B1713=\"\",\"\",IF(C1713=\"\",F1712,IF(E1713=\"\",F1712,E1713/MAX($E$9:E1713)-1)))","v":""}]
[null,null,null,null,null,{"$f":"IF(B1714=\"\",\"\",IF(C1714=\"\",F1713,IF(E1714=\"\",F1713,E1714/MAX($E$9:E1714)-1)))","v":""}]
[null,null,null,null,null,{"$f":"IF(B1715=\"\",\"\",IF(C1715=\"\",F1714,IF(E1715=\"\",F1714,E1715/MAX($E$9:E1715)-1)))","v":""}]
[null,null,null,null,null,{"$f":"IF(B1716=\"\",\"\",IF(C1716=\"\",F1715,IF(E1716=\"\",F1715,E1716/MAX($E$9:E1716)-1)))","v":""}]
[null,null,null,null,null,{"$f":"IF(B1717=\"\",\"\",IF(C1717=\"\",F1716,IF(E1717=\"\",F1716,E1717/MAX($E$9:E1717)-1)))","v":""}]
[null,null,null,null,null,{"$f":"IF(B1718=\"\",\"\",IF(C1718=\"\",F1717,IF(E1718=\"\",F1717,E1718/MAX($E$9:E1718)-1)))","v":""}]
[null,null,null,null,null,{"$f":"IF(B1719=\"\",\"\",IF(C1719=\"\",F1718,IF(E1719=\"\",F1718,E1719/MAX($E$9:E1719)-1)))","v":""}]
[null,null,null,null,null,{"$f":"IF(B1720=\"\",\"\",IF(C1720=\"\",F1719,IF(E1720=\"\",F1719,E1720/MAX($E$9:E1720)-1)))","v":""}]
[null,null,null,null,null,{"$f":"IF(B1721=\"\",\"\",IF(C1721=\"\",F1720,IF(E1721=\"\",F1720,E1721/MAX($E$9:E1721)-1)))","v":""}]
[null,null,null,null,null,{"$f":"IF(B1722=\"\",\"\",IF(C1722=\"\",F1721,IF(E1722=\"\",F1721,E1722/MAX($E$9:E1722)-1)))","v":""}]
[null,null,null,null,null,{"$f":"IF(B1723=\"\",\"\",IF(C1723=\"\",F1722,IF(E1723=\"\",F1722,E1723/MAX($E$9:E1723)-1)))","v":""}]
[null,null,null,null,null,{"$f":"IF(B1724=\"\",\"\",IF(C1724=\"\",F1723,IF(E1724=\"\",F1723,E1724/MAX($E$9:E1724)-1)))","v":""}]
[null,null,null,null,null,{"$f":"IF(B1725=\"\",\"\",IF(C1725=\"\",F1724,IF(E1725=\"\",F1724,E1725/MAX($E$9:E1725)-1)))","v":""}]
[null,null,null,null,null,{"$f":"IF(B1726=\"\",\"\",IF(C1726=\"\",F1725,IF(E1726=\"\",F1725,E1726/MAX($E$9:E1726)-1)))","v":""}]
[null,null,null,null,null,{"$f":"IF(B1727=\"\",\"\",IF(C1727=\"\",F1726,IF(E1727=\"\",F1726,E1727/MAX($E$9:E1727)-1)))","v":""}]
[null,null,null,null,null,{"$f":"IF(B1728=\"\",\"\",IF(C1728=\"\",F1727,IF(E1728=\"\",F1727,E1728/MAX($E$9:E1728)-1)))","v":""}]
[null,null,null,null,null,{"$f":"IF(B1729=\"\",\"\",IF(C1729=\"\",F1728,IF(E1729=\"\",F1728,E1729/MAX($E$9:E1729)-1)))","v":""}]
[null,null,null,null,null,{"$f":"IF(B1730=\"\",\"\",IF(C1730=\"\",F1729,IF(E1730=\"\",F1729,E1730/MAX($E$9:E1730)-1)))","v":""}]
[null,null,null,null,null,{"$f":"IF(B1731=\"\",\"\",IF(C1731=\"\",F1730,IF(E1731=\"\",F1730,E1731/MAX($E$9:E1731)-1)))","v":""}]
[null,null,null,null,null,{"$f":"IF(B1732=\"\",\"\",IF(C1732=\"\",F1731,IF(E1732=\"\",F1731,E1732/MAX($E$9:E1732)-1)))","v":""}]
[null,null,null,null,null,{"$f":"IF(B1733=\"\",\"\",IF(C1733=\"\",F1732,IF(E1733=\"\",F1732,E1733/MAX($E$9:E1733)-1)))","v":""}]
[null,null,null,null,null,{"$f":"IF(B1734=\"\",\"\",IF(C1734=\"\",F1733,IF(E1734=\"\",F1733,E1734/MAX($E$9:E1734)-1)))","v":""}]
[null,null,null,null,null,{"$f":"IF(B1735=\"\",\"\",IF(C1735=\"\",F1734,IF(E1735=\"\",F1734,E1735/MAX($E$9:E1735)-1)))","v":""}]
[null,null,null,null,null,{"$f":"IF(B1736=\"\",\"\",IF(C1736=\"\",F1735,IF(E1736=\"\",F1735,E1736/MAX($E$9:E1736)-1)))","v":""}]
[null,null,null,null,null,{"$f":"IF(B1737=\"\",\"\",IF(C1737=\"\",F1736,IF(E1737=\"\",F1736,E1737/MAX($E$9:E1737)-1)))","v":""}]
[null,null,null,null,null,{"$f":"IF(B1738=\"\",\"\",IF(C1738=\"\",F1737,IF(E1738=\"\",F1737,E1738/MAX($E$9:E1738)-1)))","v":""}]
[null,null,null,null,null,{"$f":"IF(B1739=\"\",\"\",IF(C1739=\"\",F1738,IF(E1739=\"\",F1738,E1739/MAX($E$9:E1739)-1)))","v":""}]
[null,null,null,null,null,{"$f":"IF(B1740=\"\",\"\",IF(C1740=\"\",F1739,IF(E1740=\"\",F1739,E1740/MAX($E$9:E1740)-1)))","v":""}]
[null,null,null,null,null,{"$f":"IF(B1741=\"\",\"\",IF(C1741=\"\",F1740,IF(E1741=\"\",F1740,E1741/MAX($E$9:E1741)-1)))","v":""}]
[null,null,null,null,null,{"$f":"IF(B1742=\"\",\"\",IF(C1742=\"\",F1741,IF(E1742=\"\",F1741,E1742/MAX($E$9:E1742)-1)))","v":""}]
[null,null,null,null,null,{"$f":"IF(B1743=\"\",\"\",IF(C1743=\"\",F1742,IF(E1743=\"\",F1742,E1743/MAX($E$9:E1743)-1)))","v":""}]
[null,null,null,null,null,{"$f":"IF(B1744=\"\",\"\",IF(C1744=\"\",F1743,IF(E1744=\"\",F1743,E1744/MAX($E$9:E1744)-1)))","v":""}]
[null,null,null,null,null,{"$f":"IF(B1745=\"\",\"\",IF(C1745=\"\",F1744,IF(E1745=\"\",F1744,E1745/MAX($E$9:E1745)-1)))","v":""}]
[null,null,null,null,null,{"$f":"IF(B1746=\"\",\"\",IF(C1746=\"\",F1745,IF(E1746=\"\",F1745,E1746/MAX($E$9:E1746)-1)))","v":""}]
[null,null,null,null,null,{"$f":"IF(B1747=\"\",\"\",IF(C1747=\"\",F1746,IF(E1747=\"\",F1746,E1747/MAX($E$9:E1747)-1)))","v":""}]
[null,null,null,null,null,{"$f":"IF(B1748=\"\",\"\",IF(C1748=\"\",F1747,IF(E1748=\"\",F1747,E1748/MAX($E$9:E1748)-1)))","v":""}]
[null,null,null,null,null,{"$f":"IF(B1749=\"\",\"\",IF(C1749=\"\",F1748,IF(E1749=\"\",F1748,E1749/MAX($E$9:E1749)-1)))","v":""}]
[null,null,null,null,null,{"$f":"IF(B1750=\"\",\"\",IF(C1750=\"\",F1749,IF(E1750=\"\",F1749,E1750/MAX($E$9:E1750)-1)))","v":""}]
[null,null,null,null,null,{"$f":"IF(B1751=\"\",\"\",IF(C1751=\"\",F1750,IF(E1751=\"\",F1750,E1751/MAX($E$9:E1751)-1)))","v":""}]
[null,null,null,null,null,{"$f":"IF(B1752=\"\",\"\",IF(C1752=\"\",F1751,IF(E1752=\"\",F1751,E1752/MAX($E$9:E1752)-1)))","v":""}]
[null,null,null,null,null,{"$f":"IF(B1753=\"\",\"\",IF(C1753=\"\",F1752,IF(E1753=\"\",F1752,E1753/MAX($E$9:E1753)-1)))","v":""}]
[null,null,null,null,null,{"$f":"IF(B1754=\"\",\"\",IF(C1754=\"\",F1753,IF(E1754=\"\",F1753,E1754/MAX($E$9:E1754)-1)))","v":""}]
[null,null,null,null,null,{"$f":"IF(B1755=\"\",\"\",IF(C1755=\"\",F1754,IF(E1755=\"\",F1754,E1755/MAX($E$9:E1755)-1)))","v":""}]
[null,null,null,null,null,{"$f":"IF(B1756=\"\",\"\",IF(C1756=\"\",F1755,IF(E1756=\"\",F1755,E1756/MAX($E$9:E1756)-1)))","v":""}]
[null,null,null,null,null,{"$f":"IF(B1757=\"\",\"\",IF(C1757=\"\",F1756,IF(E1757=\"\",F1756,E1757/MAX($E$9:E1757)-1)))","v":""}]
[null,null,null,null,null,{"$f":"IF(B1758=\"\",\"\",IF(C1758=\"\",F1757,IF(E1758=\"\",F1757,E1758/MAX($E$9:E1758)-1)))","v":""}]
[null,null,null,null,null,{"$f":"IF(B1759=\"\",\"\",IF(C1759=\"\",F1758,IF(E1759=\"\",F1758,E1759/MAX($E$9:E1759)-1)))","v":""}]
[null,null,null,null,null,{"$f":"IF(B1760=\"\",\"\",IF(C1760=\"\",F1759,IF(E1760=\"\",F1759,E1760/MAX($E$9:E1760)-1)))","v":""}]
[null,null,null,null,null,{"$f":"IF(B1761=\"\",\"\",IF(C1761=\"\",F1760,IF(E1761=\"\",F1760,E1761/MAX($E$9:E1761)-1)))","v":""}]
[null,null,null,null,null,{"$f":"IF(B1762=\"\",\"\",IF(C1762=\"\",F1761,IF(E1762=\"\",F1761,E1762/MAX($E$9:E1762)-1)))","v":""}]
[null,null,null,null,null,{"$f":"IF(B1763=\"\",\"\",IF(C1763=\"\",F1762,IF(E1763=\"\",F1762,E1763/MAX($E$9:E1763)-1)))","v":""}]
[null,null,null,null,null,{"$f":"IF(B1764=\"\",\"\",IF(C1764=\"\",F1763,IF(E1764=\"\",F1763,E1764/MAX($E$9:E1764)-1)))","v":""}]
[null,null,null,null,null,{"$f":"IF(B1765=\"\",\"\",IF(C1765=\"\",F1764,IF(E1765=\"\",F1764,E1765/MAX($E$9:E1765)-1)))","v":""}]
[null,null,null,null,null,{"$f":"IF(B1766=\"\",\"\",IF(C1766=\"\",F1765,IF(E1766=\"\",F1765,E1766/MAX($E$9:E1766)-1)))","v":""}]
[null,null,null,null,null,{"$f":"IF(B1767=\"\",\"\",IF(C1767=\"\",F1766,IF(E1767=\"\",F1766,E1767/MAX($E$9:E1767)-1)))","v":""}]
[null,null,null,null,null,{"$f":"IF(B1768=\"\",\"\",IF(C1768=\"\",F1767,IF(E1768=\"\",F1767,E1768/MAX($E$9:E1768)-1)))","v":""}]
[null,null,null,null,null,{"$f":"IF(B1769=\"\",\"\",IF(C1769=\"\",F1768,IF(E1769=\"\",F1768,E1769/MAX($E$9:E1769)-1)))","v":""}]
[null,null,null,null,null,{"$f":"IF(B1770=\"\",\"\",IF(C1770=\"\",F1769,IF(E1770=\"\",F1769,E1770/MAX($E$9:E1770)-1)))","v":""}]
[null,null,null,null,null,{"$f":"IF(B1771=\"\",\"\",IF(C1771=\"\",F1770,IF(E1771=\"\",F1770,E1771/MAX($E$9:E1771)-1)))","v":""}]
[null,null,null,null,null,{"$f":"IF(B1772=\"\",\"\",IF(C1772=\"\",F1771,IF(E1772=\"\",F1771,E1772/MAX($E$9:E1772)-1)))","v":""}]
[null,null,null,null,null,{"$f":"IF(B1773=\"\",\"\",IF(C1773=\"\",F1772,IF(E1773=\"\",F1772,E1773/MAX($E$9:E1773)-1)))","v":""}]
[null,null,null,null,null,{"$f":"IF(B1774=\"\",\"\",IF(C1774=\"\",F1773,IF(E1774=\"\",F1773,E1774/MAX($E$9:E1774)-1)))","v":""}]
[null,null,null,null,null,{"$f":"IF(B1775=\"\",\"\",IF(C1775=\"\",F1774,IF(E1775=\"\",F1774,E1775/MAX($E$9:E1775)-1)))","v":""}]
[null,null,null,null,null,{"$f":"IF(B1776=\"\",\"\",IF(C1776=\"\",F1775,IF(E1776=\"\",F1775,E1776/MAX($E$9:E1776)-1)))","v":""}]
[null,null,null,null,null,{"$f":"IF(B1777=\"\",\"\",IF(C1777=\"\",F1776,IF(E1777=\"\",F1776,E1777/MAX($E$9:E1777)-1)))","v":""}]
[null,null,null,null,null,{"$f":"IF(B1778=\"\",\"\",IF(C1778=\"\",F1777,IF(E1778=\"\",F1777,E1778/MAX($E$9:E1778)-1)))","v":""}]
[null,null,null,null,null,{"$f":"IF(B1779=\"\",\"\",IF(C1779=\"\",F1778,IF(E1779=\"\",F1778,E1779/MAX($E$9:E1779)-1)))","v":""}]
[null,null,null,null,null,{"$f":"IF(B1780=\"\",\"\",IF(C1780=\"\",F1779,IF(E1780=\"\",F1779,E1780/MAX($E$9:E1780)-1)))","v":""}]
[null,null,null,null,null,{"$f":"IF(B1781=\"\",\"\",IF(C1781=\"\",F1780,IF(E1781=\"\",F1780,E1781/MAX($E$9:E1781)-1)))","v":""}]
[null,null,null,null,null,{"$f":"IF(B1782=\"\",\"\",IF(C1782=\"\",F1781,IF(E1782=\"\",F1781,E1782/MAX($E$9:E1782)-1)))","v":""}]
[null,null,null,null,null,{"$f":"IF(B1783=\"\",\"\",IF(C1783=\"\",F1782,IF(E1783=\"\",F1782,E1783/MAX($E$9:E1783)-1)))","v":""}]
[null,null,null,null,null,{"$f":"IF(B1784=\"\",\"\",IF(C1784=\"\",F1783,IF(E1784=\"\",F1783,E1784/MAX($E$9:E1784)-1)))","v":""}]
[null,null,null,null,null,{"$f":"IF(B1785=\"\",\"\",IF(C1785=\"\",F1784,IF(E1785=\"\",F1784,E1785/MAX($E$9:E1785)-1)))","v":""}]
[null,null,null,null,null,{"$f":"IF(B1786=\"\",\"\",IF(C1786=\"\",F1785,IF(E1786=\"\",F1785,E1786/MAX($E$9:E1786)-1)))","v":""}]
[null,null,null,null,null,{"$f":"IF(B1787=\"\",\"\",IF(C1787=\"\",F1786,IF(E1787=\"\",F1786,E1787/MAX($E$9:E1787)-1)))","v":""}]
[null,null,null,null,null,{"$f":"IF(B1788=\"\",\"\",IF(C1788=\"\",F1787,IF(E1788=\"\",F1787,E1788/MAX($E$9:E1788)-1)))","v":""}]
[null,null,null,null,null,{"$f":"IF(B1789=\"\",\"\",IF(C1789=\"\",F1788,IF(E1789=\"\",F1788,E1789/MAX($E$9:E1789)-1)))","v":""}]
[null,null,null,null,null,{"$f":"IF(B1790=\"\",\"\",IF(C1790=\"\",F1789,IF(E1790=\"\",F1789,E1790/MAX($E$9:E1790)-1)))","v":""}]
[null,null,null,null,null,{"$f":"IF(B1791=\"\",\"\",IF(C1791=\"\",F1790,IF(E1791=\"\",F1790,E1791/MAX($E$9:E1791)-1)))","v":""}]
[null,null,null,null,null,{"$f":"IF(B1792=\"\",\"\",IF(C1792=\"\",F1791,IF(E1792=\"\",F1791,E1792/MAX($E$9:E1792)-1)))","v":""}]
[null,null,null,null,null,{"$f":"IF(B1793=\"\",\"\",IF(C1793=\"\",F1792,IF(E1793=\"\",F1792,E1793/MAX($E$9:E1793)-1)))","v":""}]
[null,null,null,null,null,{"$f":"IF(B1794=\"\",\"\",IF(C1794=\"\",F1793,IF(E1794=\"\",F1793,E1794/MAX($E$9:E1794)-1)))","v":""}]
[null,null,null,null,null,{"$f":"IF(B1795=\"\",\"\",IF(C1795=\"\",F1794,IF(E1795=\"\",F1794,E1795/MAX($E$9:E1795)-1)))","v":""}]
[null,null,null,null,null,{"$f":"IF(B1796=\"\",\"\",IF(C1796=\"\",F1795,IF(E1796=\"\",F1795,E1796/MAX($E$9:E1796)-1)))","v":""}]
[null,null,null,null,null,{"$f":"IF(B1797=\"\",\"\",IF(C1797=\"\",F1796,IF(E1797=\"\",F1796,E1797/MAX($E$9:E1797)-1)))","v":""}]
[null,null,null,null,null,{"$f":"IF(B1798=\"\",\"\",IF(C1798=\"\",F1797,IF(E1798=\"\",F1797,E1798/MAX($E$9:E1798)-1)))","v":""}]
[null,null,null,null,null,{"$f":"IF(B1799=\"\",\"\",IF(C1799=\"\",F1798,IF(E1799=\"\",F1798,E1799/MAX($E$9:E1799)-1)))","v":""}]
[null,null,null,null,null,{"$f":"IF(B1800=\"\",\"\",IF(C1800=\"\",F1799,IF(E1800=\"\",F1799,E1800/MAX($E$9:E1800)-1)))","v":""}]
[null,null,null,null,null,{"$f":"IF(B1801=\"\",\"\",IF(C1801=\"\",F1800,IF(E1801=\"\",F1800,E1801/MAX($E$9:E1801)-1)))","v":""}]
[null,null,null,null,null,{"$f":"IF(B1802=\"\",\"\",IF(C1802=\"\",F1801,IF(E1802=\"\",F1801,E1802/MAX($E$9:E1802)-1)))","v":""}]
[null,null,null,null,null,{"$f":"IF(B1803=\"\",\"\",IF(C1803=\"\",F1802,IF(E1803=\"\",F1802,E1803/MAX($E$9:E1803)-1)))","v":""}]
[null,null,null,null,null,{"$f":"IF(B1804=\"\",\"\",IF(C1804=\"\",F1803,IF(E1804=\"\",F1803,E1804/MAX($E$9:E1804)-1)))","v":""}]
[null,null,null,null,null,{"$f":"IF(B1805=\"\",\"\",IF(C1805=\"\",F1804,IF(E1805=\"\",F1804,E1805/MAX($E$9:E1805)-1)))","v":""}]
[null,null,null,null,null,{"$f":"IF(B1806=\"\",\"\",IF(C1806=\"\",F1805,IF(E1806=\"\",F1805,E1806/MAX($E$9:E1806)-1)))","v":""}]
[null,null,null,null,null,{"$f":"IF(B1807=\"\",\"\",IF(C1807=\"\",F1806,IF(E1807=\"\",F1806,E1807/MAX($E$9:E1807)-1)))","v":""}]
[null,null,null,null,null,{"$f":"IF(B1808=\"\",\"\",IF(C1808=\"\",F1807,IF(E1808=\"\",F1807,E1808/MAX($E$9:E1808)-1)))","v":""}]
[null,null,null,null,null,{"$f":"IF(B1809=\"\",\"\",IF(C1809=\"\",F1808,IF(E1809=\"\",F1808,E1809/MAX($E$9:E1809)-1)))","v":""}]
[null,null,null,null,null,{"$f":"IF(B1810=\"\",\"\",IF(C1810=\"\",F1809,IF(E1810=\"\",F1809,E1810/MAX($E$9:E1810)-1)))","v":""}]
[null,null,null,null,null,{"$f":"IF(B1811=\"\",\"\",IF(C1811=\"\",F1810,IF(E1811=\"\",F1810,E1811/MAX($E$9:E1811)-1)))","v":""}]
[null,null,null,null,null,{"$f":"IF(B1812=\"\",\"\",IF(C1812=\"\",F1811,IF(E1812=\"\",F1811,E1812/MAX($E$9:E1812)-1)))","v":""}]
[null,null,null,null,null,{"$f":"IF(B1813=\"\",\"\",IF(C1813=\"\",F1812,IF(E1813=\"\",F1812,E1813/MAX($E$9:E1813)-1)))","v":""}]
[null,null,null,null,null,{"$f":"IF(B1814=\"\",\"\",IF(C1814=\"\",F1813,IF(E1814=\"\",F1813,E1814/MAX($E$9:E1814)-1)))","v":""}]
[null,null,null,null,null,{"$f":"IF(B1815=\"\",\"\",IF(C1815=\"\",F1814,IF(E1815=\"\",F1814,E1815/MAX($E$9:E1815)-1)))","v":""}]
[null,null,null,null,null,{"$f":"IF(B1816=\"\",\"\",IF(C1816=\"\",F1815,IF(E1816=\"\",F1815,E1816/MAX($E$9:E1816)-1)))","v":""}]
[null,null,null,null,null,{"$f":"IF(B1817=\"\",\"\",IF(C1817=\"\",F1816,IF(E1817=\"\",F1816,E1817/MAX($E$9:E1817)-1)))","v":""}]
[null,null,null,null,null,{"$f":"IF(B1818=\"\",\"\",IF(C1818=\"\",F1817,IF(E1818=\"\",F1817,E1818/MAX($E$9:E1818)-1)))","v":""}]
[null,null,null,null,null,{"$f":"IF(B1819=\"\",\"\",IF(C1819=\"\",F1818,IF(E1819=\"\",F1818,E1819/MAX($E$9:E1819)-1)))","v":""}]
[null,null,null,null,null,{"$f":"IF(B1820=\"\",\"\",IF(C1820=\"\",F1819,IF(E1820=\"\",F1819,E1820/MAX($E$9:E1820)-1)))","v":""}]
[null,null,null,null,null,{"$f":"IF(B1821=\"\",\"\",IF(C1821=\"\",F1820,IF(E1821=\"\",F1820,E1821/MAX($E$9:E1821)-1)))","v":""}]
[null,null,null,null,null,{"$f":"IF(B1822=\"\",\"\",IF(C1822=\"\",F1821,IF(E1822=\"\",F1821,E1822/MAX($E$9:E1822)-1)))","v":""}]
[null,null,null,null,null,{"$f":"IF(B1823=\"\",\"\",IF(C1823=\"\",F1822,IF(E1823=\"\",F1822,E1823/MAX($E$9:E1823)-1)))","v":""}]
[null,null,null,null,null,{"$f":"IF(B1824=\"\",\"\",IF(C1824=\"\",F1823,IF(E1824=\"\",F1823,E1824/MAX($E$9:E1824)-1)))","v":""}]
[null,null,null,null,null,{"$f":"IF(B1825=\"\",\"\",IF(C1825=\"\",F1824,IF(E1825=\"\",F1824,E1825/MAX($E$9:E1825)-1)))","v":""}]
[null,null,null,null,null,{"$f":"IF(B1826=\"\",\"\",IF(C1826=\"\",F1825,IF(E1826=\"\",F1825,E1826/MAX($E$9:E1826)-1)))","v":""}]
[null,null,null,null,null,{"$f":"IF(B1827=\"\",\"\",IF(C1827=\"\",F1826,IF(E1827=\"\",F1826,E1827/MAX($E$9:E1827)-1)))","v":""}]
[null,null,null,null,null,{"$f":"IF(B1828=\"\",\"\",IF(C1828=\"\",F1827,IF(E1828=\"\",F1827,E1828/MAX($E$9:E1828)-1)))","v":""}]
[null,null,null,null,null,{"$f":"IF(B1829=\"\",\"\",IF(C1829=\"\",F1828,IF(E1829=\"\",F1828,E1829/MAX($E$9:E1829)-1)))","v":""}]
[null,null,null,null,null,{"$f":"IF(B1830=\"\",\"\",IF(C1830=\"\",F1829,IF(E1830=\"\",F1829,E1830/MAX($E$9:E1830)-1)))","v":""}]
[null,null,null,null,null,{"$f":"IF(B1831=\"\",\"\",IF(C1831=\"\",F1830,IF(E1831=\"\",F1830,E1831/MAX($E$9:E1831)-1)))","v":""}]
[null,null,null,null,null,{"$f":"IF(B1832=\"\",\"\",IF(C1832=\"\",F1831,IF(E1832=\"\",F1831,E1832/MAX($E$9:E1832)-1)))","v":""}]
[null,null,null,null,null,{"$f":"IF(B1833=\"\",\"\",IF(C1833=\"\",F1832,IF(E1833=\"\",F1832,E1833/MAX($E$9:E1833)-1)))","v":""}]
[null,null,null,null,null,{"$f":"IF(B1834=\"\",\"\",IF(C1834=\"\",F1833,IF(E1834=\"\",F1833,E1834/MAX($E$9:E1834)-1)))","v":""}]
[null,null,null,null,null,{"$f":"IF(B1835=\"\",\"\",IF(C1835=\"\",F1834,IF(E1835=\"\",F1834,E1835/MAX($E$9:E1835)-1)))","v":""}]
[null,null,null,null,null,{"$f":"IF(B1836=\"\",\"\",IF(C1836=\"\",F1835,IF(E1836=\"\",F1835,E1836/MAX($E$9:E1836)-1)))","v":""}]
[null,null,null,null,null,{"$f":"IF(B1837=\"\",\"\",IF(C1837=\"\",F1836,IF(E1837=\"\",F1836,E1837/MAX($E$9:E1837)-1)))","v":""}]
[null,null,null,null,null,{"$f":"IF(B1838=\"\",\"\",IF(C1838=\"\",F1837,IF(E1838=\"\",F1837,E1838/MAX($E$9:E1838)-1)))","v":""}]
[null,null,null,null,null,{"$f":"IF(B1839=\"\",\"\",IF(C1839=\"\",F1838,IF(E1839=\"\",F1838,E1839/MAX($E$9:E1839)-1)))","v":""}]
[null,null,null,null,null,{"$f":"IF(B1840=\"\",\"\",IF(C1840=\"\",F1839,IF(E1840=\"\",F1839,E1840/MAX($E$9:E1840)-1)))","v":""}]
[null,null,null,null,null,{"$f":"IF(B1841=\"\",\"\",IF(C1841=\"\",F1840,IF(E1841=\"\",F1840,E1841/MAX($E$9:E1841)-1)))","v":""}]
[null,null,null,null,null,{"$f":"IF(B1842=\"\",\"\",IF(C1842=\"\",F1841,IF(E1842=\"\",F1841,E1842/MAX($E$9:E1842)-1)))","v":""}]
[null,null,null,null,null,{"$f":"IF(B1843=\"\",\"\",IF(C1843=\"\",F1842,IF(E1843=\"\",F1842,E1843/MAX($E$9:E1843)-1)))","v":""}]
[null,null,null,null,null,{"$f":"IF(B1844=\"\",\"\",IF(C1844=\"\",F1843,IF(E1844=\"\",F1843,E1844/MAX($E$9:E1844)-1)))","v":""}]
[null,null,null,null,null,{"$f":"IF(B1845=\"\",\"\",IF(C1845=\"\",F1844,IF(E1845=\"\",F1844,E1845/MAX($E$9:E1845)-1)))","v":""}]
[null,null,null,null,null,{"$f":"IF(B1846=\"\",\"\",IF(C1846=\"\",F1845,IF(E1846=\"\",F1845,E1846/MAX($E$9:E1846)-1)))","v":""}]
[null,null,null,null,null,{"$f":"IF(B1847=\"\",\"\",IF(C1847=\"\",F1846,IF(E1847=\"\",F1846,E1847/MAX($E$9:E1847)-1)))","v":""}]
[null,null,null,null,null,{"$f":"IF(B1848=\"\",\"\",IF(C1848=\"\",F1847,IF(E1848=\"\",F1847,E1848/MAX($E$9:E1848)-1)))","v":""}]
[null,null,null,null,null,{"$f":"IF(B1849=\"\",\"\",IF(C1849=\"\",F1848,IF(E1849=\"\",F1848,E1849/MAX($E$9:E1849)-1)))","v":""}]
[null,null,null,null,null,{"$f":"IF(B1850=\"\",\"\",IF(C1850=\"\",F1849,IF(E1850=\"\",F1849,E1850/MAX($E$9:E1850)-1)))","v":""}]
[null,null,null,null,null,{"$f":"IF(B1851=\"\",\"\",IF(C1851=\"\",F1850,IF(E1851=\"\",F1850,E1851/MAX($E$9:E1851)-1)))","v":""}]
[null,null,null,null,null,{"$f":"IF(B1852=\"\",\"\",IF(C1852=\"\",F1851,IF(E1852=\"\",F1851,E1852/MAX($E$9:E1852)-1)))","v":""}]
[null,null,null,null,null,{"$f":"IF(B1853=\"\",\"\",IF(C1853=\"\",F1852,IF(E1853=\"\",F1852,E1853/MAX($E$9:E1853)-1)))","v":""}]
[null,null,null,null,null,{"$f":"IF(B1854=\"\",\"\",IF(C1854=\"\",F1853,IF(E1854=\"\",F1853,E1854/MAX($E$9:E1854)-1)))","v":""}]
[null,null,null,null,null,{"$f":"IF(B1855=\"\",\"\",IF(C1855=\"\",F1854,IF(E1855=\"\",F1854,E1855/MAX($E$9:E1855)-1)))","v":""}]
[null,null,null,null,null,{"$f":"IF(B1856=\"\",\"\",IF(C1856=\"\",F1855,IF(E1856=\"\",F1855,E1856/MAX($E$9:E1856)-1)))","v":""}]
[null,null,null,null,null,{"$f":"IF(B1857=\"\",\"\",IF(C1857=\"\",F1856,IF(E1857=\"\",F1856,E1857/MAX($E$9:E1857)-1)))","v":""}]
[null,null,null,null,null,{"$f":"IF(B1858=\"\",\"\",IF(C1858=\"\",F1857,IF(E1858=\"\",F1857,E1858/MAX($E$9:E1858)-1)))","v":""}]
[null,null,null,null,null,{"$f":"IF(B1859=\"\",\"\",IF(C1859=\"\",F1858,IF(E1859=\"\",F1858,E1859/MAX($E$9:E1859)-1)))","v":""}]
[null,null,null,null,null,{"$f":"IF(B1860=\"\",\"\",IF(C1860=\"\",F1859,IF(E1860=\"\",F1859,E1860/MAX($E$9:E1860)-1)))","v":""}]
[null,null,null,null,null,{"$f":"IF(B1861=\"\",\"\",IF(C1861=\"\",F1860,IF(E1861=\"\",F1860,E1861/MAX($E$9:E1861)-1)))","v":""}]
[null,null,null,null,null,{"$f":"IF(B1862=\"\",\"\",IF(C1862=\"\",F1861,IF(E1862=\"\",F1861,E1862/MAX($E$9:E1862)-1)))","v":""}]
[null,null,null,null,null,{"$f":"IF(B1863=\"\",\"\",IF(C1863=\"\",F1862,IF(E1863=\"\",F1862,E1863/MAX($E$9:E1863)-1)))","v":""}]
[null,null,null,null,null,{"$f":"IF(B1864=\"\",\"\",IF(C1864=\"\",F1863,IF(E1864=\"\",F1863,E1864/MAX($E$9:E1864)-1)))","v":""}]
[null,null,null,null,null,{"$f":"IF(B1865=\"\",\"\",IF(C1865=\"\",F1864,IF(E1865=\"\",F1864,E1865/MAX($E$9:E1865)-1)))","v":""}]
[null,null,null,null,null,{"$f":"IF(B1866=\"\",\"\",IF(C1866=\"\",F1865,IF(E1866=\"\",F1865,E1866/MAX($E$9:E1866)-1)))","v":""}]
[null,null,null,null,null,{"$f":"IF(B1867=\"\",\"\",IF(C1867=\"\",F1866,IF(E1867=\"\",F1866,E1867/MAX($E$9:E1867)-1)))","v":""}]
[null,null,null,null,null,{"$f":"IF(B1868=\"\",\"\",IF(C1868=\"\",F1867,IF(E1868=\"\",F1867,E1868/MAX($E$9:E1868)-1)))","v":""}]
[null,null,null,null,null,{"$f":"IF(B1869=\"\",\"\",IF(C1869=\"\",F1868,IF(E1869=\"\",F1868,E1869/MAX($E$9:E1869)-1)))","v":""}]
[null,null,null,null,null,{"$f":"IF(B1870=\"\",\"\",IF(C1870=\"\",F1869,IF(E1870=\"\",F1869,E1870/MAX($E$9:E1870)-1)))","v":""}]
[null,null,null,null,null,{"$f":"IF(B1871=\"\",\"\",IF(C1871=\"\",F1870,IF(E1871=\"\",F1870,E1871/MAX($E$9:E1871)-1)))","v":""}]
[null,null,null,null,null,{"$f":"IF(B1872=\"\",\"\",IF(C1872=\"\",F1871,IF(E1872=\"\",F1871,E1872/MAX($E$9:E1872)-1)))","v":""}]
[null,null,null,null,null,{"$f":"IF(B1873=\"\",\"\",IF(C1873=\"\",F1872,IF(E1873=\"\",F1872,E1873/MAX($E$9:E1873)-1)))","v":""}]
[null,null,null,null,null,{"$f":"IF(B1874=\"\",\"\",IF(C1874=\"\",F1873,IF(E1874=\"\",F1873,E1874/MAX($E$9:E1874)-1)))","v":""}]
[null,null,null,null,null,{"$f":"IF(B1875=\"\",\"\",IF(C1875=\"\",F1874,IF(E1875=\"\",F1874,E1875/MAX($E$9:E1875)-1)))","v":""}]
[null,null,null,null,null,{"$f":"IF(B1876=\"\",\"\",IF(C1876=\"\",F1875,IF(E1876=\"\",F1875,E1876/MAX($E$9:E1876)-1)))","v":""}]
[null,null,null,null,null,{"$f":"IF(B1877=\"\",\"\",IF(C1877=\"\",F1876,IF(E1877=\"\",F1876,E1877/MAX($E$9:E1877)-1)))","v":""}]
[null,null,null,null,null,{"$f":"IF(B1878=\"\",\"\",IF(C1878=\"\",F1877,IF(E1878=\"\",F1877,E1878/MAX($E$9:E1878)-1)))","v":""}]
[null,null,null,null,null,{"$f":"IF(B1879=\"\",\"\",IF(C1879=\"\",F1878,IF(E1879=\"\",F1878,E1879/MAX($E$9:E1879)-1)))","v":""}]
[null,null,null,null,null,{"$f":"IF(B1880=\"\",\"\",IF(C1880=\"\",F1879,IF(E1880=\"\",F1879,E1880/MAX($E$9:E1880)-1)))","v":""}]
[null,null,null,null,null,{"$f":"IF(B1881=\"\",\"\",IF(C1881=\"\",F1880,IF(E1881=\"\",F1880,E1881/MAX($E$9:E1881)-1)))","v":""}]
[null,null,null,null,null,{"$f":"IF(B1882=\"\",\"\",IF(C1882=\"\",F1881,IF(E1882=\"\",F1881,E1882/MAX($E$9:E1882)-1)))","v":""}]
[null,null,null,null,null,{"$f":"IF(B1883=\"\",\"\",IF(C1883=\"\",F1882,IF(E1883=\"\",F1882,E1883/MAX($E$9:E1883)-1)))","v":""}]
[null,null,null,null,null,{"$f":"IF(B1884=\"\",\"\",IF(C1884=\"\",F1883,IF(E1884=\"\",F1883,E1884/MAX($E$9:E1884)-1)))","v":""}]
[null,null,null,null,null,{"$f":"IF(B1885=\"\",\"\",IF(C1885=\"\",F1884,IF(E1885=\"\",F1884,E1885/MAX($E$9:E1885)-1)))","v":""}]
[null,null,null,null,null,{"$f":"IF(B1886=\"\",\"\",IF(C1886=\"\",F1885,IF(E1886=\"\",F1885,E1886/MAX($E$9:E1886)-1)))","v":""}]
[null,null,null,null,null,{"$f":"IF(B1887=\"\",\"\",IF(C1887=\"\",F1886,IF(E1887=\"\",F1886,E1887/MAX($E$9:E1887)-1)))","v":""}]
[null,null,null,null,null,{"$f":"IF(B1888=\"\",\"\",IF(C1888=\"\",F1887,IF(E1888=\"\",F1887,E1888/MAX($E$9:E1888)-1)))","v":""}]
[null,null,null,null,null,{"$f":"IF(B1889=\"\",\"\",IF(C1889=\"\",F1888,IF(E1889=\"\",F1888,E1889/MAX($E$9:E1889)-1)))","v":""}]
[null,null,null,null,null,{"$f":"IF(B1890=\"\",\"\",IF(C1890=\"\",F1889,IF(E1890=\"\",F1889,E1890/MAX($E$9:E1890)-1)))","v":""}]
[null,null,null,null,null,{"$f":"IF(B1891=\"\",\"\",IF(C1891=\"\",F1890,IF(E1891=\"\",F1890,E1891/MAX($E$9:E1891)-1)))","v":""}]
[null,null,null,null,null,{"$f":"IF(B1892=\"\",\"\",IF(C1892=\"\",F1891,IF(E1892=\"\",F1891,E1892/MAX($E$9:E1892)-1)))","v":""}]
[null,null,null,null,null,{"$f":"IF(B1893=\"\",\"\",IF(C1893=\"\",F1892,IF(E1893=\"\",F1892,E1893/MAX($E$9:E1893)-1)))","v":""}]
[null,null,null,null,null,{"$f":"IF(B1894=\"\",\"\",IF(C1894=\"\",F1893,IF(E1894=\"\",F1893,E1894/MAX($E$9:E1894)-1)))","v":""}]
[null,null,null,null,null,{"$f":"IF(B1895=\"\",\"\",IF(C1895=\"\",F1894,IF(E1895=\"\",F1894,E1895/MAX($E$9:E1895)-1)))","v":""}]
[null,null,null,null,null,{"$f":"IF(B1896=\"\",\"\",IF(C1896=\"\",F1895,IF(E1896=\"\",F1895,E1896/MAX($E$9:E1896)-1)))","v":""}]
[null,null,null,null,null,{"$f":"IF(B1897=\"\",\"\",IF(C1897=\"\",F1896,IF(E1897=\"\",F1896,E1897/MAX($E$9:E1897)-1)))","v":""}]
[null,null,null,null,null,{"$f":"IF(B1898=\"\",\"\",IF(C1898=\"\",F1897,IF(E1898=\"\",F1897,E1898/MAX($E$9:E1898)-1)))","v":""}]
[null,null,null,null,null,{"$f":"IF(B1899=\"\",\"\",IF(C1899=\"\",F1898,IF(E1899=\"\",F1898,E1899/MAX($E$9:E1899)-1)))","v":""}]
[null,null,null,null,null,{"$f":"IF(B1900=\"\",\"\",IF(C1900=\"\",F1899,IF(E1900=\"\",F1899,E1900/MAX($E$9:E1900)-1)))","v":""}]
[null,null,null,null,null,{"$f":"IF(B1901=\"\",\"\",IF(C1901=\"\",F1900,IF(E1901=\"\",F1900,E1901/MAX($E$9:E1901)-1)))","v":""}]
[null,null,null,null,null,{"$f":"IF(B1902=\"\",\"\",IF(C1902=\"\",F1901,IF(E1902=\"\",F1901,E1902/MAX($E$9:E1902)-1)))","v":""}]
[null,null,null,null,null,{"$f":"IF(B1903=\"\",\"\",IF(C1903=\"\",F1902,IF(E1903=\"\",F1902,E1903/MAX($E$9:E1903)-1)))","v":""}]
[null,null,null,null,null,{"$f":"IF(B1904=\"\",\"\",IF(C1904=\"\",F1903,IF(E1904=\"\",F1903,E1904/MAX($E$9:E1904)-1)))","v":""}]
[null,null,null,null,null,{"$f":"IF(B1905=\"\",\"\",IF(C1905=\"\",F1904,IF(E1905=\"\",F1904,E1905/MAX($E$9:E1905)-1)))","v":""}]
[null,null,null,null,null,{"$f":"IF(B1906=\"\",\"\",IF(C1906=\"\",F1905,IF(E1906=\"\",F1905,E1906/MAX($E$9:E1906)-1)))","v":""}]
[null,null,null,null,null,{"$f":"IF(B1907=\"\",\"\",IF(C1907=\"\",F1906,IF(E1907=\"\",F1906,E1907/MAX($E$9:E1907)-1)))","v":""}]
[null,null,null,null,null,{"$f":"IF(B1908=\"\",\"\",IF(C1908=\"\",F1907,IF(E1908=\"\",F1907,E1908/MAX($E$9:E1908)-1)))","v":""}]
[null,null,null,null,null,{"$f":"IF(B1909=\"\",\"\",IF(C1909=\"\",F1908,IF(E1909=\"\",F1908,E1909/MAX($E$9:E1909)-1)))","v":""}]
[null,null,null,null,null,{"$f":"IF(B1910=\"\",\"\",IF(C1910=\"\",F1909,IF(E1910=\"\",F1909,E1910/MAX($E$9:E1910)-1)))","v":""}]
[null,null,null,null,null,{"$f":"IF(B1911=\"\",\"\",IF(C1911=\"\",F1910,IF(E1911=\"\",F1910,E1911/MAX($E$9:E1911)-1)))","v":""}]
[null,null,null,null,null,{"$f":"IF(B1912=\"\",\"\",IF(C1912=\"\",F1911,IF(E1912=\"\",F1911,E1912/MAX($E$9:E1912)-1)))","v":""}]
[null,null,null,null,null,{"$f":"IF(B1913=\"\",\"\",IF(C1913=\"\",F1912,IF(E1913=\"\",F1912,E1913/MAX($E$9:E1913)-1)))","v":""}]
[null,null,null,null,null,{"$f":"IF(B1914=\"\",\"\",IF(C1914=\"\",F1913,IF(E1914=\"\",F1913,E1914/MAX($E$9:E1914)-1)))","v":""}]
[null,null,null,null,null,{"$f":"IF(B1915=\"\",\"\",IF(C1915=\"\",F1914,IF(E1915=\"\",F1914,E1915/MAX($E$9:E1915)-1)))","v":""}]
[null,null,null,null,null,{"$f":"IF(B1916=\"\",\"\",IF(C1916=\"\",F1915,IF(E1916=\"\",F1915,E1916/MAX($E$9:E1916)-1)))","v":""}]
[null,null,null,null,null,{"$f":"IF(B1917=\"\",\"\",IF(C1917=\"\",F1916,IF(E1917=\"\",F1916,E1917/MAX($E$9:E1917)-1)))","v":""}]
[null,null,null,null,null,{"$f":"IF(B1918=\"\",\"\",IF(C1918=\"\",F1917,IF(E1918=\"\",F1917,E1918/MAX($E$9:E1918)-1)))","v":""}]
[null,null,null,null,null,{"$f":"IF(B1919=\"\",\"\",IF(C1919=\"\",F1918,IF(E1919=\"\",F1918,E1919/MAX($E$9:E1919)-1)))","v":""}]
[null,null,null,null,null,{"$f":"IF(B1920=\"\",\"\",IF(C1920=\"\",F1919,IF(E1920=\"\",F1919,E1920/MAX($E$9:E1920)-1)))","v":""}]
[null,null,null,null,null,{"$f":"IF(B1921=\"\",\"\",IF(C1921=\"\",F1920,IF(E1921=\"\",F1920,E1921/MAX($E$9:E1921)-1)))","v":""}]
[null,null,null,null,null,{"$f":"IF(B1922=\"\",\"\",IF(C1922=\"\",F1921,IF(E1922=\"\",F1921,E1922/MAX($E$9:E1922)-1)))","v":""}]
[null,null,null,null,null,{"$f":"IF(B1923=\"\",\"\",IF(C1923=\"\",F1922,IF(E1923=\"\",F1922,E1923/MAX($E$9:E1923)-1)))","v":""}]
[null,null,null,null,null,{"$f":"IF(B1924=\"\",\"\",IF(C1924=\"\",F1923,IF(E1924=\"\",F1923,E1924/MAX($E$9:E1924)-1)))","v":""}]
[null,null,null,null,null,{"$f":"IF(B1925=\"\",\"\",IF(C1925=\"\",F1924,IF(E1925=\"\",F1924,E1925/MAX($E$9:E1925)-1)))","v":""}]
[null,null,null,null,null,{"$f":"IF(B1926=\"\",\"\",IF(C1926=\"\",F1925,IF(E1926=\"\",F1925,E1926/MAX($E$9:E1926)-1)))","v":""}]
[null,null,null,null,null,{"$f":"IF(B1927=\"\",\"\",IF(C1927=\"\",F1926,IF(E1927=\"\",F1926,E1927/MAX($E$9:E1927)-1)))","v":""}]
[null,null,null,null,null,{"$f":"IF(B1928=\"\",\"\",IF(C1928=\"\",F1927,IF(E1928=\"\",F1927,E1928/MAX($E$9:E1928)-1)))","v":""}]
[null,null,null,null,null,{"$f":"IF(B1929=\"\",\"\",IF(C1929=\"\",F1928,IF(E1929=\"\",F1928,E1929/MAX($E$9:E1929)-1)))","v":""}]
[null,null,null,null,null,{"$f":"IF(B1930=\"\",\"\",IF(C1930=\"\",F1929,IF(E1930=\"\",F1929,E1930/MAX($E$9:E1930)-1)))","v":""}]
[null,null,null,null,null,{"$f":"IF(B1931=\"\",\"\",IF(C1931=\"\",F1930,IF(E1931=\"\",F1930,E1931/MAX($E$9:E1931)-1)))","v":""}]
[null,null,null,null,null,{"$f":"IF(B1932=\"\",\"\",IF(C1932=\"\",F1931,IF(E1932=\"\",F1931,E1932/MAX($E$9:E1932)-1)))","v":""}]
[null,null,null,null,null,{"$f":"IF(B1933=\"\",\"\",IF(C1933=\"\",F1932,IF(E1933=\"\",F1932,E1933/MAX($E$9:E1933)-1)))","v":""}]
[null,null,null,null,null,{"$f":"IF(B1934=\"\",\"\",IF(C1934=\"\",F1933,IF(E1934=\"\",F1933,E1934/MAX($E$9:E1934)-1)))","v":""}]
[null,null,null,null,null,{"$f":"IF(B1935=\"\",\"\",IF(C1935=\"\",F1934,IF(E1935=\"\",F1934,E1935/MAX($E$9:E1935)-1)))","v":""}]
[null,null,null,null,null,{"$f":"IF(B1936=\"\",\"\",IF(C1936=\"\",F1935,IF(E1936=\"\",F1935,E1936/MAX($E$9:E1936)-1)))","v":""}]
[null,null,null,null,null,{"$f":"IF(B1937=\"\",\"\",IF(C1937=\"\",F1936,IF(E1937=\"\",F1936,E1937/MAX($E$9:E1937)-1)))","v":""}]
[null,null,null,null,null,{"$f":"IF(B1938=\"\",\"\",IF(C1938=\"\",F1937,IF(E1938=\"\",F1937,E1938/MAX($E$9:E1938)-1)))","v":""}]
[null,null,null,null,null,{"$f":"IF(B1939=\"\",\"\",IF(C1939=\"\",F1938,IF(E1939=\"\",F1938,E1939/MAX($E$9:E1939)-1)))","v":""}]
[null,null,null,null,null,{"$f":"IF(B1940=\"\",\"\",IF(C1940=\"\",F1939,IF(E1940=\"\",F1939,E1940/MAX($E$9:E1940)-1)))","v":""}]
[null,null,null,null,null,{"$f":"IF(B1941=\"\",\"\",IF(C1941=\"\",F1940,IF(E1941=\"\",F1940,E1941/MAX($E$9:E1941)-1)))","v":""}]
[null,null,null,null,null,{"$f":"IF(B1942=\"\",\"\",IF(C1942=\"\",F1941,IF(E1942=\"\",F1941,E1942/MAX($E$9:E1942)-1)))","v":""}]
[null,null,null,null,null,{"$f":"IF(B1943=\"\",\"\",IF(C1943=\"\",F1942,IF(E1943=\"\",F1942,E1943/MAX($E$9:E1943)-1)))","v":""}]
[null,null,null,null,null,{"$f":"IF(B1944=\"\",\"\",IF(C1944=\"\",F1943,IF(E1944=\"\",F1943,E1944/MAX($E$9:E1944)-1)))","v":""}]
[null,null,null,null,null,{"$f":"IF(B1945=\"\",\"\",IF(C1945=\"\",F1944,IF(E1945=\"\",F1944,E1945/MAX($E$9:E1945)-1)))","v":""}]
[null,null,null,null,null,{"$f":"IF(B1946=\"\",\"\",IF(C1946=\"\",F1945,IF(E1946=\"\",F1945,E1946/MAX($E$9:E1946)-1)))","v":""}]
[null,null,null,null,null,{"$f":"IF(B1947=\"\",\"\",IF(C1947=\"\",F1946,IF(E1947=\"\",F1946,E1947/MAX($E$9:E1947)-1)))","v":""}]
[null,null,null,null,null,{"$f":"IF(B1948=\"\",\"\",IF(C1948=\"\",F1947,IF(E1948=\"\",F1947,E1948/MAX($E$9:E1948)-1)))","v":""}]
[null,null,null,null,null,{"$f":"IF(B1949=\"\",\"\",IF(C1949=\"\",F1948,IF(E1949=\"\",F1948,E1949/MAX($E$9:E1949)-1)))","v":""}]
[null,null,null,null,null,{"$f":"IF(B1950=\"\",\"\",IF(C1950=\"\",F1949,IF(E1950=\"\",F1949,E1950/MAX($E$9:E1950)-1)))","v":""}]
[null,null,null,null,null,{"$f":"IF(B1951=\"\",\"\",IF(C1951=\"\",F1950,IF(E1951=\"\",F1950,E1951/MAX($E$9:E1951)-1)))","v":""}]
[null,null,null,null,null,{"$f":"IF(B1952=\"\",\"\",IF(C1952=\"\",F1951,IF(E1952=\"\",F1951,E1952/MAX($E$9:E1952)-1)))","v":""}]
[null,null,null,null,null,{"$f":"IF(B1953=\"\",\"\",IF(C1953=\"\",F1952,IF(E1953=\"\",F1952,E1953/MAX($E$9:E1953)-1)))","v":""}]
[null,null,null,null,null,{"$f":"IF(B1954=\"\",\"\",IF(C1954=\"\",F1953,IF(E1954=\"\",F1953,E1954/MAX($E$9:E1954)-1)))","v":""}]
[null,null,null,null,null,{"$f":"IF(B1955=\"\",\"\",IF(C1955=\"\",F1954,IF(E1955=\"\",F1954,E1955/MAX($E$9:E1955)-1)))","v":""}]
[null,null,null,null,null,{"$f":"IF(B1956=\"\",\"\",IF(C1956=\"\",F1955,IF(E1956=\"\",F1955,E1956/MAX($E$9:E1956)-1)))","v":""}]
[null,null,null,null,null,{"$f":"IF(B1957=\"\",\"\",IF(C1957=\"\",F1956,IF(E1957=\"\",F1956,E1957/MAX($E$9:E1957)-1)))","v":""}]
[null,null,null,null,null,{"$f":"IF(B1958=\"\",\"\",IF(C1958=\"\",F1957,IF(E1958=\"\",F1957,E1958/MAX($E$9:E1958)-1)))","v":""}]
[null,null,null,null,null,{"$f":"IF(B1959=\"\",\"\",IF(C1959=\"\",F1958,IF(E1959=\"\",F1958,E1959/MAX($E$9:E1959)-1)))","v":""}]
[null,null,null,null,null,{"$f":"IF(B1960=\"\",\"\",IF(C1960=\"\",F1959,IF(E1960=\"\",F1959,E1960/MAX($E$9:E1960)-1)))","v":""}]
[null,null,null,null,null,{"$f":"IF(B1961=\"\",\"\",IF(C1961=\"\",F1960,IF(E1961=\"\",F1960,E1961/MAX($E$9:E1961)-1)))","v":""}]
[null,null,null,null,null,{"$f":"IF(B1962=\"\",\"\",IF(C1962=\"\",F1961,IF(E1962=\"\",F1961,E1962/MAX($E$9:E1962)-1)))","v":""}]
[null,null,null,null,null,{"$f":"IF(B1963=\"\",\"\",IF(C1963=\"\",F1962,IF(E1963=\"\",F1962,E1963/MAX($E$9:E1963)-1)))","v":""}]
[null,null,null,null,null,{"$f":"IF(B1964=\"\",\"\",IF(C1964=\"\",F1963,IF(E1964=\"\",F1963,E1964/MAX($E$9:E1964)-1)))","v":""}]
[null,null,null,null,null,{"$f":"IF(B1965=\"\",\"\",IF(C1965=\"\",F1964,IF(E1965=\"\",F1964,E1965/MAX($E$9:E1965)-1)))","v":""}]
[null,null,null,null,null,{"$f":"IF(B1966=\"\",\"\",IF(C1966=\"\",F1965,IF(E1966=\"\",F1965,E1966/MAX($E$9:E1966)-1)))","v":""}]
[null,null,null,null,null,{"$f":"IF(B1967=\"\",\"\",IF(C1967=\"\",F1966,IF(E1967=\"\",F1966,E1967/MAX($E$9:E1967)-1)))","v":""}]
[null,null,null,null,null,{"$f":"IF(B1968=\"\",\"\",IF(C1968=\"\",F1967,IF(E1968=\"\",F1967,E1968/MAX($E$9:E1968)-1)))","v":""}]
[null,null,null,null,null,{"$f":"IF(B1969=\"\",\"\",IF(C1969=\"\",F1968,IF(E1969=\"\",F1968,E1969/MAX($E$9:E1969)-1)))","v":""}]
[null,null,null,null,null,{"$f":"IF(B1970=\"\",\"\",IF(C1970=\"\",F1969,IF(E1970=\"\",F1969,E1970/MAX($E$9:E1970)-1)))","v":""}]
[null,null,null,null,null,{"$f":"IF(B1971=\"\",\"\",IF(C1971=\"\",F1970,IF(E1971=\"\",F1970,E1971/MAX($E$9:E1971)-1)))","v":""}]
[null,null,null,null,null,{"$f":"IF(B1972=\"\",\"\",IF(C1972=\"\",F1971,IF(E1972=\"\",F1971,E1972/MAX($E$9:E1972)-1)))","v":""}]
[null,null,null,null,null,{"$f":"IF(B1973=\"\",\"\",IF(C1973=\"\",F1972,IF(E1973=\"\",F1972,E1973/MAX($E$9:E1973)-1)))","v":""}]
[null,null,null,null,null,{"$f":"IF(B1974=\"\",\"\",IF(C1974=\"\",F1973,IF(E1974=\"\",F1973,E1974/MAX($E$9:E1974)-1)))","v":""}]
[null,null,null,null,null,{"$f":"IF(B1975=\"\",\"\",IF(C1975=\"\",F1974,IF(E1975=\"\",F1974,E1975/MAX($E$9:E1975)-1)))","v":""}]
[null,null,null,null,null,{"$f":"IF(B1976=\"\",\"\",IF(C1976=\"\",F1975,IF(E1976=\"\",F1975,E1976/MAX($E$9:E1976)-1)))","v":""}]
[null,null,null,null,null,{"$f":"IF(B1977=\"\",\"\",IF(C1977=\"\",F1976,IF(E1977=\"\",F1976,E1977/MAX($E$9:E1977)-1)))","v":""}]
[null,null,null,null,null,{"$f":"IF(B1978=\"\",\"\",IF(C1978=\"\",F1977,IF(E1978=\"\",F1977,E1978/MAX($E$9:E1978)-1)))","v":""}]
[null,null,null,null,null,{"$f":"IF(B1979=\"\",\"\",IF(C1979=\"\",F1978,IF(E1979=\"\",F1978,E1979/MAX($E$9:E1979)-1)))","v":""}]
[null,null,null,null,null,{"$f":"IF(B1980=\"\",\"\",IF(C1980=\"\",F1979,IF(E1980=\"\",F1979,E1980/MAX($E$9:E1980)-1)))","v":""}]
[null,null,null,null,null,{"$f":"IF(B1981=\"\",\"\",IF(C1981=\"\",F1980,IF(E1981=\"\",F1980,E1981/MAX($E$9:E1981)-1)))","v":""}]
[null,null,null,null,null,{"$f":"IF(B1982=\"\",\"\",IF(C1982=\"\",F1981,IF(E1982=\"\",F1981,E1982/MAX($E$9:E1982)-1)))","v":""}]
[null,null,null,null,null,{"$f":"IF(B1983=\"\",\"\",IF(C1983=\"\",F1982,IF(E1983=\"\",F1982,E1983/MAX($E$9:E1983)-1)))","v":""}]
[null,null,null,null,null,{"$f":"IF(B1984=\"\",\"\",IF(C1984=\"\",F1983,IF(E1984=\"\",F1983,E1984/MAX($E$9:E1984)-1)))","v":""}]
[null,null,null,null,null,{"$f":"IF(B1985=\"\",\"\",IF(C1985=\"\",F1984,IF(E1985=\"\",F1984,E1985/MAX($E$9:E1985)-1)))","v":""}]
[null,null,null,null,null,{"$f":"IF(B1986=\"\",\"\",IF(C1986=\"\",F1985,IF(E1986=\"\",F1985,E1986/MAX($E$9:E1986)-1)))","v":""}]
[null,null,null,null,null,{"$f":"IF(B1987=\"\",\"\",IF(C1987=\"\",F1986,IF(E1987=\"\",F1986,E1987/MAX($E$9:E1987)-1)))","v":""}]
[null,null,null,null,null,{"$f":"IF(B1988=\"\",\"\",IF(C1988=\"\",F1987,IF(E1988=\"\",F1987,E1988/MAX($E$9:E1988)-1)))","v":""}]
[null,null,null,null,null,{"$f":"IF(B1989=\"\",\"\",IF(C1989=\"\",F1988,IF(E1989=\"\",F1988,E1989/MAX($E$9:E1989)-1)))","v":""}]
[null,null,null,null,null,{"$f":"IF(B1990=\"\",\"\",IF(C1990=\"\",F1989,IF(E1990=\"\",F1989,E1990/MAX($E$9:E1990)-1)))","v":""}]
[null,null,null,null,null,{"$f":"IF(B1991=\"\",\"\",IF(C1991=\"\",F1990,IF(E1991=\"\",F1990,E1991/MAX($E$9:E1991)-1)))","v":""}]
[null,null,null,null,null,{"$f":"IF(B1992=\"\",\"\",IF(C1992=\"\",F1991,IF(E1992=\"\",F1991,E1992/MAX($E$9:E1992)-1)))","v":""}]
[null,null,null,null,null,{"$f":"IF(B1993=\"\",\"\",IF(C1993=\"\",F1992,IF(E1993=\"\",F1992,E1993/MAX($E$9:E1993)-1)))","v":""}]
[null,null,null,null,null,{"$f":"IF(B1994=\"\",\"\",IF(C1994=\"\",F1993,IF(E1994=\"\",F1993,E1994/MAX($E$9:E1994)-1)))","v":""}]
[null,null,null,null,null,{"$f":"IF(B1995=\"\",\"\",IF(C1995=\"\",F1994,IF(E1995=\"\",F1994,E1995/MAX($E$9:E1995)-1)))","v":""}]
[null,null,null,null,null,{"$f":"IF(B1996=\"\",\"\",IF(C1996=\"\",F1995,IF(E1996=\"\",F1995,E1996/MAX($E$9:E1996)-1)))","v":""}]
[null,null,null,null,null,{"$f":"IF(B1997=\"\",\"\",IF(C1997=\"\",F1996,IF(E1997=\"\",F1996,E1997/MAX($E$9:E1997)-1)))","v":""}]
[null,null,null,null,null,{"$f":"IF(B1998=\"\",\"\",IF(C1998=\"\",F1997,IF(E1998=\"\",F1997,E1998/MAX($E$9:E1998)-1)))","v":""}]
[null,null,null,null,null,{"$f":"IF(B1999=\"\",\"\",IF(C1999=\"\",F1998,IF(E1999=\"\",F1998,E1999/MAX($E$9:E1999)-1)))","v":""}]
[null,null,null,null,null,{"$f":"IF(B2000=\"\",\"\",IF(C2000=\"\",F1999,IF(E2000=\"\",F1999,E2000/MAX($E$9:E2000)-1)))","v":""}]
[null,null,null,null,null,{"$f":"IF(B2001=\"\",\"\",IF(C2001=\"\",F2000,IF(E2001=\"\",F2000,E2001/MAX($E$9:E2001)-1)))","v":""}]
[null,null,null,null,null,{"$f":"IF(B2002=\"\",\"\",IF(C2002=\"\",F2001,IF(E2002=\"\",F2001,E2002/MAX($E$9:E2002)-1)))","v":""}]
[null,null,null,null,null,{"$f":"IF(B2003=\"\",\"\",IF(C2003=\"\",F2002,IF(E2003=\"\",F2002,E2003/MAX($E$9:E2003)-1)))","v":""}]
[null,null,null,null,null,{"$f":"IF(B2004=\"\",\"\",IF(C2004=\"\",F2003,IF(E2004=\"\",F2003,E2004/MAX($E$9:E2004)-1)))","v":""}]
[null,null,null,null,null,{"$f":"IF(B2005=\"\",\"\",IF(C2005=\"\",F2004,IF(E2005=\"\",F2004,E2005/MAX($E$9:E2005)-1)))","v":""}]
[null,null,null,null,null,{"$f":"IF(B2006=\"\",\"\",IF(C2006=\"\",F2005,IF(E2006=\"\",F2005,E2006/MAX($E$9:E2006)-1)))","v":""}]
[null,null,null,null,null,{"$f":"IF(B2007=\"\",\"\",IF(C2007=\"\",F2006,IF(E2007=\"\",F2006,E2007/MAX($E$9:E2007)-1)))","v":""}]
[null,null,null,null,null,{"$f":"IF(B2008=\"\",\"\",IF(C2008=\"\",F2007,IF(E2008=\"\",F2007,E2008/MAX($E$9:E2008)-1)))","v":""}]
[null,null,null,null,null,{"$f":"IF(B2009=\"\",\"\",IF(C2009=\"\",F2008,IF(E2009=\"\",F2008,E2009/MAX($E$9:E2009)-1)))","v":""}]
[null,null,null,null,null,{"$f":"IF(B2010=\"\",\"\",IF(C2010=\"\",F2009,IF(E2010=\"\",F2009,E2010/MAX($E$9:E2010)-1)))","v":""}]
[null,null,null,null,null,{"$f":"IF(B2011=\"\",\"\",IF(C2011=\"\",F2010,IF(E2011=\"\",F2010,E2011/MAX($E$9:E2011)-1)))","v":""}]
[null,null,null,null,null,{"$f":"IF(B2012=\"\",\"\",IF(C2012=\"\",F2011,IF(E2012=\"\",F2011,E2012/MAX($E$9:E2012)-1)))","v":""}]
[null,null,null,null,null,{"$f":"IF(B2013=\"\",\"\",IF(C2013=\"\",F2012,IF(E2013=\"\",F2012,E2013/MAX($E$9:E2013)-1)))","v":""}]
[null,null,null,null,null,{"$f":"IF(B2014=\"\",\"\",IF(C2014=\"\",F2013,IF(E2014=\"\",F2013,E2014/MAX($E$9:E2014)-1)))","v":""}]
[null,null,null,null,null,{"$f":"IF(B2015=\"\",\"\",IF(C2015=\"\",F2014,IF(E2015=\"\",F2014,E2015/MAX($E$9:E2015)-1)))","v":""}]
[null,null,null,null,null,{"$f":"IF(B2016=\"\",\"\",IF(C2016=\"\",F2015,IF(E2016=\"\",F2015,E2016/MAX($E$9:E2016)-1)))","v":""}]
[null,null,null,null,null,{"$f":"IF(B2017=\"\",\"\",IF(C2017=\"\",F2016,IF(E2017=\"\",F2016,E2017/MAX($E$9:E2017)-1)))","v":""}]
[null,null,null,null,null,{"$f":"IF(B2018=\"\",\"\",IF(C2018=\"\",F2017,IF(E2018=\"\",F2017,E2018/MAX($E$9:E2018)-1)))","v":""}]
[null,null,null,null,null,{"$f":"IF(B2019=\"\",\"\",IF(C2019=\"\",F2018,IF(E2019=\"\",F2018,E2019/MAX($E$9:E2019)-1)))","v":""}]
[null,null,null,null,null,{"$f":"IF(B2020=\"\",\"\",IF(C2020=\"\",F2019,IF(E2020=\"\",F2019,E2020/MAX($E$9:E2020)-1)))","v":""}]
[null,null,null,null,null,{"$f":"IF(B2021=\"\",\"\",IF(C2021=\"\",F2020,IF(E2021=\"\",F2020,E2021/MAX($E$9:E2021)-1)))","v":""}]
[null,null,null,null,null,{"$f":"IF(B2022=\"\",\"\",IF(C2022=\"\",F2021,IF(E2022=\"\",F2021,E2022/MAX($E$9:E2022)-1)))","v":""}]
[null,null,null,null,null,{"$f":"IF(B2023=\"\",\"\",IF(C2023=\"\",F2022,IF(E2023=\"\",F2022,E2023/MAX($E$9:E2023)-1)))","v":""}]
[null,null,null,null,null,{"$f":"IF(B2024=\"\",\"\",IF(C2024=\"\",F2023,IF(E2024=\"\",F2023,E2024/MAX($E$9:E2024)-1)))","v":""}]
[null,null,null,null,null,{"$f":"IF(B2025=\"\",\"\",IF(C2025=\"\",F2024,IF(E2025=\"\",F2024,E2025/MAX($E$9:E2025)-1)))","v":""}]
[null,null,null,null,null,{"$f":"IF(B2026=\"\",\"\",IF(C2026=\"\",F2025,IF(E2026=\"\",F2025,E2026/MAX($E$9:E2026)-1)))","v":""}]
[null,null,null,null,null,{"$f":"IF(B2027=\"\",\"\",IF(C2027=\"\",F2026,IF(E2027=\"\",F2026,E2027/MAX($E$9:E2027)-1)))","v":""}]
[null,null,null,null,null,{"$f":"IF(B2028=\"\",\"\",IF(C2028=\"\",F2027,IF(E2028=\"\",F2027,E2028/MAX($E$9:E2028)-1)))","v":""}]
[null,null,null,null,null,{"$f":"IF(B2029=\"\",\"\",IF(C2029=\"\",F2028,IF(E2029=\"\",F2028,E2029/MAX($E$9:E2029)-1)))","v":""}]
[null,null,null,null,null,{"$f":"IF(B2030=\"\",\"\",IF(C2030=\"\",F2029,IF(E2030=\"\",F2029,E2030/MAX($E$9:E2030)-1)))","v":""}]
[null,null,null,null,null,{"$f":"IF(B2031=\"\",\"\",IF(C2031=\"\",F2030,IF(E2031=\"\",F2030,E2031/MAX($E$9:E2031)-1)))","v":""}]
[null,null,null,null,null,{"$f":"IF(B2032=\"\",\"\",IF(C2032=\"\",F2031,IF(E2032=\"\",F2031,E2032/MAX($E$9:E2032)-1)))","v":""}]
[null,null,null,null,null,{"$f":"IF(B2033=\"\",\"\",IF(C2033=\"\",F2032,IF(E2033=\"\",F2032,E2033/MAX($E$9:E2033)-1)))","v":""}]
[null,null,null,null,null,{"$f":"IF(B2034=\"\",\"\",IF(C2034=\"\",F2033,IF(E2034=\"\",F2033,E2034/MAX($E$9:E2034)-1)))","v":""}]
[null,null,null,null,null,{"$f":"IF(B2035=\"\",\"\",IF(C2035=\"\",F2034,IF(E2035=\"\",F2034,E2035/MAX($E$9:E2035)-1)))","v":""}]
[null,null,null,null,null,{"$f":"IF(B2036=\"\",\"\",IF(C2036=\"\",F2035,IF(E2036=\"\",F2035,E2036/MAX($E$9:E2036)-1)))","v":""}]
[null,null,null,null,null,{"$f":"IF(B2037=\"\",\"\",IF(C2037=\"\",F2036,IF(E2037=\"\",F2036,E2037/MAX($E$9:E2037)-1)))","v":""}]
[null,null,null,null,null,{"$f":"IF(B2038=\"\",\"\",IF(C2038=\"\",F2037,IF(E2038=\"\",F2037,E2038/MAX($E$9:E2038)-1)))","v":""}]
[null,null,null,null,null,{"$f":"IF(B2039=\"\",\"\",IF(C2039=\"\",F2038,IF(E2039=\"\",F2038,E2039/MAX($E$9:E2039)-1)))","v":""}]
[null,null,null,null,null,{"$f":"IF(B2040=\"\",\"\",IF(C2040=\"\",F2039,IF(E2040=\"\",F2039,E2040/MAX($E$9:E2040)-1)))","v":""}]
[null,null,null,null,null,{"$f":"IF(B2041=\"\",\"\",IF(C2041=\"\",F2040,IF(E2041=\"\",F2040,E2041/MAX($E$9:E2041)-1)))","v":""}]
[null,null,null,null,null,{"$f":"IF(B2042=\"\",\"\",IF(C2042=\"\",F2041,IF(E2042=\"\",F2041,E2042/MAX($E$9:E2042)-1)))","v":""}]
[null,null,null,null,null,{"$f":"IF(B2043=\"\",\"\",IF(C2043=\"\",F2042,IF(E2043=\"\",F2042,E2043/MAX($E$9:E2043)-1)))","v":""}]
[null,null,null,null,null,{"$f":"IF(B2044=\"\",\"\",IF(C2044=\"\",F2043,IF(E2044=\"\",F2043,E2044/MAX($E$9:E2044)-1)))","v":""}]
[null,null,null,null,null,{"$f":"IF(B2045=\"\",\"\",IF(C2045=\"\",F2044,IF(E2045=\"\",F2044,E2045/MAX($E$9:E2045)-1)))","v":""}]
[null,null,null,null,null,{"$f":"IF(B2046=\"\",\"\",IF(C2046=\"\",F2045,IF(E2046=\"\",F2045,E2046/MAX($E$9:E2046)-1)))","v":""}]
[null,null,null,null,null,{"$f":"IF(B2047=\"\",\"\",IF(C2047=\"\",F2046,IF(E2047=\"\",F2046,E2047/MAX($E$9:E2047)-1)))","v":""}]
[null,null,null,null,null,{"$f":"IF(B2048=\"\",\"\",IF(C2048=\"\",F2047,IF(E2048=\"\",F2047,E2048/MAX($E$9:E2048)-1)))","v":""}]
[null,null,null,null,null,{"$f":"IF(B2049=\"\",\"\",IF(C2049=\"\",F2048,IF(E2049=\"\",F2048,E2049/MAX($E$9:E2049)-1)))","v":""}]
[null,null,null,null,null,{"$f":"IF(B2050=\"\",\"\",IF(C2050=\"\",F2049,IF(E2050=\"\",F2049,E2050/MAX($E$9:E2050)-1)))","v":""}]
[null,null,null,null,null,{"$f":"IF(B2051=\"\",\"\",IF(C2051=\"\",F2050,IF(E2051=\"\",F2050,E2051/MAX($E$9:E2051)-1)))","v":""}]
[null,null,null,null,null,{"$f":"IF(B2052=\"\",\"\",IF(C2052=\"\",F2051,IF(E2052=\"\",F2051,E2052/MAX($E$9:E2052)-1)))","v":""}]
[null,null,null,null,null,{"$f":"IF(B2053=\"\",\"\",IF(C2053=\"\",F2052,IF(E2053=\"\",F2052,E2053/MAX($E$9:E2053)-1)))","v":""}]
[null,null,null,null,null,{"$f":"IF(B2054=\"\",\"\",IF(C2054=\"\",F2053,IF(E2054=\"\",F2053,E2054/MAX($E$9:E2054)-1)))","v":""}]
[null,null,null,null,null,{"$f":"IF(B2055=\"\",\"\",IF(C2055=\"\",F2054,IF(E2055=\"\",F2054,E2055/MAX($E$9:E2055)-1)))","v":""}]
[null,null,null,null,null,{"$f":"IF(B2056=\"\",\"\",IF(C2056=\"\",F2055,IF(E2056=\"\",F2055,E2056/MAX($E$9:E2056)-1)))","v":""}]
[null,null,null,null,null,{"$f":"IF(B2057=\"\",\"\",IF(C2057=\"\",F2056,IF(E2057=\"\",F2056,E2057/MAX($E$9:E2057)-1)))","v":""}]
[null,null,null,null,null,{"$f":"IF(B2058=\"\",\"\",IF(C2058=\"\",F2057,IF(E2058=\"\",F2057,E2058/MAX($E$9:E2058)-1)))","v":""}]
[null,null,null,null,null,{"$f":"IF(B2059=\"\",\"\",IF(C2059=\"\",F2058,IF(E2059=\"\",F2058,E2059/MAX($E$9:E2059)-1)))","v":""}]
[null,null,null,null,null,{"$f":"IF(B2060=\"\",\"\",IF(C2060=\"\",F2059,IF(E2060=\"\",F2059,E2060/MAX($E$9:E2060)-1)))","v":""}]
[null,null,null,null,null,{"$f":"IF(B2061=\"\",\"\",IF(C2061=\"\",F2060,IF(E2061=\"\",F2060,E2061/MAX($E$9:E2061)-1)))","v":""}]
[null,null,null,null,null,{"$f":"IF(B2062=\"\",\"\",IF(C2062=\"\",F2061,IF(E2062=\"\",F2061,E2062/MAX($E$9:E2062)-1)))","v":""}]
[null,null,null,null,null,{"$f":"IF(B2063=\"\",\"\",IF(C2063=\"\",F2062,IF(E2063=\"\",F2062,E2063/MAX($E$9:E2063)-1)))","v":""}]
[null,null,null,null,null,{"$f":"IF(B2064=\"\",\"\",IF(C2064=\"\",F2063,IF(E2064=\"\",F2063,E2064/MAX($E$9:E2064)-1)))","v":""}]
[null,null,null,null,null,{"$f":"IF(B2065=\"\",\"\",IF(C2065=\"\",F2064,IF(E2065=\"\",F2064,E2065/MAX($E$9:E2065)-1)))","v":""}]
[null,null,null,null,null,{"$f":"IF(B2066=\"\",\"\",IF(C2066=\"\",F2065,IF(E2066=\"\",F2065,E2066/MAX($E$9:E2066)-1)))","v":""}]
[null,null,null,null,null,{"$f":"IF(B2067=\"\",\"\",IF(C2067=\"\",F2066,IF(E2067=\"\",F2066,E2067/MAX($E$9:E2067)-1)))","v":""}]
[null,null,null,null,null,{"$f":"IF(B2068=\"\",\"\",IF(C2068=\"\",F2067,IF(E2068=\"\",F2067,E2068/MAX($E$9:E2068)-1)))","v":""}]
[null,null,null,null,null,{"$f":"IF(B2069=\"\",\"\",IF(C2069=\"\",F2068,IF(E2069=\"\",F2068,E2069/MAX($E$9:E2069)-1)))","v":""}]
[null,null,null,null,null,{"$f":"IF(B2070=\"\",\"\",IF(C2070=\"\",F2069,IF(E2070=\"\",F2069,E2070/MAX($E$9:E2070)-1)))","v":""}]
[null,null,null,null,null,{"$f":"IF(B2071=\"\",\"\",IF(C2071=\"\",F2070,IF(E2071=\"\",F2070,E2071/MAX($E$9:E2071)-1)))","v":""}]
[null,null,null,null,null,{"$f":"IF(B2072=\"\",\"\",IF(C2072=\"\",F2071,IF(E2072=\"\",F2071,E2072/MAX($E$9:E2072)-1)))","v":""}]
[null,null,null,null,null,{"$f":"IF(B2073=\"\",\"\",IF(C2073=\"\",F2072,IF(E2073=\"\",F2072,E2073/MAX($E$9:E2073)-1)))","v":""}]
[null,null,null,null,null,{"$f":"IF(B2074=\"\",\"\",IF(C2074=\"\",F2073,IF(E2074=\"\",F2073,E2074/MAX($E$9:E2074)-1)))","v":""}]
[null,null,null,null,null,{"$f":"IF(B2075=\"\",\"\",IF(C2075=\"\",F2074,IF(E2075=\"\",F2074,E2075/MAX($E$9:E2075)-1)))","v":""}]
[null,null,null,null,null,{"$f":"IF(B2076=\"\",\"\",IF(C2076=\"\",F2075,IF(E2076=\"\",F2075,E2076/MAX($E$9:E2076)-1)))","v":""}]
[null,null,null,null,null,{"$f":"IF(B2077=\"\",\"\",IF(C2077=\"\",F2076,IF(E2077=\"\",F2076,E2077/MAX($E$9:E2077)-1)))","v":""}]
[null,null,null,null,null,{"$f":"IF(B2078=\"\",\"\",IF(C2078=\"\",F2077,IF(E2078=\"\",F2077,E2078/MAX($E$9:E2078)-1)))","v":""}]
[null,null,null,null,null,{"$f":"IF(B2079=\"\",\"\",IF(C2079=\"\",F2078,IF(E2079=\"\",F2078,E2079/MAX($E$9:E2079)-1)))","v":""}]
[null,null,null,null,null,{"$f":"IF(B2080=\"\",\"\",IF(C2080=\"\",F2079,IF(E2080=\"\",F2079,E2080/MAX($E$9:E2080)-1)))","v":""}]
[null,null,null,null,null,{"$f":"IF(B2081=\"\",\"\",IF(C2081=\"\",F2080,IF(E2081=\"\",F2080,E2081/MAX($E$9:E2081)-1)))","v":""}]
[null,null,null,null,null,{"$f":"IF(B2082=\"\",\"\",IF(C2082=\"\",F2081,IF(E2082=\"\",F2081,E2082/MAX($E$9:E2082)-1)))","v":""}]
[null,null,null,null,null,{"$f":"IF(B2083=\"\",\"\",IF(C2083=\"\",F2082,IF(E2083=\"\",F2082,E2083/MAX($E$9:E2083)-1)))","v":""}]
[null,null,null,null,null,{"$f":"IF(B2084=\"\",\"\",IF(C2084=\"\",F2083,IF(E2084=\"\",F2083,E2084/MAX($E$9:E2084)-1)))","v":""}]
[null,null,null,null,null,{"$f":"IF(B2085=\"\",\"\",IF(C2085=\"\",F2084,IF(E2085=\"\",F2084,E2085/MAX($E$9:E2085)-1)))","v":""}]
[null,null,null,null,null,{"$f":"IF(B2086=\"\",\"\",IF(C2086=\"\",F2085,IF(E2086=\"\",F2085,E2086/MAX($E$9:E2086)-1)))","v":""}]
[null,null,null,null,null,{"$f":"IF(B2087=\"\",\"\",IF(C2087=\"\",F2086,IF(E2087=\"\",F2086,E2087/MAX($E$9:E2087)-1)))","v":""}]
[null,null,null,null,null,{"$f":"IF(B2088=\"\",\"\",IF(C2088=\"\",F2087,IF(E2088=\"\",F2087,E2088/MAX($E$9:E2088)-1)))","v":""}]
[null,null,null,null,null,{"$f":"IF(B2089=\"\",\"\",IF(C2089=\"\",F2088,IF(E2089=\"\",F2088,E2089/MAX($E$9:E2089)-1)))","v":""}]
[null,null,null,null,null,{"$f":"IF(B2090=\"\",\"\",IF(C2090=\"\",F2089,IF(E2090=\"\",F2089,E2090/MAX($E$9:E2090)-1)))","v":""}]
[null,null,null,null,null,{"$f":"IF(B2091=\"\",\"\",IF(C2091=\"\",F2090,IF(E2091=\"\",F2090,E2091/MAX($E$9:E2091)-1)))","v":""}]
[null,null,null,null,null,{"$f":"IF(B2092=\"\",\"\",IF(C2092=\"\",F2091,IF(E2092=\"\",F2091,E2092/MAX($E$9:E2092)-1)))","v":""}]
[null,null,null,null,null,{"$f":"IF(B2093=\"\",\"\",IF(C2093=\"\",F2092,IF(E2093=\"\",F2092,E2093/MAX($E$9:E2093)-1)))","v":""}]
[null,null,null,null,null,{"$f":"IF(B2094=\"\",\"\",IF(C2094=\"\",F2093,IF(E2094=\"\",F2093,E2094/MAX($E$9:E2094)-1)))","v":""}]
[null,null,null,null,null,{"$f":"IF(B2095=\"\",\"\",IF(C2095=\"\",F2094,IF(E2095=\"\",F2094,E2095/MAX($E$9:E2095)-1)))","v":""}]
[null,null,null,null,null,{"$f":"IF(B2096=\"\",\"\",IF(C2096=\"\",F2095,IF(E2096=\"\",F2095,E2096/MAX($E$9:E2096)-1)))","v":""}]
[null,null,null,null,null,{"$f":"IF(B2097=\"\",\"\",IF(C2097=\"\",F2096,IF(E2097=\"\",F2096,E2097/MAX($E$9:E2097)-1)))","v":""}]
[null,null,null,null,null,{"$f":"IF(B2098=\"\",\"\",IF(C2098=\"\",F2097,IF(E2098=\"\",F2097,E2098/MAX($E$9:E2098)-1)))","v":""}]
[null,null,null,null,null,{"$f":"IF(B2099=\"\",\"\",IF(C2099=\"\",F2098,IF(E2099=\"\",F2098,E2099/MAX($E$9:E2099)-1)))","v":""}]
[null,null,null,null,null,{"$f":"IF(B2100=\"\",\"\",IF(C2100=\"\",F2099,IF(E2100=\"\",F2099,E2100/MAX($E$9:E2100)-1)))","v":""}]
[null,null,null,null,null,{"$f":"IF(B2101=\"\",\"\",IF(C2101=\"\",F2100,IF(E2101=\"\",F2100,E2101/MAX($E$9:E2101)-1)))","v":""}]
[null,null,null,null,null,{"$f":"IF(B2102=\"\",\"\",IF(C2102=\"\",F2101,IF(E2102=\"\",F2101,E2102/MAX($E$9:E2102)-1)))","v":""}]
[null,null,null,null,null,{"$f":"IF(B2103=\"\",\"\",IF(C2103=\"\",F2102,IF(E2103=\"\",F2102,E2103/MAX($E$9:E2103)-1)))","v":""}]
[null,null,null,null,null,{"$f":"IF(B2104=\"\",\"\",IF(C2104=\"\",F2103,IF(E2104=\"\",F2103,E2104/MAX($E$9:E2104)-1)))","v":""}]
[null,null,null,null,null,{"$f":"IF(B2105=\"\",\"\",IF(C2105=\"\",F2104,IF(E2105=\"\",F2104,E2105/MAX($E$9:E2105)-1)))","v":""}]
[null,null,null,null,null,{"$f":"IF(B2106=\"\",\"\",IF(C2106=\"\",F2105,IF(E2106=\"\",F2105,E2106/MAX($E$9:E2106)-1)))","v":""}]
[null,null,null,null,null,{"$f":"IF(B2107=\"\",\"\",IF(C2107=\"\",F2106,IF(E2107=\"\",F2106,E2107/MAX($E$9:E2107)-1)))","v":""}]
[null,null,null,null,null,{"$f":"IF(B2108=\"\",\"\",IF(C2108=\"\",F2107,IF(E2108=\"\",F2107,E2108/MAX($E$9:E2108)-1)))","v":""}]
[null,null,null,null,null,{"$f":"IF(B2109=\"\",\"\",IF(C2109=\"\",F2108,IF(E2109=\"\",F2108,E2109/MAX($E$9:E2109)-1)))","v":""}]
[null,null,null,null,null,{"$f":"IF(B2110=\"\",\"\",IF(C2110=\"\",F2109,IF(E2110=\"\",F2109,E2110/MAX($E$9:E2110)-1)))","v":""}]
[null,null,null,null,null,{"$f":"IF(B2111=\"\",\"\",IF(C2111=\"\",F2110,IF(E2111=\"\",F2110,E2111/MAX($E$9:E2111)-1)))","v":""}]
[null,null,null,null,null,{"$f":"IF(B2112=\"\",\"\",IF(C2112=\"\",F2111,IF(E2112=\"\",F2111,E2112/MAX($E$9:E2112)-1)))","v":""}]
[null,null,null,null,null,{"$f":"IF(B2113=\"\",\"\",IF(C2113=\"\",F2112,IF(E2113=\"\",F2112,E2113/MAX($E$9:E2113)-1)))","v":""}]
[null,null,null,null,null,{"$f":"IF(B2114=\"\",\"\",IF(C2114=\"\",F2113,IF(E2114=\"\",F2113,E2114/MAX($E$9:E2114)-1)))","v":""}]
[null,null,null,null,null,{"$f":"IF(B2115=\"\",\"\",IF(C2115=\"\",F2114,IF(E2115=\"\",F2114,E2115/MAX($E$9:E2115)-1)))","v":""}]
[null,null,null,null,null,{"$f":"IF(B2116=\"\",\"\",IF(C2116=\"\",F2115,IF(E2116=\"\",F2115,E2116/MAX($E$9:E2116)-1)))","v":""}]
[null,null,null,null,null,{"$f":"IF(B2117=\"\",\"\",IF(C2117=\"\",F2116,IF(E2117=\"\",F2116,E2117/MAX($E$9:E2117)-1)))","v":""}]
[null,null,null,null,null,{"$f":"IF(B2118=\"\",\"\",IF(C2118=\"\",F2117,IF(E2118=\"\",F2117,E2118/MAX($E$9:E2118)-1)))","v":""}]
[null,null,null,null,null,{"$f":"IF(B2119=\"\",\"\",IF(C2119=\"\",F2118,IF(E2119=\"\",F2118,E2119/MAX($E$9:E2119)-1)))","v":""}]
[null,null,null,null,null,{"$f":"IF(B2120=\"\",\"\",IF(C2120=\"\",F2119,IF(E2120=\"\",F2119,E2120/MAX($E$9:E2120)-1)))","v":""}]
[null,null,null,null,null,{"$f":"IF(B2121=\"\",\"\",IF(C2121=\"\",F2120,IF(E2121=\"\",F2120,E2121/MAX($E$9:E2121)-1)))","v":""}]
[null,null,null,null,null,{"$f":"IF(B2122=\"\",\"\",IF(C2122=\"\",F2121,IF(E2122=\"\",F2121,E2122/MAX($E$9:E2122)-1)))","v":""}]
[null,null,null,null,null,{"$f":"IF(B2123=\"\",\"\",IF(C2123=\"\",F2122,IF(E2123=\"\",F2122,E2123/MAX($E$9:E2123)-1)))","v":""}]
[null,null,null,null,null,{"$f":"IF(B2124=\"\",\"\",IF(C2124=\"\",F2123,IF(E2124=\"\",F2123,E2124/MAX($E$9:E2124)-1)))","v":""}]
[null,null,null,null,null,{"$f":"IF(B2125=\"\",\"\",IF(C2125=\"\",F2124,IF(E2125=\"\",F2124,E2125/MAX($E$9:E2125)-1)))","v":""}]
[null,null,null,null,null,{"$f":"IF(B2126=\"\",\"\",IF(C2126=\"\",F2125,IF(E2126=\"\",F2125,E2126/MAX($E$9:E2126)-1)))","v":""}]
[null,null,null,null,null,{"$f":"IF(B2127=\"\",\"\",IF(C2127=\"\",F2126,IF(E2127=\"\",F2126,E2127/MAX($E$9:E2127)-1)))","v":""}]
[null,null,null,null,null,{"$f":"IF(B2128=\"\",\"\",IF(C2128=\"\",F2127,IF(E2128=\"\",F2127,E2128/MAX($E$9:E2128)-1)))","v":""}]
[null,null,null,null,null,{"$f":"IF(B2129=\"\",\"\",IF(C2129=\"\",F2128,IF(E2129=\"\",F2128,E2129/MAX($E$9:E2129)-1)))","v":""}]
[null,null,null,null,null,{"$f":"IF(B2130=\"\",\"\",IF(C2130=\"\",F2129,IF(E2130=\"\",F2129,E2130/MAX($E$9:E2130)-1)))","v":""}]
[null,null,null,null,null,{"$f":"IF(B2131=\"\",\"\",IF(C2131=\"\",F2130,IF(E2131=\"\",F2130,E2131/MAX($E$9:E2131)-1)))","v":""}]
[null,null,null,null,null,{"$f":"IF(B2132=\"\",\"\",IF(C2132=\"\",F2131,IF(E2132=\"\",F2131,E2132/MAX($E$9:E2132)-1)))","v":""}]
[null,null,null,null,null,{"$f":"IF(B2133=\"\",\"\",IF(C2133=\"\",F2132,IF(E2133=\"\",F2132,E2133/MAX($E$9:E2133)-1)))","v":""}]
[null,null,null,null,null,{"$f":"IF(B2134=\"\",\"\",IF(C2134=\"\",F2133,IF(E2134=\"\",F2133,E2134/MAX($E$9:E2134)-1)))","v":""}]
[null,null,null,null,null,{"$f":"IF(B2135=\"\",\"\",IF(C2135=\"\",F2134,IF(E2135=\"\",F2134,E2135/MAX($E$9:E2135)-1)))","v":""}]
[null,null,null,null,null,{"$f":"IF(B2136=\"\",\"\",IF(C2136=\"\",F2135,IF(E2136=\"\",F2135,E2136/MAX($E$9:E2136)-1)))","v":""}]
[null,null,null,null,null,{"$f":"IF(B2137=\"\",\"\",IF(C2137=\"\",F2136,IF(E2137=\"\",F2136,E2137/MAX($E$9:E2137)-1)))","v":""}]
[null,null,null,null,null,{"$f":"IF(B2138=\"\",\"\",IF(C2138=\"\",F2137,IF(E2138=\"\",F2137,E2138/MAX($E$9:E2138)-1)))","v":""}]
[null,null,null,null,null,{"$f":"IF(B2139=\"\",\"\",IF(C2139=\"\",F2138,IF(E2139=\"\",F2138,E2139/MAX($E$9:E2139)-1)))","v":""}]
[null,null,null,null,null,{"$f":"IF(B2140=\"\",\"\",IF(C2140=\"\",F2139,IF(E2140=\"\",F2139,E2140/MAX($E$9:E2140)-1)))","v":""}]
[null,null,null,null,null,{"$f":"IF(B2141=\"\",\"\",IF(C2141=\"\",F2140,IF(E2141=\"\",F2140,E2141/MAX($E$9:E2141)-1)))","v":""}]
[null,null,null,null,null,{"$f":"IF(B2142=\"\",\"\",IF(C2142=\"\",F2141,IF(E2142=\"\",F2141,E2142/MAX($E$9:E2142)-1)))","v":""}]
[null,null,null,null,null,{"$f":"IF(B2143=\"\",\"\",IF(C2143=\"\",F2142,IF(E2143=\"\",F2142,E2143/MAX($E$9:E2143)-1)))","v":""}]
[null,null,null,null,null,{"$f":"IF(B2144=\"\",\"\",IF(C2144=\"\",F2143,IF(E2144=\"\",F2143,E2144/MAX($E$9:E2144)-1)))","v":""}]
[null,null,null,null,null,{"$f":"IF(B2145=\"\",\"\",IF(C2145=\"\",F2144,IF(E2145=\"\",F2144,E2145/MAX($E$9:E2145)-1)))","v":""}]
[null,null,null,null,null,{"$f":"IF(B2146=\"\",\"\",IF(C2146=\"\",F2145,IF(E2146=\"\",F2145,E2146/MAX($E$9:E2146)-1)))","v":""}]
[null,null,null,null,null,{"$f":"IF(B2147=\"\",\"\",IF(C2147=\"\",F2146,IF(E2147=\"\",F2146,E2147/MAX($E$9:E2147)-1)))","v":""}]
[null,null,null,null,null,{"$f":"IF(B2148=\"\",\"\",IF(C2148=\"\",F2147,IF(E2148=\"\",F2147,E2148/MAX($E$9:E2148)-1)))","v":""}]
[null,null,null,null,null,{"$f":"IF(B2149=\"\",\"\",IF(C2149=\"\",F2148,IF(E2149=\"\",F2148,E2149/MAX($E$9:E2149)-1)))","v":""}]
[null,null,null,null,null,{"$f":"IF(B2150=\"\",\"\",IF(C2150=\"\",F2149,IF(E2150=\"\",F2149,E2150/MAX($E$9:E2150)-1)))","v":""}]
[null,null,null,null,null,{"$f":"IF(B2151=\"\",\"\",IF(C2151=\"\",F2150,IF(E2151=\"\",F2150,E2151/MAX($E$9:E2151)-1)))","v":""}]
[null,null,null,null,null,{"$f":"IF(B2152=\"\",\"\",IF(C2152=\"\",F2151,IF(E2152=\"\",F2151,E2152/MAX($E$9:E2152)-1)))","v":""}]
[null,null,null,null,null,{"$f":"IF(B2153=\"\",\"\",IF(C2153=\"\",F2152,IF(E2153=\"\",F2152,E2153/MAX($E$9:E2153)-1)))","v":""}]
[null,null,null,null,null,{"$f":"IF(B2154=\"\",\"\",IF(C2154=\"\",F2153,IF(E2154=\"\",F2153,E2154/MAX($E$9:E2154)-1)))","v":""}]
[null,null,null,null,null,{"$f":"IF(B2155=\"\",\"\",IF(C2155=\"\",F2154,IF(E2155=\"\",F2154,E2155/MAX($E$9:E2155)-1)))","v":""}]
[null,null,null,null,null,{"$f":"IF(B2156=\"\",\"\",IF(C2156=\"\",F2155,IF(E2156=\"\",F2155,E2156/MAX($E$9:E2156)-1)))","v":""}]
[null,null,null,null,null,{"$f":"IF(B2157=\"\",\"\",IF(C2157=\"\",F2156,IF(E2157=\"\",F2156,E2157/MAX($E$9:E2157)-1)))","v":""}]
[null,null,null,null,null,{"$f":"IF(B2158=\"\",\"\",IF(C2158=\"\",F2157,IF(E2158=\"\",F2157,E2158/MAX($E$9:E2158)-1)))","v":""}]
[null,null,null,null,null,{"$f":"IF(B2159=\"\",\"\",IF(C2159=\"\",F2158,IF(E2159=\"\",F2158,E2159/MAX($E$9:E2159)-1)))","v":""}]
[null,null,null,null,null,{"$f":"IF(B2160=\"\",\"\",IF(C2160=\"\",F2159,IF(E2160=\"\",F2159,E2160/MAX($E$9:E2160)-1)))","v":""}]
[null,null,null,null,null,{"$f":"IF(B2161=\"\",\"\",IF(C2161=\"\",F2160,IF(E2161=\"\",F2160,E2161/MAX($E$9:E2161)-1)))","v":""}]
[null,null,null,null,null,{"$f":"IF(B2162=\"\",\"\",IF(C2162=\"\",F2161,IF(E2162=\"\",F2161,E2162/MAX($E$9:E2162)-1)))","v":""}]
[null,null,null,null,null,{"$f":"IF(B2163=\"\",\"\",IF(C2163=\"\",F2162,IF(E2163=\"\",F2162,E2163/MAX($E$9:E2163)-1)))","v":""}]
[null,null,null,null,null,{"$f":"IF(B2164=\"\",\"\",IF(C2164=\"\",F2163,IF(E2164=\"\",F2163,E2164/MAX($E$9:E2164)-1)))","v":""}]
[null,null,null,null,null,{"$f":"IF(B2165=\"\",\"\",IF(C2165=\"\",F2164,IF(E2165=\"\",F2164,E2165/MAX($E$9:E2165)-1)))","v":""}]
[null,null,null,null,null,{"$f":"IF(B2166=\"\",\"\",IF(C2166=\"\",F2165,IF(E2166=\"\",F2165,E2166/MAX($E$9:E2166)-1)))","v":""}]
[null,null,null,null,null,{"$f":"IF(B2167=\"\",\"\",IF(C2167=\"\",F2166,IF(E2167=\"\",F2166,E2167/MAX($E$9:E2167)-1)))","v":""}]
[null,null,null,null,null,{"$f":"IF(B2168=\"\",\"\",IF(C2168=\"\",F2167,IF(E2168=\"\",F2167,E2168/MAX($E$9:E2168)-1)))","v":""}]
[null,null,null,null,null,{"$f":"IF(B2169=\"\",\"\",IF(C2169=\"\",F2168,IF(E2169=\"\",F2168,E2169/MAX($E$9:E2169)-1)))","v":""}]
[null,null,null,null,null,{"$f":"IF(B2170=\"\",\"\",IF(C2170=\"\",F2169,IF(E2170=\"\",F2169,E2170/MAX($E$9:E2170)-1)))","v":""}]
[null,null,null,null,null,{"$f":"IF(B2171=\"\",\"\",IF(C2171=\"\",F2170,IF(E2171=\"\",F2170,E2171/MAX($E$9:E2171)-1)))","v":""}]
[null,null,null,null,null,{"$f":"IF(B2172=\"\",\"\",IF(C2172=\"\",F2171,IF(E2172=\"\",F2171,E2172/MAX($E$9:E2172)-1)))","v":""}]
[null,null,null,null,null,{"$f":"IF(B2173=\"\",\"\",IF(C2173=\"\",F2172,IF(E2173=\"\",F2172,E2173/MAX($E$9:E2173)-1)))","v":""}]
[null,null,null,null,null,{"$f":"IF(B2174=\"\",\"\",IF(C2174=\"\",F2173,IF(E2174=\"\",F2173,E2174/MAX($E$9:E2174)-1)))","v":""}]
[null,null,null,null,null,{"$f":"IF(B2175=\"\",\"\",IF(C2175=\"\",F2174,IF(E2175=\"\",F2174,E2175/MAX($E$9:E2175)-1)))","v":""}]
[null,null,null,null,null,{"$f":"IF(B2176=\"\",\"\",IF(C2176=\"\",F2175,IF(E2176=\"\",F2175,E2176/MAX($E$9:E2176)-1)))","v":""}]
[null,null,null,null,null,{"$f":"IF(B2177=\"\",\"\",IF(C2177=\"\",F2176,IF(E2177=\"\",F2176,E2177/MAX($E$9:E2177)-1)))","v":""}]
[null,null,null,null,null,{"$f":"IF(B2178=\"\",\"\",IF(C2178=\"\",F2177,IF(E2178=\"\",F2177,E2178/MAX($E$9:E2178)-1)))","v":""}]
[null,null,null,null,null,{"$f":"IF(B2179=\"\",\"\",IF(C2179=\"\",F2178,IF(E2179=\"\",F2178,E2179/MAX($E$9:E2179)-1)))","v":""}]
[null,null,null,null,null,{"$f":"IF(B2180=\"\",\"\",IF(C2180=\"\",F2179,IF(E2180=\"\",F2179,E2180/MAX($E$9:E2180)-1)))","v":""}]
[null,null,null,null,null,{"$f":"IF(B2181=\"\",\"\",IF(C2181=\"\",F2180,IF(E2181=\"\",F2180,E2181/MAX($E$9:E2181)-1)))","v":""}]
[null,null,null,null,null,{"$f":"IF(B2182=\"\",\"\",IF(C2182=\"\",F2181,IF(E2182=\"\",F2181,E2182/MAX($E$9:E2182)-1)))","v":""}]
[null,null,null,null,null,{"$f":"IF(B2183=\"\",\"\",IF(C2183=\"\",F2182,IF(E2183=\"\",F2182,E2183/MAX($E$9:E2183)-1)))","v":""}]
[null,null,null,null,null,{"$f":"IF(B2184=\"\",\"\",IF(C2184=\"\",F2183,IF(E2184=\"\",F2183,E2184/MAX($E$9:E2184)-1)))","v":""}]
[null,null,null,null,null,{"$f":"IF(B2185=\"\",\"\",IF(C2185=\"\",F2184,IF(E2185=\"\",F2184,E2185/MAX($E$9:E2185)-1)))","v":""}]
[null,null,null,null,null,{"$f":"IF(B2186=\"\",\"\",IF(C2186=\"\",F2185,IF(E2186=\"\",F2185,E2186/MAX($E$9:E2186)-1)))","v":""}]
[null,null,null,null,null,{"$f":"IF(B2187=\"\",\"\",IF(C2187=\"\",F2186,IF(E2187=\"\",F2186,E2187/MAX($E$9:E2187)-1)))","v":""}]
[null,null,null,null,null,{"$f":"IF(B2188=\"\",\"\",IF(C2188=\"\",F2187,IF(E2188=\"\",F2187,E2188/MAX($E$9:E2188)-1)))","v":""}]
[null,null,null,null,null,{"$f":"IF(B2189=\"\",\"\",IF(C2189=\"\",F2188,IF(E2189=\"\",F2188,E2189/MAX($E$9:E2189)-1)))","v":""}]
[null,null,null,null,null,{"$f":"IF(B2190=\"\",\"\",IF(C2190=\"\",F2189,IF(E2190=\"\",F2189,E2190/MAX($E$9:E2190)-1)))","v":""}]
[null,null,null,null,null,{"$f":"IF(B2191=\"\",\"\",IF(C2191=\"\",F2190,IF(E2191=\"\",F2190,E2191/MAX($E$9:E2191)-1)))","v":""}]
[null,null,null,null,null,{"$f":"IF(B2192=\"\",\"\",IF(C2192=\"\",F2191,IF(E2192=\"\",F2191,E2192/MAX($E$9:E2192)-1)))","v":""}]
[null,null,null,null,null,{"$f":"IF(B2193=\"\",\"\",IF(C2193=\"\",F2192,IF(E2193=\"\",F2192,E2193/MAX($E$9:E2193)-1)))","v":""}]
[null,null,null,null,null,{"$f":"IF(B2194=\"\",\"\",IF(C2194=\"\",F2193,IF(E2194=\"\",F2193,E2194/MAX($E$9:E2194)-1)))","v":""}]
[null,null,null,null,null,{"$f":"IF(B2195=\"\",\"\",IF(C2195=\"\",F2194,IF(E2195=\"\",F2194,E2195/MAX($E$9:E2195)-1)))","v":""}]
[null,null,null,null,null,{"$f":"IF(B2196=\"\",\"\",IF(C2196=\"\",F2195,IF(E2196=\"\",F2195,E2196/MAX($E$9:E2196)-1)))","v":""}]
[null,null,null,null,null,{"$f":"IF(B2197=\"\",\"\",IF(C2197=\"\",F2196,IF(E2197=\"\",F2196,E2197/MAX($E$9:E2197)-1)))","v":""}]
[null,null,null,null,null,{"$f":"IF(B2198=\"\",\"\",IF(C2198=\"\",F2197,IF(E2198=\"\",F2197,E2198/MAX($E$9:E2198)-1)))","v":""}]
[null,null,null,null,null,{"$f":"IF(B2199=\"\",\"\",IF(C2199=\"\",F2198,IF(E2199=\"\",F2198,E2199/MAX($E$9:E2199)-1)))","v":""}]
[null,null,null,null,null,{"$f":"IF(B2200=\"\",\"\",IF(C2200=\"\",F2199,IF(E2200=\"\",F2199,E2200/MAX($E$9:E2200)-1)))","v":""}]
[null,null,null,null,null,{"$f":"IF(B2201=\"\",\"\",IF(C2201=\"\",F2200,IF(E2201=\"\",F2200,E2201/MAX($E$9:E2201)-1)))","v":""}]
[null,null,null,null,null,{"$f":"IF(B2202=\"\",\"\",IF(C2202=\"\",F2201,IF(E2202=\"\",F2201,E2202/MAX($E$9:E2202)-1)))","v":""}]
[null,null,null,null,null,{"$f":"IF(B2203=\"\",\"\",IF(C2203=\"\",F2202,IF(E2203=\"\",F2202,E2203/MAX($E$9:E2203)-1)))","v":""}]
[null,null,null,null,null,{"$f":"IF(B2204=\"\",\"\",IF(C2204=\"\",F2203,IF(E2204=\"\",F2203,E2204/MAX($E$9:E2204)-1)))","v":""}]
[null,null,null,null,null,{"$f":"IF(B2205=\"\",\"\",IF(C2205=\"\",F2204,IF(E2205=\"\",F2204,E2205/MAX($E$9:E2205)-1)))","v":""}]
[null,null,null,null,null,{"$f":"IF(B2206=\"\",\"\",IF(C2206=\"\",F2205,IF(E2206=\"\",F2205,E2206/MAX($E$9:E2206)-1)))","v":""}]
[null,null,null,null,null,{"$f":"IF(B2207=\"\",\"\",IF(C2207=\"\",F2206,IF(E2207=\"\",F2206,E2207/MAX($E$9:E2207)-1)))","v":""}]
[null,null,null,null,null,{"$f":"IF(B2208=\"\",\"\",IF(C2208=\"\",F2207,IF(E2208=\"\",F2207,E2208/MAX($E$9:E2208)-1)))","v":""}]
[null,null,null,null,null,{"$f":"IF(B2209=\"\",\"\",IF(C2209=\"\",F2208,IF(E2209=\"\",F2208,E2209/MAX($E$9:E2209)-1)))","v":""}]
[null,null,null,null,null,{"$f":"IF(B2210=\"\",\"\",IF(C2210=\"\",F2209,IF(E2210=\"\",F2209,E2210/MAX($E$9:E2210)-1)))","v":""}]
[null,null,null,null,null,{"$f":"IF(B2211=\"\",\"\",IF(C2211=\"\",F2210,IF(E2211=\"\",F2210,E2211/MAX($E$9:E2211)-1)))","v":""}]
[null,null,null,null,null,{"$f":"IF(B2212=\"\",\"\",IF(C2212=\"\",F2211,IF(E2212=\"\",F2211,E2212/MAX($E$9:E2212)-1)))","v":""}]
[null,null,null,null,null,{"$f":"IF(B2213=\"\",\"\",IF(C2213=\"\",F2212,IF(E2213=\"\",F2212,E2213/MAX($E$9:E2213)-1)))","v":""}]
[null,null,null,null,null,{"$f":"IF(B2214=\"\",\"\",IF(C2214=\"\",F2213,IF(E2214=\"\",F2213,E2214/MAX($E$9:E2214)-1)))","v":""}]
[null,null,null,null,null,{"$f":"IF(B2215=\"\",\"\",IF(C2215=\"\",F2214,IF(E2215=\"\",F2214,E2215/MAX($E$9:E2215)-1)))","v":""}]
[null,null,null,null,null,{"$f":"IF(B2216=\"\",\"\",IF(C2216=\"\",F2215,IF(E2216=\"\",F2215,E2216/MAX($E$9:E2216)-1)))","v":""}]
[null,null,null,null,null,{"$f":"IF(B2217=\"\",\"\",IF(C2217=\"\",F2216,IF(E2217=\"\",F2216,E2217/MAX($E$9:E2217)-1)))","v":""}]
[null,null,null,null,null,{"$f":"IF(B2218=\"\",\"\",IF(C2218=\"\",F2217,IF(E2218=\"\",F2217,E2218/MAX($E$9:E2218)-1)))","v":""}]
[null,null,null,null,null,{"$f":"IF(B2219=\"\",\"\",IF(C2219=\"\",F2218,IF(E2219=\"\",F2218,E2219/MAX($E$9:E2219)-1)))","v":""}]
[null,null,null,null,null,{"$f":"IF(B2220=\"\",\"\",IF(C2220=\"\",F2219,IF(E2220=\"\",F2219,E2220/MAX($E$9:E2220)-1)))","v":""}]
[null,null,null,null,null,{"$f":"IF(B2221=\"\",\"\",IF(C2221=\"\",F2220,IF(E2221=\"\",F2220,E2221/MAX($E$9:E2221)-1)))","v":""}]
[null,null,null,null,null,{"$f":"IF(B2222=\"\",\"\",IF(C2222=\"\",F2221,IF(E2222=\"\",F2221,E2222/MAX($E$9:E2222)-1)))","v":""}]
[null,null,null,null,null,{"$f":"IF(B2223=\"\",\"\",IF(C2223=\"\",F2222,IF(E2223=\"\",F2222,E2223/MAX($E$9:E2223)-1)))","v":""}]
[null,null,null,null,null,{"$f":"IF(B2224=\"\",\"\",IF(C2224=\"\",F2223,IF(E2224=\"\",F2223,E2224/MAX($E$9:E2224)-1)))","v":""}]
[null,null,null,null,null,{"$f":"IF(B2225=\"\",\"\",IF(C2225=\"\",F2224,IF(E2225=\"\",F2224,E2225/MAX($E$9:E2225)-1)))","v":""}]
[null,null,null,null,null,{"$f":"IF(B2226=\"\",\"\",IF(C2226=\"\",F2225,IF(E2226=\"\",F2225,E2226/MAX($E$9:E2226)-1)))","v":""}]
[null,null,null,null,null,{"$f":"IF(B2227=\"\",\"\",IF(C2227=\"\",F2226,IF(E2227=\"\",F2226,E2227/MAX($E$9:E2227)-1)))","v":""}]
[null,null,null,null,null,{"$f":"IF(B2228=\"\",\"\",IF(C2228=\"\",F2227,IF(E2228=\"\",F2227,E2228/MAX($E$9:E2228)-1)))","v":""}]
[null,null,null,null,null,{"$f":"IF(B2229=\"\",\"\",IF(C2229=\"\",F2228,IF(E2229=\"\",F2228,E2229/MAX($E$9:E2229)-1)))","v":""}]
[null,null,null,null,null,{"$f":"IF(B2230=\"\",\"\",IF(C2230=\"\",F2229,IF(E2230=\"\",F2229,E2230/MAX($E$9:E2230)-1)))","v":""}]
[null,null,null,null,null,{"$f":"IF(B2231=\"\",\"\",IF(C2231=\"\",F2230,IF(E2231=\"\",F2230,E2231/MAX($E$9:E2231)-1)))","v":""}]
[null,null,null,null,null,{"$f":"IF(B2232=\"\",\"\",IF(C2232=\"\",F2231,IF(E2232=\"\",F2231,E2232/MAX($E$9:E2232)-1)))","v":""}]
[null,null,null,null,null,{"$f":"IF(B2233=\"\",\"\",IF(C2233=\"\",F2232,IF(E2233=\"\",F2232,E2233/MAX($E$9:E2233)-1)))","v":""}]
[null,null,null,null,null,{"$f":"IF(B2234=\"\",\"\",IF(C2234=\"\",F2233,IF(E2234=\"\",F2233,E2234/MAX($E$9:E2234)-1)))","v":""}]
[null,null,null,null,null,{"$f":"IF(B2235=\"\",\"\",IF(C2235=\"\",F2234,IF(E2235=\"\",F2234,E2235/MAX($E$9:E2235)-1)))","v":""}]
[null,null,null,null,null,{"$f":"IF(B2236=\"\",\"\",IF(C2236=\"\",F2235,IF(E2236=\"\",F2235,E2236/MAX($E$9:E2236)-1)))","v":""}]
[null,null,null,null,null,{"$f":"IF(B2237=\"\",\"\",IF(C2237=\"\",F2236,IF(E2237=\"\",F2236,E2237/MAX($E$9:E2237)-1)))","v":""}]
[null,null,null,null,null,{"$f":"IF(B2238=\"\",\"\",IF(C2238=\"\",F2237,IF(E2238=\"\",F2237,E2238/MAX($E$9:E2238)-1)))","v":""}]
[null,null,null,null,null,{"$f":"IF(B2239=\"\",\"\",IF(C2239=\"\",F2238,IF(E2239=\"\",F2238,E2239/MAX($E$9:E2239)-1)))","v":""}]
[null,null,null,null,null,{"$f":"IF(B2240=\"\",\"\",IF(C2240=\"\",F2239,IF(E2240=\"\",F2239,E2240/MAX($E$9:E2240)-1)))","v":""}]
[null,null,null,null,null,{"$f":"IF(B2241=\"\",\"\",IF(C2241=\"\",F2240,IF(E2241=\"\",F2240,E2241/MAX($E$9:E2241)-1)))","v":""}]
[null,null,null,null,null,{"$f":"IF(B2242=\"\",\"\",IF(C2242=\"\",F2241,IF(E2242=\"\",F2241,E2242/MAX($E$9:E2242)-1)))","v":""}]
[null,null,null,null,null,{"$f":"IF(B2243=\"\",\"\",IF(C2243=\"\",F2242,IF(E2243=\"\",F2242,E2243/MAX($E$9:E2243)-1)))","v":""}]
[null,null,null,null,null,{"$f":"IF(B2244=\"\",\"\",IF(C2244=\"\",F2243,IF(E2244=\"\",F2243,E2244/MAX($E$9:E2244)-1)))","v":""}]
[null,null,null,null,null,{"$f":"IF(B2245=\"\",\"\",IF(C2245=\"\",F2244,IF(E2245=\"\",F2244,E2245/MAX($E$9:E2245)-1)))","v":""}]
[null,null,null,null,null,{"$f":"IF(B2246=\"\",\"\",IF(C2246=\"\",F2245,IF(E2246=\"\",F2245,E2246/MAX($E$9:E2246)-1)))","v":""}]
[null,null,null,null,null,{"$f":"IF(B2247=\"\",\"\",IF(C2247=\"\",F2246,IF(E2247=\"\",F2246,E2247/MAX($E$9:E2247)-1)))","v":""}]
[null,null,null,null,null,{"$f":"IF(B2248=\"\",\"\",IF(C2248=\"\",F2247,IF(E2248=\"\",F2247,E2248/MAX($E$9:E2248)-1)))","v":""}]
[null,null,null,null,null,{"$f":"IF(B2249=\"\",\"\",IF(C2249=\"\",F2248,IF(E2249=\"\",F2248,E2249/MAX($E$9:E2249)-1)))","v":""}]
[null,null,null,null,null,{"$f":"IF(B2250=\"\",\"\",IF(C2250=\"\",F2249,IF(E2250=\"\",F2249,E2250/MAX($E$9:E2250)-1)))","v":""}]
[null,null,null,null,null,{"$f":"IF(B2251=\"\",\"\",IF(C2251=\"\",F2250,IF(E2251=\"\",F2250,E2251/MAX($E$9:E2251)-1)))","v":""}]
[null,null,null,null,null,{"$f":"IF(B2252=\"\",\"\",IF(C2252=\"\",F2251,IF(E2252=\"\",F2251,E2252/MAX($E$9:E2252)-1)))","v":""}]
[null,null,null,null,null,{"$f":"IF(B2253=\"\",\"\",IF(C2253=\"\",F2252,IF(E2253=\"\",F2252,E2253/MAX($E$9:E2253)-1)))","v":""}]
[null,null,null,null,null,{"$f":"IF(B2254=\"\",\"\",IF(C2254=\"\",F2253,IF(E2254=\"\",F2253,E2254/MAX($E$9:E2254)-1)))","v":""}]
[null,null,null,null,null,{"$f":"IF(B2255=\"\",\"\",IF(C2255=\"\",F2254,IF(E2255=\"\",F2254,E2255/MAX($E$9:E2255)-1)))","v":""}]
[null,null,null,null,null,{"$f":"IF(B2256=\"\",\"\",IF(C2256=\"\",F2255,IF(E2256=\"\",F2255,E2256/MAX($E$9:E2256)-1)))","v":""}]
[null,null,null,null,null,{"$f":"IF(B2257=\"\",\"\",IF(C2257=\"\",F2256,IF(E2257=\"\",F2256,E2257/MAX($E$9:E2257)-1)))","v":""}]
[null,null,null,null,null,{"$f":"IF(B2258=\"\",\"\",IF(C2258=\"\",F2257,IF(E2258=\"\",F2257,E2258/MAX($E$9:E2258)-1)))","v":""}]
[null,null,null,null,null,{"$f":"IF(B2259=\"\",\"\",IF(C2259=\"\",F2258,IF(E2259=\"\",F2258,E2259/MAX($E$9:E2259)-1)))","v":""}]
[null,null,null,null,null,{"$f":"IF(B2260=\"\",\"\",IF(C2260=\"\",F2259,IF(E2260=\"\",F2259,E2260/MAX($E$9:E2260)-1)))","v":""}]
[null,null,null,null,null,{"$f":"IF(B2261=\"\",\"\",IF(C2261=\"\",F2260,IF(E2261=\"\",F2260,E2261/MAX($E$9:E2261)-1)))","v":""}]
[null,null,null,null,null,{"$f":"IF(B2262=\"\",\"\",IF(C2262=\"\",F2261,IF(E2262=\"\",F2261,E2262/MAX($E$9:E2262)-1)))","v":""}]
[null,null,null,null,null,{"$f":"IF(B2263=\"\",\"\",IF(C2263=\"\",F2262,IF(E2263=\"\",F2262,E2263/MAX($E$9:E2263)-1)))","v":""}]
[null,null,null,null,null,{"$f":"IF(B2264=\"\",\"\",IF(C2264=\"\",F2263,IF(E2264=\"\",F2263,E2264/MAX($E$9:E2264)-1)))","v":""}]
[null,null,null,null,null,{"$f":"IF(B2265=\"\",\"\",IF(C2265=\"\",F2264,IF(E2265=\"\",F2264,E2265/MAX($E$9:E2265)-1)))","v":""}]
[null,null,null,null,null,{"$f":"IF(B2266=\"\",\"\",IF(C2266=\"\",F2265,IF(E2266=\"\",F2265,E2266/MAX($E$9:E2266)-1)))","v":""}]
[null,null,null,null,null,{"$f":"IF(B2267=\"\",\"\",IF(C2267=\"\",F2266,IF(E2267=\"\",F2266,E2267/MAX($E$9:E2267)-1)))","v":""}]
[null,null,null,null,null,{"$f":"IF(B2268=\"\",\"\",IF(C2268=\"\",F2267,IF(E2268=\"\",F2267,E2268/MAX($E$9:E2268)-1)))","v":""}]
[null,null,null,null,null,{"$f":"IF(B2269=\"\",\"\",IF(C2269=\"\",F2268,IF(E2269=\"\",F2268,E2269/MAX($E$9:E2269)-1)))","v":""}]
[null,null,null,null,null,{"$f":"IF(B2270=\"\",\"\",IF(C2270=\"\",F2269,IF(E2270=\"\",F2269,E2270/MAX($E$9:E2270)-1)))","v":""}]
[null,null,null,null,null,{"$f":"IF(B2271=\"\",\"\",IF(C2271=\"\",F2270,IF(E2271=\"\",F2270,E2271/MAX($E$9:E2271)-1)))","v":""}]
[null,null,null,null,null,{"$f":"IF(B2272=\"\",\"\",IF(C2272=\"\",F2271,IF(E2272=\"\",F2271,E2272/MAX($E$9:E2272)-1)))","v":""}]
[null,null,null,null,null,{"$f":"IF(B2273=\"\",\"\",IF(C2273=\"\",F2272,IF(E2273=\"\",F2272,E2273/MAX($E$9:E2273)-1)))","v":""}]
[null,null,null,null,null,{"$f":"IF(B2274=\"\",\"\",IF(C2274=\"\",F2273,IF(E2274=\"\",F2273,E2274/MAX($E$9:E2274)-1)))","v":""}]
[null,null,null,null,null,{"$f":"IF(B2275=\"\",\"\",IF(C2275=\"\",F2274,IF(E2275=\"\",F2274,E2275/MAX($E$9:E2275)-1)))","v":""}]
[null,null,null,null,null,{"$f":"IF(B2276=\"\",\"\",IF(C2276=\"\",F2275,IF(E2276=\"\",F2275,E2276/MAX($E$9:E2276)-1)))","v":""}]
[null,null,null,null,null,{"$f":"IF(B2277=\"\",\"\",IF(C2277=\"\",F2276,IF(E2277=\"\",F2276,E2277/MAX($E$9:E2277)-1)))","v":""}]
[null,null,null,null,null,{"$f":"IF(B2278=\"\",\"\",IF(C2278=\"\",F2277,IF(E2278=\"\",F2277,E2278/MAX($E$9:E2278)-1)))","v":""}]
[null,null,null,null,null,{"$f":"IF(B2279=\"\",\"\",IF(C2279=\"\",F2278,IF(E2279=\"\",F2278,E2279/MAX($E$9:E2279)-1)))","v":""}]
[null,null,null,null,null,{"$f":"IF(B2280=\"\",\"\",IF(C2280=\"\",F2279,IF(E2280=\"\",F2279,E2280/MAX($E$9:E2280)-1)))","v":""}]
[null,null,null,null,null,{"$f":"IF(B2281=\"\",\"\",IF(C2281=\"\",F2280,IF(E2281=\"\",F2280,E2281/MAX($E$9:E2281)-1)))","v":""}]
[null,null,null,null,null,{"$f":"IF(B2282=\"\",\"\",IF(C2282=\"\",F2281,IF(E2282=\"\",F2281,E2282/MAX($E$9:E2282)-1)))","v":""}]
[null,null,null,null,null,{"$f":"IF(B2283=\"\",\"\",IF(C2283=\"\",F2282,IF(E2283=\"\",F2282,E2283/MAX($E$9:E2283)-1)))","v":""}]
[null,null,null,null,null,{"$f":"IF(B2284=\"\",\"\",IF(C2284=\"\",F2283,IF(E2284=\"\",F2283,E2284/MAX($E$9:E2284)-1)))","v":""}]
[null,null,null,null,null,{"$f":"IF(B2285=\"\",\"\",IF(C2285=\"\",F2284,IF(E2285=\"\",F2284,E2285/MAX($E$9:E2285)-1)))","v":""}]
[null,null,null,null,null,{"$f":"IF(B2286=\"\",\"\",IF(C2286=\"\",F2285,IF(E2286=\"\",F2285,E2286/MAX($E$9:E2286)-1)))","v":""}]
[null,null,null,null,null,{"$f":"IF(B2287=\"\",\"\",IF(C2287=\"\",F2286,IF(E2287=\"\",F2286,E2287/MAX($E$9:E2287)-1)))","v":""}]
[null,null,null,null,null,{"$f":"IF(B2288=\"\",\"\",IF(C2288=\"\",F2287,IF(E2288=\"\",F2287,E2288/MAX($E$9:E2288)-1)))","v":""}]
[null,null,null,null,null,{"$f":"IF(B2289=\"\",\"\",IF(C2289=\"\",F2288,IF(E2289=\"\",F2288,E2289/MAX($E$9:E2289)-1)))","v":""}]
[null,null,null,null,null,{"$f":"IF(B2290=\"\",\"\",IF(C2290=\"\",F2289,IF(E2290=\"\",F2289,E2290/MAX($E$9:E2290)-1)))","v":""}]
[null,null,null,null,null,{"$f":"IF(B2291=\"\",\"\",IF(C2291=\"\",F2290,IF(E2291=\"\",F2290,E2291/MAX($E$9:E2291)-1)))","v":""}]
[null,null,null,null,null,{"$f":"IF(B2292=\"\",\"\",IF(C2292=\"\",F2291,IF(E2292=\"\",F2291,E2292/MAX($E$9:E2292)-1)))","v":""}]
[null,null,null,null,null,{"$f":"IF(B2293=\"\",\"\",IF(C2293=\"\",F2292,IF(E2293=\"\",F2292,E2293/MAX($E$9:E2293)-1)))","v":""}]
[null,null,null,null,null,{"$f":"IF(B2294=\"\",\"\",IF(C2294=\"\",F2293,IF(E2294=\"\",F2293,E2294/MAX($E$9:E2294)-1)))","v":""}]
[null,null,null,null,null,{"$f":"IF(B2295=\"\",\"\",IF(C2295=\"\",F2294,IF(E2295=\"\",F2294,E2295/MAX($E$9:E2295)-1)))","v":""}]
[null,null,null,null,null,{"$f":"IF(B2296=\"\",\"\",IF(C2296=\"\",F2295,IF(E2296=\"\",F2295,E2296/MAX($E$9:E2296)-1)))","v":""}]
[null,null,null,null,null,{"$f":"IF(B2297=\"\",\"\",IF(C2297=\"\",F2296,IF(E2297=\"\",F2296,E2297/MAX($E$9:E2297)-1)))","v":""}]
[null,null,null,null,null,{"$f":"IF(B2298=\"\",\"\",IF(C2298=\"\",F2297,IF(E2298=\"\",F2297,E2298/MAX($E$9:E2298)-1)))","v":""}]
[null,null,null,null,null,{"$f":"IF(B2299=\"\",\"\",IF(C2299=\"\",F2298,IF(E2299=\"\",F2298,E2299/MAX($E$9:E2299)-1)))","v":""}]
[null,null,null,null,null,{"$f":"IF(B2300=\"\",\"\",IF(C2300=\"\",F2299,IF(E2300=\"\",F2299,E2300/MAX($E$9:E2300)-1)))","v":""}]
[null,null,null,null,null,{"$f":"IF(B2301=\"\",\"\",IF(C2301=\"\",F2300,IF(E2301=\"\",F2300,E2301/MAX($E$9:E2301)-1)))","v":""}]
[null,null,null,null,null,{"$f":"IF(B2302=\"\",\"\",IF(C2302=\"\",F2301,IF(E2302=\"\",F2301,E2302/MAX($E$9:E2302)-1)))","v":""}]
[null,null,null,null,null,{"$f":"IF(B2303=\"\",\"\",IF(C2303=\"\",F2302,IF(E2303=\"\",F2302,E2303/MAX($E$9:E2303)-1)))","v":""}]
[null,null,null,null,null,{"$f":"IF(B2304=\"\",\"\",IF(C2304=\"\",F2303,IF(E2304=\"\",F2303,E2304/MAX($E$9:E2304)-1)))","v":""}]
[null,null,null,null,null,{"$f":"IF(B2305=\"\",\"\",IF(C2305=\"\",F2304,IF(E2305=\"\",F2304,E2305/MAX($E$9:E2305)-1)))","v":""}]
[null,null,null,null,null,{"$f":"IF(B2306=\"\",\"\",IF(C2306=\"\",F2305,IF(E2306=\"\",F2305,E2306/MAX($E$9:E2306)-1)))","v":""}]
[null,null,null,null,null,{"$f":"IF(B2307=\"\",\"\",IF(C2307=\"\",F2306,IF(E2307=\"\",F2306,E2307/MAX($E$9:E2307)-1)))","v":""}]
[null,null,null,null,null,{"$f":"IF(B2308=\"\",\"\",IF(C2308=\"\",F2307,IF(E2308=\"\",F2307,E2308/MAX($E$9:E2308)-1)))","v":""}]
[null,null,null,null,null,{"$f":"IF(B2309=\"\",\"\",IF(C2309=\"\",F2308,IF(E2309=\"\",F2308,E2309/MAX($E$9:E2309)-1)))","v":""}]
[null,null,null,null,null,{"$f":"IF(B2310=\"\",\"\",IF(C2310=\"\",F2309,IF(E2310=\"\",F2309,E2310/MAX($E$9:E2310)-1)))","v":""}]
[null,null,null,null,null,{"$f":"IF(B2311=\"\",\"\",IF(C2311=\"\",F2310,IF(E2311=\"\",F2310,E2311/MAX($E$9:E2311)-1)))","v":""}]
[null,null,null,null,null,{"$f":"IF(B2312=\"\",\"\",IF(C2312=\"\",F2311,IF(E2312=\"\",F2311,E2312/MAX($E$9:E2312)-1)))","v":""}]
[null,null,null,null,null,{"$f":"IF(B2313=\"\",\"\",IF(C2313=\"\",F2312,IF(E2313=\"\",F2312,E2313/MAX($E$9:E2313)-1)))","v":""}]
[null,null,null,null,null,{"$f":"IF(B2314=\"\",\"\",IF(C2314=\"\",F2313,IF(E2314=\"\",F2313,E2314/MAX($E$9:E2314)-1)))","v":""}]
[null,null,null,null,null,{"$f":"IF(B2315=\"\",\"\",IF(C2315=\"\",F2314,IF(E2315=\"\",F2314,E2315/MAX($E$9:E2315)-1)))","v":""}]
[null,null,null,null,null,{"$f":"IF(B2316=\"\",\"\",IF(C2316=\"\",F2315,IF(E2316=\"\",F2315,E2316/MAX($E$9:E2316)-1)))","v":""}]
[null,null,null,null,null,{"$f":"IF(B2317=\"\",\"\",IF(C2317=\"\",F2316,IF(E2317=\"\",F2316,E2317/MAX($E$9:E2317)-1)))","v":""}]
[null,null,null,null,null,{"$f":"IF(B2318=\"\",\"\",IF(C2318=\"\",F2317,IF(E2318=\"\",F2317,E2318/MAX($E$9:E2318)-1)))","v":""}]
[null,null,null,null,null,{"$f":"IF(B2319=\"\",\"\",IF(C2319=\"\",F2318,IF(E2319=\"\",F2318,E2319/MAX($E$9:E2319)-1)))","v":""}]
[null,null,null,null,null,{"$f":"IF(B2320=\"\",\"\",IF(C2320=\"\",F2319,IF(E2320=\"\",F2319,E2320/MAX($E$9:E2320)-1)))","v":""}]
[null,null,null,null,null,{"$f":"IF(B2321=\"\",\"\",IF(C2321=\"\",F2320,IF(E2321=\"\",F2320,E2321/MAX($E$9:E2321)-1)))","v":""}]
[null,null,null,null,null,{"$f":"IF(B2322=\"\",\"\",IF(C2322=\"\",F2321,IF(E2322=\"\",F2321,E2322/MAX($E$9:E2322)-1)))","v":""}]
[null,null,null,null,null,{"$f":"IF(B2323=\"\",\"\",IF(C2323=\"\",F2322,IF(E2323=\"\",F2322,E2323/MAX($E$9:E2323)-1)))","v":""}]
[null,null,null,null,null,{"$f":"IF(B2324=\"\",\"\",IF(C2324=\"\",F2323,IF(E2324=\"\",F2323,E2324/MAX($E$9:E2324)-1)))","v":""}]
[null,null,null,null,null,{"$f":"IF(B2325=\"\",\"\",IF(C2325=\"\",F2324,IF(E2325=\"\",F2324,E2325/MAX($E$9:E2325)-1)))","v":""}]
[null,null,null,null,null,{"$f":"IF(B2326=\"\",\"\",IF(C2326=\"\",F2325,IF(E2326=\"\",F2325,E2326/MAX($E$9:E2326)-1)))","v":""}]
[null,null,null,null,null,{"$f":"IF(B2327=\"\",\"\",IF(C2327=\"\",F2326,IF(E2327=\"\",F2326,E2327/MAX($E$9:E2327)-1)))","v":""}]
[null,null,null,null,null,{"$f":"IF(B2328=\"\",\"\",IF(C2328=\"\",F2327,IF(E2328=\"\",F2327,E2328/MAX($E$9:E2328)-1)))","v":""}]
[null,null,null,null,null,{"$f":"IF(B2329=\"\",\"\",IF(C2329=\"\",F2328,IF(E2329=\"\",F2328,E2329/MAX($E$9:E2329)-1)))","v":""}]
[null,null,null,null,null,{"$f":"IF(B2330=\"\",\"\",IF(C2330=\"\",F2329,IF(E2330=\"\",F2329,E2330/MAX($E$9:E2330)-1)))","v":""}]
[null,null,null,null,null,{"$f":"IF(B2331=\"\",\"\",IF(C2331=\"\",F2330,IF(E2331=\"\",F2330,E2331/MAX($E$9:E2331)-1)))","v":""}]
[null,null,null,null,null,{"$f":"IF(B2332=\"\",\"\",IF(C2332=\"\",F2331,IF(E2332=\"\",F2331,E2332/MAX($E$9:E2332)-1)))","v":""}]
[null,null,null,null,null,{"$f":"IF(B2333=\"\",\"\",IF(C2333=\"\",F2332,IF(E2333=\"\",F2332,E2333/MAX($E$9:E2333)-1)))","v":""}]
[null,null,null,null,null,{"$f":"IF(B2334=\"\",\"\",IF(C2334=\"\",F2333,IF(E2334=\"\",F2333,E2334/MAX($E$9:E2334)-1)))","v":""}]
[null,null,null,null,null,{"$f":"IF(B2335=\"\",\"\",IF(C2335=\"\",F2334,IF(E2335=\"\",F2334,E2335/MAX($E$9:E2335)-1)))","v":""}]
[null,null,null,null,null,{"$f":"IF(B2336=\"\",\"\",IF(C2336=\"\",F2335,IF(E2336=\"\",F2335,E2336/MAX($E$9:E2336)-1)))","v":""}]
[null,null,null,null,null,{"$f":"IF(B2337=\"\",\"\",IF(C2337=\"\",F2336,IF(E2337=\"\",F2336,E2337/MAX($E$9:E2337)-1)))","v":""}]
[null,null,null,null,null,{"$f":"IF(B2338=\"\",\"\",IF(C2338=\"\",F2337,IF(E2338=\"\",F2337,E2338/MAX($E$9:E2338)-1)))","v":""}]
[null,null,null,null,null,{"$f":"IF(B2339=\"\",\"\",IF(C2339=\"\",F2338,IF(E2339=\"\",F2338,E2339/MAX($E$9:E2339)-1)))","v":""}]
[null,null,null,null,null,{"$f":"IF(B2340=\"\",\"\",IF(C2340=\"\",F2339,IF(E2340=\"\",F2339,E2340/MAX($E$9:E2340)-1)))","v":""}]
[null,null,null,null,null,{"$f":"IF(B2341=\"\",\"\",IF(C2341=\"\",F2340,IF(E2341=\"\",F2340,E2341/MAX($E$9:E2341)-1)))","v":""}]
[null,null,null,null,null,{"$f":"IF(B2342=\"\",\"\",IF(C2342=\"\",F2341,IF(E2342=\"\",F2341,E2342/MAX($E$9:E2342)-1)))","v":""}]
[null,null,null,null,null,{"$f":"IF(B2343=\"\",\"\",IF(C2343=\"\",F2342,IF(E2343=\"\",F2342,E2343/MAX($E$9:E2343)-1)))","v":""}]
[null,null,null,null,null,{"$f":"IF(B2344=\"\",\"\",IF(C2344=\"\",F2343,IF(E2344=\"\",F2343,E2344/MAX($E$9:E2344)-1)))","v":""}]
[null,null,null,null,null,{"$f":"IF(B2345=\"\",\"\",IF(C2345=\"\",F2344,IF(E2345=\"\",F2344,E2345/MAX($E$9:E2345)-1)))","v":""}]
[null,null,null,null,null,{"$f":"IF(B2346=\"\",\"\",IF(C2346=\"\",F2345,IF(E2346=\"\",F2345,E2346/MAX($E$9:E2346)-1)))","v":""}]
[null,null,null,null,null,{"$f":"IF(B2347=\"\",\"\",IF(C2347=\"\",F2346,IF(E2347=\"\",F2346,E2347/MAX($E$9:E2347)-1)))","v":""}]
[null,null,null,null,null,{"$f":"IF(B2348=\"\",\"\",IF(C2348=\"\",F2347,IF(E2348=\"\",F2347,E2348/MAX($E$9:E2348)-1)))","v":""}]
[null,null,null,null,null,{"$f":"IF(B2349=\"\",\"\",IF(C2349=\"\",F2348,IF(E2349=\"\",F2348,E2349/MAX($E$9:E2349)-1)))","v":""}]
[null,null,null,null,null,{"$f":"IF(B2350=\"\",\"\",IF(C2350=\"\",F2349,IF(E2350=\"\",F2349,E2350/MAX($E$9:E2350)-1)))","v":""}]
[null,null,null,null,null,{"$f":"IF(B2351=\"\",\"\",IF(C2351=\"\",F2350,IF(E2351=\"\",F2350,E2351/MAX($E$9:E2351)-1)))","v":""}]
[null,null,null,null,null,{"$f":"IF(B2352=\"\",\"\",IF(C2352=\"\",F2351,IF(E2352=\"\",F2351,E2352/MAX($E$9:E2352)-1)))","v":""}]
[null,null,null,null,null,{"$f":"IF(B2353=\"\",\"\",IF(C2353=\"\",F2352,IF(E2353=\"\",F2352,E2353/MAX($E$9:E2353)-1)))","v":""}]
[null,null,null,null,null,{"$f":"IF(B2354=\"\",\"\",IF(C2354=\"\",F2353,IF(E2354=\"\",F2353,E2354/MAX($E$9:E2354)-1)))","v":""}]
[null,null,null,null,null,{"$f":"IF(B2355=\"\",\"\",IF(C2355=\"\",F2354,IF(E2355=\"\",F2354,E2355/MAX($E$9:E2355)-1)))","v":""}]
[null,null,null,null,null,{"$f":"IF(B2356=\"\",\"\",IF(C2356=\"\",F2355,IF(E2356=\"\",F2355,E2356/MAX($E$9:E2356)-1)))","v":""}]
[null,null,null,null,null,{"$f":"IF(B2357=\"\",\"\",IF(C2357=\"\",F2356,IF(E2357=\"\",F2356,E2357/MAX($E$9:E2357)-1)))","v":""}]
[null,null,null,null,null,{"$f":"IF(B2358=\"\",\"\",IF(C2358=\"\",F2357,IF(E2358=\"\",F2357,E2358/MAX($E$9:E2358)-1)))","v":""}]
[null,null,null,null,null,{"$f":"IF(B2359=\"\",\"\",IF(C2359=\"\",F2358,IF(E2359=\"\",F2358,E2359/MAX($E$9:E2359)-1)))","v":""}]
[null,null,null,null,null,{"$f":"IF(B2360=\"\",\"\",IF(C2360=\"\",F2359,IF(E2360=\"\",F2359,E2360/MAX($E$9:E2360)-1)))","v":""}]
[null,null,null,null,null,{"$f":"IF(B2361=\"\",\"\",IF(C2361=\"\",F2360,IF(E2361=\"\",F2360,E2361/MAX($E$9:E2361)-1)))","v":""}]
[null,null,null,null,null,{"$f":"IF(B2362=\"\",\"\",IF(C2362=\"\",F2361,IF(E2362=\"\",F2361,E2362/MAX($E$9:E2362)-1)))","v":""}]
[null,null,null,null,null,{"$f":"IF(B2363=\"\",\"\",IF(C2363=\"\",F2362,IF(E2363=\"\",F2362,E2363/MAX($E$9:E2363)-1)))","v":""}]
[null,null,null,null,null,{"$f":"IF(B2364=\"\",\"\",IF(C2364=\"\",F2363,IF(E2364=\"\",F2363,E2364/MAX($E$9:E2364)-1)))","v":""}]
[null,null,null,null,null,{"$f":"IF(B2365=\"\",\"\",IF(C2365=\"\",F2364,IF(E2365=\"\",F2364,E2365/MAX($E$9:E2365)-1)))","v":""}]
[null,null,null,null,null,{"$f":"IF(B2366=\"\",\"\",IF(C2366=\"\",F2365,IF(E2366=\"\",F2365,E2366/MAX($E$9:E2366)-1)))","v":""}]
[null,null,null,null,null,{"$f":"IF(B2367=\"\",\"\",IF(C2367=\"\",F2366,IF(E2367=\"\",F2366,E2367/MAX($E$9:E2367)-1)))","v":""}]
[null,null,null,null,null,{"$f":"IF(B2368=\"\",\"\",IF(C2368=\"\",F2367,IF(E2368=\"\",F2367,E2368/MAX($E$9:E2368)-1)))","v":""}]
[null,null,null,null,null,{"$f":"IF(B2369=\"\",\"\",IF(C2369=\"\",F2368,IF(E2369=\"\",F2368,E2369/MAX($E$9:E2369)-1)))","v":""}]
[null,null,null,null,null,{"$f":"IF(B2370=\"\",\"\",IF(C2370=\"\",F2369,IF(E2370=\"\",F2369,E2370/MAX($E$9:E2370)-1)))","v":""}]
[null,null,null,null,null,{"$f":"IF(B2371=\"\",\"\",IF(C2371=\"\",F2370,IF(E2371=\"\",F2370,E2371/MAX($E$9:E2371)-1)))","v":""}]
[null,null,null,null,null,{"$f":"IF(B2372=\"\",\"\",IF(C2372=\"\",F2371,IF(E2372=\"\",F2371,E2372/MAX($E$9:E2372)-1)))","v":""}]
[null,null,null,null,null,{"$f":"IF(B2373=\"\",\"\",IF(C2373=\"\",F2372,IF(E2373=\"\",F2372,E2373/MAX($E$9:E2373)-1)))","v":""}]
[null,null,null,null,null,{"$f":"IF(B2374=\"\",\"\",IF(C2374=\"\",F2373,IF(E2374=\"\",F2373,E2374/MAX($E$9:E2374)-1)))","v":""}]
[null,null,null,null,null,{"$f":"IF(B2375=\"\",\"\",IF(C2375=\"\",F2374,IF(E2375=\"\",F2374,E2375/MAX($E$9:E2375)-1)))","v":""}]
[null,null,null,null,null,{"$f":"IF(B2376=\"\",\"\",IF(C2376=\"\",F2375,IF(E2376=\"\",F2375,E2376/MAX($E$9:E2376)-1)))","v":""}]
[null,null,null,null,null,{"$f":"IF(B2377=\"\",\"\",IF(C2377=\"\",F2376,IF(E2377=\"\",F2376,E2377/MAX($E$9:E2377)-1)))","v":""}]
[null,null,null,null,null,{"$f":"IF(B2378=\"\",\"\",IF(C2378=\"\",F2377,IF(E2378=\"\",F2377,E2378/MAX($E$9:E2378)-1)))","v":""}]
[null,null,null,null,null,{"$f":"IF(B2379=\"\",\"\",IF(C2379=\"\",F2378,IF(E2379=\"\",F2378,E2379/MAX($E$9:E2379)-1)))","v":""}]
[null,null,null,null,null,{"$f":"IF(B2380=\"\",\"\",IF(C2380=\"\",F2379,IF(E2380=\"\",F2379,E2380/MAX($E$9:E2380)-1)))","v":""}]
[null,null,null,null,null,{"$f":"IF(B2381=\"\",\"\",IF(C2381=\"\",F2380,IF(E2381=\"\",F2380,E2381/MAX($E$9:E2381)-1)))","v":""}]
[null,null,null,null,null,{"$f":"IF(B2382=\"\",\"\",IF(C2382=\"\",F2381,IF(E2382=\"\",F2381,E2382/MAX($E$9:E2382)-1)))","v":""}]
[null,null,null,null,null,{"$f":"IF(B2383=\"\",\"\",IF(C2383=\"\",F2382,IF(E2383=\"\",F2382,E2383/MAX($E$9:E2383)-1)))","v":""}]
[null,null,null,null,null,{"$f":"IF(B2384=\"\",\"\",IF(C2384=\"\",F2383,IF(E2384=\"\",F2383,E2384/MAX($E$9:E2384)-1)))","v":""}]
[null,null,null,null,null,{"$f":"IF(B2385=\"\",\"\",IF(C2385=\"\",F2384,IF(E2385=\"\",F2384,E2385/MAX($E$9:E2385)-1)))","v":""}]
[null,null,null,null,null,{"$f":"IF(B2386=\"\",\"\",IF(C2386=\"\",F2385,IF(E2386=\"\",F2385,E2386/MAX($E$9:E2386)-1)))","v":""}]
[null,null,null,null,null,{"$f":"IF(B2387=\"\",\"\",IF(C2387=\"\",F2386,IF(E2387=\"\",F2386,E2387/MAX($E$9:E2387)-1)))","v":""}]
[null,null,null,null,null,{"$f":"IF(B2388=\"\",\"\",IF(C2388=\"\",F2387,IF(E2388=\"\",F2387,E2388/MAX($E$9:E2388)-1)))","v":""}]
[null,null,null,null,null,{"$f":"IF(B2389=\"\",\"\",IF(C2389=\"\",F2388,IF(E2389=\"\",F2388,E2389/MAX($E$9:E2389)-1)))","v":""}]
[null,null,null,null,null,{"$f":"IF(B2390=\"\",\"\",IF(C2390=\"\",F2389,IF(E2390=\"\",F2389,E2390/MAX($E$9:E2390)-1)))","v":""}]
[null,null,null,null,null,{"$f":"IF(B2391=\"\",\"\",IF(C2391=\"\",F2390,IF(E2391=\"\",F2390,E2391/MAX($E$9:E2391)-1)))","v":""}]
[null,null,null,null,null,{"$f":"IF(B2392=\"\",\"\",IF(C2392=\"\",F2391,IF(E2392=\"\",F2391,E2392/MAX($E$9:E2392)-1)))","v":""}]
[null,null,null,null,null,{"$f":"IF(B2393=\"\",\"\",IF(C2393=\"\",F2392,IF(E2393=\"\",F2392,E2393/MAX($E$9:E2393)-1)))","v":""}]
[null,null,null,null,null,{"$f":"IF(B2394=\"\",\"\",IF(C2394=\"\",F2393,IF(E2394=\"\",F2393,E2394/MAX($E$9:E2394)-1)))","v":""}]
[null,null,null,null,null,{"$f":"IF(B2395=\"\",\"\",IF(C2395=\"\",F2394,IF(E2395=\"\",F2394,E2395/MAX($E$9:E2395)-1)))","v":""}]
[null,null,null,null,null,{"$f":"IF(B2396=\"\",\"\",IF(C2396=\"\",F2395,IF(E2396=\"\",F2395,E2396/MAX($E$9:E2396)-1)))","v":""}]
[null,null,null,null,null,{"$f":"IF(B2397=\"\",\"\",IF(C2397=\"\",F2396,IF(E2397=\"\",F2396,E2397/MAX($E$9:E2397)-1)))","v":""}]
[null,null,null,null,null,{"$f":"IF(B2398=\"\",\"\",IF(C2398=\"\",F2397,IF(E2398=\"\",F2397,E2398/MAX($E$9:E2398)-1)))","v":""}]
[null,null,null,null,null,{"$f":"IF(B2399=\"\",\"\",IF(C2399=\"\",F2398,IF(E2399=\"\",F2398,E2399/MAX($E$9:E2399)-1)))","v":""}]
[null,null,null,null,null,{"$f":"IF(B2400=\"\",\"\",IF(C2400=\"\",F2399,IF(E2400=\"\",F2399,E2400/MAX($E$9:E2400)-1)))","v":""}]
[null,null,null,null,null,{"$f":"IF(B2401=\"\",\"\",IF(C2401=\"\",F2400,IF(E2401=\"\",F2400,E2401/MAX($E$9:E2401)-1)))","v":""}]
[null,null,null,null,null,{"$f":"IF(B2402=\"\",\"\",IF(C2402=\"\",F2401,IF(E2402=\"\",F2401,E2402/MAX($E$9:E2402)-1)))","v":""}]
[null,null,null,null,null,{"$f":"IF(B2403=\"\",\"\",IF(C2403=\"\",F2402,IF(E2403=\"\",F2402,E2403/MAX($E$9:E2403)-1)))","v":""}]
[null,null,null,null,null,{"$f":"IF(B2404=\"\",\"\",IF(C2404=\"\",F2403,IF(E2404=\"\",F2403,E2404/MAX($E$9:E2404)-1)))","v":""}]
[null,null,null,null,null,{"$f":"IF(B2405=\"\",\"\",IF(C2405=\"\",F2404,IF(E2405=\"\",F2404,E2405/MAX($E$9:E2405)-1)))","v":""}]
[null,null,null,null,null,{"$f":"IF(B2406=\"\",\"\",IF(C2406=\"\",F2405,IF(E2406=\"\",F2405,E2406/MAX($E$9:E2406)-1)))","v":""}]
[null,null,null,null,null,{"$f":"IF(B2407=\"\",\"\",IF(C2407=\"\",F2406,IF(E2407=\"\",F2406,E2407/MAX($E$9:E2407)-1)))","v":""}]
[null,null,null,null,null,{"$f":"IF(B2408=\"\",\"\",IF(C2408=\"\",F2407,IF(E2408=\"\",F2407,E2408/MAX($E$9:E2408)-1)))","v":""}]
[null,null,null,null,null,{"$f":"IF(B2409=\"\",\"\",IF(C2409=\"\",F2408,IF(E2409=\"\",F2408,E2409/MAX($E$9:E2409)-1)))","v":""}]
[null,null,null,null,null,{"$f":"IF(B2410=\"\",\"\",IF(C2410=\"\",F2409,IF(E2410=\"\",F2409,E2410/MAX($E$9:E2410)-1)))","v":""}]
[null,null,null,null,null,{"$f":"IF(B2411=\"\",\"\",IF(C2411=\"\",F2410,IF(E2411=\"\",F2410,E2411/MAX($E$9:E2411)-1)))","v":""}]
[null,null,null,null,null,{"$f":"IF(B2412=\"\",\"\",IF(C2412=\"\",F2411,IF(E2412=\"\",F2411,E2412/MAX($E$9:E2412)-1)))","v":""}]
[null,null,null,null,null,{"$f":"IF(B2413=\"\",\"\",IF(C2413=\"\",F2412,IF(E2413=\"\",F2412,E2413/MAX($E$9:E2413)-1)))","v":""}]
[null,null,null,null,null,{"$f":"IF(B2414=\"\",\"\",IF(C2414=\"\",F2413,IF(E2414=\"\",F2413,E2414/MAX($E$9:E2414)-1)))","v":""}]
[null,null,null,null,null,{"$f":"IF(B2415=\"\",\"\",IF(C2415=\"\",F2414,IF(E2415=\"\",F2414,E2415/MAX($E$9:E2415)-1)))","v":""}]
[null,null,null,null,null,{"$f":"IF(B2416=\"\",\"\",IF(C2416=\"\",F2415,IF(E2416=\"\",F2415,E2416/MAX($E$9:E2416)-1)))","v":""}]
[null,null,null,null,null,{"$f":"IF(B2417=\"\",\"\",IF(C2417=\"\",F2416,IF(E2417=\"\",F2416,E2417/MAX($E$9:E2417)-1)))","v":""}]
[null,null,null,null,null,{"$f":"IF(B2418=\"\",\"\",IF(C2418=\"\",F2417,IF(E2418=\"\",F2417,E2418/MAX($E$9:E2418)-1)))","v":""}]
[null,null,null,null,null,{"$f":"IF(B2419=\"\",\"\",IF(C2419=\"\",F2418,IF(E2419=\"\",F2418,E2419/MAX($E$9:E2419)-1)))","v":""}]
[null,null,null,null,null,{"$f":"IF(B2420=\"\",\"\",IF(C2420=\"\",F2419,IF(E2420=\"\",F2419,E2420/MAX($E$9:E2420)-1)))","v":""}]
[null,null,null,null,null,{"$f":"IF(B2421=\"\",\"\",IF(C2421=\"\",F2420,IF(E2421=\"\",F2420,E2421/MAX($E$9:E2421)-1)))","v":""}]
[null,null,null,null,null,{"$f":"IF(B2422=\"\",\"\",IF(C2422=\"\",F2421,IF(E2422=\"\",F2421,E2422/MAX($E$9:E2422)-1)))","v":""}]
[null,null,null,null,null,{"$f":"IF(B2423=\"\",\"\",IF(C2423=\"\",F2422,IF(E2423=\"\",F2422,E2423/MAX($E$9:E2423)-1)))","v":""}]
[null,null,null,null,null,{"$f":"IF(B2424=\"\",\"\",IF(C2424=\"\",F2423,IF(E2424=\"\",F2423,E2424/MAX($E$9:E2424)-1)))","v":""}]
[null,null,null,null,null,{"$f":"IF(B2425=\"\",\"\",IF(C2425=\"\",F2424,IF(E2425=\"\",F2424,E2425/MAX($E$9:E2425)-1)))","v":""}]
[null,null,null,null,null,{"$f":"IF(B2426=\"\",\"\",IF(C2426=\"\",F2425,IF(E2426=\"\",F2425,E2426/MAX($E$9:E2426)-1)))","v":""}]
[null,null,null,null,null,{"$f":"IF(B2427=\"\",\"\",IF(C2427=\"\",F2426,IF(E2427=\"\",F2426,E2427/MAX($E$9:E2427)-1)))","v":""}]
[null,null,null,null,null,{"$f":"IF(B2428=\"\",\"\",IF(C2428=\"\",F2427,IF(E2428=\"\",F2427,E2428/MAX($E$9:E2428)-1)))","v":""}]
[null,null,null,null,null,{"$f":"IF(B2429=\"\",\"\",IF(C2429=\"\",F2428,IF(E2429=\"\",F2428,E2429/MAX($E$9:E2429)-1)))","v":""}]
[null,null,null,null,null,{"$f":"IF(B2430=\"\",\"\",IF(C2430=\"\",F2429,IF(E2430=\"\",F2429,E2430/MAX($E$9:E2430)-1)))","v":""}]
[null,null,null,null,null,{"$f":"IF(B2431=\"\",\"\",IF(C2431=\"\",F2430,IF(E2431=\"\",F2430,E2431/MAX($E$9:E2431)-1)))","v":""}]
[null,null,null,null,null,{"$f":"IF(B2432=\"\",\"\",IF(C2432=\"\",F2431,IF(E2432=\"\",F2431,E2432/MAX($E$9:E2432)-1)))","v":""}]
[null,null,null,null,null,{"$f":"IF(B2433=\"\",\"\",IF(C2433=\"\",F2432,IF(E2433=\"\",F2432,E2433/MAX($E$9:E2433)-1)))","v":""}]
[null,null,null,null,null,{"$f":"IF(B2434=\"\",\"\",IF(C2434=\"\",F2433,IF(E2434=\"\",F2433,E2434/MAX($E$9:E2434)-1)))","v":""}]
[null,null,null,null,null,{"$f":"IF(B2435=\"\",\"\",IF(C2435=\"\",F2434,IF(E2435=\"\",F2434,E2435/MAX($E$9:E2435)-1)))","v":""}]
[null,null,null,null,null,{"$f":"IF(B2436=\"\",\"\",IF(C2436=\"\",F2435,IF(E2436=\"\",F2435,E2436/MAX($E$9:E2436)-1)))","v":""}]
[null,null,null,null,null,{"$f":"IF(B2437=\"\",\"\",IF(C2437=\"\",F2436,IF(E2437=\"\",F2436,E2437/MAX($E$9:E2437)-1)))","v":""}]
[null,null,null,null,null,{"$f":"IF(B2438=\"\",\"\",IF(C2438=\"\",F2437,IF(E2438=\"\",F2437,E2438/MAX($E$9:E2438)-1)))","v":""}]
[null,null,null,null,null,{"$f":"IF(B2439=\"\",\"\",IF(C2439=\"\",F2438,IF(E2439=\"\",F2438,E2439/MAX($E$9:E2439)-1)))","v":""}]
[null,null,null,null,null,{"$f":"IF(B2440=\"\",\"\",IF(C2440=\"\",F2439,IF(E2440=\"\",F2439,E2440/MAX($E$9:E2440)-1)))","v":""}]
[null,null,null,null,null,{"$f":"IF(B2441=\"\",\"\",IF(C2441=\"\",F2440,IF(E2441=\"\",F2440,E2441/MAX($E$9:E2441)-1)))","v":""}]
[null,null,null,null,null,{"$f":"IF(B2442=\"\",\"\",IF(C2442=\"\",F2441,IF(E2442=\"\",F2441,E2442/MAX($E$9:E2442)-1)))","v":""}]
[null,null,null,null,null,{"$f":"IF(B2443=\"\",\"\",IF(C2443=\"\",F2442,IF(E2443=\"\",F2442,E2443/MAX($E$9:E2443)-1)))","v":""}]
[null,null,null,null,null,{"$f":"IF(B2444=\"\",\"\",IF(C2444=\"\",F2443,IF(E2444=\"\",F2443,E2444/MAX($E$9:E2444)-1)))","v":""}]
[null,null,null,null,null,{"$f":"IF(B2445=\"\",\"\",IF(C2445=\"\",F2444,IF(E2445=\"\",F2444,E2445/MAX($E$9:E2445)-1)))","v":""}]
[null,null,null,null,null,{"$f":"IF(B2446=\"\",\"\",IF(C2446=\"\",F2445,IF(E2446=\"\",F2445,E2446/MAX($E$9:E2446)-1)))","v":""}]
[null,null,null,null,null,{"$f":"IF(B2447=\"\",\"\",IF(C2447=\"\",F2446,IF(E2447=\"\",F2446,E2447/MAX($E$9:E2447)-1)))","v":""}]
[null,null,null,null,null,{"$f":"IF(B2448=\"\",\"\",IF(C2448=\"\",F2447,IF(E2448=\"\",F2447,E2448/MAX($E$9:E2448)-1)))","v":""}]
[null,null,null,null,null,{"$f":"IF(B2449=\"\",\"\",IF(C2449=\"\",F2448,IF(E2449=\"\",F2448,E2449/MAX($E$9:E2449)-1)))","v":""}]
[null,null,null,null,null,{"$f":"IF(B2450=\"\",\"\",IF(C2450=\"\",F2449,IF(E2450=\"\",F2449,E2450/MAX($E$9:E2450)-1)))","v":""}]
[null,null,null,null,null,{"$f":"IF(B2451=\"\",\"\",IF(C2451=\"\",F2450,IF(E2451=\"\",F2450,E2451/MAX($E$9:E2451)-1)))","v":""}]
[null,null,null,null,null,{"$f":"IF(B2452=\"\",\"\",IF(C2452=\"\",F2451,IF(E2452=\"\",F2451,E2452/MAX($E$9:E2452)-1)))","v":""}]
[null,null,null,null,null,{"$f":"IF(B2453=\"\",\"\",IF(C2453=\"\",F2452,IF(E2453=\"\",F2452,E2453/MAX($E$9:E2453)-1)))","v":""}]
[null,null,null,null,null,{"$f":"IF(B2454=\"\",\"\",IF(C2454=\"\",F2453,IF(E2454=\"\",F2453,E2454/MAX($E$9:E2454)-1)))","v":""}]
[null,null,null,null,null,{"$f":"IF(B2455=\"\",\"\",IF(C2455=\"\",F2454,IF(E2455=\"\",F2454,E2455/MAX($E$9:E2455)-1)))","v":""}]
[null,null,null,null,null,{"$f":"IF(B2456=\"\",\"\",IF(C2456=\"\",F2455,IF(E2456=\"\",F2455,E2456/MAX($E$9:E2456)-1)))","v":""}]
[null,null,null,null,null,{"$f":"IF(B2457=\"\",\"\",IF(C2457=\"\",F2456,IF(E2457=\"\",F2456,E2457/MAX($E$9:E2457)-1)))","v":""}]
[null,null,null,null,null,{"$f":"IF(B2458=\"\",\"\",IF(C2458=\"\",F2457,IF(E2458=\"\",F2457,E2458/MAX($E$9:E2458)-1)))","v":""}]
[null,null,null,null,null,{"$f":"IF(B2459=\"\",\"\",IF(C2459=\"\",F2458,IF(E2459=\"\",F2458,E2459/MAX($E$9:E2459)-1)))","v":""}]
[null,null,null,null,null,{"$f":"IF(B2460=\"\",\"\",IF(C2460=\"\",F2459,IF(E2460=\"\",F2459,E2460/MAX($E$9:E2460)-1)))","v":""}]
[null,null,null,null,null,{"$f":"IF(B2461=\"\",\"\",IF(C2461=\"\",F2460,IF(E2461=\"\",F2460,E2461/MAX($E$9:E2461)-1)))","v":""}]
[null,null,null,null,null,{"$f":"IF(B2462=\"\",\"\",IF(C2462=\"\",F2461,IF(E2462=\"\",F2461,E2462/MAX($E$9:E2462)-1)))","v":""}]
[null,null,null,null,null,{"$f":"IF(B2463=\"\",\"\",IF(C2463=\"\",F2462,IF(E2463=\"\",F2462,E2463/MAX($E$9:E2463)-1)))","v":""}]
[null,null,null,null,null,{"$f":"IF(B2464=\"\",\"\",IF(C2464=\"\",F2463,IF(E2464=\"\",F2463,E2464/MAX($E$9:E2464)-1)))","v":""}]
[null,null,null,null,null,{"$f":"IF(B2465=\"\",\"\",IF(C2465=\"\",F2464,IF(E2465=\"\",F2464,E2465/MAX($E$9:E2465)-1)))","v":""}]
[null,null,null,null,null,{"$f":"IF(B2466=\"\",\"\",IF(C2466=\"\",F2465,IF(E2466=\"\",F2465,E2466/MAX($E$9:E2466)-1)))","v":""}]
[null,null,null,null,null,{"$f":"IF(B2467=\"\",\"\",IF(C2467=\"\",F2466,IF(E2467=\"\",F2466,E2467/MAX($E$9:E2467)-1)))","v":""}]
[null,null,null,null,null,{"$f":"IF(B2468=\"\",\"\",IF(C2468=\"\",F2467,IF(E2468=\"\",F2467,E2468/MAX($E$9:E2468)-1)))","v":""}]
[null,null,null,null,null,{"$f":"IF(B2469=\"\",\"\",IF(C2469=\"\",F2468,IF(E2469=\"\",F2468,E2469/MAX($E$9:E2469)-1)))","v":""}]
[null,null,null,null,null,{"$f":"IF(B2470=\"\",\"\",IF(C2470=\"\",F2469,IF(E2470=\"\",F2469,E2470/MAX($E$9:E2470)-1)))","v":""}]
[null,null,null,null,null,{"$f":"IF(B2471=\"\",\"\",IF(C2471=\"\",F2470,IF(E2471=\"\",F2470,E2471/MAX($E$9:E2471)-1)))","v":""}]
[null,null,null,null,null,{"$f":"IF(B2472=\"\",\"\",IF(C2472=\"\",F2471,IF(E2472=\"\",F2471,E2472/MAX($E$9:E2472)-1)))","v":""}]
[null,null,null,null,null,{"$f":"IF(B2473=\"\",\"\",IF(C2473=\"\",F2472,IF(E2473=\"\",F2472,E2473/MAX($E$9:E2473)-1)))","v":""}]
[null,null,null,null,null,{"$f":"IF(B2474=\"\",\"\",IF(C2474=\"\",F2473,IF(E2474=\"\",F2473,E2474/MAX($E$9:E2474)-1)))","v":""}]
[null,null,null,null,null,{"$f":"IF(B2475=\"\",\"\",IF(C2475=\"\",F2474,IF(E2475=\"\",F2474,E2475/MAX($E$9:E2475)-1)))","v":""}]
[null,null,null,null,null,{"$f":"IF(B2476=\"\",\"\",IF(C2476=\"\",F2475,IF(E2476=\"\",F2475,E2476/MAX($E$9:E2476)-1)))","v":""}]
[null,null,null,null,null,{"$f":"IF(B2477=\"\",\"\",IF(C2477=\"\",F2476,IF(E2477=\"\",F2476,E2477/MAX($E$9:E2477)-1)))","v":""}]
[null,null,null,null,null,{"$f":"IF(B2478=\"\",\"\",IF(C2478=\"\",F2477,IF(E2478=\"\",F2477,E2478/MAX($E$9:E2478)-1)))","v":""}]
[null,null,null,null,null,{"$f":"IF(B2479=\"\",\"\",IF(C2479=\"\",F2478,IF(E2479=\"\",F2478,E2479/MAX($E$9:E2479)-1)))","v":""}]
[null,null,null,null,null,{"$f":"IF(B2480=\"\",\"\",IF(C2480=\"\",F2479,IF(E2480=\"\",F2479,E2480/MAX($E$9:E2480)-1)))","v":""}]
[null,null,null,null,null,{"$f":"IF(B2481=\"\",\"\",IF(C2481=\"\",F2480,IF(E2481=\"\",F2480,E2481/MAX($E$9:E2481)-1)))","v":""}]
[null,null,null,null,null,{"$f":"IF(B2482=\"\",\"\",IF(C2482=\"\",F2481,IF(E2482=\"\",F2481,E2482/MAX($E$9:E2482)-1)))","v":""}]
[null,null,null,null,null,{"$f":"IF(B2483=\"\",\"\",IF(C2483=\"\",F2482,IF(E2483=\"\",F2482,E2483/MAX($E$9:E2483)-1)))","v":""}]
[null,null,null,null,null,{"$f":"IF(B2484=\"\",\"\",IF(C2484=\"\",F2483,IF(E2484=\"\",F2483,E2484/MAX($E$9:E2484)-1)))","v":""}]
[null,null,null,null,null,{"$f":"IF(B2485=\"\",\"\",IF(C2485=\"\",F2484,IF(E2485=\"\",F2484,E2485/MAX($E$9:E2485)-1)))","v":""}]
[null,null,null,null,null,{"$f":"IF(B2486=\"\",\"\",IF(C2486=\"\",F2485,IF(E2486=\"\",F2485,E2486/MAX($E$9:E2486)-1)))","v":""}]
[null,null,null,null,null,{"$f":"IF(B2487=\"\",\"\",IF(C2487=\"\",F2486,IF(E2487=\"\",F2486,E2487/MAX($E$9:E2487)-1)))","v":""}]
[null,null,null,null,null,{"$f":"IF(B2488=\"\",\"\",IF(C2488=\"\",F2487,IF(E2488=\"\",F2487,E2488/MAX($E$9:E2488)-1)))","v":""}]
[null,null,null,null,null,{"$f":"IF(B2489=\"\",\"\",IF(C2489=\"\",F2488,IF(E2489=\"\",F2488,E2489/MAX($E$9:E2489)-1)))","v":""}]
[null,null,null,null,null,{"$f":"IF(B2490=\"\",\"\",IF(C2490=\"\",F2489,IF(E2490=\"\",F2489,E2490/MAX($E$9:E2490)-1)))","v":""}]
[null,null,null,null,null,{"$f":"IF(B2491=\"\",\"\",IF(C2491=\"\",F2490,IF(E2491=\"\",F2490,E2491/MAX($E$9:E2491)-1)))","v":""}]
[null,null,null,null,null,{"$f":"IF(B2492=\"\",\"\",IF(C2492=\"\",F2491,IF(E2492=\"\",F2491,E2492/MAX($E$9:E2492)-1)))","v":""}]
[null,null,null,null,null,{"$f":"IF(B2493=\"\",\"\",IF(C2493=\"\",F2492,IF(E2493=\"\",F2492,E2493/MAX($E$9:E2493)-1)))","v":""}]
[null,null,null,null,null,{"$f":"IF(B2494=\"\",\"\",IF(C2494=\"\",F2493,IF(E2494=\"\",F2493,E2494/MAX($E$9:E2494)-1)))","v":""}]
[null,null,null,null,null,{"$f":"IF(B2495=\"\",\"\",IF(C2495=\"\",F2494,IF(E2495=\"\",F2494,E2495/MAX($E$9:E2495)-1)))","v":""}]
[null,null,null,null,null,{"$f":"IF(B2496=\"\",\"\",IF(C2496=\"\",F2495,IF(E2496=\"\",F2495,E2496/MAX($E$9:E2496)-1)))","v":""}]
[null,null,null,null,null,{"$f":"IF(B2497=\"\",\"\",IF(C2497=\"\",F2496,IF(E2497=\"\",F2496,E2497/MAX($E$9:E2497)-1)))","v":""}]
[null,null,null,null,null,{"$f":"IF(B2498=\"\",\"\",IF(C2498=\"\",F2497,IF(E2498=\"\",F2497,E2498/MAX($E$9:E2498)-1)))","v":""}]
[null,null,null,null,null,{"$f":"IF(B2499=\"\",\"\",IF(C2499=\"\",F2498,IF(E2499=\"\",F2498,E2499/MAX($E$9:E2499)-1)))","v":""}]
[null,null,null,null,null,{"$f":"IF(B2500=\"\",\"\",IF(C2500=\"\",F2499,IF(E2500=\"\",F2499,E2500/MAX($E$9:E2500)-1)))","v":""}]
[null,null,null,null,null,{"$f":"IF(B2501=\"\",\"\",IF(C2501=\"\",F2500,IF(E2501=\"\",F2500,E2501/MAX($E$9:E2501)-1)))","v":""}]
[null,null,null,null,null,{"$f":"IF(B2502=\"\",\"\",IF(C2502=\"\",F2501,IF(E2502=\"\",F2501,E2502/MAX($E$9:E2502)-1)))","v":""}]
[null,null,null,null,null,{"$f":"IF(B2503=\"\",\"\",IF(C2503=\"\",F2502,IF(E2503=\"\",F2502,E2503/MAX($E$9:E2503)-1)))","v":""}]
[null,null,null,null,null,{"$f":"IF(B2504=\"\",\"\",IF(C2504=\"\",F2503,IF(E2504=\"\",F2503,E2504/MAX($E$9:E2504)-1)))","v":""}]
[null,null,null,null,null,{"$f":"IF(B2505=\"\",\"\",IF(C2505=\"\",F2504,IF(E2505=\"\",F2504,E2505/MAX($E$9:E2505)-1)))","v":""}]
[null,null,null,null,null,{"$f":"IF(B2506=\"\",\"\",IF(C2506=\"\",F2505,IF(E2506=\"\",F2505,E2506/MAX($E$9:E2506)-1)))","v":""}]
[null,null,null,null,null,{"$f":"IF(B2507=\"\",\"\",IF(C2507=\"\",F2506,IF(E2507=\"\",F2506,E2507/MAX($E$9:E2507)-1)))","v":""}]
[null,null,null,null,null,{"$f":"IF(B2508=\"\",\"\",IF(C2508=\"\",F2507,IF(E2508=\"\",F2507,E2508/MAX($E$9:E2508)-1)))","v":""}]
[null,null,null,null,null,{"$f":"IF(B2509=\"\",\"\",IF(C2509=\"\",F2508,IF(E2509=\"\",F2508,E2509/MAX($E$9:E2509)-1)))","v":""}]
[null,null,null,null,null,{"$f":"IF(B2510=\"\",\"\",IF(C2510=\"\",F2509,IF(E2510=\"\",F2509,E2510/MAX($E$9:E2510)-1)))","v":""}]
[null,null,null,null,null,{"$f":"IF(B2511=\"\",\"\",IF(C2511=\"\",F2510,IF(E2511=\"\",F2510,E2511/MAX($E$9:E2511)-1)))","v":""}]
[null,null,null,null,null,{"$f":"IF(B2512=\"\",\"\",IF(C2512=\"\",F2511,IF(E2512=\"\",F2511,E2512/MAX($E$9:E2512)-1)))","v":""}]
[null,null,null,null,null,{"$f":"IF(B2513=\"\",\"\",IF(C2513=\"\",F2512,IF(E2513=\"\",F2512,E2513/MAX($E$9:E2513)-1)))","v":""}]
[null,null,null,null,null,{"$f":"IF(B2514=\"\",\"\",IF(C2514=\"\",F2513,IF(E2514=\"\",F2513,E2514/MAX($E$9:E2514)-1)))","v":""}]
[null,null,null,null,null,{"$f":"IF(B2515=\"\",\"\",IF(C2515=\"\",F2514,IF(E2515=\"\",F2514,E2515/MAX($E$9:E2515)-1)))","v":""}]
[null,null,null,null,null,{"$f":"IF(B2516=\"\",\"\",IF(C2516=\"\",F2515,IF(E2516=\"\",F2515,E2516/MAX($E$9:E2516)-1)))","v":""}]
[null,null,null,null,null,{"$f":"IF(B2517=\"\",\"\",IF(C2517=\"\",F2516,IF(E2517=\"\",F2516,E2517/MAX($E$9:E2517)-1)))","v":""}]
[null,null,null,null,null,{"$f":"IF(B2518=\"\",\"\",IF(C2518=\"\",F2517,IF(E2518=\"\",F2517,E2518/MAX($E$9:E2518)-1)))","v":""}]
[null,null,null,null,null,{"$f":"IF(B2519=\"\",\"\",IF(C2519=\"\",F2518,IF(E2519=\"\",F2518,E2519/MAX($E$9:E2519)-1)))","v":""}]
[null,null,null,null,null,{"$f":"IF(B2520=\"\",\"\",IF(C2520=\"\",F2519,IF(E2520=\"\",F2519,E2520/MAX($E$9:E2520)-1)))","v":""}]
[null,null,null,null,null,{"$f":"IF(B2521=\"\",\"\",IF(C2521=\"\",F2520,IF(E2521=\"\",F2520,E2521/MAX($E$9:E2521)-1)))","v":""}]
[null,null,null,null,null,{"$f":"IF(B2522=\"\",\"\",IF(C2522=\"\",F2521,IF(E2522=\"\",F2521,E2522/MAX($E$9:E2522)-1)))","v":""}]
[null,null,null,null,null,{"$f":"IF(B2523=\"\",\"\",IF(C2523=\"\",F2522,IF(E2523=\"\",F2522,E2523/MAX($E$9:E2523)-1)))","v":""}]
[null,null,null,null,null,{"$f":"IF(B2524=\"\",\"\",IF(C2524=\"\",F2523,IF(E2524=\"\",F2523,E2524/MAX($E$9:E2524)-1)))","v":""}]
[null,null,null,null,null,{"$f":"IF(B2525=\"\",\"\",IF(C2525=\"\",F2524,IF(E2525=\"\",F2524,E2525/MAX($E$9:E2525)-1)))","v":""}]
[null,null,null,null,null,{"$f":"IF(B2526=\"\",\"\",IF(C2526=\"\",F2525,IF(E2526=\"\",F2525,E2526/MAX($E$9:E2526)-1)))","v":""}]
[null,null,null,null,null,{"$f":"IF(B2527=\"\",\"\",IF(C2527=\"\",F2526,IF(E2527=\"\",F2526,E2527/MAX($E$9:E2527)-1)))","v":""}]
[null,null,null,null,null,{"$f":"IF(B2528=\"\",\"\",IF(C2528=\"\",F2527,IF(E2528=\"\",F2527,E2528/MAX($E$9:E2528)-1)))","v":""}]
[null,null,null,null,null,{"$f":"IF(B2529=\"\",\"\",IF(C2529=\"\",F2528,IF(E2529=\"\",F2528,E2529/MAX($E$9:E2529)-1)))","v":""}]
[null,null,null,null,null,{"$f":"IF(B2530=\"\",\"\",IF(C2530=\"\",F2529,IF(E2530=\"\",F2529,E2530/MAX($E$9:E2530)-1)))","v":""}]
[null,null,null,null,null,{"$f":"IF(B2531=\"\",\"\",IF(C2531=\"\",F2530,IF(E2531=\"\",F2530,E2531/MAX($E$9:E2531)-1)))","v":""}]
[null,null,null,null,null,{"$f":"IF(B2532=\"\",\"\",IF(C2532=\"\",F2531,IF(E2532=\"\",F2531,E2532/MAX($E$9:E2532)-1)))","v":""}]
[null,null,null,null,null,{"$f":"IF(B2533=\"\",\"\",IF(C2533=\"\",F2532,IF(E2533=\"\",F2532,E2533/MAX($E$9:E2533)-1)))","v":""}]
[null,null,null,null,null,{"$f":"IF(B2534=\"\",\"\",IF(C2534=\"\",F2533,IF(E2534=\"\",F2533,E2534/MAX($E$9:E2534)-1)))","v":""}]
[null,null,null,null,null,{"$f":"IF(B2535=\"\",\"\",IF(C2535=\"\",F2534,IF(E2535=\"\",F2534,E2535/MAX($E$9:E2535)-1)))","v":""}]
[null,null,null,null,null,{"$f":"IF(B2536=\"\",\"\",IF(C2536=\"\",F2535,IF(E2536=\"\",F2535,E2536/MAX($E$9:E2536)-1)))","v":""}]
[null,null,null,null,null,{"$f":"IF(B2537=\"\",\"\",IF(C2537=\"\",F2536,IF(E2537=\"\",F2536,E2537/MAX($E$9:E2537)-1)))","v":""}]
[null,null,null,null,null,{"$f":"IF(B2538=\"\",\"\",IF(C2538=\"\",F2537,IF(E2538=\"\",F2537,E2538/MAX($E$9:E2538)-1)))","v":""}]
[null,null,null,null,null,{"$f":"IF(B2539=\"\",\"\",IF(C2539=\"\",F2538,IF(E2539=\"\",F2538,E2539/MAX($E$9:E2539)-1)))","v":""}]
[null,null,null,null,null,{"$f":"IF(B2540=\"\",\"\",IF(C2540=\"\",F2539,IF(E2540=\"\",F2539,E2540/MAX($E$9:E2540)-1)))","v":""}]
[null,null,null,null,null,{"$f":"IF(B2541=\"\",\"\",IF(C2541=\"\",F2540,IF(E2541=\"\",F2540,E2541/MAX($E$9:E2541)-1)))","v":""}]
[null,null,null,null,null,{"$f":"IF(B2542=\"\",\"\",IF(C2542=\"\",F2541,IF(E2542=\"\",F2541,E2542/MAX($E$9:E2542)-1)))","v":""}]
[null,null,null,null,null,{"$f":"IF(B2543=\"\",\"\",IF(C2543=\"\",F2542,IF(E2543=\"\",F2542,E2543/MAX($E$9:E2543)-1)))","v":""}]
[null,null,null,null,null,{"$f":"IF(B2544=\"\",\"\",IF(C2544=\"\",F2543,IF(E2544=\"\",F2543,E2544/MAX($E$9:E2544)-1)))","v":""}]
[null,null,null,null,null,{"$f":"IF(B2545=\"\",\"\",IF(C2545=\"\",F2544,IF(E2545=\"\",F2544,E2545/MAX($E$9:E2545)-1)))","v":""}]
[null,null,null,null,null,{"$f":"IF(B2546=\"\",\"\",IF(C2546=\"\",F2545,IF(E2546=\"\",F2545,E2546/MAX($E$9:E2546)-1)))","v":""}]
[null,null,null,null,null,{"$f":"IF(B2547=\"\",\"\",IF(C2547=\"\",F2546,IF(E2547=\"\",F2546,E2547/MAX($E$9:E2547)-1)))","v":""}]
[null,null,null,null,null,{"$f":"IF(B2548=\"\",\"\",IF(C2548=\"\",F2547,IF(E2548=\"\",F2547,E2548/MAX($E$9:E2548)-1)))","v":""}]
[null,null,null,null,null,{"$f":"IF(B2549=\"\",\"\",IF(C2549=\"\",F2548,IF(E2549=\"\",F2548,E2549/MAX($E$9:E2549)-1)))","v":""}]
[null,null,null,null,null,{"$f":"IF(B2550=\"\",\"\",IF(C2550=\"\",F2549,IF(E2550=\"\",F2549,E2550/MAX($E$9:E2550)-1)))","v":""}]
[null,null,null,null,null,{"$f":"IF(B2551=\"\",\"\",IF(C2551=\"\",F2550,IF(E2551=\"\",F2550,E2551/MAX($E$9:E2551)-1)))","v":""}]
[null,null,null,null,null,{"$f":"IF(B2552=\"\",\"\",IF(C2552=\"\",F2551,IF(E2552=\"\",F2551,E2552/MAX($E$9:E2552)-1)))","v":""}]
[null,null,null,null,null,{"$f":"IF(B2553=\"\",\"\",IF(C2553=\"\",F2552,IF(E2553=\"\",F2552,E2553/MAX($E$9:E2553)-1)))","v":""}]
[null,null,null,null,null,{"$f":"IF(B2554=\"\",\"\",IF(C2554=\"\",F2553,IF(E2554=\"\",F2553,E2554/MAX($E$9:E2554)-1)))","v":""}]
[null,null,null,null,null,{"$f":"IF(B2555=\"\",\"\",IF(C2555=\"\",F2554,IF(E2555=\"\",F2554,E2555/MAX($E$9:E2555)-1)))","v":""}]
[null,null,null,null,null,{"$f":"IF(B2556=\"\",\"\",IF(C2556=\"\",F2555,IF(E2556=\"\",F2555,E2556/MAX($E$9:E2556)-1)))","v":""}]
[null,null,null,null,null,{"$f":"IF(B2557=\"\",\"\",IF(C2557=\"\",F2556,IF(E2557=\"\",F2556,E2557/MAX($E$9:E2557)-1)))","v":""}]
[null,null,null,null,null,{"$f":"IF(B2558=\"\",\"\",IF(C2558=\"\",F2557,IF(E2558=\"\",F2557,E2558/MAX($E$9:E2558)-1)))","v":""}]
[null,null,null,null,null,{"$f":"IF(B2559=\"\",\"\",IF(C2559=\"\",F2558,IF(E2559=\"\",F2558,E2559/MAX($E$9:E2559)-1)))","v":""}]
[null,null,null,null,null,{"$f":"IF(B2560=\"\",\"\",IF(C2560=\"\",F2559,IF(E2560=\"\",F2559,E2560/MAX($E$9:E2560)-1)))","v":""}]
[null,null,null,null,null,{"$f":"IF(B2561=\"\",\"\",IF(C2561=\"\",F2560,IF(E2561=\"\",F2560,E2561/MAX($E$9:E2561)-1)))","v":""}]
[null,null,null,null,null,{"$f":"IF(B2562=\"\",\"\",IF(C2562=\"\",F2561,IF(E2562=\"\",F2561,E2562/MAX($E$9:E2562)-1)))","v":""}]
[null,null,null,null,null,{"$f":"IF(B2563=\"\",\"\",IF(C2563=\"\",F2562,IF(E2563=\"\",F2562,E2563/MAX($E$9:E2563)-1)))","v":""}]
[null,null,null,null,null,{"$f":"IF(B2564=\"\",\"\",IF(C2564=\"\",F2563,IF(E2564=\"\",F2563,E2564/MAX($E$9:E2564)-1)))","v":""}]
[null,null,null,null,null,{"$f":"IF(B2565=\"\",\"\",IF(C2565=\"\",F2564,IF(E2565=\"\",F2564,E2565/MAX($E$9:E2565)-1)))","v":""}]
[null,null,null,null,null,{"$f":"IF(B2566=\"\",\"\",IF(C2566=\"\",F2565,IF(E2566=\"\",F2565,E2566/MAX($E$9:E2566)-1)))","v":""}]
[null,null,null,null,null,{"$f":"IF(B2567=\"\",\"\",IF(C2567=\"\",F2566,IF(E2567=\"\",F2566,E2567/MAX($E$9:E2567)-1)))","v":""}]
[null,null,null,null,null,{"$f":"IF(B2568=\"\",\"\",IF(C2568=\"\",F2567,IF(E2568=\"\",F2567,E2568/MAX($E$9:E2568)-1)))","v":""}]
[null,null,null,null,null,{"$f":"IF(B2569=\"\",\"\",IF(C2569=\"\",F2568,IF(E2569=\"\",F2568,E2569/MAX($E$9:E2569)-1)))","v":""}]
[null,null,null,null,null,{"$f":"IF(B2570=\"\",\"\",IF(C2570=\"\",F2569,IF(E2570=\"\",F2569,E2570/MAX($E$9:E2570)-1)))","v":""}]
[null,null,null,null,null,{"$f":"IF(B2571=\"\",\"\",IF(C2571=\"\",F2570,IF(E2571=\"\",F2570,E2571/MAX($E$9:E2571)-1)))","v":""}]
[null,null,null,null,null,{"$f":"IF(B2572=\"\",\"\",IF(C2572=\"\",F2571,IF(E2572=\"\",F2571,E2572/MAX($E$9:E2572)-1)))","v":""}]
[null,null,null,null,null,{"$f":"IF(B2573=\"\",\"\",IF(C2573=\"\",F2572,IF(E2573=\"\",F2572,E2573/MAX($E$9:E2573)-1)))","v":""}]
[null,null,null,null,null,{"$f":"IF(B2574=\"\",\"\",IF(C2574=\"\",F2573,IF(E2574=\"\",F2573,E2574/MAX($E$9:E2574)-1)))","v":""}]
[null,null,null,null,null,{"$f":"IF(B2575=\"\",\"\",IF(C2575=\"\",F2574,IF(E2575=\"\",F2574,E2575/MAX($E$9:E2575)-1)))","v":""}]
[null,null,null,null,null,{"$f":"IF(B2576=\"\",\"\",IF(C2576=\"\",F2575,IF(E2576=\"\",F2575,E2576/MAX($E$9:E2576)-1)))","v":""}]
[null,null,null,null,null,{"$f":"IF(B2577=\"\",\"\",IF(C2577=\"\",F2576,IF(E2577=\"\",F2576,E2577/MAX($E$9:E2577)-1)))","v":""}]
[null,null,null,null,null,{"$f":"IF(B2578=\"\",\"\",IF(C2578=\"\",F2577,IF(E2578=\"\",F2577,E2578/MAX($E$9:E2578)-1)))","v":""}]
[null,null,null,null,null,{"$f":"IF(B2579=\"\",\"\",IF(C2579=\"\",F2578,IF(E2579=\"\",F2578,E2579/MAX($E$9:E2579)-1)))","v":""}]
[null,null,null,null,null,{"$f":"IF(B2580=\"\",\"\",IF(C2580=\"\",F2579,IF(E2580=\"\",F2579,E2580/MAX($E$9:E2580)-1)))","v":""}]
[null,null,null,null,null,{"$f":"IF(B2581=\"\",\"\",IF(C2581=\"\",F2580,IF(E2581=\"\",F2580,E2581/MAX($E$9:E2581)-1)))","v":""}]
[null,null,null,null,null,{"$f":"IF(B2582=\"\",\"\",IF(C2582=\"\",F2581,IF(E2582=\"\",F2581,E2582/MAX($E$9:E2582)-1)))","v":""}]
[null,null,null,null,null,{"$f":"IF(B2583=\"\",\"\",IF(C2583=\"\",F2582,IF(E2583=\"\",F2582,E2583/MAX($E$9:E2583)-1)))","v":""}]
[null,null,null,null,null,{"$f":"IF(B2584=\"\",\"\",IF(C2584=\"\",F2583,IF(E2584=\"\",F2583,E2584/MAX($E$9:E2584)-1)))","v":""}]
[null,null,null,null,null,{"$f":"IF(B2585=\"\",\"\",IF(C2585=\"\",F2584,IF(E2585=\"\",F2584,E2585/MAX($E$9:E2585)-1)))","v":""}]
[null,null,null,null,null,{"$f":"IF(B2586=\"\",\"\",IF(C2586=\"\",F2585,IF(E2586=\"\",F2585,E2586/MAX($E$9:E2586)-1)))","v":""}]
[null,null,null,null,null,{"$f":"IF(B2587=\"\",\"\",IF(C2587=\"\",F2586,IF(E2587=\"\",F2586,E2587/MAX($E$9:E2587)-1)))","v":""}]
[null,null,null,null,null,{"$f":"IF(B2588=\"\",\"\",IF(C2588=\"\",F2587,IF(E2588=\"\",F2587,E2588/MAX($E$9:E2588)-1)))","v":""}]
[null,null,null,null,null,{"$f":"IF(B2589=\"\",\"\",IF(C2589=\"\",F2588,IF(E2589=\"\",F2588,E2589/MAX($E$9:E2589)-1)))","v":""}]
[null,null,null,null,null,{"$f":"IF(B2590=\"\",\"\",IF(C2590=\"\",F2589,IF(E2590=\"\",F2589,E2590/MAX($E$9:E2590)-1)))","v":""}]
[null,null,null,null,null,{"$f":"IF(B2591=\"\",\"\",IF(C2591=\"\",F2590,IF(E2591=\"\",F2590,E2591/MAX($E$9:E2591)-1)))","v":""}]
[null,null,null,null,null,{"$f":"IF(B2592=\"\",\"\",IF(C2592=\"\",F2591,IF(E2592=\"\",F2591,E2592/MAX($E$9:E2592)-1)))","v":""}]
[null,null,null,null,null,{"$f":"IF(B2593=\"\",\"\",IF(C2593=\"\",F2592,IF(E2593=\"\",F2592,E2593/MAX($E$9:E2593)-1)))","v":""}]
[null,null,null,null,null,{"$f":"IF(B2594=\"\",\"\",IF(C2594=\"\",F2593,IF(E2594=\"\",F2593,E2594/MAX($E$9:E2594)-1)))","v":""}]
[null,null,null,null,null,{"$f":"IF(B2595=\"\",\"\",IF(C2595=\"\",F2594,IF(E2595=\"\",F2594,E2595/MAX($E$9:E2595)-1)))","v":""}]
[null,null,null,null,null,{"$f":"IF(B2596=\"\",\"\",IF(C2596=\"\",F2595,IF(E2596=\"\",F2595,E2596/MAX($E$9:E2596)-1)))","v":""}]
[null,null,null,null,null,{"$f":"IF(B2597=\"\",\"\",IF(C2597=\"\",F2596,IF(E2597=\"\",F2596,E2597/MAX($E$9:E2597)-1)))","v":""}]
[null,null,null,null,null,{"$f":"IF(B2598=\"\",\"\",IF(C2598=\"\",F2597,IF(E2598=\"\",F2597,E2598/MAX($E$9:E2598)-1)))","v":""}]
[null,null,null,null,null,{"$f":"IF(B2599=\"\",\"\",IF(C2599=\"\",F2598,IF(E2599=\"\",F2598,E2599/MAX($E$9:E2599)-1)))","v":""}]
[null,null,null,null,null,{"$f":"IF(B2600=\"\",\"\",IF(C2600=\"\",F2599,IF(E2600=\"\",F2599,E2600/MAX($E$9:E2600)-1)))","v":""}]
[null,null,null,null,null,{"$f":"IF(B2601=\"\",\"\",IF(C2601=\"\",F2600,IF(E2601=\"\",F2600,E2601/MAX($E$9:E2601)-1)))","v":""}]
[null,null,null,null,null,{"$f":"IF(B2602=\"\",\"\",IF(C2602=\"\",F2601,IF(E2602=\"\",F2601,E2602/MAX($E$9:E2602)-1)))","v":""}]
[null,null,null,null,null,{"$f":"IF(B2603=\"\",\"\",IF(C2603=\"\",F2602,IF(E2603=\"\",F2602,E2603/MAX($E$9:E2603)-1)))","v":""}]
[null,null,null,null,null,{"$f":"IF(B2604=\"\",\"\",IF(C2604=\"\",F2603,IF(E2604=\"\",F2603,E2604/MAX($E$9:E2604)-1)))","v":""}]
[null,null,null,null,null,{"$f":"IF(B2605=\"\",\"\",IF(C2605=\"\",F2604,IF(E2605=\"\",F2604,E2605/MAX($E$9:E2605)-1)))","v":""}]
[null,null,null,null,null,{"$f":"IF(B2606=\"\",\"\",IF(C2606=\"\",F2605,IF(E2606=\"\",F2605,E2606/MAX($E$9:E2606)-1)))","v":""}]
[null,null,null,null,null,{"$f":"IF(B2607=\"\",\"\",IF(C2607=\"\",F2606,IF(E2607=\"\",F2606,E2607/MAX($E$9:E2607)-1)))","v":""}]
[null,null,null,null,null,{"$f":"IF(B2608=\"\",\"\",IF(C2608=\"\",F2607,IF(E2608=\"\",F2607,E2608/MAX($E$9:E2608)-1)))","v":""}]
[null,null,null,null,null,{"$f":"IF(B2609=\"\",\"\",IF(C2609=\"\",F2608,IF(E2609=\"\",F2608,E2609/MAX($E$9:E2609)-1)))","v":""}]
[null,null,null,null,null,{"$f":"IF(B2610=\"\",\"\",IF(C2610=\"\",F2609,IF(E2610=\"\",F2609,E2610/MAX($E$9:E2610)-1)))","v":""}]
[null,null,null,null,null,{"$f":"IF(B2611=\"\",\"\",IF(C2611=\"\",F2610,IF(E2611=\"\",F2610,E2611/MAX($E$9:E2611)-1)))","v":""}]
[null,null,null,null,null,{"$f":"IF(B2612=\"\",\"\",IF(C2612=\"\",F2611,IF(E2612=\"\",F2611,E2612/MAX($E$9:E2612)-1)))","v":""}]
[null,null,null,null,null,{"$f":"IF(B2613=\"\",\"\",IF(C2613=\"\",F2612,IF(E2613=\"\",F2612,E2613/MAX($E$9:E2613)-1)))","v":""}]
[null,null,null,null,null,{"$f":"IF(B2614=\"\",\"\",IF(C2614=\"\",F2613,IF(E2614=\"\",F2613,E2614/MAX($E$9:E2614)-1)))","v":""}]
[null,null,null,null,null,{"$f":"IF(B2615=\"\",\"\",IF(C2615=\"\",F2614,IF(E2615=\"\",F2614,E2615/MAX($E$9:E2615)-1)))","v":""}]
[null,null,null,null,null,{"$f":"IF(B2616=\"\",\"\",IF(C2616=\"\",F2615,IF(E2616=\"\",F2615,E2616/MAX($E$9:E2616)-1)))","v":""}]
[null,null,null,null,null,{"$f":"IF(B2617=\"\",\"\",IF(C2617=\"\",F2616,IF(E2617=\"\",F2616,E2617/MAX($E$9:E2617)-1)))","v":""}]
[null,null,null,null,null,{"$f":"IF(B2618=\"\",\"\",IF(C2618=\"\",F2617,IF(E2618=\"\",F2617,E2618/MAX($E$9:E2618)-1)))","v":""}]
[null,null,null,null,null,{"$f":"IF(B2619=\"\",\"\",IF(C2619=\"\",F2618,IF(E2619=\"\",F2618,E2619/MAX($E$9:E2619)-1)))","v":""}]
[null,null,null,null,null,{"$f":"IF(B2620=\"\",\"\",IF(C2620=\"\",F2619,IF(E2620=\"\",F2619,E2620/MAX($E$9:E2620)-1)))","v":""}]
[null,null,null,null,null,{"$f":"IF(B2621=\"\",\"\",IF(C2621=\"\",F2620,IF(E2621=\"\",F2620,E2621/MAX($E$9:E2621)-1)))","v":""}]
[null,null,null,null,null,{"$f":"IF(B2622=\"\",\"\",IF(C2622=\"\",F2621,IF(E2622=\"\",F2621,E2622/MAX($E$9:E2622)-1)))","v":""}]
[null,null,null,null,null,{"$f":"IF(B2623=\"\",\"\",IF(C2623=\"\",F2622,IF(E2623=\"\",F2622,E2623/MAX($E$9:E2623)-1)))","v":""}]
[null,null,null,null,null,{"$f":"IF(B2624=\"\",\"\",IF(C2624=\"\",F2623,IF(E2624=\"\",F2623,E2624/MAX($E$9:E2624)-1)))","v":""}]
[null,null,null,null,null,{"$f":"IF(B2625=\"\",\"\",IF(C2625=\"\",F2624,IF(E2625=\"\",F2624,E2625/MAX($E$9:E2625)-1)))","v":""}]
[null,null,null,null,null,{"$f":"IF(B2626=\"\",\"\",IF(C2626=\"\",F2625,IF(E2626=\"\",F2625,E2626/MAX($E$9:E2626)-1)))","v":""}]
[null,null,null,null,null,{"$f":"IF(B2627=\"\",\"\",IF(C2627=\"\",F2626,IF(E2627=\"\",F2626,E2627/MAX($E$9:E2627)-1)))","v":""}]
[null,null,null,null,null,{"$f":"IF(B2628=\"\",\"\",IF(C2628=\"\",F2627,IF(E2628=\"\",F2627,E2628/MAX($E$9:E2628)-1)))","v":""}]
[null,null,null,null,null,{"$f":"IF(B2629=\"\",\"\",IF(C2629=\"\",F2628,IF(E2629=\"\",F2628,E2629/MAX($E$9:E2629)-1)))","v":""}]
[null,null,null,null,null,{"$f":"IF(B2630=\"\",\"\",IF(C2630=\"\",F2629,IF(E2630=\"\",F2629,E2630/MAX($E$9:E2630)-1)))","v":""}]
[null,null,null,null,null,{"$f":"IF(B2631=\"\",\"\",IF(C2631=\"\",F2630,IF(E2631=\"\",F2630,E2631/MAX($E$9:E2631)-1)))","v":""}]
[null,null,null,null,null,{"$f":"IF(B2632=\"\",\"\",IF(C2632=\"\",F2631,IF(E2632=\"\",F2631,E2632/MAX($E$9:E2632)-1)))","v":""}]
[null,null,null,null,null,{"$f":"IF(B2633=\"\",\"\",IF(C2633=\"\",F2632,IF(E2633=\"\",F2632,E2633/MAX($E$9:E2633)-1)))","v":""}]
[null,null,null,null,null,{"$f":"IF(B2634=\"\",\"\",IF(C2634=\"\",F2633,IF(E2634=\"\",F2633,E2634/MAX($E$9:E2634)-1)))","v":""}]
[null,null,null,null,null,{"$f":"IF(B2635=\"\",\"\",IF(C2635=\"\",F2634,IF(E2635=\"\",F2634,E2635/MAX($E$9:E2635)-1)))","v":""}]
[null,null,null,null,null,{"$f":"IF(B2636=\"\",\"\",IF(C2636=\"\",F2635,IF(E2636=\"\",F2635,E2636/MAX($E$9:E2636)-1)))","v":""}]
[null,null,null,null,null,{"$f":"IF(B2637=\"\",\"\",IF(C2637=\"\",F2636,IF(E2637=\"\",F2636,E2637/MAX($E$9:E2637)-1)))","v":""}]
[null,null,null,null,null,{"$f":"IF(B2638=\"\",\"\",IF(C2638=\"\",F2637,IF(E2638=\"\",F2637,E2638/MAX($E$9:E2638)-1)))","v":""}]
[null,null,null,null,null,{"$f":"IF(B2639=\"\",\"\",IF(C2639=\"\",F2638,IF(E2639=\"\",F2638,E2639/MAX($E$9:E2639)-1)))","v":""}]
[null,null,null,null,null,{"$f":"IF(B2640=\"\",\"\",IF(C2640=\"\",F2639,IF(E2640=\"\",F2639,E2640/MAX($E$9:E2640)-1)))","v":""}]
[null,null,null,null,null,{"$f":"IF(B2641=\"\",\"\",IF(C2641=\"\",F2640,IF(E2641=\"\",F2640,E2641/MAX($E$9:E2641)-1)))","v":""}]
[null,null,null,null,null,{"$f":"IF(B2642=\"\",\"\",IF(C2642=\"\",F2641,IF(E2642=\"\",F2641,E2642/MAX($E$9:E2642)-1)))","v":""}]
[null,null,null,null,null,{"$f":"IF(B2643=\"\",\"\",IF(C2643=\"\",F2642,IF(E2643=\"\",F2642,E2643/MAX($E$9:E2643)-1)))","v":""}]
[null,null,null,null,null,{"$f":"IF(B2644=\"\",\"\",IF(C2644=\"\",F2643,IF(E2644=\"\",F2643,E2644/MAX($E$9:E2644)-1)))","v":""}]
[null,null,null,null,null,{"$f":"IF(B2645=\"\",\"\",IF(C2645=\"\",F2644,IF(E2645=\"\",F2644,E2645/MAX($E$9:E2645)-1)))","v":""}]
[null,null,null,null,null,{"$f":"IF(B2646=\"\",\"\",IF(C2646=\"\",F2645,IF(E2646=\"\",F2645,E2646/MAX($E$9:E2646)-1)))","v":""}]
[null,null,null,null,null,{"$f":"IF(B2647=\"\",\"\",IF(C2647=\"\",F2646,IF(E2647=\"\",F2646,E2647/MAX($E$9:E2647)-1)))","v":""}]
[null,null,null,null,null,{"$f":"IF(B2648=\"\",\"\",IF(C2648=\"\",F2647,IF(E2648=\"\",F2647,E2648/MAX($E$9:E2648)-1)))","v":""}]
[null,null,null,null,null,{"$f":"IF(B2649=\"\",\"\",IF(C2649=\"\",F2648,IF(E2649=\"\",F2648,E2649/MAX($E$9:E2649)-1)))","v":""}]
[null,null,null,null,null,{"$f":"IF(B2650=\"\",\"\",IF(C2650=\"\",F2649,IF(E2650=\"\",F2649,E2650/MAX($E$9:E2650)-1)))","v":""}]
[null,null,null,null,null,{"$f":"IF(B2651=\"\",\"\",IF(C2651=\"\",F2650,IF(E2651=\"\",F2650,E2651/MAX($E$9:E2651)-1)))","v":""}]
[null,null,null,null,null,{"$f":"IF(B2652=\"\",\"\",IF(C2652=\"\",F2651,IF(E2652=\"\",F2651,E2652/MAX($E$9:E2652)-1)))","v":""}]
[null,null,null,null,null,{"$f":"IF(B2653=\"\",\"\",IF(C2653=\"\",F2652,IF(E2653=\"\",F2652,E2653/MAX($E$9:E2653)-1)))","v":""}]
[null,null,null,null,null,{"$f":"IF(B2654=\"\",\"\",IF(C2654=\"\",F2653,IF(E2654=\"\",F2653,E2654/MAX($E$9:E2654)-1)))","v":""}]
[null,null,null,null,null,{"$f":"IF(B2655=\"\",\"\",IF(C2655=\"\",F2654,IF(E2655=\"\",F2654,E2655/MAX($E$9:E2655)-1)))","v":""}]
[null,null,null,null,null,{"$f":"IF(B2656=\"\",\"\",IF(C2656=\"\",F2655,IF(E2656=\"\",F2655,E2656/MAX($E$9:E2656)-1)))","v":""}]
[null,null,null,null,null,{"$f":"IF(B2657=\"\",\"\",IF(C2657=\"\",F2656,IF(E2657=\"\",F2656,E2657/MAX($E$9:E2657)-1)))","v":""}]
[null,null,null,null,null,{"$f":"IF(B2658=\"\",\"\",IF(C2658=\"\",F2657,IF(E2658=\"\",F2657,E2658/MAX($E$9:E2658)-1)))","v":""}]
[null,null,null,null,null,{"$f":"IF(B2659=\"\",\"\",IF(C2659=\"\",F2658,IF(E2659=\"\",F2658,E2659/MAX($E$9:E2659)-1)))","v":""}]
[null,null,null,null,null,{"$f":"IF(B2660=\"\",\"\",IF(C2660=\"\",F2659,IF(E2660=\"\",F2659,E2660/MAX($E$9:E2660)-1)))","v":""}]
[null,null,null,null,null,{"$f":"IF(B2661=\"\",\"\",IF(C2661=\"\",F2660,IF(E2661=\"\",F2660,E2661/MAX($E$9:E2661)-1)))","v":""}]
[null,null,null,null,null,{"$f":"IF(B2662=\"\",\"\",IF(C2662=\"\",F2661,IF(E2662=\"\",F2661,E2662/MAX($E$9:E2662)-1)))","v":""}]
[null,null,null,null,null,{"$f":"IF(B2663=\"\",\"\",IF(C2663=\"\",F2662,IF(E2663=\"\",F2662,E2663/MAX($E$9:E2663)-1)))","v":""}]
[null,null,null,null,null,{"$f":"IF(B2664=\"\",\"\",IF(C2664=\"\",F2663,IF(E2664=\"\",F2663,E2664/MAX($E$9:E2664)-1)))","v":""}]
[null,null,null,null,null,{"$f":"IF(B2665=\"\",\"\",IF(C2665=\"\",F2664,IF(E2665=\"\",F2664,E2665/MAX($E$9:E2665)-1)))","v":""}]
[null,null,null,null,null,{"$f":"IF(B2666=\"\",\"\",IF(C2666=\"\",F2665,IF(E2666=\"\",F2665,E2666/MAX($E$9:E2666)-1)))","v":""}]
[null,null,null,null,null,{"$f":"IF(B2667=\"\",\"\",IF(C2667=\"\",F2666,IF(E2667=\"\",F2666,E2667/MAX($E$9:E2667)-1)))","v":""}]
[null,null,null,null,null,{"$f":"IF(B2668=\"\",\"\",IF(C2668=\"\",F2667,IF(E2668=\"\",F2667,E2668/MAX($E$9:E2668)-1)))","v":""}]
[null,null,null,null,null,{"$f":"IF(B2669=\"\",\"\",IF(C2669=\"\",F2668,IF(E2669=\"\",F2668,E2669/MAX($E$9:E2669)-1)))","v":""}]
[null,null,null,null,null,{"$f":"IF(B2670=\"\",\"\",IF(C2670=\"\",F2669,IF(E2670=\"\",F2669,E2670/MAX($E$9:E2670)-1)))","v":""}]
[null,null,null,null,null,{"$f":"IF(B2671=\"\",\"\",IF(C2671=\"\",F2670,IF(E2671=\"\",F2670,E2671/MAX($E$9:E2671)-1)))","v":""}]
[null,null,null,null,null,{"$f":"IF(B2672=\"\",\"\",IF(C2672=\"\",F2671,IF(E2672=\"\",F2671,E2672/MAX($E$9:E2672)-1)))","v":""}]
[null,null,null,null,null,{"$f":"IF(B2673=\"\",\"\",IF(C2673=\"\",F2672,IF(E2673=\"\",F2672,E2673/MAX($E$9:E2673)-1)))","v":""}]
[null,null,null,null,null,{"$f":"IF(B2674=\"\",\"\",IF(C2674=\"\",F2673,IF(E2674=\"\",F2673,E2674/MAX($E$9:E2674)-1)))","v":""}]
[null,null,null,null,null,{"$f":"IF(B2675=\"\",\"\",IF(C2675=\"\",F2674,IF(E2675=\"\",F2674,E2675/MAX($E$9:E2675)-1)))","v":""}]
[null,null,null,null,null,{"$f":"IF(B2676=\"\",\"\",IF(C2676=\"\",F2675,IF(E2676=\"\",F2675,E2676/MAX($E$9:E2676)-1)))","v":""}]
[null,null,null,null,null,{"$f":"IF(B2677=\"\",\"\",IF(C2677=\"\",F2676,IF(E2677=\"\",F2676,E2677/MAX($E$9:E2677)-1)))","v":""}]
[null,null,null,null,null,{"$f":"IF(B2678=\"\",\"\",IF(C2678=\"\",F2677,IF(E2678=\"\",F2677,E2678/MAX($E$9:E2678)-1)))","v":""}]
[null,null,null,null,null,{"$f":"IF(B2679=\"\",\"\",IF(C2679=\"\",F2678,IF(E2679=\"\",F2678,E2679/MAX($E$9:E2679)-1)))","v":""}]
[null,null,null,null,null,{"$f":"IF(B2680=\"\",\"\",IF(C2680=\"\",F2679,IF(E2680=\"\",F2679,E2680/MAX($E$9:E2680)-1)))","v":""}]
[null,null,null,null,null,{"$f":"IF(B2681=\"\",\"\",IF(C2681=\"\",F2680,IF(E2681=\"\",F2680,E2681/MAX($E$9:E2681)-1)))","v":""}]
[null,null,null,null,null,{"$f":"IF(B2682=\"\",\"\",IF(C2682=\"\",F2681,IF(E2682=\"\",F2681,E2682/MAX($E$9:E2682)-1)))","v":""}]
[null,null,null,null,null,{"$f":"IF(B2683=\"\",\"\",IF(C2683=\"\",F2682,IF(E2683=\"\",F2682,E2683/MAX($E$9:E2683)-1)))","v":""}]
[null,null,null,null,null,{"$f":"IF(B2684=\"\",\"\",IF(C2684=\"\",F2683,IF(E2684=\"\",F2683,E2684/MAX($E$9:E2684)-1)))","v":""}]
[null,null,null,null,null,{"$f":"IF(B2685=\"\",\"\",IF(C2685=\"\",F2684,IF(E2685=\"\",F2684,E2685/MAX($E$9:E2685)-1)))","v":""}]
[null,null,null,null,null,{"$f":"IF(B2686=\"\",\"\",IF(C2686=\"\",F2685,IF(E2686=\"\",F2685,E2686/MAX($E$9:E2686)-1)))","v":""}]
[null,null,null,null,null,{"$f":"IF(B2687=\"\",\"\",IF(C2687=\"\",F2686,IF(E2687=\"\",F2686,E2687/MAX($E$9:E2687)-1)))","v":""}]
[null,null,null,null,null,{"$f":"IF(B2688=\"\",\"\",IF(C2688=\"\",F2687,IF(E2688=\"\",F2687,E2688/MAX($E$9:E2688)-1)))","v":""}]
[null,null,null,null,null,{"$f":"IF(B2689=\"\",\"\",IF(C2689=\"\",F2688,IF(E2689=\"\",F2688,E2689/MAX($E$9:E2689)-1)))","v":""}]
[null,null,null,null,null,{"$f":"IF(B2690=\"\",\"\",IF(C2690=\"\",F2689,IF(E2690=\"\",F2689,E2690/MAX($E$9:E2690)-1)))","v":""}]
[null,null,null,null,null,{"$f":"IF(B2691=\"\",\"\",IF(C2691=\"\",F2690,IF(E2691=\"\",F2690,E2691/MAX($E$9:E2691)-1)))","v":""}]
[null,null,null,null,null,{"$f":"IF(B2692=\"\",\"\",IF(C2692=\"\",F2691,IF(E2692=\"\",F2691,E2692/MAX($E$9:E2692)-1)))","v":""}]
[null,null,null,null,null,{"$f":"IF(B2693=\"\",\"\",IF(C2693=\"\",F2692,IF(E2693=\"\",F2692,E2693/MAX($E$9:E2693)-1)))","v":""}]
[null,null,null,null,null,{"$f":"IF(B2694=\"\",\"\",IF(C2694=\"\",F2693,IF(E2694=\"\",F2693,E2694/MAX($E$9:E2694)-1)))","v":""}]
[null,null,null,null,null,{"$f":"IF(B2695=\"\",\"\",IF(C2695=\"\",F2694,IF(E2695=\"\",F2694,E2695/MAX($E$9:E2695)-1)))","v":""}]
[null,null,null,null,null,{"$f":"IF(B2696=\"\",\"\",IF(C2696=\"\",F2695,IF(E2696=\"\",F2695,E2696/MAX($E$9:E2696)-1)))","v":""}]
[null,null,null,null,null,{"$f":"IF(B2697=\"\",\"\",IF(C2697=\"\",F2696,IF(E2697=\"\",F2696,E2697/MAX($E$9:E2697)-1)))","v":""}]
[null,null,null,null,null,{"$f":"IF(B2698=\"\",\"\",IF(C2698=\"\",F2697,IF(E2698=\"\",F2697,E2698/MAX($E$9:E2698)-1)))","v":""}]
[null,null,null,null,null,{"$f":"IF(B2699=\"\",\"\",IF(C2699=\"\",F2698,IF(E2699=\"\",F2698,E2699/MAX($E$9:E2699)-1)))","v":""}]
[null,null,null,null,null,{"$f":"IF(B2700=\"\",\"\",IF(C2700=\"\",F2699,IF(E2700=\"\",F2699,E2700/MAX($E$9:E2700)-1)))","v":""}]
[null,null,null,null,null,{"$f":"IF(B2701=\"\",\"\",IF(C2701=\"\",F2700,IF(E2701=\"\",F2700,E2701/MAX($E$9:E2701)-1)))","v":""}]
[null,null,null,null,null,{"$f":"IF(B2702=\"\",\"\",IF(C2702=\"\",F2701,IF(E2702=\"\",F2701,E2702/MAX($E$9:E2702)-1)))","v":""}]
[null,null,null,null,null,{"$f":"IF(B2703=\"\",\"\",IF(C2703=\"\",F2702,IF(E2703=\"\",F2702,E2703/MAX($E$9:E2703)-1)))","v":""}]
[null,null,null,null,null,{"$f":"IF(B2704=\"\",\"\",IF(C2704=\"\",F2703,IF(E2704=\"\",F2703,E2704/MAX($E$9:E2704)-1)))","v":""}]
[null,null,null,null,null,{"$f":"IF(B2705=\"\",\"\",IF(C2705=\"\",F2704,IF(E2705=\"\",F2704,E2705/MAX($E$9:E2705)-1)))","v":""}]
[null,null,null,null,null,{"$f":"IF(B2706=\"\",\"\",IF(C2706=\"\",F2705,IF(E2706=\"\",F2705,E2706/MAX($E$9:E2706)-1)))","v":""}]
[null,null,null,null,null,{"$f":"IF(B2707=\"\",\"\",IF(C2707=\"\",F2706,IF(E2707=\"\",F2706,E2707/MAX($E$9:E2707)-1)))","v":""}]
[null,null,null,null,null,{"$f":"IF(B2708=\"\",\"\",IF(C2708=\"\",F2707,IF(E2708=\"\",F2707,E2708/MAX($E$9:E2708)-1)))","v":""}]
[null,null,null,null,null,{"$f":"IF(B2709=\"\",\"\",IF(C2709=\"\",F2708,IF(E2709=\"\",F2708,E2709/MAX($E$9:E2709)-1)))","v":""}]
[null,null,null,null,null,{"$f":"IF(B2710=\"\",\"\",IF(C2710=\"\",F2709,IF(E2710=\"\",F2709,E2710/MAX($E$9:E2710)-1)))","v":""}]
[null,null,null,null,null,{"$f":"IF(B2711=\"\",\"\",IF(C2711=\"\",F2710,IF(E2711=\"\",F2710,E2711/MAX($E$9:E2711)-1)))","v":""}]
[null,null,null,null,null,{"$f":"IF(B2712=\"\",\"\",IF(C2712=\"\",F2711,IF(E2712=\"\",F2711,E2712/MAX($E$9:E2712)-1)))","v":""}]
[null,null,null,null,null,{"$f":"IF(B2713=\"\",\"\",IF(C2713=\"\",F2712,IF(E2713=\"\",F2712,E2713/MAX($E$9:E2713)-1)))","v":""}]
[null,null,null,null,null,{"$f":"IF(B2714=\"\",\"\",IF(C2714=\"\",F2713,IF(E2714=\"\",F2713,E2714/MAX($E$9:E2714)-1)))","v":""}]
[null,null,null,null,null,{"$f":"IF(B2715=\"\",\"\",IF(C2715=\"\",F2714,IF(E2715=\"\",F2714,E2715/MAX($E$9:E2715)-1)))","v":""}]
[null,null,null,null,null,{"$f":"IF(B2716=\"\",\"\",IF(C2716=\"\",F2715,IF(E2716=\"\",F2715,E2716/MAX($E$9:E2716)-1)))","v":""}]
[null,null,null,null,null,{"$f":"IF(B2717=\"\",\"\",IF(C2717=\"\",F2716,IF(E2717=\"\",F2716,E2717/MAX($E$9:E2717)-1)))","v":""}]
[null,null,null,null,null,{"$f":"IF(B2718=\"\",\"\",IF(C2718=\"\",F2717,IF(E2718=\"\",F2717,E2718/MAX($E$9:E2718)-1)))","v":""}]
[null,null,null,null,null,{"$f":"IF(B2719=\"\",\"\",IF(C2719=\"\",F2718,IF(E2719=\"\",F2718,E2719/MAX($E$9:E2719)-1)))","v":""}]
[null,null,null,null,null,{"$f":"IF(B2720=\"\",\"\",IF(C2720=\"\",F2719,IF(E2720=\"\",F2719,E2720/MAX($E$9:E2720)-1)))","v":""}]
[null,null,null,null,null,{"$f":"IF(B2721=\"\",\"\",IF(C2721=\"\",F2720,IF(E2721=\"\",F2720,E2721/MAX($E$9:E2721)-1)))","v":""}]
[null,null,null,null,null,{"$f":"IF(B2722=\"\",\"\",IF(C2722=\"\",F2721,IF(E2722=\"\",F2721,E2722/MAX($E$9:E2722)-1)))","v":""}]
[null,null,null,null,null,{"$f":"IF(B2723=\"\",\"\",IF(C2723=\"\",F2722,IF(E2723=\"\",F2722,E2723/MAX($E$9:E2723)-1)))","v":""}]
[null,null,null,null,null,{"$f":"IF(B2724=\"\",\"\",IF(C2724=\"\",F2723,IF(E2724=\"\",F2723,E2724/MAX($E$9:E2724)-1)))","v":""}]
[null,null,null,null,null,{"$f":"IF(B2725=\"\",\"\",IF(C2725=\"\",F2724,IF(E2725=\"\",F2724,E2725/MAX($E$9:E2725)-1)))","v":""}]
[null,null,null,null,null,{"$f":"IF(B2726=\"\",\"\",IF(C2726=\"\",F2725,IF(E2726=\"\",F2725,E2726/MAX($E$9:E2726)-1)))","v":""}]
[null,null,null,null,null,{"$f":"IF(B2727=\"\",\"\",IF(C2727=\"\",F2726,IF(E2727=\"\",F2726,E2727/MAX($E$9:E2727)-1)))","v":""}]
[null,null,null,null,null,{"$f":"IF(B2728=\"\",\"\",IF(C2728=\"\",F2727,IF(E2728=\"\",F2727,E2728/MAX($E$9:E2728)-1)))","v":""}]
[null,null,null,null,null,{"$f":"IF(B2729=\"\",\"\",IF(C2729=\"\",F2728,IF(E2729=\"\",F2728,E2729/MAX($E$9:E2729)-1)))","v":""}]
[null,null,null,null,null,{"$f":"IF(B2730=\"\",\"\",IF(C2730=\"\",F2729,IF(E2730=\"\",F2729,E2730/MAX($E$9:E2730)-1)))","v":""}]
[null,null,null,null,null,{"$f":"IF(B2731=\"\",\"\",IF(C2731=\"\",F2730,IF(E2731=\"\",F2730,E2731/MAX($E$9:E2731)-1)))","v":""}]
[null,null,null,null,null,{"$f":"IF(B2732=\"\",\"\",IF(C2732=\"\",F2731,IF(E2732=\"\",F2731,E2732/MAX($E$9:E2732)-1)))","v":""}]
[null,null,null,null,null,{"$f":"IF(B2733=\"\",\"\",IF(C2733=\"\",F2732,IF(E2733=\"\",F2732,E2733/MAX($E$9:E2733)-1)))","v":""}]
[null,null,null,null,null,{"$f":"IF(B2734=\"\",\"\",IF(C2734=\"\",F2733,IF(E2734=\"\",F2733,E2734/MAX($E$9:E2734)-1)))","v":""}]
[null,null,null,null,null,{"$f":"IF(B2735=\"\",\"\",IF(C2735=\"\",F2734,IF(E2735=\"\",F2734,E2735/MAX($E$9:E2735)-1)))","v":""}]
[null,null,null,null,null,{"$f":"IF(B2736=\"\",\"\",IF(C2736=\"\",F2735,IF(E2736=\"\",F2735,E2736/MAX($E$9:E2736)-1)))","v":""}]
[null,null,null,null,null,{"$f":"IF(B2737=\"\",\"\",IF(C2737=\"\",F2736,IF(E2737=\"\",F2736,E2737/MAX($E$9:E2737)-1)))","v":""}]
[null,null,null,null,null,{"$f":"IF(B2738=\"\",\"\",IF(C2738=\"\",F2737,IF(E2738=\"\",F2737,E2738/MAX($E$9:E2738)-1)))","v":""}]
[null,null,null,null,null,{"$f":"IF(B2739=\"\",\"\",IF(C2739=\"\",F2738,IF(E2739=\"\",F2738,E2739/MAX($E$9:E2739)-1)))","v":""}]
[null,null,null,null,null,{"$f":"IF(B2740=\"\",\"\",IF(C2740=\"\",F2739,IF(E2740=\"\",F2739,E2740/MAX($E$9:E2740)-1)))","v":""}]
[null,null,null,null,null,{"$f":"IF(B2741=\"\",\"\",IF(C2741=\"\",F2740,IF(E2741=\"\",F2740,E2741/MAX($E$9:E2741)-1)))","v":""}]
[null,null,null,null,null,{"$f":"IF(B2742=\"\",\"\",IF(C2742=\"\",F2741,IF(E2742=\"\",F2741,E2742/MAX($E$9:E2742)-1)))","v":""}]
[null,null,null,null,null,{"$f":"IF(B2743=\"\",\"\",IF(C2743=\"\",F2742,IF(E2743=\"\",F2742,E2743/MAX($E$9:E2743)-1)))","v":""}]
[null,null,null,null,null,{"$f":"IF(B2744=\"\",\"\",IF(C2744=\"\",F2743,IF(E2744=\"\",F2743,E2744/MAX($E$9:E2744)-1)))","v":""}]
[null,null,null,null,null,{"$f":"IF(B2745=\"\",\"\",IF(C2745=\"\",F2744,IF(E2745=\"\",F2744,E2745/MAX($E$9:E2745)-1)))","v":""}]
[null,null,null,null,null,{"$f":"IF(B2746=\"\",\"\",IF(C2746=\"\",F2745,IF(E2746=\"\",F2745,E2746/MAX($E$9:E2746)-1)))","v":""}]
[null,null,null,null,null,{"$f":"IF(B2747=\"\",\"\",IF(C2747=\"\",F2746,IF(E2747=\"\",F2746,E2747/MAX($E$9:E2747)-1)))","v":""}]
[null,null,null,null,null,{"$f":"IF(B2748=\"\",\"\",IF(C2748=\"\",F2747,IF(E2748=\"\",F2747,E2748/MAX($E$9:E2748)-1)))","v":""}]
[null,null,null,null,null,{"$f":"IF(B2749=\"\",\"\",IF(C2749=\"\",F2748,IF(E2749=\"\",F2748,E2749/MAX($E$9:E2749)-1)))","v":""}]
[null,null,null,null,null,{"$f":"IF(B2750=\"\",\"\",IF(C2750=\"\",F2749,IF(E2750=\"\",F2749,E2750/MAX($E$9:E2750)-1)))","v":""}]
[null,null,null,null,null,{"$f":"IF(B2751=\"\",\"\",IF(C2751=\"\",F2750,IF(E2751=\"\",F2750,E2751/MAX($E$9:E2751)-1)))","v":""}]
[null,null,null,null,null,{"$f":"IF(B2752=\"\",\"\",IF(C2752=\"\",F2751,IF(E2752=\"\",F2751,E2752/MAX($E$9:E2752)-1)))","v":""}]
[null,null,null,null,null,{"$f":"IF(B2753=\"\",\"\",IF(C2753=\"\",F2752,IF(E2753=\"\",F2752,E2753/MAX($E$9:E2753)-1)))","v":""}]
[null,null,null,null,null,{"$f":"IF(B2754=\"\",\"\",IF(C2754=\"\",F2753,IF(E2754=\"\",F2753,E2754/MAX($E$9:E2754)-1)))","v":""}]
[null,null,null,null,null,{"$f":"IF(B2755=\"\",\"\",IF(C2755=\"\",F2754,IF(E2755=\"\",F2754,E2755/MAX($E$9:E2755)-1)))","v":""}]
[null,null,null,null,null,{"$f":"IF(B2756=\"\",\"\",IF(C2756=\"\",F2755,IF(E2756=\"\",F2755,E2756/MAX($E$9:E2756)-1)))","v":""}]
[null,null,null,null,null,{"$f":"IF(B2757=\"\",\"\",IF(C2757=\"\",F2756,IF(E2757=\"\",F2756,E2757/MAX($E$9:E2757)-1)))","v":""}]
[null,null,null,null,null,{"$f":"IF(B2758=\"\",\"\",IF(C2758=\"\",F2757,IF(E2758=\"\",F2757,E2758/MAX($E$9:E2758)-1)))","v":""}]
[null,null,null,null,null,{"$f":"IF(B2759=\"\",\"\",IF(C2759=\"\",F2758,IF(E2759=\"\",F2758,E2759/MAX($E$9:E2759)-1)))","v":""}]
[null,null,null,null,null,{"$f":"IF(B2760=\"\",\"\",IF(C2760=\"\",F2759,IF(E2760=\"\",F2759,E2760/MAX($E$9:E2760)-1)))","v":""}]
[null,null,null,null,null,{"$f":"IF(B2761=\"\",\"\",IF(C2761=\"\",F2760,IF(E2761=\"\",F2760,E2761/MAX($E$9:E2761)-1)))","v":""}]
[null,null,null,null,null,{"$f":"IF(B2762=\"\",\"\",IF(C2762=\"\",F2761,IF(E2762=\"\",F2761,E2762/MAX($E$9:E2762)-1)))","v":""}]
[null,null,null,null,null,{"$f":"IF(B2763=\"\",\"\",IF(C2763=\"\",F2762,IF(E2763=\"\",F2762,E2763/MAX($E$9:E2763)-1)))","v":""}]
[null,null,null,null,null,{"$f":"IF(B2764=\"\",\"\",IF(C2764=\"\",F2763,IF(E2764=\"\",F2763,E2764/MAX($E$9:E2764)-1)))","v":""}]
[null,null,null,null,null,{"$f":"IF(B2765=\"\",\"\",IF(C2765=\"\",F2764,IF(E2765=\"\",F2764,E2765/MAX($E$9:E2765)-1)))","v":""}]
[null,null,null,null,null,{"$f":"IF(B2766=\"\",\"\",IF(C2766=\"\",F2765,IF(E2766=\"\",F2765,E2766/MAX($E$9:E2766)-1)))","v":""}]
[null,null,null,null,null,{"$f":"IF(B2767=\"\",\"\",IF(C2767=\"\",F2766,IF(E2767=\"\",F2766,E2767/MAX($E$9:E2767)-1)))","v":""}]
[null,null,null,null,null,{"$f":"IF(B2768=\"\",\"\",IF(C2768=\"\",F2767,IF(E2768=\"\",F2767,E2768/MAX($E$9:E2768)-1)))","v":""}]
[null,null,null,null,null,{"$f":"IF(B2769=\"\",\"\",IF(C2769=\"\",F2768,IF(E2769=\"\",F2768,E2769/MAX($E$9:E2769)-1)))","v":""}]
[null,null,null,null,null,{"$f":"IF(B2770=\"\",\"\",IF(C2770=\"\",F2769,IF(E2770=\"\",F2769,E2770/MAX($E$9:E2770)-1)))","v":""}]
[null,null,null,null,null,{"$f":"IF(B2771=\"\",\"\",IF(C2771=\"\",F2770,IF(E2771=\"\",F2770,E2771/MAX($E$9:E2771)-1)))","v":""}]
[null,null,null,null,null,{"$f":"IF(B2772=\"\",\"\",IF(C2772=\"\",F2771,IF(E2772=\"\",F2771,E2772/MAX($E$9:E2772)-1)))","v":""}]
[null,null,null,null,null,{"$f":"IF(B2773=\"\",\"\",IF(C2773=\"\",F2772,IF(E2773=\"\",F2772,E2773/MAX($E$9:E2773)-1)))","v":""}]
[null,null,null,null,null,{"$f":"IF(B2774=\"\",\"\",IF(C2774=\"\",F2773,IF(E2774=\"\",F2773,E2774/MAX($E$9:E2774)-1)))","v":""}]
[null,null,null,null,null,{"$f":"IF(B2775=\"\",\"\",IF(C2775=\"\",F2774,IF(E2775=\"\",F2774,E2775/MAX($E$9:E2775)-1)))","v":""}]
[null,null,null,null,null,{"$f":"IF(B2776=\"\",\"\",IF(C2776=\"\",F2775,IF(E2776=\"\",F2775,E2776/MAX($E$9:E2776)-1)))","v":""}]
[null,null,null,null,null,{"$f":"IF(B2777=\"\",\"\",IF(C2777=\"\",F2776,IF(E2777=\"\",F2776,E2777/MAX($E$9:E2777)-1)))","v":""}]
[null,null,null,null,null,{"$f":"IF(B2778=\"\",\"\",IF(C2778=\"\",F2777,IF(E2778=\"\",F2777,E2778/MAX($E$9:E2778)-1)))","v":""}]
[null,null,null,null,null,{"$f":"IF(B2779=\"\",\"\",IF(C2779=\"\",F2778,IF(E2779=\"\",F2778,E2779/MAX($E$9:E2779)-1)))","v":""}]
[null,null,null,null,null,{"$f":"IF(B2780=\"\",\"\",IF(C2780=\"\",F2779,IF(E2780=\"\",F2779,E2780/MAX($E$9:E2780)-1)))","v":""}]
[null,null,null,null,null,{"$f":"IF(B2781=\"\",\"\",IF(C2781=\"\",F2780,IF(E2781=\"\",F2780,E2781/MAX($E$9:E2781)-1)))","v":""}]
[null,null,null,null,null,{"$f":"IF(B2782=\"\",\"\",IF(C2782=\"\",F2781,IF(E2782=\"\",F2781,E2782/MAX($E$9:E2782)-1)))","v":""}]
[null,null,null,null,null,{"$f":"IF(B2783=\"\",\"\",IF(C2783=\"\",F2782,IF(E2783=\"\",F2782,E2783/MAX($E$9:E2783)-1)))","v":""}]
[null,null,null,null,null,{"$f":"IF(B2784=\"\",\"\",IF(C2784=\"\",F2783,IF(E2784=\"\",F2783,E2784/MAX($E$9:E2784)-1)))","v":""}]
[null,null,null,null,null,{"$f":"IF(B2785=\"\",\"\",IF(C2785=\"\",F2784,IF(E2785=\"\",F2784,E2785/MAX($E$9:E2785)-1)))","v":""}]
[null,null,null,null,null,{"$f":"IF(B2786=\"\",\"\",IF(C2786=\"\",F2785,IF(E2786=\"\",F2785,E2786/MAX($E$9:E2786)-1)))","v":""}]
[null,null,null,null,null,{"$f":"IF(B2787=\"\",\"\",IF(C2787=\"\",F2786,IF(E2787=\"\",F2786,E2787/MAX($E$9:E2787)-1)))","v":""}]
[null,null,null,null,null,{"$f":"IF(B2788=\"\",\"\",IF(C2788=\"\",F2787,IF(E2788=\"\",F2787,E2788/MAX($E$9:E2788)-1)))","v":""}]
[null,null,null,null,null,{"$f":"IF(B2789=\"\",\"\",IF(C2789=\"\",F2788,IF(E2789=\"\",F2788,E2789/MAX($E$9:E2789)-1)))","v":""}]
[null,null,null,null,null,{"$f":"IF(B2790=\"\",\"\",IF(C2790=\"\",F2789,IF(E2790=\"\",F2789,E2790/MAX($E$9:E2790)-1)))","v":""}]
[null,null,null,null,null,{"$f":"IF(B2791=\"\",\"\",IF(C2791=\"\",F2790,IF(E2791=\"\",F2790,E2791/MAX($E$9:E2791)-1)))","v":""}]
[null,null,null,null,null,{"$f":"IF(B2792=\"\",\"\",IF(C2792=\"\",F2791,IF(E2792=\"\",F2791,E2792/MAX($E$9:E2792)-1)))","v":""}]
[null,null,null,null,null,{"$f":"IF(B2793=\"\",\"\",IF(C2793=\"\",F2792,IF(E2793=\"\",F2792,E2793/MAX($E$9:E2793)-1)))","v":""}]
[null,null,null,null,null,{"$f":"IF(B2794=\"\",\"\",IF(C2794=\"\",F2793,IF(E2794=\"\",F2793,E2794/MAX($E$9:E2794)-1)))","v":""}]
[null,null,null,null,null,{"$f":"IF(B2795=\"\",\"\",IF(C2795=\"\",F2794,IF(E2795=\"\",F2794,E2795/MAX($E$9:E2795)-1)))","v":""}]
[null,null,null,null,null,{"$f":"IF(B2796=\"\",\"\",IF(C2796=\"\",F2795,IF(E2796=\"\",F2795,E2796/MAX($E$9:E2796)-1)))","v":""}]
[null,null,null,null,null,{"$f":"IF(B2797=\"\",\"\",IF(C2797=\"\",F2796,IF(E2797=\"\",F2796,E2797/MAX($E$9:E2797)-1)))","v":""}]
[null,null,null,null,null,{"$f":"IF(B2798=\"\",\"\",IF(C2798=\"\",F2797,IF(E2798=\"\",F2797,E2798/MAX($E$9:E2798)-1)))","v":""}]
[null,null,null,null,null,{"$f":"IF(B2799=\"\",\"\",IF(C2799=\"\",F2798,IF(E2799=\"\",F2798,E2799/MAX($E$9:E2799)-1)))","v":""}]
[null,null,null,null,null,{"$f":"IF(B2800=\"\",\"\",IF(C2800=\"\",F2799,IF(E2800=\"\",F2799,E2800/MAX($E$9:E2800)-1)))","v":""}]
[null,null,null,null,null,{"$f":"IF(B2801=\"\",\"\",IF(C2801=\"\",F2800,IF(E2801=\"\",F2800,E2801/MAX($E$9:E2801)-1)))","v":""}]
[null,null,null,null,null,{"$f":"IF(B2802=\"\",\"\",IF(C2802=\"\",F2801,IF(E2802=\"\",F2801,E2802/MAX($E$9:E2802)-1)))","v":""}]
[null,null,null,null,null,{"$f":"IF(B2803=\"\",\"\",IF(C2803=\"\",F2802,IF(E2803=\"\",F2802,E2803/MAX($E$9:E2803)-1)))","v":""}]
[null,null,null,null,null,{"$f":"IF(B2804=\"\",\"\",IF(C2804=\"\",F2803,IF(E2804=\"\",F2803,E2804/MAX($E$9:E2804)-1)))","v":""}]
[null,null,null,null,null,{"$f":"IF(B2805=\"\",\"\",IF(C2805=\"\",F2804,IF(E2805=\"\",F2804,E2805/MAX($E$9:E2805)-1)))","v":""}]
[null,null,null,null,null,{"$f":"IF(B2806=\"\",\"\",IF(C2806=\"\",F2805,IF(E2806=\"\",F2805,E2806/MAX($E$9:E2806)-1)))","v":""}]
[null,null,null,null,null,{"$f":"IF(B2807=\"\",\"\",IF(C2807=\"\",F2806,IF(E2807=\"\",F2806,E2807/MAX($E$9:E2807)-1)))","v":""}]
[null,null,null,null,null,{"$f":"IF(B2808=\"\",\"\",IF(C2808=\"\",F2807,IF(E2808=\"\",F2807,E2808/MAX($E$9:E2808)-1)))","v":""}]
[null,null,null,null,null,{"$f":"IF(B2809=\"\",\"\",IF(C2809=\"\",F2808,IF(E2809=\"\",F2808,E2809/MAX($E$9:E2809)-1)))","v":""}]
[null,null,null,null,null,{"$f":"IF(B2810=\"\",\"\",IF(C2810=\"\",F2809,IF(E2810=\"\",F2809,E2810/MAX($E$9:E2810)-1)))","v":""}]
[null,null,null,null,null,{"$f":"IF(B2811=\"\",\"\",IF(C2811=\"\",F2810,IF(E2811=\"\",F2810,E2811/MAX($E$9:E2811)-1)))","v":""}]
[null,null,null,null,null,{"$f":"IF(B2812=\"\",\"\",IF(C2812=\"\",F2811,IF(E2812=\"\",F2811,E2812/MAX($E$9:E2812)-1)))","v":""}]
[null,null,null,null,null,{"$f":"IF(B2813=\"\",\"\",IF(C2813=\"\",F2812,IF(E2813=\"\",F2812,E2813/MAX($E$9:E2813)-1)))","v":""}]
[null,null,null,null,null,{"$f":"IF(B2814=\"\",\"\",IF(C2814=\"\",F2813,IF(E2814=\"\",F2813,E2814/MAX($E$9:E2814)-1)))","v":""}]
[null,null,null,null,null,{"$f":"IF(B2815=\"\",\"\",IF(C2815=\"\",F2814,IF(E2815=\"\",F2814,E2815/MAX($E$9:E2815)-1)))","v":""}]
[null,null,null,null,null,{"$f":"IF(B2816=\"\",\"\",IF(C2816=\"\",F2815,IF(E2816=\"\",F2815,E2816/MAX($E$9:E2816)-1)))","v":""}]
[null,null,null,null,null,{"$f":"IF(B2817=\"\",\"\",IF(C2817=\"\",F2816,IF(E2817=\"\",F2816,E2817/MAX($E$9:E2817)-1)))","v":""}]
[null,null,null,null,null,{"$f":"IF(B2818=\"\",\"\",IF(C2818=\"\",F2817,IF(E2818=\"\",F2817,E2818/MAX($E$9:E2818)-1)))","v":""}]
[null,null,null,null,null,{"$f":"IF(B2819=\"\",\"\",IF(C2819=\"\",F2818,IF(E2819=\"\",F2818,E2819/MAX($E$9:E2819)-1)))","v":""}]
[null,null,null,null,null,{"$f":"IF(B2820=\"\",\"\",IF(C2820=\"\",F2819,IF(E2820=\"\",F2819,E2820/MAX($E$9:E2820)-1)))","v":""}]
[null,null,null,null,null,{"$f":"IF(B2821=\"\",\"\",IF(C2821=\"\",F2820,IF(E2821=\"\",F2820,E2821/MAX($E$9:E2821)-1)))","v":""}]
[null,null,null,null,null,{"$f":"IF(B2822=\"\",\"\",IF(C2822=\"\",F2821,IF(E2822=\"\",F2821,E2822/MAX($E$9:E2822)-1)))","v":""}]
[null,null,null,null,null,{"$f":"IF(B2823=\"\",\"\",IF(C2823=\"\",F2822,IF(E2823=\"\",F2822,E2823/MAX($E$9:E2823)-1)))","v":""}]
[null,null,null,null,null,{"$f":"IF(B2824=\"\",\"\",IF(C2824=\"\",F2823,IF(E2824=\"\",F2823,E2824/MAX($E$9:E2824)-1)))","v":""}]
[null,null,null,null,null,{"$f":"IF(B2825=\"\",\"\",IF(C2825=\"\",F2824,IF(E2825=\"\",F2824,E2825/MAX($E$9:E2825)-1)))","v":""}]
[null,null,null,null,null,{"$f":"IF(B2826=\"\",\"\",IF(C2826=\"\",F2825,IF(E2826=\"\",F2825,E2826/MAX($E$9:E2826)-1)))","v":""}]
[null,null,null,null,null,{"$f":"IF(B2827=\"\",\"\",IF(C2827=\"\",F2826,IF(E2827=\"\",F2826,E2827/MAX($E$9:E2827)-1)))","v":""}]
[null,null,null,null,null,{"$f":"IF(B2828=\"\",\"\",IF(C2828=\"\",F2827,IF(E2828=\"\",F2827,E2828/MAX($E$9:E2828)-1)))","v":""}]
[null,null,null,null,null,{"$f":"IF(B2829=\"\",\"\",IF(C2829=\"\",F2828,IF(E2829=\"\",F2828,E2829/MAX($E$9:E2829)-1)))","v":""}]
[null,null,null,null,null,{"$f":"IF(B2830=\"\",\"\",IF(C2830=\"\",F2829,IF(E2830=\"\",F2829,E2830/MAX($E$9:E2830)-1)))","v":""}]
[null,null,null,null,null,{"$f":"IF(B2831=\"\",\"\",IF(C2831=\"\",F2830,IF(E2831=\"\",F2830,E2831/MAX($E$9:E2831)-1)))","v":""}]
[null,null,null,null,null,{"$f":"IF(B2832=\"\",\"\",IF(C2832=\"\",F2831,IF(E2832=\"\",F2831,E2832/MAX($E$9:E2832)-1)))","v":""}]
[null,null,null,null,null,{"$f":"IF(B2833=\"\",\"\",IF(C2833=\"\",F2832,IF(E2833=\"\",F2832,E2833/MAX($E$9:E2833)-1)))","v":""}]
[null,null,null,null,null,{"$f":"IF(B2834=\"\",\"\",IF(C2834=\"\",F2833,IF(E2834=\"\",F2833,E2834/MAX($E$9:E2834)-1)))","v":""}]
[null,null,null,null,null,{"$f":"IF(B2835=\"\",\"\",IF(C2835=\"\",F2834,IF(E2835=\"\",F2834,E2835/MAX($E$9:E2835)-1)))","v":""}]
[null,null,null,null,null,{"$f":"IF(B2836=\"\",\"\",IF(C2836=\"\",F2835,IF(E2836=\"\",F2835,E2836/MAX($E$9:E2836)-1)))","v":""}]
[null,null,null,null,null,{"$f":"IF(B2837=\"\",\"\",IF(C2837=\"\",F2836,IF(E2837=\"\",F2836,E2837/MAX($E$9:E2837)-1)))","v":""}]
[null,null,null,null,null,{"$f":"IF(B2838=\"\",\"\",IF(C2838=\"\",F2837,IF(E2838=\"\",F2837,E2838/MAX($E$9:E2838)-1)))","v":""}]
[null,null,null,null,null,{"$f":"IF(B2839=\"\",\"\",IF(C2839=\"\",F2838,IF(E2839=\"\",F2838,E2839/MAX($E$9:E2839)-1)))","v":""}]
[null,null,null,null,null,{"$f":"IF(B2840=\"\",\"\",IF(C2840=\"\",F2839,IF(E2840=\"\",F2839,E2840/MAX($E$9:E2840)-1)))","v":""}]
[null,null,null,null,null,{"$f":"IF(B2841=\"\",\"\",IF(C2841=\"\",F2840,IF(E2841=\"\",F2840,E2841/MAX($E$9:E2841)-1)))","v":""}]
[null,null,null,null,null,{"$f":"IF(B2842=\"\",\"\",IF(C2842=\"\",F2841,IF(E2842=\"\",F2841,E2842/MAX($E$9:E2842)-1)))","v":""}]
[null,null,null,null,null,{"$f":"IF(B2843=\"\",\"\",IF(C2843=\"\",F2842,IF(E2843=\"\",F2842,E2843/MAX($E$9:E2843)-1)))","v":""}]
[null,null,null,null,null,{"$f":"IF(B2844=\"\",\"\",IF(C2844=\"\",F2843,IF(E2844=\"\",F2843,E2844/MAX($E$9:E2844)-1)))","v":""}]
[null,null,null,null,null,{"$f":"IF(B2845=\"\",\"\",IF(C2845=\"\",F2844,IF(E2845=\"\",F2844,E2845/MAX($E$9:E2845)-1)))","v":""}]
[null,null,null,null,null,{"$f":"IF(B2846=\"\",\"\",IF(C2846=\"\",F2845,IF(E2846=\"\",F2845,E2846/MAX($E$9:E2846)-1)))","v":""}]
[null,null,null,null,null,{"$f":"IF(B2847=\"\",\"\",IF(C2847=\"\",F2846,IF(E2847=\"\",F2846,E2847/MAX($E$9:E2847)-1)))","v":""}]
[null,null,null,null,null,{"$f":"IF(B2848=\"\",\"\",IF(C2848=\"\",F2847,IF(E2848=\"\",F2847,E2848/MAX($E$9:E2848)-1)))","v":""}]
[null,null,null,null,null,{"$f":"IF(B2849=\"\",\"\",IF(C2849=\"\",F2848,IF(E2849=\"\",F2848,E2849/MAX($E$9:E2849)-1)))","v":""}]
[null,null,null,null,null,{"$f":"IF(B2850=\"\",\"\",IF(C2850=\"\",F2849,IF(E2850=\"\",F2849,E2850/MAX($E$9:E2850)-1)))","v":""}]
[null,null,null,null,null,{"$f":"IF(B2851=\"\",\"\",IF(C2851=\"\",F2850,IF(E2851=\"\",F2850,E2851/MAX($E$9:E2851)-1)))","v":""}]
[null,null,null,null,null,{"$f":"IF(B2852=\"\",\"\",IF(C2852=\"\",F2851,IF(E2852=\"\",F2851,E2852/MAX($E$9:E2852)-1)))","v":""}]
[null,null,null,null,null,{"$f":"IF(B2853=\"\",\"\",IF(C2853=\"\",F2852,IF(E2853=\"\",F2852,E2853/MAX($E$9:E2853)-1)))","v":""}]
[null,null,null,null,null,{"$f":"IF(B2854=\"\",\"\",IF(C2854=\"\",F2853,IF(E2854=\"\",F2853,E2854/MAX($E$9:E2854)-1)))","v":""}]
[null,null,null,null,null,{"$f":"IF(B2855=\"\",\"\",IF(C2855=\"\",F2854,IF(E2855=\"\",F2854,E2855/MAX($E$9:E2855)-1)))","v":""}]
[null,null,null,null,null,{"$f":"IF(B2856=\"\",\"\",IF(C2856=\"\",F2855,IF(E2856=\"\",F2855,E2856/MAX($E$9:E2856)-1)))","v":""}]
[null,null,null,null,null,{"$f":"IF(B2857=\"\",\"\",IF(C2857=\"\",F2856,IF(E2857=\"\",F2856,E2857/MAX($E$9:E2857)-1)))","v":""}]
[null,null,null,null,null,{"$f":"IF(B2858=\"\",\"\",IF(C2858=\"\",F2857,IF(E2858=\"\",F2857,E2858/MAX($E$9:E2858)-1)))","v":""}]
[null,null,null,null,null,{"$f":"IF(B2859=\"\",\"\",IF(C2859=\"\",F2858,IF(E2859=\"\",F2858,E2859/MAX($E$9:E2859)-1)))","v":""}]
[null,null,null,null,null,{"$f":"IF(B2860=\"\",\"\",IF(C2860=\"\",F2859,IF(E2860=\"\",F2859,E2860/MAX($E$9:E2860)-1)))","v":""}]
[null,null,null,null,null,{"$f":"IF(B2861=\"\",\"\",IF(C2861=\"\",F2860,IF(E2861=\"\",F2860,E2861/MAX($E$9:E2861)-1)))","v":""}]
[null,null,null,null,null,{"$f":"IF(B2862=\"\",\"\",IF(C2862=\"\",F2861,IF(E2862=\"\",F2861,E2862/MAX($E$9:E2862)-1)))","v":""}]
[null,null,null,null,null,{"$f":"IF(B2863=\"\",\"\",IF(C2863=\"\",F2862,IF(E2863=\"\",F2862,E2863/MAX($E$9:E2863)-1)))","v":""}]
[null,null,null,null,null,{"$f":"IF(B2864=\"\",\"\",IF(C2864=\"\",F2863,IF(E2864=\"\",F2863,E2864/MAX($E$9:E2864)-1)))","v":""}]
[null,null,null,null,null,{"$f":"IF(B2865=\"\",\"\",IF(C2865=\"\",F2864,IF(E2865=\"\",F2864,E2865/MAX($E$9:E2865)-1)))","v":""}]
[null,null,null,null,null,{"$f":"IF(B2866=\"\",\"\",IF(C2866=\"\",F2865,IF(E2866=\"\",F2865,E2866/MAX($E$9:E2866)-1)))","v":""}]
[null,null,null,null,null,{"$f":"IF(B2867=\"\",\"\",IF(C2867=\"\",F2866,IF(E2867=\"\",F2866,E2867/MAX($E$9:E2867)-1)))","v":""}]
[null,null,null,null,null,{"$f":"IF(B2868=\"\",\"\",IF(C2868=\"\",F2867,IF(E2868=\"\",F2867,E2868/MAX($E$9:E2868)-1)))","v":""}]
[null,null,null,null,null,{"$f":"IF(B2869=\"\",\"\",IF(C2869=\"\",F2868,IF(E2869=\"\",F2868,E2869/MAX($E$9:E2869)-1)))","v":""}]
[null,null,null,null,null,{"$f":"IF(B2870=\"\",\"\",IF(C2870=\"\",F2869,IF(E2870=\"\",F2869,E2870/MAX($E$9:E2870)-1)))","v":""}]
[null,null,null,null,null,{"$f":"IF(B2871=\"\",\"\",IF(C2871=\"\",F2870,IF(E2871=\"\",F2870,E2871/MAX($E$9:E2871)-1)))","v":""}]
[null,null,null,null,null,{"$f":"IF(B2872=\"\",\"\",IF(C2872=\"\",F2871,IF(E2872=\"\",F2871,E2872/MAX($E$9:E2872)-1)))","v":""}]
[null,null,null,null,null,{"$f":"IF(B2873=\"\",\"\",IF(C2873=\"\",F2872,IF(E2873=\"\",F2872,E2873/MAX($E$9:E2873)-1)))","v":""}]
[null,null,null,null,null,{"$f":"IF(B2874=\"\",\"\",IF(C2874=\"\",F2873,IF(E2874=\"\",F2873,E2874/MAX($E$9:E2874)-1)))","v":""}]
[null,null,null,null,null,{"$f":"IF(B2875=\"\",\"\",IF(C2875=\"\",F2874,IF(E2875=\"\",F2874,E2875/MAX($E$9:E2875)-1)))","v":""}]
[null,null,null,null,null,{"$f":"IF(B2876=\"\",\"\",IF(C2876=\"\",F2875,IF(E2876=\"\",F2875,E2876/MAX($E$9:E2876)-1)))","v":""}]
[null,null,null,null,null,{"$f":"IF(B2877=\"\",\"\",IF(C2877=\"\",F2876,IF(E2877=\"\",F2876,E2877/MAX($E$9:E2877)-1)))","v":""}]
[null,null,null,null,null,{"$f":"IF(B2878=\"\",\"\",IF(C2878=\"\",F2877,IF(E2878=\"\",F2877,E2878/MAX($E$9:E2878)-1)))","v":""}]
[null,null,null,null,null,{"$f":"IF(B2879=\"\",\"\",IF(C2879=\"\",F2878,IF(E2879=\"\",F2878,E2879/MAX($E$9:E2879)-1)))","v":""}]
[null,null,null,null,null,{"$f":"IF(B2880=\"\",\"\",IF(C2880=\"\",F2879,IF(E2880=\"\",F2879,E2880/MAX($E$9:E2880)-1)))","v":""}]
[null,null,null,null,null,{"$f":"IF(B2881=\"\",\"\",IF(C2881=\"\",F2880,IF(E2881=\"\",F2880,E2881/MAX($E$9:E2881)-1)))","v":""}]
[null,null,null,null,null,{"$f":"IF(B2882=\"\",\"\",IF(C2882=\"\",F2881,IF(E2882=\"\",F2881,E2882/MAX($E$9:E2882)-1)))","v":""}]
[null,null,null,null,null,{"$f":"IF(B2883=\"\",\"\",IF(C2883=\"\",F2882,IF(E2883=\"\",F2882,E2883/MAX($E$9:E2883)-1)))","v":""}]
[null,null,null,null,null,{"$f":"IF(B2884=\"\",\"\",IF(C2884=\"\",F2883,IF(E2884=\"\",F2883,E2884/MAX($E$9:E2884)-1)))","v":""}]
[null,null,null,null,null,{"$f":"IF(B2885=\"\",\"\",IF(C2885=\"\",F2884,IF(E2885=\"\",F2884,E2885/MAX($E$9:E2885)-1)))","v":""}]
[null,null,null,null,null,{"$f":"IF(B2886=\"\",\"\",IF(C2886=\"\",F2885,IF(E2886=\"\",F2885,E2886/MAX($E$9:E2886)-1)))","v":""}]
[null,null,null,null,null,{"$f":"IF(B2887=\"\",\"\",IF(C2887=\"\",F2886,IF(E2887=\"\",F2886,E2887/MAX($E$9:E2887)-1)))","v":""}]
[null,null,null,null,null,{"$f":"IF(B2888=\"\",\"\",IF(C2888=\"\",F2887,IF(E2888=\"\",F2887,E2888/MAX($E$9:E2888)-1)))","v":""}]
[null,null,null,null,null,{"$f":"IF(B2889=\"\",\"\",IF(C2889=\"\",F2888,IF(E2889=\"\",F2888,E2889/MAX($E$9:E2889)-1)))","v":""}]
[null,null,null,null,null,{"$f":"IF(B2890=\"\",\"\",IF(C2890=\"\",F2889,IF(E2890=\"\",F2889,E2890/MAX($E$9:E2890)-1)))","v":""}]
[null,null,null,null,null,{"$f":"IF(B2891=\"\",\"\",IF(C2891=\"\",F2890,IF(E2891=\"\",F2890,E2891/MAX($E$9:E2891)-1)))","v":""}]
[null,null,null,null,null,{"$f":"IF(B2892=\"\",\"\",IF(C2892=\"\",F2891,IF(E2892=\"\",F2891,E2892/MAX($E$9:E2892)-1)))","v":""}]
[null,null,null,null,null,{"$f":"IF(B2893=\"\",\"\",IF(C2893=\"\",F2892,IF(E2893=\"\",F2892,E2893/MAX($E$9:E2893)-1)))","v":""}]
[null,null,null,null,null,{"$f":"IF(B2894=\"\",\"\",IF(C2894=\"\",F2893,IF(E2894=\"\",F2893,E2894/MAX($E$9:E2894)-1)))","v":""}]
[null,null,null,null,null,{"$f":"IF(B2895=\"\",\"\",IF(C2895=\"\",F2894,IF(E2895=\"\",F2894,E2895/MAX($E$9:E2895)-1)))","v":""}]
[null,null,null,null,null,{"$f":"IF(B2896=\"\",\"\",IF(C2896=\"\",F2895,IF(E2896=\"\",F2895,E2896/MAX($E$9:E2896)-1)))","v":""}]
[null,null,null,null,null,{"$f":"IF(B2897=\"\",\"\",IF(C2897=\"\",F2896,IF(E2897=\"\",F2896,E2897/MAX($E$9:E2897)-1)))","v":""}]
[null,null,null,null,null,{"$f":"IF(B2898=\"\",\"\",IF(C2898=\"\",F2897,IF(E2898=\"\",F2897,E2898/MAX($E$9:E2898)-1)))","v":""}]
[null,null,null,null,null,{"$f":"IF(B2899=\"\",\"\",IF(C2899=\"\",F2898,IF(E2899=\"\",F2898,E2899/MAX($E$9:E2899)-1)))","v":""}]
[null,null,null,null,null,{"$f":"IF(B2900=\"\",\"\",IF(C2900=\"\",F2899,IF(E2900=\"\",F2899,E2900/MAX($E$9:E2900)-1)))","v":""}]
[null,null,null,null,null,{"$f":"IF(B2901=\"\",\"\",IF(C2901=\"\",F2900,IF(E2901=\"\",F2900,E2901/MAX($E$9:E2901)-1)))","v":""}]
[null,null,null,null,null,{"$f":"IF(B2902=\"\",\"\",IF(C2902=\"\",F2901,IF(E2902=\"\",F2901,E2902/MAX($E$9:E2902)-1)))","v":""}]
[null,null,null,null,null,{"$f":"IF(B2903=\"\",\"\",IF(C2903=\"\",F2902,IF(E2903=\"\",F2902,E2903/MAX($E$9:E2903)-1)))","v":""}]
[null,null,null,null,null,{"$f":"IF(B2904=\"\",\"\",IF(C2904=\"\",F2903,IF(E2904=\"\",F2903,E2904/MAX($E$9:E2904)-1)))","v":""}]
[null,null,null,null,null,{"$f":"IF(B2905=\"\",\"\",IF(C2905=\"\",F2904,IF(E2905=\"\",F2904,E2905/MAX($E$9:E2905)-1)))","v":""}]
[null,null,null,null,null,{"$f":"IF(B2906=\"\",\"\",IF(C2906=\"\",F2905,IF(E2906=\"\",F2905,E2906/MAX($E$9:E2906)-1)))","v":""}]
[null,null,null,null,null,{"$f":"IF(B2907=\"\",\"\",IF(C2907=\"\",F2906,IF(E2907=\"\",F2906,E2907/MAX($E$9:E2907)-1)))","v":""}]
[null,null,null,null,null,{"$f":"IF(B2908=\"\",\"\",IF(C2908=\"\",F2907,IF(E2908=\"\",F2907,E2908/MAX($E$9:E2908)-1)))","v":""}]
[null,null,null,null,null,{"$f":"IF(B2909=\"\",\"\",IF(C2909=\"\",F2908,IF(E2909=\"\",F2908,E2909/MAX($E$9:E2909)-1)))","v":""}]
[null,null,null,null,null,{"$f":"IF(B2910=\"\",\"\",IF(C2910=\"\",F2909,IF(E2910=\"\",F2909,E2910/MAX($E$9:E2910)-1)))","v":""}]
[null,null,null,null,null,{"$f":"IF(B2911=\"\",\"\",IF(C2911=\"\",F2910,IF(E2911=\"\",F2910,E2911/MAX($E$9:E2911)-1)))","v":""}]
[null,null,null,null,null,{"$f":"IF(B2912=\"\",\"\",IF(C2912=\"\",F2911,IF(E2912=\"\",F2911,E2912/MAX($E$9:E2912)-1)))","v":""}]
[null,null,null,null,null,{"$f":"IF(B2913=\"\",\"\",IF(C2913=\"\",F2912,IF(E2913=\"\",F2912,E2913/MAX($E$9:E2913)-1)))","v":""}]
[null,null,null,null,null,{"$f":"IF(B2914=\"\",\"\",IF(C2914=\"\",F2913,IF(E2914=\"\",F2913,E2914/MAX($E$9:E2914)-1)))","v":""}]
[null,null,null,null,null,{"$f":"IF(B2915=\"\",\"\",IF(C2915=\"\",F2914,IF(E2915=\"\",F2914,E2915/MAX($E$9:E2915)-1)))","v":""}]
[null,null,null,null,null,{"$f":"IF(B2916=\"\",\"\",IF(C2916=\"\",F2915,IF(E2916=\"\",F2915,E2916/MAX($E$9:E2916)-1)))","v":""}]
[null,null,null,null,null,{"$f":"IF(B2917=\"\",\"\",IF(C2917=\"\",F2916,IF(E2917=\"\",F2916,E2917/MAX($E$9:E2917)-1)))","v":""}]
[null,null,null,null,null,{"$f":"IF(B2918=\"\",\"\",IF(C2918=\"\",F2917,IF(E2918=\"\",F2917,E2918/MAX($E$9:E2918)-1)))","v":""}]
[null,null,null,null,null,{"$f":"IF(B2919=\"\",\"\",IF(C2919=\"\",F2918,IF(E2919=\"\",F2918,E2919/MAX($E$9:E2919)-1)))","v":""}]
[null,null,null,null,null,{"$f":"IF(B2920=\"\",\"\",IF(C2920=\"\",F2919,IF(E2920=\"\",F2919,E2920/MAX($E$9:E2920)-1)))","v":""}]
[null,null,null,null,null,{"$f":"IF(B2921=\"\",\"\",IF(C2921=\"\",F2920,IF(E2921=\"\",F2920,E2921/MAX($E$9:E2921)-1)))","v":""}]
[null,null,null,null,null,{"$f":"IF(B2922=\"\",\"\",IF(C2922=\"\",F2921,IF(E2922=\"\",F2921,E2922/MAX($E$9:E2922)-1)))","v":""}]
[null,null,null,null,null,{"$f":"IF(B2923=\"\",\"\",IF(C2923=\"\",F2922,IF(E2923=\"\",F2922,E2923/MAX($E$9:E2923)-1)))","v":""}]
[null,null,null,null,null,{"$f":"IF(B2924=\"\",\"\",IF(C2924=\"\",F2923,IF(E2924=\"\",F2923,E2924/MAX($E$9:E2924)-1)))","v":""}]
[null,null,null,null,null,{"$f":"IF(B2925=\"\",\"\",IF(C2925=\"\",F2924,IF(E2925=\"\",F2924,E2925/MAX($E$9:E2925)-1)))","v":""}]
[null,null,null,null,null,{"$f":"IF(B2926=\"\",\"\",IF(C2926=\"\",F2925,IF(E2926=\"\",F2925,E2926/MAX($E$9:E2926)-1)))","v":""}]
[null,null,null,null,null,{"$f":"IF(B2927=\"\",\"\",IF(C2927=\"\",F2926,IF(E2927=\"\",F2926,E2927/MAX($E$9:E2927)-1)))","v":""}]
[null,null,null,null,null,{"$f":"IF(B2928=\"\",\"\",IF(C2928=\"\",F2927,IF(E2928=\"\",F2927,E2928/MAX($E$9:E2928)-1)))","v":""}]
[null,null,null,null,null,{"$f":"IF(B2929=\"\",\"\",IF(C2929=\"\",F2928,IF(E2929=\"\",F2928,E2929/MAX($E$9:E2929)-1)))","v":""}]
[null,null,null,null,null,{"$f":"IF(B2930=\"\",\"\",IF(C2930=\"\",F2929,IF(E2930=\"\",F2929,E2930/MAX($E$9:E2930)-1)))","v":""}]
[null,null,null,null,null,{"$f":"IF(B2931=\"\",\"\",IF(C2931=\"\",F2930,IF(E2931=\"\",F2930,E2931/MAX($E$9:E2931)-1)))","v":""}]
[null,null,null,null,null,{"$f":"IF(B2932=\"\",\"\",IF(C2932=\"\",F2931,IF(E2932=\"\",F2931,E2932/MAX($E$9:E2932)-1)))","v":""}]
[null,null,null,null,null,{"$f":"IF(B2933=\"\",\"\",IF(C2933=\"\",F2932,IF(E2933=\"\",F2932,E2933/MAX($E$9:E2933)-1)))","v":""}]
[null,null,null,null,null,{"$f":"IF(B2934=\"\",\"\",IF(C2934=\"\",F2933,IF(E2934=\"\",F2933,E2934/MAX($E$9:E2934)-1)))","v":""}]
[null,null,null,null,null,{"$f":"IF(B2935=\"\",\"\",IF(C2935=\"\",F2934,IF(E2935=\"\",F2934,E2935/MAX($E$9:E2935)-1)))","v":""}]
[null,null,null,null,null,{"$f":"IF(B2936=\"\",\"\",IF(C2936=\"\",F2935,IF(E2936=\"\",F2935,E2936/MAX($E$9:E2936)-1)))","v":""}]
[null,null,null,null,null,{"$f":"IF(B2937=\"\",\"\",IF(C2937=\"\",F2936,IF(E2937=\"\",F2936,E2937/MAX($E$9:E2937)-1)))","v":""}]
[null,null,null,null,null,{"$f":"IF(B2938=\"\",\"\",IF(C2938=\"\",F2937,IF(E2938=\"\",F2937,E2938/MAX($E$9:E2938)-1)))","v":""}]
[null,null,null,null,null,{"$f":"IF(B2939=\"\",\"\",IF(C2939=\"\",F2938,IF(E2939=\"\",F2938,E2939/MAX($E$9:E2939)-1)))","v":""}]
[null,null,null,null,null,{"$f":"IF(B2940=\"\",\"\",IF(C2940=\"\",F2939,IF(E2940=\"\",F2939,E2940/MAX($E$9:E2940)-1)))","v":""}]
[null,null,null,null,null,{"$f":"IF(B2941=\"\",\"\",IF(C2941=\"\",F2940,IF(E2941=\"\",F2940,E2941/MAX($E$9:E2941)-1)))","v":""}]
[null,null,null,null,null,{"$f":"IF(B2942=\"\",\"\",IF(C2942=\"\",F2941,IF(E2942=\"\",F2941,E2942/MAX($E$9:E2942)-1)))","v":""}]
[null,null,null,null,null,{"$f":"IF(B2943=\"\",\"\",IF(C2943=\"\",F2942,IF(E2943=\"\",F2942,E2943/MAX($E$9:E2943)-1)))","v":""}]
[null,null,null,null,null,{"$f":"IF(B2944=\"\",\"\",IF(C2944=\"\",F2943,IF(E2944=\"\",F2943,E2944/MAX($E$9:E2944)-1)))","v":""}]
[null,null,null,null,null,{"$f":"IF(B2945=\"\",\"\",IF(C2945=\"\",F2944,IF(E2945=\"\",F2944,E2945/MAX($E$9:E2945)-1)))","v":""}]
[null,null,null,null,null,{"$f":"IF(B2946=\"\",\"\",IF(C2946=\"\",F2945,IF(E2946=\"\",F2945,E2946/MAX($E$9:E2946)-1)))","v":""}]
[null,null,null,null,null,{"$f":"IF(B2947=\"\",\"\",IF(C2947=\"\",F2946,IF(E2947=\"\",F2946,E2947/MAX($E$9:E2947)-1)))","v":""}]
[null,null,null,null,null,{"$f":"IF(B2948=\"\",\"\",IF(C2948=\"\",F2947,IF(E2948=\"\",F2947,E2948/MAX($E$9:E2948)-1)))","v":""}]
[null,null,null,null,null,{"$f":"IF(B2949=\"\",\"\",IF(C2949=\"\",F2948,IF(E2949=\"\",F2948,E2949/MAX($E$9:E2949)-1)))","v":""}]
[null,null,null,null,null,{"$f":"IF(B2950=\"\",\"\",IF(C2950=\"\",F2949,IF(E2950=\"\",F2949,E2950/MAX($E$9:E2950)-1)))","v":""}]
[null,null,null,null,null,{"$f":"IF(B2951=\"\",\"\",IF(C2951=\"\",F2950,IF(E2951=\"\",F2950,E2951/MAX($E$9:E2951)-1)))","v":""}]
[null,null,null,null,null,{"$f":"IF(B2952=\"\",\"\",IF(C2952=\"\",F2951,IF(E2952=\"\",F2951,E2952/MAX($E$9:E2952)-1)))","v":""}]
[null,null,null,null,null,{"$f":"IF(B2953=\"\",\"\",IF(C2953=\"\",F2952,IF(E2953=\"\",F2952,E2953/MAX($E$9:E2953)-1)))","v":""}]
[null,null,null,null,null,{"$f":"IF(B2954=\"\",\"\",IF(C2954=\"\",F2953,IF(E2954=\"\",F2953,E2954/MAX($E$9:E2954)-1)))","v":""}]
[null,null,null,null,null,{"$f":"IF(B2955=\"\",\"\",IF(C2955=\"\",F2954,IF(E2955=\"\",F2954,E2955/MAX($E$9:E2955)-1)))","v":""}]
[null,null,null,null,null,{"$f":"IF(B2956=\"\",\"\",IF(C2956=\"\",F2955,IF(E2956=\"\",F2955,E2956/MAX($E$9:E2956)-1)))","v":""}]
[null,null,null,null,null,{"$f":"IF(B2957=\"\",\"\",IF(C2957=\"\",F2956,IF(E2957=\"\",F2956,E2957/MAX($E$9:E2957)-1)))","v":""}]
[null,null,null,null,null,{"$f":"IF(B2958=\"\",\"\",IF(C2958=\"\",F2957,IF(E2958=\"\",F2957,E2958/MAX($E$9:E2958)-1)))","v":""}]
[null,null,null,null,null,{"$f":"IF(B2959=\"\",\"\",IF(C2959=\"\",F2958,IF(E2959=\"\",F2958,E2959/MAX($E$9:E2959)-1)))","v":""}]
[null,null,null,null,null,{"$f":"IF(B2960=\"\",\"\",IF(C2960=\"\",F2959,IF(E2960=\"\",F2959,E2960/MAX($E$9:E2960)-1)))","v":""}]
[null,null,null,null,null,{"$f":"IF(B2961=\"\",\"\",IF(C2961=\"\",F2960,IF(E2961=\"\",F2960,E2961/MAX($E$9:E2961)-1)))","v":""}]
[null,null,null,null,null,{"$f":"IF(B2962=\"\",\"\",IF(C2962=\"\",F2961,IF(E2962=\"\",F2961,E2962/MAX($E$9:E2962)-1)))","v":""}]
[null,null,null,null,null,{"$f":"IF(B2963=\"\",\"\",IF(C2963=\"\",F2962,IF(E2963=\"\",F2962,E2963/MAX($E$9:E2963)-1)))","v":""}]
[null,null,null,null,null,{"$f":"IF(B2964=\"\",\"\",IF(C2964=\"\",F2963,IF(E2964=\"\",F2963,E2964/MAX($E$9:E2964)-1)))","v":""}]
[null,null,null,null,null,{"$f":"IF(B2965=\"\",\"\",IF(C2965=\"\",F2964,IF(E2965=\"\",F2964,E2965/MAX($E$9:E2965)-1)))","v":""}]
[null,null,null,null,null,{"$f":"IF(B2966=\"\",\"\",IF(C2966=\"\",F2965,IF(E2966=\"\",F2965,E2966/MAX($E$9:E2966)-1)))","v":""}]
[null,null,null,null,null,{"$f":"IF(B2967=\"\",\"\",IF(C2967=\"\",F2966,IF(E2967=\"\",F2966,E2967/MAX($E$9:E2967)-1)))","v":""}]
[null,null,null,null,null,{"$f":"IF(B2968=\"\",\"\",IF(C2968=\"\",F2967,IF(E2968=\"\",F2967,E2968/MAX($E$9:E2968)-1)))","v":""}]
[null,null,null,null,null,{"$f":"IF(B2969=\"\",\"\",IF(C2969=\"\",F2968,IF(E2969=\"\",F2968,E2969/MAX($E$9:E2969)-1)))","v":""}]
[null,null,null,null,null,{"$f":"IF(B2970=\"\",\"\",IF(C2970=\"\",F2969,IF(E2970=\"\",F2969,E2970/MAX($E$9:E2970)-1)))","v":""}]
[null,null,null,null,null,{"$f":"IF(B2971=\"\",\"\",IF(C2971=\"\",F2970,IF(E2971=\"\",F2970,E2971/MAX($E$9:E2971)-1)))","v":""}]
[null,null,null,null,null,{"$f":"IF(B2972=\"\",\"\",IF(C2972=\"\",F2971,IF(E2972=\"\",F2971,E2972/MAX($E$9:E2972)-1)))","v":""}]
[null,null,null,null,null,{"$f":"IF(B2973=\"\",\"\",IF(C2973=\"\",F2972,IF(E2973=\"\",F2972,E2973/MAX($E$9:E2973)-1)))","v":""}]
[null,null,null,null,null,{"$f":"IF(B2974=\"\",\"\",IF(C2974=\"\",F2973,IF(E2974=\"\",F2973,E2974/MAX($E$9:E2974)-1)))","v":""}]
[null,null,null,null,null,{"$f":"IF(B2975=\"\",\"\",IF(C2975=\"\",F2974,IF(E2975=\"\",F2974,E2975/MAX($E$9:E2975)-1)))","v":""}]
[null,null,null,null,null,{"$f":"IF(B2976=\"\",\"\",IF(C2976=\"\",F2975,IF(E2976=\"\",F2975,E2976/MAX($E$9:E2976)-1)))","v":""}]
[null,null,null,null,null,{"$f":"IF(B2977=\"\",\"\",IF(C2977=\"\",F2976,IF(E2977=\"\",F2976,E2977/MAX($E$9:E2977)-1)))","v":""}]
[null,null,null,null,null,{"$f":"IF(B2978=\"\",\"\",IF(C2978=\"\",F2977,IF(E2978=\"\",F2977,E2978/MAX($E$9:E2978)-1)))","v":""}]
[null,null,null,null,null,{"$f":"IF(B2979=\"\",\"\",IF(C2979=\"\",F2978,IF(E2979=\"\",F2978,E2979/MAX($E$9:E2979)-1)))","v":""}]
[null,null,null,null,null,{"$f":"IF(B2980=\"\",\"\",IF(C2980=\"\",F2979,IF(E2980=\"\",F2979,E2980/MAX($E$9:E2980)-1)))","v":""}]
[null,null,null,null,null,{"$f":"IF(B2981=\"\",\"\",IF(C2981=\"\",F2980,IF(E2981=\"\",F2980,E2981/MAX($E$9:E2981)-1)))","v":""}]
[null,null,null,null,null,{"$f":"IF(B2982=\"\",\"\",IF(C2982=\"\",F2981,IF(E2982=\"\",F2981,E2982/MAX($E$9:E2982)-1)))","v":""}]
[null,null,null,null,null,{"$f":"IF(B2983=\"\",\"\",IF(C2983=\"\",F2982,IF(E2983=\"\",F2982,E2983/MAX($E$9:E2983)-1)))","v":""}]
[null,null,null,null,null,{"$f":"IF(B2984=\"\",\"\",IF(C2984=\"\",F2983,IF(E2984=\"\",F2983,E2984/MAX($E$9:E2984)-1)))","v":""}]
[null,null,null,null,null,{"$f":"IF(B2985=\"\",\"\",IF(C2985=\"\",F2984,IF(E2985=\"\",F2984,E2985/MAX($E$9:E2985)-1)))","v":""}]
[null,null,null,null,null,{"$f":"IF(B2986=\"\",\"\",IF(C2986=\"\",F2985,IF(E2986=\"\",F2985,E2986/MAX($E$9:E2986)-1)))","v":""}]
[null,null,null,null,null,{"$f":"IF(B2987=\"\",\"\",IF(C2987=\"\",F2986,IF(E2987=\"\",F2986,E2987/MAX($E$9:E2987)-1)))","v":""}]
[null,null,null,null,null,{"$f":"IF(B2988=\"\",\"\",IF(C2988=\"\",F2987,IF(E2988=\"\",F2987,E2988/MAX($E$9:E2988)-1)))","v":""}]
[null,null,null,null,null,{"$f":"IF(B2989=\"\",\"\",IF(C2989=\"\",F2988,IF(E2989=\"\",F2988,E2989/MAX($E$9:E2989)-1)))","v":""}]
[null,null,null,null,null,{"$f":"IF(B2990=\"\",\"\",IF(C2990=\"\",F2989,IF(E2990=\"\",F2989,E2990/MAX($E$9:E2990)-1)))","v":""}]
[null,null,null,null,null,{"$f":"IF(B2991=\"\",\"\",IF(C2991=\"\",F2990,IF(E2991=\"\",F2990,E2991/MAX($E$9:E2991)-1)))","v":""}]
[null,null,null,null,null,{"$f":"IF(B2992=\"\",\"\",IF(C2992=\"\",F2991,IF(E2992=\"\",F2991,E2992/MAX($E$9:E2992)-1)))","v":""}]
[null,null,null,null,null,{"$f":"IF(B2993=\"\",\"\",IF(C2993=\"\",F2992,IF(E2993=\"\",F2992,E2993/MAX($E$9:E2993)-1)))","v":""}]
[null,null,null,null,null,{"$f":"IF(B2994=\"\",\"\",IF(C2994=\"\",F2993,IF(E2994=\"\",F2993,E2994/MAX($E$9:E2994)-1)))","v":""}]
[null,null,null,null,null,{"$f":"IF(B2995=\"\",\"\",IF(C2995=\"\",F2994,IF(E2995=\"\",F2994,E2995/MAX($E$9:E2995)-1)))","v":""}]
[null,null,null,null,null,{"$f":"IF(B2996=\"\",\"\",IF(C2996=\"\",F2995,IF(E2996=\"\",F2995,E2996/MAX($E$9:E2996)-1)))","v":""}]
[null,null,null,null,null,{"$f":"IF(B2997=\"\",\"\",IF(C2997=\"\",F2996,IF(E2997=\"\",F2996,E2997/MAX($E$9:E2997)-1)))","v":""}]
[null,null,null,null,null,{"$f":"IF(B2998=\"\",\"\",IF(C2998=\"\",F2997,IF(E2998=\"\",F2997,E2998/MAX($E$9:E2998)-1)))","v":""}]
[null,null,null,null,null,{"$f":"IF(B2999=\"\",\"\",IF(C2999=\"\",F2998,IF(E2999=\"\",F2998,E2999/MAX($E$9:E2999)-1)))","v":""}]
[null,null,null,null,null,{"$f":"IF(B3000=\"\",\"\",IF(C3000=\"\",F2999,IF(E3000=\"\",F2999,E3000/MAX($E$9:E3000)-1)))","v":""}]
[null,null,null,null,null,{"$f":"IF(B3001=\"\",\"\",IF(C3001=\"\",F3000,IF(E3001=\"\",F3000,E3001/MAX($E$9:E3001)-1)))","v":""}]
[null,null,null,null,null,{"$f":"IF(B3002=\"\",\"\",IF(C3002=\"\",F3001,IF(E3002=\"\",F3001,E3002/MAX($E$9:E3002)-1)))","v":""}]
[null,null,null,null,null,{"$f":"IF(B3003=\"\",\"\",IF(C3003=\"\",F3002,IF(E3003=\"\",F3002,E3003/MAX($E$9:E3003)-1)))","v":""}]
[null,null,null,null,null,{"$f":"IF(B3004=\"\",\"\",IF(C3004=\"\",F3003,IF(E3004=\"\",F3003,E3004/MAX($E$9:E3004)-1)))","v":""}]
[null,null,null,null,null,{"$f":"IF(B3005=\"\",\"\",IF(C3005=\"\",F3004,IF(E3005=\"\",F3004,E3005/MAX($E$9:E3005)-1)))","v":""}]
[null,null,null,null,null,{"$f":"IF(B3006=\"\",\"\",IF(C3006=\"\",F3005,IF(E3006=\"\",F3005,E3006/MAX($E$9:E3006)-1)))","v":""}]
[null,null,null,null,null,{"$f":"IF(B3007=\"\",\"\",IF(C3007=\"\",F3006,IF(E3007=\"\",F3006,E3007/MAX($E$9:E3007)-1)))","v":""}]
[null,null,null,null,null,{"$f":"IF(B3008=\"\",\"\",IF(C3008=\"\",F3007,IF(E3008=\"\",F3007,E3008/MAX($E$9:E3008)-1)))","v":""}]
[null,null,null,null,null,{"$f":"IF(B3009=\"\",\"\",IF(C3009=\"\",F3008,IF(E3009=\"\",F3008,E3009/MAX($E$9:E3009)-1)))","v":""}]
[null,null,null,null,null,{"$f":"IF(B3010=\"\",\"\",IF(C3010=\"\",F3009,IF(E3010=\"\",F3009,E3010/MAX($E$9:E3010)-1)))","v":""}]
[null,null,null,null,null,{"$f":"IF(B3011=\"\",\"\",IF(C3011=\"\",F3010,IF(E3011=\"\",F3010,E3011/MAX($E$9:E3011)-1)))","v":""}]
[null,null,null,null,null,{"$f":"IF(B3012=\"\",\"\",IF(C3012=\"\",F3011,IF(E3012=\"\",F3011,E3012/MAX($E$9:E3012)-1)))","v":""}]
[null,null,null,null,null,{"$f":"IF(B3013=\"\",\"\",IF(C3013=\"\",F3012,IF(E3013=\"\",F3012,E3013/MAX($E$9:E3013)-1)))","v":""}]
[null,null,null,null,null,{"$f":"IF(B3014=\"\",\"\",IF(C3014=\"\",F3013,IF(E3014=\"\",F3013,E3014/MAX($E$9:E3014)-1)))","v":""}]
[null,null,null,null,null,{"$f":"IF(B3015=\"\",\"\",IF(C3015=\"\",F3014,IF(E3015=\"\",F3014,E3015/MAX($E$9:E3015)-1)))","v":""}]
[null,null,null,null,null,{"$f":"IF(B3016=\"\",\"\",IF(C3016=\"\",F3015,IF(E3016=\"\",F3015,E3016/MAX($E$9:E3016)-1)))","v":""}]
[null,null,null,null,null,{"$f":"IF(B3017=\"\",\"\",IF(C3017=\"\",F3016,IF(E3017=\"\",F3016,E3017/MAX($E$9:E3017)-1)))","v":""}]
[null,null,null,null,null,{"$f":"IF(B3018=\"\",\"\",IF(C3018=\"\",F3017,IF(E3018=\"\",F3017,E3018/MAX($E$9:E3018)-1)))","v":""}]
[null,null,null,null,null,{"$f":"IF(B3019=\"\",\"\",IF(C3019=\"\",F3018,IF(E3019=\"\",F3018,E3019/MAX($E$9:E3019)-1)))","v":""}]
[null,null,null,null,null,{"$f":"IF(B3020=\"\",\"\",IF(C3020=\"\",F3019,IF(E3020=\"\",F3019,E3020/MAX($E$9:E3020)-1)))","v":""}]
[null,null,null,null,null,{"$f":"IF(B3021=\"\",\"\",IF(C3021=\"\",F3020,IF(E3021=\"\",F3020,E3021/MAX($E$9:E3021)-1)))","v":""}]
[null,null,null,null,null,{"$f":"IF(B3022=\"\",\"\",IF(C3022=\"\",F3021,IF(E3022=\"\",F3021,E3022/MAX($E$9:E3022)-1)))","v":""}]
[null,null,null,null,null,{"$f":"IF(B3023=\"\",\"\",IF(C3023=\"\",F3022,IF(E3023=\"\",F3022,E3023/MAX($E$9:E3023)-1)))","v":""}]
[null,null,null,null,null,{"$f":"IF(B3024=\"\",\"\",IF(C3024=\"\",F3023,IF(E3024=\"\",F3023,E3024/MAX($E$9:E3024)-1)))","v":""}]
[null,null,null,null,null,{"$f":"IF(B3025=\"\",\"\",IF(C3025=\"\",F3024,IF(E3025=\"\",F3024,E3025/MAX($E$9:E3025)-1)))","v":""}]
[null,null,null,null,null,{"$f":"IF(B3026=\"\",\"\",IF(C3026=\"\",F3025,IF(E3026=\"\",F3025,E3026/MAX($E$9:E3026)-1)))","v":""}]
[null,null,null,null,null,{"$f":"IF(B3027=\"\",\"\",IF(C3027=\"\",F3026,IF(E3027=\"\",F3026,E3027/MAX($E$9:E3027)-1)))","v":""}]
[null,null,null,null,null,{"$f":"IF(B3028=\"\",\"\",IF(C3028=\"\",F3027,IF(E3028=\"\",F3027,E3028/MAX($E$9:E3028)-1)))","v":""}]
[null,null,null,null,null,{"$f":"IF(B3029=\"\",\"\",IF(C3029=\"\",F3028,IF(E3029=\"\",F3028,E3029/MAX($E$9:E3029)-1)))","v":""}]
[null,null,null,null,null,{"$f":"IF(B3030=\"\",\"\",IF(C3030=\"\",F3029,IF(E3030=\"\",F3029,E3030/MAX($E$9:E3030)-1)))","v":""}]
[null,null,null,null,null,{"$f":"IF(B3031=\"\",\"\",IF(C3031=\"\",F3030,IF(E3031=\"\",F3030,E3031/MAX($E$9:E3031)-1)))","v":""}]
[null,null,null,null,null,{"$f":"IF(B3032=\"\",\"\",IF(C3032=\"\",F3031,IF(E3032=\"\",F3031,E3032/MAX($E$9:E3032)-1)))","v":""}]
[null,null,null,null,null,{"$f":"IF(B3033=\"\",\"\",IF(C3033=\"\",F3032,IF(E3033=\"\",F3032,E3033/MAX($E$9:E3033)-1)))","v":""}]
[null,null,null,null,null,{"$f":"IF(B3034=\"\",\"\",IF(C3034=\"\",F3033,IF(E3034=\"\",F3033,E3034/MAX($E$9:E3034)-1)))","v":""}]
[null,null,null,null,null,{"$f":"IF(B3035=\"\",\"\",IF(C3035=\"\",F3034,IF(E3035=\"\",F3034,E3035/MAX($E$9:E3035)-1)))","v":""}]
[null,null,null,null,null,{"$f":"IF(B3036=\"\",\"\",IF(C3036=\"\",F3035,IF(E3036=\"\",F3035,E3036/MAX($E$9:E3036)-1)))","v":""}]
[null,null,null,null,null,{"$f":"IF(B3037=\"\",\"\",IF(C3037=\"\",F3036,IF(E3037=\"\",F3036,E3037/MAX($E$9:E3037)-1)))","v":""}]
[null,null,null,null,null,{"$f":"IF(B3038=\"\",\"\",IF(C3038=\"\",F3037,IF(E3038=\"\",F3037,E3038/MAX($E$9:E3038)-1)))","v":""}]
[null,null,null,null,null,{"$f":"IF(B3039=\"\",\"\",IF(C3039=\"\",F3038,IF(E3039=\"\",F3038,E3039/MAX($E$9:E3039)-1)))","v":""}]
[null,null,null,null,null,{"$f":"IF(B3040=\"\",\"\",IF(C3040=\"\",F3039,IF(E3040=\"\",F3039,E3040/MAX($E$9:E3040)-1)))","v":""}]
[null,null,null,null,null,{"$f":"IF(B3041=\"\",\"\",IF(C3041=\"\",F3040,IF(E3041=\"\",F3040,E3041/MAX($E$9:E3041)-1)))","v":""}]
[null,null,null,null,null,{"$f":"IF(B3042=\"\",\"\",IF(C3042=\"\",F3041,IF(E3042=\"\",F3041,E3042/MAX($E$9:E3042)-1)))","v":""}]
[null,null,null,null,null,{"$f":"IF(B3043=\"\",\"\",IF(C3043=\"\",F3042,IF(E3043=\"\",F3042,E3043/MAX($E$9:E3043)-1)))","v":""}]
[null,null,null,null,null,{"$f":"IF(B3044=\"\",\"\",IF(C3044=\"\",F3043,IF(E3044=\"\",F3043,E3044/MAX($E$9:E3044)-1)))","v":""}]
[null,null,null,null,null,{"$f":"IF(B3045=\"\",\"\",IF(C3045=\"\",F3044,IF(E3045=\"\",F3044,E3045/MAX($E$9:E3045)-1)))","v":""}]
[null,null,null,null,null,{"$f":"IF(B3046=\"\",\"\",IF(C3046=\"\",F3045,IF(E3046=\"\",F3045,E3046/MAX($E$9:E3046)-1)))","v":""}]
[null,null,null,null,null,{"$f":"IF(B3047=\"\",\"\",IF(C3047=\"\",F3046,IF(E3047=\"\",F3046,E3047/MAX($E$9:E3047)-1)))","v":""}]
[null,null,null,null,null,{"$f":"IF(B3048=\"\",\"\",IF(C3048=\"\",F3047,IF(E3048=\"\",F3047,E3048/MAX($E$9:E3048)-1)))","v":""}]
[null,null,null,null,null,{"$f":"IF(B3049=\"\",\"\",IF(C3049=\"\",F3048,IF(E3049=\"\",F3048,E3049/MAX($E$9:E3049)-1)))","v":""}]
[null,null,null,null,null,{"$f":"IF(B3050=\"\",\"\",IF(C3050=\"\",F3049,IF(E3050=\"\",F3049,E3050/MAX($E$9:E3050)-1)))","v":""}]
[null,null,null,null,null,{"$f":"IF(B3051=\"\",\"\",IF(C3051=\"\",F3050,IF(E3051=\"\",F3050,E3051/MAX($E$9:E3051)-1)))","v":""}]
[null,null,null,null,null,{"$f":"IF(B3052=\"\",\"\",IF(C3052=\"\",F3051,IF(E3052=\"\",F3051,E3052/MAX($E$9:E3052)-1)))","v":""}]
[null,null,null,null,null,{"$f":"IF(B3053=\"\",\"\",IF(C3053=\"\",F3052,IF(E3053=\"\",F3052,E3053/MAX($E$9:E3053)-1)))","v":""}]
[null,null,null,null,null,{"$f":"IF(B3054=\"\",\"\",IF(C3054=\"\",F3053,IF(E3054=\"\",F3053,E3054/MAX($E$9:E3054)-1)))","v":""}]
[null,null,null,null,null,{"$f":"IF(B3055=\"\",\"\",IF(C3055=\"\",F3054,IF(E3055=\"\",F3054,E3055/MAX($E$9:E3055)-1)))","v":""}]
[null,null,null,null,null,{"$f":"IF(B3056=\"\",\"\",IF(C3056=\"\",F3055,IF(E3056=\"\",F3055,E3056/MAX($E$9:E3056)-1)))","v":""}]
[null,null,null,null,null,{"$f":"IF(B3057=\"\",\"\",IF(C3057=\"\",F3056,IF(E3057=\"\",F3056,E3057/MAX($E$9:E3057)-1)))","v":""}]
[null,null,null,null,null,{"$f":"IF(B3058=\"\",\"\",IF(C3058=\"\",F3057,IF(E3058=\"\",F3057,E3058/MAX($E$9:E3058)-1)))","v":""}]
[null,null,null,null,null,{"$f":"IF(B3059=\"\",\"\",IF(C3059=\"\",F3058,IF(E3059=\"\",F3058,E3059/MAX($E$9:E3059)-1)))","v":""}]
[null,null,null,null,null,{"$f":"IF(B3060=\"\",\"\",IF(C3060=\"\",F3059,IF(E3060=\"\",F3059,E3060/MAX($E$9:E3060)-1)))","v":""}]
[null,null,null,null,null,{"$f":"IF(B3061=\"\",\"\",IF(C3061=\"\",F3060,IF(E3061=\"\",F3060,E3061/MAX($E$9:E3061)-1)))","v":""}]
[null,null,null,null,null,{"$f":"IF(B3062=\"\",\"\",IF(C3062=\"\",F3061,IF(E3062=\"\",F3061,E3062/MAX($E$9:E3062)-1)))","v":""}]
[null,null,null,null,null,{"$f":"IF(B3063=\"\",\"\",IF(C3063=\"\",F3062,IF(E3063=\"\",F3062,E3063/MAX($E$9:E3063)-1)))","v":""}]
[null,null,null,null,null,{"$f":"IF(B3064=\"\",\"\",IF(C3064=\"\",F3063,IF(E3064=\"\",F3063,E3064/MAX($E$9:E3064)-1)))","v":""}]
[null,null,null,null,null,{"$f":"IF(B3065=\"\",\"\",IF(C3065=\"\",F3064,IF(E3065=\"\",F3064,E3065/MAX($E$9:E3065)-1)))","v":""}]
[null,null,null,null,null,{"$f":"IF(B3066=\"\",\"\",IF(C3066=\"\",F3065,IF(E3066=\"\",F3065,E3066/MAX($E$9:E3066)-1)))","v":""}]
[null,null,null,null,null,{"$f":"IF(B3067=\"\",\"\",IF(C3067=\"\",F3066,IF(E3067=\"\",F3066,E3067/MAX($E$9:E3067)-1)))","v":""}]
[null,null,null,null,null,{"$f":"IF(B3068=\"\",\"\",IF(C3068=\"\",F3067,IF(E3068=\"\",F3067,E3068/MAX($E$9:E3068)-1)))","v":""}]
[null,null,null,null,null,{"$f":"IF(B3069=\"\",\"\",IF(C3069=\"\",F3068,IF(E3069=\"\",F3068,E3069/MAX($E$9:E3069)-1)))","v":""}]
[null,null,null,null,null,{"$f":"IF(B3070=\"\",\"\",IF(C3070=\"\",F3069,IF(E3070=\"\",F3069,E3070/MAX($E$9:E3070)-1)))","v":""}]
[null,null,null,null,null,{"$f":"IF(B3071=\"\",\"\",IF(C3071=\"\",F3070,IF(E3071=\"\",F3070,E3071/MAX($E$9:E3071)-1)))","v":""}]
[null,null,null,null,null,{"$f":"IF(B3072=\"\",\"\",IF(C3072=\"\",F3071,IF(E3072=\"\",F3071,E3072/MAX($E$9:E3072)-1)))","v":""}]
[null,null,null,null,null,{"$f":"IF(B3073=\"\",\"\",IF(C3073=\"\",F3072,IF(E3073=\"\",F3072,E3073/MAX($E$9:E3073)-1)))","v":""}]
[null,null,null,null,null,{"$f":"IF(B3074=\"\",\"\",IF(C3074=\"\",F3073,IF(E3074=\"\",F3073,E3074/MAX($E$9:E3074)-1)))","v":""}]
[null,null,null,null,null,{"$f":"IF(B3075=\"\",\"\",IF(C3075=\"\",F3074,IF(E3075=\"\",F3074,E3075/MAX($E$9:E3075)-1)))","v":""}]
[null,null,null,null,null,{"$f":"IF(B3076=\"\",\"\",IF(C3076=\"\",F3075,IF(E3076=\"\",F3075,E3076/MAX($E$9:E3076)-1)))","v":""}]
[null,null,null,null,null,{"$f":"IF(B3077=\"\",\"\",IF(C3077=\"\",F3076,IF(E3077=\"\",F3076,E3077/MAX($E$9:E3077)-1)))","v":""}]
[null,null,null,null,null,{"$f":"IF(B3078=\"\",\"\",IF(C3078=\"\",F3077,IF(E3078=\"\",F3077,E3078/MAX($E$9:E3078)-1)))","v":""}]
[null,null,null,null,null,{"$f":"IF(B3079=\"\",\"\",IF(C3079=\"\",F3078,IF(E3079=\"\",F3078,E3079/MAX($E$9:E3079)-1)))","v":""}]
[null,null,null,null,null,{"$f":"IF(B3080=\"\",\"\",IF(C3080=\"\",F3079,IF(E3080=\"\",F3079,E3080/MAX($E$9:E3080)-1)))","v":""}]
[null,null,null,null,null,{"$f":"IF(B3081=\"\",\"\",IF(C3081=\"\",F3080,IF(E3081=\"\",F3080,E3081/MAX($E$9:E3081)-1)))","v":""}]
[null,null,null,null,null,{"$f":"IF(B3082=\"\",\"\",IF(C3082=\"\",F3081,IF(E3082=\"\",F3081,E3082/MAX($E$9:E3082)-1)))","v":""}]
[null,null,null,null,null,{"$f":"IF(B3083=\"\",\"\",IF(C3083=\"\",F3082,IF(E3083=\"\",F3082,E3083/MAX($E$9:E3083)-1)))","v":""}]
[null,null,null,null,null,{"$f":"IF(B3084=\"\",\"\",IF(C3084=\"\",F3083,IF(E3084=\"\",F3083,E3084/MAX($E$9:E3084)-1)))","v":""}]
[null,null,null,null,null,{"$f":"IF(B3085=\"\",\"\",IF(C3085=\"\",F3084,IF(E3085=\"\",F3084,E3085/MAX($E$9:E3085)-1)))","v":""}]
[null,null,null,null,null,{"$f":"IF(B3086=\"\",\"\",IF(C3086=\"\",F3085,IF(E3086=\"\",F3085,E3086/MAX($E$9:E3086)-1)))","v":""}]
[null,null,null,null,null,{"$f":"IF(B3087=\"\",\"\",IF(C3087=\"\",F3086,IF(E3087=\"\",F3086,E3087/MAX($E$9:E3087)-1)))","v":""}]
[null,null,null,null,null,{"$f":"IF(B3088=\"\",\"\",IF(C3088=\"\",F3087,IF(E3088=\"\",F3087,E3088/MAX($E$9:E3088)-1)))","v":""}]
[null,null,null,null,null,{"$f":"IF(B3089=\"\",\"\",IF(C3089=\"\",F3088,IF(E3089=\"\",F3088,E3089/MAX($E$9:E3089)-1)))","v":""}]
[null,null,null,null,null,{"$f":"IF(B3090=\"\",\"\",IF(C3090=\"\",F3089,IF(E3090=\"\",F3089,E3090/MAX($E$9:E3090)-1)))","v":""}]
[null,null,null,null,null,{"$f":"IF(B3091=\"\",\"\",IF(C3091=\"\",F3090,IF(E3091=\"\",F3090,E3091/MAX($E$9:E3091)-1)))","v":""}]
[null,null,null,null,null,{"$f":"IF(B3092=\"\",\"\",IF(C3092=\"\",F3091,IF(E3092=\"\",F3091,E3092/MAX($E$9:E3092)-1)))","v":""}]
[null,null,null,null,null,{"$f":"IF(B3093=\"\",\"\",IF(C3093=\"\",F3092,IF(E3093=\"\",F3092,E3093/MAX($E$9:E3093)-1)))","v":""}]
[null,null,null,null,null,{"$f":"IF(B3094=\"\",\"\",IF(C3094=\"\",F3093,IF(E3094=\"\",F3093,E3094/MAX($E$9:E3094)-1)))","v":""}]
[null,null,null,null,null,{"$f":"IF(B3095=\"\",\"\",IF(C3095=\"\",F3094,IF(E3095=\"\",F3094,E3095/MAX($E$9:E3095)-1)))","v":""}]
[null,null,null,null,null,{"$f":"IF(B3096=\"\",\"\",IF(C3096=\"\",F3095,IF(E3096=\"\",F3095,E3096/MAX($E$9:E3096)-1)))","v":""}]
[null,null,null,null,null,{"$f":"IF(B3097=\"\",\"\",IF(C3097=\"\",F3096,IF(E3097=\"\",F3096,E3097/MAX($E$9:E3097)-1)))","v":""}]
[null,null,null,null,null,{"$f":"IF(B3098=\"\",\"\",IF(C3098=\"\",F3097,IF(E3098=\"\",F3097,E3098/MAX($E$9:E3098)-1)))","v":""}]
[null,null,null,null,null,{"$f":"IF(B3099=\"\",\"\",IF(C3099=\"\",F3098,IF(E3099=\"\",F3098,E3099/MAX($E$9:E3099)-1)))","v":""}]
[null,null,null,null,null,{"$f":"IF(B3100=\"\",\"\",IF(C3100=\"\",F3099,IF(E3100=\"\",F3099,E3100/MAX($E$9:E3100)-1)))","v":""}]
[null,null,null,null,null,{"$f":"IF(B3101=\"\",\"\",IF(C3101=\"\",F3100,IF(E3101=\"\",F3100,E3101/MAX($E$9:E3101)-1)))","v":""}]
[null,null,null,null,null,{"$f":"IF(B3102=\"\",\"\",IF(C3102=\"\",F3101,IF(E3102=\"\",F3101,E3102/MAX($E$9:E3102)-1)))","v":""}]
[null,null,null,null,null,{"$f":"IF(B3103=\"\",\"\",IF(C3103=\"\",F3102,IF(E3103=\"\",F3102,E3103/MAX($E$9:E3103)-1)))","v":""}]
[null,null,null,null,null,{"$f":"IF(B3104=\"\",\"\",IF(C3104=\"\",F3103,IF(E3104=\"\",F3103,E3104/MAX($E$9:E3104)-1)))","v":""}]
[null,null,null,null,null,{"$f":"IF(B3105=\"\",\"\",IF(C3105=\"\",F3104,IF(E3105=\"\",F3104,E3105/MAX($E$9:E3105)-1)))","v":""}]
[null,null,null,null,null,{"$f":"IF(B3106=\"\",\"\",IF(C3106=\"\",F3105,IF(E3106=\"\",F3105,E3106/MAX($E$9:E3106)-1)))","v":""}]
[null,null,null,null,null,{"$f":"IF(B3107=\"\",\"\",IF(C3107=\"\",F3106,IF(E3107=\"\",F3106,E3107/MAX($E$9:E3107)-1)))","v":""}]
[null,null,null,null,null,{"$f":"IF(B3108=\"\",\"\",IF(C3108=\"\",F3107,IF(E3108=\"\",F3107,E3108/MAX($E$9:E3108)-1)))","v":""}]
[null,null,null,null,null,{"$f":"IF(B3109=\"\",\"\",IF(C3109=\"\",F3108,IF(E3109=\"\",F3108,E3109/MAX($E$9:E3109)-1)))","v":""}]
[null,null,null,null,null,{"$f":"IF(B3110=\"\",\"\",IF(C3110=\"\",F3109,IF(E3110=\"\",F3109,E3110/MAX($E$9:E3110)-1)))","v":""}]
[null,null,null,null,null,{"$f":"IF(B3111=\"\",\"\",IF(C3111=\"\",F3110,IF(E3111=\"\",F3110,E3111/MAX($E$9:E3111)-1)))","v":""}]
[null,null,null,null,null,{"$f":"IF(B3112=\"\",\"\",IF(C3112=\"\",F3111,IF(E3112=\"\",F3111,E3112/MAX($E$9:E3112)-1)))","v":""}]
[null,null,null,null,null,{"$f":"IF(B3113=\"\",\"\",IF(C3113=\"\",F3112,IF(E3113=\"\",F3112,E3113/MAX($E$9:E3113)-1)))","v":""}]
[null,null,null,null,null,{"$f":"IF(B3114=\"\",\"\",IF(C3114=\"\",F3113,IF(E3114=\"\",F3113,E3114/MAX($E$9:E3114)-1)))","v":""}]
[null,null,null,null,null,{"$f":"IF(B3115=\"\",\"\",IF(C3115=\"\",F3114,IF(E3115=\"\",F3114,E3115/MAX($E$9:E3115)-1)))","v":""}]
[null,null,null,null,null,{"$f":"IF(B3116=\"\",\"\",IF(C3116=\"\",F3115,IF(E3116=\"\",F3115,E3116/MAX($E$9:E3116)-1)))","v":""}]
[null,null,null,null,null,{"$f":"IF(B3117=\"\",\"\",IF(C3117=\"\",F3116,IF(E3117=\"\",F3116,E3117/MAX($E$9:E3117)-1)))","v":""}]
[null,null,null,null,null,{"$f":"IF(B3118=\"\",\"\",IF(C3118=\"\",F3117,IF(E3118=\"\",F3117,E3118/MAX($E$9:E3118)-1)))","v":""}]
[null,null,null,null,null,{"$f":"IF(B3119=\"\",\"\",IF(C3119=\"\",F3118,IF(E3119=\"\",F3118,E3119/MAX($E$9:E3119)-1)))","v":""}]
[null,null,null,null,null,{"$f":"IF(B3120=\"\",\"\",IF(C3120=\"\",F3119,IF(E3120=\"\",F3119,E3120/MAX($E$9:E3120)-1)))","v":""}]
[null,null,null,null,null,{"$f":"IF(B3121=\"\",\"\",IF(C3121=\"\",F3120,IF(E3121=\"\",F3120,E3121/MAX($E$9:E3121)-1)))","v":""}]
[null,null,null,null,null,{"$f":"IF(B3122=\"\",\"\",IF(C3122=\"\",F3121,IF(E3122=\"\",F3121,E3122/MAX($E$9:E3122)-1)))","v":""}]
[null,null,null,null,null,{"$f":"IF(B3123=\"\",\"\",IF(C3123=\"\",F3122,IF(E3123=\"\",F3122,E3123/MAX($E$9:E3123)-1)))","v":""}]
[null,null,null,null,null,{"$f":"IF(B3124=\"\",\"\",IF(C3124=\"\",F3123,IF(E3124=\"\",F3123,E3124/MAX($E$9:E3124)-1)))","v":""}]
[null,null,null,null,null,{"$f":"IF(B3125=\"\",\"\",IF(C3125=\"\",F3124,IF(E3125=\"\",F3124,E3125/MAX($E$9:E3125)-1)))","v":""}]
[null,null,null,null,null,{"$f":"IF(B3126=\"\",\"\",IF(C3126=\"\",F3125,IF(E3126=\"\",F3125,E3126/MAX($E$9:E3126)-1)))","v":""}]
[null,null,null,null,null,{"$f":"IF(B3127=\"\",\"\",IF(C3127=\"\",F3126,IF(E3127=\"\",F3126,E3127/MAX($E$9:E3127)-1)))","v":""}]
[null,null,null,null,null,{"$f":"IF(B3128=\"\",\"\",IF(C3128=\"\",F3127,IF(E3128=\"\",F3127,E3128/MAX($E$9:E3128)-1)))","v":""}]
[null,null,null,null,null,{"$f":"IF(B3129=\"\",\"\",IF(C3129=\"\",F3128,IF(E3129=\"\",F3128,E3129/MAX($E$9:E3129)-1)))","v":""}]
[null,null,null,null,null,{"$f":"IF(B3130=\"\",\"\",IF(C3130=\"\",F3129,IF(E3130=\"\",F3129,E3130/MAX($E$9:E3130)-1)))","v":""}]
[null,null,null,null,null,{"$f":"IF(B3131=\"\",\"\",IF(C3131=\"\",F3130,IF(E3131=\"\",F3130,E3131/MAX($E$9:E3131)-1)))","v":""}]
[null,null,null,null,null,{"$f":"IF(B3132=\"\",\"\",IF(C3132=\"\",F3131,IF(E3132=\"\",F3131,E3132/MAX($E$9:E3132)-1)))","v":""}]
[null,null,null,null,null,{"$f":"IF(B3133=\"\",\"\",IF(C3133=\"\",F3132,IF(E3133=\"\",F3132,E3133/MAX($E$9:E3133)-1)))","v":""}]
[null,null,null,null,null,{"$f":"IF(B3134=\"\",\"\",IF(C3134=\"\",F3133,IF(E3134=\"\",F3133,E3134/MAX($E$9:E3134)-1)))","v":""}]
[null,null,null,null,null,{"$f":"IF(B3135=\"\",\"\",IF(C3135=\"\",F3134,IF(E3135=\"\",F3134,E3135/MAX($E$9:E3135)-1)))","v":""}]
[null,null,null,null,null,{"$f":"IF(B3136=\"\",\"\",IF(C3136=\"\",F3135,IF(E3136=\"\",F3135,E3136/MAX($E$9:E3136)-1)))","v":""}]
[null,null,null,null,null,{"$f":"IF(B3137=\"\",\"\",IF(C3137=\"\",F3136,IF(E3137=\"\",F3136,E3137/MAX($E$9:E3137)-1)))","v":""}]
[null,null,null,null,null,{"$f":"IF(B3138=\"\",\"\",IF(C3138=\"\",F3137,IF(E3138=\"\",F3137,E3138/MAX($E$9:E3138)-1)))","v":""}]
[null,null,null,null,null,{"$f":"IF(B3139=\"\",\"\",IF(C3139=\"\",F3138,IF(E3139=\"\",F3138,E3139/MAX($E$9:E3139)-1)))","v":""}]
[null,null,null,null,null,{"$f":"IF(B3140=\"\",\"\",IF(C3140=\"\",F3139,IF(E3140=\"\",F3139,E3140/MAX($E$9:E3140)-1)))","v":""}]
[null,null,null,null,null,{"$f":"IF(B3141=\"\",\"\",IF(C3141=\"\",F3140,IF(E3141=\"\",F3140,E3141/MAX($E$9:E3141)-1)))","v":""}]
[null,null,null,null,null,{"$f":"IF(B3142=\"\",\"\",IF(C3142=\"\",F3141,IF(E3142=\"\",F3141,E3142/MAX($E$9:E3142)-1)))","v":""}]
[null,null,null,null,null,{"$f":"IF(B3143=\"\",\"\",IF(C3143=\"\",F3142,IF(E3143=\"\",F3142,E3143/MAX($E$9:E3143)-1)))","v":""}]
[null,null,null,null,null,{"$f":"IF(B3144=\"\",\"\",IF(C3144=\"\",F3143,IF(E3144=\"\",F3143,E3144/MAX($E$9:E3144)-1)))","v":""}]
[null,null,null,null,null,{"$f":"IF(B3145=\"\",\"\",IF(C3145=\"\",F3144,IF(E3145=\"\",F3144,E3145/MAX($E$9:E3145)-1)))","v":""}]
[null,null,null,null,null,{"$f":"IF(B3146=\"\",\"\",IF(C3146=\"\",F3145,IF(E3146=\"\",F3145,E3146/MAX($E$9:E3146)-1)))","v":""}]
[null,null,null,null,null,{"$f":"IF(B3147=\"\",\"\",IF(C3147=\"\",F3146,IF(E3147=\"\",F3146,E3147/MAX($E$9:E3147)-1)))","v":""}]
[null,null,null,null,null,{"$f":"IF(B3148=\"\",\"\",IF(C3148=\"\",F3147,IF(E3148=\"\",F3147,E3148/MAX($E$9:E3148)-1)))","v":""}]
[null,null,null,null,null,{"$f":"IF(B3149=\"\",\"\",IF(C3149=\"\",F3148,IF(E3149=\"\",F3148,E3149/MAX($E$9:E3149)-1)))","v":""}]
[null,null,null,null,null,{"$f":"IF(B3150=\"\",\"\",IF(C3150=\"\",F3149,IF(E3150=\"\",F3149,E3150/MAX($E$9:E3150)-1)))","v":""}]
[null,null,null,null,null,{"$f":"IF(B3151=\"\",\"\",IF(C3151=\"\",F3150,IF(E3151=\"\",F3150,E3151/MAX($E$9:E3151)-1)))","v":""}]
[null,null,null,null,null,{"$f":"IF(B3152=\"\",\"\",IF(C3152=\"\",F3151,IF(E3152=\"\",F3151,E3152/MAX($E$9:E3152)-1)))","v":""}]
[null,null,null,null,null,{"$f":"IF(B3153=\"\",\"\",IF(C3153=\"\",F3152,IF(E3153=\"\",F3152,E3153/MAX($E$9:E3153)-1)))","v":""}]
[null,null,null,null,null,{"$f":"IF(B3154=\"\",\"\",IF(C3154=\"\",F3153,IF(E3154=\"\",F3153,E3154/MAX($E$9:E3154)-1)))","v":""}]
[null,null,null,null,null,{"$f":"IF(B3155=\"\",\"\",IF(C3155=\"\",F3154,IF(E3155=\"\",F3154,E3155/MAX($E$9:E3155)-1)))","v":""}]
[null,null,null,null,null,{"$f":"IF(B3156=\"\",\"\",IF(C3156=\"\",F3155,IF(E3156=\"\",F3155,E3156/MAX($E$9:E3156)-1)))","v":""}]
[null,null,null,null,null,{"$f":"IF(B3157=\"\",\"\",IF(C3157=\"\",F3156,IF(E3157=\"\",F3156,E3157/MAX($E$9:E3157)-1)))","v":""}]
[null,null,null,null,null,{"$f":"IF(B3158=\"\",\"\",IF(C3158=\"\",F3157,IF(E3158=\"\",F3157,E3158/MAX($E$9:E3158)-1)))","v":""}]
[null,null,null,null,null,{"$f":"IF(B3159=\"\",\"\",IF(C3159=\"\",F3158,IF(E3159=\"\",F3158,E3159/MAX($E$9:E3159)-1)))","v":""}]
[null,null,null,null,null,{"$f":"IF(B3160=\"\",\"\",IF(C3160=\"\",F3159,IF(E3160=\"\",F3159,E3160/MAX($E$9:E3160)-1)))","v":""}]
[null,null,null,null,null,{"$f":"IF(B3161=\"\",\"\",IF(C3161=\"\",F3160,IF(E3161=\"\",F3160,E3161/MAX($E$9:E3161)-1)))","v":""}]
[null,null,null,null,null,{"$f":"IF(B3162=\"\",\"\",IF(C3162=\"\",F3161,IF(E3162=\"\",F3161,E3162/MAX($E$9:E3162)-1)))","v":""}]
[null,null,null,null,null,{"$f":"IF(B3163=\"\",\"\",IF(C3163=\"\",F3162,IF(E3163=\"\",F3162,E3163/MAX($E$9:E3163)-1)))","v":""}]
[null,null,null,null,null,{"$f":"IF(B3164=\"\",\"\",IF(C3164=\"\",F3163,IF(E3164=\"\",F3163,E3164/MAX($E$9:E3164)-1)))","v":""}]
[null,null,null,null,null,{"$f":"IF(B3165=\"\",\"\",IF(C3165=\"\",F3164,IF(E3165=\"\",F3164,E3165/MAX($E$9:E3165)-1)))","v":""}]
[null,null,null,null,null,{"$f":"IF(B3166=\"\",\"\",IF(C3166=\"\",F3165,IF(E3166=\"\",F3165,E3166/MAX($E$9:E3166)-1)))","v":""}]
[null,null,null,null,null,{"$f":"IF(B3167=\"\",\"\",IF(C3167=\"\",F3166,IF(E3167=\"\",F3166,E3167/MAX($E$9:E3167)-1)))","v":""}]
[null,null,null,null,null,{"$f":"IF(B3168=\"\",\"\",IF(C3168=\"\",F3167,IF(E3168=\"\",F3167,E3168/MAX($E$9:E3168)-1)))","v":""}]
[null,null,null,null,null,{"$f":"IF(B3169=\"\",\"\",IF(C3169=\"\",F3168,IF(E3169=\"\",F3168,E3169/MAX($E$9:E3169)-1)))","v":""}]
[null,null,null,null,null,{"$f":"IF(B3170=\"\",\"\",IF(C3170=\"\",F3169,IF(E3170=\"\",F3169,E3170/MAX($E$9:E3170)-1)))","v":""}]
[null,null,null,null,null,{"$f":"IF(B3171=\"\",\"\",IF(C3171=\"\",F3170,IF(E3171=\"\",F3170,E3171/MAX($E$9:E3171)-1)))","v":""}]
[null,null,null,null,null,{"$f":"IF(B3172=\"\",\"\",IF(C3172=\"\",F3171,IF(E3172=\"\",F3171,E3172/MAX($E$9:E3172)-1)))","v":""}]
[null,null,null,null,null,{"$f":"IF(B3173=\"\",\"\",IF(C3173=\"\",F3172,IF(E3173=\"\",F3172,E3173/MAX($E$9:E3173)-1)))","v":""}]
[null,null,null,null,null,{"$f":"IF(B3174=\"\",\"\",IF(C3174=\"\",F3173,IF(E3174=\"\",F3173,E3174/MAX($E$9:E3174)-1)))","v":""}]
[null,null,null,null,null,{"$f":"IF(B3175=\"\",\"\",IF(C3175=\"\",F3174,IF(E3175=\"\",F3174,E3175/MAX($E$9:E3175)-1)))","v":""}]
[null,null,null,null,null,{"$f":"IF(B3176=\"\",\"\",IF(C3176=\"\",F3175,IF(E3176=\"\",F3175,E3176/MAX($E$9:E3176)-1)))","v":""}]
[null,null,null,null,null,{"$f":"IF(B3177=\"\",\"\",IF(C3177=\"\",F3176,IF(E3177=\"\",F3176,E3177/MAX($E$9:E3177)-1)))","v":""}]
[null,null,null,null,null,{"$f":"IF(B3178=\"\",\"\",IF(C3178=\"\",F3177,IF(E3178=\"\",F3177,E3178/MAX($E$9:E3178)-1)))","v":""}]
[null,null,null,null,null,{"$f":"IF(B3179=\"\",\"\",IF(C3179=\"\",F3178,IF(E3179=\"\",F3178,E3179/MAX($E$9:E3179)-1)))","v":""}]
[null,null,null,null,null,{"$f":"IF(B3180=\"\",\"\",IF(C3180=\"\",F3179,IF(E3180=\"\",F3179,E3180/MAX($E$9:E3180)-1)))","v":""}]
[null,null,null,null,null,{"$f":"IF(B3181=\"\",\"\",IF(C3181=\"\",F3180,IF(E3181=\"\",F3180,E3181/MAX($E$9:E3181)-1)))","v":""}]
[null,null,null,null,null,{"$f":"IF(B3182=\"\",\"\",IF(C3182=\"\",F3181,IF(E3182=\"\",F3181,E3182/MAX($E$9:E3182)-1)))","v":""}]
[null,null,null,null,null,{"$f":"IF(B3183=\"\",\"\",IF(C3183=\"\",F3182,IF(E3183=\"\",F3182,E3183/MAX($E$9:E3183)-1)))","v":""}]
[null,null,null,null,null,{"$f":"IF(B3184=\"\",\"\",IF(C3184=\"\",F3183,IF(E3184=\"\",F3183,E3184/MAX($E$9:E3184)-1)))","v":""}]
[null,null,null,null,null,{"$f":"IF(B3185=\"\",\"\",IF(C3185=\"\",F3184,IF(E3185=\"\",F3184,E3185/MAX($E$9:E3185)-1)))","v":""}]
[null,null,null,null,null,{"$f":"IF(B3186=\"\",\"\",IF(C3186=\"\",F3185,IF(E3186=\"\",F3185,E3186/MAX($E$9:E3186)-1)))","v":""}]
[null,null,null,null,null,{"$f":"IF(B3187=\"\",\"\",IF(C3187=\"\",F3186,IF(E3187=\"\",F3186,E3187/MAX($E$9:E3187)-1)))","v":""}]
[null,null,null,null,null,{"$f":"IF(B3188=\"\",\"\",IF(C3188=\"\",F3187,IF(E3188=\"\",F3187,E3188/MAX($E$9:E3188)-1)))","v":""}]
[null,null,null,null,null,{"$f":"IF(B3189=\"\",\"\",IF(C3189=\"\",F3188,IF(E3189=\"\",F3188,E3189/MAX($E$9:E3189)-1)))","v":""}]
[null,null,null,null,null,{"$f":"IF(B3190=\"\",\"\",IF(C3190=\"\",F3189,IF(E3190=\"\",F3189,E3190/MAX($E$9:E3190)-1)))","v":""}]
[null,null,null,null,null,{"$f":"IF(B3191=\"\",\"\",IF(C3191=\"\",F3190,IF(E3191=\"\",F3190,E3191/MAX($E$9:E3191)-1)))","v":""}]
[null,null,null,null,null,{"$f":"IF(B3192=\"\",\"\",IF(C3192=\"\",F3191,IF(E3192=\"\",F3191,E3192/MAX($E$9:E3192)-1)))","v":""}]
[null,null,null,null,null,{"$f":"IF(B3193=\"\",\"\",IF(C3193=\"\",F3192,IF(E3193=\"\",F3192,E3193/MAX($E$9:E3193)-1)))","v":""}]
[null,null,null,null,null,{"$f":"IF(B3194=\"\",\"\",IF(C3194=\"\",F3193,IF(E3194=\"\",F3193,E3194/MAX($E$9:E3194)-1)))","v":""}]
[null,null,null,null,null,{"$f":"IF(B3195=\"\",\"\",IF(C3195=\"\",F3194,IF(E3195=\"\",F3194,E3195/MAX($E$9:E3195)-1)))","v":""}]
[null,null,null,null,null,{"$f":"IF(B3196=\"\",\"\",IF(C3196=\"\",F3195,IF(E3196=\"\",F3195,E3196/MAX($E$9:E3196)-1)))","v":""}]
[null,null,null,null,null,{"$f":"IF(B3197=\"\",\"\",IF(C3197=\"\",F3196,IF(E3197=\"\",F3196,E3197/MAX($E$9:E3197)-1)))","v":""}]
[null,null,null,null,null,{"$f":"IF(B3198=\"\",\"\",IF(C3198=\"\",F3197,IF(E3198=\"\",F3197,E3198/MAX($E$9:E3198)-1)))","v":""}]
[null,null,null,null,null,{"$f":"IF(B3199=\"\",\"\",IF(C3199=\"\",F3198,IF(E3199=\"\",F3198,E3199/MAX($E$9:E3199)-1)))","v":""}]
[null,null,null,null,null,{"$f":"IF(B3200=\"\",\"\",IF(C3200=\"\",F3199,IF(E3200=\"\",F3199,E3200/MAX($E$9:E3200)-1)))","v":""}]
[null,null,null,null,null,{"$f":"IF(B3201=\"\",\"\",IF(C3201=\"\",F3200,IF(E3201=\"\",F3200,E3201/MAX($E$9:E3201)-1)))","v":""}]
[null,null,null,null,null,{"$f":"IF(B3202=\"\",\"\",IF(C3202=\"\",F3201,IF(E3202=\"\",F3201,E3202/MAX($E$9:E3202)-1)))","v":""}]
[null,null,null,null,null,{"$f":"IF(B3203=\"\",\"\",IF(C3203=\"\",F3202,IF(E3203=\"\",F3202,E3203/MAX($E$9:E3203)-1)))","v":""}]
[null,null,null,null,null,{"$f":"IF(B3204=\"\",\"\",IF(C3204=\"\",F3203,IF(E3204=\"\",F3203,E3204/MAX($E$9:E3204)-1)))","v":""}]
[null,null,null,null,null,{"$f":"IF(B3205=\"\",\"\",IF(C3205=\"\",F3204,IF(E3205=\"\",F3204,E3205/MAX($E$9:E3205)-1)))","v":""}]
[null,null,null,null,null,{"$f":"IF(B3206=\"\",\"\",IF(C3206=\"\",F3205,IF(E3206=\"\",F3205,E3206/MAX($E$9:E3206)-1)))","v":""}]
[null,null,null,null,null,{"$f":"IF(B3207=\"\",\"\",IF(C3207=\"\",F3206,IF(E3207=\"\",F3206,E3207/MAX($E$9:E3207)-1)))","v":""}]
[null,null,null,null,null,{"$f":"IF(B3208=\"\",\"\",IF(C3208=\"\",F3207,IF(E3208=\"\",F3207,E3208/MAX($E$9:E3208)-1)))","v":""}]
[null,null,null,null,null,{"$f":"IF(B3209=\"\",\"\",IF(C3209=\"\",F3208,IF(E3209=\"\",F3208,E3209/MAX($E$9:E3209)-1)))","v":""}]
[null,null,null,null,null,{"$f":"IF(B3210=\"\",\"\",IF(C3210=\"\",F3209,IF(E3210=\"\",F3209,E3210/MAX($E$9:E3210)-1)))","v":""}]
[null,null,null,null,null,{"$f":"IF(B3211=\"\",\"\",IF(C3211=\"\",F3210,IF(E3211=\"\",F3210,E3211/MAX($E$9:E3211)-1)))","v":""}]
[null,null,null,null,null,{"$f":"IF(B3212=\"\",\"\",IF(C3212=\"\",F3211,IF(E3212=\"\",F3211,E3212/MAX($E$9:E3212)-1)))","v":""}]
[null,null,null,null,null,{"$f":"IF(B3213=\"\",\"\",IF(C3213=\"\",F3212,IF(E3213=\"\",F3212,E3213/MAX($E$9:E3213)-1)))","v":""}]
[null,null,null,null,null,{"$f":"IF(B3214=\"\",\"\",IF(C3214=\"\",F3213,IF(E3214=\"\",F3213,E3214/MAX($E$9:E3214)-1)))","v":""}]
[null,null,null,null,null,{"$f":"IF(B3215=\"\",\"\",IF(C3215=\"\",F3214,IF(E3215=\"\",F3214,E3215/MAX($E$9:E3215)-1)))","v":""}]
[null,null,null,null,null,{"$f":"IF(B3216=\"\",\"\",IF(C3216=\"\",F3215,IF(E3216=\"\",F3215,E3216/MAX($E$9:E3216)-1)))","v":""}]
[null,null,null,null,null,{"$f":"IF(B3217=\"\",\"\",IF(C3217=\"\",F3216,IF(E3217=\"\",F3216,E3217/MAX($E$9:E3217)-1)))","v":""}]
[null,null,null,null,null,{"$f":"IF(B3218=\"\",\"\",IF(C3218=\"\",F3217,IF(E3218=\"\",F3217,E3218/MAX($E$9:E3218)-1)))","v":""}]
[null,null,null,null,null,{"$f":"IF(B3219=\"\",\"\",IF(C3219=\"\",F3218,IF(E3219=\"\",F3218,E3219/MAX($E$9:E3219)-1)))","v":""}]
[null,null,null,null,null,{"$f":"IF(B3220=\"\",\"\",IF(C3220=\"\",F3219,IF(E3220=\"\",F3219,E3220/MAX($E$9:E3220)-1)))","v":""}]
[null,null,null,null,null,{"$f":"IF(B3221=\"\",\"\",IF(C3221=\"\",F3220,IF(E3221=\"\",F3220,E3221/MAX($E$9:E3221)-1)))","v":""}]
[null,null,null,null,null,{"$f":"IF(B3222=\"\",\"\",IF(C3222=\"\",F3221,IF(E3222=\"\",F3221,E3222/MAX($E$9:E3222)-1)))","v":""}]
[null,null,null,null,null,{"$f":"IF(B3223=\"\",\"\",IF(C3223=\"\",F3222,IF(E3223=\"\",F3222,E3223/MAX($E$9:E3223)-1)))","v":""}]
[null,null,null,null,null,{"$f":"IF(B3224=\"\",\"\",IF(C3224=\"\",F3223,IF(E3224=\"\",F3223,E3224/MAX($E$9:E3224)-1)))","v":""}]
[null,null,null,null,null,{"$f":"IF(B3225=\"\",\"\",IF(C3225=\"\",F3224,IF(E3225=\"\",F3224,E3225/MAX($E$9:E3225)-1)))","v":""}]
[null,null,null,null,null,{"$f":"IF(B3226=\"\",\"\",IF(C3226=\"\",F3225,IF(E3226=\"\",F3225,E3226/MAX($E$9:E3226)-1)))","v":""}]
[null,null,null,null,null,{"$f":"IF(B3227=\"\",\"\",IF(C3227=\"\",F3226,IF(E3227=\"\",F3226,E3227/MAX($E$9:E3227)-1)))","v":""}]
[null,null,null,null,null,{"$f":"IF(B3228=\"\",\"\",IF(C3228=\"\",F3227,IF(E3228=\"\",F3227,E3228/MAX($E$9:E3228)-1)))","v":""}]
[null,null,null,null,null,{"$f":"IF(B3229=\"\",\"\",IF(C3229=\"\",F3228,IF(E3229=\"\",F3228,E3229/MAX($E$9:E3229)-1)))","v":""}]
[null,null,null,null,null,{"$f":"IF(B3230=\"\",\"\",IF(C3230=\"\",F3229,IF(E3230=\"\",F3229,E3230/MAX($E$9:E3230)-1)))","v":""}]
[null,null,null,null,null,{"$f":"IF(B3231=\"\",\"\",IF(C3231=\"\",F3230,IF(E3231=\"\",F3230,E3231/MAX($E$9:E3231)-1)))","v":""}]
[null,null,null,null,null,{"$f":"IF(B3232=\"\",\"\",IF(C3232=\"\",F3231,IF(E3232=\"\",F3231,E3232/MAX($E$9:E3232)-1)))","v":""}]
[null,null,null,null,null,{"$f":"IF(B3233=\"\",\"\",IF(C3233=\"\",F3232,IF(E3233=\"\",F3232,E3233/MAX($E$9:E3233)-1)))","v":""}]
[null,null,null,null,null,{"$f":"IF(B3234=\"\",\"\",IF(C3234=\"\",F3233,IF(E3234=\"\",F3233,E3234/MAX($E$9:E3234)-1)))","v":""}]
[null,null,null,null,null,{"$f":"IF(B3235=\"\",\"\",IF(C3235=\"\",F3234,IF(E3235=\"\",F3234,E3235/MAX($E$9:E3235)-1)))","v":""}]
[null,null,null,null,null,{"$f":"IF(B3236=\"\",\"\",IF(C3236=\"\",F3235,IF(E3236=\"\",F3235,E3236/MAX($E$9:E3236)-1)))","v":""}]
[null,null,null,null,null,{"$f":"IF(B3237=\"\",\"\",IF(C3237=\"\",F3236,IF(E3237=\"\",F3236,E3237/MAX($E$9:E3237)-1)))","v":""}]
[null,null,null,null,null,{"$f":"IF(B3238=\"\",\"\",IF(C3238=\"\",F3237,IF(E3238=\"\",F3237,E3238/MAX($E$9:E3238)-1)))","v":""}]
[null,null,null,null,null,{"$f":"IF(B3239=\"\",\"\",IF(C3239=\"\",F3238,IF(E3239=\"\",F3238,E3239/MAX($E$9:E3239)-1)))","v":""}]
[null,null,null,null,null,{"$f":"IF(B3240=\"\",\"\",IF(C3240=\"\",F3239,IF(E3240=\"\",F3239,E3240/MAX($E$9:E3240)-1)))","v":""}]
[null,null,null,null,null,{"$f":"IF(B3241=\"\",\"\",IF(C3241=\"\",F3240,IF(E3241=\"\",F3240,E3241/MAX($E$9:E3241)-1)))","v":""}]
[null,null,null,null,null,{"$f":"IF(B3242=\"\",\"\",IF(C3242=\"\",F3241,IF(E3242=\"\",F3241,E3242/MAX($E$9:E3242)-1)))","v":""}]
[null,null,null,null,null,{"$f":"IF(B3243=\"\",\"\",IF(C3243=\"\",F3242,IF(E3243=\"\",F3242,E3243/MAX($E$9:E3243)-1)))","v":""}]
[null,null,null,null,null,{"$f":"IF(B3244=\"\",\"\",IF(C3244=\"\",F3243,IF(E3244=\"\",F3243,E3244/MAX($E$9:E3244)-1)))","v":""}]
[null,null,null,null,null,{"$f":"IF(B3245=\"\",\"\",IF(C3245=\"\",F3244,IF(E3245=\"\",F3244,E3245/MAX($E$9:E3245)-1)))","v":""}]
[null,null,null,null,null,{"$f":"IF(B3246=\"\",\"\",IF(C3246=\"\",F3245,IF(E3246=\"\",F3245,E3246/MAX($E$9:E3246)-1)))","v":""}]
[null,null,null,null,null,{"$f":"IF(B3247=\"\",\"\",IF(C3247=\"\",F3246,IF(E3247=\"\",F3246,E3247/MAX($E$9:E3247)-1)))","v":""}]
[null,null,null,null,null,{"$f":"IF(B3248=\"\",\"\",IF(C3248=\"\",F3247,IF(E3248=\"\",F3247,E3248/MAX($E$9:E3248)-1)))","v":""}]
[null,null,null,null,null,{"$f":"IF(B3249=\"\",\"\",IF(C3249=\"\",F3248,IF(E3249=\"\",F3248,E3249/MAX($E$9:E3249)-1)))","v":""}]
[null,null,null,null,null,{"$f":"IF(B3250=\"\",\"\",IF(C3250=\"\",F3249,IF(E3250=\"\",F3249,E3250/MAX($E$9:E3250)-1)))","v":""}]
[null,null,null,null,null,{"$f":"IF(B3251=\"\",\"\",IF(C3251=\"\",F3250,IF(E3251=\"\",F3250,E3251/MAX($E$9:E3251)-1)))","v":""}]
[null,null,null,null,null,{"$f":"IF(B3252=\"\",\"\",IF(C3252=\"\",F3251,IF(E3252=\"\",F3251,E3252/MAX($E$9:E3252)-1)))","v":""}]
[null,null,null,null,null,{"$f":"IF(B3253=\"\",\"\",IF(C3253=\"\",F3252,IF(E3253=\"\",F3252,E3253/MAX($E$9:E3253)-1)))","v":""}]
[null,null,null,null,null,{"$f":"IF(B3254=\"\",\"\",IF(C3254=\"\",F3253,IF(E3254=\"\",F3253,E3254/MAX($E$9:E3254)-1)))","v":""}]
[null,null,null,null,null,{"$f":"IF(B3255=\"\",\"\",IF(C3255=\"\",F3254,IF(E3255=\"\",F3254,E3255/MAX($E$9:E3255)-1)))","v":""}]
[null,null,null,null,null,{"$f":"IF(B3256=\"\",\"\",IF(C3256=\"\",F3255,IF(E3256=\"\",F3255,E3256/MAX($E$9:E3256)-1)))","v":""}]
[null,null,null,null,null,{"$f":"IF(B3257=\"\",\"\",IF(C3257=\"\",F3256,IF(E3257=\"\",F3256,E3257/MAX($E$9:E3257)-1)))","v":""}]
[null,null,null,null,null,{"$f":"IF(B3258=\"\",\"\",IF(C3258=\"\",F3257,IF(E3258=\"\",F3257,E3258/MAX($E$9:E3258)-1)))","v":""}]
[null,null,null,null,null,{"$f":"IF(B3259=\"\",\"\",IF(C3259=\"\",F3258,IF(E3259=\"\",F3258,E3259/MAX($E$9:E3259)-1)))","v":""}]
[null,null,null,null,null,{"$f":"IF(B3260=\"\",\"\",IF(C3260=\"\",F3259,IF(E3260=\"\",F3259,E3260/MAX($E$9:E3260)-1)))","v":""}]
[null,null,null,null,null,{"$f":"IF(B3261=\"\",\"\",IF(C3261=\"\",F3260,IF(E3261=\"\",F3260,E3261/MAX($E$9:E3261)-1)))","v":""}]
[null,null,null,null,null,{"$f":"IF(B3262=\"\",\"\",IF(C3262=\"\",F3261,IF(E3262=\"\",F3261,E3262/MAX($E$9:E3262)-1)))","v":""}]
[null,null,null,null,null,{"$f":"IF(B3263=\"\",\"\",IF(C3263=\"\",F3262,IF(E3263=\"\",F3262,E3263/MAX($E$9:E3263)-1)))","v":""}]
[null,null,null,null,null,{"$f":"IF(B3264=\"\",\"\",IF(C3264=\"\",F3263,IF(E3264=\"\",F3263,E3264/MAX($E$9:E3264)-1)))","v":""}]
[null,null,null,null,null,{"$f":"IF(B3265=\"\",\"\",IF(C3265=\"\",F3264,IF(E3265=\"\",F3264,E3265/MAX($E$9:E3265)-1)))","v":""}]
[null,null,null,null,null,{"$f":"IF(B3266=\"\",\"\",IF(C3266=\"\",F3265,IF(E3266=\"\",F3265,E3266/MAX($E$9:E3266)-1)))","v":""}]
[null,null,null,null,null,{"$f":"IF(B3267=\"\",\"\",IF(C3267=\"\",F3266,IF(E3267=\"\",F3266,E3267/MAX($E$9:E3267)-1)))","v":""}]
[null,null,null,null,null,{"$f":"IF(B3268=\"\",\"\",IF(C3268=\"\",F3267,IF(E3268=\"\",F3267,E3268/MAX($E$9:E3268)-1)))","v":""}]
[null,null,null,null,null,{"$f":"IF(B3269=\"\",\"\",IF(C3269=\"\",F3268,IF(E3269=\"\",F3268,E3269/MAX($E$9:E3269)-1)))","v":""}]
[null,null,null,null,null,{"$f":"IF(B3270=\"\",\"\",IF(C3270=\"\",F3269,IF(E3270=\"\",F3269,E3270/MAX($E$9:E3270)-1)))","v":""}]
[null,null,null,null,null,{"$f":"IF(B3271=\"\",\"\",IF(C3271=\"\",F3270,IF(E3271=\"\",F3270,E3271/MAX($E$9:E3271)-1)))","v":""}]
[null,null,null,null,null,{"$f":"IF(B3272=\"\",\"\",IF(C3272=\"\",F3271,IF(E3272=\"\",F3271,E3272/MAX($E$9:E3272)-1)))","v":""}]
[null,null,null,null,null,{"$f":"IF(B3273=\"\",\"\",IF(C3273=\"\",F3272,IF(E3273=\"\",F3272,E3273/MAX($E$9:E3273)-1)))","v":""}]
[null,null,null,null,null,{"$f":"IF(B3274=\"\",\"\",IF(C3274=\"\",F3273,IF(E3274=\"\",F3273,E3274/MAX($E$9:E3274)-1)))","v":""}]
[null,null,null,null,null,{"$f":"IF(B3275=\"\",\"\",IF(C3275=\"\",F3274,IF(E3275=\"\",F3274,E3275/MAX($E$9:E3275)-1)))","v":""}]
[null,null,null,null,null,{"$f":"IF(B3276=\"\",\"\",IF(C3276=\"\",F3275,IF(E3276=\"\",F3275,E3276/MAX($E$9:E3276)-1)))","v":""}]
[null,null,null,null,null,{"$f":"IF(B3277=\"\",\"\",IF(C3277=\"\",F3276,IF(E3277=\"\",F3276,E3277/MAX($E$9:E3277)-1)))","v":""}]
[null,null,null,null,null,{"$f":"IF(B3278=\"\",\"\",IF(C3278=\"\",F3277,IF(E3278=\"\",F3277,E3278/MAX($E$9:E3278)-1)))","v":""}]
[null,null,null,null,null,{"$f":"IF(B3279=\"\",\"\",IF(C3279=\"\",F3278,IF(E3279=\"\",F3278,E3279/MAX($E$9:E3279)-1)))","v":""}]
[null,null,null,null,null,{"$f":"IF(B3280=\"\",\"\",IF(C3280=\"\",F3279,IF(E3280=\"\",F3279,E3280/MAX($E$9:E3280)-1)))","v":""}]
[null,null,null,null,null,{"$f":"IF(B3281=\"\",\"\",IF(C3281=\"\",F3280,IF(E3281=\"\",F3280,E3281/MAX($E$9:E3281)-1)))","v":""}]
[null,null,null,null,null,{"$f":"IF(B3282=\"\",\"\",IF(C3282=\"\",F3281,IF(E3282=\"\",F3281,E3282/MAX($E$9:E3282)-1)))","v":""}]
[null,null,null,null,null,{"$f":"IF(B3283=\"\",\"\",IF(C3283=\"\",F3282,IF(E3283=\"\",F3282,E3283/MAX($E$9:E3283)-1)))","v":""}]
[null,null,null,null,null,{"$f":"IF(B3284=\"\",\"\",IF(C3284=\"\",F3283,IF(E3284=\"\",F3283,E3284/MAX($E$9:E3284)-1)))","v":""}]
[null,null,null,null,null,{"$f":"IF(B3285=\"\",\"\",IF(C3285=\"\",F3284,IF(E3285=\"\",F3284,E3285/MAX($E$9:E3285)-1)))","v":""}]
[null,null,null,null,null,{"$f":"IF(B3286=\"\",\"\",IF(C3286=\"\",F3285,IF(E3286=\"\",F3285,E3286/MAX($E$9:E3286)-1)))","v":""}]
[null,null,null,null,null,{"$f":"IF(B3287=\"\",\"\",IF(C3287=\"\",F3286,IF(E3287=\"\",F3286,E3287/MAX($E$9:E3287)-1)))","v":""}]
[null,null,null,null,null,{"$f":"IF(B3288=\"\",\"\",IF(C3288=\"\",F3287,IF(E3288=\"\",F3287,E3288/MAX($E$9:E3288)-1)))","v":""}]
[null,null,null,null,null,{"$f":"IF(B3289=\"\",\"\",IF(C3289=\"\",F3288,IF(E3289=\"\",F3288,E3289/MAX($E$9:E3289)-1)))","v":""}]
[null,null,null,null,null,{"$f":"IF(B3290=\"\",\"\",IF(C3290=\"\",F3289,IF(E3290=\"\",F3289,E3290/MAX($E$9:E3290)-1)))","v":""}]
[null,null,null,null,null,{"$f":"IF(B3291=\"\",\"\",IF(C3291=\"\",F3290,IF(E3291=\"\",F3290,E3291/MAX($E$9:E3291)-1)))","v":""}]
[null,null,null,null,null,{"$f":"IF(B3292=\"\",\"\",IF(C3292=\"\",F3291,IF(E3292=\"\",F3291,E3292/MAX($E$9:E3292)-1)))","v":""}]
[null,null,null,null,null,{"$f":"IF(B3293=\"\",\"\",IF(C3293=\"\",F3292,IF(E3293=\"\",F3292,E3293/MAX($E$9:E3293)-1)))","v":""}]
[null,null,null,null,null,{"$f":"IF(B3294=\"\",\"\",IF(C3294=\"\",F3293,IF(E3294=\"\",F3293,E3294/MAX($E$9:E3294)-1)))","v":""}]
[null,null,null,null,null,{"$f":"IF(B3295=\"\",\"\",IF(C3295=\"\",F3294,IF(E3295=\"\",F3294,E3295/MAX($E$9:E3295)-1)))","v":""}]
[null,null,null,null,null,{"$f":"IF(B3296=\"\",\"\",IF(C3296=\"\",F3295,IF(E3296=\"\",F3295,E3296/MAX($E$9:E3296)-1)))","v":""}]
[null,null,null,null,null,{"$f":"IF(B3297=\"\",\"\",IF(C3297=\"\",F3296,IF(E3297=\"\",F3296,E3297/MAX($E$9:E3297)-1)))","v":""}]
[null,null,null,null,null,{"$f":"IF(B3298=\"\",\"\",IF(C3298=\"\",F3297,IF(E3298=\"\",F3297,E3298/MAX($E$9:E3298)-1)))","v":""}]
[null,null,null,null,null,{"$f":"IF(B3299=\"\",\"\",IF(C3299=\"\",F3298,IF(E3299=\"\",F3298,E3299/MAX($E$9:E3299)-1)))","v":""}]
[null,null,null,null,null,{"$f":"IF(B3300=\"\",\"\",IF(C3300=\"\",F3299,IF(E3300=\"\",F3299,E3300/MAX($E$9:E3300)-1)))","v":""}]
[null,null,null,null,null,{"$f":"IF(B3301=\"\",\"\",IF(C3301=\"\",F3300,IF(E3301=\"\",F3300,E3301/MAX($E$9:E3301)-1)))","v":""}]
[null,null,null,null,null,{"$f":"IF(B3302=\"\",\"\",IF(C3302=\"\",F3301,IF(E3302=\"\",F3301,E3302/MAX($E$9:E3302)-1)))","v":""}]
[null,null,null,null,null,{"$f":"IF(B3303=\"\",\"\",IF(C3303=\"\",F3302,IF(E3303=\"\",F3302,E3303/MAX($E$9:E3303)-1)))","v":""}]
[null,null,null,null,null,{"$f":"IF(B3304=\"\",\"\",IF(C3304=\"\",F3303,IF(E3304=\"\",F3303,E3304/MAX($E$9:E3304)-1)))","v":""}]
[null,null,null,null,null,{"$f":"IF(B3305=\"\",\"\",IF(C3305=\"\",F3304,IF(E3305=\"\",F3304,E3305/MAX($E$9:E3305)-1)))","v":""}]
[null,null,null,null,null,{"$f":"IF(B3306=\"\",\"\",IF(C3306=\"\",F3305,IF(E3306=\"\",F3305,E3306/MAX($E$9:E3306)-1)))","v":""}]
[null,null,null,null,null,{"$f":"IF(B3307=\"\",\"\",IF(C3307=\"\",F3306,IF(E3307=\"\",F3306,E3307/MAX($E$9:E3307)-1)))","v":""}]
[null,null,null,null,null,{"$f":"IF(B3308=\"\",\"\",IF(C3308=\"\",F3307,IF(E3308=\"\",F3307,E3308/MAX($E$9:E3308)-1)))","v":""}]
[null,null,null,null,null,{"$f":"IF(B3309=\"\",\"\",IF(C3309=\"\",F3308,IF(E3309=\"\",F3308,E3309/MAX($E$9:E3309)-1)))","v":""}]
[null,null,null,null,null,{"$f":"IF(B3310=\"\",\"\",IF(C3310=\"\",F3309,IF(E3310=\"\",F3309,E3310/MAX($E$9:E3310)-1)))","v":""}]
[null,null,null,null,null,{"$f":"IF(B3311=\"\",\"\",IF(C3311=\"\",F3310,IF(E3311=\"\",F3310,E3311/MAX($E$9:E3311)-1)))","v":""}]
[null,null,null,null,null,{"$f":"IF(B3312=\"\",\"\",IF(C3312=\"\",F3311,IF(E3312=\"\",F3311,E3312/MAX($E$9:E3312)-1)))","v":""}]
[null,null,null,null,null,{"$f":"IF(B3313=\"\",\"\",IF(C3313=\"\",F3312,IF(E3313=\"\",F3312,E3313/MAX($E$9:E3313)-1)))","v":""}]
[null,null,null,null,null,{"$f":"IF(B3314=\"\",\"\",IF(C3314=\"\",F3313,IF(E3314=\"\",F3313,E3314/MAX($E$9:E3314)-1)))","v":""}]
[null,null,null,null,null,{"$f":"IF(B3315=\"\",\"\",IF(C3315=\"\",F3314,IF(E3315=\"\",F3314,E3315/MAX($E$9:E3315)-1)))","v":""}]
[null,null,null,null,null,{"$f":"IF(B3316=\"\",\"\",IF(C3316=\"\",F3315,IF(E3316=\"\",F3315,E3316/MAX($E$9:E3316)-1)))","v":""}]
[null,null,null,null,null,{"$f":"IF(B3317=\"\",\"\",IF(C3317=\"\",F3316,IF(E3317=\"\",F3316,E3317/MAX($E$9:E3317)-1)))","v":""}]
[null,null,null,null,null,{"$f":"IF(B3318=\"\",\"\",IF(C3318=\"\",F3317,IF(E3318=\"\",F3317,E3318/MAX($E$9:E3318)-1)))","v":""}]
[null,null,null,null,null,{"$f":"IF(B3319=\"\",\"\",IF(C3319=\"\",F3318,IF(E3319=\"\",F3318,E3319/MAX($E$9:E3319)-1)))","v":""}]
[null,null,null,null,null,{"$f":"IF(B3320=\"\",\"\",IF(C3320=\"\",F3319,IF(E3320=\"\",F3319,E3320/MAX($E$9:E3320)-1)))","v":""}]
[null,null,null,null,null,{"$f":"IF(B3321=\"\",\"\",IF(C3321=\"\",F3320,IF(E3321=\"\",F3320,E3321/MAX($E$9:E3321)-1)))","v":""}]
[null,null,null,null,null,{"$f":"IF(B3322=\"\",\"\",IF(C3322=\"\",F3321,IF(E3322=\"\",F3321,E3322/MAX($E$9:E3322)-1)))","v":""}]
[null,null,null,null,null,{"$f":"IF(B3323=\"\",\"\",IF(C3323=\"\",F3322,IF(E3323=\"\",F3322,E3323/MAX($E$9:E3323)-1)))","v":""}]
[null,null,null,null,null,{"$f":"IF(B3324=\"\",\"\",IF(C3324=\"\",F3323,IF(E3324=\"\",F3323,E3324/MAX($E$9:E3324)-1)))","v":""}]
[null,null,null,null,null,{"$f":"IF(B3325=\"\",\"\",IF(C3325=\"\",F3324,IF(E3325=\"\",F3324,E3325/MAX($E$9:E3325)-1)))","v":""}]
[null,null,null,null,null,{"$f":"IF(B3326=\"\",\"\",IF(C3326=\"\",F3325,IF(E3326=\"\",F3325,E3326/MAX($E$9:E3326)-1)))","v":""}]
[null,null,null,null,null,{"$f":"IF(B3327=\"\",\"\",IF(C3327=\"\",F3326,IF(E3327=\"\",F3326,E3327/MAX($E$9:E3327)-1)))","v":""}]
[null,null,null,null,null,{"$f":"IF(B3328=\"\",\"\",IF(C3328=\"\",F3327,IF(E3328=\"\",F3327,E3328/MAX($E$9:E3328)-1)))","v":""}]
[null,null,null,null,null,{"$f":"IF(B3329=\"\",\"\",IF(C3329=\"\",F3328,IF(E3329=\"\",F3328,E3329/MAX($E$9:E3329)-1)))","v":""}]
[null,null,null,null,null,{"$f":"IF(B3330=\"\",\"\",IF(C3330=\"\",F3329,IF(E3330=\"\",F3329,E3330/MAX($E$9:E3330)-1)))","v":""}]
[null,null,null,null,null,{"$f":"IF(B3331=\"\",\"\",IF(C3331=\"\",F3330,IF(E3331=\"\",F3330,E3331/MAX($E$9:E3331)-1)))","v":""}]
[null,null,null,null,null,{"$f":"IF(B3332=\"\",\"\",IF(C3332=\"\",F3331,IF(E3332=\"\",F3331,E3332/MAX($E$9:E3332)-1)))","v":""}]
[null,null,null,null,null,{"$f":"IF(B3333=\"\",\"\",IF(C3333=\"\",F3332,IF(E3333=\"\",F3332,E3333/MAX($E$9:E3333)-1)))","v":""}]
[null,null,null,null,null,{"$f":"IF(B3334=\"\",\"\",IF(C3334=\"\",F3333,IF(E3334=\"\",F3333,E3334/MAX($E$9:E3334)-1)))","v":""}]
[null,null,null,null,null,{"$f":"IF(B3335=\"\",\"\",IF(C3335=\"\",F3334,IF(E3335=\"\",F3334,E3335/MAX($E$9:E3335)-1)))","v":""}]
[null,null,null,null,null,{"$f":"IF(B3336=\"\",\"\",IF(C3336=\"\",F3335,IF(E3336=\"\",F3335,E3336/MAX($E$9:E3336)-1)))","v":""}]
[null,null,null,null,null,{"$f":"IF(B3337=\"\",\"\",IF(C3337=\"\",F3336,IF(E3337=\"\",F3336,E3337/MAX($E$9:E3337)-1)))","v":""}]
[null,null,null,null,null,{"$f":"IF(B3338=\"\",\"\",IF(C3338=\"\",F3337,IF(E3338=\"\",F3337,E3338/MAX($E$9:E3338)-1)))","v":""}]
[null,null,null,null,null,{"$f":"IF(B3339=\"\",\"\",IF(C3339=\"\",F3338,IF(E3339=\"\",F3338,E3339/MAX($E$9:E3339)-1)))","v":""}]
[null,null,null,null,null,{"$f":"IF(B3340=\"\",\"\",IF(C3340=\"\",F3339,IF(E3340=\"\",F3339,E3340/MAX($E$9:E3340)-1)))","v":""}]
[null,null,null,null,null,{"$f":"IF(B3341=\"\",\"\",IF(C3341=\"\",F3340,IF(E3341=\"\",F3340,E3341/MAX($E$9:E3341)-1)))","v":""}]
[null,null,null,null,null,{"$f":"IF(B3342=\"\",\"\",IF(C3342=\"\",F3341,IF(E3342=\"\",F3341,E3342/MAX($E$9:E3342)-1)))","v":""}]
[null,null,null,null,null,{"$f":"IF(B3343=\"\",\"\",IF(C3343=\"\",F3342,IF(E3343=\"\",F3342,E3343/MAX($E$9:E3343)-1)))","v":""}]
[null,null,null,null,null,{"$f":"IF(B3344=\"\",\"\",IF(C3344=\"\",F3343,IF(E3344=\"\",F3343,E3344/MAX($E$9:E3344)-1)))","v":""}]
[null,null,null,null,null,{"$f":"IF(B3345=\"\",\"\",IF(C3345=\"\",F3344,IF(E3345=\"\",F3344,E3345/MAX($E$9:E3345)-1)))","v":""}]
[null,null,null,null,null,{"$f":"IF(B3346=\"\",\"\",IF(C3346=\"\",F3345,IF(E3346=\"\",F3345,E3346/MAX($E$9:E3346)-1)))","v":""}]
[null,null,null,null,null,{"$f":"IF(B3347=\"\",\"\",IF(C3347=\"\",F3346,IF(E3347=\"\",F3346,E3347/MAX($E$9:E3347)-1)))","v":""}]
[null,null,null,null,null,{"$f":"IF(B3348=\"\",\"\",IF(C3348=\"\",F3347,IF(E3348=\"\",F3347,E3348/MAX($E$9:E3348)-1)))","v":""}]
[null,null,null,null,null,{"$f":"IF(B3349=\"\",\"\",IF(C3349=\"\",F3348,IF(E3349=\"\",F3348,E3349/MAX($E$9:E3349)-1)))","v":""}]
[null,null,null,null,null,{"$f":"IF(B3350=\"\",\"\",IF(C3350=\"\",F3349,IF(E3350=\"\",F3349,E3350/MAX($E$9:E3350)-1)))","v":""}]
[null,null,null,null,null,{"$f":"IF(B3351=\"\",\"\",IF(C3351=\"\",F3350,IF(E3351=\"\",F3350,E3351/MAX($E$9:E3351)-1)))","v":""}]
[null,null,null,null,null,{"$f":"IF(B3352=\"\",\"\",IF(C3352=\"\",F3351,IF(E3352=\"\",F3351,E3352/MAX($E$9:E3352)-1)))","v":""}]
[null,null,null,null,null,{"$f":"IF(B3353=\"\",\"\",IF(C3353=\"\",F3352,IF(E3353=\"\",F3352,E3353/MAX($E$9:E3353)-1)))","v":""}]
[null,null,null,null,null,{"$f":"IF(B3354=\"\",\"\",IF(C3354=\"\",F3353,IF(E3354=\"\",F3353,E3354/MAX($E$9:E3354)-1)))","v":""}]
[null,null,null,null,null,{"$f":"IF(B3355=\"\",\"\",IF(C3355=\"\",F3354,IF(E3355=\"\",F3354,E3355/MAX($E$9:E3355)-1)))","v":""}]
[null,null,null,null,null,{"$f":"IF(B3356=\"\",\"\",IF(C3356=\"\",F3355,IF(E3356=\"\",F3355,E3356/MAX($E$9:E3356)-1)))","v":""}]
[null,null,null,null,null,{"$f":"IF(B3357=\"\",\"\",IF(C3357=\"\",F3356,IF(E3357=\"\",F3356,E3357/MAX($E$9:E3357)-1)))","v":""}]
[null,null,null,null,null,{"$f":"IF(B3358=\"\",\"\",IF(C3358=\"\",F3357,IF(E3358=\"\",F3357,E3358/MAX($E$9:E3358)-1)))","v":""}]
[null,null,null,null,null,{"$f":"IF(B3359=\"\",\"\",IF(C3359=\"\",F3358,IF(E3359=\"\",F3358,E3359/MAX($E$9:E3359)-1)))","v":""}]
[null,null,null,null,null,{"$f":"IF(B3360=\"\",\"\",IF(C3360=\"\",F3359,IF(E3360=\"\",F3359,E3360/MAX($E$9:E3360)-1)))","v":""}]
[null,null,null,null,null,{"$f":"IF(B3361=\"\",\"\",IF(C3361=\"\",F3360,IF(E3361=\"\",F3360,E3361/MAX($E$9:E3361)-1)))","v":""}]
[null,null,null,null,null,{"$f":"IF(B3362=\"\",\"\",IF(C3362=\"\",F3361,IF(E3362=\"\",F3361,E3362/MAX($E$9:E3362)-1)))","v":""}]
[null,null,null,null,null,{"$f":"IF(B3363=\"\",\"\",IF(C3363=\"\",F3362,IF(E3363=\"\",F3362,E3363/MAX($E$9:E3363)-1)))","v":""}]
[null,null,null,null,null,{"$f":"IF(B3364=\"\",\"\",IF(C3364=\"\",F3363,IF(E3364=\"\",F3363,E3364/MAX($E$9:E3364)-1)))","v":""}]
[null,null,null,null,null,{"$f":"IF(B3365=\"\",\"\",IF(C3365=\"\",F3364,IF(E3365=\"\",F3364,E3365/MAX($E$9:E3365)-1)))","v":""}]
[null,null,null,null,null,{"$f":"IF(B3366=\"\",\"\",IF(C3366=\"\",F3365,IF(E3366=\"\",F3365,E3366/MAX($E$9:E3366)-1)))","v":""}]
[null,null,null,null,null,{"$f":"IF(B3367=\"\",\"\",IF(C3367=\"\",F3366,IF(E3367=\"\",F3366,E3367/MAX($E$9:E3367)-1)))","v":""}]
[null,null,null,null,null,{"$f":"IF(B3368=\"\",\"\",IF(C3368=\"\",F3367,IF(E3368=\"\",F3367,E3368/MAX($E$9:E3368)-1)))","v":""}]
[null,null,null,null,null,{"$f":"IF(B3369=\"\",\"\",IF(C3369=\"\",F3368,IF(E3369=\"\",F3368,E3369/MAX($E$9:E3369)-1)))","v":""}]
[null,null,null,null,null,{"$f":"IF(B3370=\"\",\"\",IF(C3370=\"\",F3369,IF(E3370=\"\",F3369,E3370/MAX($E$9:E3370)-1)))","v":""}]
[null,null,null,null,null,{"$f":"IF(B3371=\"\",\"\",IF(C3371=\"\",F3370,IF(E3371=\"\",F3370,E3371/MAX($E$9:E3371)-1)))","v":""}]
[null,null,null,null,null,{"$f":"IF(B3372=\"\",\"\",IF(C3372=\"\",F3371,IF(E3372=\"\",F3371,E3372/MAX($E$9:E3372)-1)))","v":""}]
[null,null,null,null,null,{"$f":"IF(B3373=\"\",\"\",IF(C3373=\"\",F3372,IF(E3373=\"\",F3372,E3373/MAX($E$9:E3373)-1)))","v":""}]
[null,null,null,null,null,{"$f":"IF(B3374=\"\",\"\",IF(C3374=\"\",F3373,IF(E3374=\"\",F3373,E3374/MAX($E$9:E3374)-1)))","v":""}]
[null,null,null,null,null,{"$f":"IF(B3375=\"\",\"\",IF(C3375=\"\",F3374,IF(E3375=\"\",F3374,E3375/MAX($E$9:E3375)-1)))","v":""}]
[null,null,null,null,null,{"$f":"IF(B3376=\"\",\"\",IF(C3376=\"\",F3375,IF(E3376=\"\",F3375,E3376/MAX($E$9:E3376)-1)))","v":""}]
[null,null,null,null,null,{"$f":"IF(B3377=\"\",\"\",IF(C3377=\"\",F3376,IF(E3377=\"\",F3376,E3377/MAX($E$9:E3377)-1)))","v":""}]
[null,null,null,null,null,{"$f":"IF(B3378=\"\",\"\",IF(C3378=\"\",F3377,IF(E3378=\"\",F3377,E3378/MAX($E$9:E3378)-1)))","v":""}]
[null,null,null,null,null,{"$f":"IF(B3379=\"\",\"\",IF(C3379=\"\",F3378,IF(E3379=\"\",F3378,E3379/MAX($E$9:E3379)-1)))","v":""}]
[null,null,null,null,null,{"$f":"IF(B3380=\"\",\"\",IF(C3380=\"\",F3379,IF(E3380=\"\",F3379,E3380/MAX($E$9:E3380)-1)))","v":""}]
[null,null,null,null,null,{"$f":"IF(B3381=\"\",\"\",IF(C3381=\"\",F3380,IF(E3381=\"\",F3380,E3381/MAX($E$9:E3381)-1)))","v":""}]
[null,null,null,null,null,{"$f":"IF(B3382=\"\",\"\",IF(C3382=\"\",F3381,IF(E3382=\"\",F3381,E3382/MAX($E$9:E3382)-1)))","v":""}]
[null,null,null,null,null,{"$f":"IF(B3383=\"\",\"\",IF(C3383=\"\",F3382,IF(E3383=\"\",F3382,E3383/MAX($E$9:E3383)-1)))","v":""}]
[null,null,null,null,null,{"$f":"IF(B3384=\"\",\"\",IF(C3384=\"\",F3383,IF(E3384=\"\",F3383,E3384/MAX($E$9:E3384)-1)))","v":""}]
[null,null,null,null,null,{"$f":"IF(B3385=\"\",\"\",IF(C3385=\"\",F3384,IF(E3385=\"\",F3384,E3385/MAX($E$9:E3385)-1)))","v":""}]
[null,null,null,null,null,{"$f":"IF(B3386=\"\",\"\",IF(C3386=\"\",F3385,IF(E3386=\"\",F3385,E3386/MAX($E$9:E3386)-1)))","v":""}]
[null,null,null,null,null,{"$f":"IF(B3387=\"\",\"\",IF(C3387=\"\",F3386,IF(E3387=\"\",F3386,E3387/MAX($E$9:E3387)-1)))","v":""}]
[null,null,null,null,null,{"$f":"IF(B3388=\"\",\"\",IF(C3388=\"\",F3387,IF(E3388=\"\",F3387,E3388/MAX($E$9:E3388)-1)))","v":""}]
[null,null,null,null,null,{"$f":"IF(B3389=\"\",\"\",IF(C3389=\"\",F3388,IF(E3389=\"\",F3388,E3389/MAX($E$9:E3389)-1)))","v":""}]
[null,null,null,null,null,{"$f":"IF(B3390=\"\",\"\",IF(C3390=\"\",F3389,IF(E3390=\"\",F3389,E3390/MAX($E$9:E3390)-1)))","v":""}]
[null,null,null,null,null,{"$f":"IF(B3391=\"\",\"\",IF(C3391=\"\",F3390,IF(E3391=\"\",F3390,E3391/MAX($E$9:E3391)-1)))","v":""}]
[null,null,null,null,null,{"$f":"IF(B3392=\"\",\"\",IF(C3392=\"\",F3391,IF(E3392=\"\",F3391,E3392/MAX($E$9:E3392)-1)))","v":""}]
[null,null,null,null,null,{"$f":"IF(B3393=\"\",\"\",IF(C3393=\"\",F3392,IF(E3393=\"\",F3392,E3393/MAX($E$9:E3393)-1)))","v":""}]
[null,null,null,null,null,{"$f":"IF(B3394=\"\",\"\",IF(C3394=\"\",F3393,IF(E3394=\"\",F3393,E3394/MAX($E$9:E3394)-1)))","v":""}]
[null,null,null,null,null,{"$f":"IF(B3395=\"\",\"\",IF(C3395=\"\",F3394,IF(E3395=\"\",F3394,E3395/MAX($E$9:E3395)-1)))","v":""}]
[null,null,null,null,null,{"$f":"IF(B3396=\"\",\"\",IF(C3396=\"\",F3395,IF(E3396=\"\",F3395,E3396/MAX($E$9:E3396)-1)))","v":""}]
[null,null,null,null,null,{"$f":"IF(B3397=\"\",\"\",IF(C3397=\"\",F3396,IF(E3397=\"\",F3396,E3397/MAX($E$9:E3397)-1)))","v":""}]
[null,null,null,null,null,{"$f":"IF(B3398=\"\",\"\",IF(C3398=\"\",F3397,IF(E3398=\"\",F3397,E3398/MAX($E$9:E3398)-1)))","v":""}]
[null,null,null,null,null,{"$f":"IF(B3399=\"\",\"\",IF(C3399=\"\",F3398,IF(E3399=\"\",F3398,E3399/MAX($E$9:E3399)-1)))","v":""}]
[null,null,null,null,null,{"$f":"IF(B3400=\"\",\"\",IF(C3400=\"\",F3399,IF(E3400=\"\",F3399,E3400/MAX($E$9:E3400)-1)))","v":""}]
[null,null,null,null,null,{"$f":"IF(B3401=\"\",\"\",IF(C3401=\"\",F3400,IF(E3401=\"\",F3400,E3401/MAX($E$9:E3401)-1)))","v":""}]
[null,null,null,null,null,{"$f":"IF(B3402=\"\",\"\",IF(C3402=\"\",F3401,IF(E3402=\"\",F3401,E3402/MAX($E$9:E3402)-1)))","v":""}]
[null,null,null,null,null,{"$f":"IF(B3403=\"\",\"\",IF(C3403=\"\",F3402,IF(E3403=\"\",F3402,E3403/MAX($E$9:E3403)-1)))","v":""}]
[null,null,null,null,null,{"$f":"IF(B3404=\"\",\"\",IF(C3404=\"\",F3403,IF(E3404=\"\",F3403,E3404/MAX($E$9:E3404)-1)))","v":""}]
[null,null,null,null,null,{"$f":"IF(B3405=\"\",\"\",IF(C3405=\"\",F3404,IF(E3405=\"\",F3404,E3405/MAX($E$9:E3405)-1)))","v":""}]
[null,null,null,null,null,{"$f":"IF(B3406=\"\",\"\",IF(C3406=\"\",F3405,IF(E3406=\"\",F3405,E3406/MAX($E$9:E3406)-1)))","v":""}]
[null,null,null,null,null,{"$f":"IF(B3407=\"\",\"\",IF(C3407=\"\",F3406,IF(E3407=\"\",F3406,E3407/MAX($E$9:E3407)-1)))","v":""}]
[null,null,null,null,null,{"$f":"IF(B3408=\"\",\"\",IF(C3408=\"\",F3407,IF(E3408=\"\",F3407,E3408/MAX($E$9:E3408)-1)))","v":""}]
[null,null,null,null,null,{"$f":"IF(B3409=\"\",\"\",IF(C3409=\"\",F3408,IF(E3409=\"\",F3408,E3409/MAX($E$9:E3409)-1)))","v":""}]
[null,null,null,null,null,{"$f":"IF(B3410=\"\",\"\",IF(C3410=\"\",F3409,IF(E3410=\"\",F3409,E3410/MAX($E$9:E3410)-1)))","v":""}]
[null,null,null,null,null,{"$f":"IF(B3411=\"\",\"\",IF(C3411=\"\",F3410,IF(E3411=\"\",F3410,E3411/MAX($E$9:E3411)-1)))","v":""}]
[null,null,null,null,null,{"$f":"IF(B3412=\"\",\"\",IF(C3412=\"\",F3411,IF(E3412=\"\",F3411,E3412/MAX($E$9:E3412)-1)))","v":""}]
[null,null,null,null,null,{"$f":"IF(B3413=\"\",\"\",IF(C3413=\"\",F3412,IF(E3413=\"\",F3412,E3413/MAX($E$9:E3413)-1)))","v":""}]
[null,null,null,null,null,{"$f":"IF(B3414=\"\",\"\",IF(C3414=\"\",F3413,IF(E3414=\"\",F3413,E3414/MAX($E$9:E3414)-1)))","v":""}]
[null,null,null,null,null,{"$f":"IF(B3415=\"\",\"\",IF(C3415=\"\",F3414,IF(E3415=\"\",F3414,E3415/MAX($E$9:E3415)-1)))","v":""}]
[null,null,null,null,null,{"$f":"IF(B3416=\"\",\"\",IF(C3416=\"\",F3415,IF(E3416=\"\",F3415,E3416/MAX($E$9:E3416)-1)))","v":""}]
[null,null,null,null,null,{"$f":"IF(B3417=\"\",\"\",IF(C3417=\"\",F3416,IF(E3417=\"\",F3416,E3417/MAX($E$9:E3417)-1)))","v":""}]
[null,null,null,null,null,{"$f":"IF(B3418=\"\",\"\",IF(C3418=\"\",F3417,IF(E3418=\"\",F3417,E3418/MAX($E$9:E3418)-1)))","v":""}]
[null,null,null,null,null,{"$f":"IF(B3419=\"\",\"\",IF(C3419=\"\",F3418,IF(E3419=\"\",F3418,E3419/MAX($E$9:E3419)-1)))","v":""}]
[null,null,null,null,null,{"$f":"IF(B3420=\"\",\"\",IF(C3420=\"\",F3419,IF(E3420=\"\",F3419,E3420/MAX($E$9:E3420)-1)))","v":""}]
[null,null,null,null,null,{"$f":"IF(B3421=\"\",\"\",IF(C3421=\"\",F3420,IF(E3421=\"\",F3420,E3421/MAX($E$9:E3421)-1)))","v":""}]
[null,null,null,null,null,{"$f":"IF(B3422=\"\",\"\",IF(C3422=\"\",F3421,IF(E3422=\"\",F3421,E3422/MAX($E$9:E3422)-1)))","v":""}]
[null,null,null,null,null,{"$f":"IF(B3423=\"\",\"\",IF(C3423=\"\",F3422,IF(E3423=\"\",F3422,E3423/MAX($E$9:E3423)-1)))","v":""}]
[null,null,null,null,null,{"$f":"IF(B3424=\"\",\"\",IF(C3424=\"\",F3423,IF(E3424=\"\",F3423,E3424/MAX($E$9:E3424)-1)))","v":""}]
[null,null,null,null,null,{"$f":"IF(B3425=\"\",\"\",IF(C3425=\"\",F3424,IF(E3425=\"\",F3424,E3425/MAX($E$9:E3425)-1)))","v":""}]
[null,null,null,null,null,{"$f":"IF(B3426=\"\",\"\",IF(C3426=\"\",F3425,IF(E3426=\"\",F3425,E3426/MAX($E$9:E3426)-1)))","v":""}]
[null,null,null,null,null,{"$f":"IF(B3427=\"\",\"\",IF(C3427=\"\",F3426,IF(E3427=\"\",F3426,E3427/MAX($E$9:E3427)-1)))","v":""}]
[null,null,null,null,null,{"$f":"IF(B3428=\"\",\"\",IF(C3428=\"\",F3427,IF(E3428=\"\",F3427,E3428/MAX($E$9:E3428)-1)))","v":""}]
[null,null,null,null,null,{"$f":"IF(B3429=\"\",\"\",IF(C3429=\"\",F3428,IF(E3429=\"\",F3428,E3429/MAX($E$9:E3429)-1)))","v":""}]
[null,null,null,null,null,{"$f":"IF(B3430=\"\",\"\",IF(C3430=\"\",F3429,IF(E3430=\"\",F3429,E3430/MAX($E$9:E3430)-1)))","v":""}]
[null,null,null,null,null,{"$f":"IF(B3431=\"\",\"\",IF(C3431=\"\",F3430,IF(E3431=\"\",F3430,E3431/MAX($E$9:E3431)-1)))","v":""}]
[null,null,null,null,null,{"$f":"IF(B3432=\"\",\"\",IF(C3432=\"\",F3431,IF(E3432=\"\",F3431,E3432/MAX($E$9:E3432)-1)))","v":""}]
[null,null,null,null,null,{"$f":"IF(B3433=\"\",\"\",IF(C3433=\"\",F3432,IF(E3433=\"\",F3432,E3433/MAX($E$9:E3433)-1)))","v":""}]
[null,null,null,null,null,{"$f":"IF(B3434=\"\",\"\",IF(C3434=\"\",F3433,IF(E3434=\"\",F3433,E3434/MAX($E$9:E3434)-1)))","v":""}]
[null,null,null,null,null,{"$f":"IF(B3435=\"\",\"\",IF(C3435=\"\",F3434,IF(E3435=\"\",F3434,E3435/MAX($E$9:E3435)-1)))","v":""}]
[null,null,null,null,null,{"$f":"IF(B3436=\"\",\"\",IF(C3436=\"\",F3435,IF(E3436=\"\",F3435,E3436/MAX($E$9:E3436)-1)))","v":""}]
[null,null,null,null,null,{"$f":"IF(B3437=\"\",\"\",IF(C3437=\"\",F3436,IF(E3437=\"\",F3436,E3437/MAX($E$9:E3437)-1)))","v":""}]
[null,null,null,null,null,{"$f":"IF(B3438=\"\",\"\",IF(C3438=\"\",F3437,IF(E3438=\"\",F3437,E3438/MAX($E$9:E3438)-1)))","v":""}]
[null,null,null,null,null,{"$f":"IF(B3439=\"\",\"\",IF(C3439=\"\",F3438,IF(E3439=\"\",F3438,E3439/MAX($E$9:E3439)-1)))","v":""}]
[null,null,null,null,null,{"$f":"IF(B3440=\"\",\"\",IF(C3440=\"\",F3439,IF(E3440=\"\",F3439,E3440/MAX($E$9:E3440)-1)))","v":""}]
[null,null,null,null,null,{"$f":"IF(B3441=\"\",\"\",IF(C3441=\"\",F3440,IF(E3441=\"\",F3440,E3441/MAX($E$9:E3441)-1)))","v":""}]
[null,null,null,null,null,{"$f":"IF(B3442=\"\",\"\",IF(C3442=\"\",F3441,IF(E3442=\"\",F3441,E3442/MAX($E$9:E3442)-1)))","v":""}]
[null,null,null,null,null,{"$f":"IF(B3443=\"\",\"\",IF(C3443=\"\",F3442,IF(E3443=\"\",F3442,E3443/MAX($E$9:E3443)-1)))","v":""}]
[null,null,null,null,null,{"$f":"IF(B3444=\"\",\"\",IF(C3444=\"\",F3443,IF(E3444=\"\",F3443,E3444/MAX($E$9:E3444)-1)))","v":""}]
[null,null,null,null,null,{"$f":"IF(B3445=\"\",\"\",IF(C3445=\"\",F3444,IF(E3445=\"\",F3444,E3445/MAX($E$9:E3445)-1)))","v":""}]
[null,null,null,null,null,{"$f":"IF(B3446=\"\",\"\",IF(C3446=\"\",F3445,IF(E3446=\"\",F3445,E3446/MAX($E$9:E3446)-1)))","v":""}]
[null,null,null,null,null,{"$f":"IF(B3447=\"\",\"\",IF(C3447=\"\",F3446,IF(E3447=\"\",F3446,E3447/MAX($E$9:E3447)-1)))","v":""}]
[null,null,null,null,null,{"$f":"IF(B3448=\"\",\"\",IF(C3448=\"\",F3447,IF(E3448=\"\",F3447,E3448/MAX($E$9:E3448)-1)))","v":""}]
[null,null,null,null,null,{"$f":"IF(B3449=\"\",\"\",IF(C3449=\"\",F3448,IF(E3449=\"\",F3448,E3449/MAX($E$9:E3449)-1)))","v":""}]
[null,null,null,null,null,{"$f":"IF(B3450=\"\",\"\",IF(C3450=\"\",F3449,IF(E3450=\"\",F3449,E3450/MAX($E$9:E3450)-1)))","v":""}]
[null,null,null,null,null,{"$f":"IF(B3451=\"\",\"\",IF(C3451=\"\",F3450,IF(E3451=\"\",F3450,E3451/MAX($E$9:E3451)-1)))","v":""}]
[null,null,null,null,null,{"$f":"IF(B3452=\"\",\"\",IF(C3452=\"\",F3451,IF(E3452=\"\",F3451,E3452/MAX($E$9:E3452)-1)))","v":""}]
[null,null,null,null,null,{"$f":"IF(B3453=\"\",\"\",IF(C3453=\"\",F3452,IF(E3453=\"\",F3452,E3453/MAX($E$9:E3453)-1)))","v":""}]
[null,null,null,null,null,{"$f":"IF(B3454=\"\",\"\",IF(C3454=\"\",F3453,IF(E3454=\"\",F3453,E3454/MAX($E$9:E3454)-1)))","v":""}]
[null,null,null,null,null,{"$f":"IF(B3455=\"\",\"\",IF(C3455=\"\",F3454,IF(E3455=\"\",F3454,E3455/MAX($E$9:E3455)-1)))","v":""}]
[null,null,null,null,null,{"$f":"IF(B3456=\"\",\"\",IF(C3456=\"\",F3455,IF(E3456=\"\",F3455,E3456/MAX($E$9:E3456)-1)))","v":""}]
[null,null,null,null,null,{"$f":"IF(B3457=\"\",\"\",IF(C3457=\"\",F3456,IF(E3457=\"\",F3456,E3457/MAX($E$9:E3457)-1)))","v":""}]
[null,null,null,null,null,{"$f":"IF(B3458=\"\",\"\",IF(C3458=\"\",F3457,IF(E3458=\"\",F3457,E3458/MAX($E$9:E3458)-1)))","v":""}]
[null,null,null,null,null,{"$f":"IF(B3459=\"\",\"\",IF(C3459=\"\",F3458,IF(E3459=\"\",F3458,E3459/MAX($E$9:E3459)-1)))","v":""}]
[null,null,null,null,null,{"$f":"IF(B3460=\"\",\"\",IF(C3460=\"\",F3459,IF(E3460=\"\",F3459,E3460/MAX($E$9:E3460)-1)))","v":""}]
[null,null,null,null,null,{"$f":"IF(B3461=\"\",\"\",IF(C3461=\"\",F3460,IF(E3461=\"\",F3460,E3461/MAX($E$9:E3461)-1)))","v":""}]
[null,null,null,null,null,{"$f":"IF(B3462=\"\",\"\",IF(C3462=\"\",F3461,IF(E3462=\"\",F3461,E3462/MAX($E$9:E3462)-1)))","v":""}]
[null,null,null,null,null,{"$f":"IF(B3463=\"\",\"\",IF(C3463=\"\",F3462,IF(E3463=\"\",F3462,E3463/MAX($E$9:E3463)-1)))","v":""}]
[null,null,null,null,null,{"$f":"IF(B3464=\"\",\"\",IF(C3464=\"\",F3463,IF(E3464=\"\",F3463,E3464/MAX($E$9:E3464)-1)))","v":""}]
[null,null,null,null,null,{"$f":"IF(B3465=\"\",\"\",IF(C3465=\"\",F3464,IF(E3465=\"\",F3464,E3465/MAX($E$9:E3465)-1)))","v":""}]
[null,null,null,null,null,{"$f":"IF(B3466=\"\",\"\",IF(C3466=\"\",F3465,IF(E3466=\"\",F3465,E3466/MAX($E$9:E3466)-1)))","v":""}]
[null,null,null,null,null,{"$f":"IF(B3467=\"\",\"\",IF(C3467=\"\",F3466,IF(E3467=\"\",F3466,E3467/MAX($E$9:E3467)-1)))","v":""}]
[null,null,null,null,null,{"$f":"IF(B3468=\"\",\"\",IF(C3468=\"\",F3467,IF(E3468=\"\",F3467,E3468/MAX($E$9:E3468)-1)))","v":""}]
[null,null,null,null,null,{"$f":"IF(B3469=\"\",\"\",IF(C3469=\"\",F3468,IF(E3469=\"\",F3468,E3469/MAX($E$9:E3469)-1)))","v":""}]
[null,null,null,null,null,{"$f":"IF(B3470=\"\",\"\",IF(C3470=\"\",F3469,IF(E3470=\"\",F3469,E3470/MAX($E$9:E3470)-1)))","v":""}]
[null,null,null,null,null,{"$f":"IF(B3471=\"\",\"\",IF(C3471=\"\",F3470,IF(E3471=\"\",F3470,E3471/MAX($E$9:E3471)-1)))","v":""}]
[null,null,null,null,null,{"$f":"IF(B3472=\"\",\"\",IF(C3472=\"\",F3471,IF(E3472=\"\",F3471,E3472/MAX($E$9:E3472)-1)))","v":""}]
[null,null,null,null,null,{"$f":"IF(B3473=\"\",\"\",IF(C3473=\"\",F3472,IF(E3473=\"\",F3472,E3473/MAX($E$9:E3473)-1)))","v":""}]
[null,null,null,null,null,{"$f":"IF(B3474=\"\",\"\",IF(C3474=\"\",F3473,IF(E3474=\"\",F3473,E3474/MAX($E$9:E3474)-1)))","v":""}]
[null,null,null,null,null,{"$f":"IF(B3475=\"\",\"\",IF(C3475=\"\",F3474,IF(E3475=\"\",F3474,E3475/MAX($E$9:E3475)-1)))","v":""}]
[null,null,null,null,null,{"$f":"IF(B3476=\"\",\"\",IF(C3476=\"\",F3475,IF(E3476=\"\",F3475,E3476/MAX($E$9:E3476)-1)))","v":""}]
[null,null,null,null,null,{"$f":"IF(B3477=\"\",\"\",IF(C3477=\"\",F3476,IF(E3477=\"\",F3476,E3477/MAX($E$9:E3477)-1)))","v":""}]
[null,null,null,null,null,{"$f":"IF(B3478=\"\",\"\",IF(C3478=\"\",F3477,IF(E3478=\"\",F3477,E3478/MAX($E$9:E3478)-1)))","v":""}]
[null,null,null,null,null,{"$f":"IF(B3479=\"\",\"\",IF(C3479=\"\",F3478,IF(E3479=\"\",F3478,E3479/MAX($E$9:E3479)-1)))","v":""}]
[null,null,null,null,null,{"$f":"IF(B3480=\"\",\"\",IF(C3480=\"\",F3479,IF(E3480=\"\",F3479,E3480/MAX($E$9:E3480)-1)))","v":""}]
[null,null,null,null,null,{"$f":"IF(B3481=\"\",\"\",IF(C3481=\"\",F3480,IF(E3481=\"\",F3480,E3481/MAX($E$9:E3481)-1)))","v":""}]
[null,null,null,null,null,{"$f":"IF(B3482=\"\",\"\",IF(C3482=\"\",F3481,IF(E3482=\"\",F3481,E3482/MAX($E$9:E3482)-1)))","v":""}]
[null,null,null,null,null,{"$f":"IF(B3483=\"\",\"\",IF(C3483=\"\",F3482,IF(E3483=\"\",F3482,E3483/MAX($E$9:E3483)-1)))","v":""}]
[null,null,null,null,null,{"$f":"IF(B3484=\"\",\"\",IF(C3484=\"\",F3483,IF(E3484=\"\",F3483,E3484/MAX($E$9:E3484)-1)))","v":""}]
[null,null,null,null,null,{"$f":"IF(B3485=\"\",\"\",IF(C3485=\"\",F3484,IF(E3485=\"\",F3484,E3485/MAX($E$9:E3485)-1)))","v":""}]
[null,null,null,null,null,{"$f":"IF(B3486=\"\",\"\",IF(C3486=\"\",F3485,IF(E3486=\"\",F3485,E3486/MAX($E$9:E3486)-1)))","v":""}]
[null,null,null,null,null,{"$f":"IF(B3487=\"\",\"\",IF(C3487=\"\",F3486,IF(E3487=\"\",F3486,E3487/MAX($E$9:E3487)-1)))","v":""}]
[null,null,null,null,null,{"$f":"IF(B3488=\"\",\"\",IF(C3488=\"\",F3487,IF(E3488=\"\",F3487,E3488/MAX($E$9:E3488)-1)))","v":""}]
[null,null,null,null,null,{"$f":"IF(B3489=\"\",\"\",IF(C3489=\"\",F3488,IF(E3489=\"\",F3488,E3489/MAX($E$9:E3489)-1)))","v":""}]
[null,null,null,null,null,{"$f":"IF(B3490=\"\",\"\",IF(C3490=\"\",F3489,IF(E3490=\"\",F3489,E3490/MAX($E$9:E3490)-1)))","v":""}]
[null,null,null,null,null,{"$f":"IF(B3491=\"\",\"\",IF(C3491=\"\",F3490,IF(E3491=\"\",F3490,E3491/MAX($E$9:E3491)-1)))","v":""}]
[null,null,null,null,null,{"$f":"IF(B3492=\"\",\"\",IF(C3492=\"\",F3491,IF(E3492=\"\",F3491,E3492/MAX($E$9:E3492)-1)))","v":""}]
[null,null,null,null,null,{"$f":"IF(B3493=\"\",\"\",IF(C3493=\"\",F3492,IF(E3493=\"\",F3492,E3493/MAX($E$9:E3493)-1)))","v":""}]
[null,null,null,null,null,{"$f":"IF(B3494=\"\",\"\",IF(C3494=\"\",F3493,IF(E3494=\"\",F3493,E3494/MAX($E$9:E3494)-1)))","v":""}]
[null,null,null,null,null,{"$f":"IF(B3495=\"\",\"\",IF(C3495=\"\",F3494,IF(E3495=\"\",F3494,E3495/MAX($E$9:E3495)-1)))","v":""}]
[null,null,null,null,null,{"$f":"IF(B3496=\"\",\"\",IF(C3496=\"\",F3495,IF(E3496=\"\",F3495,E3496/MAX($E$9:E3496)-1)))","v":""}]
[null,null,null,null,null,{"$f":"IF(B3497=\"\",\"\",IF(C3497=\"\",F3496,IF(E3497=\"\",F3496,E3497/MAX($E$9:E3497)-1)))","v":""}]
[null,null,null,null,null,{"$f":"IF(B3498=\"\",\"\",IF(C3498=\"\",F3497,IF(E3498=\"\",F3497,E3498/MAX($E$9:E3498)-1)))","v":""}]
[null,null,null,null,null,{"$f":"IF(B3499=\"\",\"\",IF(C3499=\"\",F3498,IF(E3499=\"\",F3498,E3499/MAX($E$9:E3499)-1)))","v":""}]
[null,null,null,null,null,{"$f":"IF(B3500=\"\",\"\",IF(C3500=\"\",F3499,IF(E3500=\"\",F3499,E3500/MAX($E$9:E3500)-1)))","v":""}]
[null,null,null,null,null,{"$f":"IF(B3501=\"\",\"\",IF(C3501=\"\",F3500,IF(E3501=\"\",F3500,E3501/MAX($E$9:E3501)-1)))","v":""}]
[null,null,null,null,null,{"$f":"IF(B3502=\"\",\"\",IF(C3502=\"\",F3501,IF(E3502=\"\",F3501,E3502/MAX($E$9:E3502)-1)))","v":""}]
[null,null,null,null,null,{"$f":"IF(B3503=\"\",\"\",IF(C3503=\"\",F3502,IF(E3503=\"\",F3502,E3503/MAX($E$9:E3503)-1)))","v":""}]
[null,null,null,null,null,{"$f":"IF(B3504=\"\",\"\",IF(C3504=\"\",F3503,IF(E3504=\"\",F3503,E3504/MAX($E$9:E3504)-1)))","v":""}]
[null,null,null,null,null,{"$f":"IF(B3505=\"\",\"\",IF(C3505=\"\",F3504,IF(E3505=\"\",F3504,E3505/MAX($E$9:E3505)-1)))","v":""}]
[null,null,null,null,null,{"$f":"IF(B3506=\"\",\"\",IF(C3506=\"\",F3505,IF(E3506=\"\",F3505,E3506/MAX($E$9:E3506)-1)))","v":""}]
[null,null,null,null,null,{"$f":"IF(B3507=\"\",\"\",IF(C3507=\"\",F3506,IF(E3507=\"\",F3506,E3507/MAX($E$9:E3507)-1)))","v":""}]
[null,null,null,null,null,{"$f":"IF(B3508=\"\",\"\",IF(C3508=\"\",F3507,IF(E3508=\"\",F3507,E3508/MAX($E$9:E3508)-1)))","v":""}]
[null,null,null,null,null,{"$f":"IF(B3509=\"\",\"\",IF(C3509=\"\",F3508,IF(E3509=\"\",F3508,E3509/MAX($E$9:E3509)-1)))","v":""}]
[null,null,null,null,null,{"$f":"IF(B3510=\"\",\"\",IF(C3510=\"\",F3509,IF(E3510=\"\",F3509,E3510/MAX($E$9:E3510)-1)))","v":""}]
[null,null,null,null,null,{"$f":"IF(B3511=\"\",\"\",IF(C3511=\"\",F3510,IF(E3511=\"\",F3510,E3511/MAX($E$9:E3511)-1)))","v":""}]
[null,null,null,null,null,{"$f":"IF(B3512=\"\",\"\",IF(C3512=\"\",F3511,IF(E3512=\"\",F3511,E3512/MAX($E$9:E3512)-1)))","v":""}]
[null,null,null,null,null,{"$f":"IF(B3513=\"\",\"\",IF(C3513=\"\",F3512,IF(E3513=\"\",F3512,E3513/MAX($E$9:E3513)-1)))","v":""}]
[null,null,null,null,null,{"$f":"IF(B3514=\"\",\"\",IF(C3514=\"\",F3513,IF(E3514=\"\",F3513,E3514/MAX($E$9:E3514)-1)))","v":""}]
[null,null,null,null,null,{"$f":"IF(B3515=\"\",\"\",IF(C3515=\"\",F3514,IF(E3515=\"\",F3514,E3515/MAX($E$9:E3515)-1)))","v":""}]
[null,null,null,null,null,{"$f":"IF(B3516=\"\",\"\",IF(C3516=\"\",F3515,IF(E3516=\"\",F3515,E3516/MAX($E$9:E3516)-1)))","v":""}]
[null,null,null,null,null,{"$f":"IF(B3517=\"\",\"\",IF(C3517=\"\",F3516,IF(E3517=\"\",F3516,E3517/MAX($E$9:E3517)-1)))","v":""}]
[null,null,null,null,null,{"$f":"IF(B3518=\"\",\"\",IF(C3518=\"\",F3517,IF(E3518=\"\",F3517,E3518/MAX($E$9:E3518)-1)))","v":""}]
[null,null,null,null,null,{"$f":"IF(B3519=\"\",\"\",IF(C3519=\"\",F3518,IF(E3519=\"\",F3518,E3519/MAX($E$9:E3519)-1)))","v":""}]
[null,null,null,null,null,{"$f":"IF(B3520=\"\",\"\",IF(C3520=\"\",F3519,IF(E3520=\"\",F3519,E3520/MAX($E$9:E3520)-1)))","v":""}]
[null,null,null,null,null,{"$f":"IF(B3521=\"\",\"\",IF(C3521=\"\",F3520,IF(E3521=\"\",F3520,E3521/MAX($E$9:E3521)-1)))","v":""}]
[null,null,null,null,null,{"$f":"IF(B3522=\"\",\"\",IF(C3522=\"\",F3521,IF(E3522=\"\",F3521,E3522/MAX($E$9:E3522)-1)))","v":""}]
[null,null,null,null,null,{"$f":"IF(B3523=\"\",\"\",IF(C3523=\"\",F3522,IF(E3523=\"\",F3522,E3523/MAX($E$9:E3523)-1)))","v":""}]
[null,null,null,null,null,{"$f":"IF(B3524=\"\",\"\",IF(C3524=\"\",F3523,IF(E3524=\"\",F3523,E3524/MAX($E$9:E3524)-1)))","v":""}]
[null,null,null,null,null,{"$f":"IF(B3525=\"\",\"\",IF(C3525=\"\",F3524,IF(E3525=\"\",F3524,E3525/MAX($E$9:E3525)-1)))","v":""}]
[null,null,null,null,null,{"$f":"IF(B3526=\"\",\"\",IF(C3526=\"\",F3525,IF(E3526=\"\",F3525,E3526/MAX($E$9:E3526)-1)))","v":""}]
[null,null,null,null,null,{"$f":"IF(B3527=\"\",\"\",IF(C3527=\"\",F3526,IF(E3527=\"\",F3526,E3527/MAX($E$9:E3527)-1)))","v":""}]
[null,null,null,null,null,{"$f":"IF(B3528=\"\",\"\",IF(C3528=\"\",F3527,IF(E3528=\"\",F3527,E3528/MAX($E$9:E3528)-1)))","v":""}]
[null,null,null,null,null,{"$f":"IF(B3529=\"\",\"\",IF(C3529=\"\",F3528,IF(E3529=\"\",F3528,E3529/MAX($E$9:E3529)-1)))","v":""}]
[null,null,null,null,null,{"$f":"IF(B3530=\"\",\"\",IF(C3530=\"\",F3529,IF(E3530=\"\",F3529,E3530/MAX($E$9:E3530)-1)))","v":""}]
[null,null,null,null,null,{"$f":"IF(B3531=\"\",\"\",IF(C3531=\"\",F3530,IF(E3531=\"\",F3530,E3531/MAX($E$9:E3531)-1)))","v":""}]
[null,null,null,null,null,{"$f":"IF(B3532=\"\",\"\",IF(C3532=\"\",F3531,IF(E3532=\"\",F3531,E3532/MAX($E$9:E3532)-1)))","v":""}]
[null,null,null,null,null,{"$f":"IF(B3533=\"\",\"\",IF(C3533=\"\",F3532,IF(E3533=\"\",F3532,E3533/MAX($E$9:E3533)-1)))","v":""}]
[null,null,null,null,null,{"$f":"IF(B3534=\"\",\"\",IF(C3534=\"\",F3533,IF(E3534=\"\",F3533,E3534/MAX($E$9:E3534)-1)))","v":""}]
[null,null,null,null,null,{"$f":"IF(B3535=\"\",\"\",IF(C3535=\"\",F3534,IF(E3535=\"\",F3534,E3535/MAX($E$9:E3535)-1)))","v":""}]
[null,null,null,null,null,{"$f":"IF(B3536=\"\",\"\",IF(C3536=\"\",F3535,IF(E3536=\"\",F3535,E3536/MAX($E$9:E3536)-1)))","v":""}]
[null,null,null,null,null,{"$f":"IF(B3537=\"\",\"\",IF(C3537=\"\",F3536,IF(E3537=\"\",F3536,E3537/MAX($E$9:E3537)-1)))","v":""}]
[null,null,null,null,null,{"$f":"IF(B3538=\"\",\"\",IF(C3538=\"\",F3537,IF(E3538=\"\",F3537,E3538/MAX($E$9:E3538)-1)))","v":""}]
[null,null,null,null,null,{"$f":"IF(B3539=\"\",\"\",IF(C3539=\"\",F3538,IF(E3539=\"\",F3538,E3539/MAX($E$9:E3539)-1)))","v":""}]
[null,null,null,null,null,{"$f":"IF(B3540=\"\",\"\",IF(C3540=\"\",F3539,IF(E3540=\"\",F3539,E3540/MAX($E$9:E3540)-1)))","v":""}]
[null,null,null,null,null,{"$f":"IF(B3541=\"\",\"\",IF(C3541=\"\",F3540,IF(E3541=\"\",F3540,E3541/MAX($E$9:E3541)-1)))","v":""}]
[null,null,null,null,null,{"$f":"IF(B3542=\"\",\"\",IF(C3542=\"\",F3541,IF(E3542=\"\",F3541,E3542/MAX($E$9:E3542)-1)))","v":""}]
[null,null,null,null,null,{"$f":"IF(B3543=\"\",\"\",IF(C3543=\"\",F3542,IF(E3543=\"\",F3542,E3543/MAX($E$9:E3543)-1)))","v":""}]
[null,null,null,null,null,{"$f":"IF(B3544=\"\",\"\",IF(C3544=\"\",F3543,IF(E3544=\"\",F3543,E3544/MAX($E$9:E3544)-1)))","v":""}]
[null,null,null,null,null,{"$f":"IF(B3545=\"\",\"\",IF(C3545=\"\",F3544,IF(E3545=\"\",F3544,E3545/MAX($E$9:E3545)-1)))","v":""}]
[null,null,null,null,null,{"$f":"IF(B3546=\"\",\"\",IF(C3546=\"\",F3545,IF(E3546=\"\",F3545,E3546/MAX($E$9:E3546)-1)))","v":""}]
[null,null,null,null,null,{"$f":"IF(B3547=\"\",\"\",IF(C3547=\"\",F3546,IF(E3547=\"\",F3546,E3547/MAX($E$9:E3547)-1)))","v":""}]
[null,null,null,null,null,{"$f":"IF(B3548=\"\",\"\",IF(C3548=\"\",F3547,IF(E3548=\"\",F3547,E3548/MAX($E$9:E3548)-1)))","v":""}]
[null,null,null,null,null,{"$f":"IF(B3549=\"\",\"\",IF(C3549=\"\",F3548,IF(E3549=\"\",F3548,E3549/MAX($E$9:E3549)-1)))","v":""}]
[null,null,null,null,null,{"$f":"IF(B3550=\"\",\"\",IF(C3550=\"\",F3549,IF(E3550=\"\",F3549,E3550/MAX($E$9:E3550)-1)))","v":""}]
[null,null,null,null,null,{"$f":"IF(B3551=\"\",\"\",IF(C3551=\"\",F3550,IF(E3551=\"\",F3550,E3551/MAX($E$9:E3551)-1)))","v":""}]
[null,null,null,null,null,{"$f":"IF(B3552=\"\",\"\",IF(C3552=\"\",F3551,IF(E3552=\"\",F3551,E3552/MAX($E$9:E3552)-1)))","v":""}]
[null,null,null,null,null,{"$f":"IF(B3553=\"\",\"\",IF(C3553=\"\",F3552,IF(E3553=\"\",F3552,E3553/MAX($E$9:E3553)-1)))","v":""}]
[null,null,null,null,null,{"$f":"IF(B3554=\"\",\"\",IF(C3554=\"\",F3553,IF(E3554=\"\",F3553,E3554/MAX($E$9:E3554)-1)))","v":""}]
[null,null,null,null,null,{"$f":"IF(B3555=\"\",\"\",IF(C3555=\"\",F3554,IF(E3555=\"\",F3554,E3555/MAX($E$9:E3555)-1)))","v":""}]
[null,null,null,null,null,{"$f":"IF(B3556=\"\",\"\",IF(C3556=\"\",F3555,IF(E3556=\"\",F3555,E3556/MAX($E$9:E3556)-1)))","v":""}]
[null,null,null,null,null,{"$f":"IF(B3557=\"\",\"\",IF(C3557=\"\",F3556,IF(E3557=\"\",F3556,E3557/MAX($E$9:E3557)-1)))","v":""}]
[null,null,null,null,null,{"$f":"IF(B3558=\"\",\"\",IF(C3558=\"\",F3557,IF(E3558=\"\",F3557,E3558/MAX($E$9:E3558)-1)))","v":""}]
[null,null,null,null,null,{"$f":"IF(B3559=\"\",\"\",IF(C3559=\"\",F3558,IF(E3559=\"\",F3558,E3559/MAX($E$9:E3559)-1)))","v":""}]
[null,null,null,null,null,{"$f":"IF(B3560=\"\",\"\",IF(C3560=\"\",F3559,IF(E3560=\"\",F3559,E3560/MAX($E$9:E3560)-1)))","v":""}]
[null,null,null,null,null,{"$f":"IF(B3561=\"\",\"\",IF(C3561=\"\",F3560,IF(E3561=\"\",F3560,E3561/MAX($E$9:E3561)-1)))","v":""}]
[null,null,null,null,null,{"$f":"IF(B3562=\"\",\"\",IF(C3562=\"\",F3561,IF(E3562=\"\",F3561,E3562/MAX($E$9:E3562)-1)))","v":""}]
[null,null,null,null,null,{"$f":"IF(B3563=\"\",\"\",IF(C3563=\"\",F3562,IF(E3563=\"\",F3562,E3563/MAX($E$9:E3563)-1)))","v":""}]
[null,null,null,null,null,{"$f":"IF(B3564=\"\",\"\",IF(C3564=\"\",F3563,IF(E3564=\"\",F3563,E3564/MAX($E$9:E3564)-1)))","v":""}]
[null,null,null,null,null,{"$f":"IF(B3565=\"\",\"\",IF(C3565=\"\",F3564,IF(E3565=\"\",F3564,E3565/MAX($E$9:E3565)-1)))","v":""}]
[null,null,null,null,null,{"$f":"IF(B3566=\"\",\"\",IF(C3566=\"\",F3565,IF(E3566=\"\",F3565,E3566/MAX($E$9:E3566)-1)))","v":""}]
[null,null,null,null,null,{"$f":"IF(B3567=\"\",\"\",IF(C3567=\"\",F3566,IF(E3567=\"\",F3566,E3567/MAX($E$9:E3567)-1)))","v":""}]
[null,null,null,null,null,{"$f":"IF(B3568=\"\",\"\",IF(C3568=\"\",F3567,IF(E3568=\"\",F3567,E3568/MAX($E$9:E3568)-1)))","v":""}]
[null,null,null,null,null,{"$f":"IF(B3569=\"\",\"\",IF(C3569=\"\",F3568,IF(E3569=\"\",F3568,E3569/MAX($E$9:E3569)-1)))","v":""}]
[null,null,null,null,null,{"$f":"IF(B3570=\"\",\"\",IF(C3570=\"\",F3569,IF(E3570=\"\",F3569,E3570/MAX($E$9:E3570)-1)))","v":""}]
[null,null,null,null,null,{"$f":"IF(B3571=\"\",\"\",IF(C3571=\"\",F3570,IF(E3571=\"\",F3570,E3571/MAX($E$9:E3571)-1)))","v":""}]
[null,null,null,null,null,{"$f":"IF(B3572=\"\",\"\",IF(C3572=\"\",F3571,IF(E3572=\"\",F3571,E3572/MAX($E$9:E3572)-1)))","v":""}]
[null,null,null,null,null,{"$f":"IF(B3573=\"\",\"\",IF(C3573=\"\",F3572,IF(E3573=\"\",F3572,E3573/MAX($E$9:E3573)-1)))","v":""}]
[null,null,null,null,null,{"$f":"IF(B3574=\"\",\"\",IF(C3574=\"\",F3573,IF(E3574=\"\",F3573,E3574/MAX($E$9:E3574)-1)))","v":""}]
[null,null,null,null,null,{"$f":"IF(B3575=\"\",\"\",IF(C3575=\"\",F3574,IF(E3575=\"\",F3574,E3575/MAX($E$9:E3575)-1)))","v":""}]
[null,null,null,null,null,{"$f":"IF(B3576=\"\",\"\",IF(C3576=\"\",F3575,IF(E3576=\"\",F3575,E3576/MAX($E$9:E3576)-1)))","v":""}]
[null,null,null,null,null,{"$f":"IF(B3577=\"\",\"\",IF(C3577=\"\",F3576,IF(E3577=\"\",F3576,E3577/MAX($E$9:E3577)-1)))","v":""}]
[null,null,null,null,null,{"$f":"IF(B3578=\"\",\"\",IF(C3578=\"\",F3577,IF(E3578=\"\",F3577,E3578/MAX($E$9:E3578)-1)))","v":""}]
[null,null,null,null,null,{"$f":"IF(B3579=\"\",\"\",IF(C3579=\"\",F3578,IF(E3579=\"\",F3578,E3579/MAX($E$9:E3579)-1)))","v":""}]
[null,null,null,null,null,{"$f":"IF(B3580=\"\",\"\",IF(C3580=\"\",F3579,IF(E3580=\"\",F3579,E3580/MAX($E$9:E3580)-1)))","v":""}]
[null,null,null,null,null,{"$f":"IF(B3581=\"\",\"\",IF(C3581=\"\",F3580,IF(E3581=\"\",F3580,E3581/MAX($E$9:E3581)-1)))","v":""}]
[null,null,null,null,null,{"$f":"IF(B3582=\"\",\"\",IF(C3582=\"\",F3581,IF(E3582=\"\",F3581,E3582/MAX($E$9:E3582)-1)))","v":""}]
[null,null,null,null,null,{"$f":"IF(B3583=\"\",\"\",IF(C3583=\"\",F3582,IF(E3583=\"\",F3582,E3583/MAX($E$9:E3583)-1)))","v":""}]
[null,null,null,null,null,{"$f":"IF(B3584=\"\",\"\",IF(C3584=\"\",F3583,IF(E3584=\"\",F3583,E3584/MAX($E$9:E3584)-1)))","v":""}]
[null,null,null,null,null,{"$f":"IF(B3585=\"\",\"\",IF(C3585=\"\",F3584,IF(E3585=\"\",F3584,E3585/MAX($E$9:E3585)-1)))","v":""}]
[null,null,null,null,null,{"$f":"IF(B3586=\"\",\"\",IF(C3586=\"\",F3585,IF(E3586=\"\",F3585,E3586/MAX($E$9:E3586)-1)))","v":""}]
[null,null,null,null,null,{"$f":"IF(B3587=\"\",\"\",IF(C3587=\"\",F3586,IF(E3587=\"\",F3586,E3587/MAX($E$9:E3587)-1)))","v":""}]
[null,null,null,null,null,{"$f":"IF(B3588=\"\",\"\",IF(C3588=\"\",F3587,IF(E3588=\"\",F3587,E3588/MAX($E$9:E3588)-1)))","v":""}]
[null,null,null,null,null,{"$f":"IF(B3589=\"\",\"\",IF(C3589=\"\",F3588,IF(E3589=\"\",F3588,E3589/MAX($E$9:E3589)-1)))","v":""}]
[null,null,null,null,null,{"$f":"IF(B3590=\"\",\"\",IF(C3590=\"\",F3589,IF(E3590=\"\",F3589,E3590/MAX($E$9:E3590)-1)))","v":""}]
[null,null,null,null,null,{"$f":"IF(B3591=\"\",\"\",IF(C3591=\"\",F3590,IF(E3591=\"\",F3590,E3591/MAX($E$9:E3591)-1)))","v":""}]
[null,null,null,null,null,{"$f":"IF(B3592=\"\",\"\",IF(C3592=\"\",F3591,IF(E3592=\"\",F3591,E3592/MAX($E$9:E3592)-1)))","v":""}]
[null,null,null,null,null,{"$f":"IF(B3593=\"\",\"\",IF(C3593=\"\",F3592,IF(E3593=\"\",F3592,E3593/MAX($E$9:E3593)-1)))","v":""}]
[null,null,null,null,null,{"$f":"IF(B3594=\"\",\"\",IF(C3594=\"\",F3593,IF(E3594=\"\",F3593,E3594/MAX($E$9:E3594)-1)))","v":""}]
[null,null,null,null,null,{"$f":"IF(B3595=\"\",\"\",IF(C3595=\"\",F3594,IF(E3595=\"\",F3594,E3595/MAX($E$9:E3595)-1)))","v":""}]
[null,null,null,null,null,{"$f":"IF(B3596=\"\",\"\",IF(C3596=\"\",F3595,IF(E3596=\"\",F3595,E3596/MAX($E$9:E3596)-1)))","v":""}]
[null,null,null,null,null,{"$f":"IF(B3597=\"\",\"\",IF(C3597=\"\",F3596,IF(E3597=\"\",F3596,E3597/MAX($E$9:E3597)-1)))","v":""}]
[null,null,null,null,null,{"$f":"IF(B3598=\"\",\"\",IF(C3598=\"\",F3597,IF(E3598=\"\",F3597,E3598/MAX($E$9:E3598)-1)))","v":""}]
[null,null,null,null,null,{"$f":"IF(B3599=\"\",\"\",IF(C3599=\"\",F3598,IF(E3599=\"\",F3598,E3599/MAX($E$9:E3599)-1)))","v":""}]
[null,null,null,null,null,{"$f":"IF(B3600=\"\",\"\",IF(C3600=\"\",F3599,IF(E3600=\"\",F3599,E3600/MAX($E$9:E3600)-1)))","v":""}]
[null,null,null,null,null,{"$f":"IF(B3601=\"\",\"\",IF(C3601=\"\",F3600,IF(E3601=\"\",F3600,E3601/MAX($E$9:E3601)-1)))","v":""}]
[null,null,null,null,null,{"$f":"IF(B3602=\"\",\"\",IF(C3602=\"\",F3601,IF(E3602=\"\",F3601,E3602/MAX($E$9:E3602)-1)))","v":""}]
[null,null,null,null,null,{"$f":"IF(B3603=\"\",\"\",IF(C3603=\"\",F3602,IF(E3603=\"\",F3602,E3603/MAX($E$9:E3603)-1)))","v":""}]
[null,null,null,null,null,{"$f":"IF(B3604=\"\",\"\",IF(C3604=\"\",F3603,IF(E3604=\"\",F3603,E3604/MAX($E$9:E3604)-1)))","v":""}]
[null,null,null,null,null,{"$f":"IF(B3605=\"\",\"\",IF(C3605=\"\",F3604,IF(E3605=\"\",F3604,E3605/MAX($E$9:E3605)-1)))","v":""}]
[null,null,null,null,null,{"$f":"IF(B3606=\"\",\"\",IF(C3606=\"\",F3605,IF(E3606=\"\",F3605,E3606/MAX($E$9:E3606)-1)))","v":""}]
[null,null,null,null,null,{"$f":"IF(B3607=\"\",\"\",IF(C3607=\"\",F3606,IF(E3607=\"\",F3606,E3607/MAX($E$9:E3607)-1)))","v":""}]
[null,null,null,null,null,{"$f":"IF(B3608=\"\",\"\",IF(C3608=\"\",F3607,IF(E3608=\"\",F3607,E3608/MAX($E$9:E3608)-1)))","v":""}]
[null,null,null,null,null,{"$f":"IF(B3609=\"\",\"\",IF(C3609=\"\",F3608,IF(E3609=\"\",F3608,E3609/MAX($E$9:E3609)-1)))","v":""}]
[null,null,null,null,null,{"$f":"IF(B3610=\"\",\"\",IF(C3610=\"\",F3609,IF(E3610=\"\",F3609,E3610/MAX($E$9:E3610)-1)))","v":""}]
[null,null,null,null,null,{"$f":"IF(B3611=\"\",\"\",IF(C3611=\"\",F3610,IF(E3611=\"\",F3610,E3611/MAX($E$9:E3611)-1)))","v":""}]
[null,null,null,null,null,{"$f":"IF(B3612=\"\",\"\",IF(C3612=\"\",F3611,IF(E3612=\"\",F3611,E3612/MAX($E$9:E3612)-1)))","v":""}]
[null,null,null,null,null,{"$f":"IF(B3613=\"\",\"\",IF(C3613=\"\",F3612,IF(E3613=\"\",F3612,E3613/MAX($E$9:E3613)-1)))","v":""}]
[null,null,null,null,null,{"$f":"IF(B3614=\"\",\"\",IF(C3614=\"\",F3613,IF(E3614=\"\",F3613,E3614/MAX($E$9:E3614)-1)))","v":""}]
[null,null,null,null,null,{"$f":"IF(B3615=\"\",\"\",IF(C3615=\"\",F3614,IF(E3615=\"\",F3614,E3615/MAX($E$9:E3615)-1)))","v":""}]
[null,null,null,null,null,{"$f":"IF(B3616=\"\",\"\",IF(C3616=\"\",F3615,IF(E3616=\"\",F3615,E3616/MAX($E$9:E3616)-1)))","v":""}]
[null,null,null,null,null,{"$f":"IF(B3617=\"\",\"\",IF(C3617=\"\",F3616,IF(E3617=\"\",F3616,E3617/MAX($E$9:E3617)-1)))","v":""}]
[null,null,null,null,null,{"$f":"IF(B3618=\"\",\"\",IF(C3618=\"\",F3617,IF(E3618=\"\",F3617,E3618/MAX($E$9:E3618)-1)))","v":""}]
[null,null,null,null,null,{"$f":"IF(B3619=\"\",\"\",IF(C3619=\"\",F3618,IF(E3619=\"\",F3618,E3619/MAX($E$9:E3619)-1)))","v":""}]
[null,null,null,null,null,{"$f":"IF(B3620=\"\",\"\",IF(C3620=\"\",F3619,IF(E3620=\"\",F3619,E3620/MAX($E$9:E3620)-1)))","v":""}]
[null,null,null,null,null,{"$f":"IF(B3621=\"\",\"\",IF(C3621=\"\",F3620,IF(E3621=\"\",F3620,E3621/MAX($E$9:E3621)-1)))","v":""}]
[null,null,null,null,null,{"$f":"IF(B3622=\"\",\"\",IF(C3622=\"\",F3621,IF(E3622=\"\",F3621,E3622/MAX($E$9:E3622)-1)))","v":""}]
[null,null,null,null,null,{"$f":"IF(B3623=\"\",\"\",IF(C3623=\"\",F3622,IF(E3623=\"\",F3622,E3623/MAX($E$9:E3623)-1)))","v":""}]
[null,null,null,null,null,{"$f":"IF(B3624=\"\",\"\",IF(C3624=\"\",F3623,IF(E3624=\"\",F3623,E3624/MAX($E$9:E3624)-1)))","v":""}]
[null,null,null,null,null,{"$f":"IF(B3625=\"\",\"\",IF(C3625=\"\",F3624,IF(E3625=\"\",F3624,E3625/MAX($E$9:E3625)-1)))","v":""}]
[null,null,null,null,null,{"$f":"IF(B3626=\"\",\"\",IF(C3626=\"\",F3625,IF(E3626=\"\",F3625,E3626/MAX($E$9:E3626)-1)))","v":""}]
[null,null,null,null,null,{"$f":"IF(B3627=\"\",\"\",IF(C3627=\"\",F3626,IF(E3627=\"\",F3626,E3627/MAX($E$9:E3627)-1)))","v":""}]
[null,null,null,null,null,{"$f":"IF(B3628=\"\",\"\",IF(C3628=\"\",F3627,IF(E3628=\"\",F3627,E3628/MAX($E$9:E3628)-1)))","v":""}]
[null,null,null,null,null,{"$f":"IF(B3629=\"\",\"\",IF(C3629=\"\",F3628,IF(E3629=\"\",F3628,E3629/MAX($E$9:E3629)-1)))","v":""}]
[null,null,null,null,null,{"$f":"IF(B3630=\"\",\"\",IF(C3630=\"\",F3629,IF(E3630=\"\",F3629,E3630/MAX($E$9:E3630)-1)))","v":""}]
[null,null,null,null,null,{"$f":"IF(B3631=\"\",\"\",IF(C3631=\"\",F3630,IF(E3631=\"\",F3630,E3631/MAX($E$9:E3631)-1)))","v":""}]
[null,null,null,null,null,{"$f":"IF(B3632=\"\",\"\",IF(C3632=\"\",F3631,IF(E3632=\"\",F3631,E3632/MAX($E$9:E3632)-1)))","v":""}]
[null,null,null,null,null,{"$f":"IF(B3633=\"\",\"\",IF(C3633=\"\",F3632,IF(E3633=\"\",F3632,E3633/MAX($E$9:E3633)-1)))","v":""}]
[null,null,null,null,null,{"$f":"IF(B3634=\"\",\"\",IF(C3634=\"\",F3633,IF(E3634=\"\",F3633,E3634/MAX($E$9:E3634)-1)))","v":""}]
[null,null,null,null,null,{"$f":"IF(B3635=\"\",\"\",IF(C3635=\"\",F3634,IF(E3635=\"\",F3634,E3635/MAX($E$9:E3635)-1)))","v":""}]
[null,null,null,null,null,{"$f":"IF(B3636=\"\",\"\",IF(C3636=\"\",F3635,IF(E3636=\"\",F3635,E3636/MAX($E$9:E3636)-1)))","v":""}]
[null,null,null,null,null,{"$f":"IF(B3637=\"\",\"\",IF(C3637=\"\",F3636,IF(E3637=\"\",F3636,E3637/MAX($E$9:E3637)-1)))","v":""}]
[null,null,null,null,null,{"$f":"IF(B3638=\"\",\"\",IF(C3638=\"\",F3637,IF(E3638=\"\",F3637,E3638/MAX($E$9:E3638)-1)))","v":""}]
[null,null,null,null,null,{"$f":"IF(B3639=\"\",\"\",IF(C3639=\"\",F3638,IF(E3639=\"\",F3638,E3639/MAX($E$9:E3639)-1)))","v":""}]
[null,null,null,null,null,{"$f":"IF(B3640=\"\",\"\",IF(C3640=\"\",F3639,IF(E3640=\"\",F3639,E3640/MAX($E$9:E3640)-1)))","v":""}]
[null,null,null,null,null,{"$f":"IF(B3641=\"\",\"\",IF(C3641=\"\",F3640,IF(E3641=\"\",F3640,E3641/MAX($E$9:E3641)-1)))","v":""}]
[null,null,null,null,null,{"$f":"IF(B3642=\"\",\"\",IF(C3642=\"\",F3641,IF(E3642=\"\",F3641,E3642/MAX($E$9:E3642)-1)))","v":""}]
[null,null,null,null,null,{"$f":"IF(B3643=\"\",\"\",IF(C3643=\"\",F3642,IF(E3643=\"\",F3642,E3643/MAX($E$9:E3643)-1)))","v":""}]
[null,null,null,null,null,{"$f":"IF(B3644=\"\",\"\",IF(C3644=\"\",F3643,IF(E3644=\"\",F3643,E3644/MAX($E$9:E3644)-1)))","v":""}]
[null,null,null,null,null,{"$f":"IF(B3645=\"\",\"\",IF(C3645=\"\",F3644,IF(E3645=\"\",F3644,E3645/MAX($E$9:E3645)-1)))","v":""}]
[null,null,null,null,null,{"$f":"IF(B3646=\"\",\"\",IF(C3646=\"\",F3645,IF(E3646=\"\",F3645,E3646/MAX($E$9:E3646)-1)))","v":""}]
[null,null,null,null,null,{"$f":"IF(B3647=\"\",\"\",IF(C3647=\"\",F3646,IF(E3647=\"\",F3646,E3647/MAX($E$9:E3647)-1)))","v":""}]
[null,null,null,null,null,{"$f":"IF(B3648=\"\",\"\",IF(C3648=\"\",F3647,IF(E3648=\"\",F3647,E3648/MAX($E$9:E3648)-1)))","v":""}]
[null,null,null,null,null,{"$f":"IF(B3649=\"\",\"\",IF(C3649=\"\",F3648,IF(E3649=\"\",F3648,E3649/MAX($E$9:E3649)-1)))","v":""}]
[null,null,null,null,null,{"$f":"IF(B3650=\"\",\"\",IF(C3650=\"\",F3649,IF(E3650=\"\",F3649,E3650/MAX($E$9:E3650)-1)))","v":""}]
[null,null,null,null,null,{"$f":"IF(B3651=\"\",\"\",IF(C3651=\"\",F3650,IF(E3651=\"\",F3650,E3651/MAX($E$9:E3651)-1)))","v":""}]
[null,null,null,null,null,{"$f":"IF(B3652=\"\",\"\",IF(C3652=\"\",F3651,IF(E3652=\"\",F3651,E3652/MAX($E$9:E3652)-1)))","v":""}]
[null,null,null,null,null,{"$f":"IF(B3653=\"\",\"\",IF(C3653=\"\",F3652,IF(E3653=\"\",F3652,E3653/MAX($E$9:E3653)-1)))","v":""}]
[null,null,null,null,null,{"$f":"IF(B3654=\"\",\"\",IF(C3654=\"\",F3653,IF(E3654=\"\",F3653,E3654/MAX($E$9:E3654)-1)))","v":""}]
[null,null,null,null,null,{"$f":"IF(B3655=\"\",\"\",IF(C3655=\"\",F3654,IF(E3655=\"\",F3654,E3655/MAX($E$9:E3655)-1)))","v":""}]
[null,null,null,null,null,{"$f":"IF(B3656=\"\",\"\",IF(C3656=\"\",F3655,IF(E3656=\"\",F3655,E3656/MAX($E$9:E3656)-1)))","v":""}]
[null,null,null,null,null,{"$f":"IF(B3657=\"\",\"\",IF(C3657=\"\",F3656,IF(E3657=\"\",F3656,E3657/MAX($E$9:E3657)-1)))","v":""}]
[null,null,null,null,null,{"$f":"IF(B3658=\"\",\"\",IF(C3658=\"\",F3657,IF(E3658=\"\",F3657,E3658/MAX($E$9:E3658)-1)))","v":""}]
[null,null,null,null,null,{"$f":"IF(B3659=\"\",\"\",IF(C3659=\"\",F3658,IF(E3659=\"\",F3658,E3659/MAX($E$9:E3659)-1)))","v":""}]
[null,null,null,null,null,{"$f":"IF(B3660=\"\",\"\",IF(C3660=\"\",F3659,IF(E3660=\"\",F3659,E3660/MAX($E$9:E3660)-1)))","v":""}]
[null,null,null,null,null,{"$f":"IF(B3661=\"\",\"\",IF(C3661=\"\",F3660,IF(E3661=\"\",F3660,E3661/MAX($E$9:E3661)-1)))","v":""}]
[null,null,null,null,null,{"$f":"IF(B3662=\"\",\"\",IF(C3662=\"\",F3661,IF(E3662=\"\",F3661,E3662/MAX($E$9:E3662)-1)))","v":""}]
[null,null,null,null,null,{"$f":"IF(B3663=\"\",\"\",IF(C3663=\"\",F3662,IF(E3663=\"\",F3662,E3663/MAX($E$9:E3663)-1)))","v":""}]
[null,null,null,null,null,{"$f":"IF(B3664=\"\",\"\",IF(C3664=\"\",F3663,IF(E3664=\"\",F3663,E3664/MAX($E$9:E3664)-1)))","v":""}]
[null,null,null,null,null,{"$f":"IF(B3665=\"\",\"\",IF(C3665=\"\",F3664,IF(E3665=\"\",F3664,E3665/MAX($E$9:E3665)-1)))","v":""}]
[null,null,null,null,null,{"$f":"IF(B3666=\"\",\"\",IF(C3666=\"\",F3665,IF(E3666=\"\",F3665,E3666/MAX($E$9:E3666)-1)))","v":""}]
[null,null,null,null,null,{"$f":"IF(B3667=\"\",\"\",IF(C3667=\"\",F3666,IF(E3667=\"\",F3666,E3667/MAX($E$9:E3667)-1)))","v":""}]
[null,null,null,null,null,{"$f":"IF(B3668=\"\",\"\",IF(C3668=\"\",F3667,IF(E3668=\"\",F3667,E3668/MAX($E$9:E3668)-1)))","v":""}]
[null,null,null,null,null,{"$f":"IF(B3669=\"\",\"\",IF(C3669=\"\",F3668,IF(E3669=\"\",F3668,E3669/MAX($E$9:E3669)-1)))","v":""}]
[null,null,null,null,null,{"$f":"IF(B3670=\"\",\"\",IF(C3670=\"\",F3669,IF(E3670=\"\",F3669,E3670/MAX($E$9:E3670)-1)))","v":""}]
[null,null,null,null,null,{"$f":"IF(B3671=\"\",\"\",IF(C3671=\"\",F3670,IF(E3671=\"\",F3670,E3671/MAX($E$9:E3671)-1)))","v":""}]
[null,null,null,null,null,{"$f":"IF(B3672=\"\",\"\",IF(C3672=\"\",F3671,IF(E3672=\"\",F3671,E3672/MAX($E$9:E3672)-1)))","v":""}]
[null,null,null,null,null,{"$f":"IF(B3673=\"\",\"\",IF(C3673=\"\",F3672,IF(E3673=\"\",F3672,E3673/MAX($E$9:E3673)-1)))","v":""}]
[null,null,null,null,null,{"$f":"IF(B3674=\"\",\"\",IF(C3674=\"\",F3673,IF(E3674=\"\",F3673,E3674/MAX($E$9:E3674)-1)))","v":""}]
[null,null,null,null,null,{"$f":"IF(B3675=\"\",\"\",IF(C3675=\"\",F3674,IF(E3675=\"\",F3674,E3675/MAX($E$9:E3675)-1)))","v":""}]
[null,null,null,null,null,{"$f":"IF(B3676=\"\",\"\",IF(C3676=\"\",F3675,IF(E3676=\"\",F3675,E3676/MAX($E$9:E3676)-1)))","v":""}]
[null,null,null,null,null,{"$f":"IF(B3677=\"\",\"\",IF(C3677=\"\",F3676,IF(E3677=\"\",F3676,E3677/MAX($E$9:E3677)-1)))","v":""}]
[null,null,null,null,null,{"$f":"IF(B3678=\"\",\"\",IF(C3678=\"\",F3677,IF(E3678=\"\",F3677,E3678/MAX($E$9:E3678)-1)))","v":""}]
[null,null,null,null,null,{"$f":"IF(B3679=\"\",\"\",IF(C3679=\"\",F3678,IF(E3679=\"\",F3678,E3679/MAX($E$9:E3679)-1)))","v":""}]
[null,null,null,null,null,{"$f":"IF(B3680=\"\",\"\",IF(C3680=\"\",F3679,IF(E3680=\"\",F3679,E3680/MAX($E$9:E3680)-1)))","v":""}]
[null,null,null,null,null,{"$f":"IF(B3681=\"\",\"\",IF(C3681=\"\",F3680,IF(E3681=\"\",F3680,E3681/MAX($E$9:E3681)-1)))","v":""}]
[null,null,null,null,null,{"$f":"IF(B3682=\"\",\"\",IF(C3682=\"\",F3681,IF(E3682=\"\",F3681,E3682/MAX($E$9:E3682)-1)))","v":""}]
[null,null,null,null,null,{"$f":"IF(B3683=\"\",\"\",IF(C3683=\"\",F3682,IF(E3683=\"\",F3682,E3683/MAX($E$9:E3683)-1)))","v":""}]
[null,null,null,null,null,{"$f":"IF(B3684=\"\",\"\",IF(C3684=\"\",F3683,IF(E3684=\"\",F3683,E3684/MAX($E$9:E3684)-1)))","v":""}]
[null,null,null,null,null,{"$f":"IF(B3685=\"\",\"\",IF(C3685=\"\",F3684,IF(E3685=\"\",F3684,E3685/MAX($E$9:E3685)-1)))","v":""}]
[null,null,null,null,null,{"$f":"IF(B3686=\"\",\"\",IF(C3686=\"\",F3685,IF(E3686=\"\",F3685,E3686/MAX($E$9:E3686)-1)))","v":""}]
[null,null,null,null,null,{"$f":"IF(B3687=\"\",\"\",IF(C3687=\"\",F3686,IF(E3687=\"\",F3686,E3687/MAX($E$9:E3687)-1)))","v":""}]
[null,null,null,null,null,{"$f":"IF(B3688=\"\",\"\",IF(C3688=\"\",F3687,IF(E3688=\"\",F3687,E3688/MAX($E$9:E3688)-1)))","v":""}]
[null,null,null,null,null,{"$f":"IF(B3689=\"\",\"\",IF(C3689=\"\",F3688,IF(E3689=\"\",F3688,E3689/MAX($E$9:E3689)-1)))","v":""}]
[null,null,null,null,null,{"$f":"IF(B3690=\"\",\"\",IF(C3690=\"\",F3689,IF(E3690=\"\",F3689,E3690/MAX($E$9:E3690)-1)))","v":""}]
[null,null,null,null,null,{"$f":"IF(B3691=\"\",\"\",IF(C3691=\"\",F3690,IF(E3691=\"\",F3690,E3691/MAX($E$9:E3691)-1)))","v":""}]
[null,null,null,null,null,{"$f":"IF(B3692=\"\",\"\",IF(C3692=\"\",F3691,IF(E3692=\"\",F3691,E3692/MAX($E$9:E3692)-1)))","v":""}]
[null,null,null,null,null,{"$f":"IF(B3693=\"\",\"\",IF(C3693=\"\",F3692,IF(E3693=\"\",F3692,E3693/MAX($E$9:E3693)-1)))","v":""}]
[null,null,null,null,null,{"$f":"IF(B3694=\"\",\"\",IF(C3694=\"\",F3693,IF(E3694=\"\",F3693,E3694/MAX($E$9:E3694)-1)))","v":""}]
[null,null,null,null,null,{"$f":"IF(B3695=\"\",\"\",IF(C3695=\"\",F3694,IF(E3695=\"\",F3694,E3695/MAX($E$9:E3695)-1)))","v":""}]
[null,null,null,null,null,{"$f":"IF(B3696=\"\",\"\",IF(C3696=\"\",F3695,IF(E3696=\"\",F3695,E3696/MAX($E$9:E3696)-1)))","v":""}]
[null,null,null,null,null,{"$f":"IF(B3697=\"\",\"\",IF(C3697=\"\",F3696,IF(E3697=\"\",F3696,E3697/MAX($E$9:E3697)-1)))","v":""}]
[null,null,null,null,null,{"$f":"IF(B3698=\"\",\"\",IF(C3698=\"\",F3697,IF(E3698=\"\",F3697,E3698/MAX($E$9:E3698)-1)))","v":""}]
[null,null,null,null,null,{"$f":"IF(B3699=\"\",\"\",IF(C3699=\"\",F3698,IF(E3699=\"\",F3698,E3699/MAX($E$9:E3699)-1)))","v":""}]
[null,null,null,null,null,{"$f":"IF(B3700=\"\",\"\",IF(C3700=\"\",F3699,IF(E3700=\"\",F3699,E3700/MAX($E$9:E3700)-1)))","v":""}]
[null,null,null,null,null,{"$f":"IF(B3701=\"\",\"\",IF(C3701=\"\",F3700,IF(E3701=\"\",F3700,E3701/MAX($E$9:E3701)-1)))","v":""}]
[null,null,null,null,null,{"$f":"IF(B3702=\"\",\"\",IF(C3702=\"\",F3701,IF(E3702=\"\",F3701,E3702/MAX($E$9:E3702)-1)))","v":""}]
[null,null,null,null,null,{"$f":"IF(B3703=\"\",\"\",IF(C3703=\"\",F3702,IF(E3703=\"\",F3702,E3703/MAX($E$9:E3703)-1)))","v":""}]
[null,null,null,null,null,{"$f":"IF(B3704=\"\",\"\",IF(C3704=\"\",F3703,IF(E3704=\"\",F3703,E3704/MAX($E$9:E3704)-1)))","v":""}]
[null,null,null,null,null,{"$f":"IF(B3705=\"\",\"\",IF(C3705=\"\",F3704,IF(E3705=\"\",F3704,E3705/MAX($E$9:E3705)-1)))","v":""}]
[null,null,null,null,null,{"$f":"IF(B3706=\"\",\"\",IF(C3706=\"\",F3705,IF(E3706=\"\",F3705,E3706/MAX($E$9:E3706)-1)))","v":""}]
[null,null,null,null,null,{"$f":"IF(B3707=\"\",\"\",IF(C3707=\"\",F3706,IF(E3707=\"\",F3706,E3707/MAX($E$9:E3707)-1)))","v":""}]
[null,null,null,null,null,{"$f":"IF(B3708=\"\",\"\",IF(C3708=\"\",F3707,IF(E3708=\"\",F3707,E3708/MAX($E$9:E3708)-1)))","v":""}]
[null,null,null,null,null,{"$f":"IF(B3709=\"\",\"\",IF(C3709=\"\",F3708,IF(E3709=\"\",F3708,E3709/MAX($E$9:E3709)-1)))","v":""}]
[null,null,null,null,null,{"$f":"IF(B3710=\"\",\"\",IF(C3710=\"\",F3709,IF(E3710=\"\",F3709,E3710/MAX($E$9:E3710)-1)))","v":""}]
[null,null,null,null,null,{"$f":"IF(B3711=\"\",\"\",IF(C3711=\"\",F3710,IF(E3711=\"\",F3710,E3711/MAX($E$9:E3711)-1)))","v":""}]
[null,null,null,null,null,{"$f":"IF(B3712=\"\",\"\",IF(C3712=\"\",F3711,IF(E3712=\"\",F3711,E3712/MAX($E$9:E3712)-1)))","v":""}]
[null,null,null,null,null,{"$f":"IF(B3713=\"\",\"\",IF(C3713=\"\",F3712,IF(E3713=\"\",F3712,E3713/MAX($E$9:E3713)-1)))","v":""}]
[null,null,null,null,null,{"$f":"IF(B3714=\"\",\"\",IF(C3714=\"\",F3713,IF(E3714=\"\",F3713,E3714/MAX($E$9:E3714)-1)))","v":""}]
[null,null,null,null,null,{"$f":"IF(B3715=\"\",\"\",IF(C3715=\"\",F3714,IF(E3715=\"\",F3714,E3715/MAX($E$9:E3715)-1)))","v":""}]
[null,null,null,null,null,{"$f":"IF(B3716=\"\",\"\",IF(C3716=\"\",F3715,IF(E3716=\"\",F3715,E3716/MAX($E$9:E3716)-1)))","v":""}]
[null,null,null,null,null,{"$f":"IF(B3717=\"\",\"\",IF(C3717=\"\",F3716,IF(E3717=\"\",F3716,E3717/MAX($E$9:E3717)-1)))","v":""}]
[null,null,null,null,null,{"$f":"IF(B3718=\"\",\"\",IF(C3718=\"\",F3717,IF(E3718=\"\",F3717,E3718/MAX($E$9:E3718)-1)))","v":""}]
[null,null,null,null,null,{"$f":"IF(B3719=\"\",\"\",IF(C3719=\"\",F3718,IF(E3719=\"\",F3718,E3719/MAX($E$9:E3719)-1)))","v":""}]
[null,null,null,null,null,{"$f":"IF(B3720=\"\",\"\",IF(C3720=\"\",F3719,IF(E3720=\"\",F3719,E3720/MAX($E$9:E3720)-1)))","v":""}]
[null,null,null,null,null,{"$f":"IF(B3721=\"\",\"\",IF(C3721=\"\",F3720,IF(E3721=\"\",F3720,E3721/MAX($E$9:E3721)-1)))","v":""}]
[null,null,null,null,null,{"$f":"IF(B3722=\"\",\"\",IF(C3722=\"\",F3721,IF(E3722=\"\",F3721,E3722/MAX($E$9:E3722)-1)))","v":""}]
[null,null,null,null,null,{"$f":"IF(B3723=\"\",\"\",IF(C3723=\"\",F3722,IF(E3723=\"\",F3722,E3723/MAX($E$9:E3723)-1)))","v":""}]
[null,null,null,null,null,{"$f":"IF(B3724=\"\",\"\",IF(C3724=\"\",F3723,IF(E3724=\"\",F3723,E3724/MAX($E$9:E3724)-1)))","v":""}]
[null,null,null,null,null,{"$f":"IF(B3725=\"\",\"\",IF(C3725=\"\",F3724,IF(E3725=\"\",F3724,E3725/MAX($E$9:E3725)-1)))","v":""}]
[null,null,null,null,null,{"$f":"IF(B3726=\"\",\"\",IF(C3726=\"\",F3725,IF(E3726=\"\",F3725,E3726/MAX($E$9:E3726)-1)))","v":""}]
[null,null,null,null,null,{"$f":"IF(B3727=\"\",\"\",IF(C3727=\"\",F3726,IF(E3727=\"\",F3726,E3727/MAX($E$9:E3727)-1)))","v":""}]
[null,null,null,null,null,{"$f":"IF(B3728=\"\",\"\",IF(C3728=\"\",F3727,IF(E3728=\"\",F3727,E3728/MAX($E$9:E3728)-1)))","v":""}]
[null,null,null,null,null,{"$f":"IF(B3729=\"\",\"\",IF(C3729=\"\",F3728,IF(E3729=\"\",F3728,E3729/MAX($E$9:E3729)-1)))","v":""}]
[null,null,null,null,null,{"$f":"IF(B3730=\"\",\"\",IF(C3730=\"\",F3729,IF(E3730=\"\",F3729,E3730/MAX($E$9:E3730)-1)))","v":""}]
[null,null,null,null,null,{"$f":"IF(B3731=\"\",\"\",IF(C3731=\"\",F3730,IF(E3731=\"\",F3730,E3731/MAX($E$9:E3731)-1)))","v":""}]
[null,null,null,null,null,{"$f":"IF(B3732=\"\",\"\",IF(C3732=\"\",F3731,IF(E3732=\"\",F3731,E3732/MAX($E$9:E3732)-1)))","v":""}]
[null,null,null,null,null,{"$f":"IF(B3733=\"\",\"\",IF(C3733=\"\",F3732,IF(E3733=\"\",F3732,E3733/MAX($E$9:E3733)-1)))","v":""}]
[null,null,null,null,null,{"$f":"IF(B3734=\"\",\"\",IF(C3734=\"\",F3733,IF(E3734=\"\",F3733,E3734/MAX($E$9:E3734)-1)))","v":""}]
[null,null,null,null,null,{"$f":"IF(B3735=\"\",\"\",IF(C3735=\"\",F3734,IF(E3735=\"\",F3734,E3735/MAX($E$9:E3735)-1)))","v":""}]
[null,null,null,null,null,{"$f":"IF(B3736=\"\",\"\",IF(C3736=\"\",F3735,IF(E3736=\"\",F3735,E3736/MAX($E$9:E3736)-1)))","v":""}]
[null,null,null,null,null,{"$f":"IF(B3737=\"\",\"\",IF(C3737=\"\",F3736,IF(E3737=\"\",F3736,E3737/MAX($E$9:E3737)-1)))","v":""}]
[null,null,null,null,null,{"$f":"IF(B3738=\"\",\"\",IF(C3738=\"\",F3737,IF(E3738=\"\",F3737,E3738/MAX($E$9:E3738)-1)))","v":""}]
[null,null,null,null,null,{"$f":"IF(B3739=\"\",\"\",IF(C3739=\"\",F3738,IF(E3739=\"\",F3738,E3739/MAX($E$9:E3739)-1)))","v":""}]
[null,null,null,null,null,{"$f":"IF(B3740=\"\",\"\",IF(C3740=\"\",F3739,IF(E3740=\"\",F3739,E3740/MAX($E$9:E3740)-1)))","v":""}]
[null,null,null,null,null,{"$f":"IF(B3741=\"\",\"\",IF(C3741=\"\",F3740,IF(E3741=\"\",F3740,E3741/MAX($E$9:E3741)-1)))","v":""}]
[null,null,null,null,null,{"$f":"IF(B3742=\"\",\"\",IF(C3742=\"\",F3741,IF(E3742=\"\",F3741,E3742/MAX($E$9:E3742)-1)))","v":""}]
[null,null,null,null,null,{"$f":"IF(B3743=\"\",\"\",IF(C3743=\"\",F3742,IF(E3743=\"\",F3742,E3743/MAX($E$9:E3743)-1)))","v":""}]
[null,null,null,null,null,{"$f":"IF(B3744=\"\",\"\",IF(C3744=\"\",F3743,IF(E3744=\"\",F3743,E3744/MAX($E$9:E3744)-1)))","v":""}]
[null,null,null,null,null,{"$f":"IF(B3745=\"\",\"\",IF(C3745=\"\",F3744,IF(E3745=\"\",F3744,E3745/MAX($E$9:E3745)-1)))","v":""}]
[null,null,null,null,null,{"$f":"IF(B3746=\"\",\"\",IF(C3746=\"\",F3745,IF(E3746=\"\",F3745,E3746/MAX($E$9:E3746)-1)))","v":""}]
[null,null,null,null,null,{"$f":"IF(B3747=\"\",\"\",IF(C3747=\"\",F3746,IF(E3747=\"\",F3746,E3747/MAX($E$9:E3747)-1)))","v":""}]
[null,null,null,null,null,{"$f":"IF(B3748=\"\",\"\",IF(C3748=\"\",F3747,IF(E3748=\"\",F3747,E3748/MAX($E$9:E3748)-1)))","v":""}]
[null,null,null,null,null,{"$f":"IF(B3749=\"\",\"\",IF(C3749=\"\",F3748,IF(E3749=\"\",F3748,E3749/MAX($E$9:E3749)-1)))","v":""}]
[null,null,null,null,null,{"$f":"IF(B3750=\"\",\"\",IF(C3750=\"\",F3749,IF(E3750=\"\",F3749,E3750/MAX($E$9:E3750)-1)))","v":""}]
[null,null,null,null,null,{"$f":"IF(B3751=\"\",\"\",IF(C3751=\"\",F3750,IF(E3751=\"\",F3750,E3751/MAX($E$9:E3751)-1)))","v":""}]
[null,null,null,null,null,{"$f":"IF(B3752=\"\",\"\",IF(C3752=\"\",F3751,IF(E3752=\"\",F3751,E3752/MAX($E$9:E3752)-1)))","v":""}]
[null,null,null,null,null,{"$f":"IF(B3753=\"\",\"\",IF(C3753=\"\",F3752,IF(E3753=\"\",F3752,E3753/MAX($E$9:E3753)-1)))","v":""}]
[null,null,null,null,null,{"$f":"IF(B3754=\"\",\"\",IF(C3754=\"\",F3753,IF(E3754=\"\",F3753,E3754/MAX($E$9:E3754)-1)))","v":""}]
[null,null,null,null,null,{"$f":"IF(B3755=\"\",\"\",IF(C3755=\"\",F3754,IF(E3755=\"\",F3754,E3755/MAX($E$9:E3755)-1)))","v":""}]
[null,null,null,null,null,{"$f":"IF(B3756=\"\",\"\",IF(C3756=\"\",F3755,IF(E3756=\"\",F3755,E3756/MAX($E$9:E3756)-1)))","v":""}]
[null,null,null,null,null,{"$f":"IF(B3757=\"\",\"\",IF(C3757=\"\",F3756,IF(E3757=\"\",F3756,E3757/MAX($E$9:E3757)-1)))","v":""}]
[null,null,null,null,null,{"$f":"IF(B3758=\"\",\"\",IF(C3758=\"\",F3757,IF(E3758=\"\",F3757,E3758/MAX($E$9:E3758)-1)))","v":""}]
[null,null,null,null,null,{"$f":"IF(B3759=\"\",\"\",IF(C3759=\"\",F3758,IF(E3759=\"\",F3758,E3759/MAX($E$9:E3759)-1)))","v":""}]
[null,null,null,null,null,{"$f":"IF(B3760=\"\",\"\",IF(C3760=\"\",F3759,IF(E3760=\"\",F3759,E3760/MAX($E$9:E3760)-1)))","v":""}]
[null,null,null,null,null,{"$f":"IF(B3761=\"\",\"\",IF(C3761=\"\",F3760,IF(E3761=\"\",F3760,E3761/MAX($E$9:E3761)-1)))","v":""}]
[null,null,null,null,null,{"$f":"IF(B3762=\"\",\"\",IF(C3762=\"\",F3761,IF(E3762=\"\",F3761,E3762/MAX($E$9:E3762)-1)))","v":""}]
[null,null,null,null,null,{"$f":"IF(B3763=\"\",\"\",IF(C3763=\"\",F3762,IF(E3763=\"\",F3762,E3763/MAX($E$9:E3763)-1)))","v":""}]
[null,null,null,null,null,{"$f":"IF(B3764=\"\",\"\",IF(C3764=\"\",F3763,IF(E3764=\"\",F3763,E3764/MAX($E$9:E3764)-1)))","v":""}]
[null,null,null,null,null,{"$f":"IF(B3765=\"\",\"\",IF(C3765=\"\",F3764,IF(E3765=\"\",F3764,E3765/MAX($E$9:E3765)-1)))","v":""}]
[null,null,null,null,null,{"$f":"IF(B3766=\"\",\"\",IF(C3766=\"\",F3765,IF(E3766=\"\",F3765,E3766/MAX($E$9:E3766)-1)))","v":""}]
[null,null,null,null,null,{"$f":"IF(B3767=\"\",\"\",IF(C3767=\"\",F3766,IF(E3767=\"\",F3766,E3767/MAX($E$9:E3767)-1)))","v":""}]
[null,null,null,null,null,{"$f":"IF(B3768=\"\",\"\",IF(C3768=\"\",F3767,IF(E3768=\"\",F3767,E3768/MAX($E$9:E3768)-1)))","v":""}]
[null,null,null,null,null,{"$f":"IF(B3769=\"\",\"\",IF(C3769=\"\",F3768,IF(E3769=\"\",F3768,E3769/MAX($E$9:E3769)-1)))","v":""}]
[null,null,null,null,null,{"$f":"IF(B3770=\"\",\"\",IF(C3770=\"\",F3769,IF(E3770=\"\",F3769,E3770/MAX($E$9:E3770)-1)))","v":""}]
[null,null,null,null,null,{"$f":"IF(B3771=\"\",\"\",IF(C3771=\"\",F3770,IF(E3771=\"\",F3770,E3771/MAX($E$9:E3771)-1)))","v":""}]
[null,null,null,null,null,{"$f":"IF(B3772=\"\",\"\",IF(C3772=\"\",F3771,IF(E3772=\"\",F3771,E3772/MAX($E$9:E3772)-1)))","v":""}]
[null,null,null,null,null,{"$f":"IF(B3773=\"\",\"\",IF(C3773=\"\",F3772,IF(E3773=\"\",F3772,E3773/MAX($E$9:E3773)-1)))","v":""}]
[null,null,null,null,null,{"$f":"IF(B3774=\"\",\"\",IF(C3774=\"\",F3773,IF(E3774=\"\",F3773,E3774/MAX($E$9:E3774)-1)))","v":""}]
[null,null,null,null,null,{"$f":"IF(B3775=\"\",\"\",IF(C3775=\"\",F3774,IF(E3775=\"\",F3774,E3775/MAX($E$9:E3775)-1)))","v":""}]
[null,null,null,null,null,{"$f":"IF(B3776=\"\",\"\",IF(C3776=\"\",F3775,IF(E3776=\"\",F3775,E3776/MAX($E$9:E3776)-1)))","v":""}]
[null,null,null,null,null,{"$f":"IF(B3777=\"\",\"\",IF(C3777=\"\",F3776,IF(E3777=\"\",F3776,E3777/MAX($E$9:E3777)-1)))","v":""}]
[null,null,null,null,null,{"$f":"IF(B3778=\"\",\"\",IF(C3778=\"\",F3777,IF(E3778=\"\",F3777,E3778/MAX($E$9:E3778)-1)))","v":""}]
[null,null,null,null,null,{"$f":"IF(B3779=\"\",\"\",IF(C3779=\"\",F3778,IF(E3779=\"\",F3778,E3779/MAX($E$9:E3779)-1)))","v":""}]
[null,null,null,null,null,{"$f":"IF(B3780=\"\",\"\",IF(C3780=\"\",F3779,IF(E3780=\"\",F3779,E3780/MAX($E$9:E3780)-1)))","v":""}]
[null,null,null,null,null,{"$f":"IF(B3781=\"\",\"\",IF(C3781=\"\",F3780,IF(E3781=\"\",F3780,E3781/MAX($E$9:E3781)-1)))","v":""}]
[null,null,null,null,null,{"$f":"IF(B3782=\"\",\"\",IF(C3782=\"\",F3781,IF(E3782=\"\",F3781,E3782/MAX($E$9:E3782)-1)))","v":""}]
[null,null,null,null,null,{"$f":"IF(B3783=\"\",\"\",IF(C3783=\"\",F3782,IF(E3783=\"\",F3782,E3783/MAX($E$9:E3783)-1)))","v":""}]
[null,null,null,null,null,{"$f":"IF(B3784=\"\",\"\",IF(C3784=\"\",F3783,IF(E3784=\"\",F3783,E3784/MAX($E$9:E3784)-1)))","v":""}]
[null,null,null,null,null,{"$f":"IF(B3785=\"\",\"\",IF(C3785=\"\",F3784,IF(E3785=\"\",F3784,E3785/MAX($E$9:E3785)-1)))","v":""}]
[null,null,null,null,null,{"$f":"IF(B3786=\"\",\"\",IF(C3786=\"\",F3785,IF(E3786=\"\",F3785,E3786/MAX($E$9:E3786)-1)))","v":""}]
[null,null,null,null,null,{"$f":"IF(B3787=\"\",\"\",IF(C3787=\"\",F3786,IF(E3787=\"\",F3786,E3787/MAX($E$9:E3787)-1)))","v":""}]
[null,null,null,null,null,{"$f":"IF(B3788=\"\",\"\",IF(C3788=\"\",F3787,IF(E3788=\"\",F3787,E3788/MAX($E$9:E3788)-1)))","v":""}]
[null,null,null,null,null,{"$f":"IF(B3789=\"\",\"\",IF(C3789=\"\",F3788,IF(E3789=\"\",F3788,E3789/MAX($E$9:E3789)-1)))","v":""}]
[null,null,null,null,null,{"$f":"IF(B3790=\"\",\"\",IF(C3790=\"\",F3789,IF(E3790=\"\",F3789,E3790/MAX($E$9:E3790)-1)))","v":""}]
[null,null,null,null,null,{"$f":"IF(B3791=\"\",\"\",IF(C3791=\"\",F3790,IF(E3791=\"\",F3790,E3791/MAX($E$9:E3791)-1)))","v":""}]
[null,null,null,null,null,{"$f":"IF(B3792=\"\",\"\",IF(C3792=\"\",F3791,IF(E3792=\"\",F3791,E3792/MAX($E$9:E3792)-1)))","v":""}]
[null,null,null,null,null,{"$f":"IF(B3793=\"\",\"\",IF(C3793=\"\",F3792,IF(E3793=\"\",F3792,E3793/MAX($E$9:E3793)-1)))","v":""}]
[null,null,null,null,null,{"$f":"IF(B3794=\"\",\"\",IF(C3794=\"\",F3793,IF(E3794=\"\",F3793,E3794/MAX($E$9:E3794)-1)))","v":""}]
[null,null,null,null,null,{"$f":"IF(B3795=\"\",\"\",IF(C3795=\"\",F3794,IF(E3795=\"\",F3794,E3795/MAX($E$9:E3795)-1)))","v":""}]
[null,null,null,null,null,{"$f":"IF(B3796=\"\",\"\",IF(C3796=\"\",F3795,IF(E3796=\"\",F3795,E3796/MAX($E$9:E3796)-1)))","v":""}]
[null,null,null,null,null,{"$f":"IF(B3797=\"\",\"\",IF(C3797=\"\",F3796,IF(E3797=\"\",F3796,E3797/MAX($E$9:E3797)-1)))","v":""}]
[null,null,null,null,null,{"$f":"IF(B3798=\"\",\"\",IF(C3798=\"\",F3797,IF(E3798=\"\",F3797,E3798/MAX($E$9:E3798)-1)))","v":""}]
[null,null,null,null,null,{"$f":"IF(B3799=\"\",\"\",IF(C3799=\"\",F3798,IF(E3799=\"\",F3798,E3799/MAX($E$9:E3799)-1)))","v":""}]
[null,null,null,null,null,{"$f":"IF(B3800=\"\",\"\",IF(C3800=\"\",F3799,IF(E3800=\"\",F3799,E3800/MAX($E$9:E3800)-1)))","v":""}]
[null,null,null,null,null,{"$f":"IF(B3801=\"\",\"\",IF(C3801=\"\",F3800,IF(E3801=\"\",F3800,E3801/MAX($E$9:E3801)-1)))","v":""}]
[null,null,null,null,null,{"$f":"IF(B3802=\"\",\"\",IF(C3802=\"\",F3801,IF(E3802=\"\",F3801,E3802/MAX($E$9:E3802)-1)))","v":""}]
[null,null,null,null,null,{"$f":"IF(B3803=\"\",\"\",IF(C3803=\"\",F3802,IF(E3803=\"\",F3802,E3803/MAX($E$9:E3803)-1)))","v":""}]
[null,null,null,null,null,{"$f":"IF(B3804=\"\",\"\",IF(C3804=\"\",F3803,IF(E3804=\"\",F3803,E3804/MAX($E$9:E3804)-1)))","v":""}]
[null,null,null,null,null,{"$f":"IF(B3805=\"\",\"\",IF(C3805=\"\",F3804,IF(E3805=\"\",F3804,E3805/MAX($E$9:E3805)-1)))","v":""}]
[null,null,null,null,null,{"$f":"IF(B3806=\"\",\"\",IF(C3806=\"\",F3805,IF(E3806=\"\",F3805,E3806/MAX($E$9:E3806)-1)))","v":""}]
[null,null,null,null,null,{"$f":"IF(B3807=\"\",\"\",IF(C3807=\"\",F3806,IF(E3807=\"\",F3806,E3807/MAX($E$9:E3807)-1)))","v":""}]
[null,null,null,null,null,{"$f":"IF(B3808=\"\",\"\",IF(C3808=\"\",F3807,IF(E3808=\"\",F3807,E3808/MAX($E$9:E3808)-1)))","v":""}]
[null,null,null,null,null,{"$f":"IF(B3809=\"\",\"\",IF(C3809=\"\",F3808,IF(E3809=\"\",F3808,E3809/MAX($E$9:E3809)-1)))","v":""}]
[null,null,null,null,null,{"$f":"IF(B3810=\"\",\"\",IF(C3810=\"\",F3809,IF(E3810=\"\",F3809,E3810/MAX($E$9:E3810)-1)))","v":""}]
[null,null,null,null,null,{"$f":"IF(B3811=\"\",\"\",IF(C3811=\"\",F3810,IF(E3811=\"\",F3810,E3811/MAX($E$9:E3811)-1)))","v":""}]
[null,null,null,null,null,{"$f":"IF(B3812=\"\",\"\",IF(C3812=\"\",F3811,IF(E3812=\"\",F3811,E3812/MAX($E$9:E3812)-1)))","v":""}]
[null,null,null,null,null,{"$f":"IF(B3813=\"\",\"\",IF(C3813=\"\",F3812,IF(E3813=\"\",F3812,E3813/MAX($E$9:E3813)-1)))","v":""}]
[null,null,null,null,null,{"$f":"IF(B3814=\"\",\"\",IF(C3814=\"\",F3813,IF(E3814=\"\",F3813,E3814/MAX($E$9:E3814)-1)))","v":""}]
[null,null,null,null,null,{"$f":"IF(B3815=\"\",\"\",IF(C3815=\"\",F3814,IF(E3815=\"\",F3814,E3815/MAX($E$9:E3815)-1)))","v":""}]
[null,null,null,null,null,{"$f":"IF(B3816=\"\",\"\",IF(C3816=\"\",F3815,IF(E3816=\"\",F3815,E3816/MAX($E$9:E3816)-1)))","v":""}]
[null,null,null,null,null,{"$f":"IF(B3817=\"\",\"\",IF(C3817=\"\",F3816,IF(E3817=\"\",F3816,E3817/MAX($E$9:E3817)-1)))","v":""}]
[null,null,null,null,null,{"$f":"IF(B3818=\"\",\"\",IF(C3818=\"\",F3817,IF(E3818=\"\",F3817,E3818/MAX($E$9:E3818)-1)))","v":""}]
[null,null,null,null,null,{"$f":"IF(B3819=\"\",\"\",IF(C3819=\"\",F3818,IF(E3819=\"\",F3818,E3819/MAX($E$9:E3819)-1)))","v":""}]
[null,null,null,null,null,{"$f":"IF(B3820=\"\",\"\",IF(C3820=\"\",F3819,IF(E3820=\"\",F3819,E3820/MAX($E$9:E3820)-1)))","v":""}]
[null,null,null,null,null,{"$f":"IF(B3821=\"\",\"\",IF(C3821=\"\",F3820,IF(E3821=\"\",F3820,E3821/MAX($E$9:E3821)-1)))","v":""}]
[null,null,null,null,null,{"$f":"IF(B3822=\"\",\"\",IF(C3822=\"\",F3821,IF(E3822=\"\",F3821,E3822/MAX($E$9:E3822)-1)))","v":""}]
[null,null,null,null,null,{"$f":"IF(B3823=\"\",\"\",IF(C3823=\"\",F3822,IF(E3823=\"\",F3822,E3823/MAX($E$9:E3823)-1)))","v":""}]
[null,null,null,null,null,{"$f":"IF(B3824=\"\",\"\",IF(C3824=\"\",F3823,IF(E3824=\"\",F3823,E3824/MAX($E$9:E3824)-1)))","v":""}]
[null,null,null,null,null,{"$f":"IF(B3825=\"\",\"\",IF(C3825=\"\",F3824,IF(E3825=\"\",F3824,E3825/MAX($E$9:E3825)-1)))","v":""}]
[null,null,null,null,null,{"$f":"IF(B3826=\"\",\"\",IF(C3826=\"\",F3825,IF(E3826=\"\",F3825,E3826/MAX($E$9:E3826)-1)))","v":""}]
[null,null,null,null,null,{"$f":"IF(B3827=\"\",\"\",IF(C3827=\"\",F3826,IF(E3827=\"\",F3826,E3827/MAX($E$9:E3827)-1)))","v":""}]
[null,null,null,null,null,{"$f":"IF(B3828=\"\",\"\",IF(C3828=\"\",F3827,IF(E3828=\"\",F3827,E3828/MAX($E$9:E3828)-1)))","v":""}]
[null,null,null,null,null,{"$f":"IF(B3829=\"\",\"\",IF(C3829=\"\",F3828,IF(E3829=\"\",F3828,E3829/MAX($E$9:E3829)-1)))","v":""}]
[null,null,null,null,null,{"$f":"IF(B3830=\"\",\"\",IF(C3830=\"\",F3829,IF(E3830=\"\",F3829,E3830/MAX($E$9:E3830)-1)))","v":""}]
[null,null,null,null,null,{"$f":"IF(B3831=\"\",\"\",IF(C3831=\"\",F3830,IF(E3831=\"\",F3830,E3831/MAX($E$9:E3831)-1)))","v":""}]
[null,null,null,null,null,{"$f":"IF(B3832=\"\",\"\",IF(C3832=\"\",F3831,IF(E3832=\"\",F3831,E3832/MAX($E$9:E3832)-1)))","v":""}]
[null,null,null,null,null,{"$f":"IF(B3833=\"\",\"\",IF(C3833=\"\",F3832,IF(E3833=\"\",F3832,E3833/MAX($E$9:E3833)-1)))","v":""}]
[null,null,null,null,null,{"$f":"IF(B3834=\"\",\"\",IF(C3834=\"\",F3833,IF(E3834=\"\",F3833,E3834/MAX($E$9:E3834)-1)))","v":""}]
[null,null,null,null,null,{"$f":"IF(B3835=\"\",\"\",IF(C3835=\"\",F3834,IF(E3835=\"\",F3834,E3835/MAX($E$9:E3835)-1)))","v":""}]
[null,null,null,null,null,{"$f":"IF(B3836=\"\",\"\",IF(C3836=\"\",F3835,IF(E3836=\"\",F3835,E3836/MAX($E$9:E3836)-1)))","v":""}]
[null,null,null,null,null,{"$f":"IF(B3837=\"\",\"\",IF(C3837=\"\",F3836,IF(E3837=\"\",F3836,E3837/MAX($E$9:E3837)-1)))","v":""}]
[null,null,null,null,null,{"$f":"IF(B3838=\"\",\"\",IF(C3838=\"\",F3837,IF(E3838=\"\",F3837,E3838/MAX($E$9:E3838)-1)))","v":""}]
[null,null,null,null,null,{"$f":"IF(B3839=\"\",\"\",IF(C3839=\"\",F3838,IF(E3839=\"\",F3838,E3839/MAX($E$9:E3839)-1)))","v":""}]
[null,null,null,null,null,{"$f":"IF(B3840=\"\",\"\",IF(C3840=\"\",F3839,IF(E3840=\"\",F3839,E3840/MAX($E$9:E3840)-1)))","v":""}]
[null,null,null,null,null,{"$f":"IF(B3841=\"\",\"\",IF(C3841=\"\",F3840,IF(E3841=\"\",F3840,E3841/MAX($E$9:E3841)-1)))","v":""}]
[null,null,null,null,null,{"$f":"IF(B3842=\"\",\"\",IF(C3842=\"\",F3841,IF(E3842=\"\",F3841,E3842/MAX($E$9:E3842)-1)))","v":""}]
[null,null,null,null,null,{"$f":"IF(B3843=\"\",\"\",IF(C3843=\"\",F3842,IF(E3843=\"\",F3842,E3843/MAX($E$9:E3843)-1)))","v":""}]
[null,null,null,null,null,{"$f":"IF(B3844=\"\",\"\",IF(C3844=\"\",F3843,IF(E3844=\"\",F3843,E3844/MAX($E$9:E3844)-1)))","v":""}]
[null,null,null,null,null,{"$f":"IF(B3845=\"\",\"\",IF(C3845=\"\",F3844,IF(E3845=\"\",F3844,E3845/MAX($E$9:E3845)-1)))","v":""}]
[null,null,null,null,null,{"$f":"IF(B3846=\"\",\"\",IF(C3846=\"\",F3845,IF(E3846=\"\",F3845,E3846/MAX($E$9:E3846)-1)))","v":""}]
[null,null,null,null,null,{"$f":"IF(B3847=\"\",\"\",IF(C3847=\"\",F3846,IF(E3847=\"\",F3846,E3847/MAX($E$9:E3847)-1)))","v":""}]
[null,null,null,null,null,{"$f":"IF(B3848=\"\",\"\",IF(C3848=\"\",F3847,IF(E3848=\"\",F3847,E3848/MAX($E$9:E3848)-1)))","v":""}]
[null,null,null,null,null,{"$f":"IF(B3849=\"\",\"\",IF(C3849=\"\",F3848,IF(E3849=\"\",F3848,E3849/MAX($E$9:E3849)-1)))","v":""}]
[null,null,null,null,null,{"$f":"IF(B3850=\"\",\"\",IF(C3850=\"\",F3849,IF(E3850=\"\",F3849,E3850/MAX($E$9:E3850)-1)))","v":""}]
[null,null,null,null,null,{"$f":"IF(B3851=\"\",\"\",IF(C3851=\"\",F3850,IF(E3851=\"\",F3850,E3851/MAX($E$9:E3851)-1)))","v":""}]
[null,null,null,null,null,{"$f":"IF(B3852=\"\",\"\",IF(C3852=\"\",F3851,IF(E3852=\"\",F3851,E3852/MAX($E$9:E3852)-1)))","v":""}]
[null,null,null,null,null,{"$f":"IF(B3853=\"\",\"\",IF(C3853=\"\",F3852,IF(E3853=\"\",F3852,E3853/MAX($E$9:E3853)-1)))","v":""}]
[null,null,null,null,null,{"$f":"IF(B3854=\"\",\"\",IF(C3854=\"\",F3853,IF(E3854=\"\",F3853,E3854/MAX($E$9:E3854)-1)))","v":""}]
[null,null,null,null,null,{"$f":"IF(B3855=\"\",\"\",IF(C3855=\"\",F3854,IF(E3855=\"\",F3854,E3855/MAX($E$9:E3855)-1)))","v":""}]
[null,null,null,null,null,{"$f":"IF(B3856=\"\",\"\",IF(C3856=\"\",F3855,IF(E3856=\"\",F3855,E3856/MAX($E$9:E3856)-1)))","v":""}]
[null,null,null,null,null,{"$f":"IF(B3857=\"\",\"\",IF(C3857=\"\",F3856,IF(E3857=\"\",F3856,E3857/MAX($E$9:E3857)-1)))","v":""}]
[null,null,null,null,null,{"$f":"IF(B3858=\"\",\"\",IF(C3858=\"\",F3857,IF(E3858=\"\",F3857,E3858/MAX($E$9:E3858)-1)))","v":""}]
[null,null,null,null,null,{"$f":"IF(B3859=\"\",\"\",IF(C3859=\"\",F3858,IF(E3859=\"\",F3858,E3859/MAX($E$9:E3859)-1)))","v":""}]
[null,null,null,null,null,{"$f":"IF(B3860=\"\",\"\",IF(C3860=\"\",F3859,IF(E3860=\"\",F3859,E3860/MAX($E$9:E3860)-1)))","v":""}]
[null,null,null,null,null,{"$f":"IF(B3861=\"\",\"\",IF(C3861=\"\",F3860,IF(E3861=\"\",F3860,E3861/MAX($E$9:E3861)-1)))","v":""}]
[null,null,null,null,null,{"$f":"IF(B3862=\"\",\"\",IF(C3862=\"\",F3861,IF(E3862=\"\",F3861,E3862/MAX($E$9:E3862)-1)))","v":""}]
[null,null,null,null,null,{"$f":"IF(B3863=\"\",\"\",IF(C3863=\"\",F3862,IF(E3863=\"\",F3862,E3863/MAX($E$9:E3863)-1)))","v":""}]
[null,null,null,null,null,{"$f":"IF(B3864=\"\",\"\",IF(C3864=\"\",F3863,IF(E3864=\"\",F3863,E3864/MAX($E$9:E3864)-1)))","v":""}]
[null,null,null,null,null,{"$f":"IF(B3865=\"\",\"\",IF(C3865=\"\",F3864,IF(E3865=\"\",F3864,E3865/MAX($E$9:E3865)-1)))","v":""}]
[null,null,null,null,null,{"$f":"IF(B3866=\"\",\"\",IF(C3866=\"\",F3865,IF(E3866=\"\",F3865,E3866/MAX($E$9:E3866)-1)))","v":""}]
[null,null,null,null,null,{"$f":"IF(B3867=\"\",\"\",IF(C3867=\"\",F3866,IF(E3867=\"\",F3866,E3867/MAX($E$9:E3867)-1)))","v":""}]
[null,null,null,null,null,{"$f":"IF(B3868=\"\",\"\",IF(C3868=\"\",F3867,IF(E3868=\"\",F3867,E3868/MAX($E$9:E3868)-1)))","v":""}]
[null,null,null,null,null,{"$f":"IF(B3869=\"\",\"\",IF(C3869=\"\",F3868,IF(E3869=\"\",F3868,E3869/MAX($E$9:E3869)-1)))","v":""}]
[null,null,null,null,null,{"$f":"IF(B3870=\"\",\"\",IF(C3870=\"\",F3869,IF(E3870=\"\",F3869,E3870/MAX($E$9:E3870)-1)))","v":""}]
[null,null,null,null,null,{"$f":"IF(B3871=\"\",\"\",IF(C3871=\"\",F3870,IF(E3871=\"\",F3870,E3871/MAX($E$9:E3871)-1)))","v":""}]
[null,null,null,null,null,{"$f":"IF(B3872=\"\",\"\",IF(C3872=\"\",F3871,IF(E3872=\"\",F3871,E3872/MAX($E$9:E3872)-1)))","v":""}]
[null,null,null,null,null,{"$f":"IF(B3873=\"\",\"\",IF(C3873=\"\",F3872,IF(E3873=\"\",F3872,E3873/MAX($E$9:E3873)-1)))","v":""}]
[null,null,null,null,null,{"$f":"IF(B3874=\"\",\"\",IF(C3874=\"\",F3873,IF(E3874=\"\",F3873,E3874/MAX($E$9:E3874)-1)))","v":""}]
[null,null,null,null,null,{"$f":"IF(B3875=\"\",\"\",IF(C3875=\"\",F3874,IF(E3875=\"\",F3874,E3875/MAX($E$9:E3875)-1)))","v":""}]
[null,null,null,null,null,{"$f":"IF(B3876=\"\",\"\",IF(C3876=\"\",F3875,IF(E3876=\"\",F3875,E3876/MAX($E$9:E3876)-1)))","v":""}]
[null,null,null,null,null,{"$f":"IF(B3877=\"\",\"\",IF(C3877=\"\",F3876,IF(E3877=\"\",F3876,E3877/MAX($E$9:E3877)-1)))","v":""}]
[null,null,null,null,null,{"$f":"IF(B3878=\"\",\"\",IF(C3878=\"\",F3877,IF(E3878=\"\",F3877,E3878/MAX($E$9:E3878)-1)))","v":""}]
[null,null,null,null,null,{"$f":"IF(B3879=\"\",\"\",IF(C3879=\"\",F3878,IF(E3879=\"\",F3878,E3879/MAX($E$9:E3879)-1)))","v":""}]
[null,null,null,null,null,{"$f":"IF(B3880=\"\",\"\",IF(C3880=\"\",F3879,IF(E3880=\"\",F3879,E3880/MAX($E$9:E3880)-1)))","v":""}]
[null,null,null,null,null,{"$f":"IF(B3881=\"\",\"\",IF(C3881=\"\",F3880,IF(E3881=\"\",F3880,E3881/MAX($E$9:E3881)-1)))","v":""}]
[null,null,null,null,null,{"$f":"IF(B3882=\"\",\"\",IF(C3882=\"\",F3881,IF(E3882=\"\",F3881,E3882/MAX($E$9:E3882)-1)))","v":""}]
[null,null,null,null,null,{"$f":"IF(B3883=\"\",\"\",IF(C3883=\"\",F3882,IF(E3883=\"\",F3882,E3883/MAX($E$9:E3883)-1)))","v":""}]
[null,null,null,null,null,{"$f":"IF(B3884=\"\",\"\",IF(C3884=\"\",F3883,IF(E3884=\"\",F3883,E3884/MAX($E$9:E3884)-1)))","v":""}]
[null,null,null,null,null,{"$f":"IF(B3885=\"\",\"\",IF(C3885=\"\",F3884,IF(E3885=\"\",F3884,E3885/MAX($E$9:E3885)-1)))","v":""}]
[null,null,null,null,null,{"$f":"IF(B3886=\"\",\"\",IF(C3886=\"\",F3885,IF(E3886=\"\",F3885,E3886/MAX($E$9:E3886)-1)))","v":""}]
[null,null,null,null,null,{"$f":"IF(B3887=\"\",\"\",IF(C3887=\"\",F3886,IF(E3887=\"\",F3886,E3887/MAX($E$9:E3887)-1)))","v":""}]
[null,null,null,null,null,{"$f":"IF(B3888=\"\",\"\",IF(C3888=\"\",F3887,IF(E3888=\"\",F3887,E3888/MAX($E$9:E3888)-1)))","v":""}]
[null,null,null,null,null,{"$f":"IF(B3889=\"\",\"\",IF(C3889=\"\",F3888,IF(E3889=\"\",F3888,E3889/MAX($E$9:E3889)-1)))","v":""}]
[null,null,null,null,null,{"$f":"IF(B3890=\"\",\"\",IF(C3890=\"\",F3889,IF(E3890=\"\",F3889,E3890/MAX($E$9:E3890)-1)))","v":""}]
[null,null,null,null,null,{"$f":"IF(B3891=\"\",\"\",IF(C3891=\"\",F3890,IF(E3891=\"\",F3890,E3891/MAX($E$9:E3891)-1)))","v":""}]
[null,null,null,null,null,{"$f":"IF(B3892=\"\",\"\",IF(C3892=\"\",F3891,IF(E3892=\"\",F3891,E3892/MAX($E$9:E3892)-1)))","v":""}]
[null,null,null,null,null,{"$f":"IF(B3893=\"\",\"\",IF(C3893=\"\",F3892,IF(E3893=\"\",F3892,E3893/MAX($E$9:E3893)-1)))","v":""}]
[null,null,null,null,null,{"$f":"IF(B3894=\"\",\"\",IF(C3894=\"\",F3893,IF(E3894=\"\",F3893,E3894/MAX($E$9:E3894)-1)))","v":""}]
[null,null,null,null,null,{"$f":"IF(B3895=\"\",\"\",IF(C3895=\"\",F3894,IF(E3895=\"\",F3894,E3895/MAX($E$9:E3895)-1)))","v":""}]
[null,null,null,null,null,{"$f":"IF(B3896=\"\",\"\",IF(C3896=\"\",F3895,IF(E3896=\"\",F3895,E3896/MAX($E$9:E3896)-1)))","v":""}]
[null,null,null,null,null,{"$f":"IF(B3897=\"\",\"\",IF(C3897=\"\",F3896,IF(E3897=\"\",F3896,E3897/MAX($E$9:E3897)-1)))","v":""}]
[null,null,null,null,null,{"$f":"IF(B3898=\"\",\"\",IF(C3898=\"\",F3897,IF(E3898=\"\",F3897,E3898/MAX($E$9:E3898)-1)))","v":""}]
[null,null,null,null,null,{"$f":"IF(B3899=\"\",\"\",IF(C3899=\"\",F3898,IF(E3899=\"\",F3898,E3899/MAX($E$9:E3899)-1)))","v":""}]
[null,null,null,null,null,{"$f":"IF(B3900=\"\",\"\",IF(C3900=\"\",F3899,IF(E3900=\"\",F3899,E3900/MAX($E$9:E3900)-1)))","v":""}]
[null,null,null,null,null,{"$f":"IF(B3901=\"\",\"\",IF(C3901=\"\",F3900,IF(E3901=\"\",F3900,E3901/MAX($E$9:E3901)-1)))","v":""}]
[null,null,null,null,null,{"$f":"IF(B3902=\"\",\"\",IF(C3902=\"\",F3901,IF(E3902=\"\",F3901,E3902/MAX($E$9:E3902)-1)))","v":""}]
[null,null,null,null,null,{"$f":"IF(B3903=\"\",\"\",IF(C3903=\"\",F3902,IF(E3903=\"\",F3902,E3903/MAX($E$9:E3903)-1)))","v":""}]
[null,null,null,null,null,{"$f":"IF(B3904=\"\",\"\",IF(C3904=\"\",F3903,IF(E3904=\"\",F3903,E3904/MAX($E$9:E3904)-1)))","v":""}]
[null,null,null,null,null,{"$f":"IF(B3905=\"\",\"\",IF(C3905=\"\",F3904,IF(E3905=\"\",F3904,E3905/MAX($E$9:E3905)-1)))","v":""}]
[null,null,null,null,null,{"$f":"IF(B3906=\"\",\"\",IF(C3906=\"\",F3905,IF(E3906=\"\",F3905,E3906/MAX($E$9:E3906)-1)))","v":""}]
[null,null,null,null,null,{"$f":"IF(B3907=\"\",\"\",IF(C3907=\"\",F3906,IF(E3907=\"\",F3906,E3907/MAX($E$9:E3907)-1)))","v":""}]
[null,null,null,null,null,{"$f":"IF(B3908=\"\",\"\",IF(C3908=\"\",F3907,IF(E3908=\"\",F3907,E3908/MAX($E$9:E3908)-1)))","v":""}]
[null,null,null,null,null,{"$f":"IF(B3909=\"\",\"\",IF(C3909=\"\",F3908,IF(E3909=\"\",F3908,E3909/MAX($E$9:E3909)-1)))","v":""}]
[null,null,null,null,null,{"$f":"IF(B3910=\"\",\"\",IF(C3910=\"\",F3909,IF(E3910=\"\",F3909,E3910/MAX($E$9:E3910)-1)))","v":""}]
[null,null,null,null,null,{"$f":"IF(B3911=\"\",\"\",IF(C3911=\"\",F3910,IF(E3911=\"\",F3910,E3911/MAX($E$9:E3911)-1)))","v":""}]
[null,null,null,null,null,{"$f":"IF(B3912=\"\",\"\",IF(C3912=\"\",F3911,IF(E3912=\"\",F3911,E3912/MAX($E$9:E3912)-1)))","v":""}]
[null,null,null,null,null,{"$f":"IF(B3913=\"\",\"\",IF(C3913=\"\",F3912,IF(E3913=\"\",F3912,E3913/MAX($E$9:E3913)-1)))","v":""}]
[null,null,null,null,null,{"$f":"IF(B3914=\"\",\"\",IF(C3914=\"\",F3913,IF(E3914=\"\",F3913,E3914/MAX($E$9:E3914)-1)))","v":""}]
[null,null,null,null,null,{"$f":"IF(B3915=\"\",\"\",IF(C3915=\"\",F3914,IF(E3915=\"\",F3914,E3915/MAX($E$9:E3915)-1)))","v":""}]
[null,null,null,null,null,{"$f":"IF(B3916=\"\",\"\",IF(C3916=\"\",F3915,IF(E3916=\"\",F3915,E3916/MAX($E$9:E3916)-1)))","v":""}]
[null,null,null,null,null,{"$f":"IF(B3917=\"\",\"\",IF(C3917=\"\",F3916,IF(E3917=\"\",F3916,E3917/MAX($E$9:E3917)-1)))","v":""}]
[null,null,null,null,null,{"$f":"IF(B3918=\"\",\"\",IF(C3918=\"\",F3917,IF(E3918=\"\",F3917,E3918/MAX($E$9:E3918)-1)))","v":""}]
[null,null,null,null,null,{"$f":"IF(B3919=\"\",\"\",IF(C3919=\"\",F3918,IF(E3919=\"\",F3918,E3919/MAX($E$9:E3919)-1)))","v":""}]
[null,null,null,null,null,{"$f":"IF(B3920=\"\",\"\",IF(C3920=\"\",F3919,IF(E3920=\"\",F3919,E3920/MAX($E$9:E3920)-1)))","v":""}]
[null,null,null,null,null,{"$f":"IF(B3921=\"\",\"\",IF(C3921=\"\",F3920,IF(E3921=\"\",F3920,E3921/MAX($E$9:E3921)-1)))","v":""}]
[null,null,null,null,null,{"$f":"IF(B3922=\"\",\"\",IF(C3922=\"\",F3921,IF(E3922=\"\",F3921,E3922/MAX($E$9:E3922)-1)))","v":""}]
[null,null,null,null,null,{"$f":"IF(B3923=\"\",\"\",IF(C3923=\"\",F3922,IF(E3923=\"\",F3922,E3923/MAX($E$9:E3923)-1)))","v":""}]
[null,null,null,null,null,{"$f":"IF(B3924=\"\",\"\",IF(C3924=\"\",F3923,IF(E3924=\"\",F3923,E3924/MAX($E$9:E3924)-1)))","v":""}]
[null,null,null,null,null,{"$f":"IF(B3925=\"\",\"\",IF(C3925=\"\",F3924,IF(E3925=\"\",F3924,E3925/MAX($E$9:E3925)-1)))","v":""}]
[null,null,null,null,null,{"$f":"IF(B3926=\"\",\"\",IF(C3926=\"\",F3925,IF(E3926=\"\",F3925,E3926/MAX($E$9:E3926)-1)))","v":""}]
[null,null,null,null,null,{"$f":"IF(B3927=\"\",\"\",IF(C3927=\"\",F3926,IF(E3927=\"\",F3926,E3927/MAX($E$9:E3927)-1)))","v":""}]
[null,null,null,null,null,{"$f":"IF(B3928=\"\",\"\",IF(C3928=\"\",F3927,IF(E3928=\"\",F3927,E3928/MAX($E$9:E3928)-1)))","v":""}]
[null,null,null,null,null,{"$f":"IF(B3929=\"\",\"\",IF(C3929=\"\",F3928,IF(E3929=\"\",F3928,E3929/MAX($E$9:E3929)-1)))","v":""}]
[null,null,null,null,null,{"$f":"IF(B3930=\"\",\"\",IF(C3930=\"\",F3929,IF(E3930=\"\",F3929,E3930/MAX($E$9:E3930)-1)))","v":""}]
[null,null,null,null,null,{"$f":"IF(B3931=\"\",\"\",IF(C3931=\"\",F3930,IF(E3931=\"\",F3930,E3931/MAX($E$9:E3931)-1)))","v":""}]
[null,null,null,null,null,{"$f":"IF(B3932=\"\",\"\",IF(C3932=\"\",F3931,IF(E3932=\"\",F3931,E3932/MAX($E$9:E3932)-1)))","v":""}]
[null,null,null,null,null,{"$f":"IF(B3933=\"\",\"\",IF(C3933=\"\",F3932,IF(E3933=\"\",F3932,E3933/MAX($E$9:E3933)-1)))","v":""}]
[null,null,null,null,null,{"$f":"IF(B3934=\"\",\"\",IF(C3934=\"\",F3933,IF(E3934=\"\",F3933,E3934/MAX($E$9:E3934)-1)))","v":""}]
[null,null,null,null,null,{"$f":"IF(B3935=\"\",\"\",IF(C3935=\"\",F3934,IF(E3935=\"\",F3934,E3935/MAX($E$9:E3935)-1)))","v":""}]
[null,null,null,null,null,{"$f":"IF(B3936=\"\",\"\",IF(C3936=\"\",F3935,IF(E3936=\"\",F3935,E3936/MAX($E$9:E3936)-1)))","v":""}]
[null,null,null,null,null,{"$f":"IF(B3937=\"\",\"\",IF(C3937=\"\",F3936,IF(E3937=\"\",F3936,E3937/MAX($E$9:E3937)-1)))","v":""}]
[null,null,null,null,null,{"$f":"IF(B3938=\"\",\"\",IF(C3938=\"\",F3937,IF(E3938=\"\",F3937,E3938/MAX($E$9:E3938)-1)))","v":""}]
[null,null,null,null,null,{"$f":"IF(B3939=\"\",\"\",IF(C3939=\"\",F3938,IF(E3939=\"\",F3938,E3939/MAX($E$9:E3939)-1)))","v":""}]
[null,null,null,null,null,{"$f":"IF(B3940=\"\",\"\",IF(C3940=\"\",F3939,IF(E3940=\"\",F3939,E3940/MAX($E$9:E3940)-1)))","v":""}]
[null,null,null,null,null,{"$f":"IF(B3941=\"\",\"\",IF(C3941=\"\",F3940,IF(E3941=\"\",F3940,E3941/MAX($E$9:E3941)-1)))","v":""}]
[null,null,null,null,null,{"$f":"IF(B3942=\"\",\"\",IF(C3942=\"\",F3941,IF(E3942=\"\",F3941,E3942/MAX($E$9:E3942)-1)))","v":""}]
[null,null,null,null,null,{"$f":"IF(B3943=\"\",\"\",IF(C3943=\"\",F3942,IF(E3943=\"\",F3942,E3943/MAX($E$9:E3943)-1)))","v":""}]
[null,null,null,null,null,{"$f":"IF(B3944=\"\",\"\",IF(C3944=\"\",F3943,IF(E3944=\"\",F3943,E3944/MAX($E$9:E3944)-1)))","v":""}]
[null,null,null,null,null,{"$f":"IF(B3945=\"\",\"\",IF(C3945=\"\",F3944,IF(E3945=\"\",F3944,E3945/MAX($E$9:E3945)-1)))","v":""}]
[null,null,null,null,null,{"$f":"IF(B3946=\"\",\"\",IF(C3946=\"\",F3945,IF(E3946=\"\",F3945,E3946/MAX($E$9:E3946)-1)))","v":""}]
[null,null,null,null,null,{"$f":"IF(B3947=\"\",\"\",IF(C3947=\"\",F3946,IF(E3947=\"\",F3946,E3947/MAX($E$9:E3947)-1)))","v":""}]
[null,null,null,null,null,{"$f":"IF(B3948=\"\",\"\",IF(C3948=\"\",F3947,IF(E3948=\"\",F3947,E3948/MAX($E$9:E3948)-1)))","v":""}]
[null,null,null,null,null,{"$f":"IF(B3949=\"\",\"\",IF(C3949=\"\",F3948,IF(E3949=\"\",F3948,E3949/MAX($E$9:E3949)-1)))","v":""}]
[null,null,null,null,null,{"$f":"IF(B3950=\"\",\"\",IF(C3950=\"\",F3949,IF(E3950=\"\",F3949,E3950/MAX($E$9:E3950)-1)))","v":""}]
[null,null,null,null,null,{"$f":"IF(B3951=\"\",\"\",IF(C3951=\"\",F3950,IF(E3951=\"\",F3950,E3951/MAX($E$9:E3951)-1)))","v":""}]
[null,null,null,null,null,{"$f":"IF(B3952=\"\",\"\",IF(C3952=\"\",F3951,IF(E3952=\"\",F3951,E3952/MAX($E$9:E3952)-1)))","v":""}]
[null,null,null,null,null,{"$f":"IF(B3953=\"\",\"\",IF(C3953=\"\",F3952,IF(E3953=\"\",F3952,E3953/MAX($E$9:E3953)-1)))","v":""}]
[null,null,null,null,null,{"$f":"IF(B3954=\"\",\"\",IF(C3954=\"\",F3953,IF(E3954=\"\",F3953,E3954/MAX($E$9:E3954)-1)))","v":""}]
[null,null,null,null,null,{"$f":"IF(B3955=\"\",\"\",IF(C3955=\"\",F3954,IF(E3955=\"\",F3954,E3955/MAX($E$9:E3955)-1)))","v":""}]
[null,null,null,null,null,{"$f":"IF(B3956=\"\",\"\",IF(C3956=\"\",F3955,IF(E3956=\"\",F3955,E3956/MAX($E$9:E3956)-1)))","v":""}]
[null,null,null,null,null,{"$f":"IF(B3957=\"\",\"\",IF(C3957=\"\",F3956,IF(E3957=\"\",F3956,E3957/MAX($E$9:E3957)-1)))","v":""}]
[null,null,null,null,null,{"$f":"IF(B3958=\"\",\"\",IF(C3958=\"\",F3957,IF(E3958=\"\",F3957,E3958/MAX($E$9:E3958)-1)))","v":""}]
[null,null,null,null,null,{"$f":"IF(B3959=\"\",\"\",IF(C3959=\"\",F3958,IF(E3959=\"\",F3958,E3959/MAX($E$9:E3959)-1)))","v":""}]
[null,null,null,null,null,{"$f":"IF(B3960=\"\",\"\",IF(C3960=\"\",F3959,IF(E3960=\"\",F3959,E3960/MAX($E$9:E3960)-1)))","v":""}]
[null,null,null,null,null,{"$f":"IF(B3961=\"\",\"\",IF(C3961=\"\",F3960,IF(E3961=\"\",F3960,E3961/MAX($E$9:E3961)-1)))","v":""}]
[null,null,null,null,null,{"$f":"IF(B3962=\"\",\"\",IF(C3962=\"\",F3961,IF(E3962=\"\",F3961,E3962/MAX($E$9:E3962)-1)))","v":""}]
[null,null,null,null,null,{"$f":"IF(B3963=\"\",\"\",IF(C3963=\"\",F3962,IF(E3963=\"\",F3962,E3963/MAX($E$9:E3963)-1)))","v":""}]
[null,null,null,null,null,{"$f":"IF(B3964=\"\",\"\",IF(C3964=\"\",F3963,IF(E3964=\"\",F3963,E3964/MAX($E$9:E3964)-1)))","v":""}]
[null,null,null,null,null,{"$f":"IF(B3965=\"\",\"\",IF(C3965=\"\",F3964,IF(E3965=\"\",F3964,E3965/MAX($E$9:E3965)-1)))","v":""}]
[null,null,null,null,null,{"$f":"IF(B3966=\"\",\"\",IF(C3966=\"\",F3965,IF(E3966=\"\",F3965,E3966/MAX($E$9:E3966)-1)))","v":""}]
[null,null,null,null,null,{"$f":"IF(B3967=\"\",\"\",IF(C3967=\"\",F3966,IF(E3967=\"\",F3966,E3967/MAX($E$9:E3967)-1)))","v":""}]
[null,null,null,null,null,{"$f":"IF(B3968=\"\",\"\",IF(C3968=\"\",F3967,IF(E3968=\"\",F3967,E3968/MAX($E$9:E3968)-1)))","v":""}]
[null,null,null,null,null,{"$f":"IF(B3969=\"\",\"\",IF(C3969=\"\",F3968,IF(E3969=\"\",F3968,E3969/MAX($E$9:E3969)-1)))","v":""}]
[null,null,null,null,null,{"$f":"IF(B3970=\"\",\"\",IF(C3970=\"\",F3969,IF(E3970=\"\",F3969,E3970/MAX($E$9:E3970)-1)))","v":""}]
[null,null,null,null,null,{"$f":"IF(B3971=\"\",\"\",IF(C3971=\"\",F3970,IF(E3971=\"\",F3970,E3971/MAX($E$9:E3971)-1)))","v":""}]
[null,null,null,null,null,{"$f":"IF(B3972=\"\",\"\",IF(C3972=\"\",F3971,IF(E3972=\"\",F3971,E3972/MAX($E$9:E3972)-1)))","v":""}]
[null,null,null,null,null,{"$f":"IF(B3973=\"\",\"\",IF(C3973=\"\",F3972,IF(E3973=\"\",F3972,E3973/MAX($E$9:E3973)-1)))","v":""}]
[null,null,null,null,null,{"$f":"IF(B3974=\"\",\"\",IF(C3974=\"\",F3973,IF(E3974=\"\",F3973,E3974/MAX($E$9:E3974)-1)))","v":""}]
[null,null,null,null,null,{"$f":"IF(B3975=\"\",\"\",IF(C3975=\"\",F3974,IF(E3975=\"\",F3974,E3975/MAX($E$9:E3975)-1)))","v":""}]
[null,null,null,null,null,{"$f":"IF(B3976=\"\",\"\",IF(C3976=\"\",F3975,IF(E3976=\"\",F3975,E3976/MAX($E$9:E3976)-1)))","v":""}]
[null,null,null,null,null,{"$f":"IF(B3977=\"\",\"\",IF(C3977=\"\",F3976,IF(E3977=\"\",F3976,E3977/MAX($E$9:E3977)-1)))","v":""}]
[null,null,null,null,null,{"$f":"IF(B3978=\"\",\"\",IF(C3978=\"\",F3977,IF(E3978=\"\",F3977,E3978/MAX($E$9:E3978)-1)))","v":""}]
[null,null,null,null,null,{"$f":"IF(B3979=\"\",\"\",IF(C3979=\"\",F3978,IF(E3979=\"\",F3978,E3979/MAX($E$9:E3979)-1)))","v":""}]
[null,null,null,null,null,{"$f":"IF(B3980=\"\",\"\",IF(C3980=\"\",F3979,IF(E3980=\"\",F3979,E3980/MAX($E$9:E3980)-1)))","v":""}]
[null,null,null,null,null,{"$f":"IF(B3981=\"\",\"\",IF(C3981=\"\",F3980,IF(E3981=\"\",F3980,E3981/MAX($E$9:E3981)-1)))","v":""}]
[null,null,null,null,null,{"$f":"IF(B3982=\"\",\"\",IF(C3982=\"\",F3981,IF(E3982=\"\",F3981,E3982/MAX($E$9:E3982)-1)))","v":""}]
[null,null,null,null,null,{"$f":"IF(B3983=\"\",\"\",IF(C3983=\"\",F3982,IF(E3983=\"\",F3982,E3983/MAX($E$9:E3983)-1)))","v":""}]
[null,null,null,null,null,{"$f":"IF(B3984=\"\",\"\",IF(C3984=\"\",F3983,IF(E3984=\"\",F3983,E3984/MAX($E$9:E3984)-1)))","v":""}]
[null,null,null,null,null,{"$f":"IF(B3985=\"\",\"\",IF(C3985=\"\",F3984,IF(E3985=\"\",F3984,E3985/MAX($E$9:E3985)-1)))","v":""}]
[null,null,null,null,null,{"$f":"IF(B3986=\"\",\"\",IF(C3986=\"\",F3985,IF(E3986=\"\",F3985,E3986/MAX($E$9:E3986)-1)))","v":""}]
[null,null,null,null,null,{"$f":"IF(B3987=\"\",\"\",IF(C3987=\"\",F3986,IF(E3987=\"\",F3986,E3987/MAX($E$9:E3987)-1)))","v":""}]
[null,null,null,null,null,{"$f":"IF(B3988=\"\",\"\",IF(C3988=\"\",F3987,IF(E3988=\"\",F3987,E3988/MAX($E$9:E3988)-1)))","v":""}]
[null,null,null,null,null,{"$f":"IF(B3989=\"\",\"\",IF(C3989=\"\",F3988,IF(E3989=\"\",F3988,E3989/MAX($E$9:E3989)-1)))","v":""}]
[null,null,null,null,null,{"$f":"IF(B3990=\"\",\"\",IF(C3990=\"\",F3989,IF(E3990=\"\",F3989,E3990/MAX($E$9:E3990)-1)))","v":""}]
[null,null,null,null,null,{"$f":"IF(B3991=\"\",\"\",IF(C3991=\"\",F3990,IF(E3991=\"\",F3990,E3991/MAX($E$9:E3991)-1)))","v":""}]
[null,null,null,null,null,{"$f":"IF(B3992=\"\",\"\",IF(C3992=\"\",F3991,IF(E3992=\"\",F3991,E3992/MAX($E$9:E3992)-1)))","v":""}]
[null,null,null,null,null,{"$f":"IF(B3993=\"\",\"\",IF(C3993=\"\",F3992,IF(E3993=\"\",F3992,E3993/MAX($E$9:E3993)-1)))","v":""}]
[null,null,null,null,null,{"$f":"IF(B3994=\"\",\"\",IF(C3994=\"\",F3993,IF(E3994=\"\",F3993,E3994/MAX($E$9:E3994)-1)))","v":""}]
[null,null,null,null,null,{"$f":"IF(B3995=\"\",\"\",IF(C3995=\"\",F3994,IF(E3995=\"\",F3994,E3995/MAX($E$9:E3995)-1)))","v":""}]
[null,null,null,null,null,{"$f":"IF(B3996=\"\",\"\",IF(C3996=\"\",F3995,IF(E3996=\"\",F3995,E3996/MAX($E$9:E3996)-1)))","v":""}]
[null,null,null,null,null,{"$f":"IF(B3997=\"\",\"\",IF(C3997=\"\",F3996,IF(E3997=\"\",F3996,E3997/MAX($E$9:E3997)-1)))","v":""}]
[null,null,null,null,null,{"$f":"IF(B3998=\"\",\"\",IF(C3998=\"\",F3997,IF(E3998=\"\",F3997,E3998/MAX($E$9:E3998)-1)))","v":""}]
[null,null,null,null,null,{"$f":"IF(B3999=\"\",\"\",IF(C3999=\"\",F3998,IF(E3999=\"\",F3998,E3999/MAX($E$9:E3999)-1)))","v":""}]
[null,null,null,null,null,{"$f":"IF(B4000=\"\",\"\",IF(C4000=\"\",F3999,IF(E4000=\"\",F3999,E4000/MAX($E$9:E4000)-1)))","v":""}]
[null,null,null,null,null,{"$f":"IF(B4001=\"\",\"\",IF(C4001=\"\",F4000,IF(E4001=\"\",F4000,E4001/MAX($E$9:E4001)-1)))","v":""}]
[null,null,null,null,null,{"$f":"IF(B4002=\"\",\"\",IF(C4002=\"\",F4001,IF(E4002=\"\",F4001,E4002/MAX($E$9:E4002)-1)))","v":""}]
[null,null,null,null,null,{"$f":"IF(B4003=\"\",\"\",IF(C4003=\"\",F4002,IF(E4003=\"\",F4002,E4003/MAX($E$9:E4003)-1)))","v":""}]
[null,null,null,null,null,{"$f":"IF(B4004=\"\",\"\",IF(C4004=\"\",F4003,IF(E4004=\"\",F4003,E4004/MAX($E$9:E4004)-1)))","v":""}]
[null,null,null,null,null,{"$f":"IF(B4005=\"\",\"\",IF(C4005=\"\",F4004,IF(E4005=\"\",F4004,E4005/MAX($E$9:E4005)-1)))","v":""}]
[null,null,null,null,null,{"$f":"IF(B4006=\"\",\"\",IF(C4006=\"\",F4005,IF(E4006=\"\",F4005,E4006/MAX($E$9:E4006)-1)))","v":""}]
[null,null,null,null,null,{"$f":"IF(B4007=\"\",\"\",IF(C4007=\"\",F4006,IF(E4007=\"\",F4006,E4007/MAX($E$9:E4007)-1)))","v":""}]
[null,null,null,null,null,{"$f":"IF(B4008=\"\",\"\",IF(C4008=\"\",F4007,IF(E4008=\"\",F4007,E4008/MAX($E$9:E4008)-1)))","v":""}]
[null,null,null,null,null,{"$f":"IF(B4009=\"\",\"\",IF(C4009=\"\",F4008,IF(E4009=\"\",F4008,E4009/MAX($E$9:E4009)-1)))","v":""}]
[null,null,null,null,null,{"$f":"IF(B4010=\"\",\"\",IF(C4010=\"\",F4009,IF(E4010=\"\",F4009,E4010/MAX($E$9:E4010)-1)))","v":""}]
[null,null,null,null,null,{"$f":"IF(B4011=\"\",\"\",IF(C4011=\"\",F4010,IF(E4011=\"\",F4010,E4011/MAX($E$9:E4011)-1)))","v":""}]
[null,null,null,null,null,{"$f":"IF(B4012=\"\",\"\",IF(C4012=\"\",F4011,IF(E4012=\"\",F4011,E4012/MAX($E$9:E4012)-1)))","v":""}]
[null,null,null,null,null,{"$f":"IF(B4013=\"\",\"\",IF(C4013=\"\",F4012,IF(E4013=\"\",F4012,E4013/MAX($E$9:E4013)-1)))","v":""}]
[null,null,null,null,null,{"$f":"IF(B4014=\"\",\"\",IF(C4014=\"\",F4013,IF(E4014=\"\",F4013,E4014/MAX($E$9:E4014)-1)))","v":""}]
[null,null,null,null,null,{"$f":"IF(B4015=\"\",\"\",IF(C4015=\"\",F4014,IF(E4015=\"\",F4014,E4015/MAX($E$9:E4015)-1)))","v":""}]
[null,null,null,null,null,{"$f":"IF(B4016=\"\",\"\",IF(C4016=\"\",F4015,IF(E4016=\"\",F4015,E4016/MAX($E$9:E4016)-1)))","v":""}]
[null,null,null,null,null,{"$f":"IF(B4017=\"\",\"\",IF(C4017=\"\",F4016,IF(E4017=\"\",F4016,E4017/MAX($E$9:E4017)-1)))","v":""}]
[null,null,null,null,null,{"$f":"IF(B4018=\"\",\"\",IF(C4018=\"\",F4017,IF(E4018=\"\",F4017,E4018/MAX($E$9:E4018)-1)))","v":""}]
[null,null,null,null,null,{"$f":"IF(B4019=\"\",\"\",IF(C4019=\"\",F4018,IF(E4019=\"\",F4018,E4019/MAX($E$9:E4019)-1)))","v":""}]
[null,null,null,null,null,{"$f":"IF(B4020=\"\",\"\",IF(C4020=\"\",F4019,IF(E4020=\"\",F4019,E4020/MAX($E$9:E4020)-1)))","v":""}]
[null,null,null,null,null,{"$f":"IF(B4021=\"\",\"\",IF(C4021=\"\",F4020,IF(E4021=\"\",F4020,E4021/MAX($E$9:E4021)-1)))","v":""}]
[null,null,null,null,null,{"$f":"IF(B4022=\"\",\"\",IF(C4022=\"\",F4021,IF(E4022=\"\",F4021,E4022/MAX($E$9:E4022)-1)))","v":""}]
[null,null,null,null,null,{"$f":"IF(B4023=\"\",\"\",IF(C4023=\"\",F4022,IF(E4023=\"\",F4022,E4023/MAX($E$9:E4023)-1)))","v":""}]
[null,null,null,null,null,{"$f":"IF(B4024=\"\",\"\",IF(C4024=\"\",F4023,IF(E4024=\"\",F4023,E4024/MAX($E$9:E4024)-1)))","v":""}]
[null,null,null,null,null,{"$f":"IF(B4025=\"\",\"\",IF(C4025=\"\",F4024,IF(E4025=\"\",F4024,E4025/MAX($E$9:E4025)-1)))","v":""}]
[null,null,null,null,null,{"$f":"IF(B4026=\"\",\"\",IF(C4026=\"\",F4025,IF(E4026=\"\",F4025,E4026/MAX($E$9:E4026)-1)))","v":""}]
[null,null,null,null,null,{"$f":"IF(B4027=\"\",\"\",IF(C4027=\"\",F4026,IF(E4027=\"\",F4026,E4027/MAX($E$9:E4027)-1)))","v":""}]
[null,null,null,null,null,{"$f":"IF(B4028=\"\",\"\",IF(C4028=\"\",F4027,IF(E4028=\"\",F4027,E4028/MAX($E$9:E4028)-1)))","v":""}]
[null,null,null,null,null,{"$f":"IF(B4029=\"\",\"\",IF(C4029=\"\",F4028,IF(E4029=\"\",F4028,E4029/MAX($E$9:E4029)-1)))","v":""}]
[null,null,null,null,null,{"$f":"IF(B4030=\"\",\"\",IF(C4030=\"\",F4029,IF(E4030=\"\",F4029,E4030/MAX($E$9:E4030)-1)))","v":""}]
[null,null,null,null,null,{"$f":"IF(B4031=\"\",\"\",IF(C4031=\"\",F4030,IF(E4031=\"\",F4030,E4031/MAX($E$9:E4031)-1)))","v":""}]
[null,null,null,null,null,{"$f":"IF(B4032=\"\",\"\",IF(C4032=\"\",F4031,IF(E4032=\"\",F4031,E4032/MAX($E$9:E4032)-1)))","v":""}]
[null,null,null,null,null,{"$f":"IF(B4033=\"\",\"\",IF(C4033=\"\",F4032,IF(E4033=\"\",F4032,E4033/MAX($E$9:E4033)-1)))","v":""}]
[null,null,null,null,null,{"$f":"IF(B4034=\"\",\"\",IF(C4034=\"\",F4033,IF(E4034=\"\",F4033,E4034/MAX($E$9:E4034)-1)))","v":""}]
[null,null,null,null,null,{"$f":"IF(B4035=\"\",\"\",IF(C4035=\"\",F4034,IF(E4035=\"\",F4034,E4035/MAX($E$9:E4035)-1)))","v":""}]
[null,null,null,null,null,{"$f":"IF(B4036=\"\",\"\",IF(C4036=\"\",F4035,IF(E4036=\"\",F4035,E4036/MAX($E$9:E4036)-1)))","v":""}]
[null,null,null,null,null,{"$f":"IF(B4037=\"\",\"\",IF(C4037=\"\",F4036,IF(E4037=\"\",F4036,E4037/MAX($E$9:E4037)-1)))","v":""}]
[null,null,null,null,null,{"$f":"IF(B4038=\"\",\"\",IF(C4038=\"\",F4037,IF(E4038=\"\",F4037,E4038/MAX($E$9:E4038)-1)))","v":""}]
[null,null,null,null,null,{"$f":"IF(B4039=\"\",\"\",IF(C4039=\"\",F4038,IF(E4039=\"\",F4038,E4039/MAX($E$9:E4039)-1)))","v":""}]
[null,null,null,null,null,{"$f":"IF(B4040=\"\",\"\",IF(C4040=\"\",F4039,IF(E4040=\"\",F4039,E4040/MAX($E$9:E4040)-1)))","v":""}]
[null,null,null,null,null,{"$f":"IF(B4041=\"\",\"\",IF(C4041=\"\",F4040,IF(E4041=\"\",F4040,E4041/MAX($E$9:E4041)-1)))","v":""}]
[null,null,null,null,null,{"$f":"IF(B4042=\"\",\"\",IF(C4042=\"\",F4041,IF(E4042=\"\",F4041,E4042/MAX($E$9:E4042)-1)))","v":""}]
[null,null,null,null,null,{"$f":"IF(B4043=\"\",\"\",IF(C4043=\"\",F4042,IF(E4043=\"\",F4042,E4043/MAX($E$9:E4043)-1)))","v":""}]
[null,null,null,null,null,{"$f":"IF(B4044=\"\",\"\",IF(C4044=\"\",F4043,IF(E4044=\"\",F4043,E4044/MAX($E$9:E4044)-1)))","v":""}]
[null,null,null,null,null,{"$f":"IF(B4045=\"\",\"\",IF(C4045=\"\",F4044,IF(E4045=\"\",F4044,E4045/MAX($E$9:E4045)-1)))","v":""}]
[null,null,null,null,null,{"$f":"IF(B4046=\"\",\"\",IF(C4046=\"\",F4045,IF(E4046=\"\",F4045,E4046/MAX($E$9:E4046)-1)))","v":""}]
[null,null,null,null,null,{"$f":"IF(B4047=\"\",\"\",IF(C4047=\"\",F4046,IF(E4047=\"\",F4046,E4047/MAX($E$9:E4047)-1)))","v":""}]
[null,null,null,null,null,{"$f":"IF(B4048=\"\",\"\",IF(C4048=\"\",F4047,IF(E4048=\"\",F4047,E4048/MAX($E$9:E4048)-1)))","v":""}]
[null,null,null,null,null,{"$f":"IF(B4049=\"\",\"\",IF(C4049=\"\",F4048,IF(E4049=\"\",F4048,E4049/MAX($E$9:E4049)-1)))","v":""}]
[null,null,null,null,null,{"$f":"IF(B4050=\"\",\"\",IF(C4050=\"\",F4049,IF(E4050=\"\",F4049,E4050/MAX($E$9:E4050)-1)))","v":""}]
[null,null,null,null,null,{"$f":"IF(B4051=\"\",\"\",IF(C4051=\"\",F4050,IF(E4051=\"\",F4050,E4051/MAX($E$9:E4051)-1)))","v":""}]
[null,null,null,null,null,{"$f":"IF(B4052=\"\",\"\",IF(C4052=\"\",F4051,IF(E4052=\"\",F4051,E4052/MAX($E$9:E4052)-1)))","v":""}]
[null,null,null,null,null,{"$f":"IF(B4053=\"\",\"\",IF(C4053=\"\",F4052,IF(E4053=\"\",F4052,E4053/MAX($E$9:E4053)-1)))","v":""}]
[null,null,null,null,null,{"$f":"IF(B4054=\"\",\"\",IF(C4054=\"\",F4053,IF(E4054=\"\",F4053,E4054/MAX($E$9:E4054)-1)))","v":""}]
[null,null,null,null,null,{"$f":"IF(B4055=\"\",\"\",IF(C4055=\"\",F4054,IF(E4055=\"\",F4054,E4055/MAX($E$9:E4055)-1)))","v":""}]
[null,null,null,null,null,{"$f":"IF(B4056=\"\",\"\",IF(C4056=\"\",F4055,IF(E4056=\"\",F4055,E4056/MAX($E$9:E4056)-1)))","v":""}]
[null,null,null,null,null,{"$f":"IF(B4057=\"\",\"\",IF(C4057=\"\",F4056,IF(E4057=\"\",F4056,E4057/MAX($E$9:E4057)-1)))","v":""}]
[null,null,null,null,null,{"$f":"IF(B4058=\"\",\"\",IF(C4058=\"\",F4057,IF(E4058=\"\",F4057,E4058/MAX($E$9:E4058)-1)))","v":""}]
[null,null,null,null,null,{"$f":"IF(B4059=\"\",\"\",IF(C4059=\"\",F4058,IF(E4059=\"\",F4058,E4059/MAX($E$9:E4059)-1)))","v":""}]
[null,null,null,null,null,{"$f":"IF(B4060=\"\",\"\",IF(C4060=\"\",F4059,IF(E4060=\"\",F4059,E4060/MAX($E$9:E4060)-1)))","v":""}]
[null,null,null,null,null,{"$f":"IF(B4061=\"\",\"\",IF(C4061=\"\",F4060,IF(E4061=\"\",F4060,E4061/MAX($E$9:E4061)-1)))","v":""}]
[null,null,null,null,null,{"$f":"IF(B4062=\"\",\"\",IF(C4062=\"\",F4061,IF(E4062=\"\",F4061,E4062/MAX($E$9:E4062)-1)))","v":""}]
[null,null,null,null,null,{"$f":"IF(B4063=\"\",\"\",IF(C4063=\"\",F4062,IF(E4063=\"\",F4062,E4063/MAX($E$9:E4063)-1)))","v":""}]
[null,null,null,null,null,{"$f":"IF(B4064=\"\",\"\",IF(C4064=\"\",F4063,IF(E4064=\"\",F4063,E4064/MAX($E$9:E4064)-1)))","v":""}]
[null,null,null,null,null,{"$f":"IF(B4065=\"\",\"\",IF(C4065=\"\",F4064,IF(E4065=\"\",F4064,E4065/MAX($E$9:E4065)-1)))","v":""}]
[null,null,null,null,null,{"$f":"IF(B4066=\"\",\"\",IF(C4066=\"\",F4065,IF(E4066=\"\",F4065,E4066/MAX($E$9:E4066)-1)))","v":""}]
[null,null,null,null,null,{"$f":"IF(B4067=\"\",\"\",IF(C4067=\"\",F4066,IF(E4067=\"\",F4066,E4067/MAX($E$9:E4067)-1)))","v":""}]
[null,null,null,null,null,{"$f":"IF(B4068=\"\",\"\",IF(C4068=\"\",F4067,IF(E4068=\"\",F4067,E4068/MAX($E$9:E4068)-1)))","v":""}]
[null,null,null,null,null,{"$f":"IF(B4069=\"\",\"\",IF(C4069=\"\",F4068,IF(E4069=\"\",F4068,E4069/MAX($E$9:E4069)-1)))","v":""}]
[null,null,null,null,null,{"$f":"IF(B4070=\"\",\"\",IF(C4070=\"\",F4069,IF(E4070=\"\",F4069,E4070/MAX($E$9:E4070)-1)))","v":""}]
[null,null,null,null,null,{"$f":"IF(B4071=\"\",\"\",IF(C4071=\"\",F4070,IF(E4071=\"\",F4070,E4071/MAX($E$9:E4071)-1)))","v":""}]
[null,null,null,null,null,{"$f":"IF(B4072=\"\",\"\",IF(C4072=\"\",F4071,IF(E4072=\"\",F4071,E4072/MAX($E$9:E4072)-1)))","v":""}]
[null,null,null,null,null,{"$f":"IF(B4073=\"\",\"\",IF(C4073=\"\",F4072,IF(E4073=\"\",F4072,E4073/MAX($E$9:E4073)-1)))","v":""}]
[null,null,null,null,null,{"$f":"IF(B4074=\"\",\"\",IF(C4074=\"\",F4073,IF(E4074=\"\",F4073,E4074/MAX($E$9:E4074)-1)))","v":""}]
[null,null,null,null,null,{"$f":"IF(B4075=\"\",\"\",IF(C4075=\"\",F4074,IF(E4075=\"\",F4074,E4075/MAX($E$9:E4075)-1)))","v":""}]
[null,null,null,null,null,{"$f":"IF(B4076=\"\",\"\",IF(C4076=\"\",F4075,IF(E4076=\"\",F4075,E4076/MAX($E$9:E4076)-1)))","v":""}]
[null,null,null,null,null,{"$f":"IF(B4077=\"\",\"\",IF(C4077=\"\",F4076,IF(E4077=\"\",F4076,E4077/MAX($E$9:E4077)-1)))","v":""}]
[null,null,null,null,null,{"$f":"IF(B4078=\"\",\"\",IF(C4078=\"\",F4077,IF(E4078=\"\",F4077,E4078/MAX($E$9:E4078)-1)))","v":""}]
[null,null,null,null,null,{"$f":"IF(B4079=\"\",\"\",IF(C4079=\"\",F4078,IF(E4079=\"\",F4078,E4079/MAX($E$9:E4079)-1)))","v":""}]
[null,null,null,null,null,{"$f":"IF(B4080=\"\",\"\",IF(C4080=\"\",F4079,IF(E4080=\"\",F4079,E4080/MAX($E$9:E4080)-1)))","v":""}]
[null,null,null,null,null,{"$f":"IF(B4081=\"\",\"\",IF(C4081=\"\",F4080,IF(E4081=\"\",F4080,E4081/MAX($E$9:E4081)-1)))","v":""}]
[null,null,null,null,null,{"$f":"IF(B4082=\"\",\"\",IF(C4082=\"\",F4081,IF(E4082=\"\",F4081,E4082/MAX($E$9:E4082)-1)))","v":""}]
[null,null,null,null,null,{"$f":"IF(B4083=\"\",\"\",IF(C4083=\"\",F4082,IF(E4083=\"\",F4082,E4083/MAX($E$9:E4083)-1)))","v":""}]
[null,null,null,null,null,{"$f":"IF(B4084=\"\",\"\",IF(C4084=\"\",F4083,IF(E4084=\"\",F4083,E4084/MAX($E$9:E4084)-1)))","v":""}]
[null,null,null,null,null,{"$f":"IF(B4085=\"\",\"\",IF(C4085=\"\",F4084,IF(E4085=\"\",F4084,E4085/MAX($E$9:E4085)-1)))","v":""}]
[null,null,null,null,null,{"$f":"IF(B4086=\"\",\"\",IF(C4086=\"\",F4085,IF(E4086=\"\",F4085,E4086/MAX($E$9:E4086)-1)))","v":""}]
[null,null,null,null,null,{"$f":"IF(B4087=\"\",\"\",IF(C4087=\"\",F4086,IF(E4087=\"\",F4086,E4087/MAX($E$9:E4087)-1)))","v":""}]
[null,null,null,null,null,{"$f":"IF(B4088=\"\",\"\",IF(C4088=\"\",F4087,IF(E4088=\"\",F4087,E4088/MAX($E$9:E4088)-1)))","v":""}]
[null,null,null,null,null,{"$f":"IF(B4089=\"\",\"\",IF(C4089=\"\",F4088,IF(E4089=\"\",F4088,E4089/MAX($E$9:E4089)-1)))","v":""}]
[null,null,null,null,null,{"$f":"IF(B4090=\"\",\"\",IF(C4090=\"\",F4089,IF(E4090=\"\",F4089,E4090/MAX($E$9:E4090)-1)))","v":""}]
[null,null,null,null,null,{"$f":"IF(B4091=\"\",\"\",IF(C4091=\"\",F4090,IF(E4091=\"\",F4090,E4091/MAX($E$9:E4091)-1)))","v":""}]
[null,null,null,null,null,{"$f":"IF(B4092=\"\",\"\",IF(C4092=\"\",F4091,IF(E4092=\"\",F4091,E4092/MAX($E$9:E4092)-1)))","v":""}]
[null,null,null,null,null,{"$f":"IF(B4093=\"\",\"\",IF(C4093=\"\",F4092,IF(E4093=\"\",F4092,E4093/MAX($E$9:E4093)-1)))","v":""}]
[null,null,null,null,null,{"$f":"IF(B4094=\"\",\"\",IF(C4094=\"\",F4093,IF(E4094=\"\",F4093,E4094/MAX($E$9:E4094)-1)))","v":""}]
[null,null,null,null,null,{"$f":"IF(B4095=\"\",\"\",IF(C4095=\"\",F4094,IF(E4095=\"\",F4094,E4095/MAX($E$9:E4095)-1)))","v":""}]
[null,null,null,null,null,{"$f":"IF(B4096=\"\",\"\",IF(C4096=\"\",F4095,IF(E4096=\"\",F4095,E4096/MAX($E$9:E4096)-1)))","v":""}]
[null,null,null,null,null,{"$f":"IF(B4097=\"\",\"\",IF(C4097=\"\",F4096,IF(E4097=\"\",F4096,E4097/MAX($E$9:E4097)-1)))","v":""}]
[null,null,null,null,null,{"$f":"IF(B4098=\"\",\"\",IF(C4098=\"\",F4097,IF(E4098=\"\",F4097,E4098/MAX($E$9:E4098)-1)))","v":""}]
[null,null,null,null,null,{"$f":"IF(B4099=\"\",\"\",IF(C4099=\"\",F4098,IF(E4099=\"\",F4098,E4099/MAX($E$9:E4099)-1)))","v":""}]
[null,null,null,null,null,{"$f":"IF(B4100=\"\",\"\",IF(C4100=\"\",F4099,IF(E4100=\"\",F4099,E4100/MAX($E$9:E4100)-1)))","v":""}]
[null,null,null,null,null,{"$f":"IF(B4101=\"\",\"\",IF(C4101=\"\",F4100,IF(E4101=\"\",F4100,E4101/MAX($E$9:E4101)-1)))","v":""}]
[null,null,null,null,null,{"$f":"IF(B4102=\"\",\"\",IF(C4102=\"\",F4101,IF(E4102=\"\",F4101,E4102/MAX($E$9:E4102)-1)))","v":""}]
[null,null,null,null,null,{"$f":"IF(B4103=\"\",\"\",IF(C4103=\"\",F4102,IF(E4103=\"\",F4102,E4103/MAX($E$9:E4103)-1)))","v":""}]
[null,null,null,null,null,{"$f":"IF(B4104=\"\",\"\",IF(C4104=\"\",F4103,IF(E4104=\"\",F4103,E4104/MAX($E$9:E4104)-1)))","v":""}]
[null,null,null,null,null,{"$f":"IF(B4105=\"\",\"\",IF(C4105=\"\",F4104,IF(E4105=\"\",F4104,E4105/MAX($E$9:E4105)-1)))","v":""}]
[null,null,null,null,null,{"$f":"IF(B4106=\"\",\"\",IF(C4106=\"\",F4105,IF(E4106=\"\",F4105,E4106/MAX($E$9:E4106)-1)))","v":""}]
[null,null,null,null,null,{"$f":"IF(B4107=\"\",\"\",IF(C4107=\"\",F4106,IF(E4107=\"\",F4106,E4107/MAX($E$9:E4107)-1)))","v":""}]
[null,null,null,null,null,{"$f":"IF(B4108=\"\",\"\",IF(C4108=\"\",F4107,IF(E4108=\"\",F4107,E4108/MAX($E$9:E4108)-1)))","v":""}]
[null,null,null,null,null,{"$f":"IF(B4109=\"\",\"\",IF(C4109=\"\",F4108,IF(E4109=\"\",F4108,E4109/MAX($E$9:E4109)-1)))","v":""}]
[null,null,null,null,null,{"$f":"IF(B4110=\"\",\"\",IF(C4110=\"\",F4109,IF(E4110=\"\",F4109,E4110/MAX($E$9:E4110)-1)))","v":""}]
[null,null,null,null,null,{"$f":"IF(B4111=\"\",\"\",IF(C4111=\"\",F4110,IF(E4111=\"\",F4110,E4111/MAX($E$9:E4111)-1)))","v":""}]
[null,null,null,null,null,{"$f":"IF(B4112=\"\",\"\",IF(C4112=\"\",F4111,IF(E4112=\"\",F4111,E4112/MAX($E$9:E4112)-1)))","v":""}]
[null,null,null,null,null,{"$f":"IF(B4113=\"\",\"\",IF(C4113=\"\",F4112,IF(E4113=\"\",F4112,E4113/MAX($E$9:E4113)-1)))","v":""}]
[null,null,null,null,null,{"$f":"IF(B4114=\"\",\"\",IF(C4114=\"\",F4113,IF(E4114=\"\",F4113,E4114/MAX($E$9:E4114)-1)))","v":""}]
[null,null,null,null,null,{"$f":"IF(B4115=\"\",\"\",IF(C4115=\"\",F4114,IF(E4115=\"\",F4114,E4115/MAX($E$9:E4115)-1)))","v":""}]
[null,null,null,null,null,{"$f":"IF(B4116=\"\",\"\",IF(C4116=\"\",F4115,IF(E4116=\"\",F4115,E4116/MAX($E$9:E4116)-1)))","v":""}]
[null,null,null,null,null,{"$f":"IF(B4117=\"\",\"\",IF(C4117=\"\",F4116,IF(E4117=\"\",F4116,E4117/MAX($E$9:E4117)-1)))","v":""}]
[null,null,null,null,null,{"$f":"IF(B4118=\"\",\"\",IF(C4118=\"\",F4117,IF(E4118=\"\",F4117,E4118/MAX($E$9:E4118)-1)))","v":""}]
[null,null,null,null,null,{"$f":"IF(B4119=\"\",\"\",IF(C4119=\"\",F4118,IF(E4119=\"\",F4118,E4119/MAX($E$9:E4119)-1)))","v":""}]
[null,null,null,null,null,{"$f":"IF(B4120=\"\",\"\",IF(C4120=\"\",F4119,IF(E4120=\"\",F4119,E4120/MAX($E$9:E4120)-1)))","v":""}]
[null,null,null,null,null,{"$f":"IF(B4121=\"\",\"\",IF(C4121=\"\",F4120,IF(E4121=\"\",F4120,E4121/MAX($E$9:E4121)-1)))","v":""}]
[null,null,null,null,null,{"$f":"IF(B4122=\"\",\"\",IF(C4122=\"\",F4121,IF(E4122=\"\",F4121,E4122/MAX($E$9:E4122)-1)))","v":""}]
[null,null,null,null,null,{"$f":"IF(B4123=\"\",\"\",IF(C4123=\"\",F4122,IF(E4123=\"\",F4122,E4123/MAX($E$9:E4123)-1)))","v":""}]
[null,null,null,null,null,{"$f":"IF(B4124=\"\",\"\",IF(C4124=\"\",F4123,IF(E4124=\"\",F4123,E4124/MAX($E$9:E4124)-1)))","v":""}]
[null,null,null,null,null,{"$f":"IF(B4125=\"\",\"\",IF(C4125=\"\",F4124,IF(E4125=\"\",F4124,E4125/MAX($E$9:E4125)-1)))","v":""}]
[null,null,null,null,null,{"$f":"IF(B4126=\"\",\"\",IF(C4126=\"\",F4125,IF(E4126=\"\",F4125,E4126/MAX($E$9:E4126)-1)))","v":""}]
[null,null,null,null,null,{"$f":"IF(B4127=\"\",\"\",IF(C4127=\"\",F4126,IF(E4127=\"\",F4126,E4127/MAX($E$9:E4127)-1)))","v":""}]
[null,null,null,null,null,{"$f":"IF(B4128=\"\",\"\",IF(C4128=\"\",F4127,IF(E4128=\"\",F4127,E4128/MAX($E$9:E4128)-1)))","v":""}]
[null,null,null,null,null,{"$f":"IF(B4129=\"\",\"\",IF(C4129=\"\",F4128,IF(E4129=\"\",F4128,E4129/MAX($E$9:E4129)-1)))","v":""}]
[null,null,null,null,null,{"$f":"IF(B4130=\"\",\"\",IF(C4130=\"\",F4129,IF(E4130=\"\",F4129,E4130/MAX($E$9:E4130)-1)))","v":""}]
[null,null,null,null,null,{"$f":"IF(B4131=\"\",\"\",IF(C4131=\"\",F4130,IF(E4131=\"\",F4130,E4131/MAX($E$9:E4131)-1)))","v":""}]
[null,null,null,null,null,{"$f":"IF(B4132=\"\",\"\",IF(C4132=\"\",F4131,IF(E4132=\"\",F4131,E4132/MAX($E$9:E4132)-1)))","v":""}]
[null,null,null,null,null,{"$f":"IF(B4133=\"\",\"\",IF(C4133=\"\",F4132,IF(E4133=\"\",F4132,E4133/MAX($E$9:E4133)-1)))","v":""}]
[null,null,null,null,null,{"$f":"IF(B4134=\"\",\"\",IF(C4134=\"\",F4133,IF(E4134=\"\",F4133,E4134/MAX($E$9:E4134)-1)))","v":""}]
[null,null,null,null,null,{"$f":"IF(B4135=\"\",\"\",IF(C4135=\"\",F4134,IF(E4135=\"\",F4134,E4135/MAX($E$9:E4135)-1)))","v":""}]
[null,null,null,null,null,{"$f":"IF(B4136=\"\",\"\",IF(C4136=\"\",F4135,IF(E4136=\"\",F4135,E4136/MAX($E$9:E4136)-1)))","v":""}]
[null,null,null,null,null,{"$f":"IF(B4137=\"\",\"\",IF(C4137=\"\",F4136,IF(E4137=\"\",F4136,E4137/MAX($E$9:E4137)-1)))","v":""}]
[null,null,null,null,null,{"$f":"IF(B4138=\"\",\"\",IF(C4138=\"\",F4137,IF(E4138=\"\",F4137,E4138/MAX($E$9:E4138)-1)))","v":""}]
[null,null,null,null,null,{"$f":"IF(B4139=\"\",\"\",IF(C4139=\"\",F4138,IF(E4139=\"\",F4138,E4139/MAX($E$9:E4139)-1)))","v":""}]
[null,null,null,null,null,{"$f":"IF(B4140=\"\",\"\",IF(C4140=\"\",F4139,IF(E4140=\"\",F4139,E4140/MAX($E$9:E4140)-1)))","v":""}]
[null,null,null,null,null,{"$f":"IF(B4141=\"\",\"\",IF(C4141=\"\",F4140,IF(E4141=\"\",F4140,E4141/MAX($E$9:E4141)-1)))","v":""}]
[null,null,null,null,null,{"$f":"IF(B4142=\"\",\"\",IF(C4142=\"\",F4141,IF(E4142=\"\",F4141,E4142/MAX($E$9:E4142)-1)))","v":""}]
[null,null,null,null,null,{"$f":"IF(B4143=\"\",\"\",IF(C4143=\"\",F4142,IF(E4143=\"\",F4142,E4143/MAX($E$9:E4143)-1)))","v":""}]
[null,null,null,null,null,{"$f":"IF(B4144=\"\",\"\",IF(C4144=\"\",F4143,IF(E4144=\"\",F4143,E4144/MAX($E$9:E4144)-1)))","v":""}]
[null,null,null,null,null,{"$f":"IF(B4145=\"\",\"\",IF(C4145=\"\",F4144,IF(E4145=\"\",F4144,E4145/MAX($E$9:E4145)-1)))","v":""}]
[null,null,null,null,null,{"$f":"IF(B4146=\"\",\"\",IF(C4146=\"\",F4145,IF(E4146=\"\",F4145,E4146/MAX($E$9:E4146)-1)))","v":""}]
[null,null,null,null,null,{"$f":"IF(B4147=\"\",\"\",IF(C4147=\"\",F4146,IF(E4147=\"\",F4146,E4147/MAX($E$9:E4147)-1)))","v":""}]
[null,null,null,null,null,{"$f":"IF(B4148=\"\",\"\",IF(C4148=\"\",F4147,IF(E4148=\"\",F4147,E4148/MAX($E$9:E4148)-1)))","v":""}]
[null,null,null,null,null,{"$f":"IF(B4149=\"\",\"\",IF(C4149=\"\",F4148,IF(E4149=\"\",F4148,E4149/MAX($E$9:E4149)-1)))","v":""}]
[null,null,null,null,null,{"$f":"IF(B4150=\"\",\"\",IF(C4150=\"\",F4149,IF(E4150=\"\",F4149,E4150/MAX($E$9:E4150)-1)))","v":""}]
[null,null,null,null,null,{"$f":"IF(B4151=\"\",\"\",IF(C4151=\"\",F4150,IF(E4151=\"\",F4150,E4151/MAX($E$9:E4151)-1)))","v":""}]
[null,null,null,null,null,{"$f":"IF(B4152=\"\",\"\",IF(C4152=\"\",F4151,IF(E4152=\"\",F4151,E4152/MAX($E$9:E4152)-1)))","v":""}]
[null,null,null,null,null,{"$f":"IF(B4153=\"\",\"\",IF(C4153=\"\",F4152,IF(E4153=\"\",F4152,E4153/MAX($E$9:E4153)-1)))","v":""}]
[null,null,null,null,null,{"$f":"IF(B4154=\"\",\"\",IF(C4154=\"\",F4153,IF(E4154=\"\",F4153,E4154/MAX($E$9:E4154)-1)))","v":""}]
[null,null,null,null,null,{"$f":"IF(B4155=\"\",\"\",IF(C4155=\"\",F4154,IF(E4155=\"\",F4154,E4155/MAX($E$9:E4155)-1)))","v":""}]
[null,null,null,null,null,{"$f":"IF(B4156=\"\",\"\",IF(C4156=\"\",F4155,IF(E4156=\"\",F4155,E4156/MAX($E$9:E4156)-1)))","v":""}]
[null,null,null,null,null,{"$f":"IF(B4157=\"\",\"\",IF(C4157=\"\",F4156,IF(E4157=\"\",F4156,E4157/MAX($E$9:E4157)-1)))","v":""}]
[null,null,null,null,null,{"$f":"IF(B4158=\"\",\"\",IF(C4158=\"\",F4157,IF(E4158=\"\",F4157,E4158/MAX($E$9:E4158)-1)))","v":""}]
[null,null,null,null,null,{"$f":"IF(B4159=\"\",\"\",IF(C4159=\"\",F4158,IF(E4159=\"\",F4158,E4159/MAX($E$9:E4159)-1)))","v":""}]
[null,null,null,null,null,{"$f":"IF(B4160=\"\",\"\",IF(C4160=\"\",F4159,IF(E4160=\"\",F4159,E4160/MAX($E$9:E4160)-1)))","v":""}]
[null,null,null,null,null,{"$f":"IF(B4161=\"\",\"\",IF(C4161=\"\",F4160,IF(E4161=\"\",F4160,E4161/MAX($E$9:E4161)-1)))","v":""}]
[null,null,null,null,null,{"$f":"IF(B4162=\"\",\"\",IF(C4162=\"\",F4161,IF(E4162=\"\",F4161,E4162/MAX($E$9:E4162)-1)))","v":""}]
[null,null,null,null,null,{"$f":"IF(B4163=\"\",\"\",IF(C4163=\"\",F4162,IF(E4163=\"\",F4162,E4163/MAX($E$9:E4163)-1)))","v":""}]
[null,null,null,null,null,{"$f":"IF(B4164=\"\",\"\",IF(C4164=\"\",F4163,IF(E4164=\"\",F4163,E4164/MAX($E$9:E4164)-1)))","v":""}]
[null,null,null,null,null,{"$f":"IF(B4165=\"\",\"\",IF(C4165=\"\",F4164,IF(E4165=\"\",F4164,E4165/MAX($E$9:E4165)-1)))","v":""}]
[null,null,null,null,null,{"$f":"IF(B4166=\"\",\"\",IF(C4166=\"\",F4165,IF(E4166=\"\",F4165,E4166/MAX($E$9:E4166)-1)))","v":""}]
[null,null,null,null,null,{"$f":"IF(B4167=\"\",\"\",IF(C4167=\"\",F4166,IF(E4167=\"\",F4166,E4167/MAX($E$9:E4167)-1)))","v":""}]
[null,null,null,null,null,{"$f":"IF(B4168=\"\",\"\",IF(C4168=\"\",F4167,IF(E4168=\"\",F4167,E4168/MAX($E$9:E4168)-1)))","v":""}]
[null,null,null,null,null,{"$f":"IF(B4169=\"\",\"\",IF(C4169=\"\",F4168,IF(E4169=\"\",F4168,E4169/MAX($E$9:E4169)-1)))","v":""}]
[null,null,null,null,null,{"$f":"IF(B4170=\"\",\"\",IF(C4170=\"\",F4169,IF(E4170=\"\",F4169,E4170/MAX($E$9:E4170)-1)))","v":""}]
[null,null,null,null,null,{"$f":"IF(B4171=\"\",\"\",IF(C4171=\"\",F4170,IF(E4171=\"\",F4170,E4171/MAX($E$9:E4171)-1)))","v":""}]
[null,null,null,null,null,{"$f":"IF(B4172=\"\",\"\",IF(C4172=\"\",F4171,IF(E4172=\"\",F4171,E4172/MAX($E$9:E4172)-1)))","v":""}]
[null,null,null,null,null,{"$f":"IF(B4173=\"\",\"\",IF(C4173=\"\",F4172,IF(E4173=\"\",F4172,E4173/MAX($E$9:E4173)-1)))","v":""}]
[null,null,null,null,null,{"$f":"IF(B4174=\"\",\"\",IF(C4174=\"\",F4173,IF(E4174=\"\",F4173,E4174/MAX($E$9:E4174)-1)))","v":""}]
[null,null,null,null,null,{"$f":"IF(B4175=\"\",\"\",IF(C4175=\"\",F4174,IF(E4175=\"\",F4174,E4175/MAX($E$9:E4175)-1)))","v":""}]
[null,null,null,null,null,{"$f":"IF(B4176=\"\",\"\",IF(C4176=\"\",F4175,IF(E4176=\"\",F4175,E4176/MAX($E$9:E4176)-1)))","v":""}]
[null,null,null,null,null,{"$f":"IF(B4177=\"\",\"\",IF(C4177=\"\",F4176,IF(E4177=\"\",F4176,E4177/MAX($E$9:E4177)-1)))","v":""}]
[null,null,null,null,null,{"$f":"IF(B4178=\"\",\"\",IF(C4178=\"\",F4177,IF(E4178=\"\",F4177,E4178/MAX($E$9:E4178)-1)))","v":""}]
[null,null,null,null,null,{"$f":"IF(B4179=\"\",\"\",IF(C4179=\"\",F4178,IF(E4179=\"\",F4178,E4179/MAX($E$9:E4179)-1)))","v":""}]
[null,null,null,null,null,{"$f":"IF(B4180=\"\",\"\",IF(C4180=\"\",F4179,IF(E4180=\"\",F4179,E4180/MAX($E$9:E4180)-1)))","v":""}]
[null,null,null,null,null,{"$f":"IF(B4181=\"\",\"\",IF(C4181=\"\",F4180,IF(E4181=\"\",F4180,E4181/MAX($E$9:E4181)-1)))","v":""}]
[null,null,null,null,null,{"$f":"IF(B4182=\"\",\"\",IF(C4182=\"\",F4181,IF(E4182=\"\",F4181,E4182/MAX($E$9:E4182)-1)))","v":""}]
[null,null,null,null,null,{"$f":"IF(B4183=\"\",\"\",IF(C4183=\"\",F4182,IF(E4183=\"\",F4182,E4183/MAX($E$9:E4183)-1)))","v":""}]
[null,null,null,null,null,{"$f":"IF(B4184=\"\",\"\",IF(C4184=\"\",F4183,IF(E4184=\"\",F4183,E4184/MAX($E$9:E4184)-1)))","v":""}]
[null,null,null,null,null,{"$f":"IF(B4185=\"\",\"\",IF(C4185=\"\",F4184,IF(E4185=\"\",F4184,E4185/MAX($E$9:E4185)-1)))","v":""}]
[null,null,null,null,null,{"$f":"IF(B4186=\"\",\"\",IF(C4186=\"\",F4185,IF(E4186=\"\",F4185,E4186/MAX($E$9:E4186)-1)))","v":""}]
[null,null,null,null,null,{"$f":"IF(B4187=\"\",\"\",IF(C4187=\"\",F4186,IF(E4187=\"\",F4186,E4187/MAX($E$9:E4187)-1)))","v":""}]
[null,null,null,null,null,{"$f":"IF(B4188=\"\",\"\",IF(C4188=\"\",F4187,IF(E4188=\"\",F4187,E4188/MAX($E$9:E4188)-1)))","v":""}]
[null,null,null,null,null,{"$f":"IF(B4189=\"\",\"\",IF(C4189=\"\",F4188,IF(E4189=\"\",F4188,E4189/MAX($E$9:E4189)-1)))","v":""}]
[null,null,null,null,null,{"$f":"IF(B4190=\"\",\"\",IF(C4190=\"\",F4189,IF(E4190=\"\",F4189,E4190/MAX($E$9:E4190)-1)))","v":""}]
[null,null,null,null,null,{"$f":"IF(B4191=\"\",\"\",IF(C4191=\"\",F4190,IF(E4191=\"\",F4190,E4191/MAX($E$9:E4191)-1)))","v":""}]
[null,null,null,null,null,{"$f":"IF(B4192=\"\",\"\",IF(C4192=\"\",F4191,IF(E4192=\"\",F4191,E4192/MAX($E$9:E4192)-1)))","v":""}]
[null,null,null,null,null,{"$f":"IF(B4193=\"\",\"\",IF(C4193=\"\",F4192,IF(E4193=\"\",F4192,E4193/MAX($E$9:E4193)-1)))","v":""}]
[null,null,null,null,null,{"$f":"IF(B4194=\"\",\"\",IF(C4194=\"\",F4193,IF(E4194=\"\",F4193,E4194/MAX($E$9:E4194)-1)))","v":""}]
[null,null,null,null,null,{"$f":"IF(B4195=\"\",\"\",IF(C4195=\"\",F4194,IF(E4195=\"\",F4194,E4195/MAX($E$9:E4195)-1)))","v":""}]
[null,null,null,null,null,{"$f":"IF(B4196=\"\",\"\",IF(C4196=\"\",F4195,IF(E4196=\"\",F4195,E4196/MAX($E$9:E4196)-1)))","v":""}]
[null,null,null,null,null,{"$f":"IF(B4197=\"\",\"\",IF(C4197=\"\",F4196,IF(E4197=\"\",F4196,E4197/MAX($E$9:E4197)-1)))","v":""}]
[null,null,null,null,null,{"$f":"IF(B4198=\"\",\"\",IF(C4198=\"\",F4197,IF(E4198=\"\",F4197,E4198/MAX($E$9:E4198)-1)))","v":""}]
[null,null,null,null,null,{"$f":"IF(B4199=\"\",\"\",IF(C4199=\"\",F4198,IF(E4199=\"\",F4198,E4199/MAX($E$9:E4199)-1)))","v":""}]
[null,null,null,null,null,{"$f":"IF(B4200=\"\",\"\",IF(C4200=\"\",F4199,IF(E4200=\"\",F4199,E4200/MAX($E$9:E4200)-1)))","v":""}]
[null,null,null,null,null,{"$f":"IF(B4201=\"\",\"\",IF(C4201=\"\",F4200,IF(E4201=\"\",F4200,E4201/MAX($E$9:E4201)-1)))","v":""}]
[null,null,null,null,null,{"$f":"IF(B4202=\"\",\"\",IF(C4202=\"\",F4201,IF(E4202=\"\",F4201,E4202/MAX($E$9:E4202)-1)))","v":""}]
[null,null,null,null,null,{"$f":"IF(B4203=\"\",\"\",IF(C4203=\"\",F4202,IF(E4203=\"\",F4202,E4203/MAX($E$9:E4203)-1)))","v":""}]
[null,null,null,null,null,{"$f":"IF(B4204=\"\",\"\",IF(C4204=\"\",F4203,IF(E4204=\"\",F4203,E4204/MAX($E$9:E4204)-1)))","v":""}]
[null,null,null,null,null,{"$f":"IF(B4205=\"\",\"\",IF(C4205=\"\",F4204,IF(E4205=\"\",F4204,E4205/MAX($E$9:E4205)-1)))","v":""}]
[null,null,null,null,null,{"$f":"IF(B4206=\"\",\"\",IF(C4206=\"\",F4205,IF(E4206=\"\",F4205,E4206/MAX($E$9:E4206)-1)))","v":""}]
[null,null,null,null,null,{"$f":"IF(B4207=\"\",\"\",IF(C4207=\"\",F4206,IF(E4207=\"\",F4206,E4207/MAX($E$9:E4207)-1)))","v":""}]
[null,null,null,null,null,{"$f":"IF(B4208=\"\",\"\",IF(C4208=\"\",F4207,IF(E4208=\"\",F4207,E4208/MAX($E$9:E4208)-1)))","v":""}]
[null,null,null,null,null,{"$f":"IF(B4209=\"\",\"\",IF(C4209=\"\",F4208,IF(E4209=\"\",F4208,E4209/MAX($E$9:E4209)-1)))","v":""}]
[null,null,null,null,null,{"$f":"IF(B4210=\"\",\"\",IF(C4210=\"\",F4209,IF(E4210=\"\",F4209,E4210/MAX($E$9:E4210)-1)))","v":""}]
[null,null,null,null,null,{"$f":"IF(B4211=\"\",\"\",IF(C4211=\"\",F4210,IF(E4211=\"\",F4210,E4211/MAX($E$9:E4211)-1)))","v":""}]
[null,null,null,null,null,{"$f":"IF(B4212=\"\",\"\",IF(C4212=\"\",F4211,IF(E4212=\"\",F4211,E4212/MAX($E$9:E4212)-1)))","v":""}]
[null,null,null,null,null,{"$f":"IF(B4213=\"\",\"\",IF(C4213=\"\",F4212,IF(E4213=\"\",F4212,E4213/MAX($E$9:E4213)-1)))","v":""}]
[null,null,null,null,null,{"$f":"IF(B4214=\"\",\"\",IF(C4214=\"\",F4213,IF(E4214=\"\",F4213,E4214/MAX($E$9:E4214)-1)))","v":""}]
[null,null,null,null,null,{"$f":"IF(B4215=\"\",\"\",IF(C4215=\"\",F4214,IF(E4215=\"\",F4214,E4215/MAX($E$9:E4215)-1)))","v":""}]
[null,null,null,null,null,{"$f":"IF(B4216=\"\",\"\",IF(C4216=\"\",F4215,IF(E4216=\"\",F4215,E4216/MAX($E$9:E4216)-1)))","v":""}]
[null,null,null,null,null,{"$f":"IF(B4217=\"\",\"\",IF(C4217=\"\",F4216,IF(E4217=\"\",F4216,E4217/MAX($E$9:E4217)-1)))","v":""}]
[null,null,null,null,null,{"$f":"IF(B4218=\"\",\"\",IF(C4218=\"\",F4217,IF(E4218=\"\",F4217,E4218/MAX($E$9:E4218)-1)))","v":""}]
[null,null,null,null,null,{"$f":"IF(B4219=\"\",\"\",IF(C4219=\"\",F4218,IF(E4219=\"\",F4218,E4219/MAX($E$9:E4219)-1)))","v":""}]
[null,null,null,null,null,{"$f":"IF(B4220=\"\",\"\",IF(C4220=\"\",F4219,IF(E4220=\"\",F4219,E4220/MAX($E$9:E4220)-1)))","v":""}]
[null,null,null,null,null,{"$f":"IF(B4221=\"\",\"\",IF(C4221=\"\",F4220,IF(E4221=\"\",F4220,E4221/MAX($E$9:E4221)-1)))","v":""}]
[null,null,null,null,null,{"$f":"IF(B4222=\"\",\"\",IF(C4222=\"\",F4221,IF(E4222=\"\",F4221,E4222/MAX($E$9:E4222)-1)))","v":""}]
[null,null,null,null,null,{"$f":"IF(B4223=\"\",\"\",IF(C4223=\"\",F4222,IF(E4223=\"\",F4222,E4223/MAX($E$9:E4223)-1)))","v":""}]
[null,null,null,null,null,{"$f":"IF(B4224=\"\",\"\",IF(C4224=\"\",F4223,IF(E4224=\"\",F4223,E4224/MAX($E$9:E4224)-1)))","v":""}]
[null,null,null,null,null,{"$f":"IF(B4225=\"\",\"\",IF(C4225=\"\",F4224,IF(E4225=\"\",F4224,E4225/MAX($E$9:E4225)-1)))","v":""}]
[null,null,null,null,null,{"$f":"IF(B4226=\"\",\"\",IF(C4226=\"\",F4225,IF(E4226=\"\",F4225,E4226/MAX($E$9:E4226)-1)))","v":""}]
[null,null,null,null,null,{"$f":"IF(B4227=\"\",\"\",IF(C4227=\"\",F4226,IF(E4227=\"\",F4226,E4227/MAX($E$9:E4227)-1)))","v":""}]
[null,null,null,null,null,{"$f":"IF(B4228=\"\",\"\",IF(C4228=\"\",F4227,IF(E4228=\"\",F4227,E4228/MAX($E$9:E4228)-1)))","v":""}]
[null,null,null,null,null,{"$f":"IF(B4229=\"\",\"\",IF(C4229=\"\",F4228,IF(E4229=\"\",F4228,E4229/MAX($E$9:E4229)-1)))","v":""}]
[null,null,null,null,null,{"$f":"IF(B4230=\"\",\"\",IF(C4230=\"\",F4229,IF(E4230=\"\",F4229,E4230/MAX($E$9:E4230)-1)))","v":""}]
[null,null,null,null,null,{"$f":"IF(B4231=\"\",\"\",IF(C4231=\"\",F4230,IF(E4231=\"\",F4230,E4231/MAX($E$9:E4231)-1)))","v":""}]
[null,null,null,null,null,{"$f":"IF(B4232=\"\",\"\",IF(C4232=\"\",F4231,IF(E4232=\"\",F4231,E4232/MAX($E$9:E4232)-1)))","v":""}]
[null,null,null,null,null,{"$f":"IF(B4233=\"\",\"\",IF(C4233=\"\",F4232,IF(E4233=\"\",F4232,E4233/MAX($E$9:E4233)-1)))","v":""}]
[null,null,null,null,null,{"$f":"IF(B4234=\"\",\"\",IF(C4234=\"\",F4233,IF(E4234=\"\",F4233,E4234/MAX($E$9:E4234)-1)))","v":""}]
[null,null,null,null,null,{"$f":"IF(B4235=\"\",\"\",IF(C4235=\"\",F4234,IF(E4235=\"\",F4234,E4235/MAX($E$9:E4235)-1)))","v":""}]
[null,null,null,null,null,{"$f":"IF(B4236=\"\",\"\",IF(C4236=\"\",F4235,IF(E4236=\"\",F4235,E4236/MAX($E$9:E4236)-1)))","v":""}]
[null,null,null,null,null,{"$f":"IF(B4237=\"\",\"\",IF(C4237=\"\",F4236,IF(E4237=\"\",F4236,E4237/MAX($E$9:E4237)-1)))","v":""}]
[null,null,null,null,null,{"$f":"IF(B4238=\"\",\"\",IF(C4238=\"\",F4237,IF(E4238=\"\",F4237,E4238/MAX($E$9:E4238)-1)))","v":""}]
[null,null,null,null,null,{"$f":"IF(B4239=\"\",\"\",IF(C4239=\"\",F4238,IF(E4239=\"\",F4238,E4239/MAX($E$9:E4239)-1)))","v":""}]
[null,null,null,null,null,{"$f":"IF(B4240=\"\",\"\",IF(C4240=\"\",F4239,IF(E4240=\"\",F4239,E4240/MAX($E$9:E4240)-1)))","v":""}]
[null,null,null,null,null,{"$f":"IF(B4241=\"\",\"\",IF(C4241=\"\",F4240,IF(E4241=\"\",F4240,E4241/MAX($E$9:E4241)-1)))","v":""}]
[null,null,null,null,null,{"$f":"IF(B4242=\"\",\"\",IF(C4242=\"\",F4241,IF(E4242=\"\",F4241,E4242/MAX($E$9:E4242)-1)))","v":""}]
[null,null,null,null,null,{"$f":"IF(B4243=\"\",\"\",IF(C4243=\"\",F4242,IF(E4243=\"\",F4242,E4243/MAX($E$9:E4243)-1)))","v":""}]
[null,null,null,null,null,{"$f":"IF(B4244=\"\",\"\",IF(C4244=\"\",F4243,IF(E4244=\"\",F4243,E4244/MAX($E$9:E4244)-1)))","v":""}]
[null,null,null,null,null,{"$f":"IF(B4245=\"\",\"\",IF(C4245=\"\",F4244,IF(E4245=\"\",F4244,E4245/MAX($E$9:E4245)-1)))","v":""}]
[null,null,null,null,null,{"$f":"IF(B4246=\"\",\"\",IF(C4246=\"\",F4245,IF(E4246=\"\",F4245,E4246/MAX($E$9:E4246)-1)))","v":""}]
[null,null,null,null,null,{"$f":"IF(B4247=\"\",\"\",IF(C4247=\"\",F4246,IF(E4247=\"\",F4246,E4247/MAX($E$9:E4247)-1)))","v":""}]
[null,null,null,null,null,{"$f":"IF(B4248=\"\",\"\",IF(C4248=\"\",F4247,IF(E4248=\"\",F4247,E4248/MAX($E$9:E4248)-1)))","v":""}]
[null,null,null,null,null,{"$f":"IF(B4249=\"\",\"\",IF(C4249=\"\",F4248,IF(E4249=\"\",F4248,E4249/MAX($E$9:E4249)-1)))","v":""}]
[null,null,null,null,null,{"$f":"IF(B4250=\"\",\"\",IF(C4250=\"\",F4249,IF(E4250=\"\",F4249,E4250/MAX($E$9:E4250)-1)))","v":""}]
[null,null,null,null,null,{"$f":"IF(B4251=\"\",\"\",IF(C4251=\"\",F4250,IF(E4251=\"\",F4250,E4251/MAX($E$9:E4251)-1)))","v":""}]
[null,null,null,null,null,{"$f":"IF(B4252=\"\",\"\",IF(C4252=\"\",F4251,IF(E4252=\"\",F4251,E4252/MAX($E$9:E4252)-1)))","v":""}]
[null,null,null,null,null,{"$f":"IF(B4253=\"\",\"\",IF(C4253=\"\",F4252,IF(E4253=\"\",F4252,E4253/MAX($E$9:E4253)-1)))","v":""}]
[null,null,null,null,null,{"$f":"IF(B4254=\"\",\"\",IF(C4254=\"\",F4253,IF(E4254=\"\",F4253,E4254/MAX($E$9:E4254)-1)))","v":""}]
[null,null,null,null,null,{"$f":"IF(B4255=\"\",\"\",IF(C4255=\"\",F4254,IF(E4255=\"\",F4254,E4255/MAX($E$9:E4255)-1)))","v":""}]
[null,null,null,null,null,{"$f":"IF(B4256=\"\",\"\",IF(C4256=\"\",F4255,IF(E4256=\"\",F4255,E4256/MAX($E$9:E4256)-1)))","v":""}]
[null,null,null,null,null,{"$f":"IF(B4257=\"\",\"\",IF(C4257=\"\",F4256,IF(E4257=\"\",F4256,E4257/MAX($E$9:E4257)-1)))","v":""}]
[null,null,null,null,null,{"$f":"IF(B4258=\"\",\"\",IF(C4258=\"\",F4257,IF(E4258=\"\",F4257,E4258/MAX($E$9:E4258)-1)))","v":""}]
[null,null,null,null,null,{"$f":"IF(B4259=\"\",\"\",IF(C4259=\"\",F4258,IF(E4259=\"\",F4258,E4259/MAX($E$9:E4259)-1)))","v":""}]
[null,null,null,null,null,{"$f":"IF(B4260=\"\",\"\",IF(C4260=\"\",F4259,IF(E4260=\"\",F4259,E4260/MAX($E$9:E4260)-1)))","v":""}]
[null,null,null,null,null,{"$f":"IF(B4261=\"\",\"\",IF(C4261=\"\",F4260,IF(E4261=\"\",F4260,E4261/MAX($E$9:E4261)-1)))","v":""}]
[null,null,null,null,null,{"$f":"IF(B4262=\"\",\"\",IF(C4262=\"\",F4261,IF(E4262=\"\",F4261,E4262/MAX($E$9:E4262)-1)))","v":""}]
[null,null,null,null,null,{"$f":"IF(B4263=\"\",\"\",IF(C4263=\"\",F4262,IF(E4263=\"\",F4262,E4263/MAX($E$9:E4263)-1)))","v":""}]
[null,null,null,null,null,{"$f":"IF(B4264=\"\",\"\",IF(C4264=\"\",F4263,IF(E4264=\"\",F4263,E4264/MAX($E$9:E4264)-1)))","v":""}]
[null,null,null,null,null,{"$f":"IF(B4265=\"\",\"\",IF(C4265=\"\",F4264,IF(E4265=\"\",F4264,E4265/MAX($E$9:E4265)-1)))","v":""}]
[null,null,null,null,null,{"$f":"IF(B4266=\"\",\"\",IF(C4266=\"\",F4265,IF(E4266=\"\",F4265,E4266/MAX($E$9:E4266)-1)))","v":""}]
[null,null,null,null,null,{"$f":"IF(B4267=\"\",\"\",IF(C4267=\"\",F4266,IF(E4267=\"\",F4266,E4267/MAX($E$9:E4267)-1)))","v":""}]
[null,null,null,null,null,{"$f":"IF(B4268=\"\",\"\",IF(C4268=\"\",F4267,IF(E4268=\"\",F4267,E4268/MAX($E$9:E4268)-1)))","v":""}]
[null,null,null,null,null,{"$f":"IF(B4269=\"\",\"\",IF(C4269=\"\",F4268,IF(E4269=\"\",F4268,E4269/MAX($E$9:E4269)-1)))","v":""}]
[null,null,null,null,null,{"$f":"IF(B4270=\"\",\"\",IF(C4270=\"\",F4269,IF(E4270=\"\",F4269,E4270/MAX($E$9:E4270)-1)))","v":""}]
[null,null,null,null,null,{"$f":"IF(B4271=\"\",\"\",IF(C4271=\"\",F4270,IF(E4271=\"\",F4270,E4271/MAX($E$9:E4271)-1)))","v":""}]
[null,null,null,null,null,{"$f":"IF(B4272=\"\",\"\",IF(C4272=\"\",F4271,IF(E4272=\"\",F4271,E4272/MAX($E$9:E4272)-1)))","v":""}]
[null,null,null,null,null,{"$f":"IF(B4273=\"\",\"\",IF(C4273=\"\",F4272,IF(E4273=\"\",F4272,E4273/MAX($E$9:E4273)-1)))","v":""}]
[null,null,null,null,null,{"$f":"IF(B4274=\"\",\"\",IF(C4274=\"\",F4273,IF(E4274=\"\",F4273,E4274/MAX($E$9:E4274)-1)))","v":""}]
[null,null,null,null,null,{"$f":"IF(B4275=\"\",\"\",IF(C4275=\"\",F4274,IF(E4275=\"\",F4274,E4275/MAX($E$9:E4275)-1)))","v":""}]
[null,null,null,null,null,{"$f":"IF(B4276=\"\",\"\",IF(C4276=\"\",F4275,IF(E4276=\"\",F4275,E4276/MAX($E$9:E4276)-1)))","v":""}]
[null,null,null,null,null,{"$f":"IF(B4277=\"\",\"\",IF(C4277=\"\",F4276,IF(E4277=\"\",F4276,E4277/MAX($E$9:E4277)-1)))","v":""}]
[null,null,null,null,null,{"$f":"IF(B4278=\"\",\"\",IF(C4278=\"\",F4277,IF(E4278=\"\",F4277,E4278/MAX($E$9:E4278)-1)))","v":""}]
[null,null,null,null,null,{"$f":"IF(B4279=\"\",\"\",IF(C4279=\"\",F4278,IF(E4279=\"\",F4278,E4279/MAX($E$9:E4279)-1)))","v":""}]
[null,null,null,null,null,{"$f":"IF(B4280=\"\",\"\",IF(C4280=\"\",F4279,IF(E4280=\"\",F4279,E4280/MAX($E$9:E4280)-1)))","v":""}]
[null,null,null,null,null,{"$f":"IF(B4281=\"\",\"\",IF(C4281=\"\",F4280,IF(E4281=\"\",F4280,E4281/MAX($E$9:E4281)-1)))","v":""}]
[null,null,null,null,null,{"$f":"IF(B4282=\"\",\"\",IF(C4282=\"\",F4281,IF(E4282=\"\",F4281,E4282/MAX($E$9:E4282)-1)))","v":""}]
[null,null,null,null,null,{"$f":"IF(B4283=\"\",\"\",IF(C4283=\"\",F4282,IF(E4283=\"\",F4282,E4283/MAX($E$9:E4283)-1)))","v":""}]
[null,null,null,null,null,{"$f":"IF(B4284=\"\",\"\",IF(C4284=\"\",F4283,IF(E4284=\"\",F4283,E4284/MAX($E$9:E4284)-1)))","v":""}]
[null,null,null,null,null,{"$f":"IF(B4285=\"\",\"\",IF(C4285=\"\",F4284,IF(E4285=\"\",F4284,E4285/MAX($E$9:E4285)-1)))","v":""}]
[null,null,null,null,null,{"$f":"IF(B4286=\"\",\"\",IF(C4286=\"\",F4285,IF(E4286=\"\",F4285,E4286/MAX($E$9:E4286)-1)))","v":""}]
[null,null,null,null,null,{"$f":"IF(B4287=\"\",\"\",IF(C4287=\"\",F4286,IF(E4287=\"\",F4286,E4287/MAX($E$9:E4287)-1)))","v":""}]
[null,null,null,null,null,{"$f":"IF(B4288=\"\",\"\",IF(C4288=\"\",F4287,IF(E4288=\"\",F4287,E4288/MAX($E$9:E4288)-1)))","v":""}]
[null,null,null,null,null,{"$f":"IF(B4289=\"\",\"\",IF(C4289=\"\",F4288,IF(E4289=\"\",F4288,E4289/MAX($E$9:E4289)-1)))","v":""}]
[null,null,null,null,null,{"$f":"IF(B4290=\"\",\"\",IF(C4290=\"\",F4289,IF(E4290=\"\",F4289,E4290/MAX($E$9:E4290)-1)))","v":""}]
[null,null,null,null,null,{"$f":"IF(B4291=\"\",\"\",IF(C4291=\"\",F4290,IF(E4291=\"\",F4290,E4291/MAX($E$9:E4291)-1)))","v":""}]
[null,null,null,null,null,{"$f":"IF(B4292=\"\",\"\",IF(C4292=\"\",F4291,IF(E4292=\"\",F4291,E4292/MAX($E$9:E4292)-1)))","v":""}]
[null,null,null,null,null,{"$f":"IF(B4293=\"\",\"\",IF(C4293=\"\",F4292,IF(E4293=\"\",F4292,E4293/MAX($E$9:E4293)-1)))","v":""}]
[null,null,null,null,null,{"$f":"IF(B4294=\"\",\"\",IF(C4294=\"\",F4293,IF(E4294=\"\",F4293,E4294/MAX($E$9:E4294)-1)))","v":""}]
[null,null,null,null,null,{"$f":"IF(B4295=\"\",\"\",IF(C4295=\"\",F4294,IF(E4295=\"\",F4294,E4295/MAX($E$9:E4295)-1)))","v":""}]
[null,null,null,null,null,{"$f":"IF(B4296=\"\",\"\",IF(C4296=\"\",F4295,IF(E4296=\"\",F4295,E4296/MAX($E$9:E4296)-1)))","v":""}]
[null,null,null,null,null,{"$f":"IF(B4297=\"\",\"\",IF(C4297=\"\",F4296,IF(E4297=\"\",F4296,E4297/MAX($E$9:E4297)-1)))","v":""}]
[null,null,null,null,null,{"$f":"IF(B4298=\"\",\"\",IF(C4298=\"\",F4297,IF(E4298=\"\",F4297,E4298/MAX($E$9:E4298)-1)))","v":""}]
[null,null,null,null,null,{"$f":"IF(B4299=\"\",\"\",IF(C4299=\"\",F4298,IF(E4299=\"\",F4298,E4299/MAX($E$9:E4299)-1)))","v":""}]
[null,null,null,null,null,{"$f":"IF(B4300=\"\",\"\",IF(C4300=\"\",F4299,IF(E4300=\"\",F4299,E4300/MAX($E$9:E4300)-1)))","v":""}]
[null,null,null,null,null,{"$f":"IF(B4301=\"\",\"\",IF(C4301=\"\",F4300,IF(E4301=\"\",F4300,E4301/MAX($E$9:E4301)-1)))","v":""}]
[null,null,null,null,null,{"$f":"IF(B4302=\"\",\"\",IF(C4302=\"\",F4301,IF(E4302=\"\",F4301,E4302/MAX($E$9:E4302)-1)))","v":""}]
[null,null,null,null,null,{"$f":"IF(B4303=\"\",\"\",IF(C4303=\"\",F4302,IF(E4303=\"\",F4302,E4303/MAX($E$9:E4303)-1)))","v":""}]
[null,null,null,null,null,{"$f":"IF(B4304=\"\",\"\",IF(C4304=\"\",F4303,IF(E4304=\"\",F4303,E4304/MAX($E$9:E4304)-1)))","v":""}]
[null,null,null,null,null,{"$f":"IF(B4305=\"\",\"\",IF(C4305=\"\",F4304,IF(E4305=\"\",F4304,E4305/MAX($E$9:E4305)-1)))","v":""}]
[null,null,null,null,null,{"$f":"IF(B4306=\"\",\"\",IF(C4306=\"\",F4305,IF(E4306=\"\",F4305,E4306/MAX($E$9:E4306)-1)))","v":""}]
[null,null,null,null,null,{"$f":"IF(B4307=\"\",\"\",IF(C4307=\"\",F4306,IF(E4307=\"\",F4306,E4307/MAX($E$9:E4307)-1)))","v":""}]
[null,null,null,null,null,{"$f":"IF(B4308=\"\",\"\",IF(C4308=\"\",F4307,IF(E4308=\"\",F4307,E4308/MAX($E$9:E4308)-1)))","v":""}]
[null,null,null,null,null,{"$f":"IF(B4309=\"\",\"\",IF(C4309=\"\",F4308,IF(E4309=\"\",F4308,E4309/MAX($E$9:E4309)-1)))","v":""}]
[null,null,null,null,null,{"$f":"IF(B4310=\"\",\"\",IF(C4310=\"\",F4309,IF(E4310=\"\",F4309,E4310/MAX($E$9:E4310)-1)))","v":""}]
[null,null,null,null,null,{"$f":"IF(B4311=\"\",\"\",IF(C4311=\"\",F4310,IF(E4311=\"\",F4310,E4311/MAX($E$9:E4311)-1)))","v":""}]
[null,null,null,null,null,{"$f":"IF(B4312=\"\",\"\",IF(C4312=\"\",F4311,IF(E4312=\"\",F4311,E4312/MAX($E$9:E4312)-1)))","v":""}]
[null,null,null,null,null,{"$f":"IF(B4313=\"\",\"\",IF(C4313=\"\",F4312,IF(E4313=\"\",F4312,E4313/MAX($E$9:E4313)-1)))","v":""}]
[null,null,null,null,null,{"$f":"IF(B4314=\"\",\"\",IF(C4314=\"\",F4313,IF(E4314=\"\",F4313,E4314/MAX($E$9:E4314)-1)))","v":""}]
[null,null,null,null,null,{"$f":"IF(B4315=\"\",\"\",IF(C4315=\"\",F4314,IF(E4315=\"\",F4314,E4315/MAX($E$9:E4315)-1)))","v":""}]
[null,null,null,null,null,{"$f":"IF(B4316=\"\",\"\",IF(C4316=\"\",F4315,IF(E4316=\"\",F4315,E4316/MAX($E$9:E4316)-1)))","v":""}]
[null,null,null,null,null,{"$f":"IF(B4317=\"\",\"\",IF(C4317=\"\",F4316,IF(E4317=\"\",F4316,E4317/MAX($E$9:E4317)-1)))","v":""}]
[null,null,null,null,null,{"$f":"IF(B4318=\"\",\"\",IF(C4318=\"\",F4317,IF(E4318=\"\",F4317,E4318/MAX($E$9:E4318)-1)))","v":""}]
[null,null,null,null,null,{"$f":"IF(B4319=\"\",\"\",IF(C4319=\"\",F4318,IF(E4319=\"\",F4318,E4319/MAX($E$9:E4319)-1)))","v":""}]
[null,null,null,null,null,{"$f":"IF(B4320=\"\",\"\",IF(C4320=\"\",F4319,IF(E4320=\"\",F4319,E4320/MAX($E$9:E4320)-1)))","v":""}]
[null,null,null,null,null,{"$f":"IF(B4321=\"\",\"\",IF(C4321=\"\",F4320,IF(E4321=\"\",F4320,E4321/MAX($E$9:E4321)-1)))","v":""}]
[null,null,null,null,null,{"$f":"IF(B4322=\"\",\"\",IF(C4322=\"\",F4321,IF(E4322=\"\",F4321,E4322/MAX($E$9:E4322)-1)))","v":""}]
[null,null,null,null,null,{"$f":"IF(B4323=\"\",\"\",IF(C4323=\"\",F4322,IF(E4323=\"\",F4322,E4323/MAX($E$9:E4323)-1)))","v":""}]
[null,null,null,null,null,{"$f":"IF(B4324=\"\",\"\",IF(C4324=\"\",F4323,IF(E4324=\"\",F4323,E4324/MAX($E$9:E4324)-1)))","v":""}]
[null,null,null,null,null,{"$f":"IF(B4325=\"\",\"\",IF(C4325=\"\",F4324,IF(E4325=\"\",F4324,E4325/MAX($E$9:E4325)-1)))","v":""}]
[null,null,null,null,null,{"$f":"IF(B4326=\"\",\"\",IF(C4326=\"\",F4325,IF(E4326=\"\",F4325,E4326/MAX($E$9:E4326)-1)))","v":""}]
[null,null,null,null,null,{"$f":"IF(B4327=\"\",\"\",IF(C4327=\"\",F4326,IF(E4327=\"\",F4326,E4327/MAX($E$9:E4327)-1)))","v":""}]
[null,null,null,null,null,{"$f":"IF(B4328=\"\",\"\",IF(C4328=\"\",F4327,IF(E4328=\"\",F4327,E4328/MAX($E$9:E4328)-1)))","v":""}]
[null,null,null,null,null,{"$f":"IF(B4329=\"\",\"\",IF(C4329=\"\",F4328,IF(E4329=\"\",F4328,E4329/MAX($E$9:E4329)-1)))","v":""}]
[null,null,null,null,null,{"$f":"IF(B4330=\"\",\"\",IF(C4330=\"\",F4329,IF(E4330=\"\",F4329,E4330/MAX($E$9:E4330)-1)))","v":""}]
[null,null,null,null,null,{"$f":"IF(B4331=\"\",\"\",IF(C4331=\"\",F4330,IF(E4331=\"\",F4330,E4331/MAX($E$9:E4331)-1)))","v":""}]
[null,null,null,null,null,{"$f":"IF(B4332=\"\",\"\",IF(C4332=\"\",F4331,IF(E4332=\"\",F4331,E4332/MAX($E$9:E4332)-1)))","v":""}]
[null,null,null,null,null,{"$f":"IF(B4333=\"\",\"\",IF(C4333=\"\",F4332,IF(E4333=\"\",F4332,E4333/MAX($E$9:E4333)-1)))","v":""}]
[null,null,null,null,null,{"$f":"IF(B4334=\"\",\"\",IF(C4334=\"\",F4333,IF(E4334=\"\",F4333,E4334/MAX($E$9:E4334)-1)))","v":""}]
[null,null,null,null,null,{"$f":"IF(B4335=\"\",\"\",IF(C4335=\"\",F4334,IF(E4335=\"\",F4334,E4335/MAX($E$9:E4335)-1)))","v":""}]
[null,null,null,null,null,{"$f":"IF(B4336=\"\",\"\",IF(C4336=\"\",F4335,IF(E4336=\"\",F4335,E4336/MAX($E$9:E4336)-1)))","v":""}]
[null,null,null,null,null,{"$f":"IF(B4337=\"\",\"\",IF(C4337=\"\",F4336,IF(E4337=\"\",F4336,E4337/MAX($E$9:E4337)-1)))","v":""}]
[null,null,null,null,null,{"$f":"IF(B4338=\"\",\"\",IF(C4338=\"\",F4337,IF(E4338=\"\",F4337,E4338/MAX($E$9:E4338)-1)))","v":""}]
[null,null,null,null,null,{"$f":"IF(B4339=\"\",\"\",IF(C4339=\"\",F4338,IF(E4339=\"\",F4338,E4339/MAX($E$9:E4339)-1)))","v":""}]
[null,null,null,null,null,{"$f":"IF(B4340=\"\",\"\",IF(C4340=\"\",F4339,IF(E4340=\"\",F4339,E4340/MAX($E$9:E4340)-1)))","v":""}]
[null,null,null,null,null,{"$f":"IF(B4341=\"\",\"\",IF(C4341=\"\",F4340,IF(E4341=\"\",F4340,E4341/MAX($E$9:E4341)-1)))","v":""}]
[null,null,null,null,null,{"$f":"IF(B4342=\"\",\"\",IF(C4342=\"\",F4341,IF(E4342=\"\",F4341,E4342/MAX($E$9:E4342)-1)))","v":""}]
[null,null,null,null,null,{"$f":"IF(B4343=\"\",\"\",IF(C4343=\"\",F4342,IF(E4343=\"\",F4342,E4343/MAX($E$9:E4343)-1)))","v":""}]
[null,null,null,null,null,{"$f":"IF(B4344=\"\",\"\",IF(C4344=\"\",F4343,IF(E4344=\"\",F4343,E4344/MAX($E$9:E4344)-1)))","v":""}]
[null,null,null,null,null,{"$f":"IF(B4345=\"\",\"\",IF(C4345=\"\",F4344,IF(E4345=\"\",F4344,E4345/MAX($E$9:E4345)-1)))","v":""}]
[null,null,null,null,null,{"$f":"IF(B4346=\"\",\"\",IF(C4346=\"\",F4345,IF(E4346=\"\",F4345,E4346/MAX($E$9:E4346)-1)))","v":""}]
[null,null,null,null,null,{"$f":"IF(B4347=\"\",\"\",IF(C4347=\"\",F4346,IF(E4347=\"\",F4346,E4347/MAX($E$9:E4347)-1)))","v":""}]
[null,null,null,null,null,{"$f":"IF(B4348=\"\",\"\",IF(C4348=\"\",F4347,IF(E4348=\"\",F4347,E4348/MAX($E$9:E4348)-1)))","v":""}]
[null,null,null,null,null,{"$f":"IF(B4349=\"\",\"\",IF(C4349=\"\",F4348,IF(E4349=\"\",F4348,E4349/MAX($E$9:E4349)-1)))","v":""}]
[null,null,null,null,null,{"$f":"IF(B4350=\"\",\"\",IF(C4350=\"\",F4349,IF(E4350=\"\",F4349,E4350/MAX($E$9:E4350)-1)))","v":""}]
[null,null,null,null,null,{"$f":"IF(B4351=\"\",\"\",IF(C4351=\"\",F4350,IF(E4351=\"\",F4350,E4351/MAX($E$9:E4351)-1)))","v":""}]
[null,null,null,null,null,{"$f":"IF(B4352=\"\",\"\",IF(C4352=\"\",F4351,IF(E4352=\"\",F4351,E4352/MAX($E$9:E4352)-1)))","v":""}]
[null,null,null,null,null,{"$f":"IF(B4353=\"\",\"\",IF(C4353=\"\",F4352,IF(E4353=\"\",F4352,E4353/MAX($E$9:E4353)-1)))","v":""}]
[null,null,null,null,null,{"$f":"IF(B4354=\"\",\"\",IF(C4354=\"\",F4353,IF(E4354=\"\",F4353,E4354/MAX($E$9:E4354)-1)))","v":""}]
[null,null,null,null,null,{"$f":"IF(B4355=\"\",\"\",IF(C4355=\"\",F4354,IF(E4355=\"\",F4354,E4355/MAX($E$9:E4355)-1)))","v":""}]
[null,null,null,null,null,{"$f":"IF(B4356=\"\",\"\",IF(C4356=\"\",F4355,IF(E4356=\"\",F4355,E4356/MAX($E$9:E4356)-1)))","v":""}]
[null,null,null,null,null,{"$f":"IF(B4357=\"\",\"\",IF(C4357=\"\",F4356,IF(E4357=\"\",F4356,E4357/MAX($E$9:E4357)-1)))","v":""}]
[null,null,null,null,null,{"$f":"IF(B4358=\"\",\"\",IF(C4358=\"\",F4357,IF(E4358=\"\",F4357,E4358/MAX($E$9:E4358)-1)))","v":""}]
[null,null,null,null,null,{"$f":"IF(B4359=\"\",\"\",IF(C4359=\"\",F4358,IF(E4359=\"\",F4358,E4359/MAX($E$9:E4359)-1)))","v":""}]
[null,null,null,null,null,{"$f":"IF(B4360=\"\",\"\",IF(C4360=\"\",F4359,IF(E4360=\"\",F4359,E4360/MAX($E$9:E4360)-1)))","v":""}]
[null,null,null,null,null,{"$f":"IF(B4361=\"\",\"\",IF(C4361=\"\",F4360,IF(E4361=\"\",F4360,E4361/MAX($E$9:E4361)-1)))","v":""}]
[null,null,null,null,null,{"$f":"IF(B4362=\"\",\"\",IF(C4362=\"\",F4361,IF(E4362=\"\",F4361,E4362/MAX($E$9:E4362)-1)))","v":""}]
[null,null,null,null,null,{"$f":"IF(B4363=\"\",\"\",IF(C4363=\"\",F4362,IF(E4363=\"\",F4362,E4363/MAX($E$9:E4363)-1)))","v":""}]
[null,null,null,null,null,{"$f":"IF(B4364=\"\",\"\",IF(C4364=\"\",F4363,IF(E4364=\"\",F4363,E4364/MAX($E$9:E4364)-1)))","v":""}]
[null,null,null,null,null,{"$f":"IF(B4365=\"\",\"\",IF(C4365=\"\",F4364,IF(E4365=\"\",F4364,E4365/MAX($E$9:E4365)-1)))","v":""}]
[null,null,null,null,null,{"$f":"IF(B4366=\"\",\"\",IF(C4366=\"\",F4365,IF(E4366=\"\",F4365,E4366/MAX($E$9:E4366)-1)))","v":""}]
[null,null,null,null,null,{"$f":"IF(B4367=\"\",\"\",IF(C4367=\"\",F4366,IF(E4367=\"\",F4366,E4367/MAX($E$9:E4367)-1)))","v":""}]
[null,null,null,null,null,{"$f":"IF(B4368=\"\",\"\",IF(C4368=\"\",F4367,IF(E4368=\"\",F4367,E4368/MAX($E$9:E4368)-1)))","v":""}]
[null,null,null,null,null,{"$f":"IF(B4369=\"\",\"\",IF(C4369=\"\",F4368,IF(E4369=\"\",F4368,E4369/MAX($E$9:E4369)-1)))","v":""}]
[null,null,null,null,null,{"$f":"IF(B4370=\"\",\"\",IF(C4370=\"\",F4369,IF(E4370=\"\",F4369,E4370/MAX($E$9:E4370)-1)))","v":""}]
[null,null,null,null,null,{"$f":"IF(B4371=\"\",\"\",IF(C4371=\"\",F4370,IF(E4371=\"\",F4370,E4371/MAX($E$9:E4371)-1)))","v":""}]
[null,null,null,null,null,{"$f":"IF(B4372=\"\",\"\",IF(C4372=\"\",F4371,IF(E4372=\"\",F4371,E4372/MAX($E$9:E4372)-1)))","v":""}]
[null,null,null,null,null,{"$f":"IF(B4373=\"\",\"\",IF(C4373=\"\",F4372,IF(E4373=\"\",F4372,E4373/MAX($E$9:E4373)-1)))","v":""}]
[null,null,null,null,null,{"$f":"IF(B4374=\"\",\"\",IF(C4374=\"\",F4373,IF(E4374=\"\",F4373,E4374/MAX($E$9:E4374)-1)))","v":""}]
[null,null,null,null,null,{"$f":"IF(B4375=\"\",\"\",IF(C4375=\"\",F4374,IF(E4375=\"\",F4374,E4375/MAX($E$9:E4375)-1)))","v":""}]
[null,null,null,null,null,{"$f":"IF(B4376=\"\",\"\",IF(C4376=\"\",F4375,IF(E4376=\"\",F4375,E4376/MAX($E$9:E4376)-1)))","v":""}]
[null,null,null,null,null,{"$f":"IF(B4377=\"\",\"\",IF(C4377=\"\",F4376,IF(E4377=\"\",F4376,E4377/MAX($E$9:E4377)-1)))","v":""}]
[null,null,null,null,null,{"$f":"IF(B4378=\"\",\"\",IF(C4378=\"\",F4377,IF(E4378=\"\",F4377,E4378/MAX($E$9:E4378)-1)))","v":""}]
[null,null,null,null,null,{"$f":"IF(B4379=\"\",\"\",IF(C4379=\"\",F4378,IF(E4379=\"\",F4378,E4379/MAX($E$9:E4379)-1)))","v":""}]
[null,null,null,null,null,{"$f":"IF(B4380=\"\",\"\",IF(C4380=\"\",F4379,IF(E4380=\"\",F4379,E4380/MAX($E$9:E4380)-1)))","v":""}]
[null,null,null,null,null,{"$f":"IF(B4381=\"\",\"\",IF(C4381=\"\",F4380,IF(E4381=\"\",F4380,E4381/MAX($E$9:E4381)-1)))","v":""}]
[null,null,null,null,null,{"$f":"IF(B4382=\"\",\"\",IF(C4382=\"\",F4381,IF(E4382=\"\",F4381,E4382/MAX($E$9:E4382)-1)))","v":""}]
[null,null,null,null,null,{"$f":"IF(B4383=\"\",\"\",IF(C4383=\"\",F4382,IF(E4383=\"\",F4382,E4383/MAX($E$9:E4383)-1)))","v":""}]
[null,null,null,null,null,{"$f":"IF(B4384=\"\",\"\",IF(C4384=\"\",F4383,IF(E4384=\"\",F4383,E4384/MAX($E$9:E4384)-1)))","v":""}]
[null,null,null,null,null,{"$f":"IF(B4385=\"\",\"\",IF(C4385=\"\",F4384,IF(E4385=\"\",F4384,E4385/MAX($E$9:E4385)-1)))","v":""}]
[null,null,null,null,null,{"$f":"IF(B4386=\"\",\"\",IF(C4386=\"\",F4385,IF(E4386=\"\",F4385,E4386/MAX($E$9:E4386)-1)))","v":""}]
[null,null,null,null,null,{"$f":"IF(B4387=\"\",\"\",IF(C4387=\"\",F4386,IF(E4387=\"\",F4386,E4387/MAX($E$9:E4387)-1)))","v":""}]
[null,null,null,null,null,{"$f":"IF(B4388=\"\",\"\",IF(C4388=\"\",F4387,IF(E4388=\"\",F4387,E4388/MAX($E$9:E4388)-1)))","v":""}]
[null,null,null,null,null,{"$f":"IF(B4389=\"\",\"\",IF(C4389=\"\",F4388,IF(E4389=\"\",F4388,E4389/MAX($E$9:E4389)-1)))","v":""}]
[null,null,null,null,null,{"$f":"IF(B4390=\"\",\"\",IF(C4390=\"\",F4389,IF(E4390=\"\",F4389,E4390/MAX($E$9:E4390)-1)))","v":""}]
[null,null,null,null,null,{"$f":"IF(B4391=\"\",\"\",IF(C4391=\"\",F4390,IF(E4391=\"\",F4390,E4391/MAX($E$9:E4391)-1)))","v":""}]
[null,null,null,null,null,{"$f":"IF(B4392=\"\",\"\",IF(C4392=\"\",F4391,IF(E4392=\"\",F4391,E4392/MAX($E$9:E4392)-1)))","v":""}]
[null,null,null,null,null,{"$f":"IF(B4393=\"\",\"\",IF(C4393=\"\",F4392,IF(E4393=\"\",F4392,E4393/MAX($E$9:E4393)-1)))","v":""}]
[null,null,null,null,null,{"$f":"IF(B4394=\"\",\"\",IF(C4394=\"\",F4393,IF(E4394=\"\",F4393,E4394/MAX($E$9:E4394)-1)))","v":""}]
[null,null,null,null,null,{"$f":"IF(B4395=\"\",\"\",IF(C4395=\"\",F4394,IF(E4395=\"\",F4394,E4395/MAX($E$9:E4395)-1)))","v":""}]
[null,null,null,null,null,{"$f":"IF(B4396=\"\",\"\",IF(C4396=\"\",F4395,IF(E4396=\"\",F4395,E4396/MAX($E$9:E4396)-1)))","v":""}]
[null,null,null,null,null,{"$f":"IF(B4397=\"\",\"\",IF(C4397=\"\",F4396,IF(E4397=\"\",F4396,E4397/MAX($E$9:E4397)-1)))","v":""}]
[null,null,null,null,null,{"$f":"IF(B4398=\"\",\"\",IF(C4398=\"\",F4397,IF(E4398=\"\",F4397,E4398/MAX($E$9:E4398)-1)))","v":""}]
[null,null,null,null,null,{"$f":"IF(B4399=\"\",\"\",IF(C4399=\"\",F4398,IF(E4399=\"\",F4398,E4399/MAX($E$9:E4399)-1)))","v":""}]
[null,null,null,null,null,{"$f":"IF(B4400=\"\",\"\",IF(C4400=\"\",F4399,IF(E4400=\"\",F4399,E4400/MAX($E$9:E4400)-1)))","v":""}]
[null,null,null,null,null,{"$f":"IF(B4401=\"\",\"\",IF(C4401=\"\",F4400,IF(E4401=\"\",F4400,E4401/MAX($E$9:E4401)-1)))","v":""}]
[null,null,null,null,null,{"$f":"IF(B4402=\"\",\"\",IF(C4402=\"\",F4401,IF(E4402=\"\",F4401,E4402/MAX($E$9:E4402)-1)))","v":""}]
[null,null,null,null,null,{"$f":"IF(B4403=\"\",\"\",IF(C4403=\"\",F4402,IF(E4403=\"\",F4402,E4403/MAX($E$9:E4403)-1)))","v":""}]
[null,null,null,null,null,{"$f":"IF(B4404=\"\",\"\",IF(C4404=\"\",F4403,IF(E4404=\"\",F4403,E4404/MAX($E$9:E4404)-1)))","v":""}]
[null,null,null,null,null,{"$f":"IF(B4405=\"\",\"\",IF(C4405=\"\",F4404,IF(E4405=\"\",F4404,E4405/MAX($E$9:E4405)-1)))","v":""}]
[null,null,null,null,null,{"$f":"IF(B4406=\"\",\"\",IF(C4406=\"\",F4405,IF(E4406=\"\",F4405,E4406/MAX($E$9:E4406)-1)))","v":""}]
[null,null,null,null,null,{"$f":"IF(B4407=\"\",\"\",IF(C4407=\"\",F4406,IF(E4407=\"\",F4406,E4407/MAX($E$9:E4407)-1)))","v":""}]
[null,null,null,null,null,{"$f":"IF(B4408=\"\",\"\",IF(C4408=\"\",F4407,IF(E4408=\"\",F4407,E4408/MAX($E$9:E4408)-1)))","v":""}]
[null,null,null,null,null,{"$f":"IF(B4409=\"\",\"\",IF(C4409=\"\",F4408,IF(E4409=\"\",F4408,E4409/MAX($E$9:E4409)-1)))","v":""}]
[null,null,null,null,null,{"$f":"IF(B4410=\"\",\"\",IF(C4410=\"\",F4409,IF(E4410=\"\",F4409,E4410/MAX($E$9:E4410)-1)))","v":""}]
[null,null,null,null,null,{"$f":"IF(B4411=\"\",\"\",IF(C4411=\"\",F4410,IF(E4411=\"\",F4410,E4411/MAX($E$9:E4411)-1)))","v":""}]
[null,null,null,null,null,{"$f":"IF(B4412=\"\",\"\",IF(C4412=\"\",F4411,IF(E4412=\"\",F4411,E4412/MAX($E$9:E4412)-1)))","v":""}]
[null,null,null,null,null,{"$f":"IF(B4413=\"\",\"\",IF(C4413=\"\",F4412,IF(E4413=\"\",F4412,E4413/MAX($E$9:E4413)-1)))","v":""}]
[null,null,null,null,null,{"$f":"IF(B4414=\"\",\"\",IF(C4414=\"\",F4413,IF(E4414=\"\",F4413,E4414/MAX($E$9:E4414)-1)))","v":""}]
[null,null,null,null,null,{"$f":"IF(B4415=\"\",\"\",IF(C4415=\"\",F4414,IF(E4415=\"\",F4414,E4415/MAX($E$9:E4415)-1)))","v":""}]
[null,null,null,null,null,{"$f":"IF(B4416=\"\",\"\",IF(C4416=\"\",F4415,IF(E4416=\"\",F4415,E4416/MAX($E$9:E4416)-1)))","v":""}]
[null,null,null,null,null,{"$f":"IF(B4417=\"\",\"\",IF(C4417=\"\",F4416,IF(E4417=\"\",F4416,E4417/MAX($E$9:E4417)-1)))","v":""}]
[null,null,null,null,null,{"$f":"IF(B4418=\"\",\"\",IF(C4418=\"\",F4417,IF(E4418=\"\",F4417,E4418/MAX($E$9:E4418)-1)))","v":""}]
[null,null,null,null,null,{"$f":"IF(B4419=\"\",\"\",IF(C4419=\"\",F4418,IF(E4419=\"\",F4418,E4419/MAX($E$9:E4419)-1)))","v":""}]
[null,null,null,null,null,{"$f":"IF(B4420=\"\",\"\",IF(C4420=\"\",F4419,IF(E4420=\"\",F4419,E4420/MAX($E$9:E4420)-1)))","v":""}]
[null,null,null,null,null,{"$f":"IF(B4421=\"\",\"\",IF(C4421=\"\",F4420,IF(E4421=\"\",F4420,E4421/MAX($E$9:E4421)-1)))","v":""}]
[null,null,null,null,null,{"$f":"IF(B4422=\"\",\"\",IF(C4422=\"\",F4421,IF(E4422=\"\",F4421,E4422/MAX($E$9:E4422)-1)))","v":""}]
[null,null,null,null,null,{"$f":"IF(B4423=\"\",\"\",IF(C4423=\"\",F4422,IF(E4423=\"\",F4422,E4423/MAX($E$9:E4423)-1)))","v":""}]
[null,null,null,null,null,{"$f":"IF(B4424=\"\",\"\",IF(C4424=\"\",F4423,IF(E4424=\"\",F4423,E4424/MAX($E$9:E4424)-1)))","v":""}]
[null,null,null,null,null,{"$f":"IF(B4425=\"\",\"\",IF(C4425=\"\",F4424,IF(E4425=\"\",F4424,E4425/MAX($E$9:E4425)-1)))","v":""}]
[null,null,null,null,null,{"$f":"IF(B4426=\"\",\"\",IF(C4426=\"\",F4425,IF(E4426=\"\",F4425,E4426/MAX($E$9:E4426)-1)))","v":""}]
[null,null,null,null,null,{"$f":"IF(B4427=\"\",\"\",IF(C4427=\"\",F4426,IF(E4427=\"\",F4426,E4427/MAX($E$9:E4427)-1)))","v":""}]
[null,null,null,null,null,{"$f":"IF(B4428=\"\",\"\",IF(C4428=\"\",F4427,IF(E4428=\"\",F4427,E4428/MAX($E$9:E4428)-1)))","v":""}]
[null,null,null,null,null,{"$f":"IF(B4429=\"\",\"\",IF(C4429=\"\",F4428,IF(E4429=\"\",F4428,E4429/MAX($E$9:E4429)-1)))","v":""}]
[null,null,null,null,null,{"$f":"IF(B4430=\"\",\"\",IF(C4430=\"\",F4429,IF(E4430=\"\",F4429,E4430/MAX($E$9:E4430)-1)))","v":""}]
[null,null,null,null,null,{"$f":"IF(B4431=\"\",\"\",IF(C4431=\"\",F4430,IF(E4431=\"\",F4430,E4431/MAX($E$9:E4431)-1)))","v":""}]
[null,null,null,null,null,{"$f":"IF(B4432=\"\",\"\",IF(C4432=\"\",F4431,IF(E4432=\"\",F4431,E4432/MAX($E$9:E4432)-1)))","v":""}]
[null,null,null,null,null,{"$f":"IF(B4433=\"\",\"\",IF(C4433=\"\",F4432,IF(E4433=\"\",F4432,E4433/MAX($E$9:E4433)-1)))","v":""}]
[null,null,null,null,null,{"$f":"IF(B4434=\"\",\"\",IF(C4434=\"\",F4433,IF(E4434=\"\",F4433,E4434/MAX($E$9:E4434)-1)))","v":""}]
[null,null,null,null,null,{"$f":"IF(B4435=\"\",\"\",IF(C4435=\"\",F4434,IF(E4435=\"\",F4434,E4435/MAX($E$9:E4435)-1)))","v":""}]
[null,null,null,null,null,{"$f":"IF(B4436=\"\",\"\",IF(C4436=\"\",F4435,IF(E4436=\"\",F4435,E4436/MAX($E$9:E4436)-1)))","v":""}]
[null,null,null,null,null,{"$f":"IF(B4437=\"\",\"\",IF(C4437=\"\",F4436,IF(E4437=\"\",F4436,E4437/MAX($E$9:E4437)-1)))","v":""}]
[null,null,null,null,null,{"$f":"IF(B4438=\"\",\"\",IF(C4438=\"\",F4437,IF(E4438=\"\",F4437,E4438/MAX($E$9:E4438)-1)))","v":""}]
[null,null,null,null,null,{"$f":"IF(B4439=\"\",\"\",IF(C4439=\"\",F4438,IF(E4439=\"\",F4438,E4439/MAX($E$9:E4439)-1)))","v":""}]
[null,null,null,null,null,{"$f":"IF(B4440=\"\",\"\",IF(C4440=\"\",F4439,IF(E4440=\"\",F4439,E4440/MAX($E$9:E4440)-1)))","v":""}]
[null,null,null,null,null,{"$f":"IF(B4441=\"\",\"\",IF(C4441=\"\",F4440,IF(E4441=\"\",F4440,E4441/MAX($E$9:E4441)-1)))","v":""}]
[null,null,null,null,null,{"$f":"IF(B4442=\"\",\"\",IF(C4442=\"\",F4441,IF(E4442=\"\",F4441,E4442/MAX($E$9:E4442)-1)))","v":""}]
[null,null,null,null,null,{"$f":"IF(B4443=\"\",\"\",IF(C4443=\"\",F4442,IF(E4443=\"\",F4442,E4443/MAX($E$9:E4443)-1)))","v":""}]
[null,null,null,null,null,{"$f":"IF(B4444=\"\",\"\",IF(C4444=\"\",F4443,IF(E4444=\"\",F4443,E4444/MAX($E$9:E4444)-1)))","v":""}]
[null,null,null,null,null,{"$f":"IF(B4445=\"\",\"\",IF(C4445=\"\",F4444,IF(E4445=\"\",F4444,E4445/MAX($E$9:E4445)-1)))","v":""}]
[null,null,null,null,null,{"$f":"IF(B4446=\"\",\"\",IF(C4446=\"\",F4445,IF(E4446=\"\",F4445,E4446/MAX($E$9:E4446)-1)))","v":""}]
[null,null,null,null,null,{"$f":"IF(B4447=\"\",\"\",IF(C4447=\"\",F4446,IF(E4447=\"\",F4446,E4447/MAX($E$9:E4447)-1)))","v":""}]
[null,null,null,null,null,{"$f":"IF(B4448=\"\",\"\",IF(C4448=\"\",F4447,IF(E4448=\"\",F4447,E4448/MAX($E$9:E4448)-1)))","v":""}]
[null,null,null,null,null,{"$f":"IF(B4449=\"\",\"\",IF(C4449=\"\",F4448,IF(E4449=\"\",F4448,E4449/MAX($E$9:E4449)-1)))","v":""}]
[null,null,null,null,null,{"$f":"IF(B4450=\"\",\"\",IF(C4450=\"\",F4449,IF(E4450=\"\",F4449,E4450/MAX($E$9:E4450)-1)))","v":""}]
[null,null,null,null,null,{"$f":"IF(B4451=\"\",\"\",IF(C4451=\"\",F4450,IF(E4451=\"\",F4450,E4451/MAX($E$9:E4451)-1)))","v":""}]
[null,null,null,null,null,{"$f":"IF(B4452=\"\",\"\",IF(C4452=\"\",F4451,IF(E4452=\"\",F4451,E4452/MAX($E$9:E4452)-1)))","v":""}]
[null,null,null,null,null,{"$f":"IF(B4453=\"\",\"\",IF(C4453=\"\",F4452,IF(E4453=\"\",F4452,E4453/MAX($E$9:E4453)-1)))","v":""}]
[null,null,null,null,null,{"$f":"IF(B4454=\"\",\"\",IF(C4454=\"\",F4453,IF(E4454=\"\",F4453,E4454/MAX($E$9:E4454)-1)))","v":""}]
[null,null,null,null,null,{"$f":"IF(B4455=\"\",\"\",IF(C4455=\"\",F4454,IF(E4455=\"\",F4454,E4455/MAX($E$9:E4455)-1)))","v":""}]
[null,null,null,null,null,{"$f":"IF(B4456=\"\",\"\",IF(C4456=\"\",F4455,IF(E4456=\"\",F4455,E4456/MAX($E$9:E4456)-1)))","v":""}]
[null,null,null,null,null,{"$f":"IF(B4457=\"\",\"\",IF(C4457=\"\",F4456,IF(E4457=\"\",F4456,E4457/MAX($E$9:E4457)-1)))","v":""}]
[null,null,null,null,null,{"$f":"IF(B4458=\"\",\"\",IF(C4458=\"\",F4457,IF(E4458=\"\",F4457,E4458/MAX($E$9:E4458)-1)))","v":""}]
[null,null,null,null,null,{"$f":"IF(B4459=\"\",\"\",IF(C4459=\"\",F4458,IF(E4459=\"\",F4458,E4459/MAX($E$9:E4459)-1)))","v":""}]
[null,null,null,null,null,{"$f":"IF(B4460=\"\",\"\",IF(C4460=\"\",F4459,IF(E4460=\"\",F4459,E4460/MAX($E$9:E4460)-1)))","v":""}]
[null,null,null,null,null,{"$f":"IF(B4461=\"\",\"\",IF(C4461=\"\",F4460,IF(E4461=\"\",F4460,E4461/MAX($E$9:E4461)-1)))","v":""}]
[null,null,null,null,null,{"$f":"IF(B4462=\"\",\"\",IF(C4462=\"\",F4461,IF(E4462=\"\",F4461,E4462/MAX($E$9:E4462)-1)))","v":""}]
[null,null,null,null,null,{"$f":"IF(B4463=\"\",\"\",IF(C4463=\"\",F4462,IF(E4463=\"\",F4462,E4463/MAX($E$9:E4463)-1)))","v":""}]
[null,null,null,null,null,{"$f":"IF(B4464=\"\",\"\",IF(C4464=\"\",F4463,IF(E4464=\"\",F4463,E4464/MAX($E$9:E4464)-1)))","v":""}]
[null,null,null,null,null,{"$f":"IF(B4465=\"\",\"\",IF(C4465=\"\",F4464,IF(E4465=\"\",F4464,E4465/MAX($E$9:E4465)-1)))","v":""}]
[null,null,null,null,null,{"$f":"IF(B4466=\"\",\"\",IF(C4466=\"\",F4465,IF(E4466=\"\",F4465,E4466/MAX($E$9:E4466)-1)))","v":""}]
[null,null,null,null,null,{"$f":"IF(B4467=\"\",\"\",IF(C4467=\"\",F4466,IF(E4467=\"\",F4466,E4467/MAX($E$9:E4467)-1)))","v":""}]
[null,null,null,null,null,{"$f":"IF(B4468=\"\",\"\",IF(C4468=\"\",F4467,IF(E4468=\"\",F4467,E4468/MAX($E$9:E4468)-1)))","v":""}]
[null,null,null,null,null,{"$f":"IF(B4469=\"\",\"\",IF(C4469=\"\",F4468,IF(E4469=\"\",F4468,E4469/MAX($E$9:E4469)-1)))","v":""}]
[null,null,null,null,null,{"$f":"IF(B4470=\"\",\"\",IF(C4470=\"\",F4469,IF(E4470=\"\",F4469,E4470/MAX($E$9:E4470)-1)))","v":""}]
[null,null,null,null,null,{"$f":"IF(B4471=\"\",\"\",IF(C4471=\"\",F4470,IF(E4471=\"\",F4470,E4471/MAX($E$9:E4471)-1)))","v":""}]
[null,null,null,null,null,{"$f":"IF(B4472=\"\",\"\",IF(C4472=\"\",F4471,IF(E4472=\"\",F4471,E4472/MAX($E$9:E4472)-1)))","v":""}]
[null,null,null,null,null,{"$f":"IF(B4473=\"\",\"\",IF(C4473=\"\",F4472,IF(E4473=\"\",F4472,E4473/MAX($E$9:E4473)-1)))","v":""}]
[null,null,null,null,null,{"$f":"IF(B4474=\"\",\"\",IF(C4474=\"\",F4473,IF(E4474=\"\",F4473,E4474/MAX($E$9:E4474)-1)))","v":""}]
[null,null,null,null,null,{"$f":"IF(B4475=\"\",\"\",IF(C4475=\"\",F4474,IF(E4475=\"\",F4474,E4475/MAX($E$9:E4475)-1)))","v":""}]
[null,null,null,null,null,{"$f":"IF(B4476=\"\",\"\",IF(C4476=\"\",F4475,IF(E4476=\"\",F4475,E4476/MAX($E$9:E4476)-1)))","v":""}]
[null,null,null,null,null,{"$f":"IF(B4477=\"\",\"\",IF(C4477=\"\",F4476,IF(E4477=\"\",F4476,E4477/MAX($E$9:E4477)-1)))","v":""}]
[null,null,null,null,null,{"$f":"IF(B4478=\"\",\"\",IF(C4478=\"\",F4477,IF(E4478=\"\",F4477,E4478/MAX($E$9:E4478)-1)))","v":""}]
[null,null,null,null,null,{"$f":"IF(B4479=\"\",\"\",IF(C4479=\"\",F4478,IF(E4479=\"\",F4478,E4479/MAX($E$9:E4479)-1)))","v":""}]
[null,null,null,null,null,{"$f":"IF(B4480=\"\",\"\",IF(C4480=\"\",F4479,IF(E4480=\"\",F4479,E4480/MAX($E$9:E4480)-1)))","v":""}]
[null,null,null,null,null,{"$f":"IF(B4481=\"\",\"\",IF(C4481=\"\",F4480,IF(E4481=\"\",F4480,E4481/MAX($E$9:E4481)-1)))","v":""}]
[null,null,null,null,null,{"$f":"IF(B4482=\"\",\"\",IF(C4482=\"\",F4481,IF(E4482=\"\",F4481,E4482/MAX($E$9:E4482)-1)))","v":""}]
[null,null,null,null,null,{"$f":"IF(B4483=\"\",\"\",IF(C4483=\"\",F4482,IF(E4483=\"\",F4482,E4483/MAX($E$9:E4483)-1)))","v":""}]
[null,null,null,null,null,{"$f":"IF(B4484=\"\",\"\",IF(C4484=\"\",F4483,IF(E4484=\"\",F4483,E4484/MAX($E$9:E4484)-1)))","v":""}]
[null,null,null,null,null,{"$f":"IF(B4485=\"\",\"\",IF(C4485=\"\",F4484,IF(E4485=\"\",F4484,E4485/MAX($E$9:E4485)-1)))","v":""}]
[null,null,null,null,null,{"$f":"IF(B4486=\"\",\"\",IF(C4486=\"\",F4485,IF(E4486=\"\",F4485,E4486/MAX($E$9:E4486)-1)))","v":""}]
[null,null,null,null,null,{"$f":"IF(B4487=\"\",\"\",IF(C4487=\"\",F4486,IF(E4487=\"\",F4486,E4487/MAX($E$9:E4487)-1)))","v":""}]
[null,null,null,null,null,{"$f":"IF(B4488=\"\",\"\",IF(C4488=\"\",F4487,IF(E4488=\"\",F4487,E4488/MAX($E$9:E4488)-1)))","v":""}]
[null,null,null,null,null,{"$f":"IF(B4489=\"\",\"\",IF(C4489=\"\",F4488,IF(E4489=\"\",F4488,E4489/MAX($E$9:E4489)-1)))","v":""}]
[null,null,null,null,null,{"$f":"IF(B4490=\"\",\"\",IF(C4490=\"\",F4489,IF(E4490=\"\",F4489,E4490/MAX($E$9:E4490)-1)))","v":""}]
[null,null,null,null,null,{"$f":"IF(B4491=\"\",\"\",IF(C4491=\"\",F4490,IF(E4491=\"\",F4490,E4491/MAX($E$9:E4491)-1)))","v":""}]
[null,null,null,null,null,{"$f":"IF(B4492=\"\",\"\",IF(C4492=\"\",F4491,IF(E4492=\"\",F4491,E4492/MAX($E$9:E4492)-1)))","v":""}]
[null,null,null,null,null,{"$f":"IF(B4493=\"\",\"\",IF(C4493=\"\",F4492,IF(E4493=\"\",F4492,E4493/MAX($E$9:E4493)-1)))","v":""}]
[null,null,null,null,null,{"$f":"IF(B4494=\"\",\"\",IF(C4494=\"\",F4493,IF(E4494=\"\",F4493,E4494/MAX($E$9:E4494)-1)))","v":""}]
[null,null,null,null,null,{"$f":"IF(B4495=\"\",\"\",IF(C4495=\"\",F4494,IF(E4495=\"\",F4494,E4495/MAX($E$9:E4495)-1)))","v":""}]
[null,null,null,null,null,{"$f":"IF(B4496=\"\",\"\",IF(C4496=\"\",F4495,IF(E4496=\"\",F4495,E4496/MAX($E$9:E4496)-1)))","v":""}]
[null,null,null,null,null,{"$f":"IF(B4497=\"\",\"\",IF(C4497=\"\",F4496,IF(E4497=\"\",F4496,E4497/MAX($E$9:E4497)-1)))","v":""}]
[null,null,null,null,null,{"$f":"IF(B4498=\"\",\"\",IF(C4498=\"\",F4497,IF(E4498=\"\",F4497,E4498/MAX($E$9:E4498)-1)))","v":""}]
[null,null,null,null,null,{"$f":"IF(B4499=\"\",\"\",IF(C4499=\"\",F4498,IF(E4499=\"\",F4498,E4499/MAX($E$9:E4499)-1)))","v":""}]
[null,null,null,null,null,{"$f":"IF(B4500=\"\",\"\",IF(C4500=\"\",F4499,IF(E4500=\"\",F4499,E4500/MAX($E$9:E4500)-1)))","v":""}]
[null,null,null,null,null,{"$f":"IF(B4501=\"\",\"\",IF(C4501=\"\",F4500,IF(E4501=\"\",F4500,E4501/MAX($E$9:E4501)-1)))","v":""}]
[null,null,null,null,null,{"$f":"IF(B4502=\"\",\"\",IF(C4502=\"\",F4501,IF(E4502=\"\",F4501,E4502/MAX($E$9:E4502)-1)))","v":""}]
[null,null,null,null,null,{"$f":"IF(B4503=\"\",\"\",IF(C4503=\"\",F4502,IF(E4503=\"\",F4502,E4503/MAX($E$9:E4503)-1)))","v":""}]
[null,null,null,null,null,{"$f":"IF(B4504=\"\",\"\",IF(C4504=\"\",F4503,IF(E4504=\"\",F4503,E4504/MAX($E$9:E4504)-1)))","v":""}]
[null,null,null,null,null,{"$f":"IF(B4505=\"\",\"\",IF(C4505=\"\",F4504,IF(E4505=\"\",F4504,E4505/MAX($E$9:E4505)-1)))","v":""}]
[null,null,null,null,null,{"$f":"IF(B4506=\"\",\"\",IF(C4506=\"\",F4505,IF(E4506=\"\",F4505,E4506/MAX($E$9:E4506)-1)))","v":""}]
[null,null,null,null,null,{"$f":"IF(B4507=\"\",\"\",IF(C4507=\"\",F4506,IF(E4507=\"\",F4506,E4507/MAX($E$9:E4507)-1)))","v":""}]
[null,null,null,null,null,{"$f":"IF(B4508=\"\",\"\",IF(C4508=\"\",F4507,IF(E4508=\"\",F4507,E4508/MAX($E$9:E4508)-1)))","v":""}]
[null,null,null,null,null,{"$f":"IF(B4509=\"\",\"\",IF(C4509=\"\",F4508,IF(E4509=\"\",F4508,E4509/MAX($E$9:E4509)-1)))","v":""}]
[null,null,null,null,null,{"$f":"IF(B4510=\"\",\"\",IF(C4510=\"\",F4509,IF(E4510=\"\",F4509,E4510/MAX($E$9:E4510)-1)))","v":""}]
[null,null,null,null,null,{"$f":"IF(B4511=\"\",\"\",IF(C4511=\"\",F4510,IF(E4511=\"\",F4510,E4511/MAX($E$9:E4511)-1)))","v":""}]
[null,null,null,null,null,{"$f":"IF(B4512=\"\",\"\",IF(C4512=\"\",F4511,IF(E4512=\"\",F4511,E4512/MAX($E$9:E4512)-1)))","v":""}]
[null,null,null,null,null,{"$f":"IF(B4513=\"\",\"\",IF(C4513=\"\",F4512,IF(E4513=\"\",F4512,E4513/MAX($E$9:E4513)-1)))","v":""}]
[null,null,null,null,null,{"$f":"IF(B4514=\"\",\"\",IF(C4514=\"\",F4513,IF(E4514=\"\",F4513,E4514/MAX($E$9:E4514)-1)))","v":""}]
[null,null,null,null,null,{"$f":"IF(B4515=\"\",\"\",IF(C4515=\"\",F4514,IF(E4515=\"\",F4514,E4515/MAX($E$9:E4515)-1)))","v":""}]
[null,null,null,null,null,{"$f":"IF(B4516=\"\",\"\",IF(C4516=\"\",F4515,IF(E4516=\"\",F4515,E4516/MAX($E$9:E4516)-1)))","v":""}]
[null,null,null,null,null,{"$f":"IF(B4517=\"\",\"\",IF(C4517=\"\",F4516,IF(E4517=\"\",F4516,E4517/MAX($E$9:E4517)-1)))","v":""}]
[null,null,null,null,null,{"$f":"IF(B4518=\"\",\"\",IF(C4518=\"\",F4517,IF(E4518=\"\",F4517,E4518/MAX($E$9:E4518)-1)))","v":""}]
[null,null,null,null,null,{"$f":"IF(B4519=\"\",\"\",IF(C4519=\"\",F4518,IF(E4519=\"\",F4518,E4519/MAX($E$9:E4519)-1)))","v":""}]
[null,null,null,null,null,{"$f":"IF(B4520=\"\",\"\",IF(C4520=\"\",F4519,IF(E4520=\"\",F4519,E4520/MAX($E$9:E4520)-1)))","v":""}]
[null,null,null,null,null,{"$f":"IF(B4521=\"\",\"\",IF(C4521=\"\",F4520,IF(E4521=\"\",F4520,E4521/MAX($E$9:E4521)-1)))","v":""}]
[null,null,null,null,null,{"$f":"IF(B4522=\"\",\"\",IF(C4522=\"\",F4521,IF(E4522=\"\",F4521,E4522/MAX($E$9:E4522)-1)))","v":""}]
[null,null,null,null,null,{"$f":"IF(B4523=\"\",\"\",IF(C4523=\"\",F4522,IF(E4523=\"\",F4522,E4523/MAX($E$9:E4523)-1)))","v":""}]
[null,null,null,null,null,{"$f":"IF(B4524=\"\",\"\",IF(C4524=\"\",F4523,IF(E4524=\"\",F4523,E4524/MAX($E$9:E4524)-1)))","v":""}]
[null,null,null,null,null,{"$f":"IF(B4525=\"\",\"\",IF(C4525=\"\",F4524,IF(E4525=\"\",F4524,E4525/MAX($E$9:E4525)-1)))","v":""}]
[null,null,null,null,null,{"$f":"IF(B4526=\"\",\"\",IF(C4526=\"\",F4525,IF(E4526=\"\",F4525,E4526/MAX($E$9:E4526)-1)))","v":""}]
[null,null,null,null,null,{"$f":"IF(B4527=\"\",\"\",IF(C4527=\"\",F4526,IF(E4527=\"\",F4526,E4527/MAX($E$9:E4527)-1)))","v":""}]
[null,null,null,null,null,{"$f":"IF(B4528=\"\",\"\",IF(C4528=\"\",F4527,IF(E4528=\"\",F4527,E4528/MAX($E$9:E4528)-1)))","v":""}]
[null,null,null,null,null,{"$f":"IF(B4529=\"\",\"\",IF(C4529=\"\",F4528,IF(E4529=\"\",F4528,E4529/MAX($E$9:E4529)-1)))","v":""}]
[null,null,null,null,null,{"$f":"IF(B4530=\"\",\"\",IF(C4530=\"\",F4529,IF(E4530=\"\",F4529,E4530/MAX($E$9:E4530)-1)))","v":""}]
[null,null,null,null,null,{"$f":"IF(B4531=\"\",\"\",IF(C4531=\"\",F4530,IF(E4531=\"\",F4530,E4531/MAX($E$9:E4531)-1)))","v":""}]
[null,null,null,null,null,{"$f":"IF(B4532=\"\",\"\",IF(C4532=\"\",F4531,IF(E4532=\"\",F4531,E4532/MAX($E$9:E4532)-1)))","v":""}]
[null,null,null,null,null,{"$f":"IF(B4533=\"\",\"\",IF(C4533=\"\",F4532,IF(E4533=\"\",F4532,E4533/MAX($E$9:E4533)-1)))","v":""}]
[null,null,null,null,null,{"$f":"IF(B4534=\"\",\"\",IF(C4534=\"\",F4533,IF(E4534=\"\",F4533,E4534/MAX($E$9:E4534)-1)))","v":""}]
[null,null,null,null,null,{"$f":"IF(B4535=\"\",\"\",IF(C4535=\"\",F4534,IF(E4535=\"\",F4534,E4535/MAX($E$9:E4535)-1)))","v":""}]
[null,null,null,null,null,{"$f":"IF(B4536=\"\",\"\",IF(C4536=\"\",F4535,IF(E4536=\"\",F4535,E4536/MAX($E$9:E4536)-1)))","v":""}]
[null,null,null,null,null,{"$f":"IF(B4537=\"\",\"\",IF(C4537=\"\",F4536,IF(E4537=\"\",F4536,E4537/MAX($E$9:E4537)-1)))","v":""}]
[null,null,null,null,null,{"$f":"IF(B4538=\"\",\"\",IF(C4538=\"\",F4537,IF(E4538=\"\",F4537,E4538/MAX($E$9:E4538)-1)))","v":""}]
[null,null,null,null,null,{"$f":"IF(B4539=\"\",\"\",IF(C4539=\"\",F4538,IF(E4539=\"\",F4538,E4539/MAX($E$9:E4539)-1)))","v":""}]
[null,null,null,null,null,{"$f":"IF(B4540=\"\",\"\",IF(C4540=\"\",F4539,IF(E4540=\"\",F4539,E4540/MAX($E$9:E4540)-1)))","v":""}]
[null,null,null,null,null,{"$f":"IF(B4541=\"\",\"\",IF(C4541=\"\",F4540,IF(E4541=\"\",F4540,E4541/MAX($E$9:E4541)-1)))","v":""}]
[null,null,null,null,null,{"$f":"IF(B4542=\"\",\"\",IF(C4542=\"\",F4541,IF(E4542=\"\",F4541,E4542/MAX($E$9:E4542)-1)))","v":""}]
[null,null,null,null,null,{"$f":"IF(B4543=\"\",\"\",IF(C4543=\"\",F4542,IF(E4543=\"\",F4542,E4543/MAX($E$9:E4543)-1)))","v":""}]
[null,null,null,null,null,{"$f":"IF(B4544=\"\",\"\",IF(C4544=\"\",F4543,IF(E4544=\"\",F4543,E4544/MAX($E$9:E4544)-1)))","v":""}]
[null,null,null,null,null,{"$f":"IF(B4545=\"\",\"\",IF(C4545=\"\",F4544,IF(E4545=\"\",F4544,E4545/MAX($E$9:E4545)-1)))","v":""}]
[null,null,null,null,null,{"$f":"IF(B4546=\"\",\"\",IF(C4546=\"\",F4545,IF(E4546=\"\",F4545,E4546/MAX($E$9:E4546)-1)))","v":""}]
[null,null,null,null,null,{"$f":"IF(B4547=\"\",\"\",IF(C4547=\"\",F4546,IF(E4547=\"\",F4546,E4547/MAX($E$9:E4547)-1)))","v":""}]
[null,null,null,null,null,{"$f":"IF(B4548=\"\",\"\",IF(C4548=\"\",F4547,IF(E4548=\"\",F4547,E4548/MAX($E$9:E4548)-1)))","v":""}]
[null,null,null,null,null,{"$f":"IF(B4549=\"\",\"\",IF(C4549=\"\",F4548,IF(E4549=\"\",F4548,E4549/MAX($E$9:E4549)-1)))","v":""}]
[null,null,null,null,null,{"$f":"IF(B4550=\"\",\"\",IF(C4550=\"\",F4549,IF(E4550=\"\",F4549,E4550/MAX($E$9:E4550)-1)))","v":""}]
[null,null,null,null,null,{"$f":"IF(B4551=\"\",\"\",IF(C4551=\"\",F4550,IF(E4551=\"\",F4550,E4551/MAX($E$9:E4551)-1)))","v":""}]
[null,null,null,null,null,{"$f":"IF(B4552=\"\",\"\",IF(C4552=\"\",F4551,IF(E4552=\"\",F4551,E4552/MAX($E$9:E4552)-1)))","v":""}]
[null,null,null,null,null,{"$f":"IF(B4553=\"\",\"\",IF(C4553=\"\",F4552,IF(E4553=\"\",F4552,E4553/MAX($E$9:E4553)-1)))","v":""}]
[null,null,null,null,null,{"$f":"IF(B4554=\"\",\"\",IF(C4554=\"\",F4553,IF(E4554=\"\",F4553,E4554/MAX($E$9:E4554)-1)))","v":""}]
[null,null,null,null,null,{"$f":"IF(B4555=\"\",\"\",IF(C4555=\"\",F4554,IF(E4555=\"\",F4554,E4555/MAX($E$9:E4555)-1)))","v":""}]
[null,null,null,null,null,{"$f":"IF(B4556=\"\",\"\",IF(C4556=\"\",F4555,IF(E4556=\"\",F4555,E4556/MAX($E$9:E4556)-1)))","v":""}]
[null,null,null,null,null,{"$f":"IF(B4557=\"\",\"\",IF(C4557=\"\",F4556,IF(E4557=\"\",F4556,E4557/MAX($E$9:E4557)-1)))","v":""}]
[null,null,null,null,null,{"$f":"IF(B4558=\"\",\"\",IF(C4558=\"\",F4557,IF(E4558=\"\",F4557,E4558/MAX($E$9:E4558)-1)))","v":""}]
[null,null,null,null,null,{"$f":"IF(B4559=\"\",\"\",IF(C4559=\"\",F4558,IF(E4559=\"\",F4558,E4559/MAX($E$9:E4559)-1)))","v":""}]
[null,null,null,null,null,{"$f":"IF(B4560=\"\",\"\",IF(C4560=\"\",F4559,IF(E4560=\"\",F4559,E4560/MAX($E$9:E4560)-1)))","v":""}]
[null,null,null,null,null,{"$f":"IF(B4561=\"\",\"\",IF(C4561=\"\",F4560,IF(E4561=\"\",F4560,E4561/MAX($E$9:E4561)-1)))","v":""}]
[null,null,null,null,null,{"$f":"IF(B4562=\"\",\"\",IF(C4562=\"\",F4561,IF(E4562=\"\",F4561,E4562/MAX($E$9:E4562)-1)))","v":""}]
[null,null,null,null,null,{"$f":"IF(B4563=\"\",\"\",IF(C4563=\"\",F4562,IF(E4563=\"\",F4562,E4563/MAX($E$9:E4563)-1)))","v":""}]
[null,null,null,null,null,{"$f":"IF(B4564=\"\",\"\",IF(C4564=\"\",F4563,IF(E4564=\"\",F4563,E4564/MAX($E$9:E4564)-1)))","v":""}]
[null,null,null,null,null,{"$f":"IF(B4565=\"\",\"\",IF(C4565=\"\",F4564,IF(E4565=\"\",F4564,E4565/MAX($E$9:E4565)-1)))","v":""}]
[null,null,null,null,null,{"$f":"IF(B4566=\"\",\"\",IF(C4566=\"\",F4565,IF(E4566=\"\",F4565,E4566/MAX($E$9:E4566)-1)))","v":""}]
[null,null,null,null,null,{"$f":"IF(B4567=\"\",\"\",IF(C4567=\"\",F4566,IF(E4567=\"\",F4566,E4567/MAX($E$9:E4567)-1)))","v":""}]
[null,null,null,null,null,{"$f":"IF(B4568=\"\",\"\",IF(C4568=\"\",F4567,IF(E4568=\"\",F4567,E4568/MAX($E$9:E4568)-1)))","v":""}]
[null,null,null,null,null,{"$f":"IF(B4569=\"\",\"\",IF(C4569=\"\",F4568,IF(E4569=\"\",F4568,E4569/MAX($E$9:E4569)-1)))","v":""}]
[null,null,null,null,null,{"$f":"IF(B4570=\"\",\"\",IF(C4570=\"\",F4569,IF(E4570=\"\",F4569,E4570/MAX($E$9:E4570)-1)))","v":""}]
[null,null,null,null,null,{"$f":"IF(B4571=\"\",\"\",IF(C4571=\"\",F4570,IF(E4571=\"\",F4570,E4571/MAX($E$9:E4571)-1)))","v":""}]
[null,null,null,null,null,{"$f":"IF(B4572=\"\",\"\",IF(C4572=\"\",F4571,IF(E4572=\"\",F4571,E4572/MAX($E$9:E4572)-1)))","v":""}]
[null,null,null,null,null,{"$f":"IF(B4573=\"\",\"\",IF(C4573=\"\",F4572,IF(E4573=\"\",F4572,E4573/MAX($E$9:E4573)-1)))","v":""}]
[null,null,null,null,null,{"$f":"IF(B4574=\"\",\"\",IF(C4574=\"\",F4573,IF(E4574=\"\",F4573,E4574/MAX($E$9:E4574)-1)))","v":""}]
[null,null,null,null,null,{"$f":"IF(B4575=\"\",\"\",IF(C4575=\"\",F4574,IF(E4575=\"\",F4574,E4575/MAX($E$9:E4575)-1)))","v":""}]
[null,null,null,null,null,{"$f":"IF(B4576=\"\",\"\",IF(C4576=\"\",F4575,IF(E4576=\"\",F4575,E4576/MAX($E$9:E4576)-1)))","v":""}]
[null,null,null,null,null,{"$f":"IF(B4577=\"\",\"\",IF(C4577=\"\",F4576,IF(E4577=\"\",F4576,E4577/MAX($E$9:E4577)-1)))","v":""}]
[null,null,null,null,null,{"$f":"IF(B4578=\"\",\"\",IF(C4578=\"\",F4577,IF(E4578=\"\",F4577,E4578/MAX($E$9:E4578)-1)))","v":""}]
[null,null,null,null,null,{"$f":"IF(B4579=\"\",\"\",IF(C4579=\"\",F4578,IF(E4579=\"\",F4578,E4579/MAX($E$9:E4579)-1)))","v":""}]
[null,null,null,null,null,{"$f":"IF(B4580=\"\",\"\",IF(C4580=\"\",F4579,IF(E4580=\"\",F4579,E4580/MAX($E$9:E4580)-1)))","v":""}]
[null,null,null,null,null,{"$f":"IF(B4581=\"\",\"\",IF(C4581=\"\",F4580,IF(E4581=\"\",F4580,E4581/MAX($E$9:E4581)-1)))","v":""}]
[null,null,null,null,null,{"$f":"IF(B4582=\"\",\"\",IF(C4582=\"\",F4581,IF(E4582=\"\",F4581,E4582/MAX($E$9:E4582)-1)))","v":""}]
[null,null,null,null,null,{"$f":"IF(B4583=\"\",\"\",IF(C4583=\"\",F4582,IF(E4583=\"\",F4582,E4583/MAX($E$9:E4583)-1)))","v":""}]
[null,null,null,null,null,{"$f":"IF(B4584=\"\",\"\",IF(C4584=\"\",F4583,IF(E4584=\"\",F4583,E4584/MAX($E$9:E4584)-1)))","v":""}]
[null,null,null,null,null,{"$f":"IF(B4585=\"\",\"\",IF(C4585=\"\",F4584,IF(E4585=\"\",F4584,E4585/MAX($E$9:E4585)-1)))","v":""}]
[null,null,null,null,null,{"$f":"IF(B4586=\"\",\"\",IF(C4586=\"\",F4585,IF(E4586=\"\",F4585,E4586/MAX($E$9:E4586)-1)))","v":""}]
[null,null,null,null,null,{"$f":"IF(B4587=\"\",\"\",IF(C4587=\"\",F4586,IF(E4587=\"\",F4586,E4587/MAX($E$9:E4587)-1)))","v":""}]
[null,null,null,null,null,{"$f":"IF(B4588=\"\",\"\",IF(C4588=\"\",F4587,IF(E4588=\"\",F4587,E4588/MAX($E$9:E4588)-1)))","v":""}]
[null,null,null,null,null,{"$f":"IF(B4589=\"\",\"\",IF(C4589=\"\",F4588,IF(E4589=\"\",F4588,E4589/MAX($E$9:E4589)-1)))","v":""}]
[null,null,null,null,null,{"$f":"IF(B4590=\"\",\"\",IF(C4590=\"\",F4589,IF(E4590=\"\",F4589,E4590/MAX($E$9:E4590)-1)))","v":""}]
[null,null,null,null,null,{"$f":"IF(B4591=\"\",\"\",IF(C4591=\"\",F4590,IF(E4591=\"\",F4590,E4591/MAX($E$9:E4591)-1)))","v":""}]
[null,null,null,null,null,{"$f":"IF(B4592=\"\",\"\",IF(C4592=\"\",F4591,IF(E4592=\"\",F4591,E4592/MAX($E$9:E4592)-1)))","v":""}]
[null,null,null,null,null,{"$f":"IF(B4593=\"\",\"\",IF(C4593=\"\",F4592,IF(E4593=\"\",F4592,E4593/MAX($E$9:E4593)-1)))","v":""}]
[null,null,null,null,null,{"$f":"IF(B4594=\"\",\"\",IF(C4594=\"\",F4593,IF(E4594=\"\",F4593,E4594/MAX($E$9:E4594)-1)))","v":""}]
[null,null,null,null,null,{"$f":"IF(B4595=\"\",\"\",IF(C4595=\"\",F4594,IF(E4595=\"\",F4594,E4595/MAX($E$9:E4595)-1)))","v":""}]
[null,null,null,null,null,{"$f":"IF(B4596=\"\",\"\",IF(C4596=\"\",F4595,IF(E4596=\"\",F4595,E4596/MAX($E$9:E4596)-1)))","v":""}]
[null,null,null,null,null,{"$f":"IF(B4597=\"\",\"\",IF(C4597=\"\",F4596,IF(E4597=\"\",F4596,E4597/MAX($E$9:E4597)-1)))","v":""}]
[null,null,null,null,null,{"$f":"IF(B4598=\"\",\"\",IF(C4598=\"\",F4597,IF(E4598=\"\",F4597,E4598/MAX($E$9:E4598)-1)))","v":""}]
[null,null,null,null,null,{"$f":"IF(B4599=\"\",\"\",IF(C4599=\"\",F4598,IF(E4599=\"\",F4598,E4599/MAX($E$9:E4599)-1)))","v":""}]
[null,null,null,null,null,{"$f":"IF(B4600=\"\",\"\",IF(C4600=\"\",F4599,IF(E4600=\"\",F4599,E4600/MAX($E$9:E4600)-1)))","v":""}]
[null,null,null,null,null,{"$f":"IF(B4601=\"\",\"\",IF(C4601=\"\",F4600,IF(E4601=\"\",F4600,E4601/MAX($E$9:E4601)-1)))","v":""}]
[null,null,null,null,null,{"$f":"IF(B4602=\"\",\"\",IF(C4602=\"\",F4601,IF(E4602=\"\",F4601,E4602/MAX($E$9:E4602)-1)))","v":""}]
[null,null,null,null,null,{"$f":"IF(B4603=\"\",\"\",IF(C4603=\"\",F4602,IF(E4603=\"\",F4602,E4603/MAX($E$9:E4603)-1)))","v":""}]
[null,null,null,null,null,{"$f":"IF(B4604=\"\",\"\",IF(C4604=\"\",F4603,IF(E4604=\"\",F4603,E4604/MAX($E$9:E4604)-1)))","v":""}]
[null,null,null,null,null,{"$f":"IF(B4605=\"\",\"\",IF(C4605=\"\",F4604,IF(E4605=\"\",F4604,E4605/MAX($E$9:E4605)-1)))","v":""}]
[null,null,null,null,null,{"$f":"IF(B4606=\"\",\"\",IF(C4606=\"\",F4605,IF(E4606=\"\",F4605,E4606/MAX($E$9:E4606)-1)))","v":""}]
[null,null,null,null,null,{"$f":"IF(B4607=\"\",\"\",IF(C4607=\"\",F4606,IF(E4607=\"\",F4606,E4607/MAX($E$9:E4607)-1)))","v":""}]
[null,null,null,null,null,{"$f":"IF(B4608=\"\",\"\",IF(C4608=\"\",F4607,IF(E4608=\"\",F4607,E4608/MAX($E$9:E4608)-1)))","v":""}]
[null,null,null,null,null,{"$f":"IF(B4609=\"\",\"\",IF(C4609=\"\",F4608,IF(E4609=\"\",F4608,E4609/MAX($E$9:E4609)-1)))","v":""}]
[null,null,null,null,null,{"$f":"IF(B4610=\"\",\"\",IF(C4610=\"\",F4609,IF(E4610=\"\",F4609,E4610/MAX($E$9:E4610)-1)))","v":""}]
[null,null,null,null,null,{"$f":"IF(B4611=\"\",\"\",IF(C4611=\"\",F4610,IF(E4611=\"\",F4610,E4611/MAX($E$9:E4611)-1)))","v":""}]
[null,null,null,null,null,{"$f":"IF(B4612=\"\",\"\",IF(C4612=\"\",F4611,IF(E4612=\"\",F4611,E4612/MAX($E$9:E4612)-1)))","v":""}]
[null,null,null,null,null,{"$f":"IF(B4613=\"\",\"\",IF(C4613=\"\",F4612,IF(E4613=\"\",F4612,E4613/MAX($E$9:E4613)-1)))","v":""}]
[null,null,null,null,null,{"$f":"IF(B4614=\"\",\"\",IF(C4614=\"\",F4613,IF(E4614=\"\",F4613,E4614/MAX($E$9:E4614)-1)))","v":""}]
[null,null,null,null,null,{"$f":"IF(B4615=\"\",\"\",IF(C4615=\"\",F4614,IF(E4615=\"\",F4614,E4615/MAX($E$9:E4615)-1)))","v":""}]
[null,null,null,null,null,{"$f":"IF(B4616=\"\",\"\",IF(C4616=\"\",F4615,IF(E4616=\"\",F4615,E4616/MAX($E$9:E4616)-1)))","v":""}]
[null,null,null,null,null,{"$f":"IF(B4617=\"\",\"\",IF(C4617=\"\",F4616,IF(E4617=\"\",F4616,E4617/MAX($E$9:E4617)-1)))","v":""}]
[null,null,null,null,null,{"$f":"IF(B4618=\"\",\"\",IF(C4618=\"\",F4617,IF(E4618=\"\",F4617,E4618/MAX($E$9:E4618)-1)))","v":""}]
[null,null,null,null,null,{"$f":"IF(B4619=\"\",\"\",IF(C4619=\"\",F4618,IF(E4619=\"\",F4618,E4619/MAX($E$9:E4619)-1)))","v":""}]
[null,null,null,null,null,{"$f":"IF(B4620=\"\",\"\",IF(C4620=\"\",F4619,IF(E4620=\"\",F4619,E4620/MAX($E$9:E4620)-1)))","v":""}]
[null,null,null,null,null,{"$f":"IF(B4621=\"\",\"\",IF(C4621=\"\",F4620,IF(E4621=\"\",F4620,E4621/MAX($E$9:E4621)-1)))","v":""}]
[null,null,null,null,null,{"$f":"IF(B4622=\"\",\"\",IF(C4622=\"\",F4621,IF(E4622=\"\",F4621,E4622/MAX($E$9:E4622)-1)))","v":""}]
[null,null,null,null,null,{"$f":"IF(B4623=\"\",\"\",IF(C4623=\"\",F4622,IF(E4623=\"\",F4622,E4623/MAX($E$9:E4623)-1)))","v":""}]
[null,null,null,null,null,{"$f":"IF(B4624=\"\",\"\",IF(C4624=\"\",F4623,IF(E4624=\"\",F4623,E4624/MAX($E$9:E4624)-1)))","v":""}]
[null,null,null,null,null,{"$f":"IF(B4625=\"\",\"\",IF(C4625=\"\",F4624,IF(E4625=\"\",F4624,E4625/MAX($E$9:E4625)-1)))","v":""}]
[null,null,null,null,null,{"$f":"IF(B4626=\"\",\"\",IF(C4626=\"\",F4625,IF(E4626=\"\",F4625,E4626/MAX($E$9:E4626)-1)))","v":""}]
[null,null,null,null,null,{"$f":"IF(B4627=\"\",\"\",IF(C4627=\"\",F4626,IF(E4627=\"\",F4626,E4627/MAX($E$9:E4627)-1)))","v":""}]
[null,null,null,null,null,{"$f":"IF(B4628=\"\",\"\",IF(C4628=\"\",F4627,IF(E4628=\"\",F4627,E4628/MAX($E$9:E4628)-1)))","v":""}]
[null,null,null,null,null,{"$f":"IF(B4629=\"\",\"\",IF(C4629=\"\",F4628,IF(E4629=\"\",F4628,E4629/MAX($E$9:E4629)-1)))","v":""}]
[null,null,null,null,null,{"$f":"IF(B4630=\"\",\"\",IF(C4630=\"\",F4629,IF(E4630=\"\",F4629,E4630/MAX($E$9:E4630)-1)))","v":""}]
[null,null,null,null,null,{"$f":"IF(B4631=\"\",\"\",IF(C4631=\"\",F4630,IF(E4631=\"\",F4630,E4631/MAX($E$9:E4631)-1)))","v":""}]
[null,null,null,null,null,{"$f":"IF(B4632=\"\",\"\",IF(C4632=\"\",F4631,IF(E4632=\"\",F4631,E4632/MAX($E$9:E4632)-1)))","v":""}]
[null,null,null,null,null,{"$f":"IF(B4633=\"\",\"\",IF(C4633=\"\",F4632,IF(E4633=\"\",F4632,E4633/MAX($E$9:E4633)-1)))","v":""}]
[null,null,null,null,null,{"$f":"IF(B4634=\"\",\"\",IF(C4634=\"\",F4633,IF(E4634=\"\",F4633,E4634/MAX($E$9:E4634)-1)))","v":""}]
[null,null,null,null,null,{"$f":"IF(B4635=\"\",\"\",IF(C4635=\"\",F4634,IF(E4635=\"\",F4634,E4635/MAX($E$9:E4635)-1)))","v":""}]
[null,null,null,null,null,{"$f":"IF(B4636=\"\",\"\",IF(C4636=\"\",F4635,IF(E4636=\"\",F4635,E4636/MAX($E$9:E4636)-1)))","v":""}]
[null,null,null,null,null,{"$f":"IF(B4637=\"\",\"\",IF(C4637=\"\",F4636,IF(E4637=\"\",F4636,E4637/MAX($E$9:E4637)-1)))","v":""}]
[null,null,null,null,null,{"$f":"IF(B4638=\"\",\"\",IF(C4638=\"\",F4637,IF(E4638=\"\",F4637,E4638/MAX($E$9:E4638)-1)))","v":""}]
[null,null,null,null,null,{"$f":"IF(B4639=\"\",\"\",IF(C4639=\"\",F4638,IF(E4639=\"\",F4638,E4639/MAX($E$9:E4639)-1)))","v":""}]
[null,null,null,null,null,{"$f":"IF(B4640=\"\",\"\",IF(C4640=\"\",F4639,IF(E4640=\"\",F4639,E4640/MAX($E$9:E4640)-1)))","v":""}]
[null,null,null,null,null,{"$f":"IF(B4641=\"\",\"\",IF(C4641=\"\",F4640,IF(E4641=\"\",F4640,E4641/MAX($E$9:E4641)-1)))","v":""}]
[null,null,null,null,null,{"$f":"IF(B4642=\"\",\"\",IF(C4642=\"\",F4641,IF(E4642=\"\",F4641,E4642/MAX($E$9:E4642)-1)))","v":""}]
[null,null,null,null,null,{"$f":"IF(B4643=\"\",\"\",IF(C4643=\"\",F4642,IF(E4643=\"\",F4642,E4643/MAX($E$9:E4643)-1)))","v":""}]
[null,null,null,null,null,{"$f":"IF(B4644=\"\",\"\",IF(C4644=\"\",F4643,IF(E4644=\"\",F4643,E4644/MAX($E$9:E4644)-1)))","v":""}]
[null,null,null,null,null,{"$f":"IF(B4645=\"\",\"\",IF(C4645=\"\",F4644,IF(E4645=\"\",F4644,E4645/MAX($E$9:E4645)-1)))","v":""}]
[null,null,null,null,null,{"$f":"IF(B4646=\"\",\"\",IF(C4646=\"\",F4645,IF(E4646=\"\",F4645,E4646/MAX($E$9:E4646)-1)))","v":""}]
[null,null,null,null,null,{"$f":"IF(B4647=\"\",\"\",IF(C4647=\"\",F4646,IF(E4647=\"\",F4646,E4647/MAX($E$9:E4647)-1)))","v":""}]
[null,null,null,null,null,{"$f":"IF(B4648=\"\",\"\",IF(C4648=\"\",F4647,IF(E4648=\"\",F4647,E4648/MAX($E$9:E4648)-1)))","v":""}]
[null,null,null,null,null,{"$f":"IF(B4649=\"\",\"\",IF(C4649=\"\",F4648,IF(E4649=\"\",F4648,E4649/MAX($E$9:E4649)-1)))","v":""}]
[null,null,null,null,null,{"$f":"IF(B4650=\"\",\"\",IF(C4650=\"\",F4649,IF(E4650=\"\",F4649,E4650/MAX($E$9:E4650)-1)))","v":""}]
[null,null,null,null,null,{"$f":"IF(B4651=\"\",\"\",IF(C4651=\"\",F4650,IF(E4651=\"\",F4650,E4651/MAX($E$9:E4651)-1)))","v":""}]
[null,null,null,null,null,{"$f":"IF(B4652=\"\",\"\",IF(C4652=\"\",F4651,IF(E4652=\"\",F4651,E4652/MAX($E$9:E4652)-1)))","v":""}]
[null,null,null,null,null,{"$f":"IF(B4653=\"\",\"\",IF(C4653=\"\",F4652,IF(E4653=\"\",F4652,E4653/MAX($E$9:E4653)-1)))","v":""}]
[null,null,null,null,null,{"$f":"IF(B4654=\"\",\"\",IF(C4654=\"\",F4653,IF(E4654=\"\",F4653,E4654/MAX($E$9:E4654)-1)))","v":""}]
[null,null,null,null,null,{"$f":"IF(B4655=\"\",\"\",IF(C4655=\"\",F4654,IF(E4655=\"\",F4654,E4655/MAX($E$9:E4655)-1)))","v":""}]
[null,null,null,null,null,{"$f":"IF(B4656=\"\",\"\",IF(C4656=\"\",F4655,IF(E4656=\"\",F4655,E4656/MAX($E$9:E4656)-1)))","v":""}]
[null,null,null,null,null,{"$f":"IF(B4657=\"\",\"\",IF(C4657=\"\",F4656,IF(E4657=\"\",F4656,E4657/MAX($E$9:E4657)-1)))","v":""}]
[null,null,null,null,null,{"$f":"IF(B4658=\"\",\"\",IF(C4658=\"\",F4657,IF(E4658=\"\",F4657,E4658/MAX($E$9:E4658)-1)))","v":""}]
[null,null,null,null,null,{"$f":"IF(B4659=\"\",\"\",IF(C4659=\"\",F4658,IF(E4659=\"\",F4658,E4659/MAX($E$9:E4659)-1)))","v":""}]
[null,null,null,null,null,{"$f":"IF(B4660=\"\",\"\",IF(C4660=\"\",F4659,IF(E4660=\"\",F4659,E4660/MAX($E$9:E4660)-1)))","v":""}]
[null,null,null,null,null,{"$f":"IF(B4661=\"\",\"\",IF(C4661=\"\",F4660,IF(E4661=\"\",F4660,E4661/MAX($E$9:E4661)-1)))","v":""}]
[null,null,null,null,null,{"$f":"IF(B4662=\"\",\"\",IF(C4662=\"\",F4661,IF(E4662=\"\",F4661,E4662/MAX($E$9:E4662)-1)))","v":""}]
[null,null,null,null,null,{"$f":"IF(B4663=\"\",\"\",IF(C4663=\"\",F4662,IF(E4663=\"\",F4662,E4663/MAX($E$9:E4663)-1)))","v":""}]
[null,null,null,null,null,{"$f":"IF(B4664=\"\",\"\",IF(C4664=\"\",F4663,IF(E4664=\"\",F4663,E4664/MAX($E$9:E4664)-1)))","v":""}]
[null,null,null,null,null,{"$f":"IF(B4665=\"\",\"\",IF(C4665=\"\",F4664,IF(E4665=\"\",F4664,E4665/MAX($E$9:E4665)-1)))","v":""}]
[null,null,null,null,null,{"$f":"IF(B4666=\"\",\"\",IF(C4666=\"\",F4665,IF(E4666=\"\",F4665,E4666/MAX($E$9:E4666)-1)))","v":""}]
[null,null,null,null,null,{"$f":"IF(B4667=\"\",\"\",IF(C4667=\"\",F4666,IF(E4667=\"\",F4666,E4667/MAX($E$9:E4667)-1)))","v":""}]
[null,null,null,null,null,{"$f":"IF(B4668=\"\",\"\",IF(C4668=\"\",F4667,IF(E4668=\"\",F4667,E4668/MAX($E$9:E4668)-1)))","v":""}]
[null,null,null,null,null,{"$f":"IF(B4669=\"\",\"\",IF(C4669=\"\",F4668,IF(E4669=\"\",F4668,E4669/MAX($E$9:E4669)-1)))","v":""}]
[null,null,null,null,null,{"$f":"IF(B4670=\"\",\"\",IF(C4670=\"\",F4669,IF(E4670=\"\",F4669,E4670/MAX($E$9:E4670)-1)))","v":""}]
[null,null,null,null,null,{"$f":"IF(B4671=\"\",\"\",IF(C4671=\"\",F4670,IF(E4671=\"\",F4670,E4671/MAX($E$9:E4671)-1)))","v":""}]
[null,null,null,null,null,{"$f":"IF(B4672=\"\",\"\",IF(C4672=\"\",F4671,IF(E4672=\"\",F4671,E4672/MAX($E$9:E4672)-1)))","v":""}]
[null,null,null,null,null,{"$f":"IF(B4673=\"\",\"\",IF(C4673=\"\",F4672,IF(E4673=\"\",F4672,E4673/MAX($E$9:E4673)-1)))","v":""}]
[null,null,null,null,null,{"$f":"IF(B4674=\"\",\"\",IF(C4674=\"\",F4673,IF(E4674=\"\",F4673,E4674/MAX($E$9:E4674)-1)))","v":""}]
[null,null,null,null,null,{"$f":"IF(B4675=\"\",\"\",IF(C4675=\"\",F4674,IF(E4675=\"\",F4674,E4675/MAX($E$9:E4675)-1)))","v":""}]
[null,null,null,null,null,{"$f":"IF(B4676=\"\",\"\",IF(C4676=\"\",F4675,IF(E4676=\"\",F4675,E4676/MAX($E$9:E4676)-1)))","v":""}]
[null,null,null,null,null,{"$f":"IF(B4677=\"\",\"\",IF(C4677=\"\",F4676,IF(E4677=\"\",F4676,E4677/MAX($E$9:E4677)-1)))","v":""}]
[null,null,null,null,null,{"$f":"IF(B4678=\"\",\"\",IF(C4678=\"\",F4677,IF(E4678=\"\",F4677,E4678/MAX($E$9:E4678)-1)))","v":""}]
[null,null,null,null,null,{"$f":"IF(B4679=\"\",\"\",IF(C4679=\"\",F4678,IF(E4679=\"\",F4678,E4679/MAX($E$9:E4679)-1)))","v":""}]
[null,null,null,null,null,{"$f":"IF(B4680=\"\",\"\",IF(C4680=\"\",F4679,IF(E4680=\"\",F4679,E4680/MAX($E$9:E4680)-1)))","v":""}]
[null,null,null,null,null,{"$f":"IF(B4681=\"\",\"\",IF(C4681=\"\",F4680,IF(E4681=\"\",F4680,E4681/MAX($E$9:E4681)-1)))","v":""}]
[null,null,null,null,null,{"$f":"IF(B4682=\"\",\"\",IF(C4682=\"\",F4681,IF(E4682=\"\",F4681,E4682/MAX($E$9:E4682)-1)))","v":""}]
[null,null,null,null,null,{"$f":"IF(B4683=\"\",\"\",IF(C4683=\"\",F4682,IF(E4683=\"\",F4682,E4683/MAX($E$9:E4683)-1)))","v":""}]
[null,null,null,null,null,{"$f":"IF(B4684=\"\",\"\",IF(C4684=\"\",F4683,IF(E4684=\"\",F4683,E4684/MAX($E$9:E4684)-1)))","v":""}]
[null,null,null,null,null,{"$f":"IF(B4685=\"\",\"\",IF(C4685=\"\",F4684,IF(E4685=\"\",F4684,E4685/MAX($E$9:E4685)-1)))","v":""}]
[null,null,null,null,null,{"$f":"IF(B4686=\"\",\"\",IF(C4686=\"\",F4685,IF(E4686=\"\",F4685,E4686/MAX($E$9:E4686)-1)))","v":""}]
[null,null,null,null,null,{"$f":"IF(B4687=\"\",\"\",IF(C4687=\"\",F4686,IF(E4687=\"\",F4686,E4687/MAX($E$9:E4687)-1)))","v":""}]
[null,null,null,null,null,{"$f":"IF(B4688=\"\",\"\",IF(C4688=\"\",F4687,IF(E4688=\"\",F4687,E4688/MAX($E$9:E4688)-1)))","v":""}]
[null,null,null,null,null,{"$f":"IF(B4689=\"\",\"\",IF(C4689=\"\",F4688,IF(E4689=\"\",F4688,E4689/MAX($E$9:E4689)-1)))","v":""}]
[null,null,null,null,null,{"$f":"IF(B4690=\"\",\"\",IF(C4690=\"\",F4689,IF(E4690=\"\",F4689,E4690/MAX($E$9:E4690)-1)))","v":""}]
[null,null,null,null,null,{"$f":"IF(B4691=\"\",\"\",IF(C4691=\"\",F4690,IF(E4691=\"\",F4690,E4691/MAX($E$9:E4691)-1)))","v":""}]
[null,null,null,null,null,{"$f":"IF(B4692=\"\",\"\",IF(C4692=\"\",F4691,IF(E4692=\"\",F4691,E4692/MAX($E$9:E4692)-1)))","v":""}]
[null,null,null,null,null,{"$f":"IF(B4693=\"\",\"\",IF(C4693=\"\",F4692,IF(E4693=\"\",F4692,E4693/MAX($E$9:E4693)-1)))","v":""}]
[null,null,null,null,null,{"$f":"IF(B4694=\"\",\"\",IF(C4694=\"\",F4693,IF(E4694=\"\",F4693,E4694/MAX($E$9:E4694)-1)))","v":""}]
[null,null,null,null,null,{"$f":"IF(B4695=\"\",\"\",IF(C4695=\"\",F4694,IF(E4695=\"\",F4694,E4695/MAX($E$9:E4695)-1)))","v":""}]
[null,null,null,null,null,{"$f":"IF(B4696=\"\",\"\",IF(C4696=\"\",F4695,IF(E4696=\"\",F4695,E4696/MAX($E$9:E4696)-1)))","v":""}]
[null,null,null,null,null,{"$f":"IF(B4697=\"\",\"\",IF(C4697=\"\",F4696,IF(E4697=\"\",F4696,E4697/MAX($E$9:E4697)-1)))","v":""}]
[null,null,null,null,null,{"$f":"IF(B4698=\"\",\"\",IF(C4698=\"\",F4697,IF(E4698=\"\",F4697,E4698/MAX($E$9:E4698)-1)))","v":""}]
[null,null,null,null,null,{"$f":"IF(B4699=\"\",\"\",IF(C4699=\"\",F4698,IF(E4699=\"\",F4698,E4699/MAX($E$9:E4699)-1)))","v":""}]
[null,null,null,null,null,{"$f":"IF(B4700=\"\",\"\",IF(C4700=\"\",F4699,IF(E4700=\"\",F4699,E4700/MAX($E$9:E4700)-1)))","v":""}]
[null,null,null,null,null,{"$f":"IF(B4701=\"\",\"\",IF(C4701=\"\",F4700,IF(E4701=\"\",F4700,E4701/MAX($E$9:E4701)-1)))","v":""}]
[null,null,null,null,null,{"$f":"IF(B4702=\"\",\"\",IF(C4702=\"\",F4701,IF(E4702=\"\",F4701,E4702/MAX($E$9:E4702)-1)))","v":""}]
[null,null,null,null,null,{"$f":"IF(B4703=\"\",\"\",IF(C4703=\"\",F4702,IF(E4703=\"\",F4702,E4703/MAX($E$9:E4703)-1)))","v":""}]
[null,null,null,null,null,{"$f":"IF(B4704=\"\",\"\",IF(C4704=\"\",F4703,IF(E4704=\"\",F4703,E4704/MAX($E$9:E4704)-1)))","v":""}]
[null,null,null,null,null,{"$f":"IF(B4705=\"\",\"\",IF(C4705=\"\",F4704,IF(E4705=\"\",F4704,E4705/MAX($E$9:E4705)-1)))","v":""}]
[null,null,null,null,null,{"$f":"IF(B4706=\"\",\"\",IF(C4706=\"\",F4705,IF(E4706=\"\",F4705,E4706/MAX($E$9:E4706)-1)))","v":""}]
[null,null,null,null,null,{"$f":"IF(B4707=\"\",\"\",IF(C4707=\"\",F4706,IF(E4707=\"\",F4706,E4707/MAX($E$9:E4707)-1)))","v":""}]
[null,null,null,null,null,{"$f":"IF(B4708=\"\",\"\",IF(C4708=\"\",F4707,IF(E4708=\"\",F4707,E4708/MAX($E$9:E4708)-1)))","v":""}]
[null,null,null,null,null,{"$f":"IF(B4709=\"\",\"\",IF(C4709=\"\",F4708,IF(E4709=\"\",F4708,E4709/MAX($E$9:E4709)-1)))","v":""}]
[null,null,null,null,null,{"$f":"IF(B4710=\"\",\"\",IF(C4710=\"\",F4709,IF(E4710=\"\",F4709,E4710/MAX($E$9:E4710)-1)))","v":""}]
[null,null,null,null,null,{"$f":"IF(B4711=\"\",\"\",IF(C4711=\"\",F4710,IF(E4711=\"\",F4710,E4711/MAX($E$9:E4711)-1)))","v":""}]
[null,null,null,null,null,{"$f":"IF(B4712=\"\",\"\",IF(C4712=\"\",F4711,IF(E4712=\"\",F4711,E4712/MAX($E$9:E4712)-1)))","v":""}]
[null,null,null,null,null,{"$f":"IF(B4713=\"\",\"\",IF(C4713=\"\",F4712,IF(E4713=\"\",F4712,E4713/MAX($E$9:E4713)-1)))","v":""}]
[null,null,null,null,null,{"$f":"IF(B4714=\"\",\"\",IF(C4714=\"\",F4713,IF(E4714=\"\",F4713,E4714/MAX($E$9:E4714)-1)))","v":""}]
[null,null,null,null,null,{"$f":"IF(B4715=\"\",\"\",IF(C4715=\"\",F4714,IF(E4715=\"\",F4714,E4715/MAX($E$9:E4715)-1)))","v":""}]
[null,null,null,null,null,{"$f":"IF(B4716=\"\",\"\",IF(C4716=\"\",F4715,IF(E4716=\"\",F4715,E4716/MAX($E$9:E4716)-1)))","v":""}]
[null,null,null,null,null,{"$f":"IF(B4717=\"\",\"\",IF(C4717=\"\",F4716,IF(E4717=\"\",F4716,E4717/MAX($E$9:E4717)-1)))","v":""}]
[null,null,null,null,null,{"$f":"IF(B4718=\"\",\"\",IF(C4718=\"\",F4717,IF(E4718=\"\",F4717,E4718/MAX($E$9:E4718)-1)))","v":""}]
[null,null,null,null,null,{"$f":"IF(B4719=\"\",\"\",IF(C4719=\"\",F4718,IF(E4719=\"\",F4718,E4719/MAX($E$9:E4719)-1)))","v":""}]
[null,null,null,null,null,{"$f":"IF(B4720=\"\",\"\",IF(C4720=\"\",F4719,IF(E4720=\"\",F4719,E4720/MAX($E$9:E4720)-1)))","v":""}]
[null,null,null,null,null,{"$f":"IF(B4721=\"\",\"\",IF(C4721=\"\",F4720,IF(E4721=\"\",F4720,E4721/MAX($E$9:E4721)-1)))","v":""}]
[null,null,null,null,null,{"$f":"IF(B4722=\"\",\"\",IF(C4722=\"\",F4721,IF(E4722=\"\",F4721,E4722/MAX($E$9:E4722)-1)))","v":""}]
[null,null,null,null,null,{"$f":"IF(B4723=\"\",\"\",IF(C4723=\"\",F4722,IF(E4723=\"\",F4722,E4723/MAX($E$9:E4723)-1)))","v":""}]
[null,null,null,null,null,{"$f":"IF(B4724=\"\",\"\",IF(C4724=\"\",F4723,IF(E4724=\"\",F4723,E4724/MAX($E$9:E4724)-1)))","v":""}]
[null,null,null,null,null,{"$f":"IF(B4725=\"\",\"\",IF(C4725=\"\",F4724,IF(E4725=\"\",F4724,E4725/MAX($E$9:E4725)-1)))","v":""}]
[null,null,null,null,null,{"$f":"IF(B4726=\"\",\"\",IF(C4726=\"\",F4725,IF(E4726=\"\",F4725,E4726/MAX($E$9:E4726)-1)))","v":""}]
[null,null,null,null,null,{"$f":"IF(B4727=\"\",\"\",IF(C4727=\"\",F4726,IF(E4727=\"\",F4726,E4727/MAX($E$9:E4727)-1)))","v":""}]
[null,null,null,null,null,{"$f":"IF(B4728=\"\",\"\",IF(C4728=\"\",F4727,IF(E4728=\"\",F4727,E4728/MAX($E$9:E4728)-1)))","v":""}]
[null,null,null,null,null,{"$f":"IF(B4729=\"\",\"\",IF(C4729=\"\",F4728,IF(E4729=\"\",F4728,E4729/MAX($E$9:E4729)-1)))","v":""}]
[null,null,null,null,null,{"$f":"IF(B4730=\"\",\"\",IF(C4730=\"\",F4729,IF(E4730=\"\",F4729,E4730/MAX($E$9:E4730)-1)))","v":""}]
[null,null,null,null,null,{"$f":"IF(B4731=\"\",\"\",IF(C4731=\"\",F4730,IF(E4731=\"\",F4730,E4731/MAX($E$9:E4731)-1)))","v":""}]
[null,null,null,null,null,{"$f":"IF(B4732=\"\",\"\",IF(C4732=\"\",F4731,IF(E4732=\"\",F4731,E4732/MAX($E$9:E4732)-1)))","v":""}]
[null,null,null,null,null,{"$f":"IF(B4733=\"\",\"\",IF(C4733=\"\",F4732,IF(E4733=\"\",F4732,E4733/MAX($E$9:E4733)-1)))","v":""}]
[null,null,null,null,null,{"$f":"IF(B4734=\"\",\"\",IF(C4734=\"\",F4733,IF(E4734=\"\",F4733,E4734/MAX($E$9:E4734)-1)))","v":""}]
[null,null,null,null,null,{"$f":"IF(B4735=\"\",\"\",IF(C4735=\"\",F4734,IF(E4735=\"\",F4734,E4735/MAX($E$9:E4735)-1)))","v":""}]
[null,null,null,null,null,{"$f":"IF(B4736=\"\",\"\",IF(C4736=\"\",F4735,IF(E4736=\"\",F4735,E4736/MAX($E$9:E4736)-1)))","v":""}]
[null,null,null,null,null,{"$f":"IF(B4737=\"\",\"\",IF(C4737=\"\",F4736,IF(E4737=\"\",F4736,E4737/MAX($E$9:E4737)-1)))","v":""}]
[null,null,null,null,null,{"$f":"IF(B4738=\"\",\"\",IF(C4738=\"\",F4737,IF(E4738=\"\",F4737,E4738/MAX($E$9:E4738)-1)))","v":""}]
[null,null,null,null,null,{"$f":"IF(B4739=\"\",\"\",IF(C4739=\"\",F4738,IF(E4739=\"\",F4738,E4739/MAX($E$9:E4739)-1)))","v":""}]
[null,null,null,null,null,{"$f":"IF(B4740=\"\",\"\",IF(C4740=\"\",F4739,IF(E4740=\"\",F4739,E4740/MAX($E$9:E4740)-1)))","v":""}]
[null,null,null,null,null,{"$f":"IF(B4741=\"\",\"\",IF(C4741=\"\",F4740,IF(E4741=\"\",F4740,E4741/MAX($E$9:E4741)-1)))","v":""}]
[null,null,null,null,null,{"$f":"IF(B4742=\"\",\"\",IF(C4742=\"\",F4741,IF(E4742=\"\",F4741,E4742/MAX($E$9:E4742)-1)))","v":""}]
[null,null,null,null,null,{"$f":"IF(B4743=\"\",\"\",IF(C4743=\"\",F4742,IF(E4743=\"\",F4742,E4743/MAX($E$9:E4743)-1)))","v":""}]
[null,null,null,null,null,{"$f":"IF(B4744=\"\",\"\",IF(C4744=\"\",F4743,IF(E4744=\"\",F4743,E4744/MAX($E$9:E4744)-1)))","v":""}]
[null,null,null,null,null,{"$f":"IF(B4745=\"\",\"\",IF(C4745=\"\",F4744,IF(E4745=\"\",F4744,E4745/MAX($E$9:E4745)-1)))","v":""}]
[null,null,null,null,null,{"$f":"IF(B4746=\"\",\"\",IF(C4746=\"\",F4745,IF(E4746=\"\",F4745,E4746/MAX($E$9:E4746)-1)))","v":""}]
[null,null,null,null,null,{"$f":"IF(B4747=\"\",\"\",IF(C4747=\"\",F4746,IF(E4747=\"\",F4746,E4747/MAX($E$9:E4747)-1)))","v":""}]
[null,null,null,null,null,{"$f":"IF(B4748=\"\",\"\",IF(C4748=\"\",F4747,IF(E4748=\"\",F4747,E4748/MAX($E$9:E4748)-1)))","v":""}]
[null,null,null,null,null,{"$f":"IF(B4749=\"\",\"\",IF(C4749=\"\",F4748,IF(E4749=\"\",F4748,E4749/MAX($E$9:E4749)-1)))","v":""}]
[null,null,null,null,null,{"$f":"IF(B4750=\"\",\"\",IF(C4750=\"\",F4749,IF(E4750=\"\",F4749,E4750/MAX($E$9:E4750)-1)))","v":""}]
[null,null,null,null,null,{"$f":"IF(B4751=\"\",\"\",IF(C4751=\"\",F4750,IF(E4751=\"\",F4750,E4751/MAX($E$9:E4751)-1)))","v":""}]
[null,null,null,null,null,{"$f":"IF(B4752=\"\",\"\",IF(C4752=\"\",F4751,IF(E4752=\"\",F4751,E4752/MAX($E$9:E4752)-1)))","v":""}]
[null,null,null,null,null,{"$f":"IF(B4753=\"\",\"\",IF(C4753=\"\",F4752,IF(E4753=\"\",F4752,E4753/MAX($E$9:E4753)-1)))","v":""}]
[null,null,null,null,null,{"$f":"IF(B4754=\"\",\"\",IF(C4754=\"\",F4753,IF(E4754=\"\",F4753,E4754/MAX($E$9:E4754)-1)))","v":""}]
[null,null,null,null,null,{"$f":"IF(B4755=\"\",\"\",IF(C4755=\"\",F4754,IF(E4755=\"\",F4754,E4755/MAX($E$9:E4755)-1)))","v":""}]
[null,null,null,null,null,{"$f":"IF(B4756=\"\",\"\",IF(C4756=\"\",F4755,IF(E4756=\"\",F4755,E4756/MAX($E$9:E4756)-1)))","v":""}]
[null,null,null,null,null,{"$f":"IF(B4757=\"\",\"\",IF(C4757=\"\",F4756,IF(E4757=\"\",F4756,E4757/MAX($E$9:E4757)-1)))","v":""}]
[null,null,null,null,null,{"$f":"IF(B4758=\"\",\"\",IF(C4758=\"\",F4757,IF(E4758=\"\",F4757,E4758/MAX($E$9:E4758)-1)))","v":""}]
[null,null,null,null,null,{"$f":"IF(B4759=\"\",\"\",IF(C4759=\"\",F4758,IF(E4759=\"\",F4758,E4759/MAX($E$9:E4759)-1)))","v":""}]
[null,null,null,null,null,{"$f":"IF(B4760=\"\",\"\",IF(C4760=\"\",F4759,IF(E4760=\"\",F4759,E4760/MAX($E$9:E4760)-1)))","v":""}]
[null,null,null,null,null,{"$f":"IF(B4761=\"\",\"\",IF(C4761=\"\",F4760,IF(E4761=\"\",F4760,E4761/MAX($E$9:E4761)-1)))","v":""}]
[null,null,null,null,null,{"$f":"IF(B4762=\"\",\"\",IF(C4762=\"\",F4761,IF(E4762=\"\",F4761,E4762/MAX($E$9:E4762)-1)))","v":""}]
[null,null,null,null,null,{"$f":"IF(B4763=\"\",\"\",IF(C4763=\"\",F4762,IF(E4763=\"\",F4762,E4763/MAX($E$9:E4763)-1)))","v":""}]
[null,null,null,null,null,{"$f":"IF(B4764=\"\",\"\",IF(C4764=\"\",F4763,IF(E4764=\"\",F4763,E4764/MAX($E$9:E4764)-1)))","v":""}]
[null,null,null,null,null,{"$f":"IF(B4765=\"\",\"\",IF(C4765=\"\",F4764,IF(E4765=\"\",F4764,E4765/MAX($E$9:E4765)-1)))","v":""}]
[null,null,null,null,null,{"$f":"IF(B4766=\"\",\"\",IF(C4766=\"\",F4765,IF(E4766=\"\",F4765,E4766/MAX($E$9:E4766)-1)))","v":""}]
[null,null,null,null,null,{"$f":"IF(B4767=\"\",\"\",IF(C4767=\"\",F4766,IF(E4767=\"\",F4766,E4767/MAX($E$9:E4767)-1)))","v":""}]
[null,null,null,null,null,{"$f":"IF(B4768=\"\",\"\",IF(C4768=\"\",F4767,IF(E4768=\"\",F4767,E4768/MAX($E$9:E4768)-1)))","v":""}]
[null,null,null,null,null,{"$f":"IF(B4769=\"\",\"\",IF(C4769=\"\",F4768,IF(E4769=\"\",F4768,E4769/MAX($E$9:E4769)-1)))","v":""}]
[null,null,null,null,null,{"$f":"IF(B4770=\"\",\"\",IF(C4770=\"\",F4769,IF(E4770=\"\",F4769,E4770/MAX($E$9:E4770)-1)))","v":""}]
[null,null,null,null,null,{"$f":"IF(B4771=\"\",\"\",IF(C4771=\"\",F4770,IF(E4771=\"\",F4770,E4771/MAX($E$9:E4771)-1)))","v":""}]
[null,null,null,null,null,{"$f":"IF(B4772=\"\",\"\",IF(C4772=\"\",F4771,IF(E4772=\"\",F4771,E4772/MAX($E$9:E4772)-1)))","v":""}]
[null,null,null,null,null,{"$f":"IF(B4773=\"\",\"\",IF(C4773=\"\",F4772,IF(E4773=\"\",F4772,E4773/MAX($E$9:E4773)-1)))","v":""}]
[null,null,null,null,null,{"$f":"IF(B4774=\"\",\"\",IF(C4774=\"\",F4773,IF(E4774=\"\",F4773,E4774/MAX($E$9:E4774)-1)))","v":""}]
[null,null,null,null,null,{"$f":"IF(B4775=\"\",\"\",IF(C4775=\"\",F4774,IF(E4775=\"\",F4774,E4775/MAX($E$9:E4775)-1)))","v":""}]
[null,null,null,null,null,{"$f":"IF(B4776=\"\",\"\",IF(C4776=\"\",F4775,IF(E4776=\"\",F4775,E4776/MAX($E$9:E4776)-1)))","v":""}]
[null,null,null,null,null,{"$f":"IF(B4777=\"\",\"\",IF(C4777=\"\",F4776,IF(E4777=\"\",F4776,E4777/MAX($E$9:E4777)-1)))","v":""}]
[null,null,null,null,null,{"$f":"IF(B4778=\"\",\"\",IF(C4778=\"\",F4777,IF(E4778=\"\",F4777,E4778/MAX($E$9:E4778)-1)))","v":""}]
[null,null,null,null,null,{"$f":"IF(B4779=\"\",\"\",IF(C4779=\"\",F4778,IF(E4779=\"\",F4778,E4779/MAX($E$9:E4779)-1)))","v":""}]
[null,null,null,null,null,{"$f":"IF(B4780=\"\",\"\",IF(C4780=\"\",F4779,IF(E4780=\"\",F4779,E4780/MAX($E$9:E4780)-1)))","v":""}]
[null,null,null,null,null,{"$f":"IF(B4781=\"\",\"\",IF(C4781=\"\",F4780,IF(E4781=\"\",F4780,E4781/MAX($E$9:E4781)-1)))","v":""}]
[null,null,null,null,null,{"$f":"IF(B4782=\"\",\"\",IF(C4782=\"\",F4781,IF(E4782=\"\",F4781,E4782/MAX($E$9:E4782)-1)))","v":""}]
[null,null,null,null,null,{"$f":"IF(B4783=\"\",\"\",IF(C4783=\"\",F4782,IF(E4783=\"\",F4782,E4783/MAX($E$9:E4783)-1)))","v":""}]
[null,null,null,null,null,{"$f":"IF(B4784=\"\",\"\",IF(C4784=\"\",F4783,IF(E4784=\"\",F4783,E4784/MAX($E$9:E4784)-1)))","v":""}]
[null,null,null,null,null,{"$f":"IF(B4785=\"\",\"\",IF(C4785=\"\",F4784,IF(E4785=\"\",F4784,E4785/MAX($E$9:E4785)-1)))","v":""}]
[null,null,null,null,null,{"$f":"IF(B4786=\"\",\"\",IF(C4786=\"\",F4785,IF(E4786=\"\",F4785,E4786/MAX($E$9:E4786)-1)))","v":""}]
[null,null,null,null,null,{"$f":"IF(B4787=\"\",\"\",IF(C4787=\"\",F4786,IF(E4787=\"\",F4786,E4787/MAX($E$9:E4787)-1)))","v":""}]
[null,null,null,null,null,{"$f":"IF(B4788=\"\",\"\",IF(C4788=\"\",F4787,IF(E4788=\"\",F4787,E4788/MAX($E$9:E4788)-1)))","v":""}]
[null,null,null,null,null,{"$f":"IF(B4789=\"\",\"\",IF(C4789=\"\",F4788,IF(E4789=\"\",F4788,E4789/MAX($E$9:E4789)-1)))","v":""}]
[null,null,null,null,null,{"$f":"IF(B4790=\"\",\"\",IF(C4790=\"\",F4789,IF(E4790=\"\",F4789,E4790/MAX($E$9:E4790)-1)))","v":""}]
[null,null,null,null,null,{"$f":"IF(B4791=\"\",\"\",IF(C4791=\"\",F4790,IF(E4791=\"\",F4790,E4791/MAX($E$9:E4791)-1)))","v":""}]
[null,null,null,null,null,{"$f":"IF(B4792=\"\",\"\",IF(C4792=\"\",F4791,IF(E4792=\"\",F4791,E4792/MAX($E$9:E4792)-1)))","v":""}]
[null,null,null,null,null,{"$f":"IF(B4793=\"\",\"\",IF(C4793=\"\",F4792,IF(E4793=\"\",F4792,E4793/MAX($E$9:E4793)-1)))","v":""}]
[null,null,null,null,null,{"$f":"IF(B4794=\"\",\"\",IF(C4794=\"\",F4793,IF(E4794=\"\",F4793,E4794/MAX($E$9:E4794)-1)))","v":""}]
[null,null,null,null,null,{"$f":"IF(B4795=\"\",\"\",IF(C4795=\"\",F4794,IF(E4795=\"\",F4794,E4795/MAX($E$9:E4795)-1)))","v":""}]
[null,null,null,null,null,{"$f":"IF(B4796=\"\",\"\",IF(C4796=\"\",F4795,IF(E4796=\"\",F4795,E4796/MAX($E$9:E4796)-1)))","v":""}]
[null,null,null,null,null,{"$f":"IF(B4797=\"\",\"\",IF(C4797=\"\",F4796,IF(E4797=\"\",F4796,E4797/MAX($E$9:E4797)-1)))","v":""}]
[null,null,null,null,null,{"$f":"IF(B4798=\"\",\"\",IF(C4798=\"\",F4797,IF(E4798=\"\",F4797,E4798/MAX($E$9:E4798)-1)))","v":""}]
[null,null,null,null,null,{"$f":"IF(B4799=\"\",\"\",IF(C4799=\"\",F4798,IF(E4799=\"\",F4798,E4799/MAX($E$9:E4799)-1)))","v":""}]
[null,null,null,null,null,{"$f":"IF(B4800=\"\",\"\",IF(C4800=\"\",F4799,IF(E4800=\"\",F4799,E4800/MAX($E$9:E4800)-1)))","v":""}]
[null,null,null,null,null,{"$f":"IF(B4801=\"\",\"\",IF(C4801=\"\",F4800,IF(E4801=\"\",F4800,E4801/MAX($E$9:E4801)-1)))","v":""}]
[null,null,null,null,null,{"$f":"IF(B4802=\"\",\"\",IF(C4802=\"\",F4801,IF(E4802=\"\",F4801,E4802/MAX($E$9:E4802)-1)))","v":""}]
[null,null,null,null,null,{"$f":"IF(B4803=\"\",\"\",IF(C4803=\"\",F4802,IF(E4803=\"\",F4802,E4803/MAX($E$9:E4803)-1)))","v":""}]
[null,null,null,null,null,{"$f":"IF(B4804=\"\",\"\",IF(C4804=\"\",F4803,IF(E4804=\"\",F4803,E4804/MAX($E$9:E4804)-1)))","v":""}]
[null,null,null,null,null,{"$f":"IF(B4805=\"\",\"\",IF(C4805=\"\",F4804,IF(E4805=\"\",F4804,E4805/MAX($E$9:E4805)-1)))","v":""}]
[null,null,null,null,null,{"$f":"IF(B4806=\"\",\"\",IF(C4806=\"\",F4805,IF(E4806=\"\",F4805,E4806/MAX($E$9:E4806)-1)))","v":""}]
[null,null,null,null,null,{"$f":"IF(B4807=\"\",\"\",IF(C4807=\"\",F4806,IF(E4807=\"\",F4806,E4807/MAX($E$9:E4807)-1)))","v":""}]
[null,null,null,null,null,{"$f":"IF(B4808=\"\",\"\",IF(C4808=\"\",F4807,IF(E4808=\"\",F4807,E4808/MAX($E$9:E4808)-1)))","v":""}]
[null,null,null,null,null,{"$f":"IF(B4809=\"\",\"\",IF(C4809=\"\",F4808,IF(E4809=\"\",F4808,E4809/MAX($E$9:E4809)-1)))","v":""}]
[null,null,null,null,null,{"$f":"IF(B4810=\"\",\"\",IF(C4810=\"\",F4809,IF(E4810=\"\",F4809,E4810/MAX($E$9:E4810)-1)))","v":""}]
[null,null,null,null,null,{"$f":"IF(B4811=\"\",\"\",IF(C4811=\"\",F4810,IF(E4811=\"\",F4810,E4811/MAX($E$9:E4811)-1)))","v":""}]
[null,null,null,null,null,{"$f":"IF(B4812=\"\",\"\",IF(C4812=\"\",F4811,IF(E4812=\"\",F4811,E4812/MAX($E$9:E4812)-1)))","v":""}]
[null,null,null,null,null,{"$f":"IF(B4813=\"\",\"\",IF(C4813=\"\",F4812,IF(E4813=\"\",F4812,E4813/MAX($E$9:E4813)-1)))","v":""}]
[null,null,null,null,null,{"$f":"IF(B4814=\"\",\"\",IF(C4814=\"\",F4813,IF(E4814=\"\",F4813,E4814/MAX($E$9:E4814)-1)))","v":""}]
[null,null,null,null,null,{"$f":"IF(B4815=\"\",\"\",IF(C4815=\"\",F4814,IF(E4815=\"\",F4814,E4815/MAX($E$9:E4815)-1)))","v":""}]
[null,null,null,null,null,{"$f":"IF(B4816=\"\",\"\",IF(C4816=\"\",F4815,IF(E4816=\"\",F4815,E4816/MAX($E$9:E4816)-1)))","v":""}]
[null,null,null,null,null,{"$f":"IF(B4817=\"\",\"\",IF(C4817=\"\",F4816,IF(E4817=\"\",F4816,E4817/MAX($E$9:E4817)-1)))","v":""}]
[null,null,null,null,null,{"$f":"IF(B4818=\"\",\"\",IF(C4818=\"\",F4817,IF(E4818=\"\",F4817,E4818/MAX($E$9:E4818)-1)))","v":""}]
[null,null,null,null,null,{"$f":"IF(B4819=\"\",\"\",IF(C4819=\"\",F4818,IF(E4819=\"\",F4818,E4819/MAX($E$9:E4819)-1)))","v":""}]
[null,null,null,null,null,{"$f":"IF(B4820=\"\",\"\",IF(C4820=\"\",F4819,IF(E4820=\"\",F4819,E4820/MAX($E$9:E4820)-1)))","v":""}]
[null,null,null,null,null,{"$f":"IF(B4821=\"\",\"\",IF(C4821=\"\",F4820,IF(E4821=\"\",F4820,E4821/MAX($E$9:E4821)-1)))","v":""}]
[null,null,null,null,null,{"$f":"IF(B4822=\"\",\"\",IF(C4822=\"\",F4821,IF(E4822=\"\",F4821,E4822/MAX($E$9:E4822)-1)))","v":""}]
[null,null,null,null,null,{"$f":"IF(B4823=\"\",\"\",IF(C4823=\"\",F4822,IF(E4823=\"\",F4822,E4823/MAX($E$9:E4823)-1)))","v":""}]
[null,null,null,null,null,{"$f":"IF(B4824=\"\",\"\",IF(C4824=\"\",F4823,IF(E4824=\"\",F4823,E4824/MAX($E$9:E4824)-1)))","v":""}]
[null,null,null,null,null,{"$f":"IF(B4825=\"\",\"\",IF(C4825=\"\",F4824,IF(E4825=\"\",F4824,E4825/MAX($E$9:E4825)-1)))","v":""}]
[null,null,null,null,null,{"$f":"IF(B4826=\"\",\"\",IF(C4826=\"\",F4825,IF(E4826=\"\",F4825,E4826/MAX($E$9:E4826)-1)))","v":""}]
[null,null,null,null,null,{"$f":"IF(B4827=\"\",\"\",IF(C4827=\"\",F4826,IF(E4827=\"\",F4826,E4827/MAX($E$9:E4827)-1)))","v":""}]
[null,null,null,null,null,{"$f":"IF(B4828=\"\",\"\",IF(C4828=\"\",F4827,IF(E4828=\"\",F4827,E4828/MAX($E$9:E4828)-1)))","v":""}]
[null,null,null,null,null,{"$f":"IF(B4829=\"\",\"\",IF(C4829=\"\",F4828,IF(E4829=\"\",F4828,E4829/MAX($E$9:E4829)-1)))","v":""}]
[null,null,null,null,null,{"$f":"IF(B4830=\"\",\"\",IF(C4830=\"\",F4829,IF(E4830=\"\",F4829,E4830/MAX($E$9:E4830)-1)))","v":""}]
[null,null,null,null,null,{"$f":"IF(B4831=\"\",\"\",IF(C4831=\"\",F4830,IF(E4831=\"\",F4830,E4831/MAX($E$9:E4831)-1)))","v":""}]
[null,null,null,null,null,{"$f":"IF(B4832=\"\",\"\",IF(C4832=\"\",F4831,IF(E4832=\"\",F4831,E4832/MAX($E$9:E4832)-1)))","v":""}]
[null,null,null,null,null,{"$f":"IF(B4833=\"\",\"\",IF(C4833=\"\",F4832,IF(E4833=\"\",F4832,E4833/MAX($E$9:E4833)-1)))","v":""}]
[null,null,null,null,null,{"$f":"IF(B4834=\"\",\"\",IF(C4834=\"\",F4833,IF(E4834=\"\",F4833,E4834/MAX($E$9:E4834)-1)))","v":""}]
[null,null,null,null,null,{"$f":"IF(B4835=\"\",\"\",IF(C4835=\"\",F4834,IF(E4835=\"\",F4834,E4835/MAX($E$9:E4835)-1)))","v":""}]
[null,null,null,null,null,{"$f":"IF(B4836=\"\",\"\",IF(C4836=\"\",F4835,IF(E4836=\"\",F4835,E4836/MAX($E$9:E4836)-1)))","v":""}]
[null,null,null,null,null,{"$f":"IF(B4837=\"\",\"\",IF(C4837=\"\",F4836,IF(E4837=\"\",F4836,E4837/MAX($E$9:E4837)-1)))","v":""}]
[null,null,null,null,null,{"$f":"IF(B4838=\"\",\"\",IF(C4838=\"\",F4837,IF(E4838=\"\",F4837,E4838/MAX($E$9:E4838)-1)))","v":""}]
[null,null,null,null,null,{"$f":"IF(B4839=\"\",\"\",IF(C4839=\"\",F4838,IF(E4839=\"\",F4838,E4839/MAX($E$9:E4839)-1)))","v":""}]
[null,null,null,null,null,{"$f":"IF(B4840=\"\",\"\",IF(C4840=\"\",F4839,IF(E4840=\"\",F4839,E4840/MAX($E$9:E4840)-1)))","v":""}]
[null,null,null,null,null,{"$f":"IF(B4841=\"\",\"\",IF(C4841=\"\",F4840,IF(E4841=\"\",F4840,E4841/MAX($E$9:E4841)-1)))","v":""}]
[null,null,null,null,null,{"$f":"IF(B4842=\"\",\"\",IF(C4842=\"\",F4841,IF(E4842=\"\",F4841,E4842/MAX($E$9:E4842)-1)))","v":""}]
[null,null,null,null,null,{"$f":"IF(B4843=\"\",\"\",IF(C4843=\"\",F4842,IF(E4843=\"\",F4842,E4843/MAX($E$9:E4843)-1)))","v":""}]
[null,null,null,null,null,{"$f":"IF(B4844=\"\",\"\",IF(C4844=\"\",F4843,IF(E4844=\"\",F4843,E4844/MAX($E$9:E4844)-1)))","v":""}]
[null,null,null,null,null,{"$f":"IF(B4845=\"\",\"\",IF(C4845=\"\",F4844,IF(E4845=\"\",F4844,E4845/MAX($E$9:E4845)-1)))","v":""}]
[null,null,null,null,null,{"$f":"IF(B4846=\"\",\"\",IF(C4846=\"\",F4845,IF(E4846=\"\",F4845,E4846/MAX($E$9:E4846)-1)))","v":""}]
[null,null,null,null,null,{"$f":"IF(B4847=\"\",\"\",IF(C4847=\"\",F4846,IF(E4847=\"\",F4846,E4847/MAX($E$9:E4847)-1)))","v":""}]
[null,null,null,null,null,{"$f":"IF(B4848=\"\",\"\",IF(C4848=\"\",F4847,IF(E4848=\"\",F4847,E4848/MAX($E$9:E4848)-1)))","v":""}]
[null,null,null,null,null,{"$f":"IF(B4849=\"\",\"\",IF(C4849=\"\",F4848,IF(E4849=\"\",F4848,E4849/MAX($E$9:E4849)-1)))","v":""}]
[null,null,null,null,null,{"$f":"IF(B4850=\"\",\"\",IF(C4850=\"\",F4849,IF(E4850=\"\",F4849,E4850/MAX($E$9:E4850)-1)))","v":""}]
[null,null,null,null,null,{"$f":"IF(B4851=\"\",\"\",IF(C4851=\"\",F4850,IF(E4851=\"\",F4850,E4851/MAX($E$9:E4851)-1)))","v":""}]
[null,null,null,null,null,{"$f":"IF(B4852=\"\",\"\",IF(C4852=\"\",F4851,IF(E4852=\"\",F4851,E4852/MAX($E$9:E4852)-1)))","v":""}]
[null,null,null,null,null,{"$f":"IF(B4853=\"\",\"\",IF(C4853=\"\",F4852,IF(E4853=\"\",F4852,E4853/MAX($E$9:E4853)-1)))","v":""}]
[null,null,null,null,null,{"$f":"IF(B4854=\"\",\"\",IF(C4854=\"\",F4853,IF(E4854=\"\",F4853,E4854/MAX($E$9:E4854)-1)))","v":""}]
[null,null,null,null,null,{"$f":"IF(B4855=\"\",\"\",IF(C4855=\"\",F4854,IF(E4855=\"\",F4854,E4855/MAX($E$9:E4855)-1)))","v":""}]
[null,null,null,null,null,{"$f":"IF(B4856=\"\",\"\",IF(C4856=\"\",F4855,IF(E4856=\"\",F4855,E4856/MAX($E$9:E4856)-1)))","v":""}]
[null,null,null,null,null,{"$f":"IF(B4857=\"\",\"\",IF(C4857=\"\",F4856,IF(E4857=\"\",F4856,E4857/MAX($E$9:E4857)-1)))","v":""}]
[null,null,null,null,null,{"$f":"IF(B4858=\"\",\"\",IF(C4858=\"\",F4857,IF(E4858=\"\",F4857,E4858/MAX($E$9:E4858)-1)))","v":""}]
[null,null,null,null,null,{"$f":"IF(B4859=\"\",\"\",IF(C4859=\"\",F4858,IF(E4859=\"\",F4858,E4859/MAX($E$9:E4859)-1)))","v":""}]
[null,null,null,null,null,{"$f":"IF(B4860=\"\",\"\",IF(C4860=\"\",F4859,IF(E4860=\"\",F4859,E4860/MAX($E$9:E4860)-1)))","v":""}]
[null,null,null,null,null,{"$f":"IF(B4861=\"\",\"\",IF(C4861=\"\",F4860,IF(E4861=\"\",F4860,E4861/MAX($E$9:E4861)-1)))","v":""}]
[null,null,null,null,null,{"$f":"IF(B4862=\"\",\"\",IF(C4862=\"\",F4861,IF(E4862=\"\",F4861,E4862/MAX($E$9:E4862)-1)))","v":""}]
[null,null,null,null,null,{"$f":"IF(B4863=\"\",\"\",IF(C4863=\"\",F4862,IF(E4863=\"\",F4862,E4863/MAX($E$9:E4863)-1)))","v":""}]
[null,null,null,null,null,{"$f":"IF(B4864=\"\",\"\",IF(C4864=\"\",F4863,IF(E4864=\"\",F4863,E4864/MAX($E$9:E4864)-1)))","v":""}]
[null,null,null,null,null,{"$f":"IF(B4865=\"\",\"\",IF(C4865=\"\",F4864,IF(E4865=\"\",F4864,E4865/MAX($E$9:E4865)-1)))","v":""}]
[null,null,null,null,null,{"$f":"IF(B4866=\"\",\"\",IF(C4866=\"\",F4865,IF(E4866=\"\",F4865,E4866/MAX($E$9:E4866)-1)))","v":""}]
[null,null,null,null,null,{"$f":"IF(B4867=\"\",\"\",IF(C4867=\"\",F4866,IF(E4867=\"\",F4866,E4867/MAX($E$9:E4867)-1)))","v":""}]
[null,null,null,null,null,{"$f":"IF(B4868=\"\",\"\",IF(C4868=\"\",F4867,IF(E4868=\"\",F4867,E4868/MAX($E$9:E4868)-1)))","v":""}]
[null,null,null,null,null,{"$f":"IF(B4869=\"\",\"\",IF(C4869=\"\",F4868,IF(E4869=\"\",F4868,E4869/MAX($E$9:E4869)-1)))","v":""}]
[null,null,null,null,null,{"$f":"IF(B4870=\"\",\"\",IF(C4870=\"\",F4869,IF(E4870=\"\",F4869,E4870/MAX($E$9:E4870)-1)))","v":""}]
[null,null,null,null,null,{"$f":"IF(B4871=\"\",\"\",IF(C4871=\"\",F4870,IF(E4871=\"\",F4870,E4871/MAX($E$9:E4871)-1)))","v":""}]
[null,null,null,null,null,{"$f":"IF(B4872=\"\",\"\",IF(C4872=\"\",F4871,IF(E4872=\"\",F4871,E4872/MAX($E$9:E4872)-1)))","v":""}]
[null,null,null,null,null,{"$f":"IF(B4873=\"\",\"\",IF(C4873=\"\",F4872,IF(E4873=\"\",F4872,E4873/MAX($E$9:E4873)-1)))","v":""}]
[null,null,null,null,null,{"$f":"IF(B4874=\"\",\"\",IF(C4874=\"\",F4873,IF(E4874=\"\",F4873,E4874/MAX($E$9:E4874)-1)))","v":""}]
[null,null,null,null,null,{"$f":"IF(B4875=\"\",\"\",IF(C4875=\"\",F4874,IF(E4875=\"\",F4874,E4875/MAX($E$9:E4875)-1)))","v":""}]
[null,null,null,null,null,{"$f":"IF(B4876=\"\",\"\",IF(C4876=\"\",F4875,IF(E4876=\"\",F4875,E4876/MAX($E$9:E4876)-1)))","v":""}]
[null,null,null,null,null,{"$f":"IF(B4877=\"\",\"\",IF(C4877=\"\",F4876,IF(E4877=\"\",F4876,E4877/MAX($E$9:E4877)-1)))","v":""}]
[null,null,null,null,null,{"$f":"IF(B4878=\"\",\"\",IF(C4878=\"\",F4877,IF(E4878=\"\",F4877,E4878/MAX($E$9:E4878)-1)))","v":""}]
[null,null,null,null,null,{"$f":"IF(B4879=\"\",\"\",IF(C4879=\"\",F4878,IF(E4879=\"\",F4878,E4879/MAX($E$9:E4879)-1)))","v":""}]
[null,null,null,null,null,{"$f":"IF(B4880=\"\",\"\",IF(C4880=\"\",F4879,IF(E4880=\"\",F4879,E4880/MAX($E$9:E4880)-1)))","v":""}]
[null,null,null,null,null,{"$f":"IF(B4881=\"\",\"\",IF(C4881=\"\",F4880,IF(E4881=\"\",F4880,E4881/MAX($E$9:E4881)-1)))","v":""}]
[null,null,null,null,null,{"$f":"IF(B4882=\"\",\"\",IF(C4882=\"\",F4881,IF(E4882=\"\",F4881,E4882/MAX($E$9:E4882)-1)))","v":""}]
[null,null,null,null,null,{"$f":"IF(B4883=\"\",\"\",IF(C4883=\"\",F4882,IF(E4883=\"\",F4882,E4883/MAX($E$9:E4883)-1)))","v":""}]
[null,null,null,null,null,{"$f":"IF(B4884=\"\",\"\",IF(C4884=\"\",F4883,IF(E4884=\"\",F4883,E4884/MAX($E$9:E4884)-1)))","v":""}]
[null,null,null,null,null,{"$f":"IF(B4885=\"\",\"\",IF(C4885=\"\",F4884,IF(E4885=\"\",F4884,E4885/MAX($E$9:E4885)-1)))","v":""}]
[null,null,null,null,null,{"$f":"IF(B4886=\"\",\"\",IF(C4886=\"\",F4885,IF(E4886=\"\",F4885,E4886/MAX($E$9:E4886)-1)))","v":""}]
[null,null,null,null,null,{"$f":"IF(B4887=\"\",\"\",IF(C4887=\"\",F4886,IF(E4887=\"\",F4886,E4887/MAX($E$9:E4887)-1)))","v":""}]
[null,null,null,null,null,{"$f":"IF(B4888=\"\",\"\",IF(C4888=\"\",F4887,IF(E4888=\"\",F4887,E4888/MAX($E$9:E4888)-1)))","v":""}]
[null,null,null,null,null,{"$f":"IF(B4889=\"\",\"\",IF(C4889=\"\",F4888,IF(E4889=\"\",F4888,E4889/MAX($E$9:E4889)-1)))","v":""}]
[null,null,null,null,null,{"$f":"IF(B4890=\"\",\"\",IF(C4890=\"\",F4889,IF(E4890=\"\",F4889,E4890/MAX($E$9:E4890)-1)))","v":""}]
[null,null,null,null,null,{"$f":"IF(B4891=\"\",\"\",IF(C4891=\"\",F4890,IF(E4891=\"\",F4890,E4891/MAX($E$9:E4891)-1)))","v":""}]
[null,null,null,null,null,{"$f":"IF(B4892=\"\",\"\",IF(C4892=\"\",F4891,IF(E4892=\"\",F4891,E4892/MAX($E$9:E4892)-1)))","v":""}]
[null,null,null,null,null,{"$f":"IF(B4893=\"\",\"\",IF(C4893=\"\",F4892,IF(E4893=\"\",F4892,E4893/MAX($E$9:E4893)-1)))","v":""}]
[null,null,null,null,null,{"$f":"IF(B4894=\"\",\"\",IF(C4894=\"\",F4893,IF(E4894=\"\",F4893,E4894/MAX($E$9:E4894)-1)))","v":""}]
[null,null,null,null,null,{"$f":"IF(B4895=\"\",\"\",IF(C4895=\"\",F4894,IF(E4895=\"\",F4894,E4895/MAX($E$9:E4895)-1)))","v":""}]
[null,null,null,null,null,{"$f":"IF(B4896=\"\",\"\",IF(C4896=\"\",F4895,IF(E4896=\"\",F4895,E4896/MAX($E$9:E4896)-1)))","v":""}]
[null,null,null,null,null,{"$f":"IF(B4897=\"\",\"\",IF(C4897=\"\",F4896,IF(E4897=\"\",F4896,E4897/MAX($E$9:E4897)-1)))","v":""}]
[null,null,null,null,null,{"$f":"IF(B4898=\"\",\"\",IF(C4898=\"\",F4897,IF(E4898=\"\",F4897,E4898/MAX($E$9:E4898)-1)))","v":""}]
[null,null,null,null,null,{"$f":"IF(B4899=\"\",\"\",IF(C4899=\"\",F4898,IF(E4899=\"\",F4898,E4899/MAX($E$9:E4899)-1)))","v":""}]
[null,null,null,null,null,{"$f":"IF(B4900=\"\",\"\",IF(C4900=\"\",F4899,IF(E4900=\"\",F4899,E4900/MAX($E$9:E4900)-1)))","v":""}]
[null,null,null,null,null,{"$f":"IF(B4901=\"\",\"\",IF(C4901=\"\",F4900,IF(E4901=\"\",F4900,E4901/MAX($E$9:E4901)-1)))","v":""}]
[null,null,null,null,null,{"$f":"IF(B4902=\"\",\"\",IF(C4902=\"\",F4901,IF(E4902=\"\",F4901,E4902/MAX($E$9:E4902)-1)))","v":""}]
[null,null,null,null,null,{"$f":"IF(B4903=\"\",\"\",IF(C4903=\"\",F4902,IF(E4903=\"\",F4902,E4903/MAX($E$9:E4903)-1)))","v":""}]
[null,null,null,null,null,{"$f":"IF(B4904=\"\",\"\",IF(C4904=\"\",F4903,IF(E4904=\"\",F4903,E4904/MAX($E$9:E4904)-1)))","v":""}]
[null,null,null,null,null,{"$f":"IF(B4905=\"\",\"\",IF(C4905=\"\",F4904,IF(E4905=\"\",F4904,E4905/MAX($E$9:E4905)-1)))","v":""}]
[null,null,null,null,null,{"$f":"IF(B4906=\"\",\"\",IF(C4906=\"\",F4905,IF(E4906=\"\",F4905,E4906/MAX($E$9:E4906)-1)))","v":""}]
[null,null,null,null,null,{"$f":"IF(B4907=\"\",\"\",IF(C4907=\"\",F4906,IF(E4907=\"\",F4906,E4907/MAX($E$9:E4907)-1)))","v":""}]
[null,null,null,null,null,{"$f":"IF(B4908=\"\",\"\",IF(C4908=\"\",F4907,IF(E4908=\"\",F4907,E4908/MAX($E$9:E4908)-1)))","v":""}]
[null,null,null,null,null,{"$f":"IF(B4909=\"\",\"\",IF(C4909=\"\",F4908,IF(E4909=\"\",F4908,E4909/MAX($E$9:E4909)-1)))","v":""}]
[null,null,null,null,null,{"$f":"IF(B4910=\"\",\"\",IF(C4910=\"\",F4909,IF(E4910=\"\",F4909,E4910/MAX($E$9:E4910)-1)))","v":""}]
[null,null,null,null,null,{"$f":"IF(B4911=\"\",\"\",IF(C4911=\"\",F4910,IF(E4911=\"\",F4910,E4911/MAX($E$9:E4911)-1)))","v":""}]
[null,null,null,null,null,{"$f":"IF(B4912=\"\",\"\",IF(C4912=\"\",F4911,IF(E4912=\"\",F4911,E4912/MAX($E$9:E4912)-1)))","v":""}]
[null,null,null,null,null,{"$f":"IF(B4913=\"\",\"\",IF(C4913=\"\",F4912,IF(E4913=\"\",F4912,E4913/MAX($E$9:E4913)-1)))","v":""}]
[null,null,null,null,null,{"$f":"IF(B4914=\"\",\"\",IF(C4914=\"\",F4913,IF(E4914=\"\",F4913,E4914/MAX($E$9:E4914)-1)))","v":""}]
[null,null,null,null,null,{"$f":"IF(B4915=\"\",\"\",IF(C4915=\"\",F4914,IF(E4915=\"\",F4914,E4915/MAX($E$9:E4915)-1)))","v":""}]
[null,null,null,null,null,{"$f":"IF(B4916=\"\",\"\",IF(C4916=\"\",F4915,IF(E4916=\"\",F4915,E4916/MAX($E$9:E4916)-1)))","v":""}]
[null,null,null,null,null,{"$f":"IF(B4917=\"\",\"\",IF(C4917=\"\",F4916,IF(E4917=\"\",F4916,E4917/MAX($E$9:E4917)-1)))","v":""}]
[null,null,null,null,null,{"$f":"IF(B4918=\"\",\"\",IF(C4918=\"\",F4917,IF(E4918=\"\",F4917,E4918/MAX($E$9:E4918)-1)))","v":""}]
[null,null,null,null,null,{"$f":"IF(B4919=\"\",\"\",IF(C4919=\"\",F4918,IF(E4919=\"\",F4918,E4919/MAX($E$9:E4919)-1)))","v":""}]
[null,null,null,null,null,{"$f":"IF(B4920=\"\",\"\",IF(C4920=\"\",F4919,IF(E4920=\"\",F4919,E4920/MAX($E$9:E4920)-1)))","v":""}]
[null,null,null,null,null,{"$f":"IF(B4921=\"\",\"\",IF(C4921=\"\",F4920,IF(E4921=\"\",F4920,E4921/MAX($E$9:E4921)-1)))","v":""}]
[null,null,null,null,null,{"$f":"IF(B4922=\"\",\"\",IF(C4922=\"\",F4921,IF(E4922=\"\",F4921,E4922/MAX($E$9:E4922)-1)))","v":""}]
[null,null,null,null,null,{"$f":"IF(B4923=\"\",\"\",IF(C4923=\"\",F4922,IF(E4923=\"\",F4922,E4923/MAX($E$9:E4923)-1)))","v":""}]
[null,null,null,null,null,{"$f":"IF(B4924=\"\",\"\",IF(C4924=\"\",F4923,IF(E4924=\"\",F4923,E4924/MAX($E$9:E4924)-1)))","v":""}]
[null,null,null,null,null,{"$f":"IF(B4925=\"\",\"\",IF(C4925=\"\",F4924,IF(E4925=\"\",F4924,E4925/MAX($E$9:E4925)-1)))","v":""}]
[null,null,null,null,null,{"$f":"IF(B4926=\"\",\"\",IF(C4926=\"\",F4925,IF(E4926=\"\",F4925,E4926/MAX($E$9:E4926)-1)))","v":""}]
[null,null,null,null,null,{"$f":"IF(B4927=\"\",\"\",IF(C4927=\"\",F4926,IF(E4927=\"\",F4926,E4927/MAX($E$9:E4927)-1)))","v":""}]
[null,null,null,null,null,{"$f":"IF(B4928=\"\",\"\",IF(C4928=\"\",F4927,IF(E4928=\"\",F4927,E4928/MAX($E$9:E4928)-1)))","v":""}]
[null,null,null,null,null,{"$f":"IF(B4929=\"\",\"\",IF(C4929=\"\",F4928,IF(E4929=\"\",F4928,E4929/MAX($E$9:E4929)-1)))","v":""}]
[null,null,null,null,null,{"$f":"IF(B4930=\"\",\"\",IF(C4930=\"\",F4929,IF(E4930=\"\",F4929,E4930/MAX($E$9:E4930)-1)))","v":""}]
[null,null,null,null,null,{"$f":"IF(B4931=\"\",\"\",IF(C4931=\"\",F4930,IF(E4931=\"\",F4930,E4931/MAX($E$9:E4931)-1)))","v":""}]
[null,null,null,null,null,{"$f":"IF(B4932=\"\",\"\",IF(C4932=\"\",F4931,IF(E4932=\"\",F4931,E4932/MAX($E$9:E4932)-1)))","v":""}]
[null,null,null,null,null,{"$f":"IF(B4933=\"\",\"\",IF(C4933=\"\",F4932,IF(E4933=\"\",F4932,E4933/MAX($E$9:E4933)-1)))","v":""}]
[null,null,null,null,null,{"$f":"IF(B4934=\"\",\"\",IF(C4934=\"\",F4933,IF(E4934=\"\",F4933,E4934/MAX($E$9:E4934)-1)))","v":""}]
[null,null,null,null,null,{"$f":"IF(B4935=\"\",\"\",IF(C4935=\"\",F4934,IF(E4935=\"\",F4934,E4935/MAX($E$9:E4935)-1)))","v":""}]
[null,null,null,null,null,{"$f":"IF(B4936=\"\",\"\",IF(C4936=\"\",F4935,IF(E4936=\"\",F4935,E4936/MAX($E$9:E4936)-1)))","v":""}]
[null,null,null,null,null,{"$f":"IF(B4937=\"\",\"\",IF(C4937=\"\",F4936,IF(E4937=\"\",F4936,E4937/MAX($E$9:E4937)-1)))","v":""}]
[null,null,null,null,null,{"$f":"IF(B4938=\"\",\"\",IF(C4938=\"\",F4937,IF(E4938=\"\",F4937,E4938/MAX($E$9:E4938)-1)))","v":""}]
[null,null,null,null,null,{"$f":"IF(B4939=\"\",\"\",IF(C4939=\"\",F4938,IF(E4939=\"\",F4938,E4939/MAX($E$9:E4939)-1)))","v":""}]
[null,null,null,null,null,{"$f":"IF(B4940=\"\",\"\",IF(C4940=\"\",F4939,IF(E4940=\"\",F4939,E4940/MAX($E$9:E4940)-1)))","v":""}]
[null,null,null,null,null,{"$f":"IF(B4941=\"\",\"\",IF(C4941=\"\",F4940,IF(E4941=\"\",F4940,E4941/MAX($E$9:E4941)-1)))","v":""}]
[null,null,null,null,null,{"$f":"IF(B4942=\"\",\"\",IF(C4942=\"\",F4941,IF(E4942=\"\",F4941,E4942/MAX($E$9:E4942)-1)))","v":""}]
[null,null,null,null,null,{"$f":"IF(B4943=\"\",\"\",IF(C4943=\"\",F4942,IF(E4943=\"\",F4942,E4943/MAX($E$9:E4943)-1)))","v":""}]
[null,null,null,null,null,{"$f":"IF(B4944=\"\",\"\",IF(C4944=\"\",F4943,IF(E4944=\"\",F4943,E4944/MAX($E$9:E4944)-1)))","v":""}]
[null,null,null,null,null,{"$f":"IF(B4945=\"\",\"\",IF(C4945=\"\",F4944,IF(E4945=\"\",F4944,E4945/MAX($E$9:E4945)-1)))","v":""}]
[null,null,null,null,null,{"$f":"IF(B4946=\"\",\"\",IF(C4946=\"\",F4945,IF(E4946=\"\",F4945,E4946/MAX($E$9:E4946)-1)))","v":""}]
[null,null,null,null,null,{"$f":"IF(B4947=\"\",\"\",IF(C4947=\"\",F4946,IF(E4947=\"\",F4946,E4947/MAX($E$9:E4947)-1)))","v":""}]
[null,null,null,null,null,{"$f":"IF(B4948=\"\",\"\",IF(C4948=\"\",F4947,IF(E4948=\"\",F4947,E4948/MAX($E$9:E4948)-1)))","v":""}]
[null,null,null,null,null,{"$f":"IF(B4949=\"\",\"\",IF(C4949=\"\",F4948,IF(E4949=\"\",F4948,E4949/MAX($E$9:E4949)-1)))","v":""}]
[null,null,null,null,null,{"$f":"IF(B4950=\"\",\"\",IF(C4950=\"\",F4949,IF(E4950=\"\",F4949,E4950/MAX($E$9:E4950)-1)))","v":""}]
[null,null,null,null,null,{"$f":"IF(B4951=\"\",\"\",IF(C4951=\"\",F4950,IF(E4951=\"\",F4950,E4951/MAX($E$9:E4951)-1)))","v":""}]
[null,null,null,null,null,{"$f":"IF(B4952=\"\",\"\",IF(C4952=\"\",F4951,IF(E4952=\"\",F4951,E4952/MAX($E$9:E4952)-1)))","v":""}]
[null,null,null,null,null,{"$f":"IF(B4953=\"\",\"\",IF(C4953=\"\",F4952,IF(E4953=\"\",F4952,E4953/MAX($E$9:E4953)-1)))","v":""}]
[null,null,null,null,null,{"$f":"IF(B4954=\"\",\"\",IF(C4954=\"\",F4953,IF(E4954=\"\",F4953,E4954/MAX($E$9:E4954)-1)))","v":""}]
[null,null,null,null,null,{"$f":"IF(B4955=\"\",\"\",IF(C4955=\"\",F4954,IF(E4955=\"\",F4954,E4955/MAX($E$9:E4955)-1)))","v":""}]
[null,null,null,null,null,{"$f":"IF(B4956=\"\",\"\",IF(C4956=\"\",F4955,IF(E4956=\"\",F4955,E4956/MAX($E$9:E4956)-1)))","v":""}]
[null,null,null,null,null,{"$f":"IF(B4957=\"\",\"\",IF(C4957=\"\",F4956,IF(E4957=\"\",F4956,E4957/MAX($E$9:E4957)-1)))","v":""}]
[null,null,null,null,null,{"$f":"IF(B4958=\"\",\"\",IF(C4958=\"\",F4957,IF(E4958=\"\",F4957,E4958/MAX($E$9:E4958)-1)))","v":""}]
[null,null,null,null,null,{"$f":"IF(B4959=\"\",\"\",IF(C4959=\"\",F4958,IF(E4959=\"\",F4958,E4959/MAX($E$9:E4959)-1)))","v":""}]
[null,null,null,null,null,{"$f":"IF(B4960=\"\",\"\",IF(C4960=\"\",F4959,IF(E4960=\"\",F4959,E4960/MAX($E$9:E4960)-1)))","v":""}]
[null,null,null,null,null,{"$f":"IF(B4961=\"\",\"\",IF(C4961=\"\",F4960,IF(E4961=\"\",F4960,E4961/MAX($E$9:E4961)-1)))","v":""}]
[null,null,null,null,null,{"$f":"IF(B4962=\"\",\"\",IF(C4962=\"\",F4961,IF(E4962=\"\",F4961,E4962/MAX($E$9:E4962)-1)))","v":""}]
[null,null,null,null,null,{"$f":"IF(B4963=\"\",\"\",IF(C4963=\"\",F4962,IF(E4963=\"\",F4962,E4963/MAX($E$9:E4963)-1)))","v":""}]
[null,null,null,null,null,{"$f":"IF(B4964=\"\",\"\",IF(C4964=\"\",F4963,IF(E4964=\"\",F4963,E4964/MAX($E$9:E4964)-1)))","v":""}]
[null,null,null,null,null,{"$f":"IF(B4965=\"\",\"\",IF(C4965=\"\",F4964,IF(E4965=\"\",F4964,E4965/MAX($E$9:E4965)-1)))","v":""}]
[null,null,null,null,null,{"$f":"IF(B4966=\"\",\"\",IF(C4966=\"\",F4965,IF(E4966=\"\",F4965,E4966/MAX($E$9:E4966)-1)))","v":""}]
[null,null,null,null,null,{"$f":"IF(B4967=\"\",\"\",IF(C4967=\"\",F4966,IF(E4967=\"\",F4966,E4967/MAX($E$9:E4967)-1)))","v":""}]
[null,null,null,null,null,{"$f":"IF(B4968=\"\",\"\",IF(C4968=\"\",F4967,IF(E4968=\"\",F4967,E4968/MAX($E$9:E4968)-1)))","v":""}]
[null,null,null,null,null,{"$f":"IF(B4969=\"\",\"\",IF(C4969=\"\",F4968,IF(E4969=\"\",F4968,E4969/MAX($E$9:E4969)-1)))","v":""}]
[null,null,null,null,null,{"$f":"IF(B4970=\"\",\"\",IF(C4970=\"\",F4969,IF(E4970=\"\",F4969,E4970/MAX($E$9:E4970)-1)))","v":""}]
[null,null,null,null,null,{"$f":"IF(B4971=\"\",\"\",IF(C4971=\"\",F4970,IF(E4971=\"\",F4970,E4971/MAX($E$9:E4971)-1)))","v":""}]
[null,null,null,null,null,{"$f":"IF(B4972=\"\",\"\",IF(C4972=\"\",F4971,IF(E4972=\"\",F4971,E4972/MAX($E$9:E4972)-1)))","v":""}]
[null,null,null,null,null,{"$f":"IF(B4973=\"\",\"\",IF(C4973=\"\",F4972,IF(E4973=\"\",F4972,E4973/MAX($E$9:E4973)-1)))","v":""}]
[null,null,null,null,null,{"$f":"IF(B4974=\"\",\"\",IF(C4974=\"\",F4973,IF(E4974=\"\",F4973,E4974/MAX($E$9:E4974)-1)))","v":""}]
[null,null,null,null,null,{"$f":"IF(B4975=\"\",\"\",IF(C4975=\"\",F4974,IF(E4975=\"\",F4974,E4975/MAX($E$9:E4975)-1)))","v":""}]
[null,null,null,null,null,{"$f":"IF(B4976=\"\",\"\",IF(C4976=\"\",F4975,IF(E4976=\"\",F4975,E4976/MAX($E$9:E4976)-1)))","v":""}]
[null,null,null,null,null,{"$f":"IF(B4977=\"\",\"\",IF(C4977=\"\",F4976,IF(E4977=\"\",F4976,E4977/MAX($E$9:E4977)-1)))","v":""}]
[null,null,null,null,null,{"$f":"IF(B4978=\"\",\"\",IF(C4978=\"\",F4977,IF(E4978=\"\",F4977,E4978/MAX($E$9:E4978)-1)))","v":""}]
[null,null,null,null,null,{"$f":"IF(B4979=\"\",\"\",IF(C4979=\"\",F4978,IF(E4979=\"\",F4978,E4979/MAX($E$9:E4979)-1)))","v":""}]
[null,null,null,null,null,{"$f":"IF(B4980=\"\",\"\",IF(C4980=\"\",F4979,IF(E4980=\"\",F4979,E4980/MAX($E$9:E4980)-1)))","v":""}]
[null,null,null,null,null,{"$f":"IF(B4981=\"\",\"\",IF(C4981=\"\",F4980,IF(E4981=\"\",F4980,E4981/MAX($E$9:E4981)-1)))","v":""}]
[null,null,null,null,null,{"$f":"IF(B4982=\"\",\"\",IF(C4982=\"\",F4981,IF(E4982=\"\",F4981,E4982/MAX($E$9:E4982)-1)))","v":""}]
[null,null,null,null,null,{"$f":"IF(B4983=\"\",\"\",IF(C4983=\"\",F4982,IF(E4983=\"\",F4982,E4983/MAX($E$9:E4983)-1)))","v":""}]
[null,null,null,null,null,{"$f":"IF(B4984=\"\",\"\",IF(C4984=\"\",F4983,IF(E4984=\"\",F4983,E4984/MAX($E$9:E4984)-1)))","v":""}]
[null,null,null,null,null,{"$f":"IF(B4985=\"\",\"\",IF(C4985=\"\",F4984,IF(E4985=\"\",F4984,E4985/MAX($E$9:E4985)-1)))","v":""}]
[null,null,null,null,null,{"$f":"IF(B4986=\"\",\"\",IF(C4986=\"\",F4985,IF(E4986=\"\",F4985,E4986/MAX($E$9:E4986)-1)))","v":""}]
[null,null,null,null,null,{"$f":"IF(B4987=\"\",\"\",IF(C4987=\"\",F4986,IF(E4987=\"\",F4986,E4987/MAX($E$9:E4987)-1)))","v":""}]
[null,null,null,null,null,{"$f":"IF(B4988=\"\",\"\",IF(C4988=\"\",F4987,IF(E4988=\"\",F4987,E4988/MAX($E$9:E4988)-1)))","v":""}]
[null,null,null,null,null,{"$f":"IF(B4989=\"\",\"\",IF(C4989=\"\",F4988,IF(E4989=\"\",F4988,E4989/MAX($E$9:E4989)-1)))","v":""}]
[null,null,null,null,null,{"$f":"IF(B4990=\"\",\"\",IF(C4990=\"\",F4989,IF(E4990=\"\",F4989,E4990/MAX($E$9:E4990)-1)))","v":""}]
[null,null,null,null,null,{"$f":"IF(B4991=\"\",\"\",IF(C4991=\"\",F4990,IF(E4991=\"\",F4990,E4991/MAX($E$9:E4991)-1)))","v":""}]
[null,null,null,null,null,{"$f":"IF(B4992=\"\",\"\",IF(C4992=\"\",F4991,IF(E4992=\"\",F4991,E4992/MAX($E$9:E4992)-1)))","v":""}]
[null,null,null,null,null,{"$f":"IF(B4993=\"\",\"\",IF(C4993=\"\",F4992,IF(E4993=\"\",F4992,E4993/MAX($E$9:E4993)-1)))","v":""}]
[null,null,null,null,null,{"$f":"IF(B4994=\"\",\"\",IF(C4994=\"\",F4993,IF(E4994=\"\",F4993,E4994/MAX($E$9:E4994)-1)))","v":""}]
[null,null,null,null,null,{"$f":"IF(B4995=\"\",\"\",IF(C4995=\"\",F4994,IF(E4995=\"\",F4994,E4995/MAX($E$9:E4995)-1)))","v":""}]
[null,null,null,null,null,{"$f":"IF(B4996=\"\",\"\",IF(C4996=\"\",F4995,IF(E4996=\"\",F4995,E4996/MAX($E$9:E4996)-1)))","v":""}]
[null,null,null,null,null,{"$f":"IF(B4997=\"\",\"\",IF(C4997=\"\",F4996,IF(E4997=\"\",F4996,E4997/MAX($E$9:E4997)-1)))","v":""}]
[null,null,null,null,null,{"$f":"IF(B4998=\"\",\"\",IF(C4998=\"\",F4997,IF(E4998=\"\",F4997,E4998/MAX($E$9:E4998)-1)))","v":""}]
[null,null,null,null,null,{"$f":"IF(B4999=\"\",\"\",IF(C4999=\"\",F4998,IF(E4999=\"\",F4998,E4999/MAX($E$9:E4999)-1)))","v":""}]
[null,null,null,null,null,{"$f":"IF(B5000=\"\",\"\",IF(C5000=\"\",F4999,IF(E5000=\"\",F4999,E5000/MAX($E$9:E5000)-1)))","v":""}]
[null,null,null,null,null,{"$f":"IF(B5001=\"\",\"\",IF(C5001=\"\",F5000,IF(E5001=\"\",F5000,E5001/MAX($E$9:E5001)-1)))","v":""}]
[null,null,null,null,null,{"$f":"IF(B5002=\"\",\"\",IF(C5002=\"\",F5001,IF(E5002=\"\",F5001,E5002/MAX($E$9:E5002)-1)))","v":""}]
[null,null,null,null,null,{"$f":"IF(B5003=\"\",\"\",IF(C5003=\"\",F5002,IF(E5003=\"\",F5002,E5003/MAX($E$9:E5003)-1)))","v":""}]
[null,null,null,null,null,{"$f":"IF(B5004=\"\",\"\",IF(C5004=\"\",F5003,IF(E5004=\"\",F5003,E5004/MAX($E$9:E5004)-1)))","v":""}]
[null,null,null,null,null,{"$f":"IF(B5005=\"\",\"\",IF(C5005=\"\",F5004,IF(E5005=\"\",F5004,E5005/MAX($E$9:E5005)-1)))","v":""}]
[null,null,null,null,null,{"$f":"IF(B5006=\"\",\"\",IF(C5006=\"\",F5005,IF(E5006=\"\",F5005,E5006/MAX($E$9:E5006)-1)))","v":""}]
[null,null,null,null,null,{"$f":"IF(B5007=\"\",\"\",IF(C5007=\"\",F5006,IF(E5007=\"\",F5006,E5007/MAX($E$9:E5007)-1)))","v":""}]
[null,null,null,null,null,{"$f":"IF(B5008=\"\",\"\",IF(C5008=\"\",F5007,IF(E5008=\"\",F5007,E5008/MAX($E$9:E5008)-1)))","v":""}]
[null,null,null,null,null,{"$f":"IF(B5009=\"\",\"\",IF(C5009=\"\",F5008,IF(E5009=\"\",F5008,E5009/MAX($E$9:E5009)-1)))","v":""}]
[null,null,null,null,null,{"$f":"IF(B5010=\"\",\"\",IF(C5010=\"\",F5009,IF(E5010=\"\",F5009,E5010/MAX($E$9:E5010)-1)))","v":""}]
[null,null,null,null,null,{"$f":"IF(B5011=\"\",\"\",IF(C5011=\"\",F5010,IF(E5011=\"\",F5010,E5011/MAX($E$9:E5011)-1)))","v":""}]
[null,null,null,null,null,{"$f":"IF(B5012=\"\",\"\",IF(C5012=\"\",F5011,IF(E5012=\"\",F5011,E5012/MAX($E$9:E5012)-1)))","v":""}]
[null,null,null,null,null,{"$f":"IF(B5013=\"\",\"\",IF(C5013=\"\",F5012,IF(E5013=\"\",F5012,E5013/MAX($E$9:E5013)-1)))","v":""}]
[null,null,null,null,null,{"$f":"IF(B5014=\"\",\"\",IF(C5014=\"\",F5013,IF(E5014=\"\",F5013,E5014/MAX($E$9:E5014)-1)))","v":""}]
[null,null,null,null,null,{"$f":"IF(B5015=\"\",\"\",IF(C5015=\"\",F5014,IF(E5015=\"\",F5014,E5015/MAX($E$9:E5015)-1)))","v":""}]
[null,null,null,null,null,{"$f":"IF(B5016=\"\",\"\",IF(C5016=\"\",F5015,IF(E5016=\"\",F5015,E5016/MAX($E$9:E5016)-1)))","v":""}]
[null,null,null,null,null,{"$f":"IF(B5017=\"\",\"\",IF(C5017=\"\",F5016,IF(E5017=\"\",F5016,E5017/MAX($E$9:E5017)-1)))","v":""}]
[null,null,null,null,null,{"$f":"IF(B5018=\"\",\"\",IF(C5018=\"\",F5017,IF(E5018=\"\",F5017,E5018/MAX($E$9:E5018)-1)))","v":""}]
[null,null,null,null,null,{"$f":"IF(B5019=\"\",\"\",IF(C5019=\"\",F5018,IF(E5019=\"\",F5018,E5019/MAX($E$9:E5019)-1)))","v":""}]
[null,null,null,null,null,{"$f":"IF(B5020=\"\",\"\",IF(C5020=\"\",F5019,IF(E5020=\"\",F5019,E5020/MAX($E$9:E5020)-1)))","v":""}]
[null,null,null,null,null,{"$f":"IF(B5021=\"\",\"\",IF(C5021=\"\",F5020,IF(E5021=\"\",F5020,E5021/MAX($E$9:E5021)-1)))","v":""}]
[null,null,null,null,null,{"$f":"IF(B5022=\"\",\"\",IF(C5022=\"\",F5021,IF(E5022=\"\",F5021,E5022/MAX($E$9:E5022)-1)))","v":""}]
[null,null,null,null,null,{"$f":"IF(B5023=\"\",\"\",IF(C5023=\"\",F5022,IF(E5023=\"\",F5022,E5023/MAX($E$9:E5023)-1)))","v":""}]
[null,null,null,null,null,{"$f":"IF(B5024=\"\",\"\",IF(C5024=\"\",F5023,IF(E5024=\"\",F5023,E5024/MAX($E$9:E5024)-1)))","v":""}]
[null,null,null,null,null,{"$f":"IF(B5025=\"\",\"\",IF(C5025=\"\",F5024,IF(E5025=\"\",F5024,E5025/MAX($E$9:E5025)-1)))","v":""}]
[null,null,null,null,null,{"$f":"IF(B5026=\"\",\"\",IF(C5026=\"\",F5025,IF(E5026=\"\",F5025,E5026/MAX($E$9:E5026)-1)))","v":""}]
[null,null,null,null,null,{"$f":"IF(B5027=\"\",\"\",IF(C5027=\"\",F5026,IF(E5027=\"\",F5026,E5027/MAX($E$9:E5027)-1)))","v":""}]
[null,null,null,null,null,{"$f":"IF(B5028=\"\",\"\",IF(C5028=\"\",F5027,IF(E5028=\"\",F5027,E5028/MAX($E$9:E5028)-1)))","v":""}]
[null,null,null,null,null,{"$f":"IF(B5029=\"\",\"\",IF(C5029=\"\",F5028,IF(E5029=\"\",F5028,E5029/MAX($E$9:E5029)-1)))","v":""}]
[null,null,null,null,null,{"$f":"IF(B5030=\"\",\"\",IF(C5030=\"\",F5029,IF(E5030=\"\",F5029,E5030/MAX($E$9:E5030)-1)))","v":""}]
[null,null,null,null,null,{"$f":"IF(B5031=\"\",\"\",IF(C5031=\"\",F5030,IF(E5031=\"\",F5030,E5031/MAX($E$9:E5031)-1)))","v":""}]
[null,null,null,null,null,{"$f":"IF(B5032=\"\",\"\",IF(C5032=\"\",F5031,IF(E5032=\"\",F5031,E5032/MAX($E$9:E5032)-1)))","v":""}]
[null,null,null,null,null,{"$f":"IF(B5033=\"\",\"\",IF(C5033=\"\",F5032,IF(E5033=\"\",F5032,E5033/MAX($E$9:E5033)-1)))","v":""}]
[null,null,null,null,null,{"$f":"IF(B5034=\"\",\"\",IF(C5034=\"\",F5033,IF(E5034=\"\",F5033,E5034/MAX($E$9:E5034)-1)))","v":""}]
[null,null,null,null,null,{"$f":"IF(B5035=\"\",\"\",IF(C5035=\"\",F5034,IF(E5035=\"\",F5034,E5035/MAX($E$9:E5035)-1)))","v":""}]
[null,null,null,null,null,{"$f":"IF(B5036=\"\",\"\",IF(C5036=\"\",F5035,IF(E5036=\"\",F5035,E5036/MAX($E$9:E5036)-1)))","v":""}]
[null,null,null,null,null,{"$f":"IF(B5037=\"\",\"\",IF(C5037=\"\",F5036,IF(E5037=\"\",F5036,E5037/MAX($E$9:E5037)-1)))","v":""}]
[null,null,null,null,null,{"$f":"IF(B5038=\"\",\"\",IF(C5038=\"\",F5037,IF(E5038=\"\",F5037,E5038/MAX($E$9:E5038)-1)))","v":""}]
[null,null,null,null,null,{"$f":"IF(B5039=\"\",\"\",IF(C5039=\"\",F5038,IF(E5039=\"\",F5038,E5039/MAX($E$9:E5039)-1)))","v":""}]
[null,null,null,null,null,{"$f":"IF(B5040=\"\",\"\",IF(C5040=\"\",F5039,IF(E5040=\"\",F5039,E5040/MAX($E$9:E5040)-1)))","v":""}]
[null,null,null,null,null,{"$f":"IF(B5041=\"\",\"\",IF(C5041=\"\",F5040,IF(E5041=\"\",F5040,E5041/MAX($E$9:E5041)-1)))","v":""}]
[null,null,null,null,null,{"$f":"IF(B5042=\"\",\"\",IF(C5042=\"\",F5041,IF(E5042=\"\",F5041,E5042/MAX($E$9:E5042)-1)))","v":""}]
[null,null,null,null,null,{"$f":"IF(B5043=\"\",\"\",IF(C5043=\"\",F5042,IF(E5043=\"\",F5042,E5043/MAX($E$9:E5043)-1)))","v":""}]
[null,null,null,null,null,{"$f":"IF(B5044=\"\",\"\",IF(C5044=\"\",F5043,IF(E5044=\"\",F5043,E5044/MAX($E$9:E5044)-1)))","v":""}]
[null,null,null,null,null,{"$f":"IF(B5045=\"\",\"\",IF(C5045=\"\",F5044,IF(E5045=\"\",F5044,E5045/MAX($E$9:E5045)-1)))","v":""}]
[null,null,null,null,null,{"$f":"IF(B5046=\"\",\"\",IF(C5046=\"\",F5045,IF(E5046=\"\",F5045,E5046/MAX($E$9:E5046)-1)))","v":""}]
[null,null,null,null,null,{"$f":"IF(B5047=\"\",\"\",IF(C5047=\"\",F5046,IF(E5047=\"\",F5046,E5047/MAX($E$9:E5047)-1)))","v":""}]
[null,null,null,null,null,{"$f":"IF(B5048=\"\",\"\",IF(C5048=\"\",F5047,IF(E5048=\"\",F5047,E5048/MAX($E$9:E5048)-1)))","v":""}]
[null,null,null,null,null,{"$f":"IF(B5049=\"\",\"\",IF(C5049=\"\",F5048,IF(E5049=\"\",F5048,E5049/MAX($E$9:E5049)-1)))","v":""}]
[null,null,null,null,null,{"$f":"IF(B5050=\"\",\"\",IF(C5050=\"\",F5049,IF(E5050=\"\",F5049,E5050/MAX($E$9:E5050)-1)))","v":""}]
[null,null,null,null,null,{"$f":"IF(B5051=\"\",\"\",IF(C5051=\"\",F5050,IF(E5051=\"\",F5050,E5051/MAX($E$9:E5051)-1)))","v":""}]
[null,null,null,null,null,{"$f":"IF(B5052=\"\",\"\",IF(C5052=\"\",F5051,IF(E5052=\"\",F5051,E5052/MAX($E$9:E5052)-1)))","v":""}]
[null,null,null,null,null,{"$f":"IF(B5053=\"\",\"\",IF(C5053=\"\",F5052,IF(E5053=\"\",F5052,E5053/MAX($E$9:E5053)-1)))","v":""}]
[null,null,null,null,null,{"$f":"IF(B5054=\"\",\"\",IF(C5054=\"\",F5053,IF(E5054=\"\",F5053,E5054/MAX($E$9:E5054)-1)))","v":""}]
[null,null,null,null,null,{"$f":"IF(B5055=\"\",\"\",IF(C5055=\"\",F5054,IF(E5055=\"\",F5054,E5055/MAX($E$9:E5055)-1)))","v":""}]
[null,null,null,null,null,{"$f":"IF(B5056=\"\",\"\",IF(C5056=\"\",F5055,IF(E5056=\"\",F5055,E5056/MAX($E$9:E5056)-1)))","v":""}]
[null,null,null,null,null,{"$f":"IF(B5057=\"\",\"\",IF(C5057=\"\",F5056,IF(E5057=\"\",F5056,E5057/MAX($E$9:E5057)-1)))","v":""}]
[null,null,null,null,null,{"$f":"IF(B5058=\"\",\"\",IF(C5058=\"\",F5057,IF(E5058=\"\",F5057,E5058/MAX($E$9:E5058)-1)))","v":""}]
[null,null,null,null,null,{"$f":"IF(B5059=\"\",\"\",IF(C5059=\"\",F5058,IF(E5059=\"\",F5058,E5059/MAX($E$9:E5059)-1)))","v":""}]
[null,null,null,null,null,{"$f":"IF(B5060=\"\",\"\",IF(C5060=\"\",F5059,IF(E5060=\"\",F5059,E5060/MAX($E$9:E5060)-1)))","v":""}]
[null,null,null,null,null,{"$f":"IF(B5061=\"\",\"\",IF(C5061=\"\",F5060,IF(E5061=\"\",F5060,E5061/MAX($E$9:E5061)-1)))","v":""}]
[null,null,null,null,null,{"$f":"IF(B5062=\"\",\"\",IF(C5062=\"\",F5061,IF(E5062=\"\",F5061,E5062/MAX($E$9:E5062)-1)))","v":""}]
[null,null,null,null,null,{"$f":"IF(B5063=\"\",\"\",IF(C5063=\"\",F5062,IF(E5063=\"\",F5062,E5063/MAX($E$9:E5063)-1)))","v":""}]
[null,null,null,null,null,{"$f":"IF(B5064=\"\",\"\",IF(C5064=\"\",F5063,IF(E5064=\"\",F5063,E5064/MAX($E$9:E5064)-1)))","v":""}]
[null,null,null,null,null,{"$f":"IF(B5065=\"\",\"\",IF(C5065=\"\",F5064,IF(E5065=\"\",F5064,E5065/MAX($E$9:E5065)-1)))","v":""}]
[null,null,null,null,null,{"$f":"IF(B5066=\"\",\"\",IF(C5066=\"\",F5065,IF(E5066=\"\",F5065,E5066/MAX($E$9:E5066)-1)))","v":""}]
[null,null,null,null,null,{"$f":"IF(B5067=\"\",\"\",IF(C5067=\"\",F5066,IF(E5067=\"\",F5066,E5067/MAX($E$9:E5067)-1)))","v":""}]
[null,null,null,null,null,{"$f":"IF(B5068=\"\",\"\",IF(C5068=\"\",F5067,IF(E5068=\"\",F5067,E5068/MAX($E$9:E5068)-1)))","v":""}]
[null,null,null,null,null,{"$f":"IF(B5069=\"\",\"\",IF(C5069=\"\",F5068,IF(E5069=\"\",F5068,E5069/MAX($E$9:E5069)-1)))","v":""}]
[null,null,null,null,null,{"$f":"IF(B5070=\"\",\"\",IF(C5070=\"\",F5069,IF(E5070=\"\",F5069,E5070/MAX($E$9:E5070)-1)))","v":""}]
[null,null,null,null,null,{"$f":"IF(B5071=\"\",\"\",IF(C5071=\"\",F5070,IF(E5071=\"\",F5070,E5071/MAX($E$9:E5071)-1)))","v":""}]
[null,null,null,null,null,{"$f":"IF(B5072=\"\",\"\",IF(C5072=\"\",F5071,IF(E5072=\"\",F5071,E5072/MAX($E$9:E5072)-1)))","v":""}]
[null,null,null,null,null,{"$f":"IF(B5073=\"\",\"\",IF(C5073=\"\",F5072,IF(E5073=\"\",F5072,E5073/MAX($E$9:E5073)-1)))","v":""}]
[null,null,null,null,null,{"$f":"IF(B5074=\"\",\"\",IF(C5074=\"\",F5073,IF(E5074=\"\",F5073,E5074/MAX($E$9:E5074)-1)))","v":""}]
[null,null,null,null,null,{"$f":"IF(B5075=\"\",\"\",IF(C5075=\"\",F5074,IF(E5075=\"\",F5074,E5075/MAX($E$9:E5075)-1)))","v":""}]
[null,null,null,null,null,{"$f":"IF(B5076=\"\",\"\",IF(C5076=\"\",F5075,IF(E5076=\"\",F5075,E5076/MAX($E$9:E5076)-1)))","v":""}]
[null,null,null,null,null,{"$f":"IF(B5077=\"\",\"\",IF(C5077=\"\",F5076,IF(E5077=\"\",F5076,E5077/MAX($E$9:E5077)-1)))","v":""}]
[null,null,null,null,null,{"$f":"IF(B5078=\"\",\"\",IF(C5078=\"\",F5077,IF(E5078=\"\",F5077,E5078/MAX($E$9:E5078)-1)))","v":""}]
[null,null,null,null,null,{"$f":"IF(B5079=\"\",\"\",IF(C5079=\"\",F5078,IF(E5079=\"\",F5078,E5079/MAX($E$9:E5079)-1)))","v":""}]
[null,null,null,null,null,{"$f":"IF(B5080=\"\",\"\",IF(C5080=\"\",F5079,IF(E5080=\"\",F5079,E5080/MAX($E$9:E5080)-1)))","v":""}]
[null,null,null,null,null,{"$f":"IF(B5081=\"\",\"\",IF(C5081=\"\",F5080,IF(E5081=\"\",F5080,E5081/MAX($E$9:E5081)-1)))","v":""}]
[null,null,null,null,null,{"$f":"IF(B5082=\"\",\"\",IF(C5082=\"\",F5081,IF(E5082=\"\",F5081,E5082/MAX($E$9:E5082)-1)))","v":""}]
[null,null,null,null,null,{"$f":"IF(B5083=\"\",\"\",IF(C5083=\"\",F5082,IF(E5083=\"\",F5082,E5083/MAX($E$9:E5083)-1)))","v":""}]
[null,null,null,null,null,{"$f":"IF(B5084=\"\",\"\",IF(C5084=\"\",F5083,IF(E5084=\"\",F5083,E5084/MAX($E$9:E5084)-1)))","v":""}]
[null,null,null,null,null,{"$f":"IF(B5085=\"\",\"\",IF(C5085=\"\",F5084,IF(E5085=\"\",F5084,E5085/MAX($E$9:E5085)-1)))","v":""}]
[null,null,null,null,null,{"$f":"IF(B5086=\"\",\"\",IF(C5086=\"\",F5085,IF(E5086=\"\",F5085,E5086/MAX($E$9:E5086)-1)))","v":""}]
[null,null,null,null,null,{"$f":"IF(B5087=\"\",\"\",IF(C5087=\"\",F5086,IF(E5087=\"\",F5086,E5087/MAX($E$9:E5087)-1)))","v":""}]
[null,null,null,null,null,{"$f":"IF(B5088=\"\",\"\",IF(C5088=\"\",F5087,IF(E5088=\"\",F5087,E5088/MAX($E$9:E5088)-1)))","v":""}]
[null,null,null,null,null,{"$f":"IF(B5089=\"\",\"\",IF(C5089=\"\",F5088,IF(E5089=\"\",F5088,E5089/MAX($E$9:E5089)-1)))","v":""}]
[null,null,null,null,null,{"$f":"IF(B5090=\"\",\"\",IF(C5090=\"\",F5089,IF(E5090=\"\",F5089,E5090/MAX($E$9:E5090)-1)))","v":""}]
[null,null,null,null,null,{"$f":"IF(B5091=\"\",\"\",IF(C5091=\"\",F5090,IF(E5091=\"\",F5090,E5091/MAX($E$9:E5091)-1)))","v":""}]
[null,null,null,null,null,{"$f":"IF(B5092=\"\",\"\",IF(C5092=\"\",F5091,IF(E5092=\"\",F5091,E5092/MAX($E$9:E5092)-1)))","v":""}]
[null,null,null,null,null,{"$f":"IF(B5093=\"\",\"\",IF(C5093=\"\",F5092,IF(E5093=\"\",F5092,E5093/MAX($E$9:E5093)-1)))","v":""}]
[null,null,null,null,null,{"$f":"IF(B5094=\"\",\"\",IF(C5094=\"\",F5093,IF(E5094=\"\",F5093,E5094/MAX($E$9:E5094)-1)))","v":""}]
[null,null,null,null,null,{"$f":"IF(B5095=\"\",\"\",IF(C5095=\"\",F5094,IF(E5095=\"\",F5094,E5095/MAX($E$9:E5095)-1)))","v":""}]
[null,null,null,null,null,{"$f":"IF(B5096=\"\",\"\",IF(C5096=\"\",F5095,IF(E5096=\"\",F5095,E5096/MAX($E$9:E5096)-1)))","v":""}]
[null,null,null,null,null,{"$f":"IF(B5097=\"\",\"\",IF(C5097=\"\",F5096,IF(E5097=\"\",F5096,E5097/MAX($E$9:E5097)-1)))","v":""}]
[null,null,null,null,null,{"$f":"IF(B5098=\"\",\"\",IF(C5098=\"\",F5097,IF(E5098=\"\",F5097,E5098/MAX($E$9:E5098)-1)))","v":""}]
[null,null,null,null,null,{"$f":"IF(B5099=\"\",\"\",IF(C5099=\"\",F5098,IF(E5099=\"\",F5098,E5099/MAX($E$9:E5099)-1)))","v":""}]
[null,null,null,null,null,{"$f":"IF(B5100=\"\",\"\",IF(C5100=\"\",F5099,IF(E5100=\"\",F5099,E5100/MAX($E$9:E5100)-1)))","v":""}]
[null,null,null,null,null,{"$f":"IF(B5101=\"\",\"\",IF(C5101=\"\",F5100,IF(E5101=\"\",F5100,E5101/MAX($E$9:E5101)-1)))","v":""}]
[null,null,null,null,null,{"$f":"IF(B5102=\"\",\"\",IF(C5102=\"\",F5101,IF(E5102=\"\",F5101,E5102/MAX($E$9:E5102)-1)))","v":""}]
[null,null,null,null,null,{"$f":"IF(B5103=\"\",\"\",IF(C5103=\"\",F5102,IF(E5103=\"\",F5102,E5103/MAX($E$9:E5103)-1)))","v":""}]
[null,null,null,null,null,{"$f":"IF(B5104=\"\",\"\",IF(C5104=\"\",F5103,IF(E5104=\"\",F5103,E5104/MAX($E$9:E5104)-1)))","v":""}]
[null,null,null,null,null,{"$f":"IF(B5105=\"\",\"\",IF(C5105=\"\",F5104,IF(E5105=\"\",F5104,E5105/MAX($E$9:E5105)-1)))","v":""}]
[null,null,null,null,null,{"$f":"IF(B5106=\"\",\"\",IF(C5106=\"\",F5105,IF(E5106=\"\",F5105,E5106/MAX($E$9:E5106)-1)))","v":""}]
[null,null,null,null,null,{"$f":"IF(B5107=\"\",\"\",IF(C5107=\"\",F5106,IF(E5107=\"\",F5106,E5107/MAX($E$9:E5107)-1)))","v":""}]
[null,null,null,null,null,{"$f":"IF(B5108=\"\",\"\",IF(C5108=\"\",F5107,IF(E5108=\"\",F5107,E5108/MAX($E$9:E5108)-1)))","v":""}]
[null,null,null,null,null,{"$f":"IF(B5109=\"\",\"\",IF(C5109=\"\",F5108,IF(E5109=\"\",F5108,E5109/MAX($E$9:E5109)-1)))","v":""}]
[null,null,null,null,null,{"$f":"IF(B5110=\"\",\"\",IF(C5110=\"\",F5109,IF(E5110=\"\",F5109,E5110/MAX($E$9:E5110)-1)))","v":""}]
[null,null,null,null,null,{"$f":"IF(B5111=\"\",\"\",IF(C5111=\"\",F5110,IF(E5111=\"\",F5110,E5111/MAX($E$9:E5111)-1)))","v":""}]
[null,null,null,null,null,{"$f":"IF(B5112=\"\",\"\",IF(C5112=\"\",F5111,IF(E5112=\"\",F5111,E5112/MAX($E$9:E5112)-1)))","v":""}]
[null,null,null,null,null,{"$f":"IF(B5113=\"\",\"\",IF(C5113=\"\",F5112,IF(E5113=\"\",F5112,E5113/MAX($E$9:E5113)-1)))","v":""}]
[null,null,null,null,null,{"$f":"IF(B5114=\"\",\"\",IF(C5114=\"\",F5113,IF(E5114=\"\",F5113,E5114/MAX($E$9:E5114)-1)))","v":""}]
[null,null,null,null,null,{"$f":"IF(B5115=\"\",\"\",IF(C5115=\"\",F5114,IF(E5115=\"\",F5114,E5115/MAX($E$9:E5115)-1)))","v":""}]
[null,null,null,null,null,{"$f":"IF(B5116=\"\",\"\",IF(C5116=\"\",F5115,IF(E5116=\"\",F5115,E5116/MAX($E$9:E5116)-1)))","v":""}]
[null,null,null,null,null,{"$f":"IF(B5117=\"\",\"\",IF(C5117=\"\",F5116,IF(E5117=\"\",F5116,E5117/MAX($E$9:E5117)-1)))","v":""}]
[null,null,null,null,null,{"$f":"IF(B5118=\"\",\"\",IF(C5118=\"\",F5117,IF(E5118=\"\",F5117,E5118/MAX($E$9:E5118)-1)))","v":""}]
[null,null,null,null,null,{"$f":"IF(B5119=\"\",\"\",IF(C5119=\"\",F5118,IF(E5119=\"\",F5118,E5119/MAX($E$9:E5119)-1)))","v":""}]
[null,null,null,null,null,{"$f":"IF(B5120=\"\",\"\",IF(C5120=\"\",F5119,IF(E5120=\"\",F5119,E5120/MAX($E$9:E5120)-1)))","v":""}]
[null,null,null,null,null,{"$f":"IF(B5121=\"\",\"\",IF(C5121=\"\",F5120,IF(E5121=\"\",F5120,E5121/MAX($E$9:E5121)-1)))","v":""}]
[null,null,null,null,null,{"$f":"IF(B5122=\"\",\"\",IF(C5122=\"\",F5121,IF(E5122=\"\",F5121,E5122/MAX($E$9:E5122)-1)))","v":""}]
[null,null,null,null,null,{"$f":"IF(B5123=\"\",\"\",IF(C5123=\"\",F5122,IF(E5123=\"\",F5122,E5123/MAX($E$9:E5123)-1)))","v":""}]
[null,null,null,null,null,{"$f":"IF(B5124=\"\",\"\",IF(C5124=\"\",F5123,IF(E5124=\"\",F5123,E5124/MAX($E$9:E5124)-1)))","v":""}]
[null,null,null,null,null,{"$f":"IF(B5125=\"\",\"\",IF(C5125=\"\",F5124,IF(E5125=\"\",F5124,E5125/MAX($E$9:E5125)-1)))","v":""}]
[null,null,null,null,null,{"$f":"IF(B5126=\"\",\"\",IF(C5126=\"\",F5125,IF(E5126=\"\",F5125,E5126/MAX($E$9:E5126)-1)))","v":""}]
[null,null,null,null,null,{"$f":"IF(B5127=\"\",\"\",IF(C5127=\"\",F5126,IF(E5127=\"\",F5126,E5127/MAX($E$9:E5127)-1)))","v":""}]
[null,null,null,null,null,{"$f":"IF(B5128=\"\",\"\",IF(C5128=\"\",F5127,IF(E5128=\"\",F5127,E5128/MAX($E$9:E5128)-1)))","v":""}]
[null,null,null,null,null,{"$f":"IF(B5129=\"\",\"\",IF(C5129=\"\",F5128,IF(E5129=\"\",F5128,E5129/MAX($E$9:E5129)-1)))","v":""}]
[null,null,null,null,null,{"$f":"IF(B5130=\"\",\"\",IF(C5130=\"\",F5129,IF(E5130=\"\",F5129,E5130/MAX($E$9:E5130)-1)))","v":""}]
[null,null,null,null,null,{"$f":"IF(B5131=\"\",\"\",IF(C5131=\"\",F5130,IF(E5131=\"\",F5130,E5131/MAX($E$9:E5131)-1)))","v":""}]
[null,null,null,null,null,{"$f":"IF(B5132=\"\",\"\",IF(C5132=\"\",F5131,IF(E5132=\"\",F5131,E5132/MAX($E$9:E5132)-1)))","v":""}]
[null,null,null,null,null,{"$f":"IF(B5133=\"\",\"\",IF(C5133=\"\",F5132,IF(E5133=\"\",F5132,E5133/MAX($E$9:E5133)-1)))","v":""}]
[null,null,null,null,null,{"$f":"IF(B5134=\"\",\"\",IF(C5134=\"\",F5133,IF(E5134=\"\",F5133,E5134/MAX($E$9:E5134)-1)))","v":""}]
[null,null,null,null,null,{"$f":"IF(B5135=\"\",\"\",IF(C5135=\"\",F5134,IF(E5135=\"\",F5134,E5135/MAX($E$9:E5135)-1)))","v":""}]
[null,null,null,null,null,{"$f":"IF(B5136=\"\",\"\",IF(C5136=\"\",F5135,IF(E5136=\"\",F5135,E5136/MAX($E$9:E5136)-1)))","v":""}]
[null,null,null,null,null,{"$f":"IF(B5137=\"\",\"\",IF(C5137=\"\",F5136,IF(E5137=\"\",F5136,E5137/MAX($E$9:E5137)-1)))","v":""}]
[null,null,null,null,null,{"$f":"IF(B5138=\"\",\"\",IF(C5138=\"\",F5137,IF(E5138=\"\",F5137,E5138/MAX($E$9:E5138)-1)))","v":""}]
[null,null,null,null,null,{"$f":"IF(B5139=\"\",\"\",IF(C5139=\"\",F5138,IF(E5139=\"\",F5138,E5139/MAX($E$9:E5139)-1)))","v":""}]
[null,null,null,null,null,{"$f":"IF(B5140=\"\",\"\",IF(C5140=\"\",F5139,IF(E5140=\"\",F5139,E5140/MAX($E$9:E5140)-1)))","v":""}]
[null,null,null,null,null,{"$f":"IF(B5141=\"\",\"\",IF(C5141=\"\",F5140,IF(E5141=\"\",F5140,E5141/MAX($E$9:E5141)-1)))","v":""}]
[null,null,null,null,null,{"$f":"IF(B5142=\"\",\"\",IF(C5142=\"\",F5141,IF(E5142=\"\",F5141,E5142/MAX($E$9:E5142)-1)))","v":""}]
[null,null,null,null,null,{"$f":"IF(B5143=\"\",\"\",IF(C5143=\"\",F5142,IF(E5143=\"\",F5142,E5143/MAX($E$9:E5143)-1)))","v":""}]
[null,null,null,null,null,{"$f":"IF(B5144=\"\",\"\",IF(C5144=\"\",F5143,IF(E5144=\"\",F5143,E5144/MAX($E$9:E5144)-1)))","v":""}]
[null,null,null,null,null,{"$f":"IF(B5145=\"\",\"\",IF(C5145=\"\",F5144,IF(E5145=\"\",F5144,E5145/MAX($E$9:E5145)-1)))","v":""}]
[null,null,null,null,null,{"$f":"IF(B5146=\"\",\"\",IF(C5146=\"\",F5145,IF(E5146=\"\",F5145,E5146/MAX($E$9:E5146)-1)))","v":""}]
[null,null,null,null,null,{"$f":"IF(B5147=\"\",\"\",IF(C5147=\"\",F5146,IF(E5147=\"\",F5146,E5147/MAX($E$9:E5147)-1)))","v":""}]
[null,null,null,null,null,{"$f":"IF(B5148=\"\",\"\",IF(C5148=\"\",F5147,IF(E5148=\"\",F5147,E5148/MAX($E$9:E5148)-1)))","v":""}]
[null,null,null,null,null,{"$f":"IF(B5149=\"\",\"\",IF(C5149=\"\",F5148,IF(E5149=\"\",F5148,E5149/MAX($E$9:E5149)-1)))","v":""}]
[null,null,null,null,null,{"$f":"IF(B5150=\"\",\"\",IF(C5150=\"\",F5149,IF(E5150=\"\",F5149,E5150/MAX($E$9:E5150)-1)))","v":""}]
[null,null,null,null,null,{"$f":"IF(B5151=\"\",\"\",IF(C5151=\"\",F5150,IF(E5151=\"\",F5150,E5151/MAX($E$9:E5151)-1)))","v":""}]
[null,null,null,null,null,{"$f":"IF(B5152=\"\",\"\",IF(C5152=\"\",F5151,IF(E5152=\"\",F5151,E5152/MAX($E$9:E5152)-1)))","v":""}]
[null,null,null,null,null,{"$f":"IF(B5153=\"\",\"\",IF(C5153=\"\",F5152,IF(E5153=\"\",F5152,E5153/MAX($E$9:E5153)-1)))","v":""}]
[null,null,null,null,null,{"$f":"IF(B5154=\"\",\"\",IF(C5154=\"\",F5153,IF(E5154=\"\",F5153,E5154/MAX($E$9:E5154)-1)))","v":""}]
[null,null,null,null,null,{"$f":"IF(B5155=\"\",\"\",IF(C5155=\"\",F5154,IF(E5155=\"\",F5154,E5155/MAX($E$9:E5155)-1)))","v":""}]
[null,null,null,null,null,{"$f":"IF(B5156=\"\",\"\",IF(C5156=\"\",F5155,IF(E5156=\"\",F5155,E5156/MAX($E$9:E5156)-1)))","v":""}]
[null,null,null,null,null,{"$f":"IF(B5157=\"\",\"\",IF(C5157=\"\",F5156,IF(E5157=\"\",F5156,E5157/MAX($E$9:E5157)-1)))","v":""}]
[null,null,null,null,null,{"$f":"IF(B5158=\"\",\"\",IF(C5158=\"\",F5157,IF(E5158=\"\",F5157,E5158/MAX($E$9:E5158)-1)))","v":""}]
[null,null,null,null,null,{"$f":"IF(B5159=\"\",\"\",IF(C5159=\"\",F5158,IF(E5159=\"\",F5158,E5159/MAX($E$9:E5159)-1)))","v":""}]
[null,null,null,null,null,{"$f":"IF(B5160=\"\",\"\",IF(C5160=\"\",F5159,IF(E5160=\"\",F5159,E5160/MAX($E$9:E5160)-1)))","v":""}]
[null,null,null,null,null,{"$f":"IF(B5161=\"\",\"\",IF(C5161=\"\",F5160,IF(E5161=\"\",F5160,E5161/MAX($E$9:E5161)-1)))","v":""}]
[null,null,null,null,null,{"$f":"IF(B5162=\"\",\"\",IF(C5162=\"\",F5161,IF(E5162=\"\",F5161,E5162/MAX($E$9:E5162)-1)))","v":""}]
[null,null,null,null,null,{"$f":"IF(B5163=\"\",\"\",IF(C5163=\"\",F5162,IF(E5163=\"\",F5162,E5163/MAX($E$9:E5163)-1)))","v":""}]
[null,null,null,null,null,{"$f":"IF(B5164=\"\",\"\",IF(C5164=\"\",F5163,IF(E5164=\"\",F5163,E5164/MAX($E$9:E5164)-1)))","v":""}]
[null,null,null,null,null,{"$f":"IF(B5165=\"\",\"\",IF(C5165=\"\",F5164,IF(E5165=\"\",F5164,E5165/MAX($E$9:E5165)-1)))","v":""}]
[null,null,null,null,null,{"$f":"IF(B5166=\"\",\"\",IF(C5166=\"\",F5165,IF(E5166=\"\",F5165,E5166/MAX($E$9:E5166)-1)))","v":""}]
[null,null,null,null,null,{"$f":"IF(B5167=\"\",\"\",IF(C5167=\"\",F5166,IF(E5167=\"\",F5166,E5167/MAX($E$9:E5167)-1)))","v":""}]
[null,null,null,null,null,{"$f":"IF(B5168=\"\",\"\",IF(C5168=\"\",F5167,IF(E5168=\"\",F5167,E5168/MAX($E$9:E5168)-1)))","v":""}]
[null,null,null,null,null,{"$f":"IF(B5169=\"\",\"\",IF(C5169=\"\",F5168,IF(E5169=\"\",F5168,E5169/MAX($E$9:E5169)-1)))","v":""}]
[null,null,null,null,null,{"$f":"IF(B5170=\"\",\"\",IF(C5170=\"\",F5169,IF(E5170=\"\",F5169,E5170/MAX($E$9:E5170)-1)))","v":""}]
[null,null,null,null,null,{"$f":"IF(B5171=\"\",\"\",IF(C5171=\"\",F5170,IF(E5171=\"\",F5170,E5171/MAX($E$9:E5171)-1)))","v":""}]
[null,null,null,null,null,{"$f":"IF(B5172=\"\",\"\",IF(C5172=\"\",F5171,IF(E5172=\"\",F5171,E5172/MAX($E$9:E5172)-1)))","v":""}]
[null,null,null,null,null,{"$f":"IF(B5173=\"\",\"\",IF(C5173=\"\",F5172,IF(E5173=\"\",F5172,E5173/MAX($E$9:E5173)-1)))","v":""}]
[null,null,null,null,null,{"$f":"IF(B5174=\"\",\"\",IF(C5174=\"\",F5173,IF(E5174=\"\",F5173,E5174/MAX($E$9:E5174)-1)))","v":""}]
[null,null,null,null,null,{"$f":"IF(B5175=\"\",\"\",IF(C5175=\"\",F5174,IF(E5175=\"\",F5174,E5175/MAX($E$9:E5175)-1)))","v":""}]
[null,null,null,null,null,{"$f":"IF(B5176=\"\",\"\",IF(C5176=\"\",F5175,IF(E5176=\"\",F5175,E5176/MAX($E$9:E5176)-1)))","v":""}]
[null,null,null,null,null,{"$f":"IF(B5177=\"\",\"\",IF(C5177=\"\",F5176,IF(E5177=\"\",F5176,E5177/MAX($E$9:E5177)-1)))","v":""}]
[null,null,null,null,null,{"$f":"IF(B5178=\"\",\"\",IF(C5178=\"\",F5177,IF(E5178=\"\",F5177,E5178/MAX($E$9:E5178)-1)))","v":""}]
[null,null,null,null,null,{"$f":"IF(B5179=\"\",\"\",IF(C5179=\"\",F5178,IF(E5179=\"\",F5178,E5179/MAX($E$9:E5179)-1)))","v":""}]
[null,null,null,null,null,{"$f":"IF(B5180=\"\",\"\",IF(C5180=\"\",F5179,IF(E5180=\"\",F5179,E5180/MAX($E$9:E5180)-1)))","v":""}]
[null,null,null,null,null,{"$f":"IF(B5181=\"\",\"\",IF(C5181=\"\",F5180,IF(E5181=\"\",F5180,E5181/MAX($E$9:E5181)-1)))","v":""}]
[null,null,null,null,null,{"$f":"IF(B5182=\"\",\"\",IF(C5182=\"\",F5181,IF(E5182=\"\",F5181,E5182/MAX($E$9:E5182)-1)))","v":""}]
[null,null,null,null,null,{"$f":"IF(B5183=\"\",\"\",IF(C5183=\"\",F5182,IF(E5183=\"\",F5182,E5183/MAX($E$9:E5183)-1)))","v":""}]
[null,null,null,null,null,{"$f":"IF(B5184=\"\",\"\",IF(C5184=\"\",F5183,IF(E5184=\"\",F5183,E5184/MAX($E$9:E5184)-1)))","v":""}]
[null,null,null,null,null,{"$f":"IF(B5185=\"\",\"\",IF(C5185=\"\",F5184,IF(E5185=\"\",F5184,E5185/MAX($E$9:E5185)-1)))","v":""}]
[null,null,null,null,null,{"$f":"IF(B5186=\"\",\"\",IF(C5186=\"\",F5185,IF(E5186=\"\",F5185,E5186/MAX($E$9:E5186)-1)))","v":""}]
[null,null,null,null,null,{"$f":"IF(B5187=\"\",\"\",IF(C5187=\"\",F5186,IF(E5187=\"\",F5186,E5187/MAX($E$9:E5187)-1)))","v":""}]
[null,null,null,null,null,{"$f":"IF(B5188=\"\",\"\",IF(C5188=\"\",F5187,IF(E5188=\"\",F5187,E5188/MAX($E$9:E5188)-1)))","v":""}]
[null,null,null,null,null,{"$f":"IF(B5189=\"\",\"\",IF(C5189=\"\",F5188,IF(E5189=\"\",F5188,E5189/MAX($E$9:E5189)-1)))","v":""}]
[null,null,null,null,null,{"$f":"IF(B5190=\"\",\"\",IF(C5190=\"\",F5189,IF(E5190=\"\",F5189,E5190/MAX($E$9:E5190)-1)))","v":""}]
[null,null,null,null,null,{"$f":"IF(B5191=\"\",\"\",IF(C5191=\"\",F5190,IF(E5191=\"\",F5190,E5191/MAX($E$9:E5191)-1)))","v":""}]
[null,null,null,null,null,{"$f":"IF(B5192=\"\",\"\",IF(C5192=\"\",F5191,IF(E5192=\"\",F5191,E5192/MAX($E$9:E5192)-1)))","v":""}]
[null,null,null,null,null,{"$f":"IF(B5193=\"\",\"\",IF(C5193=\"\",F5192,IF(E5193=\"\",F5192,E5193/MAX($E$9:E5193)-1)))","v":""}]
[null,null,null,null,null,{"$f":"IF(B5194=\"\",\"\",IF(C5194=\"\",F5193,IF(E5194=\"\",F5193,E5194/MAX($E$9:E5194)-1)))","v":""}]
[null,null,null,null,null,{"$f":"IF(B5195=\"\",\"\",IF(C5195=\"\",F5194,IF(E5195=\"\",F5194,E5195/MAX($E$9:E5195)-1)))","v":""}]
[null,null,null,null,null,{"$f":"IF(B5196=\"\",\"\",IF(C5196=\"\",F5195,IF(E5196=\"\",F5195,E5196/MAX($E$9:E5196)-1)))","v":""}]
[null,null,null,null,null,{"$f":"IF(B5197=\"\",\"\",IF(C5197=\"\",F5196,IF(E5197=\"\",F5196,E5197/MAX($E$9:E5197)-1)))","v":""}]
[null,null,null,null,null,{"$f":"IF(B5198=\"\",\"\",IF(C5198=\"\",F5197,IF(E5198=\"\",F5197,E5198/MAX($E$9:E5198)-1)))","v":""}]
[null,null,null,null,null,{"$f":"IF(B5199=\"\",\"\",IF(C5199=\"\",F5198,IF(E5199=\"\",F5198,E5199/MAX($E$9:E5199)-1)))","v":""}]
[null,null,null,null,null,{"$f":"IF(B5200=\"\",\"\",IF(C5200=\"\",F5199,IF(E5200=\"\",F5199,E5200/MAX($E$9:E5200)-1)))","v":""}]
[null,null,null,null,null,{"$f":"IF(B5201=\"\",\"\",IF(C5201=\"\",F5200,IF(E5201=\"\",F5200,E5201/MAX($E$9:E5201)-1)))","v":""}]
[null,null,null,null,null,{"$f":"IF(B5202=\"\",\"\",IF(C5202=\"\",F5201,IF(E5202=\"\",F5201,E5202/MAX($E$9:E5202)-1)))","v":""}]
[null,null,null,null,null,{"$f":"IF(B5203=\"\",\"\",IF(C5203=\"\",F5202,IF(E5203=\"\",F5202,E5203/MAX($E$9:E5203)-1)))","v":""}]
[null,null,null,null,null,{"$f":"IF(B5204=\"\",\"\",IF(C5204=\"\",F5203,IF(E5204=\"\",F5203,E5204/MAX($E$9:E5204)-1)))","v":""}]
[null,null,null,null,null,{"$f":"IF(B5205=\"\",\"\",IF(C5205=\"\",F5204,IF(E5205=\"\",F5204,E5205/MAX($E$9:E5205)-1)))","v":""}]
[null,null,null,null,null,{"$f":"IF(B5206=\"\",\"\",IF(C5206=\"\",F5205,IF(E5206=\"\",F5205,E5206/MAX($E$9:E5206)-1)))","v":""}]
[null,null,null,null,null,{"$f":"IF(B5207=\"\",\"\",IF(C5207=\"\",F5206,IF(E5207=\"\",F5206,E5207/MAX($E$9:E5207)-1)))","v":""}]
[null,null,null,null,null,{"$f":"IF(B5208=\"\",\"\",IF(C5208=\"\",F5207,IF(E5208=\"\",F5207,E5208/MAX($E$9:E5208)-1)))","v":""}]
[null,null,null,null,null,{"$f":"IF(B5209=\"\",\"\",IF(C5209=\"\",F5208,IF(E5209=\"\",F5208,E5209/MAX($E$9:E5209)-1)))","v":""}]
[null,null,null,null,null,{"$f":"IF(B5210=\"\",\"\",IF(C5210=\"\",F5209,IF(E5210=\"\",F5209,E5210/MAX($E$9:E5210)-1)))","v":""}]
[null,null,null,null,null,{"$f":"IF(B5211=\"\",\"\",IF(C5211=\"\",F5210,IF(E5211=\"\",F5210,E5211/MAX($E$9:E5211)-1)))","v":""}]
[null,null,null,null,null,{"$f":"IF(B5212=\"\",\"\",IF(C5212=\"\",F5211,IF(E5212=\"\",F5211,E5212/MAX($E$9:E5212)-1)))","v":""}]
[null,null,null,null,null,{"$f":"IF(B5213=\"\",\"\",IF(C5213=\"\",F5212,IF(E5213=\"\",F5212,E5213/MAX($E$9:E5213)-1)))","v":""}]
[null,null,null,null,null,{"$f":"IF(B5214=\"\",\"\",IF(C5214=\"\",F5213,IF(E5214=\"\",F5213,E5214/MAX($E$9:E5214)-1)))","v":""}]
[null,null,null,null,null,{"$f":"IF(B5215=\"\",\"\",IF(C5215=\"\",F5214,IF(E5215=\"\",F5214,E5215/MAX($E$9:E5215)-1)))","v":""}]
[null,null,null,null,null,{"$f":"IF(B5216=\"\",\"\",IF(C5216=\"\",F5215,IF(E5216=\"\",F5215,E5216/MAX($E$9:E5216)-1)))","v":""}]
[null,null,null,null,null,{"$f":"IF(B5217=\"\",\"\",IF(C5217=\"\",F5216,IF(E5217=\"\",F5216,E5217/MAX($E$9:E5217)-1)))","v":""}]
[null,null,null,null,null,{"$f":"IF(B5218=\"\",\"\",IF(C5218=\"\",F5217,IF(E5218=\"\",F5217,E5218/MAX($E$9:E5218)-1)))","v":""}]
[null,null,null,null,null,{"$f":"IF(B5219=\"\",\"\",IF(C5219=\"\",F5218,IF(E5219=\"\",F5218,E5219/MAX($E$9:E5219)-1)))","v":""}]
[null,null,null,null,null,{"$f":"IF(B5220=\"\",\"\",IF(C5220=\"\",F5219,IF(E5220=\"\",F5219,E5220/MAX($E$9:E5220)-1)))","v":""}]
[null,null,null,null,null,{"$f":"IF(B5221=\"\",\"\",IF(C5221=\"\",F5220,IF(E5221=\"\",F5220,E5221/MAX($E$9:E5221)-1)))","v":""}]
[null,null,null,null,null,{"$f":"IF(B5222=\"\",\"\",IF(C5222=\"\",F5221,IF(E5222=\"\",F5221,E5222/MAX($E$9:E5222)-1)))","v":""}]
[null,null,null,null,null,{"$f":"IF(B5223=\"\",\"\",IF(C5223=\"\",F5222,IF(E5223=\"\",F5222,E5223/MAX($E$9:E5223)-1)))","v":""}]
[null,null,null,null,null,{"$f":"IF(B5224=\"\",\"\",IF(C5224=\"\",F5223,IF(E5224=\"\",F5223,E5224/MAX($E$9:E5224)-1)))","v":""}]
[null,null,null,null,null,{"$f":"IF(B5225=\"\",\"\",IF(C5225=\"\",F5224,IF(E5225=\"\",F5224,E5225/MAX($E$9:E5225)-1)))","v":""}]
[null,null,null,null,null,{"$f":"IF(B5226=\"\",\"\",IF(C5226=\"\",F5225,IF(E5226=\"\",F5225,E5226/MAX($E$9:E5226)-1)))","v":""}]
[null,null,null,null,null,{"$f":"IF(B5227=\"\",\"\",IF(C5227=\"\",F5226,IF(E5227=\"\",F5226,E5227/MAX($E$9:E5227)-1)))","v":""}]
[null,null,null,null,null,{"$f":"IF(B5228=\"\",\"\",IF(C5228=\"\",F5227,IF(E5228=\"\",F5227,E5228/MAX($E$9:E5228)-1)))","v":""}]
[null,null,null,null,null,{"$f":"IF(B5229=\"\",\"\",IF(C5229=\"\",F5228,IF(E5229=\"\",F5228,E5229/MAX($E$9:E5229)-1)))","v":""}]
[null,null,null,null,null,{"$f":"IF(B5230=\"\",\"\",IF(C5230=\"\",F5229,IF(E5230=\"\",F5229,E5230/MAX($E$9:E5230)-1)))","v":""}]
[null,null,null,null,null,{"$f":"IF(B5231=\"\",\"\",IF(C5231=\"\",F5230,IF(E5231=\"\",F5230,E5231/MAX($E$9:E5231)-1)))","v":""}]
[null,null,null,null,null,{"$f":"IF(B5232=\"\",\"\",IF(C5232=\"\",F5231,IF(E5232=\"\",F5231,E5232/MAX($E$9:E5232)-1)))","v":""}]
[null,null,null,null,null,{"$f":"IF(B5233=\"\",\"\",IF(C5233=\"\",F5232,IF(E5233=\"\",F5232,E5233/MAX($E$9:E5233)-1)))","v":""}]
[null,null,null,null,null,{"$f":"IF(B5234=\"\",\"\",IF(C5234=\"\",F5233,IF(E5234=\"\",F5233,E5234/MAX($E$9:E5234)-1)))","v":""}]
[null,null,null,null,null,{"$f":"IF(B5235=\"\",\"\",IF(C5235=\"\",F5234,IF(E5235=\"\",F5234,E5235/MAX($E$9:E5235)-1)))","v":""}]
[null,null,null,null,null,{"$f":"IF(B5236=\"\",\"\",IF(C5236=\"\",F5235,IF(E5236=\"\",F5235,E5236/MAX($E$9:E5236)-1)))","v":""}]
[null,null,null,null,null,{"$f":"IF(B5237=\"\",\"\",IF(C5237=\"\",F5236,IF(E5237=\"\",F5236,E5237/MAX($E$9:E5237)-1)))","v":""}]
[null,null,null,null,null,{"$f":"IF(B5238=\"\",\"\",IF(C5238=\"\",F5237,IF(E5238=\"\",F5237,E5238/MAX($E$9:E5238)-1)))","v":""}]
[null,null,null,null,null,{"$f":"IF(B5239=\"\",\"\",IF(C5239=\"\",F5238,IF(E5239=\"\",F5238,E5239/MAX($E$9:E5239)-1)))","v":""}]
[null,null,null,null,null,{"$f":"IF(B5240=\"\",\"\",IF(C5240=\"\",F5239,IF(E5240=\"\",F5239,E5240/MAX($E$9:E5240)-1)))","v":""}]
[null,null,null,null,null,{"$f":"IF(B5241=\"\",\"\",IF(C5241=\"\",F5240,IF(E5241=\"\",F5240,E5241/MAX($E$9:E5241)-1)))","v":""}]
[null,null,null,null,null,{"$f":"IF(B5242=\"\",\"\",IF(C5242=\"\",F5241,IF(E5242=\"\",F5241,E5242/MAX($E$9:E5242)-1)))","v":""}]
[null,null,null,null,null,{"$f":"IF(B5243=\"\",\"\",IF(C5243=\"\",F5242,IF(E5243=\"\",F5242,E5243/MAX($E$9:E5243)-1)))","v":""}]
[null,null,null,null,null,{"$f":"IF(B5244=\"\",\"\",IF(C5244=\"\",F5243,IF(E5244=\"\",F5243,E5244/MAX($E$9:E5244)-1)))","v":""}]
[null,null,null,null,null,{"$f":"IF(B5245=\"\",\"\",IF(C5245=\"\",F5244,IF(E5245=\"\",F5244,E5245/MAX($E$9:E5245)-1)))","v":""}]
[null,null,null,null,null,{"$f":"IF(B5246=\"\",\"\",IF(C5246=\"\",F5245,IF(E5246=\"\",F5245,E5246/MAX($E$9:E5246)-1)))","v":""}]
[null,null,null,null,null,{"$f":"IF(B5247=\"\",\"\",IF(C5247=\"\",F5246,IF(E5247=\"\",F5246,E5247/MAX($E$9:E5247)-1)))","v":""}]
[null,null,null,null,null,{"$f":"IF(B5248=\"\",\"\",IF(C5248=\"\",F5247,IF(E5248=\"\",F5247,E5248/MAX($E$9:E5248)-1)))","v":""}]
[null,null,null,null,null,{"$f":"IF(B5249=\"\",\"\",IF(C5249=\"\",F5248,IF(E5249=\"\",F5248,E5249/MAX($E$9:E5249)-1)))","v":""}]
[null,null,null,null,null,{"$f":"IF(B5250=\"\",\"\",IF(C5250=\"\",F5249,IF(E5250=\"\",F5249,E5250/MAX($E$9:E5250)-1)))","v":""}]
[null,null,null,null,null,{"$f":"IF(B5251=\"\",\"\",IF(C5251=\"\",F5250,IF(E5251=\"\",F5250,E5251/MAX($E$9:E5251)-1)))","v":""}]
[null,null,null,null,null,{"$f":"IF(B5252=\"\",\"\",IF(C5252=\"\",F5251,IF(E5252=\"\",F5251,E5252/MAX($E$9:E5252)-1)))","v":""}]
[null,null,null,null,null,{"$f":"IF(B5253=\"\",\"\",IF(C5253=\"\",F5252,IF(E5253=\"\",F5252,E5253/MAX($E$9:E5253)-1)))","v":""}]
[null,null,null,null,null,{"$f":"IF(B5254=\"\",\"\",IF(C5254=\"\",F5253,IF(E5254=\"\",F5253,E5254/MAX($E$9:E5254)-1)))","v":""}]
[null,null,null,null,null,{"$f":"IF(B5255=\"\",\"\",IF(C5255=\"\",F5254,IF(E5255=\"\",F5254,E5255/MAX($E$9:E5255)-1)))","v":""}]
[null,null,null,null,null,{"$f":"IF(B5256=\"\",\"\",IF(C5256=\"\",F5255,IF(E5256=\"\",F5255,E5256/MAX($E$9:E5256)-1)))","v":""}]
[null,null,null,null,null,{"$f":"IF(B5257=\"\",\"\",IF(C5257=\"\",F5256,IF(E5257=\"\",F5256,E5257/MAX($E$9:E5257)-1)))","v":""}]
[null,null,null,null,null,{"$f":"IF(B5258=\"\",\"\",IF(C5258=\"\",F5257,IF(E5258=\"\",F5257,E5258/MAX($E$9:E5258)-1)))","v":""}]
[null,null,null,null,null,{"$f":"IF(B5259=\"\",\"\",IF(C5259=\"\",F5258,IF(E5259=\"\",F5258,E5259/MAX($E$9:E5259)-1)))","v":""}]
[null,null,null,null,null,{"$f":"IF(B5260=\"\",\"\",IF(C5260=\"\",F5259,IF(E5260=\"\",F5259,E5260/MAX($E$9:E5260)-1)))","v":""}]
[null,null,null,null,null,{"$f":"IF(B5261=\"\",\"\",IF(C5261=\"\",F5260,IF(E5261=\"\",F5260,E5261/MAX($E$9:E5261)-1)))","v":""}]
[null,null,null,null,null,{"$f":"IF(B5262=\"\",\"\",IF(C5262=\"\",F5261,IF(E5262=\"\",F5261,E5262/MAX($E$9:E5262)-1)))","v":""}]
[null,null,null,null,null,{"$f":"IF(B5263=\"\",\"\",IF(C5263=\"\",F5262,IF(E5263=\"\",F5262,E5263/MAX($E$9:E5263)-1)))","v":""}]
[null,null,null,null,null,{"$f":"IF(B5264=\"\",\"\",IF(C5264=\"\",F5263,IF(E5264=\"\",F5263,E5264/MAX($E$9:E5264)-1)))","v":""}]
[null,null,null,null,null,{"$f":"IF(B5265=\"\",\"\",IF(C5265=\"\",F5264,IF(E5265=\"\",F5264,E5265/MAX($E$9:E5265)-1)))","v":""}]
[null,null,null,null,null,{"$f":"IF(B5266=\"\",\"\",IF(C5266=\"\",F5265,IF(E5266=\"\",F5265,E5266/MAX($E$9:E5266)-1)))","v":""}]
[null,null,null,null,null,{"$f":"IF(B5267=\"\",\"\",IF(C5267=\"\",F5266,IF(E5267=\"\",F5266,E5267/MAX($E$9:E5267)-1)))","v":""}]
[null,null,null,null,null,{"$f":"IF(B5268=\"\",\"\",IF(C5268=\"\",F5267,IF(E5268=\"\",F5267,E5268/MAX($E$9:E5268)-1)))","v":""}]
[null,null,null,null,null,{"$f":"IF(B5269=\"\",\"\",IF(C5269=\"\",F5268,IF(E5269=\"\",F5268,E5269/MAX($E$9:E5269)-1)))","v":""}]
[null,null,null,null,null,{"$f":"IF(B5270=\"\",\"\",IF(C5270=\"\",F5269,IF(E5270=\"\",F5269,E5270/MAX($E$9:E5270)-1)))","v":""}]
[null,null,null,null,null,{"$f":"IF(B5271=\"\",\"\",IF(C5271=\"\",F5270,IF(E5271=\"\",F5270,E5271/MAX($E$9:E5271)-1)))","v":""}]
[null,null,null,null,null,{"$f":"IF(B5272=\"\",\"\",IF(C5272=\"\",F5271,IF(E5272=\"\",F5271,E5272/MAX($E$9:E5272)-1)))","v":""}]
[null,null,null,null,null,{"$f":"IF(B5273=\"\",\"\",IF(C5273=\"\",F5272,IF(E5273=\"\",F5272,E5273/MAX($E$9:E5273)-1)))","v":""}]
[null,null,null,null,null,{"$f":"IF(B5274=\"\",\"\",IF(C5274=\"\",F5273,IF(E5274=\"\",F5273,E5274/MAX($E$9:E5274)-1)))","v":""}]
[null,null,null,null,null,{"$f":"IF(B5275=\"\",\"\",IF(C5275=\"\",F5274,IF(E5275=\"\",F5274,E5275/MAX($E$9:E5275)-1)))","v":""}]
[null,null,null,null,null,{"$f":"IF(B5276=\"\",\"\",IF(C5276=\"\",F5275,IF(E5276=\"\",F5275,E5276/MAX($E$9:E5276)-1)))","v":""}]
[null,null,null,null,null,{"$f":"IF(B5277=\"\",\"\",IF(C5277=\"\",F5276,IF(E5277=\"\",F5276,E5277/MAX($E$9:E5277)-1)))","v":""}]
[null,null,null,null,null,{"$f":"IF(B5278=\"\",\"\",IF(C5278=\"\",F5277,IF(E5278=\"\",F5277,E5278/MAX($E$9:E5278)-1)))","v":""}]
[null,null,null,null,null,{"$f":"IF(B5279=\"\",\"\",IF(C5279=\"\",F5278,IF(E5279=\"\",F5278,E5279/MAX($E$9:E5279)-1)))","v":""}]
[null,null,null,null,null,{"$f":"IF(B5280=\"\",\"\",IF(C5280=\"\",F5279,IF(E5280=\"\",F5279,E5280/MAX($E$9:E5280)-1)))","v":""}]
[null,null,null,null,null,{"$f":"IF(B5281=\"\",\"\",IF(C5281=\"\",F5280,IF(E5281=\"\",F5280,E5281/MAX($E$9:E5281)-1)))","v":""}]
[null,null,null,null,null,{"$f":"IF(B5282=\"\",\"\",IF(C5282=\"\",F5281,IF(E5282=\"\",F5281,E5282/MAX($E$9:E5282)-1)))","v":""}]
[null,null,null,null,null,{"$f":"IF(B5283=\"\",\"\",IF(C5283=\"\",F5282,IF(E5283=\"\",F5282,E5283/MAX($E$9:E5283)-1)))","v":""}]
[null,null,null,null,null,{"$f":"IF(B5284=\"\",\"\",IF(C5284=\"\",F5283,IF(E5284=\"\",F5283,E5284/MAX($E$9:E5284)-1)))","v":""}]
[null,null,null,null,null,{"$f":"IF(B5285=\"\",\"\",IF(C5285=\"\",F5284,IF(E5285=\"\",F5284,E5285/MAX($E$9:E5285)-1)))","v":""}]
[null,null,null,null,null,{"$f":"IF(B5286=\"\",\"\",IF(C5286=\"\",F5285,IF(E5286=\"\",F5285,E5286/MAX($E$9:E5286)-1)))","v":""}]
[null,null,null,null,null,{"$f":"IF(B5287=\"\",\"\",IF(C5287=\"\",F5286,IF(E5287=\"\",F5286,E5287/MAX($E$9:E5287)-1)))","v":""}]
[null,null,null,null,null,{"$f":"IF(B5288=\"\",\"\",IF(C5288=\"\",F5287,IF(E5288=\"\",F5287,E5288/MAX($E$9:E5288)-1)))","v":""}]
[null,null,null,null,null,{"$f":"IF(B5289=\"\",\"\",IF(C5289=\"\",F5288,IF(E5289=\"\",F5288,E5289/MAX($E$9:E5289)-1)))","v":""}]
[null,null,null,null,null,{"$f":"IF(B5290=\"\",\"\",IF(C5290=\"\",F5289,IF(E5290=\"\",F5289,E5290/MAX($E$9:E5290)-1)))","v":""}]
[null,null,null,null,null,{"$f":"IF(B5291=\"\",\"\",IF(C5291=\"\",F5290,IF(E5291=\"\",F5290,E5291/MAX($E$9:E5291)-1)))","v":""}]
[null,null,null,null,null,{"$f":"IF(B5292=\"\",\"\",IF(C5292=\"\",F5291,IF(E5292=\"\",F5291,E5292/MAX($E$9:E5292)-1)))","v":""}]
[null,null,null,null,null,{"$f":"IF(B5293=\"\",\"\",IF(C5293=\"\",F5292,IF(E5293=\"\",F5292,E5293/MAX($E$9:E5293)-1)))","v":""}]
[null,null,null,null,null,{"$f":"IF(B5294=\"\",\"\",IF(C5294=\"\",F5293,IF(E5294=\"\",F5293,E5294/MAX($E$9:E5294)-1)))","v":""}]
[null,null,null,null,null,{"$f":"IF(B5295=\"\",\"\",IF(C5295=\"\",F5294,IF(E5295=\"\",F5294,E5295/MAX($E$9:E5295)-1)))","v":""}]
[null,null,null,null,null,{"$f":"IF(B5296=\"\",\"\",IF(C5296=\"\",F5295,IF(E5296=\"\",F5295,E5296/MAX($E$9:E5296)-1)))","v":""}]
[null,null,null,null,null,{"$f":"IF(B5297=\"\",\"\",IF(C5297=\"\",F5296,IF(E5297=\"\",F5296,E5297/MAX($E$9:E5297)-1)))","v":""}]
[null,null,null,null,null,{"$f":"IF(B5298=\"\",\"\",IF(C5298=\"\",F5297,IF(E5298=\"\",F5297,E5298/MAX($E$9:E5298)-1)))","v":""}]
[null,null,null,null,null,{"$f":"IF(B5299=\"\",\"\",IF(C5299=\"\",F5298,IF(E5299=\"\",F5298,E5299/MAX($E$9:E5299)-1)))","v":""}]
[null,null,null,null,null,{"$f":"IF(B5300=\"\",\"\",IF(C5300=\"\",F5299,IF(E5300=\"\",F5299,E5300/MAX($E$9:E5300)-1)))","v":""}]
[null,null,null,null,null,{"$f":"IF(B5301=\"\",\"\",IF(C5301=\"\",F5300,IF(E5301=\"\",F5300,E5301/MAX($E$9:E5301)-1)))","v":""}]
[null,null,null,null,null,{"$f":"IF(B5302=\"\",\"\",IF(C5302=\"\",F5301,IF(E5302=\"\",F5301,E5302/MAX($E$9:E5302)-1)))","v":""}]
[null,null,null,null,null,{"$f":"IF(B5303=\"\",\"\",IF(C5303=\"\",F5302,IF(E5303=\"\",F5302,E5303/MAX($E$9:E5303)-1)))","v":""}]
[null,null,null,null,null,{"$f":"IF(B5304=\"\",\"\",IF(C5304=\"\",F5303,IF(E5304=\"\",F5303,E5304/MAX($E$9:E5304)-1)))","v":""}]
[null,null,null,null,null,{"$f":"IF(B5305=\"\",\"\",IF(C5305=\"\",F5304,IF(E5305=\"\",F5304,E5305/MAX($E$9:E5305)-1)))","v":""}]
[null,null,null,null,null,{"$f":"IF(B5306=\"\",\"\",IF(C5306=\"\",F5305,IF(E5306=\"\",F5305,E5306/MAX($E$9:E5306)-1)))","v":""}]
[null,null,null,null,null,{"$f":"IF(B5307=\"\",\"\",IF(C5307=\"\",F5306,IF(E5307=\"\",F5306,E5307/MAX($E$9:E5307)-1)))","v":""}]
[null,null,null,null,null,{"$f":"IF(B5308=\"\",\"\",IF(C5308=\"\",F5307,IF(E5308=\"\",F5307,E5308/MAX($E$9:E5308)-1)))","v":""}]
[null,null,null,null,null,{"$f":"IF(B5309=\"\",\"\",IF(C5309=\"\",F5308,IF(E5309=\"\",F5308,E5309/MAX($E$9:E5309)-1)))","v":""}]
[null,null,null,null,null,{"$f":"IF(B5310=\"\",\"\",IF(C5310=\"\",F5309,IF(E5310=\"\",F5309,E5310/MAX($E$9:E5310)-1)))","v":""}]
[null,null,null,null,null,{"$f":"IF(B5311=\"\",\"\",IF(C5311=\"\",F5310,IF(E5311=\"\",F5310,E5311/MAX($E$9:E5311)-1)))","v":""}]
[null,null,null,null,null,{"$f":"IF(B5312=\"\",\"\",IF(C5312=\"\",F5311,IF(E5312=\"\",F5311,E5312/MAX($E$9:E5312)-1)))","v":""}]
[null,null,null,null,null,{"$f":"IF(B5313=\"\",\"\",IF(C5313=\"\",F5312,IF(E5313=\"\",F5312,E5313/MAX($E$9:E5313)-1)))","v":""}]
[null,null,null,null,null,{"$f":"IF(B5314=\"\",\"\",IF(C5314=\"\",F5313,IF(E5314=\"\",F5313,E5314/MAX($E$9:E5314)-1)))","v":""}]
[null,null,null,null,null,{"$f":"IF(B5315=\"\",\"\",IF(C5315=\"\",F5314,IF(E5315=\"\",F5314,E5315/MAX($E$9:E5315)-1)))","v":""}]
[null,null,null,null,null,{"$f":"IF(B5316=\"\",\"\",IF(C5316=\"\",F5315,IF(E5316=\"\",F5315,E5316/MAX($E$9:E5316)-1)))","v":""}]
[null,null,null,null,null,{"$f":"IF(B5317=\"\",\"\",IF(C5317=\"\",F5316,IF(E5317=\"\",F5316,E5317/MAX($E$9:E5317)-1)))","v":""}]
[null,null,null,null,null,{"$f":"IF(B5318=\"\",\"\",IF(C5318=\"\",F5317,IF(E5318=\"\",F5317,E5318/MAX($E$9:E5318)-1)))","v":""}]
[null,null,null,null,null,{"$f":"IF(B5319=\"\",\"\",IF(C5319=\"\",F5318,IF(E5319=\"\",F5318,E5319/MAX($E$9:E5319)-1)))","v":""}]
[null,null,null,null,null,{"$f":"IF(B5320=\"\",\"\",IF(C5320=\"\",F5319,IF(E5320=\"\",F5319,E5320/MAX($E$9:E5320)-1)))","v":""}]
[null,null,null,null,null,{"$f":"IF(B5321=\"\",\"\",IF(C5321=\"\",F5320,IF(E5321=\"\",F5320,E5321/MAX($E$9:E5321)-1)))","v":""}]
[null,null,null,null,null,{"$f":"IF(B5322=\"\",\"\",IF(C5322=\"\",F5321,IF(E5322=\"\",F5321,E5322/MAX($E$9:E5322)-1)))","v":""}]
[null,null,null,null,null,{"$f":"IF(B5323=\"\",\"\",IF(C5323=\"\",F5322,IF(E5323=\"\",F5322,E5323/MAX($E$9:E5323)-1)))","v":""}]
[null,null,null,null,null,{"$f":"IF(B5324=\"\",\"\",IF(C5324=\"\",F5323,IF(E5324=\"\",F5323,E5324/MAX($E$9:E5324)-1)))","v":""}]
[null,null,null,null,null,{"$f":"IF(B5325=\"\",\"\",IF(C5325=\"\",F5324,IF(E5325=\"\",F5324,E5325/MAX($E$9:E5325)-1)))","v":""}]
[null,null,null,null,null,{"$f":"IF(B5326=\"\",\"\",IF(C5326=\"\",F5325,IF(E5326=\"\",F5325,E5326/MAX($E$9:E5326)-1)))","v":""}]
[null,null,null,null,null,{"$f":"IF(B5327=\"\",\"\",IF(C5327=\"\",F5326,IF(E5327=\"\",F5326,E5327/MAX($E$9:E5327)-1)))","v":""}]
[null,null,null,null,null,{"$f":"IF(B5328=\"\",\"\",IF(C5328=\"\",F5327,IF(E5328=\"\",F5327,E5328/MAX($E$9:E5328)-1)))","v":""}]
[null,null,null,null,null,{"$f":"IF(B5329=\"\",\"\",IF(C5329=\"\",F5328,IF(E5329=\"\",F5328,E5329/MAX($E$9:E5329)-1)))","v":""}]
[null,null,null,null,null,{"$f":"IF(B5330=\"\",\"\",IF(C5330=\"\",F5329,IF(E5330=\"\",F5329,E5330/MAX($E$9:E5330)-1)))","v":""}]
[null,null,null,null,null,{"$f":"IF(B5331=\"\",\"\",IF(C5331=\"\",F5330,IF(E5331=\"\",F5330,E5331/MAX($E$9:E5331)-1)))","v":""}]
[null,null,null,null,null,{"$f":"IF(B5332=\"\",\"\",IF(C5332=\"\",F5331,IF(E5332=\"\",F5331,E5332/MAX($E$9:E5332)-1)))","v":""}]
[null,null,null,null,null,{"$f":"IF(B5333=\"\",\"\",IF(C5333=\"\",F5332,IF(E5333=\"\",F5332,E5333/MAX($E$9:E5333)-1)))","v":""}]
[null,null,null,null,null,{"$f":"IF(B5334=\"\",\"\",IF(C5334=\"\",F5333,IF(E5334=\"\",F5333,E5334/MAX($E$9:E5334)-1)))","v":""}]
[null,null,null,null,null,{"$f":"IF(B5335=\"\",\"\",IF(C5335=\"\",F5334,IF(E5335=\"\",F5334,E5335/MAX($E$9:E5335)-1)))","v":""}]
[null,null,null,null,null,{"$f":"IF(B5336=\"\",\"\",IF(C5336=\"\",F5335,IF(E5336=\"\",F5335,E5336/MAX($E$9:E5336)-1)))","v":""}]
[null,null,null,null,null,{"$f":"IF(B5337=\"\",\"\",IF(C5337=\"\",F5336,IF(E5337=\"\",F5336,E5337/MAX($E$9:E5337)-1)))","v":""}]
[null,null,null,null,null,{"$f":"IF(B5338=\"\",\"\",IF(C5338=\"\",F5337,IF(E5338=\"\",F5337,E5338/MAX($E$9:E5338)-1)))","v":""}]
[null,null,null,null,null,{"$f":"IF(B5339=\"\",\"\",IF(C5339=\"\",F5338,IF(E5339=\"\",F5338,E5339/MAX($E$9:E5339)-1)))","v":""}]
[null,null,null,null,null,{"$f":"IF(B5340=\"\",\"\",IF(C5340=\"\",F5339,IF(E5340=\"\",F5339,E5340/MAX($E$9:E5340)-1)))","v":""}]
[null,null,null,null,null,{"$f":"IF(B5341=\"\",\"\",IF(C5341=\"\",F5340,IF(E5341=\"\",F5340,E5341/MAX($E$9:E5341)-1)))","v":""}]
[null,null,null,null,null,{"$f":"IF(B5342=\"\",\"\",IF(C5342=\"\",F5341,IF(E5342=\"\",F5341,E5342/MAX($E$9:E5342)-1)))","v":""}]
[null,null,null,null,null,{"$f":"IF(B5343=\"\",\"\",IF(C5343=\"\",F5342,IF(E5343=\"\",F5342,E5343/MAX($E$9:E5343)-1)))","v":""}]
[null,null,null,null,null,{"$f":"IF(B5344=\"\",\"\",IF(C5344=\"\",F5343,IF(E5344=\"\",F5343,E5344/MAX($E$9:E5344)-1)))","v":""}]
[null,null,null,null,null,{"$f":"IF(B5345=\"\",\"\",IF(C5345=\"\",F5344,IF(E5345=\"\",F5344,E5345/MAX($E$9:E5345)-1)))","v":""}]
[null,null,null,null,null,{"$f":"IF(B5346=\"\",\"\",IF(C5346=\"\",F5345,IF(E5346=\"\",F5345,E5346/MAX($E$9:E5346)-1)))","v":""}]
[null,null,null,null,null,{"$f":"IF(B5347=\"\",\"\",IF(C5347=\"\",F5346,IF(E5347=\"\",F5346,E5347/MAX($E$9:E5347)-1)))","v":""}]
[null,null,null,null,null,{"$f":"IF(B5348=\"\",\"\",IF(C5348=\"\",F5347,IF(E5348=\"\",F5347,E5348/MAX($E$9:E5348)-1)))","v":""}]
[null,null,null,null,null,{"$f":"IF(B5349=\"\",\"\",IF(C5349=\"\",F5348,IF(E5349=\"\",F5348,E5349/MAX($E$9:E5349)-1)))","v":""}]
[null,null,null,null,null,{"$f":"IF(B5350=\"\",\"\",IF(C5350=\"\",F5349,IF(E5350=\"\",F5349,E5350/MAX($E$9:E5350)-1)))","v":""}]
[null,null,null,null,null,{"$f":"IF(B5351=\"\",\"\",IF(C5351=\"\",F5350,IF(E5351=\"\",F5350,E5351/MAX($E$9:E5351)-1)))","v":""}]
[null,null,null,null,null,{"$f":"IF(B5352=\"\",\"\",IF(C5352=\"\",F5351,IF(E5352=\"\",F5351,E5352/MAX($E$9:E5352)-1)))","v":""}]
[null,null,null,null,null,{"$f":"IF(B5353=\"\",\"\",IF(C5353=\"\",F5352,IF(E5353=\"\",F5352,E5353/MAX($E$9:E5353)-1)))","v":""}]
[null,null,null,null,null,{"$f":"IF(B5354=\"\",\"\",IF(C5354=\"\",F5353,IF(E5354=\"\",F5353,E5354/MAX($E$9:E5354)-1)))","v":""}]
[null,null,null,null,null,{"$f":"IF(B5355=\"\",\"\",IF(C5355=\"\",F5354,IF(E5355=\"\",F5354,E5355/MAX($E$9:E5355)-1)))","v":""}]
[null,null,null,null,null,{"$f":"IF(B5356=\"\",\"\",IF(C5356=\"\",F5355,IF(E5356=\"\",F5355,E5356/MAX($E$9:E5356)-1)))","v":""}]
[null,null,null,null,null,{"$f":"IF(B5357=\"\",\"\",IF(C5357=\"\",F5356,IF(E5357=\"\",F5356,E5357/MAX($E$9:E5357)-1)))","v":""}]
[null,null,null,null,null,{"$f":"IF(B5358=\"\",\"\",IF(C5358=\"\",F5357,IF(E5358=\"\",F5357,E5358/MAX($E$9:E5358)-1)))","v":""}]
[null,null,null,null,null,{"$f":"IF(B5359=\"\",\"\",IF(C5359=\"\",F5358,IF(E5359=\"\",F5358,E5359/MAX($E$9:E5359)-1)))","v":""}]
[null,null,null,null,null,{"$f":"IF(B5360=\"\",\"\",IF(C5360=\"\",F5359,IF(E5360=\"\",F5359,E5360/MAX($E$9:E5360)-1)))","v":""}]
[null,null,null,null,null,{"$f":"IF(B5361=\"\",\"\",IF(C5361=\"\",F5360,IF(E5361=\"\",F5360,E5361/MAX($E$9:E5361)-1)))","v":""}]
[null,null,null,null,null,{"$f":"IF(B5362=\"\",\"\",IF(C5362=\"\",F5361,IF(E5362=\"\",F5361,E5362/MAX($E$9:E5362)-1)))","v":""}]
[null,null,null,null,null,{"$f":"IF(B5363=\"\",\"\",IF(C5363=\"\",F5362,IF(E5363=\"\",F5362,E5363/MAX($E$9:E5363)-1)))","v":""}]
[null,null,null,null,null,{"$f":"IF(B5364=\"\",\"\",IF(C5364=\"\",F5363,IF(E5364=\"\",F5363,E5364/MAX($E$9:E5364)-1)))","v":""}]
[null,null,null,null,null,{"$f":"IF(B5365=\"\",\"\",IF(C5365=\"\",F5364,IF(E5365=\"\",F5364,E5365/MAX($E$9:E5365)-1)))","v":""}]
[null,null,null,null,null,{"$f":"IF(B5366=\"\",\"\",IF(C5366=\"\",F5365,IF(E5366=\"\",F5365,E5366/MAX($E$9:E5366)-1)))","v":""}]
[null,null,null,null,null,{"$f":"IF(B5367=\"\",\"\",IF(C5367=\"\",F5366,IF(E5367=\"\",F5366,E5367/MAX($E$9:E5367)-1)))","v":""}]
[null,null,null,null,null,{"$f":"IF(B5368=\"\",\"\",IF(C5368=\"\",F5367,IF(E5368=\"\",F5367,E5368/MAX($E$9:E5368)-1)))","v":""}]
[null,null,null,null,null,{"$f":"IF(B5369=\"\",\"\",IF(C5369=\"\",F5368,IF(E5369=\"\",F5368,E5369/MAX($E$9:E5369)-1)))","v":""}]
[null,null,null,null,null,{"$f":"IF(B5370=\"\",\"\",IF(C5370=\"\",F5369,IF(E5370=\"\",F5369,E5370/MAX($E$9:E5370)-1)))","v":""}]
[null,null,null,null,null,{"$f":"IF(B5371=\"\",\"\",IF(C5371=\"\",F5370,IF(E5371=\"\",F5370,E5371/MAX($E$9:E5371)-1)))","v":""}]
[null,null,null,null,null,{"$f":"IF(B5372=\"\",\"\",IF(C5372=\"\",F5371,IF(E5372=\"\",F5371,E5372/MAX($E$9:E5372)-1)))","v":""}]
[null,null,null,null,null,{"$f":"IF(B5373=\"\",\"\",IF(C5373=\"\",F5372,IF(E5373=\"\",F5372,E5373/MAX($E$9:E5373)-1)))","v":""}]
[null,null,null,null,null,{"$f":"IF(B5374=\"\",\"\",IF(C5374=\"\",F5373,IF(E5374=\"\",F5373,E5374/MAX($E$9:E5374)-1)))","v":""}]
[null,null,null,null,null,{"$f":"IF(B5375=\"\",\"\",IF(C5375=\"\",F5374,IF(E5375=\"\",F5374,E5375/MAX($E$9:E5375)-1)))","v":""}]
[null,null,null,null,null,{"$f":"IF(B5376=\"\",\"\",IF(C5376=\"\",F5375,IF(E5376=\"\",F5375,E5376/MAX($E$9:E5376)-1)))","v":""}]
[null,null,null,null,null,{"$f":"IF(B5377=\"\",\"\",IF(C5377=\"\",F5376,IF(E5377=\"\",F5376,E5377/MAX($E$9:E5377)-1)))","v":""}]
[null,null,null,null,null,{"$f":"IF(B5378=\"\",\"\",IF(C5378=\"\",F5377,IF(E5378=\"\",F5377,E5378/MAX($E$9:E5378)-1)))","v":""}]
[null,null,null,null,null,{"$f":"IF(B5379=\"\",\"\",IF(C5379=\"\",F5378,IF(E5379=\"\",F5378,E5379/MAX($E$9:E5379)-1)))","v":""}]
[null,null,null,null,null,{"$f":"IF(B5380=\"\",\"\",IF(C5380=\"\",F5379,IF(E5380=\"\",F5379,E5380/MAX($E$9:E5380)-1)))","v":""}]
[null,null,null,null,null,{"$f":"IF(B5381=\"\",\"\",IF(C5381=\"\",F5380,IF(E5381=\"\",F5380,E5381/MAX($E$9:E5381)-1)))","v":""}]
[null,null,null,null,null,{"$f":"IF(B5382=\"\",\"\",IF(C5382=\"\",F5381,IF(E5382=\"\",F5381,E5382/MAX($E$9:E5382)-1)))","v":""}]
[null,null,null,null,null,{"$f":"IF(B5383=\"\",\"\",IF(C5383=\"\",F5382,IF(E5383=\"\",F5382,E5383/MAX($E$9:E5383)-1)))","v":""}]
[null,null,null,null,null,{"$f":"IF(B5384=\"\",\"\",IF(C5384=\"\",F5383,IF(E5384=\"\",F5383,E5384/MAX($E$9:E5384)-1)))","v":""}]
[null,null,null,null,null,{"$f":"IF(B5385=\"\",\"\",IF(C5385=\"\",F5384,IF(E5385=\"\",F5384,E5385/MAX($E$9:E5385)-1)))","v":""}]
[null,null,null,null,null,{"$f":"IF(B5386=\"\",\"\",IF(C5386=\"\",F5385,IF(E5386=\"\",F5385,E5386/MAX($E$9:E5386)-1)))","v":""}]
[null,null,null,null,null,{"$f":"IF(B5387=\"\",\"\",IF(C5387=\"\",F5386,IF(E5387=\"\",F5386,E5387/MAX($E$9:E5387)-1)))","v":""}]
[null,null,null,null,null,{"$f":"IF(B5388=\"\",\"\",IF(C5388=\"\",F5387,IF(E5388=\"\",F5387,E5388/MAX($E$9:E5388)-1)))","v":""}]
[null,null,null,null,null,{"$f":"IF(B5389=\"\",\"\",IF(C5389=\"\",F5388,IF(E5389=\"\",F5388,E5389/MAX($E$9:E5389)-1)))","v":""}]
[null,null,null,null,null,{"$f":"IF(B5390=\"\",\"\",IF(C5390=\"\",F5389,IF(E5390=\"\",F5389,E5390/MAX($E$9:E5390)-1)))","v":""}]
[null,null,null,null,null,{"$f":"IF(B5391=\"\",\"\",IF(C5391=\"\",F5390,IF(E5391=\"\",F5390,E5391/MAX($E$9:E5391)-1)))","v":""}]
[null,null,null,null,null,{"$f":"IF(B5392=\"\",\"\",IF(C5392=\"\",F5391,IF(E5392=\"\",F5391,E5392/MAX($E$9:E5392)-1)))","v":""}]
[null,null,null,null,null,{"$f":"IF(B5393=\"\",\"\",IF(C5393=\"\",F5392,IF(E5393=\"\",F5392,E5393/MAX($E$9:E5393)-1)))","v":""}]
[null,null,null,null,null,{"$f":"IF(B5394=\"\",\"\",IF(C5394=\"\",F5393,IF(E5394=\"\",F5393,E5394/MAX($E$9:E5394)-1)))","v":""}]
[null,null,null,null,null,{"$f":"IF(B5395=\"\",\"\",IF(C5395=\"\",F5394,IF(E5395=\"\",F5394,E5395/MAX($E$9:E5395)-1)))","v":""}]
[null,null,null,null,null,{"$f":"IF(B5396=\"\",\"\",IF(C5396=\"\",F5395,IF(E5396=\"\",F5395,E5396/MAX($E$9:E5396)-1)))","v":""}]
[null,null,null,null,null,{"$f":"IF(B5397=\"\",\"\",IF(C5397=\"\",F5396,IF(E5397=\"\",F5396,E5397/MAX($E$9:E5397)-1)))","v":""}]
[null,null,null,null,null,{"$f":"IF(B5398=\"\",\"\",IF(C5398=\"\",F5397,IF(E5398=\"\",F5397,E5398/MAX($E$9:E5398)-1)))","v":""}]
[null,null,null,null,null,{"$f":"IF(B5399=\"\",\"\",IF(C5399=\"\",F5398,IF(E5399=\"\",F5398,E5399/MAX($E$9:E5399)-1)))","v":""}]
[null,null,null,null,null,{"$f":"IF(B5400=\"\",\"\",IF(C5400=\"\",F5399,IF(E5400=\"\",F5399,E5400/MAX($E$9:E5400)-1)))","v":""}]
[null,null,null,null,null,{"$f":"IF(B5401=\"\",\"\",IF(C5401=\"\",F5400,IF(E5401=\"\",F5400,E5401/MAX($E$9:E5401)-1)))","v":""}]
[null,null,null,null,null,{"$f":"IF(B5402=\"\",\"\",IF(C5402=\"\",F5401,IF(E5402=\"\",F5401,E5402/MAX($E$9:E5402)-1)))","v":""}]
[null,null,null,null,null,{"$f":"IF(B5403=\"\",\"\",IF(C5403=\"\",F5402,IF(E5403=\"\",F5402,E5403/MAX($E$9:E5403)-1)))","v":""}]
[null,null,null,null,null,{"$f":"IF(B5404=\"\",\"\",IF(C5404=\"\",F5403,IF(E5404=\"\",F5403,E5404/MAX($E$9:E5404)-1)))","v":""}]
[null,null,null,null,null,{"$f":"IF(B5405=\"\",\"\",IF(C5405=\"\",F5404,IF(E5405=\"\",F5404,E5405/MAX($E$9:E5405)-1)))","v":""}]
[null,null,null,null,null,{"$f":"IF(B5406=\"\",\"\",IF(C5406=\"\",F5405,IF(E5406=\"\",F5405,E5406/MAX($E$9:E5406)-1)))","v":""}]
[null,null,null,null,null,{"$f":"IF(B5407=\"\",\"\",IF(C5407=\"\",F5406,IF(E5407=\"\",F5406,E5407/MAX($E$9:E5407)-1)))","v":""}]
[null,null,null,null,null,{"$f":"IF(B5408=\"\",\"\",IF(C5408=\"\",F5407,IF(E5408=\"\",F5407,E5408/MAX($E$9:E5408)-1)))","v":""}]
[null,null,null,null,null,{"$f":"IF(B5409=\"\",\"\",IF(C5409=\"\",F5408,IF(E5409=\"\",F5408,E5409/MAX($E$9:E5409)-1)))","v":""}]
[null,null,null,null,null,{"$f":"IF(B5410=\"\",\"\",IF(C5410=\"\",F5409,IF(E5410=\"\",F5409,E5410/MAX($E$9:E5410)-1)))","v":""}]
[null,null,null,null,null,{"$f":"IF(B5411=\"\",\"\",IF(C5411=\"\",F5410,IF(E5411=\"\",F5410,E5411/MAX($E$9:E5411)-1)))","v":""}]
[null,null,null,null,null,{"$f":"IF(B5412=\"\",\"\",IF(C5412=\"\",F5411,IF(E5412=\"\",F5411,E5412/MAX($E$9:E5412)-1)))","v":""}]
[null,null,null,null,null,{"$f":"IF(B5413=\"\",\"\",IF(C5413=\"\",F5412,IF(E5413=\"\",F5412,E5413/MAX($E$9:E5413)-1)))","v":""}]
[null,null,null,null,null,{"$f":"IF(B5414=\"\",\"\",IF(C5414=\"\",F5413,IF(E5414=\"\",F5413,E5414/MAX($E$9:E5414)-1)))","v":""}]
[null,null,null,null,null,{"$f":"IF(B5415=\"\",\"\",IF(C5415=\"\",F5414,IF(E5415=\"\",F5414,E5415/MAX($E$9:E5415)-1)))","v":""}]
[null,null,null,null,null,{"$f":"IF(B5416=\"\",\"\",IF(C5416=\"\",F5415,IF(E5416=\"\",F5415,E5416/MAX($E$9:E5416)-1)))","v":""}]
[null,null,null,null,null,{"$f":"IF(B5417=\"\",\"\",IF(C5417=\"\",F5416,IF(E5417=\"\",F5416,E5417/MAX($E$9:E5417)-1)))","v":""}]
[null,null,null,null,null,{"$f":"IF(B5418=\"\",\"\",IF(C5418=\"\",F5417,IF(E5418=\"\",F5417,E5418/MAX($E$9:E5418)-1)))","v":""}]
[null,null,null,null,null,{"$f":"IF(B5419=\"\",\"\",IF(C5419=\"\",F5418,IF(E5419=\"\",F5418,E5419/MAX($E$9:E5419)-1)))","v":""}]
[null,null,null,null,null,{"$f":"IF(B5420=\"\",\"\",IF(C5420=\"\",F5419,IF(E5420=\"\",F5419,E5420/MAX($E$9:E5420)-1)))","v":""}]
[null,null,null,null,null,{"$f":"IF(B5421=\"\",\"\",IF(C5421=\"\",F5420,IF(E5421=\"\",F5420,E5421/MAX($E$9:E5421)-1)))","v":""}]
[null,null,null,null,null,{"$f":"IF(B5422=\"\",\"\",IF(C5422=\"\",F5421,IF(E5422=\"\",F5421,E5422/MAX($E$9:E5422)-1)))","v":""}]
[null,null,null,null,null,{"$f":"IF(B5423=\"\",\"\",IF(C5423=\"\",F5422,IF(E5423=\"\",F5422,E5423/MAX($E$9:E5423)-1)))","v":""}]
[null,null,null,null,null,{"$f":"IF(B5424=\"\",\"\",IF(C5424=\"\",F5423,IF(E5424=\"\",F5423,E5424/MAX($E$9:E5424)-1)))","v":""}]
[null,null,null,null,null,{"$f":"IF(B5425=\"\",\"\",IF(C5425=\"\",F5424,IF(E5425=\"\",F5424,E5425/MAX($E$9:E5425)-1)))","v":""}]
[null,null,null,null,null,{"$f":"IF(B5426=\"\",\"\",IF(C5426=\"\",F5425,IF(E5426=\"\",F5425,E5426/MAX($E$9:E5426)-1)))","v":""}]
[null,null,null,null,null,{"$f":"IF(B5427=\"\",\"\",IF(C5427=\"\",F5426,IF(E5427=\"\",F5426,E5427/MAX($E$9:E5427)-1)))","v":""}]
[null,null,null,null,null,{"$f":"IF(B5428=\"\",\"\",IF(C5428=\"\",F5427,IF(E5428=\"\",F5427,E5428/MAX($E$9:E5428)-1)))","v":""}]
[null,null,null,null,null,{"$f":"IF(B5429=\"\",\"\",IF(C5429=\"\",F5428,IF(E5429=\"\",F5428,E5429/MAX($E$9:E5429)-1)))","v":""}]
[null,null,null,null,null,{"$f":"IF(B5430=\"\",\"\",IF(C5430=\"\",F5429,IF(E5430=\"\",F5429,E5430/MAX($E$9:E5430)-1)))","v":""}]
[null,null,null,null,null,{"$f":"IF(B5431=\"\",\"\",IF(C5431=\"\",F5430,IF(E5431=\"\",F5430,E5431/MAX($E$9:E5431)-1)))","v":""}]
[null,null,null,null,null,{"$f":"IF(B5432=\"\",\"\",IF(C5432=\"\",F5431,IF(E5432=\"\",F5431,E5432/MAX($E$9:E5432)-1)))","v":""}]
[null,null,null,null,null,{"$f":"IF(B5433=\"\",\"\",IF(C5433=\"\",F5432,IF(E5433=\"\",F5432,E5433/MAX($E$9:E5433)-1)))","v":""}]
[null,null,null,null,null,{"$f":"IF(B5434=\"\",\"\",IF(C5434=\"\",F5433,IF(E5434=\"\",F5433,E5434/MAX($E$9:E5434)-1)))","v":""}]
[null,null,null,null,null,{"$f":"IF(B5435=\"\",\"\",IF(C5435=\"\",F5434,IF(E5435=\"\",F5434,E5435/MAX($E$9:E5435)-1)))","v":""}]
[null,null,null,null,null,{"$f":"IF(B5436=\"\",\"\",IF(C5436=\"\",F5435,IF(E5436=\"\",F5435,E5436/MAX($E$9:E5436)-1)))","v":""}]
[null,null,null,null,null,{"$f":"IF(B5437=\"\",\"\",IF(C5437=\"\",F5436,IF(E5437=\"\",F5436,E5437/MAX($E$9:E5437)-1)))","v":""}]
[null,null,null,null,null,{"$f":"IF(B5438=\"\",\"\",IF(C5438=\"\",F5437,IF(E5438=\"\",F5437,E5438/MAX($E$9:E5438)-1)))","v":""}]
[null,null,null,null,null,{"$f":"IF(B5439=\"\",\"\",IF(C5439=\"\",F5438,IF(E5439=\"\",F5438,E5439/MAX($E$9:E5439)-1)))","v":""}]
[null,null,null,null,null,{"$f":"IF(B5440=\"\",\"\",IF(C5440=\"\",F5439,IF(E5440=\"\",F5439,E5440/MAX($E$9:E5440)-1)))","v":""}]
[null,null,null,null,null,{"$f":"IF(B5441=\"\",\"\",IF(C5441=\"\",F5440,IF(E5441=\"\",F5440,E5441/MAX($E$9:E5441)-1)))","v":""}]
[null,null,null,null,null,{"$f":"IF(B5442=\"\",\"\",IF(C5442=\"\",F5441,IF(E5442=\"\",F5441,E5442/MAX($E$9:E5442)-1)))","v":""}]
[null,null,null,null,null,{"$f":"IF(B5443=\"\",\"\",IF(C5443=\"\",F5442,IF(E5443=\"\",F5442,E5443/MAX($E$9:E5443)-1)))","v":""}]
[null,null,null,null,null,{"$f":"IF(B5444=\"\",\"\",IF(C5444=\"\",F5443,IF(E5444=\"\",F5443,E5444/MAX($E$9:E5444)-1)))","v":""}]
[null,null,null,null,null,{"$f":"IF(B5445=\"\",\"\",IF(C5445=\"\",F5444,IF(E5445=\"\",F5444,E5445/MAX($E$9:E5445)-1)))","v":""}]
[null,null,null,null,null,{"$f":"IF(B5446=\"\",\"\",IF(C5446=\"\",F5445,IF(E5446=\"\",F5445,E5446/MAX($E$9:E5446)-1)))","v":""}]
[null,null,null,null,null,{"$f":"IF(B5447=\"\",\"\",IF(C5447=\"\",F5446,IF(E5447=\"\",F5446,E5447/MAX($E$9:E5447)-1)))","v":""}]
[null,null,null,null,null,{"$f":"IF(B5448=\"\",\"\",IF(C5448=\"\",F5447,IF(E5448=\"\",F5447,E5448/MAX($E$9:E5448)-1)))","v":""}]
[null,null,null,null,null,{"$f":"IF(B5449=\"\",\"\",IF(C5449=\"\",F5448,IF(E5449=\"\",F5448,E5449/MAX($E$9:E5449)-1)))","v":""}]
[null,null,null,null,null,{"$f":"IF(B5450=\"\",\"\",IF(C5450=\"\",F5449,IF(E5450=\"\",F5449,E5450/MAX($E$9:E5450)-1)))","v":""}]
[null,null,null,null,null,{"$f":"IF(B5451=\"\",\"\",IF(C5451=\"\",F5450,IF(E5451=\"\",F5450,E5451/MAX($E$9:E5451)-1)))","v":""}]
[null,null,null,null,null,{"$f":"IF(B5452=\"\",\"\",IF(C5452=\"\",F5451,IF(E5452=\"\",F5451,E5452/MAX($E$9:E5452)-1)))","v":""}]
[null,null,null,null,null,{"$f":"IF(B5453=\"\",\"\",IF(C5453=\"\",F5452,IF(E5453=\"\",F5452,E5453/MAX($E$9:E5453)-1)))","v":""}]
[null,null,null,null,null,{"$f":"IF(B5454=\"\",\"\",IF(C5454=\"\",F5453,IF(E5454=\"\",F5453,E5454/MAX($E$9:E5454)-1)))","v":""}]
[null,null,null,null,null,{"$f":"IF(B5455=\"\",\"\",IF(C5455=\"\",F5454,IF(E5455=\"\",F5454,E5455/MAX($E$9:E5455)-1)))","v":""}]
[null,null,null,null,null,{"$f":"IF(B5456=\"\",\"\",IF(C5456=\"\",F5455,IF(E5456=\"\",F5455,E5456/MAX($E$9:E5456)-1)))","v":""}]
[null,null,null,null,null,{"$f":"IF(B5457=\"\",\"\",IF(C5457=\"\",F5456,IF(E5457=\"\",F5456,E5457/MAX($E$9:E5457)-1)))","v":""}]
[null,null,null,null,null,{"$f":"IF(B5458=\"\",\"\",IF(C5458=\"\",F5457,IF(E5458=\"\",F5457,E5458/MAX($E$9:E5458)-1)))","v":""}]
[null,null,null,null,null,{"$f":"IF(B5459=\"\",\"\",IF(C5459=\"\",F5458,IF(E5459=\"\",F5458,E5459/MAX($E$9:E5459)-1)))","v":""}]
[null,null,null,null,null,{"$f":"IF(B5460=\"\",\"\",IF(C5460=\"\",F5459,IF(E5460=\"\",F5459,E5460/MAX($E$9:E5460)-1)))","v":""}]
[null,null,null,null,null,{"$f":"IF(B5461=\"\",\"\",IF(C5461=\"\",F5460,IF(E5461=\"\",F5460,E5461/MAX($E$9:E5461)-1)))","v":""}]
[null,null,null,null,null,{"$f":"IF(B5462=\"\",\"\",IF(C5462=\"\",F5461,IF(E5462=\"\",F5461,E5462/MAX($E$9:E5462)-1)))","v":""}]
[null,null,null,null,null,{"$f":"IF(B5463=\"\",\"\",IF(C5463=\"\",F5462,IF(E5463=\"\",F5462,E5463/MAX($E$9:E5463)-1)))","v":""}]
[null,null,null,null,null,{"$f":"IF(B5464=\"\",\"\",IF(C5464=\"\",F5463,IF(E5464=\"\",F5463,E5464/MAX($E$9:E5464)-1)))","v":""}]
[null,null,null,null,null,{"$f":"IF(B5465=\"\",\"\",IF(C5465=\"\",F5464,IF(E5465=\"\",F5464,E5465/MAX($E$9:E5465)-1)))","v":""}]
[null,null,null,null,null,{"$f":"IF(B5466=\"\",\"\",IF(C5466=\"\",F5465,IF(E5466=\"\",F5465,E5466/MAX($E$9:E5466)-1)))","v":""}]
[null,null,null,null,null,{"$f":"IF(B5467=\"\",\"\",IF(C5467=\"\",F5466,IF(E5467=\"\",F5466,E5467/MAX($E$9:E5467)-1)))","v":""}]
[null,null,null,null,null,{"$f":"IF(B5468=\"\",\"\",IF(C5468=\"\",F5467,IF(E5468=\"\",F5467,E5468/MAX($E$9:E5468)-1)))","v":""}]
[null,null,null,null,null,{"$f":"IF(B5469=\"\",\"\",IF(C5469=\"\",F5468,IF(E5469=\"\",F5468,E5469/MAX($E$9:E5469)-1)))","v":""}]
[null,null,null,null,null,{"$f":"IF(B5470=\"\",\"\",IF(C5470=\"\",F5469,IF(E5470=\"\",F5469,E5470/MAX($E$9:E5470)-1)))","v":""}]
[null,null,null,null,null,{"$f":"IF(B5471=\"\",\"\",IF(C5471=\"\",F5470,IF(E5471=\"\",F5470,E5471/MAX($E$9:E5471)-1)))","v":""}]
[null,null,null,null,null,{"$f":"IF(B5472=\"\",\"\",IF(C5472=\"\",F5471,IF(E5472=\"\",F5471,E5472/MAX($E$9:E5472)-1)))","v":""}]
[null,null,null,null,null,{"$f":"IF(B5473=\"\",\"\",IF(C5473=\"\",F5472,IF(E5473=\"\",F5472,E5473/MAX($E$9:E5473)-1)))","v":""}]
[null,null,null,null,null,{"$f":"IF(B5474=\"\",\"\",IF(C5474=\"\",F5473,IF(E5474=\"\",F5473,E5474/MAX($E$9:E5474)-1)))","v":""}]
[null,null,null,null,null,{"$f":"IF(B5475=\"\",\"\",IF(C5475=\"\",F5474,IF(E5475=\"\",F5474,E5475/MAX($E$9:E5475)-1)))","v":""}]
[null,null,null,null,null,{"$f":"IF(B5476=\"\",\"\",IF(C5476=\"\",F5475,IF(E5476=\"\",F5475,E5476/MAX($E$9:E5476)-1)))","v":""}]
[null,null,null,null,null,{"$f":"IF(B5477=\"\",\"\",IF(C5477=\"\",F5476,IF(E5477=\"\",F5476,E5477/MAX($E$9:E5477)-1)))","v":""}]
[null,null,null,null,null,{"$f":"IF(B5478=\"\",\"\",IF(C5478=\"\",F5477,IF(E5478=\"\",F5477,E5478/MAX($E$9:E5478)-1)))","v":""}]
[null,null,null,null,null,{"$f":"IF(B5479=\"\",\"\",IF(C5479=\"\",F5478,IF(E5479=\"\",F5478,E5479/MAX($E$9:E5479)-1)))","v":""}]
[null,null,null,null,null,{"$f":"IF(B5480=\"\",\"\",IF(C5480=\"\",F5479,IF(E5480=\"\",F5479,E5480/MAX($E$9:E5480)-1)))","v":""}]
[null,null,null,null,null,{"$f":"IF(B5481=\"\",\"\",IF(C5481=\"\",F5480,IF(E5481=\"\",F5480,E5481/MAX($E$9:E5481)-1)))","v":""}]
[null,null,null,null,null,{"$f":"IF(B5482=\"\",\"\",IF(C5482=\"\",F5481,IF(E5482=\"\",F5481,E5482/MAX($E$9:E5482)-1)))","v":""}]
[null,null,null,null,null,{"$f":"IF(B5483=\"\",\"\",IF(C5483=\"\",F5482,IF(E5483=\"\",F5482,E5483/MAX($E$9:E5483)-1)))","v":""}]
[null,null,null,null,null,{"$f":"IF(B5484=\"\",\"\",IF(C5484=\"\",F5483,IF(E5484=\"\",F5483,E5484/MAX($E$9:E5484)-1)))","v":""}]
[null,null,null,null,null,{"$f":"IF(B5485=\"\",\"\",IF(C5485=\"\",F5484,IF(E5485=\"\",F5484,E5485/MAX($E$9:E5485)-1)))","v":""}]
[null,null,null,null,null,{"$f":"IF(B5486=\"\",\"\",IF(C5486=\"\",F5485,IF(E5486=\"\",F5485,E5486/MAX($E$9:E5486)-1)))","v":""}]
[null,null,null,null,null,{"$f":"IF(B5487=\"\",\"\",IF(C5487=\"\",F5486,IF(E5487=\"\",F5486,E5487/MAX($E$9:E5487)-1)))","v":""}]
[null,null,null,null,null,{"$f":"IF(B5488=\"\",\"\",IF(C5488=\"\",F5487,IF(E5488=\"\",F5487,E5488/MAX($E$9:E5488)-1)))","v":""}]
[null,null,null,null,null,{"$f":"IF(B5489=\"\",\"\",IF(C5489=\"\",F5488,IF(E5489=\"\",F5488,E5489/MAX($E$9:E5489)-1)))","v":""}]
[null,null,null,null,null,{"$f":"IF(B5490=\"\",\"\",IF(C5490=\"\",F5489,IF(E5490=\"\",F5489,E5490/MAX($E$9:E5490)-1)))","v":""}]
[null,null,null,null,null,{"$f":"IF(B5491=\"\",\"\",IF(C5491=\"\",F5490,IF(E5491=\"\",F5490,E5491/MAX($E$9:E5491)-1)))","v":""}]
[null,null,null,null,null,{"$f":"IF(B5492=\"\",\"\",IF(C5492=\"\",F5491,IF(E5492=\"\",F5491,E5492/MAX($E$9:E5492)-1)))","v":""}]
[null,null,null,null,null,{"$f":"IF(B5493=\"\",\"\",IF(C5493=\"\",F5492,IF(E5493=\"\",F5492,E5493/MAX($E$9:E5493)-1)))","v":""}]
[null,null,null,null,null,{"$f":"IF(B5494=\"\",\"\",IF(C5494=\"\",F5493,IF(E5494=\"\",F5493,E5494/MAX($E$9:E5494)-1)))","v":""}]
[null,null,null,null,null,{"$f":"IF(B5495=\"\",\"\",IF(C5495=\"\",F5494,IF(E5495=\"\",F5494,E5495/MAX($E$9:E5495)-1)))","v":""}]
[null,null,null,null,null,{"$f":"IF(B5496=\"\",\"\",IF(C5496=\"\",F5495,IF(E5496=\"\",F5495,E5496/MAX($E$9:E5496)-1)))","v":""}]
[null,null,null,null,null,{"$f":"IF(B5497=\"\",\"\",IF(C5497=\"\",F5496,IF(E5497=\"\",F5496,E5497/MAX($E$9:E5497)-1)))","v":""}]
[null,null,null,null,null,{"$f":"IF(B5498=\"\",\"\",IF(C5498=\"\",F5497,IF(E5498=\"\",F5497,E5498/MAX($E$9:E5498)-1)))","v":""}]
[null,null,null,null,null,{"$f":"IF(B5499=\"\",\"\",IF(C5499=\"\",F5498,IF(E5499=\"\",F5498,E5499/MAX($E$9:E5499)-1)))","v":""}]
[null,null,null,null,null,{"$f":"IF(B5500=\"\",\"\",IF(C5500=\"\",F5499,IF(E5500=\"\",F5499,E5500/MAX($E$9:E5500)-1)))","v":""}]
[null,null,null,null,null,{"$f":"IF(B5501=\"\",\"\",IF(C5501=\"\",F5500,IF(E5501=\"\",F5500,E5501/MAX($E$9:E5501)-1)))","v":""}]
[null,null,null,null,null,{"$f":"IF(B5502=\"\",\"\",IF(C5502=\"\",F5501,IF(E5502=\"\",F5501,E5502/MAX($E$9:E5502)-1)))","v":""}]
[null,null,null,null,null,{"$f":"IF(B5503=\"\",\"\",IF(C5503=\"\",F5502,IF(E5503=\"\",F5502,E5503/MAX($E$9:E5503)-1)))","v":""}]
[null,null,null,null,null,{"$f":"IF(B5504=\"\",\"\",IF(C5504=\"\",F5503,IF(E5504=\"\",F5503,E5504/MAX($E$9:E5504)-1)))","v":""}]
[null,null,null,null,null,{"$f":"IF(B5505=\"\",\"\",IF(C5505=\"\",F5504,IF(E5505=\"\",F5504,E5505/MAX($E$9:E5505)-1)))","v":""}]
[null,null,null,null,null,{"$f":"IF(B5506=\"\",\"\",IF(C5506=\"\",F5505,IF(E5506=\"\",F5505,E5506/MAX($E$9:E5506)-1)))","v":""}]
[null,null,null,null,null,{"$f":"IF(B5507=\"\",\"\",IF(C5507=\"\",F5506,IF(E5507=\"\",F5506,E5507/MAX($E$9:E5507)-1)))","v":""}]
[null,null,null,null,null,{"$f":"IF(B5508=\"\",\"\",IF(C5508=\"\",F5507,IF(E5508=\"\",F5507,E5508/MAX($E$9:E5508)-1)))","v":""}]
[null,null,null,null,null,{"$f":"IF(B5509=\"\",\"\",IF(C5509=\"\",F5508,IF(E5509=\"\",F5508,E5509/MAX($E$9:E5509)-1)))","v":""}]
[null,null,null,null,null,{"$f":"IF(B5510=\"\",\"\",IF(C5510=\"\",F5509,IF(E5510=\"\",F5509,E5510/MAX($E$9:E5510)-1)))","v":""}]
[null,null,null,null,null,{"$f":"IF(B5511=\"\",\"\",IF(C5511=\"\",F5510,IF(E5511=\"\",F5510,E5511/MAX($E$9:E5511)-1)))","v":""}]
[null,null,null,null,null,{"$f":"IF(B5512=\"\",\"\",IF(C5512=\"\",F5511,IF(E5512=\"\",F5511,E5512/MAX($E$9:E5512)-1)))","v":""}]
[null,null,null,null,null,{"$f":"IF(B5513=\"\",\"\",IF(C5513=\"\",F5512,IF(E5513=\"\",F5512,E5513/MAX($E$9:E5513)-1)))","v":""}]
[null,null,null,null,null,{"$f":"IF(B5514=\"\",\"\",IF(C5514=\"\",F5513,IF(E5514=\"\",F5513,E5514/MAX($E$9:E5514)-1)))","v":""}]
[null,null,null,null,null,{"$f":"IF(B5515=\"\",\"\",IF(C5515=\"\",F5514,IF(E5515=\"\",F5514,E5515/MAX($E$9:E5515)-1)))","v":""}]
[null,null,null,null,null,{"$f":"IF(B5516=\"\",\"\",IF(C5516=\"\",F5515,IF(E5516=\"\",F5515,E5516/MAX($E$9:E5516)-1)))","v":""}]
[null,null,null,null,null,{"$f":"IF(B5517=\"\",\"\",IF(C5517=\"\",F5516,IF(E5517=\"\",F5516,E5517/MAX($E$9:E5517)-1)))","v":""}]
[null,null,null,null,null,{"$f":"IF(B5518=\"\",\"\",IF(C5518=\"\",F5517,IF(E5518=\"\",F5517,E5518/MAX($E$9:E5518)-1)))","v":""}]
[null,null,null,null,null,{"$f":"IF(B5519=\"\",\"\",IF(C5519=\"\",F5518,IF(E5519=\"\",F5518,E5519/MAX($E$9:E5519)-1)))","v":""}]
[null,null,null,null,null,{"$f":"IF(B5520=\"\",\"\",IF(C5520=\"\",F5519,IF(E5520=\"\",F5519,E5520/MAX($E$9:E5520)-1)))","v":""}]
[null,null,null,null,null,{"$f":"IF(B5521=\"\",\"\",IF(C5521=\"\",F5520,IF(E5521=\"\",F5520,E5521/MAX($E$9:E5521)-1)))","v":""}]
[null,null,null,null,null,{"$f":"IF(B5522=\"\",\"\",IF(C5522=\"\",F5521,IF(E5522=\"\",F5521,E5522/MAX($E$9:E5522)-1)))","v":""}]
[null,null,null,null,null,{"$f":"IF(B5523=\"\",\"\",IF(C5523=\"\",F5522,IF(E5523=\"\",F5522,E5523/MAX($E$9:E5523)-1)))","v":""}]
[null,null,null,null,null,{"$f":"IF(B5524=\"\",\"\",IF(C5524=\"\",F5523,IF(E5524=\"\",F5523,E5524/MAX($E$9:E5524)-1)))","v":""}]
[null,null,null,null,null,{"$f":"IF(B5525=\"\",\"\",IF(C5525=\"\",F5524,IF(E5525=\"\",F5524,E5525/MAX($E$9:E5525)-1)))","v":""}]
[null,null,null,null,null,{"$f":"IF(B5526=\"\",\"\",IF(C5526=\"\",F5525,IF(E5526=\"\",F5525,E5526/MAX($E$9:E5526)-1)))","v":""}]
[null,null,null,null,null,{"$f":"IF(B5527=\"\",\"\",IF(C5527=\"\",F5526,IF(E5527=\"\",F5526,E5527/MAX($E$9:E5527)-1)))","v":""}]
[null,null,null,null,null,{"$f":"IF(B5528=\"\",\"\",IF(C5528=\"\",F5527,IF(E5528=\"\",F5527,E5528/MAX($E$9:E5528)-1)))","v":""}]
[null,null,null,null,null,{"$f":"IF(B5529=\"\",\"\",IF(C5529=\"\",F5528,IF(E5529=\"\",F5528,E5529/MAX($E$9:E5529)-1)))","v":""}]
[null,null,null,null,null,{"$f":"IF(B5530=\"\",\"\",IF(C5530=\"\",F5529,IF(E5530=\"\",F5529,E5530/MAX($E$9:E5530)-1)))","v":""}]
[null,null,null,null,null,{"$f":"IF(B5531=\"\",\"\",IF(C5531=\"\",F5530,IF(E5531=\"\",F5530,E5531/MAX($E$9:E5531)-1)))","v":""}]
[null,null,null,null,null,{"$f":"IF(B5532=\"\",\"\",IF(C5532=\"\",F5531,IF(E5532=\"\",F5531,E5532/MAX($E$9:E5532)-1)))","v":""}]
[null,null,null,null,null,{"$f":"IF(B5533=\"\",\"\",IF(C5533=\"\",F5532,IF(E5533=\"\",F5532,E5533/MAX($E$9:E5533)-1)))","v":""}]
[null,null,null,null,null,{"$f":"IF(B5534=\"\",\"\",IF(C5534=\"\",F5533,IF(E5534=\"\",F5533,E5534/MAX($E$9:E5534)-1)))","v":""}]
[null,null,null,null,null,{"$f":"IF(B5535=\"\",\"\",IF(C5535=\"\",F5534,IF(E5535=\"\",F5534,E5535/MAX($E$9:E5535)-1)))","v":""}]
[null,null,null,null,null,{"$f":"IF(B5536=\"\",\"\",IF(C5536=\"\",F5535,IF(E5536=\"\",F5535,E5536/MAX($E$9:E5536)-1)))","v":""}]
[null,null,null,null,null,{"$f":"IF(B5537=\"\",\"\",IF(C5537=\"\",F5536,IF(E5537=\"\",F5536,E5537/MAX($E$9:E5537)-1)))","v":""}]
[null,null,null,null,null,{"$f":"IF(B5538=\"\",\"\",IF(C5538=\"\",F5537,IF(E5538=\"\",F5537,E5538/MAX($E$9:E5538)-1)))","v":""}]
[null,null,null,null,null,{"$f":"IF(B5539=\"\",\"\",IF(C5539=\"\",F5538,IF(E5539=\"\",F5538,E5539/MAX($E$9:E5539)-1)))","v":""}]
[null,null,null,null,null,{"$f":"IF(B5540=\"\",\"\",IF(C5540=\"\",F5539,IF(E5540=\"\",F5539,E5540/MAX($E$9:E5540)-1)))","v":""}]
[null,null,null,null,null,{"$f":"IF(B5541=\"\",\"\",IF(C5541=\"\",F5540,IF(E5541=\"\",F5540,E5541/MAX($E$9:E5541)-1)))","v":""}]
[null,null,null,null,null,{"$f":"IF(B5542=\"\",\"\",IF(C5542=\"\",F5541,IF(E5542=\"\",F5541,E5542/MAX($E$9:E5542)-1)))","v":""}]
[null,null,null,null,null,{"$f":"IF(B5543=\"\",\"\",IF(C5543=\"\",F5542,IF(E5543=\"\",F5542,E5543/MAX($E$9:E5543)-1)))","v":""}]
[null,null,null,null,null,{"$f":"IF(B5544=\"\",\"\",IF(C5544=\"\",F5543,IF(E5544=\"\",F5543,E5544/MAX($E$9:E5544)-1)))","v":""}]
[null,null,null,null,null,{"$f":"IF(B5545=\"\",\"\",IF(C5545=\"\",F5544,IF(E5545=\"\",F5544,E5545/MAX($E$9:E5545)-1)))","v":""}]
[null,null,null,null,null,{"$f":"IF(B5546=\"\",\"\",IF(C5546=\"\",F5545,IF(E5546=\"\",F5545,E5546/MAX($E$9:E5546)-1)))","v":""}]
[null,null,null,null,null,{"$f":"IF(B5547=\"\",\"\",IF(C5547=\"\",F5546,IF(E5547=\"\",F5546,E5547/MAX($E$9:E5547)-1)))","v":""}]
[null,null,null,null,null,{"$f":"IF(B5548=\"\",\"\",IF(C5548=\"\",F5547,IF(E5548=\"\",F5547,E5548/MAX($E$9:E5548)-1)))","v":""}]
[null,null,null,null,null,{"$f":"IF(B5549=\"\",\"\",IF(C5549=\"\",F5548,IF(E5549=\"\",F5548,E5549/MAX($E$9:E5549)-1)))","v":""}]
[null,null,null,null,null,{"$f":"IF(B5550=\"\",\"\",IF(C5550=\"\",F5549,IF(E5550=\"\",F5549,E5550/MAX($E$9:E5550)-1)))","v":""}]
[null,null,null,null,null,{"$f":"IF(B5551=\"\",\"\",IF(C5551=\"\",F5550,IF(E5551=\"\",F5550,E5551/MAX($E$9:E5551)-1)))","v":""}]
[null,null,null,null,null,{"$f":"IF(B5552=\"\",\"\",IF(C5552=\"\",F5551,IF(E5552=\"\",F5551,E5552/MAX($E$9:E5552)-1)))","v":""}]
[null,null,null,null,null,{"$f":"IF(B5553=\"\",\"\",IF(C5553=\"\",F5552,IF(E5553=\"\",F5552,E5553/MAX($E$9:E5553)-1)))","v":""}]
[null,null,null,null,null,{"$f":"IF(B5554=\"\",\"\",IF(C5554=\"\",F5553,IF(E5554=\"\",F5553,E5554/MAX($E$9:E5554)-1)))","v":""}]
[null,null,null,null,null,{"$f":"IF(B5555=\"\",\"\",IF(C5555=\"\",F5554,IF(E5555=\"\",F5554,E5555/MAX($E$9:E5555)-1)))","v":""}]
[null,null,null,null,null,{"$f":"IF(B5556=\"\",\"\",IF(C5556=\"\",F5555,IF(E5556=\"\",F5555,E5556/MAX($E$9:E5556)-1)))","v":""}]
[null,null,null,null,null,{"$f":"IF(B5557=\"\",\"\",IF(C5557=\"\",F5556,IF(E5557=\"\",F5556,E5557/MAX($E$9:E5557)-1)))","v":""}]
[null,null,null,null,null,{"$f":"IF(B5558=\"\",\"\",IF(C5558=\"\",F5557,IF(E5558=\"\",F5557,E5558/MAX($E$9:E5558)-1)))","v":""}]
[null,null,null,null,null,{"$f":"IF(B5559=\"\",\"\",IF(C5559=\"\",F5558,IF(E5559=\"\",F5558,E5559/MAX($E$9:E5559)-1)))","v":""}]
[null,null,null,null,null,{"$f":"IF(B5560=\"\",\"\",IF(C5560=\"\",F5559,IF(E5560=\"\",F5559,E5560/MAX($E$9:E5560)-1)))","v":""}]
[null,null,null,null,null,{"$f":"IF(B5561=\"\",\"\",IF(C5561=\"\",F5560,IF(E5561=\"\",F5560,E5561/MAX($E$9:E5561)-1)))","v":""}]
[null,null,null,null,null,{"$f":"IF(B5562=\"\",\"\",IF(C5562=\"\",F5561,IF(E5562=\"\",F5561,E5562/MAX($E$9:E5562)-1)))","v":""}]
[null,null,null,null,null,{"$f":"IF(B5563=\"\",\"\",IF(C5563=\"\",F5562,IF(E5563=\"\",F5562,E5563/MAX($E$9:E5563)-1)))","v":""}]
[null,null,null,null,null,{"$f":"IF(B5564=\"\",\"\",IF(C5564=\"\",F5563,IF(E5564=\"\",F5563,E5564/MAX($E$9:E5564)-1)))","v":""}]
[null,null,null,null,null,{"$f":"IF(B5565=\"\",\"\",IF(C5565=\"\",F5564,IF(E5565=\"\",F5564,E5565/MAX($E$9:E5565)-1)))","v":""}]
[null,null,null,null,null,{"$f":"IF(B5566=\"\",\"\",IF(C5566=\"\",F5565,IF(E5566=\"\",F5565,E5566/MAX($E$9:E5566)-1)))","v":""}]
[null,null,null,null,null,{"$f":"IF(B5567=\"\",\"\",IF(C5567=\"\",F5566,IF(E5567=\"\",F5566,E5567/MAX($E$9:E5567)-1)))","v":""}]
[null,null,null,null,null,{"$f":"IF(B5568=\"\",\"\",IF(C5568=\"\",F5567,IF(E5568=\"\",F5567,E5568/MAX($E$9:E5568)-1)))","v":""}]
[null,null,null,null,null,{"$f":"IF(B5569=\"\",\"\",IF(C5569=\"\",F5568,IF(E5569=\"\",F5568,E5569/MAX($E$9:E5569)-1)))","v":""}]
[null,null,null,null,null,{"$f":"IF(B5570=\"\",\"\",IF(C5570=\"\",F5569,IF(E5570=\"\",F5569,E5570/MAX($E$9:E5570)-1)))","v":""}]
[null,null,null,null,null,{"$f":"IF(B5571=\"\",\"\",IF(C5571=\"\",F5570,IF(E5571=\"\",F5570,E5571/MAX($E$9:E5571)-1)))","v":""}]
[null,null,null,null,null,{"$f":"IF(B5572=\"\",\"\",IF(C5572=\"\",F5571,IF(E5572=\"\",F5571,E5572/MAX($E$9:E5572)-1)))","v":""}]
[null,null,null,null,null,{"$f":"IF(B5573=\"\",\"\",IF(C5573=\"\",F5572,IF(E5573=\"\",F5572,E5573/MAX($E$9:E5573)-1)))","v":""}]
[null,null,null,null,null,{"$f":"IF(B5574=\"\",\"\",IF(C5574=\"\",F5573,IF(E5574=\"\",F5573,E5574/MAX($E$9:E5574)-1)))","v":""}]
[null,null,null,null,null,{"$f":"IF(B5575=\"\",\"\",IF(C5575=\"\",F5574,IF(E5575=\"\",F5574,E5575/MAX($E$9:E5575)-1)))","v":""}]
[null,null,null,null,null,{"$f":"IF(B5576=\"\",\"\",IF(C5576=\"\",F5575,IF(E5576=\"\",F5575,E5576/MAX($E$9:E5576)-1)))","v":""}]
[null,null,null,null,null,{"$f":"IF(B5577=\"\",\"\",IF(C5577=\"\",F5576,IF(E5577=\"\",F5576,E5577/MAX($E$9:E5577)-1)))","v":""}]
[null,null,null,null,null,{"$f":"IF(B5578=\"\",\"\",IF(C5578=\"\",F5577,IF(E5578=\"\",F5577,E5578/MAX($E$9:E5578)-1)))","v":""}]
[null,null,null,null,null,{"$f":"IF(B5579=\"\",\"\",IF(C5579=\"\",F5578,IF(E5579=\"\",F5578,E5579/MAX($E$9:E5579)-1)))","v":""}]
[null,null,null,null,null,{"$f":"IF(B5580=\"\",\"\",IF(C5580=\"\",F5579,IF(E5580=\"\",F5579,E5580/MAX($E$9:E5580)-1)))","v":""}]
[null,null,null,null,null,{"$f":"IF(B5581=\"\",\"\",IF(C5581=\"\",F5580,IF(E5581=\"\",F5580,E5581/MAX($E$9:E5581)-1)))","v":""}]
[null,null,null,null,null,{"$f":"IF(B5582=\"\",\"\",IF(C5582=\"\",F5581,IF(E5582=\"\",F5581,E5582/MAX($E$9:E5582)-1)))","v":""}]
[null,null,null,null,null,{"$f":"IF(B5583=\"\",\"\",IF(C5583=\"\",F5582,IF(E5583=\"\",F5582,E5583/MAX($E$9:E5583)-1)))","v":""}]
[null,null,null,null,null,{"$f":"IF(B5584=\"\",\"\",IF(C5584=\"\",F5583,IF(E5584=\"\",F5583,E5584/MAX($E$9:E5584)-1)))","v":""}]
[null,null,null,null,null,{"$f":"IF(B5585=\"\",\"\",IF(C5585=\"\",F5584,IF(E5585=\"\",F5584,E5585/MAX($E$9:E5585)-1)))","v":""}]
[null,null,null,null,null,{"$f":"IF(B5586=\"\",\"\",IF(C5586=\"\",F5585,IF(E5586=\"\",F5585,E5586/MAX($E$9:E5586)-1)))","v":""}]
[null,null,null,null,null,{"$f":"IF(B5587=\"\",\"\",IF(C5587=\"\",F5586,IF(E5587=\"\",F5586,E5587/MAX($E$9:E5587)-1)))","v":""}]
[null,null,null,null,null,{"$f":"IF(B5588=\"\",\"\",IF(C5588=\"\",F5587,IF(E5588=\"\",F5587,E5588/MAX($E$9:E5588)-1)))","v":""}]
[null,null,null,null,null,{"$f":"IF(B5589=\"\",\"\",IF(C5589=\"\",F5588,IF(E5589=\"\",F5588,E5589/MAX($E$9:E5589)-1)))","v":""}]
[null,null,null,null,null,{"$f":"IF(B5590=\"\",\"\",IF(C5590=\"\",F5589,IF(E5590=\"\",F5589,E5590/MAX($E$9:E5590)-1)))","v":""}]
[null,null,null,null,null,{"$f":"IF(B5591=\"\",\"\",IF(C5591=\"\",F5590,IF(E5591=\"\",F5590,E5591/MAX($E$9:E5591)-1)))","v":""}]
[null,null,null,null,null,{"$f":"IF(B5592=\"\",\"\",IF(C5592=\"\",F5591,IF(E5592=\"\",F5591,E5592/MAX($E$9:E5592)-1)))","v":""}]
[null,null,null,null,null,{"$f":"IF(B5593=\"\",\"\",IF(C5593=\"\",F5592,IF(E5593=\"\",F5592,E5593/MAX($E$9:E5593)-1)))","v":""}]
[null,null,null,null,null,{"$f":"IF(B5594=\"\",\"\",IF(C5594=\"\",F5593,IF(E5594=\"\",F5593,E5594/MAX($E$9:E5594)-1)))","v":""}]
[null,null,null,null,null,{"$f":"IF(B5595=\"\",\"\",IF(C5595=\"\",F5594,IF(E5595=\"\",F5594,E5595/MAX($E$9:E5595)-1)))","v":""}]
[null,null,null,null,null,{"$f":"IF(B5596=\"\",\"\",IF(C5596=\"\",F5595,IF(E5596=\"\",F5595,E5596/MAX($E$9:E5596)-1)))","v":""}]
[null,null,null,null,null,{"$f":"IF(B5597=\"\",\"\",IF(C5597=\"\",F5596,IF(E5597=\"\",F5596,E5597/MAX($E$9:E5597)-1)))","v":""}]
[null,null,null,null,null,{"$f":"IF(B5598=\"\",\"\",IF(C5598=\"\",F5597,IF(E5598=\"\",F5597,E5598/MAX($E$9:E5598)-1)))","v":""}]
[null,null,null,null,null,{"$f":"IF(B5599=\"\",\"\",IF(C5599=\"\",F5598,IF(E5599=\"\",F5598,E5599/MAX($E$9:E5599)-1)))","v":""}]
[null,null,null,null,null,{"$f":"IF(B5600=\"\",\"\",IF(C5600=\"\",F5599,IF(E5600=\"\",F5599,E5600/MAX($E$9:E5600)-1)))","v":""}]
[null,null,null,null,null,{"$f":"IF(B5601=\"\",\"\",IF(C5601=\"\",F5600,IF(E5601=\"\",F5600,E5601/MAX($E$9:E5601)-1)))","v":""}]
[null,null,null,null,null,{"$f":"IF(B5602=\"\",\"\",IF(C5602=\"\",F5601,IF(E5602=\"\",F5601,E5602/MAX($E$9:E5602)-1)))","v":""}]
[null,null,null,null,null,{"$f":"IF(B5603=\"\",\"\",IF(C5603=\"\",F5602,IF(E5603=\"\",F5602,E5603/MAX($E$9:E5603)-1)))","v":""}]
[null,null,null,null,null,{"$f":"IF(B5604=\"\",\"\",IF(C5604=\"\",F5603,IF(E5604=\"\",F5603,E5604/MAX($E$9:E5604)-1)))","v":""}]
[null,null,null,null,null,{"$f":"IF(B5605=\"\",\"\",IF(C5605=\"\",F5604,IF(E5605=\"\",F5604,E5605/MAX($E$9:E5605)-1)))","v":""}]
[null,null,null,null,null,{"$f":"IF(B5606=\"\",\"\",IF(C5606=\"\",F5605,IF(E5606=\"\",F5605,E5606/MAX($E$9:E5606)-1)))","v":""}]
[null,null,null,null,null,{"$f":"IF(B5607=\"\",\"\",IF(C5607=\"\",F5606,IF(E5607=\"\",F5606,E5607/MAX($E$9:E5607)-1)))","v":""}]
[null,null,null,null,null,{"$f":"IF(B5608=\"\",\"\",IF(C5608=\"\",F5607,IF(E5608=\"\",F5607,E5608/MAX($E$9:E5608)-1)))","v":""}]
[null,null,null,null,null,{"$f":"IF(B5609=\"\",\"\",IF(C5609=\"\",F5608,IF(E5609=\"\",F5608,E5609/MAX($E$9:E5609)-1)))","v":""}]
[null,null,null,null,null,{"$f":"IF(B5610=\"\",\"\",IF(C5610=\"\",F5609,IF(E5610=\"\",F5609,E5610/MAX($E$9:E5610)-1)))","v":""}]
[null,null,null,null,null,{"$f":"IF(B5611=\"\",\"\",IF(C5611=\"\",F5610,IF(E5611=\"\",F5610,E5611/MAX($E$9:E5611)-1)))","v":""}]
[null,null,null,null,null,{"$f":"IF(B5612=\"\",\"\",IF(C5612=\"\",F5611,IF(E5612=\"\",F5611,E5612/MAX($E$9:E5612)-1)))","v":""}]
[null,null,null,null,null,{"$f":"IF(B5613=\"\",\"\",IF(C5613=\"\",F5612,IF(E5613=\"\",F5612,E5613/MAX($E$9:E5613)-1)))","v":""}]
[null,null,null,null,null,{"$f":"IF(B5614=\"\",\"\",IF(C5614=\"\",F5613,IF(E5614=\"\",F5613,E5614/MAX($E$9:E5614)-1)))","v":""}]
[null,null,null,null,null,{"$f":"IF(B5615=\"\",\"\",IF(C5615=\"\",F5614,IF(E5615=\"\",F5614,E5615/MAX($E$9:E5615)-1)))","v":""}]
[null,null,null,null,null,{"$f":"IF(B5616=\"\",\"\",IF(C5616=\"\",F5615,IF(E5616=\"\",F5615,E5616/MAX($E$9:E5616)-1)))","v":""}]
[null,null,null,null,null,{"$f":"IF(B5617=\"\",\"\",IF(C5617=\"\",F5616,IF(E5617=\"\",F5616,E5617/MAX($E$9:E5617)-1)))","v":""}]
[null,null,null,null,null,{"$f":"IF(B5618=\"\",\"\",IF(C5618=\"\",F5617,IF(E5618=\"\",F5617,E5618/MAX($E$9:E5618)-1)))","v":""}]
[null,null,null,null,null,{"$f":"IF(B5619=\"\",\"\",IF(C5619=\"\",F5618,IF(E5619=\"\",F5618,E5619/MAX($E$9:E5619)-1)))","v":""}]
[null,null,null,null,null,{"$f":"IF(B5620=\"\",\"\",IF(C5620=\"\",F5619,IF(E5620=\"\",F5619,E5620/MAX($E$9:E5620)-1)))","v":""}]
[null,null,null,null,null,{"$f":"IF(B5621=\"\",\"\",IF(C5621=\"\",F5620,IF(E5621=\"\",F5620,E5621/MAX($E$9:E5621)-1)))","v":""}]
[null,null,null,null,null,{"$f":"IF(B5622=\"\",\"\",IF(C5622=\"\",F5621,IF(E5622=\"\",F5621,E5622/MAX($E$9:E5622)-1)))","v":""}]
[null,null,null,null,null,{"$f":"IF(B5623=\"\",\"\",IF(C5623=\"\",F5622,IF(E5623=\"\",F5622,E5623/MAX($E$9:E5623)-1)))","v":""}]
[null,null,null,null,null,{"$f":"IF(B5624=\"\",\"\",IF(C5624=\"\",F5623,IF(E5624=\"\",F5623,E5624/MAX($E$9:E5624)-1)))","v":""}]
[null,null,null,null,null,{"$f":"IF(B5625=\"\",\"\",IF(C5625=\"\",F5624,IF(E5625=\"\",F5624,E5625/MAX($E$9:E5625)-1)))","v":""}]
[null,null,null,null,null,{"$f":"IF(B5626=\"\",\"\",IF(C5626=\"\",F5625,IF(E5626=\"\",F5625,E5626/MAX($E$9:E5626)-1)))","v":""}]
[null,null,null,null,null,{"$f":"IF(B5627=\"\",\"\",IF(C5627=\"\",F5626,IF(E5627=\"\",F5626,E5627/MAX($E$9:E5627)-1)))","v":""}]
[null,null,null,null,null,{"$f":"IF(B5628=\"\",\"\",IF(C5628=\"\",F5627,IF(E5628=\"\",F5627,E5628/MAX($E$9:E5628)-1)))","v":""}]
[null,null,null,null,null,{"$f":"IF(B5629=\"\",\"\",IF(C5629=\"\",F5628,IF(E5629=\"\",F5628,E5629/MAX($E$9:E5629)-1)))","v":""}]
[null,null,null,null,null,{"$f":"IF(B5630=\"\",\"\",IF(C5630=\"\",F5629,IF(E5630=\"\",F5629,E5630/MAX($E$9:E5630)-1)))","v":""}]
[null,null,null,null,null,{"$f":"IF(B5631=\"\",\"\",IF(C5631=\"\",F5630,IF(E5631=\"\",F5630,E5631/MAX($E$9:E5631)-1)))","v":""}]
[null,null,null,null,null,{"$f":"IF(B5632=\"\",\"\",IF(C5632=\"\",F5631,IF(E5632=\"\",F5631,E5632/MAX($E$9:E5632)-1)))","v":""}]
[null,null,null,null,null,{"$f":"IF(B5633=\"\",\"\",IF(C5633=\"\",F5632,IF(E5633=\"\",F5632,E5633/MAX($E$9:E5633)-1)))","v":""}]
[null,null,null,null,null,{"$f":"IF(B5634=\"\",\"\",IF(C5634=\"\",F5633,IF(E5634=\"\",F5633,E5634/MAX($E$9:E5634)-1)))","v":""}]
[null,null,null,null,null,{"$f":"IF(B5635=\"\",\"\",IF(C5635=\"\",F5634,IF(E5635=\"\",F5634,E5635/MAX($E$9:E5635)-1)))","v":""}]
[null,null,null,null,null,{"$f":"IF(B5636=\"\",\"\",IF(C5636=\"\",F5635,IF(E5636=\"\",F5635,E5636/MAX($E$9:E5636)-1)))","v":""}]
[null,null,null,null,null,{"$f":"IF(B5637=\"\",\"\",IF(C5637=\"\",F5636,IF(E5637=\"\",F5636,E5637/MAX($E$9:E5637)-1)))","v":""}]
[null,null,null,null,null,{"$f":"IF(B5638=\"\",\"\",IF(C5638=\"\",F5637,IF(E5638=\"\",F5637,E5638/MAX($E$9:E5638)-1)))","v":""}]
[null,null,null,null,null,{"$f":"IF(B5639=\"\",\"\",IF(C5639=\"\",F5638,IF(E5639=\"\",F5638,E5639/MAX($E$9:E5639)-1)))","v":""}]
[null,null,null,null,null,{"$f":"IF(B5640=\"\",\"\",IF(C5640=\"\",F5639,IF(E5640=\"\",F5639,E5640/MAX($E$9:E5640)-1)))","v":""}]
[null,null,null,null,null,{"$f":"IF(B5641=\"\",\"\",IF(C5641=\"\",F5640,IF(E5641=\"\",F5640,E5641/MAX($E$9:E5641)-1)))","v":""}]
[null,null,null,null,null,{"$f":"IF(B5642=\"\",\"\",IF(C5642=\"\",F5641,IF(E5642=\"\",F5641,E5642/MAX($E$9:E5642)-1)))","v":""}]
[null,null,null,null,null,{"$f":"IF(B5643=\"\",\"\",IF(C5643=\"\",F5642,IF(E5643=\"\",F5642,E5643/MAX($E$9:E5643)-1)))","v":""}]
[null,null,null,null,null,{"$f":"IF(B5644=\"\",\"\",IF(C5644=\"\",F5643,IF(E5644=\"\",F5643,E5644/MAX($E$9:E5644)-1)))","v":""}]
[null,null,null,null,null,{"$f":"IF(B5645=\"\",\"\",IF(C5645=\"\",F5644,IF(E5645=\"\",F5644,E5645/MAX($E$9:E5645)-1)))","v":""}]
[null,null,null,null,null,{"$f":"IF(B5646=\"\",\"\",IF(C5646=\"\",F5645,IF(E5646=\"\",F5645,E5646/MAX($E$9:E5646)-1)))","v":""}]
[null,null,null,null,null,{"$f":"IF(B5647=\"\",\"\",IF(C5647=\"\",F5646,IF(E5647=\"\",F5646,E5647/MAX($E$9:E5647)-1)))","v":""}]
[null,null,null,null,null,{"$f":"IF(B5648=\"\",\"\",IF(C5648=\"\",F5647,IF(E5648=\"\",F5647,E5648/MAX($E$9:E5648)-1)))","v":""}]
[null,null,null,null,null,{"$f":"IF(B5649=\"\",\"\",IF(C5649=\"\",F5648,IF(E5649=\"\",F5648,E5649/MAX($E$9:E5649)-1)))","v":""}]
[null,null,null,null,null,{"$f":"IF(B5650=\"\",\"\",IF(C5650=\"\",F5649,IF(E5650=\"\",F5649,E5650/MAX($E$9:E5650)-1)))","v":""}]
[null,null,null,null,null,{"$f":"IF(B5651=\"\",\"\",IF(C5651=\"\",F5650,IF(E5651=\"\",F5650,E5651/MAX($E$9:E5651)-1)))","v":""}]
[null,null,null,null,null,{"$f":"IF(B5652=\"\",\"\",IF(C5652=\"\",F5651,IF(E5652=\"\",F5651,E5652/MAX($E$9:E5652)-1)))","v":""}]
[null,null,null,null,null,{"$f":"IF(B5653=\"\",\"\",IF(C5653=\"\",F5652,IF(E5653=\"\",F5652,E5653/MAX($E$9:E5653)-1)))","v":""}]
[null,null,null,null,null,{"$f":"IF(B5654=\"\",\"\",IF(C5654=\"\",F5653,IF(E5654=\"\",F5653,E5654/MAX($E$9:E5654)-1)))","v":""}]
[null,null,null,null,null,{"$f":"IF(B5655=\"\",\"\",IF(C5655=\"\",F5654,IF(E5655=\"\",F5654,E5655/MAX($E$9:E5655)-1)))","v":""}]
[null,null,null,null,null,{"$f":"IF(B5656=\"\",\"\",IF(C5656=\"\",F5655,IF(E5656=\"\",F5655,E5656/MAX($E$9:E5656)-1)))","v":""}]
[null,null,null,null,null,{"$f":"IF(B5657=\"\",\"\",IF(C5657=\"\",F5656,IF(E5657=\"\",F5656,E5657/MAX($E$9:E5657)-1)))","v":""}]
[null,null,null,null,null,{"$f":"IF(B5658=\"\",\"\",IF(C5658=\"\",F5657,IF(E5658=\"\",F5657,E5658/MAX($E$9:E5658)-1)))","v":""}]
[null,null,null,null,null,{"$f":"IF(B5659=\"\",\"\",IF(C5659=\"\",F5658,IF(E5659=\"\",F5658,E5659/MAX($E$9:E5659)-1)))","v":""}]
[null,null,null,null,null,{"$f":"IF(B5660=\"\",\"\",IF(C5660=\"\",F5659,IF(E5660=\"\",F5659,E5660/MAX($E$9:E5660)-1)))","v":""}]
[null,null,null,null,null,{"$f":"IF(B5661=\"\",\"\",IF(C5661=\"\",F5660,IF(E5661=\"\",F5660,E5661/MAX($E$9:E5661)-1)))","v":""}]
[null,null,null,null,null,{"$f":"IF(B5662=\"\",\"\",IF(C5662=\"\",F5661,IF(E5662=\"\",F5661,E5662/MAX($E$9:E5662)-1)))","v":""}]
[null,null,null,null,null,{"$f":"IF(B5663=\"\",\"\",IF(C5663=\"\",F5662,IF(E5663=\"\",F5662,E5663/MAX($E$9:E5663)-1)))","v":""}]
[null,null,null,null,null,{"$f":"IF(B5664=\"\",\"\",IF(C5664=\"\",F5663,IF(E5664=\"\",F5663,E5664/MAX($E$9:E5664)-1)))","v":""}]
[null,null,null,null,null,{"$f":"IF(B5665=\"\",\"\",IF(C5665=\"\",F5664,IF(E5665=\"\",F5664,E5665/MAX($E$9:E5665)-1)))","v":""}]
[null,null,null,null,null,{"$f":"IF(B5666=\"\",\"\",IF(C5666=\"\",F5665,IF(E5666=\"\",F5665,E5666/MAX($E$9:E5666)-1)))","v":""}]
[null,null,null,null,null,{"$f":"IF(B5667=\"\",\"\",IF(C5667=\"\",F5666,IF(E5667=\"\",F5666,E5667/MAX($E$9:E5667)-1)))","v":""}]
[null,null,null,null,null,{"$f":"IF(B5668=\"\",\"\",IF(C5668=\"\",F5667,IF(E5668=\"\",F5667,E5668/MAX($E$9:E5668)-1)))","v":""}]
[null,null,null,null,null,{"$f":"IF(B5669=\"\",\"\",IF(C5669=\"\",F5668,IF(E5669=\"\",F5668,E5669/MAX($E$9:E5669)-1)))","v":""}]
[null,null,null,null,null,{"$f":"IF(B5670=\"\",\"\",IF(C5670=\"\",F5669,IF(E5670=\"\",F5669,E5670/MAX($E$9:E5670)-1)))","v":""}]
[null,null,null,null,null,{"$f":"IF(B5671=\"\",\"\",IF(C5671=\"\",F5670,IF(E5671=\"\",F5670,E5671/MAX($E$9:E5671)-1)))","v":""}]
[null,null,null,null,null,{"$f":"IF(B5672=\"\",\"\",IF(C5672=\"\",F5671,IF(E5672=\"\",F5671,E5672/MAX($E$9:E5672)-1)))","v":""}]
[null,null,null,null,null,{"$f":"IF(B5673=\"\",\"\",IF(C5673=\"\",F5672,IF(E5673=\"\",F5672,E5673/MAX($E$9:E5673)-1)))","v":""}]
[null,null,null,null,null,{"$f":"IF(B5674=\"\",\"\",IF(C5674=\"\",F5673,IF(E5674=\"\",F5673,E5674/MAX($E$9:E5674)-1)))","v":""}]
[null,null,null,null,null,{"$f":"IF(B5675=\"\",\"\",IF(C5675=\"\",F5674,IF(E5675=\"\",F5674,E5675/MAX($E$9:E5675)-1)))","v":""}]
[null,null,null,null,null,{"$f":"IF(B5676=\"\",\"\",IF(C5676=\"\",F5675,IF(E5676=\"\",F5675,E5676/MAX($E$9:E5676)-1)))","v":""}]
[null,null,null,null,null,{"$f":"IF(B5677=\"\",\"\",IF(C5677=\"\",F5676,IF(E5677=\"\",F5676,E5677/MAX($E$9:E5677)-1)))","v":""}]
[null,null,null,null,null,{"$f":"IF(B5678=\"\",\"\",IF(C5678=\"\",F5677,IF(E5678=\"\",F5677,E5678/MAX($E$9:E5678)-1)))","v":""}]
[null,null,null,null,null,{"$f":"IF(B5679=\"\",\"\",IF(C5679=\"\",F5678,IF(E5679=\"\",F5678,E5679/MAX($E$9:E5679)-1)))","v":""}]
[null,null,null,null,null,{"$f":"IF(B5680=\"\",\"\",IF(C5680=\"\",F5679,IF(E5680=\"\",F5679,E5680/MAX($E$9:E5680)-1)))","v":""}]
[null,null,null,null,null,{"$f":"IF(B5681=\"\",\"\",IF(C5681=\"\",F5680,IF(E5681=\"\",F5680,E5681/MAX($E$9:E5681)-1)))","v":""}]
[null,null,null,null,null,{"$f":"IF(B5682=\"\",\"\",IF(C5682=\"\",F5681,IF(E5682=\"\",F5681,E5682/MAX($E$9:E5682)-1)))","v":""}]
[null,null,null,null,null,{"$f":"IF(B5683=\"\",\"\",IF(C5683=\"\",F5682,IF(E5683=\"\",F5682,E5683/MAX($E$9:E5683)-1)))","v":""}]
[null,null,null,null,null,{"$f":"IF(B5684=\"\",\"\",IF(C5684=\"\",F5683,IF(E5684=\"\",F5683,E5684/MAX($E$9:E5684)-1)))","v":""}]
[null,null,null,null,null,{"$f":"IF(B5685=\"\",\"\",IF(C5685=\"\",F5684,IF(E5685=\"\",F5684,E5685/MAX($E$9:E5685)-1)))","v":""}]
[null,null,null,null,null,{"$f":"IF(B5686=\"\",\"\",IF(C5686=\"\",F5685,IF(E5686=\"\",F5685,E5686/MAX($E$9:E5686)-1)))","v":""}]
[null,null,null,null,null,{"$f":"IF(B5687=\"\",\"\",IF(C5687=\"\",F5686,IF(E5687=\"\",F5686,E5687/MAX($E$9:E5687)-1)))","v":""}]
[null,null,null,null,null,{"$f":"IF(B5688=\"\",\"\",IF(C5688=\"\",F5687,IF(E5688=\"\",F5687,E5688/MAX($E$9:E5688)-1)))","v":""}]
[null,null,null,null,null,{"$f":"IF(B5689=\"\",\"\",IF(C5689=\"\",F5688,IF(E5689=\"\",F5688,E5689/MAX($E$9:E5689)-1)))","v":""}]
[null,null,null,null,null,{"$f":"IF(B5690=\"\",\"\",IF(C5690=\"\",F5689,IF(E5690=\"\",F5689,E5690/MAX($E$9:E5690)-1)))","v":""}]
[null,null,null,null,null,{"$f":"IF(B5691=\"\",\"\",IF(C5691=\"\",F5690,IF(E5691=\"\",F5690,E5691/MAX($E$9:E5691)-1)))","v":""}]
[null,null,null,null,null,{"$f":"IF(B5692=\"\",\"\",IF(C5692=\"\",F5691,IF(E5692=\"\",F5691,E5692/MAX($E$9:E5692)-1)))","v":""}]
[null,null,null,null,null,{"$f":"IF(B5693=\"\",\"\",IF(C5693=\"\",F5692,IF(E5693=\"\",F5692,E5693/MAX($E$9:E5693)-1)))","v":""}]
[null,null,null,null,null,{"$f":"IF(B5694=\"\",\"\",IF(C5694=\"\",F5693,IF(E5694=\"\",F5693,E5694/MAX($E$9:E5694)-1)))","v":""}]
[null,null,null,null,null,{"$f":"IF(B5695=\"\",\"\",IF(C5695=\"\",F5694,IF(E5695=\"\",F5694,E5695/MAX($E$9:E5695)-1)))","v":""}]
[null,null,null,null,null,{"$f":"IF(B5696=\"\",\"\",IF(C5696=\"\",F5695,IF(E5696=\"\",F5695,E5696/MAX($E$9:E5696)-1)))","v":""}]
[null,null,null,null,null,{"$f":"IF(B5697=\"\",\"\",IF(C5697=\"\",F5696,IF(E5697=\"\",F5696,E5697/MAX($E$9:E5697)-1)))","v":""}]
[null,null,null,null,null,{"$f":"IF(B5698=\"\",\"\",IF(C5698=\"\",F5697,IF(E5698=\"\",F5697,E5698/MAX($E$9:E5698)-1)))","v":""}]
[null,null,null,null,null,{"$f":"IF(B5699=\"\",\"\",IF(C5699=\"\",F5698,IF(E5699=\"\",F5698,E5699/MAX($E$9:E5699)-1)))","v":""}]
[null,null,null,null,null,{"$f":"IF(B5700=\"\",\"\",IF(C5700=\"\",F5699,IF(E5700=\"\",F5699,E5700/MAX($E$9:E5700)-1)))","v":""}]
[null,null,null,null,null,{"$f":"IF(B5701=\"\",\"\",IF(C5701=\"\",F5700,IF(E5701=\"\",F5700,E5701/MAX($E$9:E5701)-1)))","v":""}]
[null,null,null,null,null,{"$f":"IF(B5702=\"\",\"\",IF(C5702=\"\",F5701,IF(E5702=\"\",F5701,E5702/MAX($E$9:E5702)-1)))","v":""}]
[null,null,null,null,null,{"$f":"IF(B5703=\"\",\"\",IF(C5703=\"\",F5702,IF(E5703=\"\",F5702,E5703/MAX($E$9:E5703)-1)))","v":""}]
[null,null,null,null,null,{"$f":"IF(B5704=\"\",\"\",IF(C5704=\"\",F5703,IF(E5704=\"\",F5703,E5704/MAX($E$9:E5704)-1)))","v":""}]
[null,null,null,null,null,{"$f":"IF(B5705=\"\",\"\",IF(C5705=\"\",F5704,IF(E5705=\"\",F5704,E5705/MAX($E$9:E5705)-1)))","v":""}]
[null,null,null,null,null,{"$f":"IF(B5706=\"\",\"\",IF(C5706=\"\",F5705,IF(E5706=\"\",F5705,E5706/MAX($E$9:E5706)-1)))","v":""}]
[null,null,null,null,null,{"$f":"IF(B5707=\"\",\"\",IF(C5707=\"\",F5706,IF(E5707=\"\",F5706,E5707/MAX($E$9:E5707)-1)))","v":""}]
[null,null,null,null,null,{"$f":"IF(B5708=\"\",\"\",IF(C5708=\"\",F5707,IF(E5708=\"\",F5707,E5708/MAX($E$9:E5708)-1)))","v":""}]
[null,null,null,null,null,{"$f":"IF(B5709=\"\",\"\",IF(C5709=\"\",F5708,IF(E5709=\"\",F5708,E5709/MAX($E$9:E5709)-1)))","v":""}]
[null,null,null,null,null,{"$f":"IF(B5710=\"\",\"\",IF(C5710=\"\",F5709,IF(E5710=\"\",F5709,E5710/MAX($E$9:E5710)-1)))","v":""}]
[null,null,null,null,null,{"$f":"IF(B5711=\"\",\"\",IF(C5711=\"\",F5710,IF(E5711=\"\",F5710,E5711/MAX($E$9:E5711)-1)))","v":""}]
[null,null,null,null,null,{"$f":"IF(B5712=\"\",\"\",IF(C5712=\"\",F5711,IF(E5712=\"\",F5711,E5712/MAX($E$9:E5712)-1)))","v":""}]
[null,null,null,null,null,{"$f":"IF(B5713=\"\",\"\",IF(C5713=\"\",F5712,IF(E5713=\"\",F5712,E5713/MAX($E$9:E5713)-1)))","v":""}]
[null,null,null,null,null,{"$f":"IF(B5714=\"\",\"\",IF(C5714=\"\",F5713,IF(E5714=\"\",F5713,E5714/MAX($E$9:E5714)-1)))","v":""}]
[null,null,null,null,null,{"$f":"IF(B5715=\"\",\"\",IF(C5715=\"\",F5714,IF(E5715=\"\",F5714,E5715/MAX($E$9:E5715)-1)))","v":""}]
[null,null,null,null,null,{"$f":"IF(B5716=\"\",\"\",IF(C5716=\"\",F5715,IF(E5716=\"\",F5715,E5716/MAX($E$9:E5716)-1)))","v":""}]
[null,null,null,null,null,{"$f":"IF(B5717=\"\",\"\",IF(C5717=\"\",F5716,IF(E5717=\"\",F5716,E5717/MAX($E$9:E5717)-1)))","v":""}]
[null,null,null,null,null,{"$f":"IF(B5718=\"\",\"\",IF(C5718=\"\",F5717,IF(E5718=\"\",F5717,E5718/MAX($E$9:E5718)-1)))","v":""}]
[null,null,null,null,null,{"$f":"IF(B5719=\"\",\"\",IF(C5719=\"\",F5718,IF(E5719=\"\",F5718,E5719/MAX($E$9:E5719)-1)))","v":""}]
[null,null,null,null,null,{"$f":"IF(B5720=\"\",\"\",IF(C5720=\"\",F5719,IF(E5720=\"\",F5719,E5720/MAX($E$9:E5720)-1)))","v":""}]
[null,null,null,null,null,{"$f":"IF(B5721=\"\",\"\",IF(C5721=\"\",F5720,IF(E5721=\"\",F5720,E5721/MAX($E$9:E5721)-1)))","v":""}]
[null,null,null,null,null,{"$f":"IF(B5722=\"\",\"\",IF(C5722=\"\",F5721,IF(E5722=\"\",F5721,E5722/MAX($E$9:E5722)-1)))","v":""}]
[null,null,null,null,null,{"$f":"IF(B5723=\"\",\"\",IF(C5723=\"\",F5722,IF(E5723=\"\",F5722,E5723/MAX($E$9:E5723)-1)))","v":""}]
[null,null,null,null,null,{"$f":"IF(B5724=\"\",\"\",IF(C5724=\"\",F5723,IF(E5724=\"\",F5723,E5724/MAX($E$9:E5724)-1)))","v":""}]
[null,null,null,null,null,{"$f":"IF(B5725=\"\",\"\",IF(C5725=\"\",F5724,IF(E5725=\"\",F5724,E5725/MAX($E$9:E5725)-1)))","v":""}]
[null,null,null,null,null,{"$f":"IF(B5726=\"\",\"\",IF(C5726=\"\",F5725,IF(E5726=\"\",F5725,E5726/MAX($E$9:E5726)-1)))","v":""}]
[null,null,null,null,null,{"$f":"IF(B5727=\"\",\"\",IF(C5727=\"\",F5726,IF(E5727=\"\",F5726,E5727/MAX($E$9:E5727)-1)))","v":""}]
[null,null,null,null,null,{"$f":"IF(B5728=\"\",\"\",IF(C5728=\"\",F5727,IF(E5728=\"\",F5727,E5728/MAX($E$9:E5728)-1)))","v":""}]
[null,null,null,null,null,{"$f":"IF(B5729=\"\",\"\",IF(C5729=\"\",F5728,IF(E5729=\"\",F5728,E5729/MAX($E$9:E5729)-1)))","v":""}]
[null,null,null,null,null,{"$f":"IF(B5730=\"\",\"\",IF(C5730=\"\",F5729,IF(E5730=\"\",F5729,E5730/MAX($E$9:E5730)-1)))","v":""}]
[null,null,null,null,null,{"$f":"IF(B5731=\"\",\"\",IF(C5731=\"\",F5730,IF(E5731=\"\",F5730,E5731/MAX($E$9:E5731)-1)))","v":""}]
[null,null,null,null,null,{"$f":"IF(B5732=\"\",\"\",IF(C5732=\"\",F5731,IF(E5732=\"\",F5731,E5732/MAX($E$9:E5732)-1)))","v":""}]
[null,null,null,null,null,{"$f":"IF(B5733=\"\",\"\",IF(C5733=\"\",F5732,IF(E5733=\"\",F5732,E5733/MAX($E$9:E5733)-1)))","v":""}]
[null,null,null,null,null,{"$f":"IF(B5734=\"\",\"\",IF(C5734=\"\",F5733,IF(E5734=\"\",F5733,E5734/MAX($E$9:E5734)-1)))","v":""}]
[null,null,null,null,null,{"$f":"IF(B5735=\"\",\"\",IF(C5735=\"\",F5734,IF(E5735=\"\",F5734,E5735/MAX($E$9:E5735)-1)))","v":""}]
[null,null,null,null,null,{"$f":"IF(B5736=\"\",\"\",IF(C5736=\"\",F5735,IF(E5736=\"\",F5735,E5736/MAX($E$9:E5736)-1)))","v":""}]
[null,null,null,null,null,{"$f":"IF(B5737=\"\",\"\",IF(C5737=\"\",F5736,IF(E5737=\"\",F5736,E5737/MAX($E$9:E5737)-1)))","v":""}]
[null,null,null,null,null,{"$f":"IF(B5738=\"\",\"\",IF(C5738=\"\",F5737,IF(E5738=\"\",F5737,E5738/MAX($E$9:E5738)-1)))","v":""}]
[null,null,null,null,null,{"$f":"IF(B5739=\"\",\"\",IF(C5739=\"\",F5738,IF(E5739=\"\",F5738,E5739/MAX($E$9:E5739)-1)))","v":""}]
[null,null,null,null,null,{"$f":"IF(B5740=\"\",\"\",IF(C5740=\"\",F5739,IF(E5740=\"\",F5739,E5740/MAX($E$9:E5740)-1)))","v":""}]
[null,null,null,null,null,{"$f":"IF(B5741=\"\",\"\",IF(C5741=\"\",F5740,IF(E5741=\"\",F5740,E5741/MAX($E$9:E5741)-1)))","v":""}]
[null,null,null,null,null,{"$f":"IF(B5742=\"\",\"\",IF(C5742=\"\",F5741,IF(E5742=\"\",F5741,E5742/MAX($E$9:E5742)-1)))","v":""}]
[null,null,null,null,null,{"$f":"IF(B5743=\"\",\"\",IF(C5743=\"\",F5742,IF(E5743=\"\",F5742,E5743/MAX($E$9:E5743)-1)))","v":""}]
[null,null,null,null,null,{"$f":"IF(B5744=\"\",\"\",IF(C5744=\"\",F5743,IF(E5744=\"\",F5743,E5744/MAX($E$9:E5744)-1)))","v":""}]
[null,null,null,null,null,{"$f":"IF(B5745=\"\",\"\",IF(C5745=\"\",F5744,IF(E5745=\"\",F5744,E5745/MAX($E$9:E5745)-1)))","v":""}]
[null,null,null,null,null,{"$f":"IF(B5746=\"\",\"\",IF(C5746=\"\",F5745,IF(E5746=\"\",F5745,E5746/MAX($E$9:E5746)-1)))","v":""}]
[null,null,null,null,null,{"$f":"IF(B5747=\"\",\"\",IF(C5747=\"\",F5746,IF(E5747=\"\",F5746,E5747/MAX($E$9:E5747)-1)))","v":""}]
[null,null,null,null,null,{"$f":"IF(B5748=\"\",\"\",IF(C5748=\"\",F5747,IF(E5748=\"\",F5747,E5748/MAX($E$9:E5748)-1)))","v":""}]
[null,null,null,null,null,{"$f":"IF(B5749=\"\",\"\",IF(C5749=\"\",F5748,IF(E5749=\"\",F5748,E5749/MAX($E$9:E5749)-1)))","v":""}]
[null,null,null,null,null,{"$f":"IF(B5750=\"\",\"\",IF(C5750=\"\",F5749,IF(E5750=\"\",F5749,E5750/MAX($E$9:E5750)-1)))","v":""}]
[null,null,null,null,null,{"$f":"IF(B5751=\"\",\"\",IF(C5751=\"\",F5750,IF(E5751=\"\",F5750,E5751/MAX($E$9:E5751)-1)))","v":""}]
[null,null,null,null,null,{"$f":"IF(B5752=\"\",\"\",IF(C5752=\"\",F5751,IF(E5752=\"\",F5751,E5752/MAX($E$9:E5752)-1)))","v":""}]
[null,null,null,null,null,{"$f":"IF(B5753=\"\",\"\",IF(C5753=\"\",F5752,IF(E5753=\"\",F5752,E5753/MAX($E$9:E5753)-1)))","v":""}]
[null,null,null,null,null,{"$f":"IF(B5754=\"\",\"\",IF(C5754=\"\",F5753,IF(E5754=\"\",F5753,E5754/MAX($E$9:E5754)-1)))","v":""}]
[null,null,null,null,null,{"$f":"IF(B5755=\"\",\"\",IF(C5755=\"\",F5754,IF(E5755=\"\",F5754,E5755/MAX($E$9:E5755)-1)))","v":""}]
[null,null,null,null,null,{"$f":"IF(B5756=\"\",\"\",IF(C5756=\"\",F5755,IF(E5756=\"\",F5755,E5756/MAX($E$9:E5756)-1)))","v":""}]
[null,null,null,null,null,{"$f":"IF(B5757=\"\",\"\",IF(C5757=\"\",F5756,IF(E5757=\"\",F5756,E5757/MAX($E$9:E5757)-1)))","v":""}]
[null,null,null,null,null,{"$f":"IF(B5758=\"\",\"\",IF(C5758=\"\",F5757,IF(E5758=\"\",F5757,E5758/MAX($E$9:E5758)-1)))","v":""}]
[null,null,null,null,null,{"$f":"IF(B5759=\"\",\"\",IF(C5759=\"\",F5758,IF(E5759=\"\",F5758,E5759/MAX($E$9:E5759)-1)))","v":""}]
[null,null,null,null,null,{"$f":"IF(B5760=\"\",\"\",IF(C5760=\"\",F5759,IF(E5760=\"\",F5759,E5760/MAX($E$9:E5760)-1)))","v":""}]
[null,null,null,null,null,{"$f":"IF(B5761=\"\",\"\",IF(C5761=\"\",F5760,IF(E5761=\"\",F5760,E5761/MAX($E$9:E5761)-1)))","v":""}]
[null,null,null,null,null,{"$f":"IF(B5762=\"\",\"\",IF(C5762=\"\",F5761,IF(E5762=\"\",F5761,E5762/MAX($E$9:E5762)-1)))","v":""}]
[null,null,null,null,null,{"$f":"IF(B5763=\"\",\"\",IF(C5763=\"\",F5762,IF(E5763=\"\",F5762,E5763/MAX($E$9:E5763)-1)))","v":""}]
[null,null,null,null,null,{"$f":"IF(B5764=\"\",\"\",IF(C5764=\"\",F5763,IF(E5764=\"\",F5763,E5764/MAX($E$9:E5764)-1)))","v":""}]
[null,null,null,null,null,{"$f":"IF(B5765=\"\",\"\",IF(C5765=\"\",F5764,IF(E5765=\"\",F5764,E5765/MAX($E$9:E5765)-1)))","v":""}]
[null,null,null,null,null,{"$f":"IF(B5766=\"\",\"\",IF(C5766=\"\",F5765,IF(E5766=\"\",F5765,E5766/MAX($E$9:E5766)-1)))","v":""}]
[null,null,null,null,null,{"$f":"IF(B5767=\"\",\"\",IF(C5767=\"\",F5766,IF(E5767=\"\",F5766,E5767/MAX($E$9:E5767)-1)))","v":""}]
[null,null,null,null,null,{"$f":"IF(B5768=\"\",\"\",IF(C5768=\"\",F5767,IF(E5768=\"\",F5767,E5768/MAX($E$9:E5768)-1)))","v":""}]
[null,null,null,null,null,{"$f":"IF(B5769=\"\",\"\",IF(C5769=\"\",F5768,IF(E5769=\"\",F5768,E5769/MAX($E$9:E5769)-1)))","v":""}]
[null,null,null,null,null,{"$f":"IF(B5770=\"\",\"\",IF(C5770=\"\",F5769,IF(E5770=\"\",F5769,E5770/MAX($E$9:E5770)-1)))","v":""}]
[null,null,null,null,null,{"$f":"IF(B5771=\"\",\"\",IF(C5771=\"\",F5770,IF(E5771=\"\",F5770,E5771/MAX($E$9:E5771)-1)))","v":""}]
[null,null,null,null,null,{"$f":"IF(B5772=\"\",\"\",IF(C5772=\"\",F5771,IF(E5772=\"\",F5771,E5772/MAX($E$9:E5772)-1)))","v":""}]
[null,null,null,null,null,{"$f":"IF(B5773=\"\",\"\",IF(C5773=\"\",F5772,IF(E5773=\"\",F5772,E5773/MAX($E$9:E5773)-1)))","v":""}]
[null,null,null,null,null,{"$f":"IF(B5774=\"\",\"\",IF(C5774=\"\",F5773,IF(E5774=\"\",F5773,E5774/MAX($E$9:E5774)-1)))","v":""}]
[null,null,null,null,null,{"$f":"IF(B5775=\"\",\"\",IF(C5775=\"\",F5774,IF(E5775=\"\",F5774,E5775/MAX($E$9:E5775)-1)))","v":""}]
[null,null,null,null,null,{"$f":"IF(B5776=\"\",\"\",IF(C5776=\"\",F5775,IF(E5776=\"\",F5775,E5776/MAX($E$9:E5776)-1)))","v":""}]
[null,null,null,null,null,{"$f":"IF(B5777=\"\",\"\",IF(C5777=\"\",F5776,IF(E5777=\"\",F5776,E5777/MAX($E$9:E5777)-1)))","v":""}]
[null,null,null,null,null,{"$f":"IF(B5778=\"\",\"\",IF(C5778=\"\",F5777,IF(E5778=\"\",F5777,E5778/MAX($E$9:E5778)-1)))","v":""}]
[null,null,null,null,null,{"$f":"IF(B5779=\"\",\"\",IF(C5779=\"\",F5778,IF(E5779=\"\",F5778,E5779/MAX($E$9:E5779)-1)))","v":""}]
[null,null,null,null,null,{"$f":"IF(B5780=\"\",\"\",IF(C5780=\"\",F5779,IF(E5780=\"\",F5779,E5780/MAX($E$9:E5780)-1)))","v":""}]
[null,null,null,null,null,{"$f":"IF(B5781=\"\",\"\",IF(C5781=\"\",F5780,IF(E5781=\"\",F5780,E5781/MAX($E$9:E5781)-1)))","v":""}]
[null,null,null,null,null,{"$f":"IF(B5782=\"\",\"\",IF(C5782=\"\",F5781,IF(E5782=\"\",F5781,E5782/MAX($E$9:E5782)-1)))","v":""}]
[null,null,null,null,null,{"$f":"IF(B5783=\"\",\"\",IF(C5783=\"\",F5782,IF(E5783=\"\",F5782,E5783/MAX($E$9:E5783)-1)))","v":""}]
[null,null,null,null,null,{"$f":"IF(B5784=\"\",\"\",IF(C5784=\"\",F5783,IF(E5784=\"\",F5783,E5784/MAX($E$9:E5784)-1)))","v":""}]
[null,null,null,null,null,{"$f":"IF(B5785=\"\",\"\",IF(C5785=\"\",F5784,IF(E5785=\"\",F5784,E5785/MAX($E$9:E5785)-1)))","v":""}]
[null,null,null,null,null,{"$f":"IF(B5786=\"\",\"\",IF(C5786=\"\",F5785,IF(E5786=\"\",F5785,E5786/MAX($E$9:E5786)-1)))","v":""}]
[null,null,null,null,null,{"$f":"IF(B5787=\"\",\"\",IF(C5787=\"\",F5786,IF(E5787=\"\",F5786,E5787/MAX($E$9:E5787)-1)))","v":""}]
[null,null,null,null,null,{"$f":"IF(B5788=\"\",\"\",IF(C5788=\"\",F5787,IF(E5788=\"\",F5787,E5788/MAX($E$9:E5788)-1)))","v":""}]
[null,null,null,null,null,{"$f":"IF(B5789=\"\",\"\",IF(C5789=\"\",F5788,IF(E5789=\"\",F5788,E5789/MAX($E$9:E5789)-1)))","v":""}]
[null,null,null,null,null,{"$f":"IF(B5790=\"\",\"\",IF(C5790=\"\",F5789,IF(E5790=\"\",F5789,E5790/MAX($E$9:E5790)-1)))","v":""}]
[null,null,null,null,null,{"$f":"IF(B5791=\"\",\"\",IF(C5791=\"\",F5790,IF(E5791=\"\",F5790,E5791/MAX($E$9:E5791)-1)))","v":""}]
[null,null,null,null,null,{"$f":"IF(B5792=\"\",\"\",IF(C5792=\"\",F5791,IF(E5792=\"\",F5791,E5792/MAX($E$9:E5792)-1)))","v":""}]
[null,null,null,null,null,{"$f":"IF(B5793=\"\",\"\",IF(C5793=\"\",F5792,IF(E5793=\"\",F5792,E5793/MAX($E$9:E5793)-1)))","v":""}]
[null,null,null,null,null,{"$f":"IF(B5794=\"\",\"\",IF(C5794=\"\",F5793,IF(E5794=\"\",F5793,E5794/MAX($E$9:E5794)-1)))","v":""}]
[null,null,null,null,null,{"$f":"IF(B5795=\"\",\"\",IF(C5795=\"\",F5794,IF(E5795=\"\",F5794,E5795/MAX($E$9:E5795)-1)))","v":""}]
[null,null,null,null,null,{"$f":"IF(B5796=\"\",\"\",IF(C5796=\"\",F5795,IF(E5796=\"\",F5795,E5796/MAX($E$9:E5796)-1)))","v":""}]
[null,null,null,null,null,{"$f":"IF(B5797=\"\",\"\",IF(C5797=\"\",F5796,IF(E5797=\"\",F5796,E5797/MAX($E$9:E5797)-1)))","v":""}]
[null,null,null,null,null,{"$f":"IF(B5798=\"\",\"\",IF(C5798=\"\",F5797,IF(E5798=\"\",F5797,E5798/MAX($E$9:E5798)-1)))","v":""}]
[null,null,null,null,null,{"$f":"IF(B5799=\"\",\"\",IF(C5799=\"\",F5798,IF(E5799=\"\",F5798,E5799/MAX($E$9:E5799)-1)))","v":""}]
[null,null,null,null,null,{"$f":"IF(B5800=\"\",\"\",IF(C5800=\"\",F5799,IF(E5800=\"\",F5799,E5800/MAX($E$9:E5800)-1)))","v":""}]
[null,null,null,null,null,{"$f":"IF(B5801=\"\",\"\",IF(C5801=\"\",F5800,IF(E5801=\"\",F5800,E5801/MAX($E$9:E5801)-1)))","v":""}]
[null,null,null,null,null,{"$f":"IF(B5802=\"\",\"\",IF(C5802=\"\",F5801,IF(E5802=\"\",F5801,E5802/MAX($E$9:E5802)-1)))","v":""}]
[null,null,null,null,null,{"$f":"IF(B5803=\"\",\"\",IF(C5803=\"\",F5802,IF(E5803=\"\",F5802,E5803/MAX($E$9:E5803)-1)))","v":""}]
[null,null,null,null,null,{"$f":"IF(B5804=\"\",\"\",IF(C5804=\"\",F5803,IF(E5804=\"\",F5803,E5804/MAX($E$9:E5804)-1)))","v":""}]
[null,null,null,null,null,{"$f":"IF(B5805=\"\",\"\",IF(C5805=\"\",F5804,IF(E5805=\"\",F5804,E5805/MAX($E$9:E5805)-1)))","v":""}]
[null,null,null,null,null,{"$f":"IF(B5806=\"\",\"\",IF(C5806=\"\",F5805,IF(E5806=\"\",F5805,E5806/MAX($E$9:E5806)-1)))","v":""}]
[null,null,null,null,null,{"$f":"IF(B5807=\"\",\"\",IF(C5807=\"\",F5806,IF(E5807=\"\",F5806,E5807/MAX($E$9:E5807)-1)))","v":""}]
[null,null,null,null,null,{"$f":"IF(B5808=\"\",\"\",IF(C5808=\"\",F5807,IF(E5808=\"\",F5807,E5808/MAX($E$9:E5808)-1)))","v":""}]
[null,null,null,null,null,{"$f":"IF(B5809=\"\",\"\",IF(C5809=\"\",F5808,IF(E5809=\"\",F5808,E5809/MAX($E$9:E5809)-1)))","v":""}]
[null,null,null,null,null,{"$f":"IF(B5810=\"\",\"\",IF(C5810=\"\",F5809,IF(E5810=\"\",F5809,E5810/MAX($E$9:E5810)-1)))","v":""}]
[null,null,null,null,null,{"$f":"IF(B5811=\"\",\"\",IF(C5811=\"\",F5810,IF(E5811=\"\",F5810,E5811/MAX($E$9:E5811)-1)))","v":""}]
[null,null,null,null,null,{"$f":"IF(B5812=\"\",\"\",IF(C5812=\"\",F5811,IF(E5812=\"\",F5811,E5812/MAX($E$9:E5812)-1)))","v":""}]
[null,null,null,null,null,{"$f":"IF(B5813=\"\",\"\",IF(C5813=\"\",F5812,IF(E5813=\"\",F5812,E5813/MAX($E$9:E5813)-1)))","v":""}]
[null,null,null,null,null,{"$f":"IF(B5814=\"\",\"\",IF(C5814=\"\",F5813,IF(E5814=\"\",F5813,E5814/MAX($E$9:E5814)-1)))","v":""}]
[null,null,null,null,null,{"$f":"IF(B5815=\"\",\"\",IF(C5815=\"\",F5814,IF(E5815=\"\",F5814,E5815/MAX($E$9:E5815)-1)))","v":""}]
[null,null,null,null,null,{"$f":"IF(B5816=\"\",\"\",IF(C5816=\"\",F5815,IF(E5816=\"\",F5815,E5816/MAX($E$9:E5816)-1)))","v":""}]
[null,null,null,null,null,{"$f":"IF(B5817=\"\",\"\",IF(C5817=\"\",F5816,IF(E5817=\"\",F5816,E5817/MAX($E$9:E5817)-1)))","v":""}]
[null,null,null,null,null,{"$f":"IF(B5818=\"\",\"\",IF(C5818=\"\",F5817,IF(E5818=\"\",F5817,E5818/MAX($E$9:E5818)-1)))","v":""}]
[null,null,null,null,null,{"$f":"IF(B5819=\"\",\"\",IF(C5819=\"\",F5818,IF(E5819=\"\",F5818,E5819/MAX($E$9:E5819)-1)))","v":""}]
[null,null,null,null,null,{"$f":"IF(B5820=\"\",\"\",IF(C5820=\"\",F5819,IF(E5820=\"\",F5819,E5820/MAX($E$9:E5820)-1)))","v":""}]
[null,null,null,null,null,{"$f":"IF(B5821=\"\",\"\",IF(C5821=\"\",F5820,IF(E5821=\"\",F5820,E5821/MAX($E$9:E5821)-1)))","v":""}]
[null,null,null,null,null,{"$f":"IF(B5822=\"\",\"\",IF(C5822=\"\",F5821,IF(E5822=\"\",F5821,E5822/MAX($E$9:E5822)-1)))","v":""}]
[null,null,null,null,null,{"$f":"IF(B5823=\"\",\"\",IF(C5823=\"\",F5822,IF(E5823=\"\",F5822,E5823/MAX($E$9:E5823)-1)))","v":""}]
[null,null,null,null,null,{"$f":"IF(B5824=\"\",\"\",IF(C5824=\"\",F5823,IF(E5824=\"\",F5823,E5824/MAX($E$9:E5824)-1)))","v":""}]
[null,null,null,null,null,{"$f":"IF(B5825=\"\",\"\",IF(C5825=\"\",F5824,IF(E5825=\"\",F5824,E5825/MAX($E$9:E5825)-1)))","v":""}]
[null,null,null,null,null,{"$f":"IF(B5826=\"\",\"\",IF(C5826=\"\",F5825,IF(E5826=\"\",F5825,E5826/MAX($E$9:E5826)-1)))","v":""}]
[null,null,null,null,null,{"$f":"IF(B5827=\"\",\"\",IF(C5827=\"\",F5826,IF(E5827=\"\",F5826,E5827/MAX($E$9:E5827)-1)))","v":""}]
[null,null,null,null,null,{"$f":"IF(B5828=\"\",\"\",IF(C5828=\"\",F5827,IF(E5828=\"\",F5827,E5828/MAX($E$9:E5828)-1)))","v":""}]
[null,null,null,null,null,{"$f":"IF(B5829=\"\",\"\",IF(C5829=\"\",F5828,IF(E5829=\"\",F5828,E5829/MAX($E$9:E5829)-1)))","v":""}]
[null,null,null,null,null,{"$f":"IF(B5830=\"\",\"\",IF(C5830=\"\",F5829,IF(E5830=\"\",F5829,E5830/MAX($E$9:E5830)-1)))","v":""}]
[null,null,null,null,null,{"$f":"IF(B5831=\"\",\"\",IF(C5831=\"\",F5830,IF(E5831=\"\",F5830,E5831/MAX($E$9:E5831)-1)))","v":""}]
[null,null,null,null,null,{"$f":"IF(B5832=\"\",\"\",IF(C5832=\"\",F5831,IF(E5832=\"\",F5831,E5832/MAX($E$9:E5832)-1)))","v":""}]
[null,null,null,null,null,{"$f":"IF(B5833=\"\",\"\",IF(C5833=\"\",F5832,IF(E5833=\"\",F5832,E5833/MAX($E$9:E5833)-1)))","v":""}]
[null,null,null,null,null,{"$f":"IF(B5834=\"\",\"\",IF(C5834=\"\",F5833,IF(E5834=\"\",F5833,E5834/MAX($E$9:E5834)-1)))","v":""}]
[null,null,null,null,null,{"$f":"IF(B5835=\"\",\"\",IF(C5835=\"\",F5834,IF(E5835=\"\",F5834,E5835/MAX($E$9:E5835)-1)))","v":""}]
[null,null,null,null,null,{"$f":"IF(B5836=\"\",\"\",IF(C5836=\"\",F5835,IF(E5836=\"\",F5835,E5836/MAX($E$9:E5836)-1)))","v":""}]
[null,null,null,null,null,{"$f":"IF(B5837=\"\",\"\",IF(C5837=\"\",F5836,IF(E5837=\"\",F5836,E5837/MAX($E$9:E5837)-1)))","v":""}]
[null,null,null,null,null,{"$f":"IF(B5838=\"\",\"\",IF(C5838=\"\",F5837,IF(E5838=\"\",F5837,E5838/MAX($E$9:E5838)-1)))","v":""}]
[null,null,null,null,null,{"$f":"IF(B5839=\"\",\"\",IF(C5839=\"\",F5838,IF(E5839=\"\",F5838,E5839/MAX($E$9:E5839)-1)))","v":""}]
[null,null,null,null,null,{"$f":"IF(B5840=\"\",\"\",IF(C5840=\"\",F5839,IF(E5840=\"\",F5839,E5840/MAX($E$9:E5840)-1)))","v":""}]
[null,null,null,null,null,{"$f":"IF(B5841=\"\",\"\",IF(C5841=\"\",F5840,IF(E5841=\"\",F5840,E5841/MAX($E$9:E5841)-1)))","v":""}]
[null,null,null,null,null,{"$f":"IF(B5842=\"\",\"\",IF(C5842=\"\",F5841,IF(E5842=\"\",F5841,E5842/MAX($E$9:E5842)-1)))","v":""}]
[null,null,null,null,null,{"$f":"IF(B5843=\"\",\"\",IF(C5843=\"\",F5842,IF(E5843=\"\",F5842,E5843/MAX($E$9:E5843)-1)))","v":""}]
[null,null,null,null,null,{"$f":"IF(B5844=\"\",\"\",IF(C5844=\"\",F5843,IF(E5844=\"\",F5843,E5844/MAX($E$9:E5844)-1)))","v":""}]
[null,null,null,null,null,{"$f":"IF(B5845=\"\",\"\",IF(C5845=\"\",F5844,IF(E5845=\"\",F5844,E5845/MAX($E$9:E5845)-1)))","v":""}]
[null,null,null,null,null,{"$f":"IF(B5846=\"\",\"\",IF(C5846=\"\",F5845,IF(E5846=\"\",F5845,E5846/MAX($E$9:E5846)-1)))","v":""}]
[null,null,null,null,null,{"$f":"IF(B5847=\"\",\"\",IF(C5847=\"\",F5846,IF(E5847=\"\",F5846,E5847/MAX($E$9:E5847)-1)))","v":""}]
[null,null,null,null,null,{"$f":"IF(B5848=\"\",\"\",IF(C5848=\"\",F5847,IF(E5848=\"\",F5847,E5848/MAX($E$9:E5848)-1)))","v":""}]
[null,null,null,null,null,{"$f":"IF(B5849=\"\",\"\",IF(C5849=\"\",F5848,IF(E5849=\"\",F5848,E5849/MAX($E$9:E5849)-1)))","v":""}]
[null,null,null,null,null,{"$f":"IF(B5850=\"\",\"\",IF(C5850=\"\",F5849,IF(E5850=\"\",F5849,E5850/MAX($E$9:E5850)-1)))","v":""}]
[null,null,null,null,null,{"$f":"IF(B5851=\"\",\"\",IF(C5851=\"\",F5850,IF(E5851=\"\",F5850,E5851/MAX($E$9:E5851)-1)))","v":""}]
[null,null,null,null,null,{"$f":"IF(B5852=\"\",\"\",IF(C5852=\"\",F5851,IF(E5852=\"\",F5851,E5852/MAX($E$9:E5852)-1)))","v":""}]
[null,null,null,null,null,{"$f":"IF(B5853=\"\",\"\",IF(C5853=\"\",F5852,IF(E5853=\"\",F5852,E5853/MAX($E$9:E5853)-1)))","v":""}]
[null,null,null,null,null,{"$f":"IF(B5854=\"\",\"\",IF(C5854=\"\",F5853,IF(E5854=\"\",F5853,E5854/MAX($E$9:E5854)-1)))","v":""}]
[null,null,null,null,null,{"$f":"IF(B5855=\"\",\"\",IF(C5855=\"\",F5854,IF(E5855=\"\",F5854,E5855/MAX($E$9:E5855)-1)))","v":""}]
[null,null,null,null,null,{"$f":"IF(B5856=\"\",\"\",IF(C5856=\"\",F5855,IF(E5856=\"\",F5855,E5856/MAX($E$9:E5856)-1)))","v":""}]
[null,null,null,null,null,{"$f":"IF(B5857=\"\",\"\",IF(C5857=\"\",F5856,IF(E5857=\"\",F5856,E5857/MAX($E$9:E5857)-1)))","v":""}]
[null,null,null,null,null,{"$f":"IF(B5858=\"\",\"\",IF(C5858=\"\",F5857,IF(E5858=\"\",F5857,E5858/MAX($E$9:E5858)-1)))","v":""}]
[null,null,null,null,null,{"$f":"IF(B5859=\"\",\"\",IF(C5859=\"\",F5858,IF(E5859=\"\",F5858,E5859/MAX($E$9:E5859)-1)))","v":""}]
[null,null,null,null,null,{"$f":"IF(B5860=\"\",\"\",IF(C5860=\"\",F5859,IF(E5860=\"\",F5859,E5860/MAX($E$9:E5860)-1)))","v":""}]
[null,null,null,null,null,{"$f":"IF(B5861=\"\",\"\",IF(C5861=\"\",F5860,IF(E5861=\"\",F5860,E5861/MAX($E$9:E5861)-1)))","v":""}]
[null,null,null,null,null,{"$f":"IF(B5862=\"\",\"\",IF(C5862=\"\",F5861,IF(E5862=\"\",F5861,E5862/MAX($E$9:E5862)-1)))","v":""}]
[null,null,null,null,null,{"$f":"IF(B5863=\"\",\"\",IF(C5863=\"\",F5862,IF(E5863=\"\",F5862,E5863/MAX($E$9:E5863)-1)))","v":""}]
[null,null,null,null,null,{"$f":"IF(B5864=\"\",\"\",IF(C5864=\"\",F5863,IF(E5864=\"\",F5863,E5864/MAX($E$9:E5864)-1)))","v":""}]
[null,null,null,null,null,{"$f":"IF(B5865=\"\",\"\",IF(C5865=\"\",F5864,IF(E5865=\"\",F5864,E5865/MAX($E$9:E5865)-1)))","v":""}]
[null,null,null,null,null,{"$f":"IF(B5866=\"\",\"\",IF(C5866=\"\",F5865,IF(E5866=\"\",F5865,E5866/MAX($E$9:E5866)-1)))","v":""}]
[null,null,null,null,null,{"$f":"IF(B5867=\"\",\"\",IF(C5867=\"\",F5866,IF(E5867=\"\",F5866,E5867/MAX($E$9:E5867)-1)))","v":""}]
[null,null,null,null,null,{"$f":"IF(B5868=\"\",\"\",IF(C5868=\"\",F5867,IF(E5868=\"\",F5867,E5868/MAX($E$9:E5868)-1)))","v":""}]
[null,null,null,null,null,{"$f":"IF(B5869=\"\",\"\",IF(C5869=\"\",F5868,IF(E5869=\"\",F5868,E5869/MAX($E$9:E5869)-1)))","v":""}]
[null,null,null,null,null,{"$f":"IF(B5870=\"\",\"\",IF(C5870=\"\",F5869,IF(E5870=\"\",F5869,E5870/MAX($E$9:E5870)-1)))","v":""}]
[null,null,null,null,null,{"$f":"IF(B5871=\"\",\"\",IF(C5871=\"\",F5870,IF(E5871=\"\",F5870,E5871/MAX($E$9:E5871)-1)))","v":""}]
[null,null,null,null,null,{"$f":"IF(B5872=\"\",\"\",IF(C5872=\"\",F5871,IF(E5872=\"\",F5871,E5872/MAX($E$9:E5872)-1)))","v":""}]
[null,null,null,null,null,{"$f":"IF(B5873=\"\",\"\",IF(C5873=\"\",F5872,IF(E5873=\"\",F5872,E5873/MAX($E$9:E5873)-1)))","v":""}]
[null,null,null,null,null,{"$f":"IF(B5874=\"\",\"\",IF(C5874=\"\",F5873,IF(E5874=\"\",F5873,E5874/MAX($E$9:E5874)-1)))","v":""}]
[null,null,null,null,null,{"$f":"IF(B5875=\"\",\"\",IF(C5875=\"\",F5874,IF(E5875=\"\",F5874,E5875/MAX($E$9:E5875)-1)))","v":""}]
[null,null,null,null,null,{"$f":"IF(B5876=\"\",\"\",IF(C5876=\"\",F5875,IF(E5876=\"\",F5875,E5876/MAX($E$9:E5876)-1)))","v":""}]
[null,null,null,null,null,{"$f":"IF(B5877=\"\",\"\",IF(C5877=\"\",F5876,IF(E5877=\"\",F5876,E5877/MAX($E$9:E5877)-1)))","v":""}]
[null,null,null,null,null,{"$f":"IF(B5878=\"\",\"\",IF(C5878=\"\",F5877,IF(E5878=\"\",F5877,E5878/MAX($E$9:E5878)-1)))","v":""}]
[null,null,null,null,null,{"$f":"IF(B5879=\"\",\"\",IF(C5879=\"\",F5878,IF(E5879=\"\",F5878,E5879/MAX($E$9:E5879)-1)))","v":""}]
[null,null,null,null,null,{"$f":"IF(B5880=\"\",\"\",IF(C5880=\"\",F5879,IF(E5880=\"\",F5879,E5880/MAX($E$9:E5880)-1)))","v":""}]
[null,null,null,null,null,{"$f":"IF(B5881=\"\",\"\",IF(C5881=\"\",F5880,IF(E5881=\"\",F5880,E5881/MAX($E$9:E5881)-1)))","v":""}]
[null,null,null,null,null,{"$f":"IF(B5882=\"\",\"\",IF(C5882=\"\",F5881,IF(E5882=\"\",F5881,E5882/MAX($E$9:E5882)-1)))","v":""}]
[null,null,null,null,null,{"$f":"IF(B5883=\"\",\"\",IF(C5883=\"\",F5882,IF(E5883=\"\",F5882,E5883/MAX($E$9:E5883)-1)))","v":""}]
[null,null,null,null,null,{"$f":"IF(B5884=\"\",\"\",IF(C5884=\"\",F5883,IF(E5884=\"\",F5883,E5884/MAX($E$9:E5884)-1)))","v":""}]
[null,null,null,null,null,{"$f":"IF(B5885=\"\",\"\",IF(C5885=\"\",F5884,IF(E5885=\"\",F5884,E5885/MAX($E$9:E5885)-1)))","v":""}]
[null,null,null,null,null,{"$f":"IF(B5886=\"\",\"\",IF(C5886=\"\",F5885,IF(E5886=\"\",F5885,E5886/MAX($E$9:E5886)-1)))","v":""}]
[null,null,null,null,null,{"$f":"IF(B5887=\"\",\"\",IF(C5887=\"\",F5886,IF(E5887=\"\",F5886,E5887/MAX($E$9:E5887)-1)))","v":""}]
[null,null,null,null,null,{"$f":"IF(B5888=\"\",\"\",IF(C5888=\"\",F5887,IF(E5888=\"\",F5887,E5888/MAX($E$9:E5888)-1)))","v":""}]
[null,null,null,null,null,{"$f":"IF(B5889=\"\",\"\",IF(C5889=\"\",F5888,IF(E5889=\"\",F5888,E5889/MAX($E$9:E5889)-1)))","v":""}]
[null,null,null,null,null,{"$f":"IF(B5890=\"\",\"\",IF(C5890=\"\",F5889,IF(E5890=\"\",F5889,E5890/MAX($E$9:E5890)-1)))","v":""}]
[null,null,null,null,null,{"$f":"IF(B5891=\"\",\"\",IF(C5891=\"\",F5890,IF(E5891=\"\",F5890,E5891/MAX($E$9:E5891)-1)))","v":""}]
[null,null,null,null,null,{"$f":"IF(B5892=\"\",\"\",IF(C5892=\"\",F5891,IF(E5892=\"\",F5891,E5892/MAX($E$9:E5892)-1)))","v":""}]
[null,null,null,null,null,{"$f":"IF(B5893=\"\",\"\",IF(C5893=\"\",F5892,IF(E5893=\"\",F5892,E5893/MAX($E$9:E5893)-1)))","v":""}]
[null,null,null,null,null,{"$f":"IF(B5894=\"\",\"\",IF(C5894=\"\",F5893,IF(E5894=\"\",F5893,E5894/MAX($E$9:E5894)-1)))","v":""}]
[null,null,null,null,null,{"$f":"IF(B5895=\"\",\"\",IF(C5895=\"\",F5894,IF(E5895=\"\",F5894,E5895/MAX($E$9:E5895)-1)))","v":""}]
[null,null,null,null,null,{"$f":"IF(B5896=\"\",\"\",IF(C5896=\"\",F5895,IF(E5896=\"\",F5895,E5896/MAX($E$9:E5896)-1)))","v":""}]
[null,null,null,null,null,{"$f":"IF(B5897=\"\",\"\",IF(C5897=\"\",F5896,IF(E5897=\"\",F5896,E5897/MAX($E$9:E5897)-1)))","v":""}]
[null,null,null,null,null,{"$f":"IF(B5898=\"\",\"\",IF(C5898=\"\",F5897,IF(E5898=\"\",F5897,E5898/MAX($E$9:E5898)-1)))","v":""}]
[null,null,null,null,null,{"$f":"IF(B5899=\"\",\"\",IF(C5899=\"\",F5898,IF(E5899=\"\",F5898,E5899/MAX($E$9:E5899)-1)))","v":""}]
[null,null,null,null,null,{"$f":"IF(B5900=\"\",\"\",IF(C5900=\"\",F5899,IF(E5900=\"\",F5899,E5900/MAX($E$9:E5900)-1)))","v":""}]
[null,null,null,null,null,{"$f":"IF(B5901=\"\",\"\",IF(C5901=\"\",F5900,IF(E5901=\"\",F5900,E5901/MAX($E$9:E5901)-1)))","v":""}]
[null,null,null,null,null,{"$f":"IF(B5902=\"\",\"\",IF(C5902=\"\",F5901,IF(E5902=\"\",F5901,E5902/MAX($E$9:E5902)-1)))","v":""}]
[null,null,null,null,null,{"$f":"IF(B5903=\"\",\"\",IF(C5903=\"\",F5902,IF(E5903=\"\",F5902,E5903/MAX($E$9:E5903)-1)))","v":""}]
[null,null,null,null,null,{"$f":"IF(B5904=\"\",\"\",IF(C5904=\"\",F5903,IF(E5904=\"\",F5903,E5904/MAX($E$9:E5904)-1)))","v":""}]
[null,null,null,null,null,{"$f":"IF(B5905=\"\",\"\",IF(C5905=\"\",F5904,IF(E5905=\"\",F5904,E5905/MAX($E$9:E5905)-1)))","v":""}]
[null,null,null,null,null,{"$f":"IF(B5906=\"\",\"\",IF(C5906=\"\",F5905,IF(E5906=\"\",F5905,E5906/MAX($E$9:E5906)-1)))","v":""}]
[null,null,null,null,null,{"$f":"IF(B5907=\"\",\"\",IF(C5907=\"\",F5906,IF(E5907=\"\",F5906,E5907/MAX($E$9:E5907)-1)))","v":""}]
[null,null,null,null,null,{"$f":"IF(B5908=\"\",\"\",IF(C5908=\"\",F5907,IF(E5908=\"\",F5907,E5908/MAX($E$9:E5908)-1)))","v":""}]
[null,null,null,null,null,{"$f":"IF(B5909=\"\",\"\",IF(C5909=\"\",F5908,IF(E5909=\"\",F5908,E5909/MAX($E$9:E5909)-1)))","v":""}]
[null,null,null,null,null,{"$f":"IF(B5910=\"\",\"\",IF(C5910=\"\",F5909,IF(E5910=\"\",F5909,E5910/MAX($E$9:E5910)-1)))","v":""}]
[null,null,null,null,null,{"$f":"IF(B5911=\"\",\"\",IF(C5911=\"\",F5910,IF(E5911=\"\",F5910,E5911/MAX($E$9:E5911)-1)))","v":""}]
[null,null,null,null,null,{"$f":"IF(B5912=\"\",\"\",IF(C5912=\"\",F5911,IF(E5912=\"\",F5911,E5912/MAX($E$9:E5912)-1)))","v":""}]
[null,null,null,null,null,{"$f":"IF(B5913=\"\",\"\",IF(C5913=\"\",F5912,IF(E5913=\"\",F5912,E5913/MAX($E$9:E5913)-1)))","v":""}]
[null,null,null,null,null,{"$f":"IF(B5914=\"\",\"\",IF(C5914=\"\",F5913,IF(E5914=\"\",F5913,E5914/MAX($E$9:E5914)-1)))","v":""}]
[null,null,null,null,null,{"$f":"IF(B5915=\"\",\"\",IF(C5915=\"\",F5914,IF(E5915=\"\",F5914,E5915/MAX($E$9:E5915)-1)))","v":""}]
[null,null,null,null,null,{"$f":"IF(B5916=\"\",\"\",IF(C5916=\"\",F5915,IF(E5916=\"\",F5915,E5916/MAX($E$9:E5916)-1)))","v":""}]
[null,null,null,null,null,{"$f":"IF(B5917=\"\",\"\",IF(C5917=\"\",F5916,IF(E5917=\"\",F5916,E5917/MAX($E$9:E5917)-1)))","v":""}]
[null,null,null,null,null,{"$f":"IF(B5918=\"\",\"\",IF(C5918=\"\",F5917,IF(E5918=\"\",F5917,E5918/MAX($E$9:E5918)-1)))","v":""}]
[null,null,null,null,null,{"$f":"IF(B5919=\"\",\"\",IF(C5919=\"\",F5918,IF(E5919=\"\",F5918,E5919/MAX($E$9:E5919)-1)))","v":""}]
[null,null,null,null,null,{"$f":"IF(B5920=\"\",\"\",IF(C5920=\"\",F5919,IF(E5920=\"\",F5919,E5920/MAX($E$9:E5920)-1)))","v":""}]
[null,null,null,null,null,{"$f":"IF(B5921=\"\",\"\",IF(C5921=\"\",F5920,IF(E5921=\"\",F5920,E5921/MAX($E$9:E5921)-1)))","v":""}]
[null,null,null,null,null,{"$f":"IF(B5922=\"\",\"\",IF(C5922=\"\",F5921,IF(E5922=\"\",F5921,E5922/MAX($E$9:E5922)-1)))","v":""}]
[null,null,null,null,null,{"$f":"IF(B5923=\"\",\"\",IF(C5923=\"\",F5922,IF(E5923=\"\",F5922,E5923/MAX($E$9:E5923)-1)))","v":""}]
[null,null,null,null,null,{"$f":"IF(B5924=\"\",\"\",IF(C5924=\"\",F5923,IF(E5924=\"\",F5923,E5924/MAX($E$9:E5924)-1)))","v":""}]
[null,null,null,null,null,{"$f":"IF(B5925=\"\",\"\",IF(C5925=\"\",F5924,IF(E5925=\"\",F5924,E5925/MAX($E$9:E5925)-1)))","v":""}]
[null,null,null,null,null,{"$f":"IF(B5926=\"\",\"\",IF(C5926=\"\",F5925,IF(E5926=\"\",F5925,E5926/MAX($E$9:E5926)-1)))","v":""}]
[null,null,null,null,null,{"$f":"IF(B5927=\"\",\"\",IF(C5927=\"\",F5926,IF(E5927=\"\",F5926,E5927/MAX($E$9:E5927)-1)))","v":""}]
[null,null,null,null,null,{"$f":"IF(B5928=\"\",\"\",IF(C5928=\"\",F5927,IF(E5928=\"\",F5927,E5928/MAX($E$9:E5928)-1)))","v":""}]
[null,null,null,null,null,{"$f":"IF(B5929=\"\",\"\",IF(C5929=\"\",F5928,IF(E5929=\"\",F5928,E5929/MAX($E$9:E5929)-1)))","v":""}]
[null,null,null,null,null,{"$f":"IF(B5930=\"\",\"\",IF(C5930=\"\",F5929,IF(E5930=\"\",F5929,E5930/MAX($E$9:E5930)-1)))","v":""}]
[null,null,null,null,null,{"$f":"IF(B5931=\"\",\"\",IF(C5931=\"\",F5930,IF(E5931=\"\",F5930,E5931/MAX($E$9:E5931)-1)))","v":""}]
[null,null,null,null,null,{"$f":"IF(B5932=\"\",\"\",IF(C5932=\"\",F5931,IF(E5932=\"\",F5931,E5932/MAX($E$9:E5932)-1)))","v":""}]
[null,null,null,null,null,{"$f":"IF(B5933=\"\",\"\",IF(C5933=\"\",F5932,IF(E5933=\"\",F5932,E5933/MAX($E$9:E5933)-1)))","v":""}]
[null,null,null,null,null,{"$f":"IF(B5934=\"\",\"\",IF(C5934=\"\",F5933,IF(E5934=\"\",F5933,E5934/MAX($E$9:E5934)-1)))","v":""}]
[null,null,null,null,null,{"$f":"IF(B5935=\"\",\"\",IF(C5935=\"\",F5934,IF(E5935=\"\",F5934,E5935/MAX($E$9:E5935)-1)))","v":""}]
[null,null,null,null,null,{"$f":"IF(B5936=\"\",\"\",IF(C5936=\"\",F5935,IF(E5936=\"\",F5935,E5936/MAX($E$9:E5936)-1)))","v":""}]
[null,null,null,null,null,{"$f":"IF(B5937=\"\",\"\",IF(C5937=\"\",F5936,IF(E5937=\"\",F5936,E5937/MAX($E$9:E5937)-1)))","v":""}]
[null,null,null,null,null,{"$f":"IF(B5938=\"\",\"\",IF(C5938=\"\",F5937,IF(E5938=\"\",F5937,E5938/MAX($E$9:E5938)-1)))","v":""}]
[null,null,null,null,null,{"$f":"IF(B5939=\"\",\"\",IF(C5939=\"\",F5938,IF(E5939=\"\",F5938,E5939/MAX($E$9:E5939)-1)))","v":""}]
[null,null,null,null,null,{"$f":"IF(B5940=\"\",\"\",IF(C5940=\"\",F5939,IF(E5940=\"\",F5939,E5940/MAX($E$9:E5940)-1)))","v":""}]
[null,null,null,null,null,{"$f":"IF(B5941=\"\",\"\",IF(C5941=\"\",F5940,IF(E5941=\"\",F5940,E5941/MAX($E$9:E5941)-1)))","v":""}]
[null,null,null,null,null,{"$f":"IF(B5942=\"\",\"\",IF(C5942=\"\",F5941,IF(E5942=\"\",F5941,E5942/MAX($E$9:E5942)-1)))","v":""}]
[null,null,null,null,null,{"$f":"IF(B5943=\"\",\"\",IF(C5943=\"\",F5942,IF(E5943=\"\",F5942,E5943/MAX($E$9:E5943)-1)))","v":""}]
[null,null,null,null,null,{"$f":"IF(B5944=\"\",\"\",IF(C5944=\"\",F5943,IF(E5944=\"\",F5943,E5944/MAX($E$9:E5944)-1)))","v":""}]
[null,null,null,null,null,{"$f":"IF(B5945=\"\",\"\",IF(C5945=\"\",F5944,IF(E5945=\"\",F5944,E5945/MAX($E$9:E5945)-1)))","v":""}]
[null,null,null,null,null,{"$f":"IF(B5946=\"\",\"\",IF(C5946=\"\",F5945,IF(E5946=\"\",F5945,E5946/MAX($E$9:E5946)-1)))","v":""}]
[null,null,null,null,null,{"$f":"IF(B5947=\"\",\"\",IF(C5947=\"\",F5946,IF(E5947=\"\",F5946,E5947/MAX($E$9:E5947)-1)))","v":""}]
[null,null,null,null,null,{"$f":"IF(B5948=\"\",\"\",IF(C5948=\"\",F5947,IF(E5948=\"\",F5947,E5948/MAX($E$9:E5948)-1)))","v":""}]
[null,null,null,null,null,{"$f":"IF(B5949=\"\",\"\",IF(C5949=\"\",F5948,IF(E5949=\"\",F5948,E5949/MAX($E$9:E5949)-1)))","v":""}]
[null,null,null,null,null,{"$f":"IF(B5950=\"\",\"\",IF(C5950=\"\",F5949,IF(E5950=\"\",F5949,E5950/MAX($E$9:E5950)-1)))","v":""}]
[null,null,null,null,null,{"$f":"IF(B5951=\"\",\"\",IF(C5951=\"\",F5950,IF(E5951=\"\",F5950,E5951/MAX($E$9:E5951)-1)))","v":""}]
[null,null,null,null,null,{"$f":"IF(B5952=\"\",\"\",IF(C5952=\"\",F5951,IF(E5952=\"\",F5951,E5952/MAX($E$9:E5952)-1)))","v":""}]
[null,null,null,null,null,{"$f":"IF(B5953=\"\",\"\",IF(C5953=\"\",F5952,IF(E5953=\"\",F5952,E5953/MAX($E$9:E5953)-1)))","v":""}]
[null,null,null,null,null,{"$f":"IF(B5954=\"\",\"\",IF(C5954=\"\",F5953,IF(E5954=\"\",F5953,E5954/MAX($E$9:E5954)-1)))","v":""}]
[null,null,null,null,null,{"$f":"IF(B5955=\"\",\"\",IF(C5955=\"\",F5954,IF(E5955=\"\",F5954,E5955/MAX($E$9:E5955)-1)))","v":""}]
[null,null,null,null,null,{"$f":"IF(B5956=\"\",\"\",IF(C5956=\"\",F5955,IF(E5956=\"\",F5955,E5956/MAX($E$9:E5956)-1)))","v":""}]
[null,null,null,null,null,{"$f":"IF(B5957=\"\",\"\",IF(C5957=\"\",F5956,IF(E5957=\"\",F5956,E5957/MAX($E$9:E5957)-1)))","v":""}]
[null,null,null,null,null,{"$f":"IF(B5958=\"\",\"\",IF(C5958=\"\",F5957,IF(E5958=\"\",F5957,E5958/MAX($E$9:E5958)-1)))","v":""}]
[null,null,null,null,null,{"$f":"IF(B5959=\"\",\"\",IF(C5959=\"\",F5958,IF(E5959=\"\",F5958,E5959/MAX($E$9:E5959)-1)))","v":""}]
[null,null,null,null,null,{"$f":"IF(B5960=\"\",\"\",IF(C5960=\"\",F5959,IF(E5960=\"\",F5959,E5960/MAX($E$9:E5960)-1)))","v":""}]
[null,null,null,null,null,{"$f":"IF(B5961=\"\",\"\",IF(C5961=\"\",F5960,IF(E5961=\"\",F5960,E5961/MAX($E$9:E5961)-1)))","v":""}]
[null,null,null,null,null,{"$f":"IF(B5962=\"\",\"\",IF(C5962=\"\",F5961,IF(E5962=\"\",F5961,E5962/MAX($E$9:E5962)-1)))","v":""}]
[null,null,null,null,null,{"$f":"IF(B5963=\"\",\"\",IF(C5963=\"\",F5962,IF(E5963=\"\",F5962,E5963/MAX($E$9:E5963)-1)))","v":""}]
[null,null,null,null,null,{"$f":"IF(B5964=\"\",\"\",IF(C5964=\"\",F5963,IF(E5964=\"\",F5963,E5964/MAX($E$9:E5964)-1)))","v":""}]
[null,null,null,null,null,{"$f":"IF(B5965=\"\",\"\",IF(C5965=\"\",F5964,IF(E5965=\"\",F5964,E5965/MAX($E$9:E5965)-1)))","v":""}]
[null,null,null,null,null,{"$f":"IF(B5966=\"\",\"\",IF(C5966=\"\",F5965,IF(E5966=\"\",F5965,E5966/MAX($E$9:E5966)-1)))","v":""}]
[null,null,null,null,null,{"$f":"IF(B5967=\"\",\"\",IF(C5967=\"\",F5966,IF(E5967=\"\",F5966,E5967/MAX($E$9:E5967)-1)))","v":""}]
[null,null,null,null,null,{"$f":"IF(B5968=\"\",\"\",IF(C5968=\"\",F5967,IF(E5968=\"\",F5967,E5968/MAX($E$9:E5968)-1)))","v":""}]
[null,null,null,null,null,{"$f":"IF(B5969=\"\",\"\",IF(C5969=\"\",F5968,IF(E5969=\"\",F5968,E5969/MAX($E$9:E5969)-1)))","v":""}]
[null,null,null,null,null,{"$f":"IF(B5970=\"\",\"\",IF(C5970=\"\",F5969,IF(E5970=\"\",F5969,E5970/MAX($E$9:E5970)-1)))","v":""}]
[null,null,null,null,null,{"$f":"IF(B5971=\"\",\"\",IF(C5971=\"\",F5970,IF(E5971=\"\",F5970,E5971/MAX($E$9:E5971)-1)))","v":""}]
[null,null,null,null,null,{"$f":"IF(B5972=\"\",\"\",IF(C5972=\"\",F5971,IF(E5972=\"\",F5971,E5972/MAX($E$9:E5972)-1)))","v":""}]
[null,null,null,null,null,{"$f":"IF(B5973=\"\",\"\",IF(C5973=\"\",F5972,IF(E5973=\"\",F5972,E5973/MAX($E$9:E5973)-1)))","v":""}]
[null,null,null,null,null,{"$f":"IF(B5974=\"\",\"\",IF(C5974=\"\",F5973,IF(E5974=\"\",F5973,E5974/MAX($E$9:E5974)-1)))","v":""}]
[null,null,null,null,null,{"$f":"IF(B5975=\"\",\"\",IF(C5975=\"\",F5974,IF(E5975=\"\",F5974,E5975/MAX($E$9:E5975)-1)))","v":""}]
[null,null,null,null,null,{"$f":"IF(B5976=\"\",\"\",IF(C5976=\"\",F5975,IF(E5976=\"\",F5975,E5976/MAX($E$9:E5976)-1)))","v":""}]
[null,null,null,null,null,{"$f":"IF(B5977=\"\",\"\",IF(C5977=\"\",F5976,IF(E5977=\"\",F5976,E5977/MAX($E$9:E5977)-1)))","v":""}]
[null,null,null,null,null,{"$f":"IF(B5978=\"\",\"\",IF(C5978=\"\",F5977,IF(E5978=\"\",F5977,E5978/MAX($E$9:E5978)-1)))","v":""}]
[null,null,null,null,null,{"$f":"IF(B5979=\"\",\"\",IF(C5979=\"\",F5978,IF(E5979=\"\",F5978,E5979/MAX($E$9:E5979)-1)))","v":""}]
[null,null,null,null,null,{"$f":"IF(B5980=\"\",\"\",IF(C5980=\"\",F5979,IF(E5980=\"\",F5979,E5980/MAX($E$9:E5980)-1)))","v":""}]
[null,null,null,null,null,{"$f":"IF(B5981=\"\",\"\",IF(C5981=\"\",F5980,IF(E5981=\"\",F5980,E5981/MAX($E$9:E5981)-1)))","v":""}]
[null,null,null,null,null,{"$f":"IF(B5982=\"\",\"\",IF(C5982=\"\",F5981,IF(E5982=\"\",F5981,E5982/MAX($E$9:E5982)-1)))","v":""}]
[null,null,null,null,null,{"$f":"IF(B5983=\"\",\"\",IF(C5983=\"\",F5982,IF(E5983=\"\",F5982,E5983/MAX($E$9:E5983)-1)))","v":""}]
[null,null,null,null,null,{"$f":"IF(B5984=\"\",\"\",IF(C5984=\"\",F5983,IF(E5984=\"\",F5983,E5984/MAX($E$9:E5984)-1)))","v":""}]
[null,null,null,null,null,{"$f":"IF(B5985=\"\",\"\",IF(C5985=\"\",F5984,IF(E5985=\"\",F5984,E5985/MAX($E$9:E5985)-1)))","v":""}]
[null,null,null,null,null,{"$f":"IF(B5986=\"\",\"\",IF(C5986=\"\",F5985,IF(E5986=\"\",F5985,E5986/MAX($E$9:E5986)-1)))","v":""}]
[null,null,null,null,null,{"$f":"IF(B5987=\"\",\"\",IF(C5987=\"\",F5986,IF(E5987=\"\",F5986,E5987/MAX($E$9:E5987)-1)))","v":""}]
[null,null,null,null,null,{"$f":"IF(B5988=\"\",\"\",IF(C5988=\"\",F5987,IF(E5988=\"\",F5987,E5988/MAX($E$9:E5988)-1)))","v":""}]
[null,null,null,null,null,{"$f":"IF(B5989=\"\",\"\",IF(C5989=\"\",F5988,IF(E5989=\"\",F5988,E5989/MAX($E$9:E5989)-1)))","v":""}]
[null,null,null,null,null,{"$f":"IF(B5990=\"\",\"\",IF(C5990=\"\",F5989,IF(E5990=\"\",F5989,E5990/MAX($E$9:E5990)-1)))","v":""}]
[null,null,null,null,null,{"$f":"IF(B5991=\"\",\"\",IF(C5991=\"\",F5990,IF(E5991=\"\",F5990,E5991/MAX($E$9:E5991)-1)))","v":""}]
[null,null,null,null,null,{"$f":"IF(B5992=\"\",\"\",IF(C5992=\"\",F5991,IF(E5992=\"\",F5991,E5992/MAX($E$9:E5992)-1)))","v":""}]
[null,null,null,null,null,{"$f":"IF(B5993=\"\",\"\",IF(C5993=\"\",F5992,IF(E5993=\"\",F5992,E5993/MAX($E$9:E5993)-1)))","v":""}]
[null,null,null,null,null,{"$f":"IF(B5994=\"\",\"\",IF(C5994=\"\",F5993,IF(E5994=\"\",F5993,E5994/MAX($E$9:E5994)-1)))","v":""}]
[null,null,null,null,null,{"$f":"IF(B5995=\"\",\"\",IF(C5995=\"\",F5994,IF(E5995=\"\",F5994,E5995/MAX($E$9:E5995)-1)))","v":""}]
[null,null,null,null,null,{"$f":"IF(B5996=\"\",\"\",IF(C5996=\"\",F5995,IF(E5996=\"\",F5995,E5996/MAX($E$9:E5996)-1)))","v":""}]
[null,null,null,null,null,{"$f":"IF(B5997=\"\",\"\",IF(C5997=\"\",F5996,IF(E5997=\"\",F5996,E5997/MAX($E$9:E5997)-1)))","v":""}]
[null,null,null,null,null,{"$f":"IF(B5998=\"\",\"\",IF(C5998=\"\",F5997,IF(E5998=\"\",F5997,E5998/MAX($E$9:E5998)-1)))","v":""}]
[null,null,null,null,null,{"$f":"IF(B5999=\"\",\"\",IF(C5999=\"\",F5998,IF(E5999=\"\",F5998,E5999/MAX($E$9:E5999)-1)))","v":""}]
[null,null,null,null,null,{"$f":"IF(B6000=\"\",\"\",IF(C6000=\"\",F5999,IF(E6000=\"\",F5999,E6000/MAX($E$9:E6000)-1)))","v":""}]
[null,null,null,null,null,{"$f":"IF(B6001=\"\",\"\",IF(C6001=\"\",F6000,IF(E6001=\"\",F6000,E6001/MAX($E$9:E6001)-1)))","v":""}]
[null,null,null,null,null,{"$f":"IF(B6002=\"\",\"\",IF(C6002=\"\",F6001,IF(E6002=\"\",F6001,E6002/MAX($E$9:E6002)-1)))","v":""}]
[null,null,null,null,null,{"$f":"IF(B6003=\"\",\"\",IF(C6003=\"\",F6002,IF(E6003=\"\",F6002,E6003/MAX($E$9:E6003)-1)))","v":""}]
[null,null,null,null,null,{"$f":"IF(B6004=\"\",\"\",IF(C6004=\"\",F6003,IF(E6004=\"\",F6003,E6004/MAX($E$9:E6004)-1)))","v":""}]
[null,null,null,null,null,{"$f":"IF(B6005=\"\",\"\",IF(C6005=\"\",F6004,IF(E6005=\"\",F6004,E6005/MAX($E$9:E6005)-1)))","v":""}]
[null,null,null,null,null,{"$f":"IF(B6006=\"\",\"\",IF(C6006=\"\",F6005,IF(E6006=\"\",F6005,E6006/MAX($E$9:E6006)-1)))","v":""}]
[null,null,null,null,null,{"$f":"IF(B6007=\"\",\"\",IF(C6007=\"\",F6006,IF(E6007=\"\",F6006,E6007/MAX($E$9:E6007)-1)))","v":""}]
[null,null,null,null,null,{"$f":"IF(B6008=\"\",\"\",IF(C6008=\"\",F6007,IF(E6008=\"\",F6007,E6008/MAX($E$9:E6008)-1)))","v":""}]
[null,null,null,null,null,{"$f":"IF(B6009=\"\",\"\",IF(C6009=\"\",F6008,IF(E6009=\"\",F6008,E6009/MAX($E$9:E6009)-1)))","v":""}]
[null,null,null,null,null,{"$f":"IF(B6010=\"\",\"\",IF(C6010=\"\",F6009,IF(E6010=\"\",F6009,E6010/MAX($E$9:E6010)-1)))","v":""}]
[null,null,null,null,null,{"$f":"IF(B6011=\"\",\"\",IF(C6011=\"\",F6010,IF(E6011=\"\",F6010,E6011/MAX($E$9:E6011)-1)))","v":""}]
[null,null,null,null,null,{"$f":"IF(B6012=\"\",\"\",IF(C6012=\"\",F6011,IF(E6012=\"\",F6011,E6012/MAX($E$9:E6012)-1)))","v":""}]
[null,null,null,null,null,{"$f":"IF(B6013=\"\",\"\",IF(C6013=\"\",F6012,IF(E6013=\"\",F6012,E6013/MAX($E$9:E6013)-1)))","v":""}]
[null,null,null,null,null,{"$f":"IF(B6014=\"\",\"\",IF(C6014=\"\",F6013,IF(E6014=\"\",F6013,E6014/MAX($E$9:E6014)-1)))","v":""}]
[null,null,null,null,null,{"$f":"IF(B6015=\"\",\"\",IF(C6015=\"\",F6014,IF(E6015=\"\",F6014,E6015/MAX($E$9:E6015)-1)))","v":""}]
[null,null,null,null,null,{"$f":"IF(B6016=\"\",\"\",IF(C6016=\"\",F6015,IF(E6016=\"\",F6015,E6016/MAX($E$9:E6016)-1)))","v":""}]
[null,null,null,null,null,{"$f":"IF(B6017=\"\",\"\",IF(C6017=\"\",F6016,IF(E6017=\"\",F6016,E6017/MAX($E$9:E6017)-1)))","v":""}]
[null,null,null,null,null,{"$f":"IF(B6018=\"\",\"\",IF(C6018=\"\",F6017,IF(E6018=\"\",F6017,E6018/MAX($E$9:E6018)-1)))","v":""}]
[null,null,null,null,null,{"$f":"IF(B6019=\"\",\"\",IF(C6019=\"\",F6018,IF(E6019=\"\",F6018,E6019/MAX($E$9:E6019)-1)))","v":""}]
[null,null,null,null,null,{"$f":"IF(B6020=\"\",\"\",IF(C6020=\"\",F6019,IF(E6020=\"\",F6019,E6020/MAX($E$9:E6020)-1)))","v":""}]
[null,null,null,null,null,{"$f":"IF(B6021=\"\",\"\",IF(C6021=\"\",F6020,IF(E6021=\"\",F6020,E6021/MAX($E$9:E6021)-1)))","v":""}]
[null,null,null,null,null,{"$f":"IF(B6022=\"\",\"\",IF(C6022=\"\",F6021,IF(E6022=\"\",F6021,E6022/MAX($E$9:E6022)-1)))","v":""}]
[null,null,null,null,null,{"$f":"IF(B6023=\"\",\"\",IF(C6023=\"\",F6022,IF(E6023=\"\",F6022,E6023/MAX($E$9:E6023)-1)))","v":""}]
[null,null,null,null,null,{"$f":"IF(B6024=\"\",\"\",IF(C6024=\"\",F6023,IF(E6024=\"\",F6023,E6024/MAX($E$9:E6024)-1)))","v":""}]
[null,null,null,null,null,{"$f":"IF(B6025=\"\",\"\",IF(C6025=\"\",F6024,IF(E6025=\"\",F6024,E6025/MAX($E$9:E6025)-1)))","v":""}]
[null,null,null,null,null,{"$f":"IF(B6026=\"\",\"\",IF(C6026=\"\",F6025,IF(E6026=\"\",F6025,E6026/MAX($E$9:E6026)-1)))","v":""}]
[null,null,null,null,null,{"$f":"IF(B6027=\"\",\"\",IF(C6027=\"\",F6026,IF(E6027=\"\",F6026,E6027/MAX($E$9:E6027)-1)))","v":""}]
[null,null,null,null,null,{"$f":"IF(B6028=\"\",\"\",IF(C6028=\"\",F6027,IF(E6028=\"\",F6027,E6028/MAX($E$9:E6028)-1)))","v":""}]
[null,null,null,null,null,{"$f":"IF(B6029=\"\",\"\",IF(C6029=\"\",F6028,IF(E6029=\"\",F6028,E6029/MAX($E$9:E6029)-1)))","v":""}]
[null,null,null,null,null,{"$f":"IF(B6030=\"\",\"\",IF(C6030=\"\",F6029,IF(E6030=\"\",F6029,E6030/MAX($E$9:E6030)-1)))","v":""}]
[null,null,null,null,null,{"$f":"IF(B6031=\"\",\"\",IF(C6031=\"\",F6030,IF(E6031=\"\",F6030,E6031/MAX($E$9:E6031)-1)))","v":""}]
[null,null,null,null,null,{"$f":"IF(B6032=\"\",\"\",IF(C6032=\"\",F6031,IF(E6032=\"\",F6031,E6032/MAX($E$9:E6032)-1)))","v":""}]
[null,null,null,null,null,{"$f":"IF(B6033=\"\",\"\",IF(C6033=\"\",F6032,IF(E6033=\"\",F6032,E6033/MAX($E$9:E6033)-1)))","v":""}]
[null,null,null,null,null,{"$f":"IF(B6034=\"\",\"\",IF(C6034=\"\",F6033,IF(E6034=\"\",F6033,E6034/MAX($E$9:E6034)-1)))","v":""}]
[null,null,null,null,null,{"$f":"IF(B6035=\"\",\"\",IF(C6035=\"\",F6034,IF(E6035=\"\",F6034,E6035/MAX($E$9:E6035)-1)))","v":""}]
[null,null,null,null,null,{"$f":"IF(B6036=\"\",\"\",IF(C6036=\"\",F6035,IF(E6036=\"\",F6035,E6036/MAX($E$9:E6036)-1)))","v":""}]
[null,null,null,null,null,{"$f":"IF(B6037=\"\",\"\",IF(C6037=\"\",F6036,IF(E6037=\"\",F6036,E6037/MAX($E$9:E6037)-1)))","v":""}]
[null,null,null,null,null,{"$f":"IF(B6038=\"\",\"\",IF(C6038=\"\",F6037,IF(E6038=\"\",F6037,E6038/MAX($E$9:E6038)-1)))","v":""}]
[null,null,null,null,null,{"$f":"IF(B6039=\"\",\"\",IF(C6039=\"\",F6038,IF(E6039=\"\",F6038,E6039/MAX($E$9:E6039)-1)))","v":""}]
[null,null,null,null,null,{"$f":"IF(B6040=\"\",\"\",IF(C6040=\"\",F6039,IF(E6040=\"\",F6039,E6040/MAX($E$9:E6040)-1)))","v":""}]
[null,null,null,null,null,{"$f":"IF(B6041=\"\",\"\",IF(C6041=\"\",F6040,IF(E6041=\"\",F6040,E6041/MAX($E$9:E6041)-1)))","v":""}]
[null,null,null,null,null,{"$f":"IF(B6042=\"\",\"\",IF(C6042=\"\",F6041,IF(E6042=\"\",F6041,E6042/MAX($E$9:E6042)-1)))","v":""}]
[null,null,null,null,null,{"$f":"IF(B6043=\"\",\"\",IF(C6043=\"\",F6042,IF(E6043=\"\",F6042,E6043/MAX($E$9:E6043)-1)))","v":""}]
[null,null,null,null,null,{"$f":"IF(B6044=\"\",\"\",IF(C6044=\"\",F6043,IF(E6044=\"\",F6043,E6044/MAX($E$9:E6044)-1)))","v":""}]
[null,null,null,null,null,{"$f":"IF(B6045=\"\",\"\",IF(C6045=\"\",F6044,IF(E6045=\"\",F6044,E6045/MAX($E$9:E6045)-1)))","v":""}]
[null,null,null,null,null,{"$f":"IF(B6046=\"\",\"\",IF(C6046=\"\",F6045,IF(E6046=\"\",F6045,E6046/MAX($E$9:E6046)-1)))","v":""}]
[null,null,null,null,null,{"$f":"IF(B6047=\"\",\"\",IF(C6047=\"\",F6046,IF(E6047=\"\",F6046,E6047/MAX($E$9:E6047)-1)))","v":""}]
[null,null,null,null,null,{"$f":"IF(B6048=\"\",\"\",IF(C6048=\"\",F6047,IF(E6048=\"\",F6047,E6048/MAX($E$9:E6048)-1)))","v":""}]
[null,null,null,null,null,{"$f":"IF(B6049=\"\",\"\",IF(C6049=\"\",F6048,IF(E6049=\"\",F6048,E6049/MAX($E$9:E6049)-1)))","v":""}]
[null,null,null,null,null,{"$f":"IF(B6050=\"\",\"\",IF(C6050=\"\",F6049,IF(E6050=\"\",F6049,E6050/MAX($E$9:E6050)-1)))","v":""}]
[null,null,null,null,null,{"$f":"IF(B6051=\"\",\"\",IF(C6051=\"\",F6050,IF(E6051=\"\",F6050,E6051/MAX($E$9:E6051)-1)))","v":""}]
[null,null,null,null,null,{"$f":"IF(B6052=\"\",\"\",IF(C6052=\"\",F6051,IF(E6052=\"\",F6051,E6052/MAX($E$9:E6052)-1)))","v":""}]
[null,null,null,null,null,{"$f":"IF(B6053=\"\",\"\",IF(C6053=\"\",F6052,IF(E6053=\"\",F6052,E6053/MAX($E$9:E6053)-1)))","v":""}]
[null,null,null,null,null,{"$f":"IF(B6054=\"\",\"\",IF(C6054=\"\",F6053,IF(E6054=\"\",F6053,E6054/MAX($E$9:E6054)-1)))","v":""}]
[null,null,null,null,null,{"$f":"IF(B6055=\"\",\"\",IF(C6055=\"\",F6054,IF(E6055=\"\",F6054,E6055/MAX($E$9:E6055)-1)))","v":""}]
[null,null,null,null,null,{"$f":"IF(B6056=\"\",\"\",IF(C6056=\"\",F6055,IF(E6056=\"\",F6055,E6056/MAX($E$9:E6056)-1)))","v":""}]
[null,null,null,null,null,{"$f":"IF(B6057=\"\",\"\",IF(C6057=\"\",F6056,IF(E6057=\"\",F6056,E6057/MAX($E$9:E6057)-1)))","v":""}]
[null,null,null,null,null,{"$f":"IF(B6058=\"\",\"\",IF(C6058=\"\",F6057,IF(E6058=\"\",F6057,E6058/MAX($E$9:E6058)-1)))","v":""}]
[null,null,null,null,null,{"$f":"IF(B6059=\"\",\"\",IF(C6059=\"\",F6058,IF(E6059=\"\",F6058,E6059/MAX($E$9:E6059)-1)))","v":""}]
[null,null,null,null,null,{"$f":"IF(B6060=\"\",\"\",IF(C6060=\"\",F6059,IF(E6060=\"\",F6059,E6060/MAX($E$9:E6060)-1)))","v":""}]
[null,null,null,null,null,{"$f":"IF(B6061=\"\",\"\",IF(C6061=\"\",F6060,IF(E6061=\"\",F6060,E6061/MAX($E$9:E6061)-1)))","v":""}]
[null,null,null,null,null,{"$f":"IF(B6062=\"\",\"\",IF(C6062=\"\",F6061,IF(E6062=\"\",F6061,E6062/MAX($E$9:E6062)-1)))","v":""}]
[null,null,null,null,null,{"$f":"IF(B6063=\"\",\"\",IF(C6063=\"\",F6062,IF(E6063=\"\",F6062,E6063/MAX($E$9:E6063)-1)))","v":""}]
[null,null,null,null,null,{"$f":"IF(B6064=\"\",\"\",IF(C6064=\"\",F6063,IF(E6064=\"\",F6063,E6064/MAX($E$9:E6064)-1)))","v":""}]
[null,null,null,null,null,{"$f":"IF(B6065=\"\",\"\",IF(C6065=\"\",F6064,IF(E6065=\"\",F6064,E6065/MAX($E$9:E6065)-1)))","v":""}]
[null,null,null,null,null,{"$f":"IF(B6066=\"\",\"\",IF(C6066=\"\",F6065,IF(E6066=\"\",F6065,E6066/MAX($E$9:E6066)-1)))","v":""}]
[null,null,null,null,null,{"$f":"IF(B6067=\"\",\"\",IF(C6067=\"\",F6066,IF(E6067=\"\",F6066,E6067/MAX($E$9:E6067)-1)))","v":""}]
[null,null,null,null,null,{"$f":"IF(B6068=\"\",\"\",IF(C6068=\"\",F6067,IF(E6068=\"\",F6067,E6068/MAX($E$9:E6068)-1)))","v":""}]
[null,null,null,null,null,{"$f":"IF(B6069=\"\",\"\",IF(C6069=\"\",F6068,IF(E6069=\"\",F6068,E6069/MAX($E$9:E6069)-1)))","v":""}]
[null,null,null,null,null,{"$f":"IF(B6070=\"\",\"\",IF(C6070=\"\",F6069,IF(E6070=\"\",F6069,E6070/MAX($E$9:E6070)-1)))","v":""}]
[null,null,null,null,null,{"$f":"IF(B6071=\"\",\"\",IF(C6071=\"\",F6070,IF(E6071=\"\",F6070,E6071/MAX($E$9:E6071)-1)))","v":""}]
[null,null,null,null,null,{"$f":"IF(B6072=\"\",\"\",IF(C6072=\"\",F6071,IF(E6072=\"\",F6071,E6072/MAX($E$9:E6072)-1)))","v":""}]
[null,null,null,null,null,{"$f":"IF(B6073=\"\",\"\",IF(C6073=\"\",F6072,IF(E6073=\"\",F6072,E6073/MAX($E$9:E6073)-1)))","v":""}]
[null,null,null,null,null,{"$f":"IF(B6074=\"\",\"\",IF(C6074=\"\",F6073,IF(E6074=\"\",F6073,E6074/MAX($E$9:E6074)-1)))","v":""}]
[null,null,null,null,null,{"$f":"IF(B6075=\"\",\"\",IF(C6075=\"\",F6074,IF(E6075=\"\",F6074,E6075/MAX($E$9:E6075)-1)))","v":""}]
[null,null,null,null,null,{"$f":"IF(B6076=\"\",\"\",IF(C6076=\"\",F6075,IF(E6076=\"\",F6075,E6076/MAX($E$9:E6076)-1)))","v":""}]
[null,null,null,null,null,{"$f":"IF(B6077=\"\",\"\",IF(C6077=\"\",F6076,IF(E6077=\"\",F6076,E6077/MAX($E$9:E6077)-1)))","v":""}]
[null,null,null,null,null,{"$f":"IF(B6078=\"\",\"\",IF(C6078=\"\",F6077,IF(E6078=\"\",F6077,E6078/MAX($E$9:E6078)-1)))","v":""}]
[null,null,null,null,null,{"$f":"IF(B6079=\"\",\"\",IF(C6079=\"\",F6078,IF(E6079=\"\",F6078,E6079/MAX($E$9:E6079)-1)))","v":""}]
[null,null,null,null,null,{"$f":"IF(B6080=\"\",\"\",IF(C6080=\"\",F6079,IF(E6080=\"\",F6079,E6080/MAX($E$9:E6080)-1)))","v":""}]
[null,null,null,null,null,{"$f":"IF(B6081=\"\",\"\",IF(C6081=\"\",F6080,IF(E6081=\"\",F6080,E6081/MAX($E$9:E6081)-1)))","v":""}]
[null,null,null,null,null,{"$f":"IF(B6082=\"\",\"\",IF(C6082=\"\",F6081,IF(E6082=\"\",F6081,E6082/MAX($E$9:E6082)-1)))","v":""}]
[null,null,null,null,null,{"$f":"IF(B6083=\"\",\"\",IF(C6083=\"\",F6082,IF(E6083=\"\",F6082,E6083/MAX($E$9:E6083)-1)))","v":""}]
[null,null,null,null,null,{"$f":"IF(B6084=\"\",\"\",IF(C6084=\"\",F6083,IF(E6084=\"\",F6083,E6084/MAX($E$9:E6084)-1)))","v":""}]
[null,null,null,null,null,{"$f":"IF(B6085=\"\",\"\",IF(C6085=\"\",F6084,IF(E6085=\"\",F6084,E6085/MAX($E$9:E6085)-1)))","v":""}]
[null,null,null,null,null,{"$f":"IF(B6086=\"\",\"\",IF(C6086=\"\",F6085,IF(E6086=\"\",F6085,E6086/MAX($E$9:E6086)-1)))","v":""}]
[null,null,null,null,null,{"$f":"IF(B6087=\"\",\"\",IF(C6087=\"\",F6086,IF(E6087=\"\",F6086,E6087/MAX($E$9:E6087)-1)))","v":""}]
[null,null,null,null,null,{"$f":"IF(B6088=\"\",\"\",IF(C6088=\"\",F6087,IF(E6088=\"\",F6087,E6088/MAX($E$9:E6088)-1)))","v":""}]
[null,null,null,null,null,{"$f":"IF(B6089=\"\",\"\",IF(C6089=\"\",F6088,IF(E6089=\"\",F6088,E6089/MAX($E$9:E6089)-1)))","v":""}]
[null,null,null,null,null,{"$f":"IF(B6090=\"\",\"\",IF(C6090=\"\",F6089,IF(E6090=\"\",F6089,E6090/MAX($E$9:E6090)-1)))","v":""}]
[null,null,null,null,null,{"$f":"IF(B6091=\"\",\"\",IF(C6091=\"\",F6090,IF(E6091=\"\",F6090,E6091/MAX($E$9:E6091)-1)))","v":""}]
[null,null,null,null,null,{"$f":"IF(B6092=\"\",\"\",IF(C6092=\"\",F6091,IF(E6092=\"\",F6091,E6092/MAX($E$9:E6092)-1)))","v":""}]
[null,null,null,null,null,{"$f":"IF(B6093=\"\",\"\",IF(C6093=\"\",F6092,IF(E6093=\"\",F6092,E6093/MAX($E$9:E6093)-1)))","v":""}]
[null,null,null,null,null,{"$f":"IF(B6094=\"\",\"\",IF(C6094=\"\",F6093,IF(E6094=\"\",F6093,E6094/MAX($E$9:E6094)-1)))","v":""}]
[null,null,null,null,null,{"$f":"IF(B6095=\"\",\"\",IF(C6095=\"\",F6094,IF(E6095=\"\",F6094,E6095/MAX($E$9:E6095)-1)))","v":""}]
[null,null,null,null,null,{"$f":"IF(B6096=\"\",\"\",IF(C6096=\"\",F6095,IF(E6096=\"\",F6095,E6096/MAX($E$9:E6096)-1)))","v":""}]
[null,null,null,null,null,{"$f":"IF(B6097=\"\",\"\",IF(C6097=\"\",F6096,IF(E6097=\"\",F6096,E6097/MAX($E$9:E6097)-1)))","v":""}]
[null,null,null,null,null,{"$f":"IF(B6098=\"\",\"\",IF(C6098=\"\",F6097,IF(E6098=\"\",F6097,E6098/MAX($E$9:E6098)-1)))","v":""}]
[null,null,null,null,null,{"$f":"IF(B6099=\"\",\"\",IF(C6099=\"\",F6098,IF(E6099=\"\",F6098,E6099/MAX($E$9:E6099)-1)))","v":""}]
[null,null,null,null,null,{"$f":"IF(B6100=\"\",\"\",IF(C6100=\"\",F6099,IF(E6100=\"\",F6099,E6100/MAX($E$9:E6100)-1)))","v":""}]
[null,null,null,null,null,{"$f":"IF(B6101=\"\",\"\",IF(C6101=\"\",F6100,IF(E6101=\"\",F6100,E6101/MAX($E$9:E6101)-1)))","v":""}]
[null,null,null,null,null,{"$f":"IF(B6102=\"\",\"\",IF(C6102=\"\",F6101,IF(E6102=\"\",F6101,E6102/MAX($E$9:E6102)-1)))","v":""}]
[null,null,null,null,null,{"$f":"IF(B6103=\"\",\"\",IF(C6103=\"\",F6102,IF(E6103=\"\",F6102,E6103/MAX($E$9:E6103)-1)))","v":""}]
[null,null,null,null,null,{"$f":"IF(B6104=\"\",\"\",IF(C6104=\"\",F6103,IF(E6104=\"\",F6103,E6104/MAX($E$9:E6104)-1)))","v":""}]
[null,null,null,null,null,{"$f":"IF(B6105=\"\",\"\",IF(C6105=\"\",F6104,IF(E6105=\"\",F6104,E6105/MAX($E$9:E6105)-1)))","v":""}]
[null,null,null,null,null,{"$f":"IF(B6106=\"\",\"\",IF(C6106=\"\",F6105,IF(E6106=\"\",F6105,E6106/MAX($E$9:E6106)-1)))","v":""}]
[null,null,null,null,null,{"$f":"IF(B6107=\"\",\"\",IF(C6107=\"\",F6106,IF(E6107=\"\",F6106,E6107/MAX($E$9:E6107)-1)))","v":""}]
[null,null,null,null,null,{"$f":"IF(B6108=\"\",\"\",IF(C6108=\"\",F6107,IF(E6108=\"\",F6107,E6108/MAX($E$9:E6108)-1)))","v":""}]
[null,null,null,null,null,{"$f":"IF(B6109=\"\",\"\",IF(C6109=\"\",F6108,IF(E6109=\"\",F6108,E6109/MAX($E$9:E6109)-1)))","v":""}]
[null,null,null,null,null,{"$f":"IF(B6110=\"\",\"\",IF(C6110=\"\",F6109,IF(E6110=\"\",F6109,E6110/MAX($E$9:E6110)-1)))","v":""}]
[null,null,null,null,null,{"$f":"IF(B6111=\"\",\"\",IF(C6111=\"\",F6110,IF(E6111=\"\",F6110,E6111/MAX($E$9:E6111)-1)))","v":""}]
[null,null,null,null,null,{"$f":"IF(B6112=\"\",\"\",IF(C6112=\"\",F6111,IF(E6112=\"\",F6111,E6112/MAX($E$9:E6112)-1)))","v":""}]
[null,null,null,null,null,{"$f":"IF(B6113=\"\",\"\",IF(C6113=\"\",F6112,IF(E6113=\"\",F6112,E6113/MAX($E$9:E6113)-1)))","v":""}]
[null,null,null,null,null,{"$f":"IF(B6114=\"\",\"\",IF(C6114=\"\",F6113,IF(E6114=\"\",F6113,E6114/MAX($E$9:E6114)-1)))","v":""}]
[null,null,null,null,null,{"$f":"IF(B6115=\"\",\"\",IF(C6115=\"\",F6114,IF(E6115=\"\",F6114,E6115/MAX($E$9:E6115)-1)))","v":""}]
[null,null,null,null,null,{"$f":"IF(B6116=\"\",\"\",IF(C6116=\"\",F6115,IF(E6116=\"\",F6115,E6116/MAX($E$9:E6116)-1)))","v":""}]
[null,null,null,null,null,{"$f":"IF(B6117=\"\",\"\",IF(C6117=\"\",F6116,IF(E6117=\"\",F6116,E6117/MAX($E$9:E6117)-1)))","v":""}]
[null,null,null,null,null,{"$f":"IF(B6118=\"\",\"\",IF(C6118=\"\",F6117,IF(E6118=\"\",F6117,E6118/MAX($E$9:E6118)-1)))","v":""}]
[null,null,null,null,null,{"$f":"IF(B6119=\"\",\"\",IF(C6119=\"\",F6118,IF(E6119=\"\",F6118,E6119/MAX($E$9:E6119)-1)))","v":""}]
[null,null,null,null,null,{"$f":"IF(B6120=\"\",\"\",IF(C6120=\"\",F6119,IF(E6120=\"\",F6119,E6120/MAX($E$9:E6120)-1)))","v":""}]
[null,null,null,null,null,{"$f":"IF(B6121=\"\",\"\",IF(C6121=\"\",F6120,IF(E6121=\"\",F6120,E6121/MAX($E$9:E6121)-1)))","v":""}]
[null,null,null,null,null,{"$f":"IF(B6122=\"\",\"\",IF(C6122=\"\",F6121,IF(E6122=\"\",F6121,E6122/MAX($E$9:E6122)-1)))","v":""}]
[null,null,null,null,null,{"$f":"IF(B6123=\"\",\"\",IF(C6123=\"\",F6122,IF(E6123=\"\",F6122,E6123/MAX($E$9:E6123)-1)))","v":""}]
[null,null,null,null,null,{"$f":"IF(B6124=\"\",\"\",IF(C6124=\"\",F6123,IF(E6124=\"\",F6123,E6124/MAX($E$9:E6124)-1)))","v":""}]
[null,null,null,null,null,{"$f":"IF(B6125=\"\",\"\",IF(C6125=\"\",F6124,IF(E6125=\"\",F6124,E6125/MAX($E$9:E6125)-1)))","v":""}]
[null,null,null,null,null,{"$f":"IF(B6126=\"\",\"\",IF(C6126=\"\",F6125,IF(E6126=\"\",F6125,E6126/MAX($E$9:E6126)-1)))","v":""}]
[null,null,null,null,null,{"$f":"IF(B6127=\"\",\"\",IF(C6127=\"\",F6126,IF(E6127=\"\",F6126,E6127/MAX($E$9:E6127)-1)))","v":""}]
[null,null,null,null,null,{"$f":"IF(B6128=\"\",\"\",IF(C6128=\"\",F6127,IF(E6128=\"\",F6127,E6128/MAX($E$9:E6128)-1)))","v":""}]
[null,null,null,null,null,{"$f":"IF(B6129=\"\",\"\",IF(C6129=\"\",F6128,IF(E6129=\"\",F6128,E6129/MAX($E$9:E6129)-1)))","v":""}]
[null,null,null,null,null,{"$f":"IF(B6130=\"\",\"\",IF(C6130=\"\",F6129,IF(E6130=\"\",F6129,E6130/MAX($E$9:E6130)-1)))","v":""}]
[null,null,null,null,null,{"$f":"IF(B6131=\"\",\"\",IF(C6131=\"\",F6130,IF(E6131=\"\",F6130,E6131/MAX($E$9:E6131)-1)))","v":""}]
[null,null,null,null,null,{"$f":"IF(B6132=\"\",\"\",IF(C6132=\"\",F6131,IF(E6132=\"\",F6131,E6132/MAX($E$9:E6132)-1)))","v":""}]
[null,null,null,null,null,{"$f":"IF(B6133=\"\",\"\",IF(C6133=\"\",F6132,IF(E6133=\"\",F6132,E6133/MAX($E$9:E6133)-1)))","v":""}]
[null,null,null,null,null,{"$f":"IF(B6134=\"\",\"\",IF(C6134=\"\",F6133,IF(E6134=\"\",F6133,E6134/MAX($E$9:E6134)-1)))","v":""}]
[null,null,null,null,null,{"$f":"IF(B6135=\"\",\"\",IF(C6135=\"\",F6134,IF(E6135=\"\",F6134,E6135/MAX($E$9:E6135)-1)))","v":""}]
[null,null,null,null,null,{"$f":"IF(B6136=\"\",\"\",IF(C6136=\"\",F6135,IF(E6136=\"\",F6135,E6136/MAX($E$9:E6136)-1)))","v":""}]
[null,null,null,null,null,{"$f":"IF(B6137=\"\",\"\",IF(C6137=\"\",F6136,IF(E6137=\"\",F6136,E6137/MAX($E$9:E6137)-1)))","v":""}]
[null,null,null,null,null,{"$f":"IF(B6138=\"\",\"\",IF(C6138=\"\",F6137,IF(E6138=\"\",F6137,E6138/MAX($E$9:E6138)-1)))","v":""}]
[null,null,null,null,null,{"$f":"IF(B6139=\"\",\"\",IF(C6139=\"\",F6138,IF(E6139=\"\",F6138,E6139/MAX($E$9:E6139)-1)))","v":""}]
[null,null,null,null,null,{"$f":"IF(B6140=\"\",\"\",IF(C6140=\"\",F6139,IF(E6140=\"\",F6139,E6140/MAX($E$9:E6140)-1)))","v":""}]
[null,null,null,null,null,{"$f":"IF(B6141=\"\",\"\",IF(C6141=\"\",F6140,IF(E6141=\"\",F6140,E6141/MAX($E$9:E6141)-1)))","v":""}]
[null,null,null,null,null,{"$f":"IF(B6142=\"\",\"\",IF(C6142=\"\",F6141,IF(E6142=\"\",F6141,E6142/MAX($E$9:E6142)-1)))","v":""}]
[null,null,null,null,null,{"$f":"IF(B6143=\"\",\"\",IF(C6143=\"\",F6142,IF(E6143=\"\",F6142,E6143/MAX($E$9:E6143)-1)))","v":""}]
[null,null,null,null,null,{"$f":"IF(B6144=\"\",\"\",IF(C6144=\"\",F6143,IF(E6144=\"\",F6143,E6144/MAX($E$9:E6144)-1)))","v":""}]
[null,null,null,null,null,{"$f":"IF(B6145=\"\",\"\",IF(C6145=\"\",F6144,IF(E6145=\"\",F6144,E6145/MAX($E$9:E6145)-1)))","v":""}]
[null,null,null,null,null,{"$f":"IF(B6146=\"\",\"\",IF(C6146=\"\",F6145,IF(E6146=\"\",F6145,E6146/MAX($E$9:E6146)-1)))","v":""}]
[null,null,null,null,null,{"$f":"IF(B6147=\"\",\"\",IF(C6147=\"\",F6146,IF(E6147=\"\",F6146,E6147/MAX($E$9:E6147)-1)))","v":""}]
[null,null,null,null,null,{"$f":"IF(B6148=\"\",\"\",IF(C6148=\"\",F6147,IF(E6148=\"\",F6147,E6148/MAX($E$9:E6148)-1)))","v":""}]
[null,null,null,null,null,{"$f":"IF(B6149=\"\",\"\",IF(C6149=\"\",F6148,IF(E6149=\"\",F6148,E6149/MAX($E$9:E6149)-1)))","v":""}]
[null,null,null,null,null,{"$f":"IF(B6150=\"\",\"\",IF(C6150=\"\",F6149,IF(E6150=\"\",F6149,E6150/MAX($E$9:E6150)-1)))","v":""}]
[null,null,null,null,null,{"$f":"IF(B6151=\"\",\"\",IF(C6151=\"\",F6150,IF(E6151=\"\",F6150,E6151/MAX($E$9:E6151)-1)))","v":""}]
[null,null,null,null,null,{"$f":"IF(B6152=\"\",\"\",IF(C6152=\"\",F6151,IF(E6152=\"\",F6151,E6152/MAX($E$9:E6152)-1)))","v":""}]
[null,null,null,null,null,{"$f":"IF(B6153=\"\",\"\",IF(C6153=\"\",F6152,IF(E6153=\"\",F6152,E6153/MAX($E$9:E6153)-1)))","v":""}]
[null,null,null,null,null,{"$f":"IF(B6154=\"\",\"\",IF(C6154=\"\",F6153,IF(E6154=\"\",F6153,E6154/MAX($E$9:E6154)-1)))","v":""}]
[null,null,null,null,null,{"$f":"IF(B6155=\"\",\"\",IF(C6155=\"\",F6154,IF(E6155=\"\",F6154,E6155/MAX($E$9:E6155)-1)))","v":""}]
[null,null,null,null,null,{"$f":"IF(B6156=\"\",\"\",IF(C6156=\"\",F6155,IF(E6156=\"\",F6155,E6156/MAX($E$9:E6156)-1)))","v":""}]
[null,null,null,null,null,{"$f":"IF(B6157=\"\",\"\",IF(C6157=\"\",F6156,IF(E6157=\"\",F6156,E6157/MAX($E$9:E6157)-1)))","v":""}]
[null,null,null,null,null,{"$f":"IF(B6158=\"\",\"\",IF(C6158=\"\",F6157,IF(E6158=\"\",F6157,E6158/MAX($E$9:E6158)-1)))","v":""}]
[null,null,null,null,null,{"$f":"IF(B6159=\"\",\"\",IF(C6159=\"\",F6158,IF(E6159=\"\",F6158,E6159/MAX($E$9:E6159)-1)))","v":""}]
[null,null,null,null,null,{"$f":"IF(B6160=\"\",\"\",IF(C6160=\"\",F6159,IF(E6160=\"\",F6159,E6160/MAX($E$9:E6160)-1)))","v":""}]
[null,null,null,null,null,{"$f":"IF(B6161=\"\",\"\",IF(C6161=\"\",F6160,IF(E6161=\"\",F6160,E6161/MAX($E$9:E6161)-1)))","v":""}]
[null,null,null,null,null,{"$f":"IF(B6162=\"\",\"\",IF(C6162=\"\",F6161,IF(E6162=\"\",F6161,E6162/MAX($E$9:E6162)-1)))","v":""}]
[null,null,null,null,null,{"$f":"IF(B6163=\"\",\"\",IF(C6163=\"\",F6162,IF(E6163=\"\",F6162,E6163/MAX($E$9:E6163)-1)))","v":""}]
[null,null,null,null,null,{"$f":"IF(B6164=\"\",\"\",IF(C6164=\"\",F6163,IF(E6164=\"\",F6163,E6164/MAX($E$9:E6164)-1)))","v":""}]
[null,null,null,null,null,{"$f":"IF(B6165=\"\",\"\",IF(C6165=\"\",F6164,IF(E6165=\"\",F6164,E6165/MAX($E$9:E6165)-1)))","v":""}]
[null,null,null,null,null,{"$f":"IF(B6166=\"\",\"\",IF(C6166=\"\",F6165,IF(E6166=\"\",F6165,E6166/MAX($E$9:E6166)-1)))","v":""}]
[null,null,null,null,null,{"$f":"IF(B6167=\"\",\"\",IF(C6167=\"\",F6166,IF(E6167=\"\",F6166,E6167/MAX($E$9:E6167)-1)))","v":""}]
[null,null,null,null,null,{"$f":"IF(B6168=\"\",\"\",IF(C6168=\"\",F6167,IF(E6168=\"\",F6167,E6168/MAX($E$9:E6168)-1)))","v":""}]
[null,null,null,null,null,{"$f":"IF(B6169=\"\",\"\",IF(C6169=\"\",F6168,IF(E6169=\"\",F6168,E6169/MAX($E$9:E6169)-1)))","v":""}]
[null,null,null,null,null,{"$f":"IF(B6170=\"\",\"\",IF(C6170=\"\",F6169,IF(E6170=\"\",F6169,E6170/MAX($E$9:E6170)-1)))","v":""}]
[null,null,null,null,null,{"$f":"IF(B6171=\"\",\"\",IF(C6171=\"\",F6170,IF(E6171=\"\",F6170,E6171/MAX($E$9:E6171)-1)))","v":""}]
[null,null,null,null,null,{"$f":"IF(B6172=\"\",\"\",IF(C6172=\"\",F6171,IF(E6172=\"\",F6171,E6172/MAX($E$9:E6172)-1)))","v":""}]
[null,null,null,null,null,{"$f":"IF(B6173=\"\",\"\",IF(C6173=\"\",F6172,IF(E6173=\"\",F6172,E6173/MAX($E$9:E6173)-1)))","v":""}]
[null,null,null,null,null,{"$f":"IF(B6174=\"\",\"\",IF(C6174=\"\",F6173,IF(E6174=\"\",F6173,E6174/MAX($E$9:E6174)-1)))","v":""}]
[null,null,null,null,null,{"$f":"IF(B6175=\"\",\"\",IF(C6175=\"\",F6174,IF(E6175=\"\",F6174,E6175/MAX($E$9:E6175)-1)))","v":""}]
[null,null,null,null,null,{"$f":"IF(B6176=\"\",\"\",IF(C6176=\"\",F6175,IF(E6176=\"\",F6175,E6176/MAX($E$9:E6176)-1)))","v":""}]
[null,null,null,null,null,{"$f":"IF(B6177=\"\",\"\",IF(C6177=\"\",F6176,IF(E6177=\"\",F6176,E6177/MAX($E$9:E6177)-1)))","v":""}]
[null,null,null,null,null,{"$f":"IF(B6178=\"\",\"\",IF(C6178=\"\",F6177,IF(E6178=\"\",F6177,E6178/MAX($E$9:E6178)-1)))","v":""}]
[null,null,null,null,null,{"$f":"IF(B6179=\"\",\"\",IF(C6179=\"\",F6178,IF(E6179=\"\",F6178,E6179/MAX($E$9:E6179)-1)))","v":""}]
[null,null,null,null,null,{"$f":"IF(B6180=\"\",\"\",IF(C6180=\"\",F6179,IF(E6180=\"\",F6179,E6180/MAX($E$9:E6180)-1)))","v":""}]
[null,null,null,null,null,{"$f":"IF(B6181=\"\",\"\",IF(C6181=\"\",F6180,IF(E6181=\"\",F6180,E6181/MAX($E$9:E6181)-1)))","v":""}]
[null,null,null,null,null,{"$f":"IF(B6182=\"\",\"\",IF(C6182=\"\",F6181,IF(E6182=\"\",F6181,E6182/MAX($E$9:E6182)-1)))","v":""}]
[null,null,null,null,null,{"$f":"IF(B6183=\"\",\"\",IF(C6183=\"\",F6182,IF(E6183=\"\",F6182,E6183/MAX($E$9:E6183)-1)))","v":""}]
[null,null,null,null,null,{"$f":"IF(B6184=\"\",\"\",IF(C6184=\"\",F6183,IF(E6184=\"\",F6183,E6184/MAX($E$9:E6184)-1)))","v":""}]
[null,null,null,null,null,{"$f":"IF(B6185=\"\",\"\",IF(C6185=\"\",F6184,IF(E6185=\"\",F6184,E6185/MAX($E$9:E6185)-1)))","v":""}]
[null,null,null,null,null,{"$f":"IF(B6186=\"\",\"\",IF(C6186=\"\",F6185,IF(E6186=\"\",F6185,E6186/MAX($E$9:E6186)-1)))","v":""}]
[null,null,null,null,null,{"$f":"IF(B6187=\"\",\"\",IF(C6187=\"\",F6186,IF(E6187=\"\",F6186,E6187/MAX($E$9:E6187)-1)))","v":""}]
[null,null,null,null,null,{"$f":"IF(B6188=\"\",\"\",IF(C6188=\"\",F6187,IF(E6188=\"\",F6187,E6188/MAX($E$9:E6188)-1)))","v":""}]
[null,null,null,null,null,{"$f":"IF(B6189=\"\",\"\",IF(C6189=\"\",F6188,IF(E6189=\"\",F6188,E6189/MAX($E$9:E6189)-1)))","v":""}]
[null,null,null,null,null,{"$f":"IF(B6190=\"\",\"\",IF(C6190=\"\",F6189,IF(E6190=\"\",F6189,E6190/MAX($E$9:E6190)-1)))","v":""}]
[null,null,null,null,null,{"$f":"IF(B6191=\"\",\"\",IF(C6191=\"\",F6190,IF(E6191=\"\",F6190,E6191/MAX($E$9:E6191)-1)))","v":""}]
[null,null,null,null,null,{"$f":"IF(B6192=\"\",\"\",IF(C6192=\"\",F6191,IF(E6192=\"\",F6191,E6192/MAX($E$9:E6192)-1)))","v":""}]
[null,null,null,null,null,{"$f":"IF(B6193=\"\",\"\",IF(C6193=\"\",F6192,IF(E6193=\"\",F6192,E6193/MAX($E$9:E6193)-1)))","v":""}]
[null,null,null,null,null,{"$f":"IF(B6194=\"\",\"\",IF(C6194=\"\",F6193,IF(E6194=\"\",F6193,E6194/MAX($E$9:E6194)-1)))","v":""}]
[null,null,null,null,null,{"$f":"IF(B6195=\"\",\"\",IF(C6195=\"\",F6194,IF(E6195=\"\",F6194,E6195/MAX($E$9:E6195)-1)))","v":""}]
[null,null,null,null,null,{"$f":"IF(B6196=\"\",\"\",IF(C6196=\"\",F6195,IF(E6196=\"\",F6195,E6196/MAX($E$9:E6196)-1)))","v":""}]
[null,null,null,null,null,{"$f":"IF(B6197=\"\",\"\",IF(C6197=\"\",F6196,IF(E6197=\"\",F6196,E6197/MAX($E$9:E6197)-1)))","v":""}]
[null,null,null,null,null,{"$f":"IF(B6198=\"\",\"\",IF(C6198=\"\",F6197,IF(E6198=\"\",F6197,E6198/MAX($E$9:E6198)-1)))","v":""}]
[null,null,null,null,null,{"$f":"IF(B6199=\"\",\"\",IF(C6199=\"\",F6198,IF(E6199=\"\",F6198,E6199/MAX($E$9:E6199)-1)))","v":""}]
[null,null,null,null,null,{"$f":"IF(B6200=\"\",\"\",IF(C6200=\"\",F6199,IF(E6200=\"\",F6199,E6200/MAX($E$9:E6200)-1)))","v":""}]
[null,null,null,null,null,{"$f":"IF(B6201=\"\",\"\",IF(C6201=\"\",F6200,IF(E6201=\"\",F6200,E6201/MAX($E$9:E6201)-1)))","v":""}]
[null,null,null,null,null,{"$f":"IF(B6202=\"\",\"\",IF(C6202=\"\",F6201,IF(E6202=\"\",F6201,E6202/MAX($E$9:E6202)-1)))","v":""}]
[null,null,null,null,null,{"$f":"IF(B6203=\"\",\"\",IF(C6203=\"\",F6202,IF(E6203=\"\",F6202,E6203/MAX($E$9:E6203)-1)))","v":""}]
[null,null,null,null,null,{"$f":"IF(B6204=\"\",\"\",IF(C6204=\"\",F6203,IF(E6204=\"\",F6203,E6204/MAX($E$9:E6204)-1)))","v":""}]
[null,null,null,null,null,{"$f":"IF(B6205=\"\",\"\",IF(C6205=\"\",F6204,IF(E6205=\"\",F6204,E6205/MAX($E$9:E6205)-1)))","v":""}]
[null,null,null,null,null,{"$f":"IF(B6206=\"\",\"\",IF(C6206=\"\",F6205,IF(E6206=\"\",F6205,E6206/MAX($E$9:E6206)-1)))","v":""}]
[null,null,null,null,null,{"$f":"IF(B6207=\"\",\"\",IF(C6207=\"\",F6206,IF(E6207=\"\",F6206,E6207/MAX($E$9:E6207)-1)))","v":""}]
[null,null,null,null,null,{"$f":"IF(B6208=\"\",\"\",IF(C6208=\"\",F6207,IF(E6208=\"\",F6207,E6208/MAX($E$9:E6208)-1)))","v":""}]
[null,null,null,null,null,{"$f":"IF(B6209=\"\",\"\",IF(C6209=\"\",F6208,IF(E6209=\"\",F6208,E6209/MAX($E$9:E6209)-1)))","v":""}]
[null,null,null,null,null,{"$f":"IF(B6210=\"\",\"\",IF(C6210=\"\",F6209,IF(E6210=\"\",F6209,E6210/MAX($E$9:E6210)-1)))","v":""}]
[null,null,null,null,null,{"$f":"IF(B6211=\"\",\"\",IF(C6211=\"\",F6210,IF(E6211=\"\",F6210,E6211/MAX($E$9:E6211)-1)))","v":""}]
[null,null,null,null,null,{"$f":"IF(B6212=\"\",\"\",IF(C6212=\"\",F6211,IF(E6212=\"\",F6211,E6212/MAX($E$9:E6212)-1)))","v":""}]
[null,null,null,null,null,{"$f":"IF(B6213=\"\",\"\",IF(C6213=\"\",F6212,IF(E6213=\"\",F6212,E6213/MAX($E$9:E6213)-1)))","v":""}]
[null,null,null,null,null,{"$f":"IF(B6214=\"\",\"\",IF(C6214=\"\",F6213,IF(E6214=\"\",F6213,E6214/MAX($E$9:E6214)-1)))","v":""}]
[null,null,null,null,null,{"$f":"IF(B6215=\"\",\"\",IF(C6215=\"\",F6214,IF(E6215=\"\",F6214,E6215/MAX($E$9:E6215)-1)))","v":""}]
[null,null,null,null,null,{"$f":"IF(B6216=\"\",\"\",IF(C6216=\"\",F6215,IF(E6216=\"\",F6215,E6216/MAX($E$9:E6216)-1)))","v":""}]
[null,null,null,null,null,{"$f":"IF(B6217=\"\",\"\",IF(C6217=\"\",F6216,IF(E6217=\"\",F6216,E6217/MAX($E$9:E6217)-1)))","v":""}]
[null,null,null,null,null,{"$f":"IF(B6218=\"\",\"\",IF(C6218=\"\",F6217,IF(E6218=\"\",F6217,E6218/MAX($E$9:E6218)-1)))","v":""}]
[null,null,null,null,null,{"$f":"IF(B6219=\"\",\"\",IF(C6219=\"\",F6218,IF(E6219=\"\",F6218,E6219/MAX($E$9:E6219)-1)))","v":""}]
[null,null,null,null,null,{"$f":"IF(B6220=\"\",\"\",IF(C6220=\"\",F6219,IF(E6220=\"\",F6219,E6220/MAX($E$9:E6220)-1)))","v":""}]
[null,null,null,null,null,{"$f":"IF(B6221=\"\",\"\",IF(C6221=\"\",F6220,IF(E6221=\"\",F6220,E6221/MAX($E$9:E6221)-1)))","v":""}]
[null,null,null,null,null,{"$f":"IF(B6222=\"\",\"\",IF(C6222=\"\",F6221,IF(E6222=\"\",F6221,E6222/MAX($E$9:E6222)-1)))","v":""}]
[null,null,null,null,null,{"$f":"IF(B6223=\"\",\"\",IF(C6223=\"\",F6222,IF(E6223=\"\",F6222,E6223/MAX($E$9:E6223)-1)))","v":""}]
[null,null,null,null,null,{"$f":"IF(B6224=\"\",\"\",IF(C6224=\"\",F6223,IF(E6224=\"\",F6223,E6224/MAX($E$9:E6224)-1)))","v":""}]
[null,null,null,null,null,{"$f":"IF(B6225=\"\",\"\",IF(C6225=\"\",F6224,IF(E6225=\"\",F6224,E6225/MAX($E$9:E6225)-1)))","v":""}]
[null,null,null,null,null,{"$f":"IF(B6226=\"\",\"\",IF(C6226=\"\",F6225,IF(E6226=\"\",F6225,E6226/MAX($E$9:E6226)-1)))","v":""}]
[null,null,null,null,null,{"$f":"IF(B6227=\"\",\"\",IF(C6227=\"\",F6226,IF(E6227=\"\",F6226,E6227/MAX($E$9:E6227)-1)))","v":""}]
[null,null,null,null,null,{"$f":"IF(B6228=\"\",\"\",IF(C6228=\"\",F6227,IF(E6228=\"\",F6227,E6228/MAX($E$9:E6228)-1)))","v":""}]
[null,null,null,null,null,{"$f":"IF(B6229=\"\",\"\",IF(C6229=\"\",F6228,IF(E6229=\"\",F6228,E6229/MAX($E$9:E6229)-1)))","v":""}]
[null,null,null,null,null,{"$f":"IF(B6230=\"\",\"\",IF(C6230=\"\",F6229,IF(E6230=\"\",F6229,E6230/MAX($E$9:E6230)-1)))","v":""}]
[null,null,null,null,null,{"$f":"IF(B6231=\"\",\"\",IF(C6231=\"\",F6230,IF(E6231=\"\",F6230,E6231/MAX($E$9:E6231)-1)))","v":""}]
[null,null,null,null,null,{"$f":"IF(B6232=\"\",\"\",IF(C6232=\"\",F6231,IF(E6232=\"\",F6231,E6232/MAX($E$9:E6232)-1)))","v":""}]
[null,null,null,null,null,{"$f":"IF(B6233=\"\",\"\",IF(C6233=\"\",F6232,IF(E6233=\"\",F6232,E6233/MAX($E$9:E6233)-1)))","v":""}]
[null,null,null,null,null,{"$f":"IF(B6234=\"\",\"\",IF(C6234=\"\",F6233,IF(E6234=\"\",F6233,E6234/MAX($E$9:E6234)-1)))","v":""}]
[null,null,null,null,null,{"$f":"IF(B6235=\"\",\"\",IF(C6235=\"\",F6234,IF(E6235=\"\",F6234,E6235/MAX($E$9:E6235)-1)))","v":""}]
[null,null,null,null,null,{"$f":"IF(B6236=\"\",\"\",IF(C6236=\"\",F6235,IF(E6236=\"\",F6235,E6236/MAX($E$9:E6236)-1)))","v":""}]
[null,null,null,null,null,{"$f":"IF(B6237=\"\",\"\",IF(C6237=\"\",F6236,IF(E6237=\"\",F6236,E6237/MAX($E$9:E6237)-1)))","v":""}]
[null,null,null,null,null,{"$f":"IF(B6238=\"\",\"\",IF(C6238=\"\",F6237,IF(E6238=\"\",F6237,E6238/MAX($E$9:E6238)-1)))","v":""}]
[null,null,null,null,null,{"$f":"IF(B6239=\"\",\"\",IF(C6239=\"\",F6238,IF(E6239=\"\",F6238,E6239/MAX($E$9:E6239)-1)))","v":""}]
[null,null,null,null,null,{"$f":"IF(B6240=\"\",\"\",IF(C6240=\"\",F6239,IF(E6240=\"\",F6239,E6240/MAX($E$9:E6240)-1)))","v":""}]
[null,null,null,null,null,{"$f":"IF(B6241=\"\",\"\",IF(C6241=\"\",F6240,IF(E6241=\"\",F6240,E6241/MAX($E$9:E6241)-1)))","v":""}]
[null,null,null,null,null,{"$f":"IF(B6242=\"\",\"\",IF(C6242=\"\",F6241,IF(E6242=\"\",F6241,E6242/MAX($E$9:E6242)-1)))","v":""}]
[null,null,null,null,null,{"$f":"IF(B6243=\"\",\"\",IF(C6243=\"\",F6242,IF(E6243=\"\",F6242,E6243/MAX($E$9:E6243)-1)))","v":""}]
[null,null,null,null,null,{"$f":"IF(B6244=\"\",\"\",IF(C6244=\"\",F6243,IF(E6244=\"\",F6243,E6244/MAX($E$9:E6244)-1)))","v":""}]
[null,null,null,null,null,{"$f":"IF(B6245=\"\",\"\",IF(C6245=\"\",F6244,IF(E6245=\"\",F6244,E6245/MAX($E$9:E6245)-1)))","v":""}]
[null,null,null,null,null,{"$f":"IF(B6246=\"\",\"\",IF(C6246=\"\",F6245,IF(E6246=\"\",F6245,E6246/MAX($E$9:E6246)-1)))","v":""}]
[null,null,null,null,null,{"$f":"IF(B6247=\"\",\"\",IF(C6247=\"\",F6246,IF(E6247=\"\",F6246,E6247/MAX($E$9:E6247)-1)))","v":""}]
[null,null,null,null,null,{"$f":"IF(B6248=\"\",\"\",IF(C6248=\"\",F6247,IF(E6248=\"\",F6247,E6248/MAX($E$9:E6248)-1)))","v":""}]
[null,null,null,null,null,{"$f":"IF(B6249=\"\",\"\",IF(C6249=\"\",F6248,IF(E6249=\"\",F6248,E6249/MAX($E$9:E6249)-1)))","v":""}]
[null,null,null,null,null,{"$f":"IF(B6250=\"\",\"\",IF(C6250=\"\",F6249,IF(E6250=\"\",F6249,E6250/MAX($E$9:E6250)-1)))","v":""}]
[null,null,null,null,null,{"$f":"IF(B6251=\"\",\"\",IF(C6251=\"\",F6250,IF(E6251=\"\",F6250,E6251/MAX($E$9:E6251)-1)))","v":""}]
[null,null,null,null,null,{"$f":"IF(B6252=\"\",\"\",IF(C6252=\"\",F6251,IF(E6252=\"\",F6251,E6252/MAX($E$9:E6252)-1)))","v":""}]
[null,null,null,null,null,{"$f":"IF(B6253=\"\",\"\",IF(C6253=\"\",F6252,IF(E6253=\"\",F6252,E6253/MAX($E$9:E6253)-1)))","v":""}]
[null,null,null,null,null,{"$f":"IF(B6254=\"\",\"\",IF(C6254=\"\",F6253,IF(E6254=\"\",F6253,E6254/MAX($E$9:E6254)-1)))","v":""}]
[null,null,null,null,null,{"$f":"IF(B6255=\"\",\"\",IF(C6255=\"\",F6254,IF(E6255=\"\",F6254,E6255/MAX($E$9:E6255)-1)))","v":""}]
[null,null,null,null,null,{"$f":"IF(B6256=\"\",\"\",IF(C6256=\"\",F6255,IF(E6256=\"\",F6255,E6256/MAX($E$9:E6256)-1)))","v":""}]
[null,null,null,null,null,{"$f":"IF(B6257=\"\",\"\",IF(C6257=\"\",F6256,IF(E6257=\"\",F6256,E6257/MAX($E$9:E6257)-1)))","v":""}]
[null,null,null,null,null,{"$f":"IF(B6258=\"\",\"\",IF(C6258=\"\",F6257,IF(E6258=\"\",F6257,E6258/MAX($E$9:E6258)-1)))","v":""}]
[null,null,null,null,null,{"$f":"IF(B6259=\"\",\"\",IF(C6259=\"\",F6258,IF(E6259=\"\",F6258,E6259/MAX($E$9:E6259)-1)))","v":""}]
[null,null,null,null,null,{"$f":"IF(B6260=\"\",\"\",IF(C6260=\"\",F6259,IF(E6260=\"\",F6259,E6260/MAX($E$9:E6260)-1)))","v":""}]
[null,null,null,null,null,{"$f":"IF(B6261=\"\",\"\",IF(C6261=\"\",F6260,IF(E6261=\"\",F6260,E6261/MAX($E$9:E6261)-1)))","v":""}]
[null,null,null,null,null,{"$f":"IF(B6262=\"\",\"\",IF(C6262=\"\",F6261,IF(E6262=\"\",F6261,E6262/MAX($E$9:E6262)-1)))","v":""}]
[null,null,null,null,null,{"$f":"IF(B6263=\"\",\"\",IF(C6263=\"\",F6262,IF(E6263=\"\",F6262,E6263/MAX($E$9:E6263)-1)))","v":""}]
[null,null,null,null,null,{"$f":"IF(B6264=\"\",\"\",IF(C6264=\"\",F6263,IF(E6264=\"\",F6263,E6264/MAX($E$9:E6264)-1)))","v":""}]
[null,null,null,null,null,{"$f":"IF(B6265=\"\",\"\",IF(C6265=\"\",F6264,IF(E6265=\"\",F6264,E6265/MAX($E$9:E6265)-1)))","v":""}]
[null,null,null,null,null,{"$f":"IF(B6266=\"\",\"\",IF(C6266=\"\",F6265,IF(E6266=\"\",F6265,E6266/MAX($E$9:E6266)-1)))","v":""}]
[null,null,null,null,null,{"$f":"IF(B6267=\"\",\"\",IF(C6267=\"\",F6266,IF(E6267=\"\",F6266,E6267/MAX($E$9:E6267)-1)))","v":""}]
[null,null,null,null,null,{"$f":"IF(B6268=\"\",\"\",IF(C6268=\"\",F6267,IF(E6268=\"\",F6267,E6268/MAX($E$9:E6268)-1)))","v":""}]
[null,null,null,null,null,{"$f":"IF(B6269=\"\",\"\",IF(C6269=\"\",F6268,IF(E6269=\"\",F6268,E6269/MAX($E$9:E6269)-1)))","v":""}]
[null,null,null,null,null,{"$f":"IF(B6270=\"\",\"\",IF(C6270=\"\",F6269,IF(E6270=\"\",F6269,E6270/MAX($E$9:E6270)-1)))","v":""}]
[null,null,null,null,null,{"$f":"IF(B6271=\"\",\"\",IF(C6271=\"\",F6270,IF(E6271=\"\",F6270,E6271/MAX($E$9:E6271)-1)))","v":""}]
[null,null,null,null,null,{"$f":"IF(B6272=\"\",\"\",IF(C6272=\"\",F6271,IF(E6272=\"\",F6271,E6272/MAX($E$9:E6272)-1)))","v":""}]
[null,null,null,null,null,{"$f":"IF(B6273=\"\",\"\",IF(C6273=\"\",F6272,IF(E6273=\"\",F6272,E6273/MAX($E$9:E6273)-1)))","v":""}]
[null,null,null,null,null,{"$f":"IF(B6274=\"\",\"\",IF(C6274=\"\",F6273,IF(E6274=\"\",F6273,E6274/MAX($E$9:E6274)-1)))","v":""}]
[null,null,null,null,null,{"$f":"IF(B6275=\"\",\"\",IF(C6275=\"\",F6274,IF(E6275=\"\",F6274,E6275/MAX($E$9:E6275)-1)))","v":""}]
[null,null,null,null,null,{"$f":"IF(B6276=\"\",\"\",IF(C6276=\"\",F6275,IF(E6276=\"\",F6275,E6276/MAX($E$9:E6276)-1)))","v":""}]
[null,null,null,null,null,{"$f":"IF(B6277=\"\",\"\",IF(C6277=\"\",F6276,IF(E6277=\"\",F6276,E6277/MAX($E$9:E6277)-1)))","v":""}]
[null,null,null,null,null,{"$f":"IF(B6278=\"\",\"\",IF(C6278=\"\",F6277,IF(E6278=\"\",F6277,E6278/MAX($E$9:E6278)-1)))","v":""}]
[null,null,null,null,null,{"$f":"IF(B6279=\"\",\"\",IF(C6279=\"\",F6278,IF(E6279=\"\",F6278,E6279/MAX($E$9:E6279)-1)))","v":""}]
[null,null,null,null,null,{"$f":"IF(B6280=\"\",\"\",IF(C6280=\"\",F6279,IF(E6280=\"\",F6279,E6280/MAX($E$9:E6280)-1)))","v":""}]
[null,null,null,null,null,{"$f":"IF(B6281=\"\",\"\",IF(C6281=\"\",F6280,IF(E6281=\"\",F6280,E6281/MAX($E$9:E6281)-1)))","v":""}]
[null,null,null,null,null,{"$f":"IF(B6282=\"\",\"\",IF(C6282=\"\",F6281,IF(E6282=\"\",F6281,E6282/MAX($E$9:E6282)-1)))","v":""}]
[null,null,null,null,null,{"$f":"IF(B6283=\"\",\"\",IF(C6283=\"\",F6282,IF(E6283=\"\",F6282,E6283/MAX($E$9:E6283)-1)))","v":""}]
[null,null,null,null,null,{"$f":"IF(B6284=\"\",\"\",IF(C6284=\"\",F6283,IF(E6284=\"\",F6283,E6284/MAX($E$9:E6284)-1)))","v":""}]
[null,null,null,null,null,{"$f":"IF(B6285=\"\",\"\",IF(C6285=\"\",F6284,IF(E6285=\"\",F6284,E6285/MAX($E$9:E6285)-1)))","v":""}]
[null,null,null,null,null,{"$f":"IF(B6286=\"\",\"\",IF(C6286=\"\",F6285,IF(E6286=\"\",F6285,E6286/MAX($E$9:E6286)-1)))","v":""}]
[null,null,null,null,null,{"$f":"IF(B6287=\"\",\"\",IF(C6287=\"\",F6286,IF(E6287=\"\",F6286,E6287/MAX($E$9:E6287)-1)))","v":""}]
[null,null,null,null,null,{"$f":"IF(B6288=\"\",\"\",IF(C6288=\"\",F6287,IF(E6288=\"\",F6287,E6288/MAX($E$9:E6288)-1)))","v":""}]
[null,null,null,null,null,{"$f":"IF(B6289=\"\",\"\",IF(C6289=\"\",F6288,IF(E6289=\"\",F6288,E6289/MAX($E$9:E6289)-1)))","v":""}]
[null,null,null,null,null,{"$f":"IF(B6290=\"\",\"\",IF(C6290=\"\",F6289,IF(E6290=\"\",F6289,E6290/MAX($E$9:E6290)-1)))","v":""}]
[null,null,null,null,null,{"$f":"IF(B6291=\"\",\"\",IF(C6291=\"\",F6290,IF(E6291=\"\",F6290,E6291/MAX($E$9:E6291)-1)))","v":""}]
[null,null,null,null,null,{"$f":"IF(B6292=\"\",\"\",IF(C6292=\"\",F6291,IF(E6292=\"\",F6291,E6292/MAX($E$9:E6292)-1)))","v":""}]
[null,null,null,null,null,{"$f":"IF(B6293=\"\",\"\",IF(C6293=\"\",F6292,IF(E6293=\"\",F6292,E6293/MAX($E$9:E6293)-1)))","v":""}]
[null,null,null,null,null,{"$f":"IF(B6294=\"\",\"\",IF(C6294=\"\",F6293,IF(E6294=\"\",F6293,E6294/MAX($E$9:E6294)-1)))","v":""}]
[null,null,null,null,null,{"$f":"IF(B6295=\"\",\"\",IF(C6295=\"\",F6294,IF(E6295=\"\",F6294,E6295/MAX($E$9:E6295)-1)))","v":""}]
[null,null,null,null,null,{"$f":"IF(B6296=\"\",\"\",IF(C6296=\"\",F6295,IF(E6296=\"\",F6295,E6296/MAX($E$9:E6296)-1)))","v":""}]
[null,null,null,null,null,{"$f":"IF(B6297=\"\",\"\",IF(C6297=\"\",F6296,IF(E6297=\"\",F6296,E6297/MAX($E$9:E6297)-1)))","v":""}]
[null,null,null,null,null,{"$f":"IF(B6298=\"\",\"\",IF(C6298=\"\",F6297,IF(E6298=\"\",F6297,E6298/MAX($E$9:E6298)-1)))","v":""}]
[null,null,null,null,null,{"$f":"IF(B6299=\"\",\"\",IF(C6299=\"\",F6298,IF(E6299=\"\",F6298,E6299/MAX($E$9:E6299)-1)))","v":""}]
[null,null,null,null,null,{"$f":"IF(B6300=\"\",\"\",IF(C6300=\"\",F6299,IF(E6300=\"\",F6299,E6300/MAX($E$9:E6300)-1)))","v":""}]
[null,null,null,null,null,{"$f":"IF(B6301=\"\",\"\",IF(C6301=\"\",F6300,IF(E6301=\"\",F6300,E6301/MAX($E$9:E6301)-1)))","v":""}]
[null,null,null,null,null,{"$f":"IF(B6302=\"\",\"\",IF(C6302=\"\",F6301,IF(E6302=\"\",F6301,E6302/MAX($E$9:E6302)-1)))","v":""}]
[null,null,null,null,null,{"$f":"IF(B6303=\"\",\"\",IF(C6303=\"\",F6302,IF(E6303=\"\",F6302,E6303/MAX($E$9:E6303)-1)))","v":""}]
[null,null,null,null,null,{"$f":"IF(B6304=\"\",\"\",IF(C6304=\"\",F6303,IF(E6304=\"\",F6303,E6304/MAX($E$9:E6304)-1)))","v":""}]
[null,null,null,null,null,{"$f":"IF(B6305=\"\",\"\",IF(C6305=\"\",F6304,IF(E6305=\"\",F6304,E6305/MAX($E$9:E6305)-1)))","v":""}]
[null,null,null,null,null,{"$f":"IF(B6306=\"\",\"\",IF(C6306=\"\",F6305,IF(E6306=\"\",F6305,E6306/MAX($E$9:E6306)-1)))","v":""}]
[null,null,null,null,null,{"$f":"IF(B6307=\"\",\"\",IF(C6307=\"\",F6306,IF(E6307=\"\",F6306,E6307/MAX($E$9:E6307)-1)))","v":""}]
[null,null,null,null,null,{"$f":"IF(B6308=\"\",\"\",IF(C6308=\"\",F6307,IF(E6308=\"\",F6307,E6308/MAX($E$9:E6308)-1)))","v":""}]
[null,null,null,null,null,{"$f":"IF(B6309=\"\",\"\",IF(C6309=\"\",F6308,IF(E6309=\"\",F6308,E6309/MAX($E$9:E6309)-1)))","v":""}]
[null,null,null,null,null,{"$f":"IF(B6310=\"\",\"\",IF(C6310=\"\",F6309,IF(E6310=\"\",F6309,E6310/MAX($E$9:E6310)-1)))","v":""}]
[null,null,null,null,null,{"$f":"IF(B6311=\"\",\"\",IF(C6311=\"\",F6310,IF(E6311=\"\",F6310,E6311/MAX($E$9:E6311)-1)))","v":""}]
[null,null,null,null,null,{"$f":"IF(B6312=\"\",\"\",IF(C6312=\"\",F6311,IF(E6312=\"\",F6311,E6312/MAX($E$9:E6312)-1)))","v":""}]
[null,null,null,null,null,{"$f":"IF(B6313=\"\",\"\",IF(C6313=\"\",F6312,IF(E6313=\"\",F6312,E6313/MAX($E$9:E6313)-1)))","v":""}]
[null,null,null,null,null,{"$f":"IF(B6314=\"\",\"\",IF(C6314=\"\",F6313,IF(E6314=\"\",F6313,E6314/MAX($E$9:E6314)-1)))","v":""}]
[null,null,null,null,null,{"$f":"IF(B6315=\"\",\"\",IF(C6315=\"\",F6314,IF(E6315=\"\",F6314,E6315/MAX($E$9:E6315)-1)))","v":""}]
[null,null,null,null,null,{"$f":"IF(B6316=\"\",\"\",IF(C6316=\"\",F6315,IF(E6316=\"\",F6315,E6316/MAX($E$9:E6316)-1)))","v":""}]
[null,null,null,null,null,{"$f":"IF(B6317=\"\",\"\",IF(C6317=\"\",F6316,IF(E6317=\"\",F6316,E6317/MAX($E$9:E6317)-1)))","v":""}]
[null,null,null,null,null,{"$f":"IF(B6318=\"\",\"\",IF(C6318=\"\",F6317,IF(E6318=\"\",F6317,E6318/MAX($E$9:E6318)-1)))","v":""}]
[null,null,null,null,null,{"$f":"IF(B6319=\"\",\"\",IF(C6319=\"\",F6318,IF(E6319=\"\",F6318,E6319/MAX($E$9:E6319)-1)))","v":""}]
[null,null,null,null,null,{"$f":"IF(B6320=\"\",\"\",IF(C6320=\"\",F6319,IF(E6320=\"\",F6319,E6320/MAX($E$9:E6320)-1)))","v":""}]
[null,null,null,null,null,{"$f":"IF(B6321=\"\",\"\",IF(C6321=\"\",F6320,IF(E6321=\"\",F6320,E6321/MAX($E$9:E6321)-1)))","v":""}]
[null,null,null,null,null,{"$f":"IF(B6322=\"\",\"\",IF(C6322=\"\",F6321,IF(E6322=\"\",F6321,E6322/MAX($E$9:E6322)-1)))","v":""}]
[null,null,null,null,null,{"$f":"IF(B6323=\"\",\"\",IF(C6323=\"\",F6322,IF(E6323=\"\",F6322,E6323/MAX($E$9:E6323)-1)))","v":""}]
[null,null,null,null,null,{"$f":"IF(B6324=\"\",\"\",IF(C6324=\"\",F6323,IF(E6324=\"\",F6323,E6324/MAX($E$9:E6324)-1)))","v":""}]
[null,null,null,null,null,{"$f":"IF(B6325=\"\",\"\",IF(C6325=\"\",F6324,IF(E6325=\"\",F6324,E6325/MAX($E$9:E6325)-1)))","v":""}]
[null,null,null,null,null,{"$f":"IF(B6326=\"\",\"\",IF(C6326=\"\",F6325,IF(E6326=\"\",F6325,E6326/MAX($E$9:E6326)-1)))","v":""}]
[null,null,null,null,null,{"$f":"IF(B6327=\"\",\"\",IF(C6327=\"\",F6326,IF(E6327=\"\",F6326,E6327/MAX($E$9:E6327)-1)))","v":""}]
[null,null,null,null,null,{"$f":"IF(B6328=\"\",\"\",IF(C6328=\"\",F6327,IF(E6328=\"\",F6327,E6328/MAX($E$9:E6328)-1)))","v":""}]
[null,null,null,null,null,{"$f":"IF(B6329=\"\",\"\",IF(C6329=\"\",F6328,IF(E6329=\"\",F6328,E6329/MAX($E$9:E6329)-1)))","v":""}]
[null,null,null,null,null,{"$f":"IF(B6330=\"\",\"\",IF(C6330=\"\",F6329,IF(E6330=\"\",F6329,E6330/MAX($E$9:E6330)-1)))","v":""}]
[null,null,null,null,null,{"$f":"IF(B6331=\"\",\"\",IF(C6331=\"\",F6330,IF(E6331=\"\",F6330,E6331/MAX($E$9:E6331)-1)))","v":""}]
[null,null,null,null,null,{"$f":"IF(B6332=\"\",\"\",IF(C6332=\"\",F6331,IF(E6332=\"\",F6331,E6332/MAX($E$9:E6332)-1)))","v":""}]
[null,null,null,null,null,{"$f":"IF(B6333=\"\",\"\",IF(C6333=\"\",F6332,IF(E6333=\"\",F6332,E6333/MAX($E$9:E6333)-1)))","v":""}]
[null,null,null,null,null,{"$f":"IF(B6334=\"\",\"\",IF(C6334=\"\",F6333,IF(E6334=\"\",F6333,E6334/MAX($E$9:E6334)-1)))","v":""}]
[null,null,null,null,null,{"$f":"IF(B6335=\"\",\"\",IF(C6335=\"\",F6334,IF(E6335=\"\",F6334,E6335/MAX($E$9:E6335)-1)))","v":""}]
[null,null,null,null,null,{"$f":"IF(B6336=\"\",\"\",IF(C6336=\"\",F6335,IF(E6336=\"\",F6335,E6336/MAX($E$9:E6336)-1)))","v":""}]
[null,null,null,null,null,{"$f":"IF(B6337=\"\",\"\",IF(C6337=\"\",F6336,IF(E6337=\"\",F6336,E6337/MAX($E$9:E6337)-1)))","v":""}]
[null,null,null,null,null,{"$f":"IF(B6338=\"\",\"\",IF(C6338=\"\",F6337,IF(E6338=\"\",F6337,E6338/MAX($E$9:E6338)-1)))","v":""}]
[null,null,null,null,null,{"$f":"IF(B6339=\"\",\"\",IF(C6339=\"\",F6338,IF(E6339=\"\",F6338,E6339/MAX($E$9:E6339)-1)))","v":""}]
[null,null,null,null,null,{"$f":"IF(B6340=\"\",\"\",IF(C6340=\"\",F6339,IF(E6340=\"\",F6339,E6340/MAX($E$9:E6340)-1)))","v":""}]
[null,null,null,null,null,{"$f":"IF(B6341=\"\",\"\",IF(C6341=\"\",F6340,IF(E6341=\"\",F6340,E6341/MAX($E$9:E6341)-1)))","v":""}]
[null,null,null,null,null,{"$f":"IF(B6342=\"\",\"\",IF(C6342=\"\",F6341,IF(E6342=\"\",F6341,E6342/MAX($E$9:E6342)-1)))","v":""}]
[null,null,null,null,null,{"$f":"IF(B6343=\"\",\"\",IF(C6343=\"\",F6342,IF(E6343=\"\",F6342,E6343/MAX($E$9:E6343)-1)))","v":""}]
[null,null,null,null,null,{"$f":"IF(B6344=\"\",\"\",IF(C6344=\"\",F6343,IF(E6344=\"\",F6343,E6344/MAX($E$9:E6344)-1)))","v":""}]
[null,null,null,null,null,{"$f":"IF(B6345=\"\",\"\",IF(C6345=\"\",F6344,IF(E6345=\"\",F6344,E6345/MAX($E$9:E6345)-1)))","v":""}]
[null,null,null,null,null,{"$f":"IF(B6346=\"\",\"\",IF(C6346=\"\",F6345,IF(E6346=\"\",F6345,E6346/MAX($E$9:E6346)-1)))","v":""}]
[null,null,null,null,null,{"$f":"IF(B6347=\"\",\"\",IF(C6347=\"\",F6346,IF(E6347=\"\",F6346,E6347/MAX($E$9:E6347)-1)))","v":""}]
[null,null,null,null,null,{"$f":"IF(B6348=\"\",\"\",IF(C6348=\"\",F6347,IF(E6348=\"\",F6347,E6348/MAX($E$9:E6348)-1)))","v":""}]
[null,null,null,null,null,{"$f":"IF(B6349=\"\",\"\",IF(C6349=\"\",F6348,IF(E6349=\"\",F6348,E6349/MAX($E$9:E6349)-1)))","v":""}]
[null,null,null,null,null,{"$f":"IF(B6350=\"\",\"\",IF(C6350=\"\",F6349,IF(E6350=\"\",F6349,E6350/MAX($E$9:E6350)-1)))","v":""}]
[null,null,null,null,null,{"$f":"IF(B6351=\"\",\"\",IF(C6351=\"\",F6350,IF(E6351=\"\",F6350,E6351/MAX($E$9:E6351)-1)))","v":""}]
[null,null,null,null,null,{"$f":"IF(B6352=\"\",\"\",IF(C6352=\"\",F6351,IF(E6352=\"\",F6351,E6352/MAX($E$9:E6352)-1)))","v":""}]
[null,null,null,null,null,{"$f":"IF(B6353=\"\",\"\",IF(C6353=\"\",F6352,IF(E6353=\"\",F6352,E6353/MAX($E$9:E6353)-1)))","v":""}]
[null,null,null,null,null,{"$f":"IF(B6354=\"\",\"\",IF(C6354=\"\",F6353,IF(E6354=\"\",F6353,E6354/MAX($E$9:E6354)-1)))","v":""}]
[null,null,null,null,null,{"$f":"IF(B6355=\"\",\"\",IF(C6355=\"\",F6354,IF(E6355=\"\",F6354,E6355/MAX($E$9:E6355)-1)))","v":""}]
[null,null,null,null,null,{"$f":"IF(B6356=\"\",\"\",IF(C6356=\"\",F6355,IF(E6356=\"\",F6355,E6356/MAX($E$9:E6356)-1)))","v":""}]
[null,null,null,null,null,{"$f":"IF(B6357=\"\",\"\",IF(C6357=\"\",F6356,IF(E6357=\"\",F6356,E6357/MAX($E$9:E6357)-1)))","v":""}]
[null,null,null,null,null,{"$f":"IF(B6358=\"\",\"\",IF(C6358=\"\",F6357,IF(E6358=\"\",F6357,E6358/MAX($E$9:E6358)-1)))","v":""}]
[null,null,null,null,null,{"$f":"IF(B6359=\"\",\"\",IF(C6359=\"\",F6358,IF(E6359=\"\",F6358,E6359/MAX($E$9:E6359)-1)))","v":""}]
[null,null,null,null,null,{"$f":"IF(B6360=\"\",\"\",IF(C6360=\"\",F6359,IF(E6360=\"\",F6359,E6360/MAX($E$9:E6360)-1)))","v":""}]
[null,null,null,null,null,{"$f":"IF(B6361=\"\",\"\",IF(C6361=\"\",F6360,IF(E6361=\"\",F6360,E6361/MAX($E$9:E6361)-1)))","v":""}]
[null,null,null,null,null,{"$f":"IF(B6362=\"\",\"\",IF(C6362=\"\",F6361,IF(E6362=\"\",F6361,E6362/MAX($E$9:E6362)-1)))","v":""}]
[null,null,null,null,null,{"$f":"IF(B6363=\"\",\"\",IF(C6363=\"\",F6362,IF(E6363=\"\",F6362,E6363/MAX($E$9:E6363)-1)))","v":""}]
[null,null,null,null,null,{"$f":"IF(B6364=\"\",\"\",IF(C6364=\"\",F6363,IF(E6364=\"\",F6363,E6364/MAX($E$9:E6364)-1)))","v":""}]
[null,null,null,null,null,{"$f":"IF(B6365=\"\",\"\",IF(C6365=\"\",F6364,IF(E6365=\"\",F6364,E6365/MAX($E$9:E6365)-1)))","v":""}]
[null,null,null,null,null,{"$f":"IF(B6366=\"\",\"\",IF(C6366=\"\",F6365,IF(E6366=\"\",F6365,E6366/MAX($E$9:E6366)-1)))","v":""}]
[null,null,null,null,null,{"$f":"IF(B6367=\"\",\"\",IF(C6367=\"\",F6366,IF(E6367=\"\",F6366,E6367/MAX($E$9:E6367)-1)))","v":""}]
[null,null,null,null,null,{"$f":"IF(B6368=\"\",\"\",IF(C6368=\"\",F6367,IF(E6368=\"\",F6367,E6368/MAX($E$9:E6368)-1)))","v":""}]
[null,null,null,null,null,{"$f":"IF(B6369=\"\",\"\",IF(C6369=\"\",F6368,IF(E6369=\"\",F6368,E6369/MAX($E$9:E6369)-1)))","v":""}]
[null,null,null,null,null,{"$f":"IF(B6370=\"\",\"\",IF(C6370=\"\",F6369,IF(E6370=\"\",F6369,E6370/MAX($E$9:E6370)-1)))","v":""}]
[null,null,null,null,null,{"$f":"IF(B6371=\"\",\"\",IF(C6371=\"\",F6370,IF(E6371=\"\",F6370,E6371/MAX($E$9:E6371)-1)))","v":""}]
[null,null,null,null,null,{"$f":"IF(B6372=\"\",\"\",IF(C6372=\"\",F6371,IF(E6372=\"\",F6371,E6372/MAX($E$9:E6372)-1)))","v":""}]
[null,null,null,null,null,{"$f":"IF(B6373=\"\",\"\",IF(C6373=\"\",F6372,IF(E6373=\"\",F6372,E6373/MAX($E$9:E6373)-1)))","v":""}]
[null,null,null,null,null,{"$f":"IF(B6374=\"\",\"\",IF(C6374=\"\",F6373,IF(E6374=\"\",F6373,E6374/MAX($E$9:E6374)-1)))","v":""}]
[null,null,null,null,null,{"$f":"IF(B6375=\"\",\"\",IF(C6375=\"\",F6374,IF(E6375=\"\",F6374,E6375/MAX($E$9:E6375)-1)))","v":""}]
[null,null,null,null,null,{"$f":"IF(B6376=\"\",\"\",IF(C6376=\"\",F6375,IF(E6376=\"\",F6375,E6376/MAX($E$9:E6376)-1)))","v":""}]
[null,null,null,null,null,{"$f":"IF(B6377=\"\",\"\",IF(C6377=\"\",F6376,IF(E6377=\"\",F6376,E6377/MAX($E$9:E6377)-1)))","v":""}]
[null,null,null,null,null,{"$f":"IF(B6378=\"\",\"\",IF(C6378=\"\",F6377,IF(E6378=\"\",F6377,E6378/MAX($E$9:E6378)-1)))","v":""}]
[null,null,null,null,null,{"$f":"IF(B6379=\"\",\"\",IF(C6379=\"\",F6378,IF(E6379=\"\",F6378,E6379/MAX($E$9:E6379)-1)))","v":""}]
[null,null,null,null,null,{"$f":"IF(B6380=\"\",\"\",IF(C6380=\"\",F6379,IF(E6380=\"\",F6379,E6380/MAX($E$9:E6380)-1)))","v":""}]
[null,null,null,null,null,{"$f":"IF(B6381=\"\",\"\",IF(C6381=\"\",F6380,IF(E6381=\"\",F6380,E6381/MAX($E$9:E6381)-1)))","v":""}]
[null,null,null,null,null,{"$f":"IF(B6382=\"\",\"\",IF(C6382=\"\",F6381,IF(E6382=\"\",F6381,E6382/MAX($E$9:E6382)-1)))","v":""}]
[null,null,null,null,null,{"$f":"IF(B6383=\"\",\"\",IF(C6383=\"\",F6382,IF(E6383=\"\",F6382,E6383/MAX($E$9:E6383)-1)))","v":""}]
[null,null,null,null,null,{"$f":"IF(B6384=\"\",\"\",IF(C6384=\"\",F6383,IF(E6384=\"\",F6383,E6384/MAX($E$9:E6384)-1)))","v":""}]
[null,null,null,null,null,{"$f":"IF(B6385=\"\",\"\",IF(C6385=\"\",F6384,IF(E6385=\"\",F6384,E6385/MAX($E$9:E6385)-1)))","v":""}]
[null,null,null,null,null,{"$f":"IF(B6386=\"\",\"\",IF(C6386=\"\",F6385,IF(E6386=\"\",F6385,E6386/MAX($E$9:E6386)-1)))","v":""}]
[null,null,null,null,null,{"$f":"IF(B6387=\"\",\"\",IF(C6387=\"\",F6386,IF(E6387=\"\",F6386,E6387/MAX($E$9:E6387)-1)))","v":""}]
[null,null,null,null,null,{"$f":"IF(B6388=\"\",\"\",IF(C6388=\"\",F6387,IF(E6388=\"\",F6387,E6388/MAX($E$9:E6388)-1)))","v":""}]
[null,null,null,null,null,{"$f":"IF(B6389=\"\",\"\",IF(C6389=\"\",F6388,IF(E6389=\"\",F6388,E6389/MAX($E$9:E6389)-1)))","v":""}]
[null,null,null,null,null,{"$f":"IF(B6390=\"\",\"\",IF(C6390=\"\",F6389,IF(E6390=\"\",F6389,E6390/MAX($E$9:E6390)-1)))","v":""}]
[null,null,null,null,null,{"$f":"IF(B6391=\"\",\"\",IF(C6391=\"\",F6390,IF(E6391=\"\",F6390,E6391/MAX($E$9:E6391)-1)))","v":""}]
[null,null,null,null,null,{"$f":"IF(B6392=\"\",\"\",IF(C6392=\"\",F6391,IF(E6392=\"\",F6391,E6392/MAX($E$9:E6392)-1)))","v":""}]
[null,null,null,null,null,{"$f":"IF(B6393=\"\",\"\",IF(C6393=\"\",F6392,IF(E6393=\"\",F6392,E6393/MAX($E$9:E6393)-1)))","v":""}]
[null,null,null,null,null,{"$f":"IF(B6394=\"\",\"\",IF(C6394=\"\",F6393,IF(E6394=\"\",F6393,E6394/MAX($E$9:E6394)-1)))","v":""}]
[null,null,null,null,null,{"$f":"IF(B6395=\"\",\"\",IF(C6395=\"\",F6394,IF(E6395=\"\",F6394,E6395/MAX($E$9:E6395)-1)))","v":""}]
[null,null,null,null,null,{"$f":"IF(B6396=\"\",\"\",IF(C6396=\"\",F6395,IF(E6396=\"\",F6395,E6396/MAX($E$9:E6396)-1)))","v":""}]
[null,null,null,null,null,{"$f":"IF(B6397=\"\",\"\",IF(C6397=\"\",F6396,IF(E6397=\"\",F6396,E6397/MAX($E$9:E6397)-1)))","v":""}]
[null,null,null,null,null,{"$f":"IF(B6398=\"\",\"\",IF(C6398=\"\",F6397,IF(E6398=\"\",F6397,E6398/MAX($E$9:E6398)-1)))","v":""}]
[null,null,null,null,null,{"$f":"IF(B6399=\"\",\"\",IF(C6399=\"\",F6398,IF(E6399=\"\",F6398,E6399/MAX($E$9:E6399)-1)))","v":""}]
[null,null,null,null,null,{"$f":"IF(B6400=\"\",\"\",IF(C6400=\"\",F6399,IF(E6400=\"\",F6399,E6400/MAX($E$9:E6400)-1)))","v":""}]
[null,null,null,null,null,{"$f":"IF(B6401=\"\",\"\",IF(C6401=\"\",F6400,IF(E6401=\"\",F6400,E6401/MAX($E$9:E6401)-1)))","v":""}]
[null,null,null,null,null,{"$f":"IF(B6402=\"\",\"\",IF(C6402=\"\",F6401,IF(E6402=\"\",F6401,E6402/MAX($E$9:E6402)-1)))","v":""}]
[null,null,null,null,null,{"$f":"IF(B6403=\"\",\"\",IF(C6403=\"\",F6402,IF(E6403=\"\",F6402,E6403/MAX($E$9:E6403)-1)))","v":""}]
[null,null,null,null,null,{"$f":"IF(B6404=\"\",\"\",IF(C6404=\"\",F6403,IF(E6404=\"\",F6403,E6404/MAX($E$9:E6404)-1)))","v":""}]
[null,null,null,null,null,{"$f":"IF(B6405=\"\",\"\",IF(C6405=\"\",F6404,IF(E6405=\"\",F6404,E6405/MAX($E$9:E6405)-1)))","v":""}]
[null,null,null,null,null,{"$f":"IF(B6406=\"\",\"\",IF(C6406=\"\",F6405,IF(E6406=\"\",F6405,E6406/MAX($E$9:E6406)-1)))","v":""}]
[null,null,null,null,null,{"$f":"IF(B6407=\"\",\"\",IF(C6407=\"\",F6406,IF(E6407=\"\",F6406,E6407/MAX($E$9:E6407)-1)))","v":""}]
[null,null,null,null,null,{"$f":"IF(B6408=\"\",\"\",IF(C6408=\"\",F6407,IF(E6408=\"\",F6407,E6408/MAX($E$9:E6408)-1)))","v":""}]
[null,null,null,null,null,{"$f":"IF(B6409=\"\",\"\",IF(C6409=\"\",F6408,IF(E6409=\"\",F6408,E6409/MAX($E$9:E6409)-1)))","v":""}]
[null,null,null,null,null,{"$f":"IF(B6410=\"\",\"\",IF(C6410=\"\",F6409,IF(E6410=\"\",F6409,E6410/MAX($E$9:E6410)-1)))","v":""}]
[null,null,null,null,null,{"$f":"IF(B6411=\"\",\"\",IF(C6411=\"\",F6410,IF(E6411=\"\",F6410,E6411/MAX($E$9:E6411)-1)))","v":""}]
[null,null,null,null,null,{"$f":"IF(B6412=\"\",\"\",IF(C6412=\"\",F6411,IF(E6412=\"\",F6411,E6412/MAX($E$9:E6412)-1)))","v":""}]
[null,null,null,null,null,{"$f":"IF(B6413=\"\",\"\",IF(C6413=\"\",F6412,IF(E6413=\"\",F6412,E6413/MAX($E$9:E6413)-1)))","v":""}]
[null,null,null,null,null,{"$f":"IF(B6414=\"\",\"\",IF(C6414=\"\",F6413,IF(E6414=\"\",F6413,E6414/MAX($E$9:E6414)-1)))","v":""}]
[null,null,null,null,null,{"$f":"IF(B6415=\"\",\"\",IF(C6415=\"\",F6414,IF(E6415=\"\",F6414,E6415/MAX($E$9:E6415)-1)))","v":""}]
[null,null,null,null,null,{"$f":"IF(B6416=\"\",\"\",IF(C6416=\"\",F6415,IF(E6416=\"\",F6415,E6416/MAX($E$9:E6416)-1)))","v":""}]
[null,null,null,null,null,{"$f":"IF(B6417=\"\",\"\",IF(C6417=\"\",F6416,IF(E6417=\"\",F6416,E6417/MAX($E$9:E6417)-1)))","v":""}]
[null,null,null,null,null,{"$f":"IF(B6418=\"\",\"\",IF(C6418=\"\",F6417,IF(E6418=\"\",F6417,E6418/MAX($E$9:E6418)-1)))","v":""}]
[null,null,null,null,null,{"$f":"IF(B6419=\"\",\"\",IF(C6419=\"\",F6418,IF(E6419=\"\",F6418,E6419/MAX($E$9:E6419)-1)))","v":""}]
[null,null,null,null,null,{"$f":"IF(B6420=\"\",\"\",IF(C6420=\"\",F6419,IF(E6420=\"\",F6419,E6420/MAX($E$9:E6420)-1)))","v":""}]
[null,null,null,null,null,{"$f":"IF(B6421=\"\",\"\",IF(C6421=\"\",F6420,IF(E6421=\"\",F6420,E6421/MAX($E$9:E6421)-1)))","v":""}]
[null,null,null,null,null,{"$f":"IF(B6422=\"\",\"\",IF(C6422=\"\",F6421,IF(E6422=\"\",F6421,E6422/MAX($E$9:E6422)-1)))","v":""}]
[null,null,null,null,null,{"$f":"IF(B6423=\"\",\"\",IF(C6423=\"\",F6422,IF(E6423=\"\",F6422,E6423/MAX($E$9:E6423)-1)))","v":""}]
[null,null,null,null,null,{"$f":"IF(B6424=\"\",\"\",IF(C6424=\"\",F6423,IF(E6424=\"\",F6423,E6424/MAX($E$9:E6424)-1)))","v":""}]
[null,null,null,null,null,{"$f":"IF(B6425=\"\",\"\",IF(C6425=\"\",F6424,IF(E6425=\"\",F6424,E6425/MAX($E$9:E6425)-1)))","v":""}]
[null,null,null,null,null,{"$f":"IF(B6426=\"\",\"\",IF(C6426=\"\",F6425,IF(E6426=\"\",F6425,E6426/MAX($E$9:E6426)-1)))","v":""}]
[null,null,null,null,null,{"$f":"IF(B6427=\"\",\"\",IF(C6427=\"\",F6426,IF(E6427=\"\",F6426,E6427/MAX($E$9:E6427)-1)))","v":""}]
[null,null,null,null,null,{"$f":"IF(B6428=\"\",\"\",IF(C6428=\"\",F6427,IF(E6428=\"\",F6427,E6428/MAX($E$9:E6428)-1)))","v":""}]
[null,null,null,null,null,{"$f":"IF(B6429=\"\",\"\",IF(C6429=\"\",F6428,IF(E6429=\"\",F6428,E6429/MAX($E$9:E6429)-1)))","v":""}]
[null,null,null,null,null,{"$f":"IF(B6430=\"\",\"\",IF(C6430=\"\",F6429,IF(E6430=\"\",F6429,E6430/MAX($E$9:E6430)-1)))","v":""}]
[null,null,null,null,null,{"$f":"IF(B6431=\"\",\"\",IF(C6431=\"\",F6430,IF(E6431=\"\",F6430,E6431/MAX($E$9:E6431)-1)))","v":""}]
[null,null,null,null,null,{"$f":"IF(B6432=\"\",\"\",IF(C6432=\"\",F6431,IF(E6432=\"\",F6431,E6432/MAX($E$9:E6432)-1)))","v":""}]
[null,null,null,null,null,{"$f":"IF(B6433=\"\",\"\",IF(C6433=\"\",F6432,IF(E6433=\"\",F6432,E6433/MAX($E$9:E6433)-1)))","v":""}]
[null,null,null,null,null,{"$f":"IF(B6434=\"\",\"\",IF(C6434=\"\",F6433,IF(E6434=\"\",F6433,E6434/MAX($E$9:E6434)-1)))","v":""}]
[null,null,null,null,null,{"$f":"IF(B6435=\"\",\"\",IF(C6435=\"\",F6434,IF(E6435=\"\",F6434,E6435/MAX($E$9:E6435)-1)))","v":""}]
[null,null,null,null,null,{"$f":"IF(B6436=\"\",\"\",IF(C6436=\"\",F6435,IF(E6436=\"\",F6435,E6436/MAX($E$9:E6436)-1)))","v":""}]
[null,null,null,null,null,{"$f":"IF(B6437=\"\",\"\",IF(C6437=\"\",F6436,IF(E6437=\"\",F6436,E6437/MAX($E$9:E6437)-1)))","v":""}]
[null,null,null,null,null,{"$f":"IF(B6438=\"\",\"\",IF(C6438=\"\",F6437,IF(E6438=\"\",F6437,E6438/MAX($E$9:E6438)-1)))","v":""}]
[null,null,null,null,null,{"$f":"IF(B6439=\"\",\"\",IF(C6439=\"\",F6438,IF(E6439=\"\",F6438,E6439/MAX($E$9:E6439)-1)))","v":""}]
[null,null,null,null,null,{"$f":"IF(B6440=\"\",\"\",IF(C6440=\"\",F6439,IF(E6440=\"\",F6439,E6440/MAX($E$9:E6440)-1)))","v":""}]
[null,null,null,null,null,{"$f":"IF(B6441=\"\",\"\",IF(C6441=\"\",F6440,IF(E6441=\"\",F6440,E6441/MAX($E$9:E6441)-1)))","v":""}]
[null,null,null,null,null,{"$f":"IF(B6442=\"\",\"\",IF(C6442=\"\",F6441,IF(E6442=\"\",F6441,E6442/MAX($E$9:E6442)-1)))","v":""}]
[null,null,null,null,null,{"$f":"IF(B6443=\"\",\"\",IF(C6443=\"\",F6442,IF(E6443=\"\",F6442,E6443/MAX($E$9:E6443)-1)))","v":""}]
[null,null,null,null,null,{"$f":"IF(B6444=\"\",\"\",IF(C6444=\"\",F6443,IF(E6444=\"\",F6443,E6444/MAX($E$9:E6444)-1)))","v":""}]
[null,null,null,null,null,{"$f":"IF(B6445=\"\",\"\",IF(C6445=\"\",F6444,IF(E6445=\"\",F6444,E6445/MAX($E$9:E6445)-1)))","v":""}]
[null,null,null,null,null,{"$f":"IF(B6446=\"\",\"\",IF(C6446=\"\",F6445,IF(E6446=\"\",F6445,E6446/MAX($E$9:E6446)-1)))","v":""}]
[null,null,null,null,null,{"$f":"IF(B6447=\"\",\"\",IF(C6447=\"\",F6446,IF(E6447=\"\",F6446,E6447/MAX($E$9:E6447)-1)))","v":""}]
[null,null,null,null,null,{"$f":"IF(B6448=\"\",\"\",IF(C6448=\"\",F6447,IF(E6448=\"\",F6447,E6448/MAX($E$9:E6448)-1)))","v":""}]
[null,null,null,null,null,{"$f":"IF(B6449=\"\",\"\",IF(C6449=\"\",F6448,IF(E6449=\"\",F6448,E6449/MAX($E$9:E6449)-1)))","v":""}]
[null,null,null,null,null,{"$f":"IF(B6450=\"\",\"\",IF(C6450=\"\",F6449,IF(E6450=\"\",F6449,E6450/MAX($E$9:E6450)-1)))","v":""}]
[null,null,null,null,null,{"$f":"IF(B6451=\"\",\"\",IF(C6451=\"\",F6450,IF(E6451=\"\",F6450,E6451/MAX($E$9:E6451)-1)))","v":""}]
[null,null,null,null,null,{"$f":"IF(B6452=\"\",\"\",IF(C6452=\"\",F6451,IF(E6452=\"\",F6451,E6452/MAX($E$9:E6452)-1)))","v":""}]
[null,null,null,null,null,{"$f":"IF(B6453=\"\",\"\",IF(C6453=\"\",F6452,IF(E6453=\"\",F6452,E6453/MAX($E$9:E6453)-1)))","v":""}]
[null,null,null,null,null,{"$f":"IF(B6454=\"\",\"\",IF(C6454=\"\",F6453,IF(E6454=\"\",F6453,E6454/MAX($E$9:E6454)-1)))","v":""}]
[null,null,null,null,null,{"$f":"IF(B6455=\"\",\"\",IF(C6455=\"\",F6454,IF(E6455=\"\",F6454,E6455/MAX($E$9:E6455)-1)))","v":""}]
[null,null,null,null,null,{"$f":"IF(B6456=\"\",\"\",IF(C6456=\"\",F6455,IF(E6456=\"\",F6455,E6456/MAX($E$9:E6456)-1)))","v":""}]
[null,null,null,null,null,{"$f":"IF(B6457=\"\",\"\",IF(C6457=\"\",F6456,IF(E6457=\"\",F6456,E6457/MAX($E$9:E6457)-1)))","v":""}]
[null,null,null,null,null,{"$f":"IF(B6458=\"\",\"\",IF(C6458=\"\",F6457,IF(E6458=\"\",F6457,E6458/MAX($E$9:E6458)-1)))","v":""}]
[null,null,null,null,null,{"$f":"IF(B6459=\"\",\"\",IF(C6459=\"\",F6458,IF(E6459=\"\",F6458,E6459/MAX($E$9:E6459)-1)))","v":""}]
[null,null,null,null,null,{"$f":"IF(B6460=\"\",\"\",IF(C6460=\"\",F6459,IF(E6460=\"\",F6459,E6460/MAX($E$9:E6460)-1)))","v":""}]
[null,null,null,null,null,{"$f":"IF(B6461=\"\",\"\",IF(C6461=\"\",F6460,IF(E6461=\"\",F6460,E6461/MAX($E$9:E6461)-1)))","v":""}]
[null,null,null,null,null,{"$f":"IF(B6462=\"\",\"\",IF(C6462=\"\",F6461,IF(E6462=\"\",F6461,E6462/MAX($E$9:E6462)-1)))","v":""}]
[null,null,null,null,null,{"$f":"IF(B6463=\"\",\"\",IF(C6463=\"\",F6462,IF(E6463=\"\",F6462,E6463/MAX($E$9:E6463)-1)))","v":""}]
[null,null,null,null,null,{"$f":"IF(B6464=\"\",\"\",IF(C6464=\"\",F6463,IF(E6464=\"\",F6463,E6464/MAX($E$9:E6464)-1)))","v":""}]
[null,null,null,null,null,{"$f":"IF(B6465=\"\",\"\",IF(C6465=\"\",F6464,IF(E6465=\"\",F6464,E6465/MAX($E$9:E6465)-1)))","v":""}]
[null,null,null,null,null,{"$f":"IF(B6466=\"\",\"\",IF(C6466=\"\",F6465,IF(E6466=\"\",F6465,E6466/MAX($E$9:E6466)-1)))","v":""}]
[null,null,null,null,null,{"$f":"IF(B6467=\"\",\"\",IF(C6467=\"\",F6466,IF(E6467=\"\",F6466,E6467/MAX($E$9:E6467)-1)))","v":""}]
[null,null,null,null,null,{"$f":"IF(B6468=\"\",\"\",IF(C6468=\"\",F6467,IF(E6468=\"\",F6467,E6468/MAX($E$9:E6468)-1)))","v":""}]
[null,null,null,null,null,{"$f":"IF(B6469=\"\",\"\",IF(C6469=\"\",F6468,IF(E6469=\"\",F6468,E6469/MAX($E$9:E6469)-1)))","v":""}]
[null,null,null,null,null,{"$f":"IF(B6470=\"\",\"\",IF(C6470=\"\",F6469,IF(E6470=\"\",F6469,E6470/MAX($E$9:E6470)-1)))","v":""}]
[null,null,null,null,null,{"$f":"IF(B6471=\"\",\"\",IF(C6471=\"\",F6470,IF(E6471=\"\",F6470,E6471/MAX($E$9:E6471)-1)))","v":""}]
[null,null,null,null,null,{"$f":"IF(B6472=\"\",\"\",IF(C6472=\"\",F6471,IF(E6472=\"\",F6471,E6472/MAX($E$9:E6472)-1)))","v":""}]
[null,null,null,null,null,{"$f":"IF(B6473=\"\",\"\",IF(C6473=\"\",F6472,IF(E6473=\"\",F6472,E6473/MAX($E$9:E6473)-1)))","v":""}]
[null,null,null,null,null,{"$f":"IF(B6474=\"\",\"\",IF(C6474=\"\",F6473,IF(E6474=\"\",F6473,E6474/MAX($E$9:E6474)-1)))","v":""}]
[null,null,null,null,null,{"$f":"IF(B6475=\"\",\"\",IF(C6475=\"\",F6474,IF(E6475=\"\",F6474,E6475/MAX($E$9:E6475)-1)))","v":""}]
[null,null,null,null,null,{"$f":"IF(B6476=\"\",\"\",IF(C6476=\"\",F6475,IF(E6476=\"\",F6475,E6476/MAX($E$9:E6476)-1)))","v":""}]
[null,null,null,null,null,{"$f":"IF(B6477=\"\",\"\",IF(C6477=\"\",F6476,IF(E6477=\"\",F6476,E6477/MAX($E$9:E6477)-1)))","v":""}]
[null,null,null,null,null,{"$f":"IF(B6478=\"\",\"\",IF(C6478=\"\",F6477,IF(E6478=\"\",F6477,E6478/MAX($E$9:E6478)-1)))","v":""}]
[null,null,null,null,null,{"$f":"IF(B6479=\"\",\"\",IF(C6479=\"\",F6478,IF(E6479=\"\",F6478,E6479/MAX($E$9:E6479)-1)))","v":""}]
[null,null,null,null,null,{"$f":"IF(B6480=\"\",\"\",IF(C6480=\"\",F6479,IF(E6480=\"\",F6479,E6480/MAX($E$9:E6480)-1)))","v":""}]
[null,null,null,null,null,{"$f":"IF(B6481=\"\",\"\",IF(C6481=\"\",F6480,IF(E6481=\"\",F6480,E6481/MAX($E$9:E6481)-1)))","v":""}]
[null,null,null,null,null,{"$f":"IF(B6482=\"\",\"\",IF(C6482=\"\",F6481,IF(E6482=\"\",F6481,E6482/MAX($E$9:E6482)-1)))","v":""}]
[null,null,null,null,null,{"$f":"IF(B6483=\"\",\"\",IF(C6483=\"\",F6482,IF(E6483=\"\",F6482,E6483/MAX($E$9:E6483)-1)))","v":""}]
[null,null,null,null,null,{"$f":"IF(B6484=\"\",\"\",IF(C6484=\"\",F6483,IF(E6484=\"\",F6483,E6484/MAX($E$9:E6484)-1)))","v":""}]
[null,null,null,null,null,{"$f":"IF(B6485=\"\",\"\",IF(C6485=\"\",F6484,IF(E6485=\"\",F6484,E6485/MAX($E$9:E6485)-1)))","v":""}]
[null,null,null,null,null,{"$f":"IF(B6486=\"\",\"\",IF(C6486=\"\",F6485,IF(E6486=\"\",F6485,E6486/MAX($E$9:E6486)-1)))","v":""}]
[null,null,null,null,null,{"$f":"IF(B6487=\"\",\"\",IF(C6487=\"\",F6486,IF(E6487=\"\",F6486,E6487/MAX($E$9:E6487)-1)))","v":""}]
[null,null,null,null,null,{"$f":"IF(B6488=\"\",\"\",IF(C6488=\"\",F6487,IF(E6488=\"\",F6487,E6488/MAX($E$9:E6488)-1)))","v":""}]
[null,null,null,null,null,{"$f":"IF(B6489=\"\",\"\",IF(C6489=\"\",F6488,IF(E6489=\"\",F6488,E6489/MAX($E$9:E6489)-1)))","v":""}]
[null,null,null,null,null,{"$f":"IF(B6490=\"\",\"\",IF(C6490=\"\",F6489,IF(E6490=\"\",F6489,E6490/MAX($E$9:E6490)-1)))","v":""}]
[null,null,null,null,null,{"$f":"IF(B6491=\"\",\"\",IF(C6491=\"\",F6490,IF(E6491=\"\",F6490,E6491/MAX($E$9:E6491)-1)))","v":""}]
[null,null,null,null,null,{"$f":"IF(B6492=\"\",\"\",IF(C6492=\"\",F6491,IF(E6492=\"\",F6491,E6492/MAX($E$9:E6492)-1)))","v":""}]
[null,null,null,null,null,{"$f":"IF(B6493=\"\",\"\",IF(C6493=\"\",F6492,IF(E6493=\"\",F6492,E6493/MAX($E$9:E6493)-1)))","v":""}]
[null,null,null,null,null,{"$f":"IF(B6494=\"\",\"\",IF(C6494=\"\",F6493,IF(E6494=\"\",F6493,E6494/MAX($E$9:E6494)-1)))","v":""}]
[null,null,null,null,null,{"$f":"IF(B6495=\"\",\"\",IF(C6495=\"\",F6494,IF(E6495=\"\",F6494,E6495/MAX($E$9:E6495)-1)))","v":""}]
[null,null,null,null,null,{"$f":"IF(B6496=\"\",\"\",IF(C6496=\"\",F6495,IF(E6496=\"\",F6495,E6496/MAX($E$9:E6496)-1)))","v":""}]
[null,null,null,null,null,{"$f":"IF(B6497=\"\",\"\",IF(C6497=\"\",F6496,IF(E6497=\"\",F6496,E6497/MAX($E$9:E6497)-1)))","v":""}]
[null,null,null,null,null,{"$f":"IF(B6498=\"\",\"\",IF(C6498=\"\",F6497,IF(E6498=\"\",F6497,E6498/MAX($E$9:E6498)-1)))","v":""}]
[null,null,null,null,null,{"$f":"IF(B6499=\"\",\"\",IF(C6499=\"\",F6498,IF(E6499=\"\",F6498,E6499/MAX($E$9:E6499)-1)))","v":""}]
[null,null,null,null,null,{"$f":"IF(B6500=\"\",\"\",IF(C6500=\"\",F6499,IF(E6500=\"\",F6499,E6500/MAX($E$9:E6500)-1)))","v":""}]
[null,null,null,null,null,{"$f":"IF(B6501=\"\",\"\",IF(C6501=\"\",F6500,IF(E6501=\"\",F6500,E6501/MAX($E$9:E6501)-1)))","v":""}]
[null,null,null,null,null,{"$f":"IF(B6502=\"\",\"\",IF(C6502=\"\",F6501,IF(E6502=\"\",F6501,E6502/MAX($E$9:E6502)-1)))","v":""}]
[null,null,null,null,null,{"$f":"IF(B6503=\"\",\"\",IF(C6503=\"\",F6502,IF(E6503=\"\",F6502,E6503/MAX($E$9:E6503)-1)))","v":""}]
[null,null,null,null,null,{"$f":"IF(B6504=\"\",\"\",IF(C6504=\"\",F6503,IF(E6504=\"\",F6503,E6504/MAX($E$9:E6504)-1)))","v":""}]
[null,null,null,null,null,{"$f":"IF(B6505=\"\",\"\",IF(C6505=\"\",F6504,IF(E6505=\"\",F6504,E6505/MAX($E$9:E6505)-1)))","v":""}]
[null,null,null,null,null,{"$f":"IF(B6506=\"\",\"\",IF(C6506=\"\",F6505,IF(E6506=\"\",F6505,E6506/MAX($E$9:E6506)-1)))","v":""}]
[null,null,null,null,null,{"$f":"IF(B6507=\"\",\"\",IF(C6507=\"\",F6506,IF(E6507=\"\",F6506,E6507/MAX($E$9:E6507)-1)))","v":""}]
[null,null,null,null,null,{"$f":"IF(B6508=\"\",\"\",IF(C6508=\"\",F6507,IF(E6508=\"\",F6507,E6508/MAX($E$9:E6508)-1)))","v":""}]
[null,null,null,null,null,{"$f":"IF(B6509=\"\",\"\",IF(C6509=\"\",F6508,IF(E6509=\"\",F6508,E6509/MAX($E$9:E6509)-1)))","v":""}]
[null,null,null,null,null,{"$f":"IF(B6510=\"\",\"\",IF(C6510=\"\",F6509,IF(E6510=\"\",F6509,E6510/MAX($E$9:E6510)-1)))","v":""}]
[null,null,null,null,null,{"$f":"IF(B6511=\"\",\"\",IF(C6511=\"\",F6510,IF(E6511=\"\",F6510,E6511/MAX($E$9:E6511)-1)))","v":""}]
[null,null,null,null,null,{"$f":"IF(B6512=\"\",\"\",IF(C6512=\"\",F6511,IF(E6512=\"\",F6511,E6512/MAX($E$9:E6512)-1)))","v":""}]
[null,null,null,null,null,{"$f":"IF(B6513=\"\",\"\",IF(C6513=\"\",F6512,IF(E6513=\"\",F6512,E6513/MAX($E$9:E6513)-1)))","v":""}]
[null,null,null,null,null,{"$f":"IF(B6514=\"\",\"\",IF(C6514=\"\",F6513,IF(E6514=\"\",F6513,E6514/MAX($E$9:E6514)-1)))","v":""}]
[null,null,null,null,null,{"$f":"IF(B6515=\"\",\"\",IF(C6515=\"\",F6514,IF(E6515=\"\",F6514,E6515/MAX($E$9:E6515)-1)))","v":""}]
[null,null,null,null,null,{"$f":"IF(B6516=\"\",\"\",IF(C6516=\"\",F6515,IF(E6516=\"\",F6515,E6516/MAX($E$9:E6516)-1)))","v":""}]
[null,null,null,null,null,{"$f":"IF(B6517=\"\",\"\",IF(C6517=\"\",F6516,IF(E6517=\"\",F6516,E6517/MAX($E$9:E6517)-1)))","v":""}]
[null,null,null,null,null,{"$f":"IF(B6518=\"\",\"\",IF(C6518=\"\",F6517,IF(E6518=\"\",F6517,E6518/MAX($E$9:E6518)-1)))","v":""}]
[null,null,null,null,null,{"$f":"IF(B6519=\"\",\"\",IF(C6519=\"\",F6518,IF(E6519=\"\",F6518,E6519/MAX($E$9:E6519)-1)))","v":""}]
[null,null,null,null,null,{"$f":"IF(B6520=\"\",\"\",IF(C6520=\"\",F6519,IF(E6520=\"\",F6519,E6520/MAX($E$9:E6520)-1)))","v":""}]
[null,null,null,null,null,{"$f":"IF(B6521=\"\",\"\",IF(C6521=\"\",F6520,IF(E6521=\"\",F6520,E6521/MAX($E$9:E6521)-1)))","v":""}]
[null,null,null,null,null,{"$f":"IF(B6522=\"\",\"\",IF(C6522=\"\",F6521,IF(E6522=\"\",F6521,E6522/MAX($E$9:E6522)-1)))","v":""}]
[null,null,null,null,null,{"$f":"IF(B6523=\"\",\"\",IF(C6523=\"\",F6522,IF(E6523=\"\",F6522,E6523/MAX($E$9:E6523)-1)))","v":""}]
[null,null,null,null,null,{"$f":"IF(B6524=\"\",\"\",IF(C6524=\"\",F6523,IF(E6524=\"\",F6523,E6524/MAX($E$9:E6524)-1)))","v":""}]
[null,null,null,null,null,{"$f":"IF(B6525=\"\",\"\",IF(C6525=\"\",F6524,IF(E6525=\"\",F6524,E6525/MAX($E$9:E6525)-1)))","v":""}]
[null,null,null,null,null,{"$f":"IF(B6526=\"\",\"\",IF(C6526=\"\",F6525,IF(E6526=\"\",F6525,E6526/MAX($E$9:E6526)-1)))","v":""}]
[null,null,null,null,null,{"$f":"IF(B6527=\"\",\"\",IF(C6527=\"\",F6526,IF(E6527=\"\",F6526,E6527/MAX($E$9:E6527)-1)))","v":""}]
[null,null,null,null,null,{"$f":"IF(B6528=\"\",\"\",IF(C6528=\"\",F6527,IF(E6528=\"\",F6527,E6528/MAX($E$9:E6528)-1)))","v":""}]
[null,null,null,null,null,{"$f":"IF(B6529=\"\",\"\",IF(C6529=\"\",F6528,IF(E6529=\"\",F6528,E6529/MAX($E$9:E6529)-1)))","v":""}]
[null,null,null,null,null,{"$f":"IF(B6530=\"\",\"\",IF(C6530=\"\",F6529,IF(E6530=\"\",F6529,E6530/MAX($E$9:E6530)-1)))","v":""}]
[null,null,null,null,null,{"$f":"IF(B6531=\"\",\"\",IF(C6531=\"\",F6530,IF(E6531=\"\",F6530,E6531/MAX($E$9:E6531)-1)))","v":""}]
[null,null,null,null,null,{"$f":"IF(B6532=\"\",\"\",IF(C6532=\"\",F6531,IF(E6532=\"\",F6531,E6532/MAX($E$9:E6532)-1)))","v":""}]
[null,null,null,null,null,{"$f":"IF(B6533=\"\",\"\",IF(C6533=\"\",F6532,IF(E6533=\"\",F6532,E6533/MAX($E$9:E6533)-1)))","v":""}]
[null,null,null,null,null,{"$f":"IF(B6534=\"\",\"\",IF(C6534=\"\",F6533,IF(E6534=\"\",F6533,E6534/MAX($E$9:E6534)-1)))","v":""}]
[null,null,null,null,null,{"$f":"IF(B6535=\"\",\"\",IF(C6535=\"\",F6534,IF(E6535=\"\",F6534,E6535/MAX($E$9:E6535)-1)))","v":""}]
[null,null,null,null,null,{"$f":"IF(B6536=\"\",\"\",IF(C6536=\"\",F6535,IF(E6536=\"\",F6535,E6536/MAX($E$9:E6536)-1)))","v":""}]
[null,null,null,null,null,{"$f":"IF(B6537=\"\",\"\",IF(C6537=\"\",F6536,IF(E6537=\"\",F6536,E6537/MAX($E$9:E6537)-1)))","v":""}]
[null,null,null,null,null,{"$f":"IF(B6538=\"\",\"\",IF(C6538=\"\",F6537,IF(E6538=\"\",F6537,E6538/MAX($E$9:E6538)-1)))","v":""}]
[null,null,null,null,null,{"$f":"IF(B6539=\"\",\"\",IF(C6539=\"\",F6538,IF(E6539=\"\",F6538,E6539/MAX($E$9:E6539)-1)))","v":""}]
[null,null,null,null,null,{"$f":"IF(B6540=\"\",\"\",IF(C6540=\"\",F6539,IF(E6540=\"\",F6539,E6540/MAX($E$9:E6540)-1)))","v":""}]
[null,null,null,null,null,{"$f":"IF(B6541=\"\",\"\",IF(C6541=\"\",F6540,IF(E6541=\"\",F6540,E6541/MAX($E$9:E6541)-1)))","v":""}]
[null,null,null,null,null,{"$f":"IF(B6542=\"\",\"\",IF(C6542=\"\",F6541,IF(E6542=\"\",F6541,E6542/MAX($E$9:E6542)-1)))","v":""}]
[null,null,null,null,null,{"$f":"IF(B6543=\"\",\"\",IF(C6543=\"\",F6542,IF(E6543=\"\",F6542,E6543/MAX($E$9:E6543)-1)))","v":""}]
[null,null,null,null,null,{"$f":"IF(B6544=\"\",\"\",IF(C6544=\"\",F6543,IF(E6544=\"\",F6543,E6544/MAX($E$9:E6544)-1)))","v":""}]
[null,null,null,null,null,{"$f":"IF(B6545=\"\",\"\",IF(C6545=\"\",F6544,IF(E6545=\"\",F6544,E6545/MAX($E$9:E6545)-1)))","v":""}]
[null,null,null,null,null,{"$f":"IF(B6546=\"\",\"\",IF(C6546=\"\",F6545,IF(E6546=\"\",F6545,E6546/MAX($E$9:E6546)-1)))","v":""}]
[null,null,null,null,null,{"$f":"IF(B6547=\"\",\"\",IF(C6547=\"\",F6546,IF(E6547=\"\",F6546,E6547/MAX($E$9:E6547)-1)))","v":""}]
[null,null,null,null,null,{"$f":"IF(B6548=\"\",\"\",IF(C6548=\"\",F6547,IF(E6548=\"\",F6547,E6548/MAX($E$9:E6548)-1)))","v":""}]
[null,null,null,null,null,{"$f":"IF(B6549=\"\",\"\",IF(C6549=\"\",F6548,IF(E6549=\"\",F6548,E6549/MAX($E$9:E6549)-1)))","v":""}]
[null,null,null,null,null,{"$f":"IF(B6550=\"\",\"\",IF(C6550=\"\",F6549,IF(E6550=\"\",F6549,E6550/MAX($E$9:E6550)-1)))","v":""}]
[null,null,null,null,null,{"$f":"IF(B6551=\"\",\"\",IF(C6551=\"\",F6550,IF(E6551=\"\",F6550,E6551/MAX($E$9:E6551)-1)))","v":""}]
[null,null,null,null,null,{"$f":"IF(B6552=\"\",\"\",IF(C6552=\"\",F6551,IF(E6552=\"\",F6551,E6552/MAX($E$9:E6552)-1)))","v":""}]
[null,null,null,null,null,{"$f":"IF(B6553=\"\",\"\",IF(C6553=\"\",F6552,IF(E6553=\"\",F6552,E6553/MAX($E$9:E6553)-1)))","v":""}]
[null,null,null,null,null,{"$f":"IF(B6554=\"\",\"\",IF(C6554=\"\",F6553,IF(E6554=\"\",F6553,E6554/MAX($E$9:E6554)-1)))","v":""}]
[null,null,null,null,null,{"$f":"IF(B6555=\"\",\"\",IF(C6555=\"\",F6554,IF(E6555=\"\",F6554,E6555/MAX($E$9:E6555)-1)))","v":""}]
[null,null,null,null,null,{"$f":"IF(B6556=\"\",\"\",IF(C6556=\"\",F6555,IF(E6556=\"\",F6555,E6556/MAX($E$9:E6556)-1)))","v":""}]
[null,null,null,null,null,{"$f":"IF(B6557=\"\",\"\",IF(C6557=\"\",F6556,IF(E6557=\"\",F6556,E6557/MAX($E$9:E6557)-1)))","v":""}]
[null,null,null,null,null,{"$f":"IF(B6558=\"\",\"\",IF(C6558=\"\",F6557,IF(E6558=\"\",F6557,E6558/MAX($E$9:E6558)-1)))","v":""}]
[null,null,null,null,null,{"$f":"IF(B6559=\"\",\"\",IF(C6559=\"\",F6558,IF(E6559=\"\",F6558,E6559/MAX($E$9:E6559)-1)))","v":""}]
[null,null,null,null,null,{"$f":"IF(B6560=\"\",\"\",IF(C6560=\"\",F6559,IF(E6560=\"\",F6559,E6560/MAX($E$9:E6560)-1)))","v":""}]
[null,null,null,null,null,{"$f":"IF(B6561=\"\",\"\",IF(C6561=\"\",F6560,IF(E6561=\"\",F6560,E6561/MAX($E$9:E6561)-1)))","v":""}]
[null,null,null,null,null,{"$f":"IF(B6562=\"\",\"\",IF(C6562=\"\",F6561,IF(E6562=\"\",F6561,E6562/MAX($E$9:E6562)-1)))","v":""}]
[null,null,null,null,null,{"$f":"IF(B6563=\"\",\"\",IF(C6563=\"\",F6562,IF(E6563=\"\",F6562,E6563/MAX($E$9:E6563)-1)))","v":""}]
[null,null,null,null,null,{"$f":"IF(B6564=\"\",\"\",IF(C6564=\"\",F6563,IF(E6564=\"\",F6563,E6564/MAX($E$9:E6564)-1)))","v":""}]
[null,null,null,null,null,{"$f":"IF(B6565=\"\",\"\",IF(C6565=\"\",F6564,IF(E6565=\"\",F6564,E6565/MAX($E$9:E6565)-1)))","v":""}]
[null,null,null,null,null,{"$f":"IF(B6566=\"\",\"\",IF(C6566=\"\",F6565,IF(E6566=\"\",F6565,E6566/MAX($E$9:E6566)-1)))","v":""}]
[null,null,null,null,null,{"$f":"IF(B6567=\"\",\"\",IF(C6567=\"\",F6566,IF(E6567=\"\",F6566,E6567/MAX($E$9:E6567)-1)))","v":""}]
[null,null,null,null,null,{"$f":"IF(B6568=\"\",\"\",IF(C6568=\"\",F6567,IF(E6568=\"\",F6567,E6568/MAX($E$9:E6568)-1)))","v":""}]
[null,null,null,null,null,{"$f":"IF(B6569=\"\",\"\",IF(C6569=\"\",F6568,IF(E6569=\"\",F6568,E6569/MAX($E$9:E6569)-1)))","v":""}]
[null,null,null,null,null,{"$f":"IF(B6570=\"\",\"\",IF(C6570=\"\",F6569,IF(E6570=\"\",F6569,E6570/MAX($E$9:E6570)-1)))","v":""}]
[null,null,null,null,null,{"$f":"IF(B6571=\"\",\"\",IF(C6571=\"\",F6570,IF(E6571=\"\",F6570,E6571/MAX($E$9:E6571)-1)))","v":""}]
[null,null,null,null,null,{"$f":"IF(B6572=\"\",\"\",IF(C6572=\"\",F6571,IF(E6572=\"\",F6571,E6572/MAX($E$9:E6572)-1)))","v":""}]
[null,null,null,null,null,{"$f":"IF(B6573=\"\",\"\",IF(C6573=\"\",F6572,IF(E6573=\"\",F6572,E6573/MAX($E$9:E6573)-1)))","v":""}]
[null,null,null,null,null,{"$f":"IF(B6574=\"\",\"\",IF(C6574=\"\",F6573,IF(E6574=\"\",F6573,E6574/MAX($E$9:E6574)-1)))","v":""}]
[null,null,null,null,null,{"$f":"IF(B6575=\"\",\"\",IF(C6575=\"\",F6574,IF(E6575=\"\",F6574,E6575/MAX($E$9:E6575)-1)))","v":""}]
[null,null,null,null,null,{"$f":"IF(B6576=\"\",\"\",IF(C6576=\"\",F6575,IF(E6576=\"\",F6575,E6576/MAX($E$9:E6576)-1)))","v":""}]
[null,null,null,null,null,{"$f":"IF(B6577=\"\",\"\",IF(C6577=\"\",F6576,IF(E6577=\"\",F6576,E6577/MAX($E$9:E6577)-1)))","v":""}]
[null,null,null,null,null,{"$f":"IF(B6578=\"\",\"\",IF(C6578=\"\",F6577,IF(E6578=\"\",F6577,E6578/MAX($E$9:E6578)-1)))","v":""}]
[null,null,null,null,null,{"$f":"IF(B6579=\"\",\"\",IF(C6579=\"\",F6578,IF(E6579=\"\",F6578,E6579/MAX($E$9:E6579)-1)))","v":""}]
[null,null,null,null,null,{"$f":"IF(B6580=\"\",\"\",IF(C6580=\"\",F6579,IF(E6580=\"\",F6579,E6580/MAX($E$9:E6580)-1)))","v":""}]
[null,null,null,null,null,{"$f":"IF(B6581=\"\",\"\",IF(C6581=\"\",F6580,IF(E6581=\"\",F6580,E6581/MAX($E$9:E6581)-1)))","v":""}]
[null,null,null,null,null,{"$f":"IF(B6582=\"\",\"\",IF(C6582=\"\",F6581,IF(E6582=\"\",F6581,E6582/MAX($E$9:E6582)-1)))","v":""}]
[null,null,null,null,null,{"$f":"IF(B6583=\"\",\"\",IF(C6583=\"\",F6582,IF(E6583=\"\",F6582,E6583/MAX($E$9:E6583)-1)))","v":""}]
[null,null,null,null,null,{"$f":"IF(B6584=\"\",\"\",IF(C6584=\"\",F6583,IF(E6584=\"\",F6583,E6584/MAX($E$9:E6584)-1)))","v":""}]
[null,null,null,null,null,{"$f":"IF(B6585=\"\",\"\",IF(C6585=\"\",F6584,IF(E6585=\"\",F6584,E6585/MAX($E$9:E6585)-1)))","v":""}]
[null,null,null,null,null,{"$f":"IF(B6586=\"\",\"\",IF(C6586=\"\",F6585,IF(E6586=\"\",F6585,E6586/MAX($E$9:E6586)-1)))","v":""}]
[null,null,null,null,null,{"$f":"IF(B6587=\"\",\"\",IF(C6587=\"\",F6586,IF(E6587=\"\",F6586,E6587/MAX($E$9:E6587)-1)))","v":""}]
[null,null,null,null,null,{"$f":"IF(B6588=\"\",\"\",IF(C6588=\"\",F6587,IF(E6588=\"\",F6587,E6588/MAX($E$9:E6588)-1)))","v":""}]
[null,null,null,null,null,{"$f":"IF(B6589=\"\",\"\",IF(C6589=\"\",F6588,IF(E6589=\"\",F6588,E6589/MAX($E$9:E6589)-1)))","v":""}]
[null,null,null,null,null,{"$f":"IF(B6590=\"\",\"\",IF(C6590=\"\",F6589,IF(E6590=\"\",F6589,E6590/MAX($E$9:E6590)-1)))","v":""}]
[null,null,null,null,null,{"$f":"IF(B6591=\"\",\"\",IF(C6591=\"\",F6590,IF(E6591=\"\",F6590,E6591/MAX($E$9:E6591)-1)))","v":""}]
[null,null,null,null,null,{"$f":"IF(B6592=\"\",\"\",IF(C6592=\"\",F6591,IF(E6592=\"\",F6591,E6592/MAX($E$9:E6592)-1)))","v":""}]
[null,null,null,null,null,{"$f":"IF(B6593=\"\",\"\",IF(C6593=\"\",F6592,IF(E6593=\"\",F6592,E6593/MAX($E$9:E6593)-1)))","v":""}]
[null,null,null,null,null,{"$f":"IF(B6594=\"\",\"\",IF(C6594=\"\",F6593,IF(E6594=\"\",F6593,E6594/MAX($E$9:E6594)-1)))","v":""}]
[null,null,null,null,null,{"$f":"IF(B6595=\"\",\"\",IF(C6595=\"\",F6594,IF(E6595=\"\",F6594,E6595/MAX($E$9:E6595)-1)))","v":""}]
[null,null,null,null,null,{"$f":"IF(B6596=\"\",\"\",IF(C6596=\"\",F6595,IF(E6596=\"\",F6595,E6596/MAX($E$9:E6596)-1)))","v":""}]
[null,null,null,null,null,{"$f":"IF(B6597=\"\",\"\",IF(C6597=\"\",F6596,IF(E6597=\"\",F6596,E6597/MAX($E$9:E6597)-1)))","v":""}]
[null,null,null,null,null,{"$f":"IF(B6598=\"\",\"\",IF(C6598=\"\",F6597,IF(E6598=\"\",F6597,E6598/MAX($E$9:E6598)-1)))","v":""}]
[null,null,null,null,null,{"$f":"IF(B6599=\"\",\"\",IF(C6599=\"\",F6598,IF(E6599=\"\",F6598,E6599/MAX($E$9:E6599)-1)))","v":""}]
[null,null,null,null,null,{"$f":"IF(B6600=\"\",\"\",IF(C6600=\"\",F6599,IF(E6600=\"\",F6599,E6600/MAX($E$9:E6600)-1)))","v":""}]
[null,null,null,null,null,{"$f":"IF(B6601=\"\",\"\",IF(C6601=\"\",F6600,IF(E6601=\"\",F6600,E6601/MAX($E$9:E6601)-1)))","v":""}]
[null,null,null,null,null,{"$f":"IF(B6602=\"\",\"\",IF(C6602=\"\",F6601,IF(E6602=\"\",F6601,E6602/MAX($E$9:E6602)-1)))","v":""}]
[null,null,null,null,null,{"$f":"IF(B6603=\"\",\"\",IF(C6603=\"\",F6602,IF(E6603=\"\",F6602,E6603/MAX($E$9:E6603)-1)))","v":""}]
[null,null,null,null,null,{"$f":"IF(B6604=\"\",\"\",IF(C6604=\"\",F6603,IF(E6604=\"\",F6603,E6604/MAX($E$9:E6604)-1)))","v":""}]
[null,null,null,null,null,{"$f":"IF(B6605=\"\",\"\",IF(C6605=\"\",F6604,IF(E6605=\"\",F6604,E6605/MAX($E$9:E6605)-1)))","v":""}]
[null,null,null,null,null,{"$f":"IF(B6606=\"\",\"\",IF(C6606=\"\",F6605,IF(E6606=\"\",F6605,E6606/MAX($E$9:E6606)-1)))","v":""}]
[null,null,null,null,null,{"$f":"IF(B6607=\"\",\"\",IF(C6607=\"\",F6606,IF(E6607=\"\",F6606,E6607/MAX($E$9:E6607)-1)))","v":""}]
[null,null,null,null,null,{"$f":"IF(B6608=\"\",\"\",IF(C6608=\"\",F6607,IF(E6608=\"\",F6607,E6608/MAX($E$9:E6608)-1)))","v":""}]
[null,null,null,null,null,{"$f":"IF(B6609=\"\",\"\",IF(C6609=\"\",F6608,IF(E6609=\"\",F6608,E6609/MAX($E$9:E6609)-1)))","v":""}]
[null,null,null,null,null,{"$f":"IF(B6610=\"\",\"\",IF(C6610=\"\",F6609,IF(E6610=\"\",F6609,E6610/MAX($E$9:E6610)-1)))","v":""}]
[null,null,null,null,null,{"$f":"IF(B6611=\"\",\"\",IF(C6611=\"\",F6610,IF(E6611=\"\",F6610,E6611/MAX($E$9:E6611)-1)))","v":""}]
[null,null,null,null,null,{"$f":"IF(B6612=\"\",\"\",IF(C6612=\"\",F6611,IF(E6612=\"\",F6611,E6612/MAX($E$9:E6612)-1)))","v":""}]
[null,null,null,null,null,{"$f":"IF(B6613=\"\",\"\",IF(C6613=\"\",F6612,IF(E6613=\"\",F6612,E6613/MAX($E$9:E6613)-1)))","v":""}]
[null,null,null,null,null,{"$f":"IF(B6614=\"\",\"\",IF(C6614=\"\",F6613,IF(E6614=\"\",F6613,E6614/MAX($E$9:E6614)-1)))","v":""}]
[null,null,null,null,null,{"$f":"IF(B6615=\"\",\"\",IF(C6615=\"\",F6614,IF(E6615=\"\",F6614,E6615/MAX($E$9:E6615)-1)))","v":""}]
[null,null,null,null,null,{"$f":"IF(B6616=\"\",\"\",IF(C6616=\"\",F6615,IF(E6616=\"\",F6615,E6616/MAX($E$9:E6616)-1)))","v":""}]
[null,null,null,null,null,{"$f":"IF(B6617=\"\",\"\",IF(C6617=\"\",F6616,IF(E6617=\"\",F6616,E6617/MAX($E$9:E6617)-1)))","v":""}]
[null,null,null,null,null,{"$f":"IF(B6618=\"\",\"\",IF(C6618=\"\",F6617,IF(E6618=\"\",F6617,E6618/MAX($E$9:E6618)-1)))","v":""}]
[null,null,null,null,null,{"$f":"IF(B6619=\"\",\"\",IF(C6619=\"\",F6618,IF(E6619=\"\",F6618,E6619/MAX($E$9:E6619)-1)))","v":""}]
[null,null,null,null,null,{"$f":"IF(B6620=\"\",\"\",IF(C6620=\"\",F6619,IF(E6620=\"\",F6619,E6620/MAX($E$9:E6620)-1)))","v":""}]
[null,null,null,null,null,{"$f":"IF(B6621=\"\",\"\",IF(C6621=\"\",F6620,IF(E6621=\"\",F6620,E6621/MAX($E$9:E6621)-1)))","v":""}]
[null,null,null,null,null,{"$f":"IF(B6622=\"\",\"\",IF(C6622=\"\",F6621,IF(E6622=\"\",F6621,E6622/MAX($E$9:E6622)-1)))","v":""}]
[null,null,null,null,null,{"$f":"IF(B6623=\"\",\"\",IF(C6623=\"\",F6622,IF(E6623=\"\",F6622,E6623/MAX($E$9:E6623)-1)))","v":""}]
[null,null,null,null,null,{"$f":"IF(B6624=\"\",\"\",IF(C6624=\"\",F6623,IF(E6624=\"\",F6623,E6624/MAX($E$9:E6624)-1)))","v":""}]
[null,null,null,null,null,{"$f":"IF(B6625=\"\",\"\",IF(C6625=\"\",F6624,IF(E6625=\"\",F6624,E6625/MAX($E$9:E6625)-1)))","v":""}]
[null,null,null,null,null,{"$f":"IF(B6626=\"\",\"\",IF(C6626=\"\",F6625,IF(E6626=\"\",F6625,E6626/MAX($E$9:E6626)-1)))","v":""}]
[null,null,null,null,null,{"$f":"IF(B6627=\"\",\"\",IF(C6627=\"\",F6626,IF(E6627=\"\",F6626,E6627/MAX($E$9:E6627)-1)))","v":""}]
[null,null,null,null,null,{"$f":"IF(B6628=\"\",\"\",IF(C6628=\"\",F6627,IF(E6628=\"\",F6627,E6628/MAX($E$9:E6628)-1)))","v":""}]
[null,null,null,null,null,{"$f":"IF(B6629=\"\",\"\",IF(C6629=\"\",F6628,IF(E6629=\"\",F6628,E6629/MAX($E$9:E6629)-1)))","v":""}]
[null,null,null,null,null,{"$f":"IF(B6630=\"\",\"\",IF(C6630=\"\",F6629,IF(E6630=\"\",F6629,E6630/MAX($E$9:E6630)-1)))","v":""}]
[null,null,null,null,null,{"$f":"IF(B6631=\"\",\"\",IF(C6631=\"\",F6630,IF(E6631=\"\",F6630,E6631/MAX($E$9:E6631)-1)))","v":""}]
[null,null,null,null,null,{"$f":"IF(B6632=\"\",\"\",IF(C6632=\"\",F6631,IF(E6632=\"\",F6631,E6632/MAX($E$9:E6632)-1)))","v":""}]
[null,null,null,null,null,{"$f":"IF(B6633=\"\",\"\",IF(C6633=\"\",F6632,IF(E6633=\"\",F6632,E6633/MAX($E$9:E6633)-1)))","v":""}]
[null,null,null,null,null,{"$f":"IF(B6634=\"\",\"\",IF(C6634=\"\",F6633,IF(E6634=\"\",F6633,E6634/MAX($E$9:E6634)-1)))","v":""}]
[null,null,null,null,null,{"$f":"IF(B6635=\"\",\"\",IF(C6635=\"\",F6634,IF(E6635=\"\",F6634,E6635/MAX($E$9:E6635)-1)))","v":""}]
[null,null,null,null,null,{"$f":"IF(B6636=\"\",\"\",IF(C6636=\"\",F6635,IF(E6636=\"\",F6635,E6636/MAX($E$9:E6636)-1)))","v":""}]
[null,null,null,null,null,{"$f":"IF(B6637=\"\",\"\",IF(C6637=\"\",F6636,IF(E6637=\"\",F6636,E6637/MAX($E$9:E6637)-1)))","v":""}]
[null,null,null,null,null,{"$f":"IF(B6638=\"\",\"\",IF(C6638=\"\",F6637,IF(E6638=\"\",F6637,E6638/MAX($E$9:E6638)-1)))","v":""}]
[null,null,null,null,null,{"$f":"IF(B6639=\"\",\"\",IF(C6639=\"\",F6638,IF(E6639=\"\",F6638,E6639/MAX($E$9:E6639)-1)))","v":""}]
[null,null,null,null,null,{"$f":"IF(B6640=\"\",\"\",IF(C6640=\"\",F6639,IF(E6640=\"\",F6639,E6640/MAX($E$9:E6640)-1)))","v":""}]
[null,null,null,null,null,{"$f":"IF(B6641=\"\",\"\",IF(C6641=\"\",F6640,IF(E6641=\"\",F6640,E6641/MAX($E$9:E6641)-1)))","v":""}]
[null,null,null,null,null,{"$f":"IF(B6642=\"\",\"\",IF(C6642=\"\",F6641,IF(E6642=\"\",F6641,E6642/MAX($E$9:E6642)-1)))","v":""}]
[null,null,null,null,null,{"$f":"IF(B6643=\"\",\"\",IF(C6643=\"\",F6642,IF(E6643=\"\",F6642,E6643/MAX($E$9:E6643)-1)))","v":""}]
[null,null,null,null,null,{"$f":"IF(B6644=\"\",\"\",IF(C6644=\"\",F6643,IF(E6644=\"\",F6643,E6644/MAX($E$9:E6644)-1)))","v":""}]
[null,null,null,null,null,{"$f":"IF(B6645=\"\",\"\",IF(C6645=\"\",F6644,IF(E6645=\"\",F6644,E6645/MAX($E$9:E6645)-1)))","v":""}]
[null,null,null,null,null,{"$f":"IF(B6646=\"\",\"\",IF(C6646=\"\",F6645,IF(E6646=\"\",F6645,E6646/MAX($E$9:E6646)-1)))","v":""}]
[null,null,null,null,null,{"$f":"IF(B6647=\"\",\"\",IF(C6647=\"\",F6646,IF(E6647=\"\",F6646,E6647/MAX($E$9:E6647)-1)))","v":""}]
[null,null,null,null,null,{"$f":"IF(B6648=\"\",\"\",IF(C6648=\"\",F6647,IF(E6648=\"\",F6647,E6648/MAX($E$9:E6648)-1)))","v":""}]
[null,null,null,null,null,{"$f":"IF(B6649=\"\",\"\",IF(C6649=\"\",F6648,IF(E6649=\"\",F6648,E6649/MAX($E$9:E6649)-1)))","v":""}]
[null,null,null,null,null,{"$f":"IF(B6650=\"\",\"\",IF(C6650=\"\",F6649,IF(E6650=\"\",F6649,E6650/MAX($E$9:E6650)-1)))","v":""}]
[null,null,null,null,null,{"$f":"IF(B6651=\"\",\"\",IF(C6651=\"\",F6650,IF(E6651=\"\",F6650,E6651/MAX($E$9:E6651)-1)))","v":""}]
[null,null,null,null,null,{"$f":"IF(B6652=\"\",\"\",IF(C6652=\"\",F6651,IF(E6652=\"\",F6651,E6652/MAX($E$9:E6652)-1)))","v":""}]
[null,null,null,null,null,{"$f":"IF(B6653=\"\",\"\",IF(C6653=\"\",F6652,IF(E6653=\"\",F6652,E6653/MAX($E$9:E6653)-1)))","v":""}]
[null,null,null,null,null,{"$f":"IF(B6654=\"\",\"\",IF(C6654=\"\",F6653,IF(E6654=\"\",F6653,E6654/MAX($E$9:E6654)-1)))","v":""}]
[null,null,null,null,null,{"$f":"IF(B6655=\"\",\"\",IF(C6655=\"\",F6654,IF(E6655=\"\",F6654,E6655/MAX($E$9:E6655)-1)))","v":""}]
[null,null,null,null,null,{"$f":"IF(B6656=\"\",\"\",IF(C6656=\"\",F6655,IF(E6656=\"\",F6655,E6656/MAX($E$9:E6656)-1)))","v":""}]
[null,null,null,null,null,{"$f":"IF(B6657=\"\",\"\",IF(C6657=\"\",F6656,IF(E6657=\"\",F6656,E6657/MAX($E$9:E6657)-1)))","v":""}]
[null,null,null,null,null,{"$f":"IF(B6658=\"\",\"\",IF(C6658=\"\",F6657,IF(E6658=\"\",F6657,E6658/MAX($E$9:E6658)-1)))","v":""}]
[null,null,null,null,null,{"$f":"IF(B6659=\"\",\"\",IF(C6659=\"\",F6658,IF(E6659=\"\",F6658,E6659/MAX($E$9:E6659)-1)))","v":""}]
[null,null,null,null,null,{"$f":"IF(B6660=\"\",\"\",IF(C6660=\"\",F6659,IF(E6660=\"\",F6659,E6660/MAX($E$9:E6660)-1)))","v":""}]
[null,null,null,null,null,{"$f":"IF(B6661=\"\",\"\",IF(C6661=\"\",F6660,IF(E6661=\"\",F6660,E6661/MAX($E$9:E6661)-1)))","v":""}]
[null,null,null,null,null,{"$f":"IF(B6662=\"\",\"\",IF(C6662=\"\",F6661,IF(E6662=\"\",F6661,E6662/MAX($E$9:E6662)-1)))","v":""}]
[null,null,null,null,null,{"$f":"IF(B6663=\"\",\"\",IF(C6663=\"\",F6662,IF(E6663=\"\",F6662,E6663/MAX($E$9:E6663)-1)))","v":""}]
[null,null,null,null,null,{"$f":"IF(B6664=\"\",\"\",IF(C6664=\"\",F6663,IF(E6664=\"\",F6663,E6664/MAX($E$9:E6664)-1)))","v":""}]
[null,null,null,null,null,{"$f":"IF(B6665=\"\",\"\",IF(C6665=\"\",F6664,IF(E6665=\"\",F6664,E6665/MAX($E$9:E6665)-1)))","v":""}]
[null,null,null,null,null,{"$f":"IF(B6666=\"\",\"\",IF(C6666=\"\",F6665,IF(E6666=\"\",F6665,E6666/MAX($E$9:E6666)-1)))","v":""}]
[null,null,null,null,null,{"$f":"IF(B6667=\"\",\"\",IF(C6667=\"\",F6666,IF(E6667=\"\",F6666,E6667/MAX($E$9:E6667)-1)))","v":""}]
[null,null,null,null,null,{"$f":"IF(B6668=\"\",\"\",IF(C6668=\"\",F6667,IF(E6668=\"\",F6667,E6668/MAX($E$9:E6668)-1)))","v":""}]
[null,null,null,null,null,{"$f":"IF(B6669=\"\",\"\",IF(C6669=\"\",F6668,IF(E6669=\"\",F6668,E6669/MAX($E$9:E6669)-1)))","v":""}]
[null,null,null,null,null,{"$f":"IF(B6670=\"\",\"\",IF(C6670=\"\",F6669,IF(E6670=\"\",F6669,E6670/MAX($E$9:E6670)-1)))","v":""}]
[null,null,null,null,null,{"$f":"IF(B6671=\"\",\"\",IF(C6671=\"\",F6670,IF(E6671=\"\",F6670,E6671/MAX($E$9:E6671)-1)))","v":""}]
[null,null,null,null,null,{"$f":"IF(B6672=\"\",\"\",IF(C6672=\"\",F6671,IF(E6672=\"\",F6671,E6672/MAX($E$9:E6672)-1)))","v":""}]
[null,null,null,null,null,{"$f":"IF(B6673=\"\",\"\",IF(C6673=\"\",F6672,IF(E6673=\"\",F6672,E6673/MAX($E$9:E6673)-1)))","v":""}]
[null,null,null,null,null,{"$f":"IF(B6674=\"\",\"\",IF(C6674=\"\",F6673,IF(E6674=\"\",F6673,E6674/MAX($E$9:E6674)-1)))","v":""}]
[null,null,null,null,null,{"$f":"IF(B6675=\"\",\"\",IF(C6675=\"\",F6674,IF(E6675=\"\",F6674,E6675/MAX($E$9:E6675)-1)))","v":""}]
[null,null,null,null,null,{"$f":"IF(B6676=\"\",\"\",IF(C6676=\"\",F6675,IF(E6676=\"\",F6675,E6676/MAX($E$9:E6676)-1)))","v":""}]
[null,null,null,null,null,{"$f":"IF(B6677=\"\",\"\",IF(C6677=\"\",F6676,IF(E6677=\"\",F6676,E6677/MAX($E$9:E6677)-1)))","v":""}]
[null,null,null,null,null,{"$f":"IF(B6678=\"\",\"\",IF(C6678=\"\",F6677,IF(E6678=\"\",F6677,E6678/MAX($E$9:E6678)-1)))","v":""}]
[null,null,null,null,null,{"$f":"IF(B6679=\"\",\"\",IF(C6679=\"\",F6678,IF(E6679=\"\",F6678,E6679/MAX($E$9:E6679)-1)))","v":""}]
[null,null,null,null,null,{"$f":"IF(B6680=\"\",\"\",IF(C6680=\"\",F6679,IF(E6680=\"\",F6679,E6680/MAX($E$9:E6680)-1)))","v":""}]
[null,null,null,null,null,{"$f":"IF(B6681=\"\",\"\",IF(C6681=\"\",F6680,IF(E6681=\"\",F6680,E6681/MAX($E$9:E6681)-1)))","v":""}]
[null,null,null,null,null,{"$f":"IF(B6682=\"\",\"\",IF(C6682=\"\",F6681,IF(E6682=\"\",F6681,E6682/MAX($E$9:E6682)-1)))","v":""}]
[null,null,null,null,null,{"$f":"IF(B6683=\"\",\"\",IF(C6683=\"\",F6682,IF(E6683=\"\",F6682,E6683/MAX($E$9:E6683)-1)))","v":""}]
[null,null,null,null,null,{"$f":"IF(B6684=\"\",\"\",IF(C6684=\"\",F6683,IF(E6684=\"\",F6683,E6684/MAX($E$9:E6684)-1)))","v":""}]
[null,null,null,null,null,{"$f":"IF(B6685=\"\",\"\",IF(C6685=\"\",F6684,IF(E6685=\"\",F6684,E6685/MAX($E$9:E6685)-1)))","v":""}]
[null,null,null,null,null,{"$f":"IF(B6686=\"\",\"\",IF(C6686=\"\",F6685,IF(E6686=\"\",F6685,E6686/MAX($E$9:E6686)-1)))","v":""}]
[null,null,null,null,null,{"$f":"IF(B6687=\"\",\"\",IF(C6687=\"\",F6686,IF(E6687=\"\",F6686,E6687/MAX($E$9:E6687)-1)))","v":""}]
[null,null,null,null,null,{"$f":"IF(B6688=\"\",\"\",IF(C6688=\"\",F6687,IF(E6688=\"\",F6687,E6688/MAX($E$9:E6688)-1)))","v":""}]
[null,null,null,null,null,{"$f":"IF(B6689=\"\",\"\",IF(C6689=\"\",F6688,IF(E6689=\"\",F6688,E6689/MAX($E$9:E6689)-1)))","v":""}]
[null,null,null,null,null,{"$f":"IF(B6690=\"\",\"\",IF(C6690=\"\",F6689,IF(E6690=\"\",F6689,E6690/MAX($E$9:E6690)-1)))","v":""}]
[null,null,null,null,null,{"$f":"IF(B6691=\"\",\"\",IF(C6691=\"\",F6690,IF(E6691=\"\",F6690,E6691/MAX($E$9:E6691)-1)))","v":""}]
[null,null,null,null,null,{"$f":"IF(B6692=\"\",\"\",IF(C6692=\"\",F6691,IF(E6692=\"\",F6691,E6692/MAX($E$9:E6692)-1)))","v":""}]
[null,null,null,null,null,{"$f":"IF(B6693=\"\",\"\",IF(C6693=\"\",F6692,IF(E6693=\"\",F6692,E6693/MAX($E$9:E6693)-1)))","v":""}]
[null,null,null,null,null,{"$f":"IF(B6694=\"\",\"\",IF(C6694=\"\",F6693,IF(E6694=\"\",F6693,E6694/MAX($E$9:E6694)-1)))","v":""}]
[null,null,null,null,null,{"$f":"IF(B6695=\"\",\"\",IF(C6695=\"\",F6694,IF(E6695=\"\",F6694,E6695/MAX($E$9:E6695)-1)))","v":""}]
[null,null,null,null,null,{"$f":"IF(B6696=\"\",\"\",IF(C6696=\"\",F6695,IF(E6696=\"\",F6695,E6696/MAX($E$9:E6696)-1)))","v":""}]
[null,null,null,null,null,{"$f":"IF(B6697=\"\",\"\",IF(C6697=\"\",F6696,IF(E6697=\"\",F6696,E6697/MAX($E$9:E6697)-1)))","v":""}]
[null,null,null,null,null,{"$f":"IF(B6698=\"\",\"\",IF(C6698=\"\",F6697,IF(E6698=\"\",F6697,E6698/MAX($E$9:E6698)-1)))","v":""}]
[null,null,null,null,null,{"$f":"IF(B6699=\"\",\"\",IF(C6699=\"\",F6698,IF(E6699=\"\",F6698,E6699/MAX($E$9:E6699)-1)))","v":""}]
[null,null,null,null,null,{"$f":"IF(B6700=\"\",\"\",IF(C6700=\"\",F6699,IF(E6700=\"\",F6699,E6700/MAX($E$9:E6700)-1)))","v":""}]
[null,null,null,null,null,{"$f":"IF(B6701=\"\",\"\",IF(C6701=\"\",F6700,IF(E6701=\"\",F6700,E6701/MAX($E$9:E6701)-1)))","v":""}]
[null,null,null,null,null,{"$f":"IF(B6702=\"\",\"\",IF(C6702=\"\",F6701,IF(E6702=\"\",F6701,E6702/MAX($E$9:E6702)-1)))","v":""}]
[null,null,null,null,null,{"$f":"IF(B6703=\"\",\"\",IF(C6703=\"\",F6702,IF(E6703=\"\",F6702,E6703/MAX($E$9:E6703)-1)))","v":""}]
[null,null,null,null,null,{"$f":"IF(B6704=\"\",\"\",IF(C6704=\"\",F6703,IF(E6704=\"\",F6703,E6704/MAX($E$9:E6704)-1)))","v":""}]
[null,null,null,null,null,{"$f":"IF(B6705=\"\",\"\",IF(C6705=\"\",F6704,IF(E6705=\"\",F6704,E6705/MAX($E$9:E6705)-1)))","v":""}]
[null,null,null,null,null,{"$f":"IF(B6706=\"\",\"\",IF(C6706=\"\",F6705,IF(E6706=\"\",F6705,E6706/MAX($E$9:E6706)-1)))","v":""}]
[null,null,null,null,null,{"$f":"IF(B6707=\"\",\"\",IF(C6707=\"\",F6706,IF(E6707=\"\",F6706,E6707/MAX($E$9:E6707)-1)))","v":""}]
[null,null,null,null,null,{"$f":"IF(B6708=\"\",\"\",IF(C6708=\"\",F6707,IF(E6708=\"\",F6707,E6708/MAX($E$9:E6708)-1)))","v":""}]
[null,null,null,null,null,{"$f":"IF(B6709=\"\",\"\",IF(C6709=\"\",F6708,IF(E6709=\"\",F6708,E6709/MAX($E$9:E6709)-1)))","v":""}]
[null,null,null,null,null,{"$f":"IF(B6710=\"\",\"\",IF(C6710=\"\",F6709,IF(E6710=\"\",F6709,E6710/MAX($E$9:E6710)-1)))","v":""}]
[null,null,null,null,null,{"$f":"IF(B6711=\"\",\"\",IF(C6711=\"\",F6710,IF(E6711=\"\",F6710,E6711/MAX($E$9:E6711)-1)))","v":""}]
[null,null,null,null,null,{"$f":"IF(B6712=\"\",\"\",IF(C6712=\"\",F6711,IF(E6712=\"\",F6711,E6712/MAX($E$9:E6712)-1)))","v":""}]
[null,null,null,null,null,{"$f":"IF(B6713=\"\",\"\",IF(C6713=\"\",F6712,IF(E6713=\"\",F6712,E6713/MAX($E$9:E6713)-1)))","v":""}]
[null,null,null,null,null,{"$f":"IF(B6714=\"\",\"\",IF(C6714=\"\",F6713,IF(E6714=\"\",F6713,E6714/MAX($E$9:E6714)-1)))","v":""}]
[null,null,null,null,null,{"$f":"IF(B6715=\"\",\"\",IF(C6715=\"\",F6714,IF(E6715=\"\",F6714,E6715/MAX($E$9:E6715)-1)))","v":""}]
[null,null,null,null,null,{"$f":"IF(B6716=\"\",\"\",IF(C6716=\"\",F6715,IF(E6716=\"\",F6715,E6716/MAX($E$9:E6716)-1)))","v":""}]
[null,null,null,null,null,{"$f":"IF(B6717=\"\",\"\",IF(C6717=\"\",F6716,IF(E6717=\"\",F6716,E6717/MAX($E$9:E6717)-1)))","v":""}]
[null,null,null,null,null,{"$f":"IF(B6718=\"\",\"\",IF(C6718=\"\",F6717,IF(E6718=\"\",F6717,E6718/MAX($E$9:E6718)-1)))","v":""}]
[null,null,null,null,null,{"$f":"IF(B6719=\"\",\"\",IF(C6719=\"\",F6718,IF(E6719=\"\",F6718,E6719/MAX($E$9:E6719)-1)))","v":""}]
[null,null,null,null,null,{"$f":"IF(B6720=\"\",\"\",IF(C6720=\"\",F6719,IF(E6720=\"\",F6719,E6720/MAX($E$9:E6720)-1)))","v":""}]
[null,null,null,null,null,{"$f":"IF(B6721=\"\",\"\",IF(C6721=\"\",F6720,IF(E6721=\"\",F6720,E6721/MAX($E$9:E6721)-1)))","v":""}]
[null,null,null,null,null,{"$f":"IF(B6722=\"\",\"\",IF(C6722=\"\",F6721,IF(E6722=\"\",F6721,E6722/MAX($E$9:E6722)-1)))","v":""}]
[null,null,null,null,null,{"$f":"IF(B6723=\"\",\"\",IF(C6723=\"\",F6722,IF(E6723=\"\",F6722,E6723/MAX($E$9:E6723)-1)))","v":""}]
[null,null,null,null,null,{"$f":"IF(B6724=\"\",\"\",IF(C6724=\"\",F6723,IF(E6724=\"\",F6723,E6724/MAX($E$9:E6724)-1)))","v":""}]
[null,null,null,null,null,{"$f":"IF(B6725=\"\",\"\",IF(C6725=\"\",F6724,IF(E6725=\"\",F6724,E6725/MAX($E$9:E6725)-1)))","v":""}]
[null,null,null,null,null,{"$f":"IF(B6726=\"\",\"\",IF(C6726=\"\",F6725,IF(E6726=\"\",F6725,E6726/MAX($E$9:E6726)-1)))","v":""}]
[null,null,null,null,null,{"$f":"IF(B6727=\"\",\"\",IF(C6727=\"\",F6726,IF(E6727=\"\",F6726,E6727/MAX($E$9:E6727)-1)))","v":""}]
[null,null,null,null,null,{"$f":"IF(B6728=\"\",\"\",IF(C6728=\"\",F6727,IF(E6728=\"\",F6727,E6728/MAX($E$9:E6728)-1)))","v":""}]
[null,null,null,null,null,{"$f":"IF(B6729=\"\",\"\",IF(C6729=\"\",F6728,IF(E6729=\"\",F6728,E6729/MAX($E$9:E6729)-1)))","v":""}]
[null,null,null,null,null,{"$f":"IF(B6730=\"\",\"\",IF(C6730=\"\",F6729,IF(E6730=\"\",F6729,E6730/MAX($E$9:E6730)-1)))","v":""}]
[null,null,null,null,null,{"$f":"IF(B6731=\"\",\"\",IF(C6731=\"\",F6730,IF(E6731=\"\",F6730,E6731/MAX($E$9:E6731)-1)))","v":""}]
[null,null,null,null,null,{"$f":"IF(B6732=\"\",\"\",IF(C6732=\"\",F6731,IF(E6732=\"\",F6731,E6732/MAX($E$9:E6732)-1)))","v":""}]
[null,null,null,null,null,{"$f":"IF(B6733=\"\",\"\",IF(C6733=\"\",F6732,IF(E6733=\"\",F6732,E6733/MAX($E$9:E6733)-1)))","v":""}]
[null,null,null,null,null,{"$f":"IF(B6734=\"\",\"\",IF(C6734=\"\",F6733,IF(E6734=\"\",F6733,E6734/MAX($E$9:E6734)-1)))","v":""}]
[null,null,null,null,null,{"$f":"IF(B6735=\"\",\"\",IF(C6735=\"\",F6734,IF(E6735=\"\",F6734,E6735/MAX($E$9:E6735)-1)))","v":""}]
[null,null,null,null,null,{"$f":"IF(B6736=\"\",\"\",IF(C6736=\"\",F6735,IF(E6736=\"\",F6735,E6736/MAX($E$9:E6736)-1)))","v":""}]
[null,null,null,null,null,{"$f":"IF(B6737=\"\",\"\",IF(C6737=\"\",F6736,IF(E6737=\"\",F6736,E6737/MAX($E$9:E6737)-1)))","v":""}]
[null,null,null,null,null,{"$f":"IF(B6738=\"\",\"\",IF(C6738=\"\",F6737,IF(E6738=\"\",F6737,E6738/MAX($E$9:E6738)-1)))","v":""}]
[null,null,null,null,null,{"$f":"IF(B6739=\"\",\"\",IF(C6739=\"\",F6738,IF(E6739=\"\",F6738,E6739/MAX($E$9:E6739)-1)))","v":""}]
[null,null,null,null,null,{"$f":"IF(B6740=\"\",\"\",IF(C6740=\"\",F6739,IF(E6740=\"\",F6739,E6740/MAX($E$9:E6740)-1)))","v":""}]
[null,null,null,null,null,{"$f":"IF(B6741=\"\",\"\",IF(C6741=\"\",F6740,IF(E6741=\"\",F6740,E6741/MAX($E$9:E6741)-1)))","v":""}]
[null,null,null,null,null,{"$f":"IF(B6742=\"\",\"\",IF(C6742=\"\",F6741,IF(E6742=\"\",F6741,E6742/MAX($E$9:E6742)-1)))","v":""}]
[null,null,null,null,null,{"$f":"IF(B6743=\"\",\"\",IF(C6743=\"\",F6742,IF(E6743=\"\",F6742,E6743/MAX($E$9:E6743)-1)))","v":""}]
[null,null,null,null,null,{"$f":"IF(B6744=\"\",\"\",IF(C6744=\"\",F6743,IF(E6744=\"\",F6743,E6744/MAX($E$9:E6744)-1)))","v":""}]
[null,null,null,null,null,{"$f":"IF(B6745=\"\",\"\",IF(C6745=\"\",F6744,IF(E6745=\"\",F6744,E6745/MAX($E$9:E6745)-1)))","v":""}]
[null,null,null,null,null,{"$f":"IF(B6746=\"\",\"\",IF(C6746=\"\",F6745,IF(E6746=\"\",F6745,E6746/MAX($E$9:E6746)-1)))","v":""}]
[null,null,null,null,null,{"$f":"IF(B6747=\"\",\"\",IF(C6747=\"\",F6746,IF(E6747=\"\",F6746,E6747/MAX($E$9:E6747)-1)))","v":""}]
[null,null,null,null,null,{"$f":"IF(B6748=\"\",\"\",IF(C6748=\"\",F6747,IF(E6748=\"\",F6747,E6748/MAX($E$9:E6748)-1)))","v":""}]
[null,null,null,null,null,{"$f":"IF(B6749=\"\",\"\",IF(C6749=\"\",F6748,IF(E6749=\"\",F6748,E6749/MAX($E$9:E6749)-1)))","v":""}]
[null,null,null,null,null,{"$f":"IF(B6750=\"\",\"\",IF(C6750=\"\",F6749,IF(E6750=\"\",F6749,E6750/MAX($E$9:E6750)-1)))","v":""}]
[null,null,null,null,null,{"$f":"IF(B6751=\"\",\"\",IF(C6751=\"\",F6750,IF(E6751=\"\",F6750,E6751/MAX($E$9:E6751)-1)))","v":""}]
[null,null,null,null,null,{"$f":"IF(B6752=\"\",\"\",IF(C6752=\"\",F6751,IF(E6752=\"\",F6751,E6752/MAX($E$9:E6752)-1)))","v":""}]
[null,null,null,null,null,{"$f":"IF(B6753=\"\",\"\",IF(C6753=\"\",F6752,IF(E6753=\"\",F6752,E6753/MAX($E$9:E6753)-1)))","v":""}]
[null,null,null,null,null,{"$f":"IF(B6754=\"\",\"\",IF(C6754=\"\",F6753,IF(E6754=\"\",F6753,E6754/MAX($E$9:E6754)-1)))","v":""}]
[null,null,null,null,null,{"$f":"IF(B6755=\"\",\"\",IF(C6755=\"\",F6754,IF(E6755=\"\",F6754,E6755/MAX($E$9:E6755)-1)))","v":""}]
[null,null,null,null,null,{"$f":"IF(B6756=\"\",\"\",IF(C6756=\"\",F6755,IF(E6756=\"\",F6755,E6756/MAX($E$9:E6756)-1)))","v":""}]
[null,null,null,null,null,{"$f":"IF(B6757=\"\",\"\",IF(C6757=\"\",F6756,IF(E6757=\"\",F6756,E6757/MAX($E$9:E6757)-1)))","v":""}]
[null,null,null,null,null,{"$f":"IF(B6758=\"\",\"\",IF(C6758=\"\",F6757,IF(E6758=\"\",F6757,E6758/MAX($E$9:E6758)-1)))","v":""}]
[null,null,null,null,null,{"$f":"IF(B6759=\"\",\"\",IF(C6759=\"\",F6758,IF(E6759=\"\",F6758,E6759/MAX($E$9:E6759)-1)))","v":""}]
[null,null,null,null,null,{"$f":"IF(B6760=\"\",\"\",IF(C6760=\"\",F6759,IF(E6760=\"\",F6759,E6760/MAX($E$9:E6760)-1)))","v":""}]
[null,null,null,null,null,{"$f":"IF(B6761=\"\",\"\",IF(C6761=\"\",F6760,IF(E6761=\"\",F6760,E6761/MAX($E$9:E6761)-1)))","v":""}]
[null,null,null,null,null,{"$f":"IF(B6762=\"\",\"\",IF(C6762=\"\",F6761,IF(E6762=\"\",F6761,E6762/MAX($E$9:E6762)-1)))","v":""}]
[null,null,null,null,null,{"$f":"IF(B6763=\"\",\"\",IF(C6763=\"\",F6762,IF(E6763=\"\",F6762,E6763/MAX($E$9:E6763)-1)))","v":""}]
[null,null,null,null,null,{"$f":"IF(B6764=\"\",\"\",IF(C6764=\"\",F6763,IF(E6764=\"\",F6763,E6764/MAX($E$9:E6764)-1)))","v":""}]
[null,null,null,null,null,{"$f":"IF(B6765=\"\",\"\",IF(C6765=\"\",F6764,IF(E6765=\"\",F6764,E6765/MAX($E$9:E6765)-1)))","v":""}]
[null,null,null,null,null,{"$f":"IF(B6766=\"\",\"\",IF(C6766=\"\",F6765,IF(E6766=\"\",F6765,E6766/MAX($E$9:E6766)-1)))","v":""}]
[null,null,null,null,null,{"$f":"IF(B6767=\"\",\"\",IF(C6767=\"\",F6766,IF(E6767=\"\",F6766,E6767/MAX($E$9:E6767)-1)))","v":""}]
[null,null,null,null,null,{"$f":"IF(B6768=\"\",\"\",IF(C6768=\"\",F6767,IF(E6768=\"\",F6767,E6768/MAX($E$9:E6768)-1)))","v":""}]
[null,null,null,null,null,{"$f":"IF(B6769=\"\",\"\",IF(C6769=\"\",F6768,IF(E6769=\"\",F6768,E6769/MAX($E$9:E6769)-1)))","v":""}]
[null,null,null,null,null,{"$f":"IF(B6770=\"\",\"\",IF(C6770=\"\",F6769,IF(E6770=\"\",F6769,E6770/MAX($E$9:E6770)-1)))","v":""}]
[null,null,null,null,null,{"$f":"IF(B6771=\"\",\"\",IF(C6771=\"\",F6770,IF(E6771=\"\",F6770,E6771/MAX($E$9:E6771)-1)))","v":""}]
[null,null,null,null,null,{"$f":"IF(B6772=\"\",\"\",IF(C6772=\"\",F6771,IF(E6772=\"\",F6771,E6772/MAX($E$9:E6772)-1)))","v":""}]
[null,null,null,null,null,{"$f":"IF(B6773=\"\",\"\",IF(C6773=\"\",F6772,IF(E6773=\"\",F6772,E6773/MAX($E$9:E6773)-1)))","v":""}]
[null,null,null,null,null,{"$f":"IF(B6774=\"\",\"\",IF(C6774=\"\",F6773,IF(E6774=\"\",F6773,E6774/MAX($E$9:E6774)-1)))","v":""}]
[null,null,null,null,null,{"$f":"IF(B6775=\"\",\"\",IF(C6775=\"\",F6774,IF(E6775=\"\",F6774,E6775/MAX($E$9:E6775)-1)))","v":""}]
[null,null,null,null,null,{"$f":"IF(B6776=\"\",\"\",IF(C6776=\"\",F6775,IF(E6776=\"\",F6775,E6776/MAX($E$9:E6776)-1)))","v":""}]
[null,null,null,null,null,{"$f":"IF(B6777=\"\",\"\",IF(C6777=\"\",F6776,IF(E6777=\"\",F6776,E6777/MAX($E$9:E6777)-1)))","v":""}]
[null,null,null,null,null,{"$f":"IF(B6778=\"\",\"\",IF(C6778=\"\",F6777,IF(E6778=\"\",F6777,E6778/MAX($E$9:E6778)-1)))","v":""}]
[null,null,null,null,null,{"$f":"IF(B6779=\"\",\"\",IF(C6779=\"\",F6778,IF(E6779=\"\",F6778,E6779/MAX($E$9:E6779)-1)))","v":""}]
[null,null,null,null,null,{"$f":"IF(B6780=\"\",\"\",IF(C6780=\"\",F6779,IF(E6780=\"\",F6779,E6780/MAX($E$9:E6780)-1)))","v":""}]
[null,null,null,null,null,{"$f":"IF(B6781=\"\",\"\",IF(C6781=\"\",F6780,IF(E6781=\"\",F6780,E6781/MAX($E$9:E6781)-1)))","v":""}]
[null,null,null,null,null,{"$f":"IF(B6782=\"\",\"\",IF(C6782=\"\",F6781,IF(E6782=\"\",F6781,E6782/MAX($E$9:E6782)-1)))","v":""}]
[null,null,null,null,null,{"$f":"IF(B6783=\"\",\"\",IF(C6783=\"\",F6782,IF(E6783=\"\",F6782,E6783/MAX($E$9:E6783)-1)))","v":""}]
[null,null,null,null,null,{"$f":"IF(B6784=\"\",\"\",IF(C6784=\"\",F6783,IF(E6784=\"\",F6783,E6784/MAX($E$9:E6784)-1)))","v":""}]
[null,null,null,null,null,{"$f":"IF(B6785=\"\",\"\",IF(C6785=\"\",F6784,IF(E6785=\"\",F6784,E6785/MAX($E$9:E6785)-1)))","v":""}]
[null,null,null,null,null,{"$f":"IF(B6786=\"\",\"\",IF(C6786=\"\",F6785,IF(E6786=\"\",F6785,E6786/MAX($E$9:E6786)-1)))","v":""}]
[null,null,null,null,null,{"$f":"IF(B6787=\"\",\"\",IF(C6787=\"\",F6786,IF(E6787=\"\",F6786,E6787/MAX($E$9:E6787)-1)))","v":""}]
[null,null,null,null,null,{"$f":"IF(B6788=\"\",\"\",IF(C6788=\"\",F6787,IF(E6788=\"\",F6787,E6788/MAX($E$9:E6788)-1)))","v":""}]
[null,null,null,null,null,{"$f":"IF(B6789=\"\",\"\",IF(C6789=\"\",F6788,IF(E6789=\"\",F6788,E6789/MAX($E$9:E6789)-1)))","v":""}]
[null,null,null,null,null,{"$f":"IF(B6790=\"\",\"\",IF(C6790=\"\",F6789,IF(E6790=\"\",F6789,E6790/MAX($E$9:E6790)-1)))","v":""}]
[null,null,null,null,null,{"$f":"IF(B6791=\"\",\"\",IF(C6791=\"\",F6790,IF(E6791=\"\",F6790,E6791/MAX($E$9:E6791)-1)))","v":""}]
[null,null,null,null,null,{"$f":"IF(B6792=\"\",\"\",IF(C6792=\"\",F6791,IF(E6792=\"\",F6791,E6792/MAX($E$9:E6792)-1)))","v":""}]
[null,null,null,null,null,{"$f":"IF(B6793=\"\",\"\",IF(C6793=\"\",F6792,IF(E6793=\"\",F6792,E6793/MAX($E$9:E6793)-1)))","v":""}]
[null,null,null,null,null,{"$f":"IF(B6794=\"\",\"\",IF(C6794=\"\",F6793,IF(E6794=\"\",F6793,E6794/MAX($E$9:E6794)-1)))","v":""}]
[null,null,null,null,null,{"$f":"IF(B6795=\"\",\"\",IF(C6795=\"\",F6794,IF(E6795=\"\",F6794,E6795/MAX($E$9:E6795)-1)))","v":""}]
[null,null,null,null,null,{"$f":"IF(B6796=\"\",\"\",IF(C6796=\"\",F6795,IF(E6796=\"\",F6795,E6796/MAX($E$9:E6796)-1)))","v":""}]
[null,null,null,null,null,{"$f":"IF(B6797=\"\",\"\",IF(C6797=\"\",F6796,IF(E6797=\"\",F6796,E6797/MAX($E$9:E6797)-1)))","v":""}]
[null,null,null,null,null,{"$f":"IF(B6798=\"\",\"\",IF(C6798=\"\",F6797,IF(E6798=\"\",F6797,E6798/MAX($E$9:E6798)-1)))","v":""}]
[null,null,null,null,null,{"$f":"IF(B6799=\"\",\"\",IF(C6799=\"\",F6798,IF(E6799=\"\",F6798,E6799/MAX($E$9:E6799)-1)))","v":""}]
[null,null,null,null,null,{"$f":"IF(B6800=\"\",\"\",IF(C6800=\"\",F6799,IF(E6800=\"\",F6799,E6800/MAX($E$9:E6800)-1)))","v":""}]
[null,null,null,null,null,{"$f":"IF(B6801=\"\",\"\",IF(C6801=\"\",F6800,IF(E6801=\"\",F6800,E6801/MAX($E$9:E6801)-1)))","v":""}]
[null,null,null,null,null,{"$f":"IF(B6802=\"\",\"\",IF(C6802=\"\",F6801,IF(E6802=\"\",F6801,E6802/MAX($E$9:E6802)-1)))","v":""}]
[null,null,null,null,null,{"$f":"IF(B6803=\"\",\"\",IF(C6803=\"\",F6802,IF(E6803=\"\",F6802,E6803/MAX($E$9:E6803)-1)))","v":""}]
[null,null,null,null,null,{"$f":"IF(B6804=\"\",\"\",IF(C6804=\"\",F6803,IF(E6804=\"\",F6803,E6804/MAX($E$9:E6804)-1)))","v":""}]
[null,null,null,null,null,{"$f":"IF(B6805=\"\",\"\",IF(C6805=\"\",F6804,IF(E6805=\"\",F6804,E6805/MAX($E$9:E6805)-1)))","v":""}]
[null,null,null,null,null,{"$f":"IF(B6806=\"\",\"\",IF(C6806=\"\",F6805,IF(E6806=\"\",F6805,E6806/MAX($E$9:E6806)-1)))","v":""}]
[null,null,null,null,null,{"$f":"IF(B6807=\"\",\"\",IF(C6807=\"\",F6806,IF(E6807=\"\",F6806,E6807/MAX($E$9:E6807)-1)))","v":""}]
[null,null,null,null,null,{"$f":"IF(B6808=\"\",\"\",IF(C6808=\"\",F6807,IF(E6808=\"\",F6807,E6808/MAX($E$9:E6808)-1)))","v":""}]
[null,null,null,null,null,{"$f":"IF(B6809=\"\",\"\",IF(C6809=\"\",F6808,IF(E6809=\"\",F6808,E6809/MAX($E$9:E6809)-1)))","v":""}]
[null,null,null,null,null,{"$f":"IF(B6810=\"\",\"\",IF(C6810=\"\",F6809,IF(E6810=\"\",F6809,E6810/MAX($E$9:E6810)-1)))","v":""}]
[null,null,null,null,null,{"$f":"IF(B6811=\"\",\"\",IF(C6811=\"\",F6810,IF(E6811=\"\",F6810,E6811/MAX($E$9:E6811)-1)))","v":""}]
[null,null,null,null,null,{"$f":"IF(B6812=\"\",\"\",IF(C6812=\"\",F6811,IF(E6812=\"\",F6811,E6812/MAX($E$9:E6812)-1)))","v":""}]
[null,null,null,null,null,{"$f":"IF(B6813=\"\",\"\",IF(C6813=\"\",F6812,IF(E6813=\"\",F6812,E6813/MAX($E$9:E6813)-1)))","v":""}]
[null,null,null,null,null,{"$f":"IF(B6814=\"\",\"\",IF(C6814=\"\",F6813,IF(E6814=\"\",F6813,E6814/MAX($E$9:E6814)-1)))","v":""}]
[null,null,null,null,null,{"$f":"IF(B6815=\"\",\"\",IF(C6815=\"\",F6814,IF(E6815=\"\",F6814,E6815/MAX($E$9:E6815)-1)))","v":""}]
[null,null,null,null,null,{"$f":"IF(B6816=\"\",\"\",IF(C6816=\"\",F6815,IF(E6816=\"\",F6815,E6816/MAX($E$9:E6816)-1)))","v":""}]
[null,null,null,null,null,{"$f":"IF(B6817=\"\",\"\",IF(C6817=\"\",F6816,IF(E6817=\"\",F6816,E6817/MAX($E$9:E6817)-1)))","v":""}]
[null,null,null,null,null,{"$f":"IF(B6818=\"\",\"\",IF(C6818=\"\",F6817,IF(E6818=\"\",F6817,E6818/MAX($E$9:E6818)-1)))","v":""}]
[null,null,null,null,null,{"$f":"IF(B6819=\"\",\"\",IF(C6819=\"\",F6818,IF(E6819=\"\",F6818,E6819/MAX($E$9:E6819)-1)))","v":""}]
[null,null,null,null,null,{"$f":"IF(B6820=\"\",\"\",IF(C6820=\"\",F6819,IF(E6820=\"\",F6819,E6820/MAX($E$9:E6820)-1)))","v":""}]
[null,null,null,null,null,{"$f":"IF(B6821=\"\",\"\",IF(C6821=\"\",F6820,IF(E6821=\"\",F6820,E6821/MAX($E$9:E6821)-1)))","v":""}]
[null,null,null,null,null,{"$f":"IF(B6822=\"\",\"\",IF(C6822=\"\",F6821,IF(E6822=\"\",F6821,E6822/MAX($E$9:E6822)-1)))","v":""}]
[null,null,null,null,null,{"$f":"IF(B6823=\"\",\"\",IF(C6823=\"\",F6822,IF(E6823=\"\",F6822,E6823/MAX($E$9:E6823)-1)))","v":""}]
[null,null,null,null,null,{"$f":"IF(B6824=\"\",\"\",IF(C6824=\"\",F6823,IF(E6824=\"\",F6823,E6824/MAX($E$9:E6824)-1)))","v":""}]
[null,null,null,null,null,{"$f":"IF(B6825=\"\",\"\",IF(C6825=\"\",F6824,IF(E6825=\"\",F6824,E6825/MAX($E$9:E6825)-1)))","v":""}]
[null,null,null,null,null,{"$f":"IF(B6826=\"\",\"\",IF(C6826=\"\",F6825,IF(E6826=\"\",F6825,E6826/MAX($E$9:E6826)-1)))","v":""}]
[null,null,null,null,null,{"$f":"IF(B6827=\"\",\"\",IF(C6827=\"\",F6826,IF(E6827=\"\",F6826,E6827/MAX($E$9:E6827)-1)))","v":""}]
[null,null,null,null,null,{"$f":"IF(B6828=\"\",\"\",IF(C6828=\"\",F6827,IF(E6828=\"\",F6827,E6828/MAX($E$9:E6828)-1)))","v":""}]
[null,null,null,null,null,{"$f":"IF(B6829=\"\",\"\",IF(C6829=\"\",F6828,IF(E6829=\"\",F6828,E6829/MAX($E$9:E6829)-1)))","v":""}]
[null,null,null,null,null,{"$f":"IF(B6830=\"\",\"\",IF(C6830=\"\",F6829,IF(E6830=\"\",F6829,E6830/MAX($E$9:E6830)-1)))","v":""}]
[null,null,null,null,null,{"$f":"IF(B6831=\"\",\"\",IF(C6831=\"\",F6830,IF(E6831=\"\",F6830,E6831/MAX($E$9:E6831)-1)))","v":""}]
[null,null,null,null,null,{"$f":"IF(B6832=\"\",\"\",IF(C6832=\"\",F6831,IF(E6832=\"\",F6831,E6832/MAX($E$9:E6832)-1)))","v":""}]
[null,null,null,null,null,{"$f":"IF(B6833=\"\",\"\",IF(C6833=\"\",F6832,IF(E6833=\"\",F6832,E6833/MAX($E$9:E6833)-1)))","v":""}]
[null,null,null,null,null,{"$f":"IF(B6834=\"\",\"\",IF(C6834=\"\",F6833,IF(E6834=\"\",F6833,E6834/MAX($E$9:E6834)-1)))","v":""}]
[null,null,null,null,null,{"$f":"IF(B6835=\"\",\"\",IF(C6835=\"\",F6834,IF(E6835=\"\",F6834,E6835/MAX($E$9:E6835)-1)))","v":""}]
[null,null,null,null,null,{"$f":"IF(B6836=\"\",\"\",IF(C6836=\"\",F6835,IF(E6836=\"\",F6835,E6836/MAX($E$9:E6836)-1)))","v":""}]
[null,null,null,null,null,{"$f":"IF(B6837=\"\",\"\",IF(C6837=\"\",F6836,IF(E6837=\"\",F6836,E6837/MAX($E$9:E6837)-1)))","v":""}]
[null,null,null,null,null,{"$f":"IF(B6838=\"\",\"\",IF(C6838=\"\",F6837,IF(E6838=\"\",F6837,E6838/MAX($E$9:E6838)-1)))","v":""}]
[null,null,null,null,null,{"$f":"IF(B6839=\"\",\"\",IF(C6839=\"\",F6838,IF(E6839=\"\",F6838,E6839/MAX($E$9:E6839)-1)))","v":""}]
[null,null,null,null,null,{"$f":"IF(B6840=\"\",\"\",IF(C6840=\"\",F6839,IF(E6840=\"\",F6839,E6840/MAX($E$9:E6840)-1)))","v":""}]
[null,null,null,null,null,{"$f":"IF(B6841=\"\",\"\",IF(C6841=\"\",F6840,IF(E6841=\"\",F6840,E6841/MAX($E$9:E6841)-1)))","v":""}]
[null,null,null,null,null,{"$f":"IF(B6842=\"\",\"\",IF(C6842=\"\",F6841,IF(E6842=\"\",F6841,E6842/MAX($E$9:E6842)-1)))","v":""}]
[null,null,null,null,null,{"$f":"IF(B6843=\"\",\"\",IF(C6843=\"\",F6842,IF(E6843=\"\",F6842,E6843/MAX($E$9:E6843)-1)))","v":""}]
[null,null,null,null,null,{"$f":"IF(B6844=\"\",\"\",IF(C6844=\"\",F6843,IF(E6844=\"\",F6843,E6844/MAX($E$9:E6844)-1)))","v":""}]
[null,null,null,null,null,{"$f":"IF(B6845=\"\",\"\",IF(C6845=\"\",F6844,IF(E6845=\"\",F6844,E6845/MAX($E$9:E6845)-1)))","v":""}]
[null,null,null,null,null,{"$f":"IF(B6846=\"\",\"\",IF(C6846=\"\",F6845,IF(E6846=\"\",F6845,E6846/MAX($E$9:E6846)-1)))","v":""}]
[null,null,null,null,null,{"$f":"IF(B6847=\"\",\"\",IF(C6847=\"\",F6846,IF(E6847=\"\",F6846,E6847/MAX($E$9:E6847)-1)))","v":""}]
[null,null,null,null,null,{"$f":"IF(B6848=\"\",\"\",IF(C6848=\"\",F6847,IF(E6848=\"\",F6847,E6848/MAX($E$9:E6848)-1)))","v":""}]
[null,null,null,null,null,{"$f":"IF(B6849=\"\",\"\",IF(C6849=\"\",F6848,IF(E6849=\"\",F6848,E6849/MAX($E$9:E6849)-1)))","v":""}]
[null,null,null,null,null,{"$f":"IF(B6850=\"\",\"\",IF(C6850=\"\",F6849,IF(E6850=\"\",F6849,E6850/MAX($E$9:E6850)-1)))","v":""}]
[null,null,null,null,null,{"$f":"IF(B6851=\"\",\"\",IF(C6851=\"\",F6850,IF(E6851=\"\",F6850,E6851/MAX($E$9:E6851)-1)))","v":""}]
[null,null,null,null,null,{"$f":"IF(B6852=\"\",\"\",IF(C6852=\"\",F6851,IF(E6852=\"\",F6851,E6852/MAX($E$9:E6852)-1)))","v":""}]
[null,null,null,null,null,{"$f":"IF(B6853=\"\",\"\",IF(C6853=\"\",F6852,IF(E6853=\"\",F6852,E6853/MAX($E$9:E6853)-1)))","v":""}]
[null,null,null,null,null,{"$f":"IF(B6854=\"\",\"\",IF(C6854=\"\",F6853,IF(E6854=\"\",F6853,E6854/MAX($E$9:E6854)-1)))","v":""}]
[null,null,null,null,null,{"$f":"IF(B6855=\"\",\"\",IF(C6855=\"\",F6854,IF(E6855=\"\",F6854,E6855/MAX($E$9:E6855)-1)))","v":""}]
[null,null,null,null,null,{"$f":"IF(B6856=\"\",\"\",IF(C6856=\"\",F6855,IF(E6856=\"\",F6855,E6856/MAX($E$9:E6856)-1)))","v":""}]
[null,null,null,null,null,{"$f":"IF(B6857=\"\",\"\",IF(C6857=\"\",F6856,IF(E6857=\"\",F6856,E6857/MAX($E$9:E6857)-1)))","v":""}]
[null,null,null,null,null,{"$f":"IF(B6858=\"\",\"\",IF(C6858=\"\",F6857,IF(E6858=\"\",F6857,E6858/MAX($E$9:E6858)-1)))","v":""}]
[null,null,null,null,null,{"$f":"IF(B6859=\"\",\"\",IF(C6859=\"\",F6858,IF(E6859=\"\",F6858,E6859/MAX($E$9:E6859)-1)))","v":""}]
[null,null,null,null,null,{"$f":"IF(B6860=\"\",\"\",IF(C6860=\"\",F6859,IF(E6860=\"\",F6859,E6860/MAX($E$9:E6860)-1)))","v":""}]
[null,null,null,null,null,{"$f":"IF(B6861=\"\",\"\",IF(C6861=\"\",F6860,IF(E6861=\"\",F6860,E6861/MAX($E$9:E6861)-1)))","v":""}]
[null,null,null,null,null,{"$f":"IF(B6862=\"\",\"\",IF(C6862=\"\",F6861,IF(E6862=\"\",F6861,E6862/MAX($E$9:E6862)-1)))","v":""}]
[null,null,null,null,null,{"$f":"IF(B6863=\"\",\"\",IF(C6863=\"\",F6862,IF(E6863=\"\",F6862,E6863/MAX($E$9:E6863)-1)))","v":""}]
[null,null,null,null,null,{"$f":"IF(B6864=\"\",\"\",IF(C6864=\"\",F6863,IF(E6864=\"\",F6863,E6864/MAX($E$9:E6864)-1)))","v":""}]
[null,null,null,null,null,{"$f":"IF(B6865=\"\",\"\",IF(C6865=\"\",F6864,IF(E6865=\"\",F6864,E6865/MAX($E$9:E6865)-1)))","v":""}]
[null,null,null,null,null,{"$f":"IF(B6866=\"\",\"\",IF(C6866=\"\",F6865,IF(E6866=\"\",F6865,E6866/MAX($E$9:E6866)-1)))","v":""}]
[null,null,null,null,null,{"$f":"IF(B6867=\"\",\"\",IF(C6867=\"\",F6866,IF(E6867=\"\",F6866,E6867/MAX($E$9:E6867)-1)))","v":""}]
[null,null,null,null,null,{"$f":"IF(B6868=\"\",\"\",IF(C6868=\"\",F6867,IF(E6868=\"\",F6867,E6868/MAX($E$9:E6868)-1)))","v":""}]
[null,null,null,null,null,{"$f":"IF(B6869=\"\",\"\",IF(C6869=\"\",F6868,IF(E6869=\"\",F6868,E6869/MAX($E$9:E6869)-1)))","v":""}]
[null,null,null,null,null,{"$f":"IF(B6870=\"\",\"\",IF(C6870=\"\",F6869,IF(E6870=\"\",F6869,E6870/MAX($E$9:E6870)-1)))","v":""}]
[null,null,null,null,null,{"$f":"IF(B6871=\"\",\"\",IF(C6871=\"\",F6870,IF(E6871=\"\",F6870,E6871/MAX($E$9:E6871)-1)))","v":""}]
[null,null,null,null,null,{"$f":"IF(B6872=\"\",\"\",IF(C6872=\"\",F6871,IF(E6872=\"\",F6871,E6872/MAX($E$9:E6872)-1)))","v":""}]
[null,null,null,null,null,{"$f":"IF(B6873=\"\",\"\",IF(C6873=\"\",F6872,IF(E6873=\"\",F6872,E6873/MAX($E$9:E6873)-1)))","v":""}]
[null,null,null,null,null,{"$f":"IF(B6874=\"\",\"\",IF(C6874=\"\",F6873,IF(E6874=\"\",F6873,E6874/MAX($E$9:E6874)-1)))","v":""}]
[null,null,null,null,null,{"$f":"IF(B6875=\"\",\"\",IF(C6875=\"\",F6874,IF(E6875=\"\",F6874,E6875/MAX($E$9:E6875)-1)))","v":""}]
[null,null,null,null,null,{"$f":"IF(B6876=\"\",\"\",IF(C6876=\"\",F6875,IF(E6876=\"\",F6875,E6876/MAX($E$9:E6876)-1)))","v":""}]
[null,null,null,null,null,{"$f":"IF(B6877=\"\",\"\",IF(C6877=\"\",F6876,IF(E6877=\"\",F6876,E6877/MAX($E$9:E6877)-1)))","v":""}]
[null,null,null,null,null,{"$f":"IF(B6878=\"\",\"\",IF(C6878=\"\",F6877,IF(E6878=\"\",F6877,E6878/MAX($E$9:E6878)-1)))","v":""}]
[null,null,null,null,null,{"$f":"IF(B6879=\"\",\"\",IF(C6879=\"\",F6878,IF(E6879=\"\",F6878,E6879/MAX($E$9:E6879)-1)))","v":""}]
[null,null,null,null,null,{"$f":"IF(B6880=\"\",\"\",IF(C6880=\"\",F6879,IF(E6880=\"\",F6879,E6880/MAX($E$9:E6880)-1)))","v":""}]
[null,null,null,null,null,{"$f":"IF(B6881=\"\",\"\",IF(C6881=\"\",F6880,IF(E6881=\"\",F6880,E6881/MAX($E$9:E6881)-1)))","v":""}]
[null,null,null,null,null,{"$f":"IF(B6882=\"\",\"\",IF(C6882=\"\",F6881,IF(E6882=\"\",F6881,E6882/MAX($E$9:E6882)-1)))","v":""}]
[null,null,null,null,null,{"$f":"IF(B6883=\"\",\"\",IF(C6883=\"\",F6882,IF(E6883=\"\",F6882,E6883/MAX($E$9:E6883)-1)))","v":""}]
[null,null,null,null,null,{"$f":"IF(B6884=\"\",\"\",IF(C6884=\"\",F6883,IF(E6884=\"\",F6883,E6884/MAX($E$9:E6884)-1)))","v":""}]
[null,null,null,null,null,{"$f":"IF(B6885=\"\",\"\",IF(C6885=\"\",F6884,IF(E6885=\"\",F6884,E6885/MAX($E$9:E6885)-1)))","v":""}]
[null,null,null,null,null,{"$f":"IF(B6886=\"\",\"\",IF(C6886=\"\",F6885,IF(E6886=\"\",F6885,E6886/MAX($E$9:E6886)-1)))","v":""}]
[null,null,null,null,null,{"$f":"IF(B6887=\"\",\"\",IF(C6887=\"\",F6886,IF(E6887=\"\",F6886,E6887/MAX($E$9:E6887)-1)))","v":""}]
[null,null,null,null,null,{"$f":"IF(B6888=\"\",\"\",IF(C6888=\"\",F6887,IF(E6888=\"\",F6887,E6888/MAX($E$9:E6888)-1)))","v":""}]
[null,null,null,null,null,{"$f":"IF(B6889=\"\",\"\",IF(C6889=\"\",F6888,IF(E6889=\"\",F6888,E6889/MAX($E$9:E6889)-1)))","v":""}]
[null,null,null,null,null,{"$f":"IF(B6890=\"\",\"\",IF(C6890=\"\",F6889,IF(E6890=\"\",F6889,E6890/MAX($E$9:E6890)-1)))","v":""}]
[null,null,null,null,null,{"$f":"IF(B6891=\"\",\"\",IF(C6891=\"\",F6890,IF(E6891=\"\",F6890,E6891/MAX($E$9:E6891)-1)))","v":""}]
[null,null,null,null,null,{"$f":"IF(B6892=\"\",\"\",IF(C6892=\"\",F6891,IF(E6892=\"\",F6891,E6892/MAX($E$9:E6892)-1)))","v":""}]
[null,null,null,null,null,{"$f":"IF(B6893=\"\",\"\",IF(C6893=\"\",F6892,IF(E6893=\"\",F6892,E6893/MAX($E$9:E6893)-1)))","v":""}]
[null,null,null,null,null,{"$f":"IF(B6894=\"\",\"\",IF(C6894=\"\",F6893,IF(E6894=\"\",F6893,E6894/MAX($E$9:E6894)-1)))","v":""}]
[null,null,null,null,null,{"$f":"IF(B6895=\"\",\"\",IF(C6895=\"\",F6894,IF(E6895=\"\",F6894,E6895/MAX($E$9:E6895)-1)))","v":""}]
[null,null,null,null,null,{"$f":"IF(B6896=\"\",\"\",IF(C6896=\"\",F6895,IF(E6896=\"\",F6895,E6896/MAX($E$9:E6896)-1)))","v":""}]
[null,null,null,null,null,{"$f":"IF(B6897=\"\",\"\",IF(C6897=\"\",F6896,IF(E6897=\"\",F6896,E6897/MAX($E$9:E6897)-1)))","v":""}]
[null,null,null,null,null,{"$f":"IF(B6898=\"\",\"\",IF(C6898=\"\",F6897,IF(E6898=\"\",F6897,E6898/MAX($E$9:E6898)-1)))","v":""}]
[null,null,null,null,null,{"$f":"IF(B6899=\"\",\"\",IF(C6899=\"\",F6898,IF(E6899=\"\",F6898,E6899/MAX($E$9:E6899)-1)))","v":""}]
[null,null,null,null,null,{"$f":"IF(B6900=\"\",\"\",IF(C6900=\"\",F6899,IF(E6900=\"\",F6899,E6900/MAX($E$9:E6900)-1)))","v":""}]
[null,null,null,null,null,{"$f":"IF(B6901=\"\",\"\",IF(C6901=\"\",F6900,IF(E6901=\"\",F6900,E6901/MAX($E$9:E6901)-1)))","v":""}]
[null,null,null,null,null,{"$f":"IF(B6902=\"\",\"\",IF(C6902=\"\",F6901,IF(E6902=\"\",F6901,E6902/MAX($E$9:E6902)-1)))","v":""}]
[null,null,null,null,null,{"$f":"IF(B6903=\"\",\"\",IF(C6903=\"\",F6902,IF(E6903=\"\",F6902,E6903/MAX($E$9:E6903)-1)))","v":""}]
[null,null,null,null,null,{"$f":"IF(B6904=\"\",\"\",IF(C6904=\"\",F6903,IF(E6904=\"\",F6903,E6904/MAX($E$9:E6904)-1)))","v":""}]
[null,null,null,null,null,{"$f":"IF(B6905=\"\",\"\",IF(C6905=\"\",F6904,IF(E6905=\"\",F6904,E6905/MAX($E$9:E6905)-1)))","v":""}]
[null,null,null,null,null,{"$f":"IF(B6906=\"\",\"\",IF(C6906=\"\",F6905,IF(E6906=\"\",F6905,E6906/MAX($E$9:E6906)-1)))","v":""}]
[null,null,null,null,null,{"$f":"IF(B6907=\"\",\"\",IF(C6907=\"\",F6906,IF(E6907=\"\",F6906,E6907/MAX($E$9:E6907)-1)))","v":""}]
[null,null,null,null,null,{"$f":"IF(B6908=\"\",\"\",IF(C6908=\"\",F6907,IF(E6908=\"\",F6907,E6908/MAX($E$9:E6908)-1)))","v":""}]
[null,null,null,null,null,{"$f":"IF(B6909=\"\",\"\",IF(C6909=\"\",F6908,IF(E6909=\"\",F6908,E6909/MAX($E$9:E6909)-1)))","v":""}]
[null,null,null,null,null,{"$f":"IF(B6910=\"\",\"\",IF(C6910=\"\",F6909,IF(E6910=\"\",F6909,E6910/MAX($E$9:E6910)-1)))","v":""}]
[null,null,null,null,null,{"$f":"IF(B6911=\"\",\"\",IF(C6911=\"\",F6910,IF(E6911=\"\",F6910,E6911/MAX($E$9:E6911)-1)))","v":""}]
[null,null,null,null,null,{"$f":"IF(B6912=\"\",\"\",IF(C6912=\"\",F6911,IF(E6912=\"\",F6911,E6912/MAX($E$9:E6912)-1)))","v":""}]
[null,null,null,null,null,{"$f":"IF(B6913=\"\",\"\",IF(C6913=\"\",F6912,IF(E6913=\"\",F6912,E6913/MAX($E$9:E6913)-1)))","v":""}]
[null,null,null,null,null,{"$f":"IF(B6914=\"\",\"\",IF(C6914=\"\",F6913,IF(E6914=\"\",F6913,E6914/MAX($E$9:E6914)-1)))","v":""}]
[null,null,null,null,null,{"$f":"IF(B6915=\"\",\"\",IF(C6915=\"\",F6914,IF(E6915=\"\",F6914,E6915/MAX($E$9:E6915)-1)))","v":""}]
[null,null,null,null,null,{"$f":"IF(B6916=\"\",\"\",IF(C6916=\"\",F6915,IF(E6916=\"\",F6915,E6916/MAX($E$9:E6916)-1)))","v":""}]
[null,null,null,null,null,{"$f":"IF(B6917=\"\",\"\",IF(C6917=\"\",F6916,IF(E6917=\"\",F6916,E6917/MAX($E$9:E6917)-1)))","v":""}]
[null,null,null,null,null,{"$f":"IF(B6918=\"\",\"\",IF(C6918=\"\",F6917,IF(E6918=\"\",F6917,E6918/MAX($E$9:E6918)-1)))","v":""}]
[null,null,null,null,null,{"$f":"IF(B6919=\"\",\"\",IF(C6919=\"\",F6918,IF(E6919=\"\",F6918,E6919/MAX($E$9:E6919)-1)))","v":""}]
[null,null,null,null,null,{"$f":"IF(B6920=\"\",\"\",IF(C6920=\"\",F6919,IF(E6920=\"\",F6919,E6920/MAX($E$9:E6920)-1)))","v":""}]
[null,null,null,null,null,{"$f":"IF(B6921=\"\",\"\",IF(C6921=\"\",F6920,IF(E6921=\"\",F6920,E6921/MAX($E$9:E6921)-1)))","v":""}]
[null,null,null,null,null,{"$f":"IF(B6922=\"\",\"\",IF(C6922=\"\",F6921,IF(E6922=\"\",F6921,E6922/MAX($E$9:E6922)-1)))","v":""}]
[null,null,null,null,null,{"$f":"IF(B6923=\"\",\"\",IF(C6923=\"\",F6922,IF(E6923=\"\",F6922,E6923/MAX($E$9:E6923)-1)))","v":""}]
[null,null,null,null,null,{"$f":"IF(B6924=\"\",\"\",IF(C6924=\"\",F6923,IF(E6924=\"\",F6923,E6924/MAX($E$9:E6924)-1)))","v":""}]
[null,null,null,null,null,{"$f":"IF(B6925=\"\",\"\",IF(C6925=\"\",F6924,IF(E6925=\"\",F6924,E6925/MAX($E$9:E6925)-1)))","v":""}]
[null,null,null,null,null,{"$f":"IF(B6926=\"\",\"\",IF(C6926=\"\",F6925,IF(E6926=\"\",F6925,E6926/MAX($E$9:E6926)-1)))","v":""}]
[null,null,null,null,null,{"$f":"IF(B6927=\"\",\"\",IF(C6927=\"\",F6926,IF(E6927=\"\",F6926,E6927/MAX($E$9:E6927)-1)))","v":""}]
[null,null,null,null,null,{"$f":"IF(B6928=\"\",\"\",IF(C6928=\"\",F6927,IF(E6928=\"\",F6927,E6928/MAX($E$9:E6928)-1)))","v":""}]
[null,null,null,null,null,{"$f":"IF(B6929=\"\",\"\",IF(C6929=\"\",F6928,IF(E6929=\"\",F6928,E6929/MAX($E$9:E6929)-1)))","v":""}]
[null,null,null,null,null,{"$f":"IF(B6930=\"\",\"\",IF(C6930=\"\",F6929,IF(E6930=\"\",F6929,E6930/MAX($E$9:E6930)-1)))","v":""}]
[null,null,null,null,null,{"$f":"IF(B6931=\"\",\"\",IF(C6931=\"\",F6930,IF(E6931=\"\",F6930,E6931/MAX($E$9:E6931)-1)))","v":""}]
[null,null,null,null,null,{"$f":"IF(B6932=\"\",\"\",IF(C6932=\"\",F6931,IF(E6932=\"\",F6931,E6932/MAX($E$9:E6932)-1)))","v":""}]
[null,null,null,null,null,{"$f":"IF(B6933=\"\",\"\",IF(C6933=\"\",F6932,IF(E6933=\"\",F6932,E6933/MAX($E$9:E6933)-1)))","v":""}]
[null,null,null,null,null,{"$f":"IF(B6934=\"\",\"\",IF(C6934=\"\",F6933,IF(E6934=\"\",F6933,E6934/MAX($E$9:E6934)-1)))","v":""}]
[null,null,null,null,null,{"$f":"IF(B6935=\"\",\"\",IF(C6935=\"\",F6934,IF(E6935=\"\",F6934,E6935/MAX($E$9:E6935)-1)))","v":""}]
[null,null,null,null,null,{"$f":"IF(B6936=\"\",\"\",IF(C6936=\"\",F6935,IF(E6936=\"\",F6935,E6936/MAX($E$9:E6936)-1)))","v":""}]
[null,null,null,null,null,{"$f":"IF(B6937=\"\",\"\",IF(C6937=\"\",F6936,IF(E6937=\"\",F6936,E6937/MAX($E$9:E6937)-1)))","v":""}]
[null,null,null,null,null,{"$f":"IF(B6938=\"\",\"\",IF(C6938=\"\",F6937,IF(E6938=\"\",F6937,E6938/MAX($E$9:E6938)-1)))","v":""}]
[null,null,null,null,null,{"$f":"IF(B6939=\"\",\"\",IF(C6939=\"\",F6938,IF(E6939=\"\",F6938,E6939/MAX($E$9:E6939)-1)))","v":""}]
[null,null,null,null,null,{"$f":"IF(B6940=\"\",\"\",IF(C6940=\"\",F6939,IF(E6940=\"\",F6939,E6940/MAX($E$9:E6940)-1)))","v":""}]
[null,null,null,null,null,{"$f":"IF(B6941=\"\",\"\",IF(C6941=\"\",F6940,IF(E6941=\"\",F6940,E6941/MAX($E$9:E6941)-1)))","v":""}]
[null,null,null,null,null,{"$f":"IF(B6942=\"\",\"\",IF(C6942=\"\",F6941,IF(E6942=\"\",F6941,E6942/MAX($E$9:E6942)-1)))","v":""}]
[null,null,null,null,null,{"$f":"IF(B6943=\"\",\"\",IF(C6943=\"\",F6942,IF(E6943=\"\",F6942,E6943/MAX($E$9:E6943)-1)))","v":""}]
[null,null,null,null,null,{"$f":"IF(B6944=\"\",\"\",IF(C6944=\"\",F6943,IF(E6944=\"\",F6943,E6944/MAX($E$9:E6944)-1)))","v":""}]
[null,null,null,null,null,{"$f":"IF(B6945=\"\",\"\",IF(C6945=\"\",F6944,IF(E6945=\"\",F6944,E6945/MAX($E$9:E6945)-1)))","v":""}]
[null,null,null,null,null,{"$f":"IF(B6946=\"\",\"\",IF(C6946=\"\",F6945,IF(E6946=\"\",F6945,E6946/MAX($E$9:E6946)-1)))","v":""}]
[null,null,null,null,null,{"$f":"IF(B6947=\"\",\"\",IF(C6947=\"\",F6946,IF(E6947=\"\",F6946,E6947/MAX($E$9:E6947)-1)))","v":""}]
[null,null,null,null,null,{"$f":"IF(B6948=\"\",\"\",IF(C6948=\"\",F6947,IF(E6948=\"\",F6947,E6948/MAX($E$9:E6948)-1)))","v":""}]
[null,null,null,null,null,{"$f":"IF(B6949=\"\",\"\",IF(C6949=\"\",F6948,IF(E6949=\"\",F6948,E6949/MAX($E$9:E6949)-1)))","v":""}]
[null,null,null,null,null,{"$f":"IF(B6950=\"\",\"\",IF(C6950=\"\",F6949,IF(E6950=\"\",F6949,E6950/MAX($E$9:E6950)-1)))","v":""}]
[null,null,null,null,null,{"$f":"IF(B6951=\"\",\"\",IF(C6951=\"\",F6950,IF(E6951=\"\",F6950,E6951/MAX($E$9:E6951)-1)))","v":""}]
[null,null,null,null,null,{"$f":"IF(B6952=\"\",\"\",IF(C6952=\"\",F6951,IF(E6952=\"\",F6951,E6952/MAX($E$9:E6952)-1)))","v":""}]
[null,null,null,null,null,{"$f":"IF(B6953=\"\",\"\",IF(C6953=\"\",F6952,IF(E6953=\"\",F6952,E6953/MAX($E$9:E6953)-1)))","v":""}]
[null,null,null,null,null,{"$f":"IF(B6954=\"\",\"\",IF(C6954=\"\",F6953,IF(E6954=\"\",F6953,E6954/MAX($E$9:E6954)-1)))","v":""}]
[null,null,null,null,null,{"$f":"IF(B6955=\"\",\"\",IF(C6955=\"\",F6954,IF(E6955=\"\",F6954,E6955/MAX($E$9:E6955)-1)))","v":""}]
[null,null,null,null,null,{"$f":"IF(B6956=\"\",\"\",IF(C6956=\"\",F6955,IF(E6956=\"\",F6955,E6956/MAX($E$9:E6956)-1)))","v":""}]
[null,null,null,null,null,{"$f":"IF(B6957=\"\",\"\",IF(C6957=\"\",F6956,IF(E6957=\"\",F6956,E6957/MAX($E$9:E6957)-1)))","v":""}]
[null,null,null,null,null,{"$f":"IF(B6958=\"\",\"\",IF(C6958=\"\",F6957,IF(E6958=\"\",F6957,E6958/MAX($E$9:E6958)-1)))","v":""}]
[null,null,null,null,null,{"$f":"IF(B6959=\"\",\"\",IF(C6959=\"\",F6958,IF(E6959=\"\",F6958,E6959/MAX($E$9:E6959)-1)))","v":""}]
[null,null,null,null,null,{"$f":"IF(B6960=\"\",\"\",IF(C6960=\"\",F6959,IF(E6960=\"\",F6959,E6960/MAX($E$9:E6960)-1)))","v":""}]
[null,null,null,null,null,{"$f":"IF(B6961=\"\",\"\",IF(C6961=\"\",F6960,IF(E6961=\"\",F6960,E6961/MAX($E$9:E6961)-1)))","v":""}]
[null,null,null,null,null,{"$f":"IF(B6962=\"\",\"\",IF(C6962=\"\",F6961,IF(E6962=\"\",F6961,E6962/MAX($E$9:E6962)-1)))","v":""}]
[null,null,null,null,null,{"$f":"IF(B6963=\"\",\"\",IF(C6963=\"\",F6962,IF(E6963=\"\",F6962,E6963/MAX($E$9:E6963)-1)))","v":""}]
[null,null,null,null,null,{"$f":"IF(B6964=\"\",\"\",IF(C6964=\"\",F6963,IF(E6964=\"\",F6963,E6964/MAX($E$9:E6964)-1)))","v":""}]
[null,null,null,null,null,{"$f":"IF(B6965=\"\",\"\",IF(C6965=\"\",F6964,IF(E6965=\"\",F6964,E6965/MAX($E$9:E6965)-1)))","v":""}]
[null,null,null,null,null,{"$f":"IF(B6966=\"\",\"\",IF(C6966=\"\",F6965,IF(E6966=\"\",F6965,E6966/MAX($E$9:E6966)-1)))","v":""}]
[null,null,null,null,null,{"$f":"IF(B6967=\"\",\"\",IF(C6967=\"\",F6966,IF(E6967=\"\",F6966,E6967/MAX($E$9:E6967)-1)))","v":""}]
[null,null,null,null,null,{"$f":"IF(B6968=\"\",\"\",IF(C6968=\"\",F6967,IF(E6968=\"\",F6967,E6968/MAX($E$9:E6968)-1)))","v":""}]
[null,null,null,null,null,{"$f":"IF(B6969=\"\",\"\",IF(C6969=\"\",F6968,IF(E6969=\"\",F6968,E6969/MAX($E$9:E6969)-1)))","v":""}]
[null,null,null,null,null,{"$f":"IF(B6970=\"\",\"\",IF(C6970=\"\",F6969,IF(E6970=\"\",F6969,E6970/MAX($E$9:E6970)-1)))","v":""}]
[null,null,null,null,null,{"$f":"IF(B6971=\"\",\"\",IF(C6971=\"\",F6970,IF(E6971=\"\",F6970,E6971/MAX($E$9:E6971)-1)))","v":""}]
[null,null,null,null,null,{"$f":"IF(B6972=\"\",\"\",IF(C6972=\"\",F6971,IF(E6972=\"\",F6971,E6972/MAX($E$9:E6972)-1)))","v":""}]
[null,null,null,null,null,{"$f":"IF(B6973=\"\",\"\",IF(C6973=\"\",F6972,IF(E6973=\"\",F6972,E6973/MAX($E$9:E6973)-1)))","v":""}]
[null,null,null,null,null,{"$f":"IF(B6974=\"\",\"\",IF(C6974=\"\",F6973,IF(E6974=\"\",F6973,E6974/MAX($E$9:E6974)-1)))","v":""}]
[null,null,null,null,null,{"$f":"IF(B6975=\"\",\"\",IF(C6975=\"\",F6974,IF(E6975=\"\",F6974,E6975/MAX($E$9:E6975)-1)))","v":""}]
[null,null,null,null,null,{"$f":"IF(B6976=\"\",\"\",IF(C6976=\"\",F6975,IF(E6976=\"\",F6975,E6976/MAX($E$9:E6976)-1)))","v":""}]
[null,null,null,null,null,{"$f":"IF(B6977=\"\",\"\",IF(C6977=\"\",F6976,IF(E6977=\"\",F6976,E6977/MAX($E$9:E6977)-1)))","v":""}]
[null,null,null,null,null,{"$f":"IF(B6978=\"\",\"\",IF(C6978=\"\",F6977,IF(E6978=\"\",F6977,E6978/MAX($E$9:E6978)-1)))","v":""}]
[null,null,null,null,null,{"$f":"IF(B6979=\"\",\"\",IF(C6979=\"\",F6978,IF(E6979=\"\",F6978,E6979/MAX($E$9:E6979)-1)))","v":""}]
[null,null,null,null,null,{"$f":"IF(B6980=\"\",\"\",IF(C6980=\"\",F6979,IF(E6980=\"\",F6979,E6980/MAX($E$9:E6980)-1)))","v":""}]
[null,null,null,null,null,{"$f":"IF(B6981=\"\",\"\",IF(C6981=\"\",F6980,IF(E6981=\"\",F6980,E6981/MAX($E$9:E6981)-1)))","v":""}]
[null,null,null,null,null,{"$f":"IF(B6982=\"\",\"\",IF(C6982=\"\",F6981,IF(E6982=\"\",F6981,E6982/MAX($E$9:E6982)-1)))","v":""}]
[null,null,null,null,null,{"$f":"IF(B6983=\"\",\"\",IF(C6983=\"\",F6982,IF(E6983=\"\",F6982,E6983/MAX($E$9:E6983)-1)))","v":""}]
[null,null,null,null,null,{"$f":"IF(B6984=\"\",\"\",IF(C6984=\"\",F6983,IF(E6984=\"\",F6983,E6984/MAX($E$9:E6984)-1)))","v":""}]
[null,null,null,null,null,{"$f":"IF(B6985=\"\",\"\",IF(C6985=\"\",F6984,IF(E6985=\"\",F6984,E6985/MAX($E$9:E6985)-1)))","v":""}]
[null,null,null,null,null,{"$f":"IF(B6986=\"\",\"\",IF(C6986=\"\",F6985,IF(E6986=\"\",F6985,E6986/MAX($E$9:E6986)-1)))","v":""}]
[null,null,null,null,null,{"$f":"IF(B6987=\"\",\"\",IF(C6987=\"\",F6986,IF(E6987=\"\",F6986,E6987/MAX($E$9:E6987)-1)))","v":""}]
[null,null,null,null,null,{"$f":"IF(B6988=\"\",\"\",IF(C6988=\"\",F6987,IF(E6988=\"\",F6987,E6988/MAX($E$9:E6988)-1)))","v":""}]
[null,null,null,null,null,{"$f":"IF(B6989=\"\",\"\",IF(C6989=\"\",F6988,IF(E6989=\"\",F6988,E6989/MAX($E$9:E6989)-1)))","v":""}]
[null,null,null,null,null,{"$f":"IF(B6990=\"\",\"\",IF(C6990=\"\",F6989,IF(E6990=\"\",F6989,E6990/MAX($E$9:E6990)-1)))","v":""}]
[null,null,null,null,null,{"$f":"IF(B6991=\"\",\"\",IF(C6991=\"\",F6990,IF(E6991=\"\",F6990,E6991/MAX($E$9:E6991)-1)))","v":""}]
[null,null,null,null,null,{"$f":"IF(B6992=\"\",\"\",IF(C6992=\"\",F6991,IF(E6992=\"\",F6991,E6992/MAX($E$9:E6992)-1)))","v":""}]
[null,null,null,null,null,{"$f":"IF(B6993=\"\",\"\",IF(C6993=\"\",F6992,IF(E6993=\"\",F6992,E6993/MAX($E$9:E6993)-1)))","v":""}]
[null,null,null,null,null,{"$f":"IF(B6994=\"\",\"\",IF(C6994=\"\",F6993,IF(E6994=\"\",F6993,E6994/MAX($E$9:E6994)-1)))","v":""}]
[null,null,null,null,null,{"$f":"IF(B6995=\"\",\"\",IF(C6995=\"\",F6994,IF(E6995=\"\",F6994,E6995/MAX($E$9:E6995)-1)))","v":""}]
[null,null,null,null,null,{"$f":"IF(B6996=\"\",\"\",IF(C6996=\"\",F6995,IF(E6996=\"\",F6995,E6996/MAX($E$9:E6996)-1)))","v":""}]
[null,null,null,null,null,{"$f":"IF(B6997=\"\",\"\",IF(C6997=\"\",F6996,IF(E6997=\"\",F6996,E6997/MAX($E$9:E6997)-1)))","v":""}]
[null,null,null,null,null,{"$f":"IF(B6998=\"\",\"\",IF(C6998=\"\",F6997,IF(E6998=\"\",F6997,E6998/MAX($E$9:E6998)-1)))","v":""}]
[null,null,null,null,null,{"$f":"IF(B6999=\"\",\"\",IF(C6999=\"\",F6998,IF(E6999=\"\",F6998,E6999/MAX($E$9:E6999)-1)))","v":""}]
[null,null,null,null,null,{"$f":"IF(B7000=\"\",\"\",IF(C7000=\"\",F6999,IF(E7000=\"\",F6999,E7000/MAX($E$9:E7000)-1)))","v":""}]
[null,null,null,null,null,{"$f":"IF(B7001=\"\",\"\",IF(C7001=\"\",F7000,IF(E7001=\"\",F7000,E7001/MAX($E$9:E7001)-1)))","v":""}]
[null,null,null,null,null,{"$f":"IF(B7002=\"\",\"\",IF(C7002=\"\",F7001,IF(E7002=\"\",F7001,E7002/MAX($E$9:E7002)-1)))","v":""}]
[null,null,null,null,null,{"$f":"IF(B7003=\"\",\"\",IF(C7003=\"\",F7002,IF(E7003=\"\",F7002,E7003/MAX($E$9:E7003)-1)))","v":""}]
[null,null,null,null,null,{"$f":"IF(B7004=\"\",\"\",IF(C7004=\"\",F7003,IF(E7004=\"\",F7003,E7004/MAX($E$9:E7004)-1)))","v":""}]
[null,null,null,null,null,{"$f":"IF(B7005=\"\",\"\",IF(C7005=\"\",F7004,IF(E7005=\"\",F7004,E7005/MAX($E$9:E7005)-1)))","v":""}]
[null,null,null,null,null,{"$f":"IF(B7006=\"\",\"\",IF(C7006=\"\",F7005,IF(E7006=\"\",F7005,E7006/MAX($E$9:E7006)-1)))","v":""}]
[null,null,null,null,null,{"$f":"IF(B7007=\"\",\"\",IF(C7007=\"\",F7006,IF(E7007=\"\",F7006,E7007/MAX($E$9:E7007)-1)))","v":""}]
[null,null,null,null,null,{"$f":"IF(B7008=\"\",\"\",IF(C7008=\"\",F7007,IF(E7008=\"\",F7007,E7008/MAX($E$9:E7008)-1)))","v":""}]
[null,null,null,null,null,{"$f":"IF(B7009=\"\",\"\",IF(C7009=\"\",F7008,IF(E7009=\"\",F7008,E7009/MAX($E$9:E7009)-1)))","v":""}]
[null,null,null,null,null,{"$f":"IF(B7010=\"\",\"\",IF(C7010=\"\",F7009,IF(E7010=\"\",F7009,E7010/MAX($E$9:E7010)-1)))","v":""}]
[null,null,null,null,null,{"$f":"IF(B7011=\"\",\"\",IF(C7011=\"\",F7010,IF(E7011=\"\",F7010,E7011/MAX($E$9:E7011)-1)))","v":""}]
[null,null,null,null,null,{"$f":"IF(B7012=\"\",\"\",IF(C7012=\"\",F7011,IF(E7012=\"\",F7011,E7012/MAX($E$9:E7012)-1)))","v":""}]
[null,null,null,null,null,{"$f":"IF(B7013=\"\",\"\",IF(C7013=\"\",F7012,IF(E7013=\"\",F7012,E7013/MAX($E$9:E7013)-1)))","v":""}]
[null,null,null,null,null,{"$f":"IF(B7014=\"\",\"\",IF(C7014=\"\",F7013,IF(E7014=\"\",F7013,E7014/MAX($E$9:E7014)-1)))","v":""}]
[null,null,null,null,null,{"$f":"IF(B7015=\"\",\"\",IF(C7015=\"\",F7014,IF(E7015=\"\",F7014,E7015/MAX($E$9:E7015)-1)))","v":""}]
[null,null,null,null,null,{"$f":"IF(B7016=\"\",\"\",IF(C7016=\"\",F7015,IF(E7016=\"\",F7015,E7016/MAX($E$9:E7016)-1)))","v":""}]
[null,null,null,null,null,{"$f":"IF(B7017=\"\",\"\",IF(C7017=\"\",F7016,IF(E7017=\"\",F7016,E7017/MAX($E$9:E7017)-1)))","v":""}]
[null,null,null,null,null,{"$f":"IF(B7018=\"\",\"\",IF(C7018=\"\",F7017,IF(E7018=\"\",F7017,E7018/MAX($E$9:E7018)-1)))","v":""}]
[null,null,null,null,null,{"$f":"IF(B7019=\"\",\"\",IF(C7019=\"\",F7018,IF(E7019=\"\",F7018,E7019/MAX($E$9:E7019)-1)))","v":""}]
[null,null,null,null,null,{"$f":"IF(B7020=\"\",\"\",IF(C7020=\"\",F7019,IF(E7020=\"\",F7019,E7020/MAX($E$9:E7020)-1)))","v":""}]
[null,null,null,null,null,{"$f":"IF(B7021=\"\",\"\",IF(C7021=\"\",F7020,IF(E7021=\"\",F7020,E7021/MAX($E$9:E7021)-1)))","v":""}]
[null,null,null,null,null,{"$f":"IF(B7022=\"\",\"\",IF(C7022=\"\",F7021,IF(E7022=\"\",F7021,E7022/MAX($E$9:E7022)-1)))","v":""}]
[null,null,null,null,null,{"$f":"IF(B7023=\"\",\"\",IF(C7023=\"\",F7022,IF(E7023=\"\",F7022,E7023/MAX($E$9:E7023)-1)))","v":""}]
[null,null,null,null,null,{"$f":"IF(B7024=\"\",\"\",IF(C7024=\"\",F7023,IF(E7024=\"\",F7023,E7024/MAX($E$9:E7024)-1)))","v":""}]
[null,null,null,null,null,{"$f":"IF(B7025=\"\",\"\",IF(C7025=\"\",F7024,IF(E7025=\"\",F7024,E7025/MAX($E$9:E7025)-1)))","v":""}]
[null,null,null,null,null,{"$f":"IF(B7026=\"\",\"\",IF(C7026=\"\",F7025,IF(E7026=\"\",F7025,E7026/MAX($E$9:E7026)-1)))","v":""}]
[null,null,null,null,null,{"$f":"IF(B7027=\"\",\"\",IF(C7027=\"\",F7026,IF(E7027=\"\",F7026,E7027/MAX($E$9:E7027)-1)))","v":""}]
[null,null,null,null,null,{"$f":"IF(B7028=\"\",\"\",IF(C7028=\"\",F7027,IF(E7028=\"\",F7027,E7028/MAX($E$9:E7028)-1)))","v":""}]
[null,null,null,null,null,{"$f":"IF(B7029=\"\",\"\",IF(C7029=\"\",F7028,IF(E7029=\"\",F7028,E7029/MAX($E$9:E7029)-1)))","v":""}]
[null,null,null,null,null,{"$f":"IF(B7030=\"\",\"\",IF(C7030=\"\",F7029,IF(E7030=\"\",F7029,E7030/MAX($E$9:E7030)-1)))","v":""}]
[null,null,null,null,null,{"$f":"IF(B7031=\"\",\"\",IF(C7031=\"\",F7030,IF(E7031=\"\",F7030,E7031/MAX($E$9:E7031)-1)))","v":""}]
[null,null,null,null,null,{"$f":"IF(B7032=\"\",\"\",IF(C7032=\"\",F7031,IF(E7032=\"\",F7031,E7032/MAX($E$9:E7032)-1)))","v":""}]
[null,null,null,null,null,{"$f":"IF(B7033=\"\",\"\",IF(C7033=\"\",F7032,IF(E7033=\"\",F7032,E7033/MAX($E$9:E7033)-1)))","v":""}]
[null,null,null,null,null,{"$f":"IF(B7034=\"\",\"\",IF(C7034=\"\",F7033,IF(E7034=\"\",F7033,E7034/MAX($E$9:E7034)-1)))","v":""}]
[null,null,null,null,null,{"$f":"IF(B7035=\"\",\"\",IF(C7035=\"\",F7034,IF(E7035=\"\",F7034,E7035/MAX($E$9:E7035)-1)))","v":""}]
[null,null,null,null,null,{"$f":"IF(B7036=\"\",\"\",IF(C7036=\"\",F7035,IF(E7036=\"\",F7035,E7036/MAX($E$9:E7036)-1)))","v":""}]
[null,null,null,null,null,{"$f":"IF(B7037=\"\",\"\",IF(C7037=\"\",F7036,IF(E7037=\"\",F7036,E7037/MAX($E$9:E7037)-1)))","v":""}]
[null,null,null,null,null,{"$f":"IF(B7038=\"\",\"\",IF(C7038=\"\",F7037,IF(E7038=\"\",F7037,E7038/MAX($E$9:E7038)-1)))","v":""}]
[null,null,null,null,null,{"$f":"IF(B7039=\"\",\"\",IF(C7039=\"\",F7038,IF(E7039=\"\",F7038,E7039/MAX($E$9:E7039)-1)))","v":""}]
[null,null,null,null,null,{"$f":"IF(B7040=\"\",\"\",IF(C7040=\"\",F7039,IF(E7040=\"\",F7039,E7040/MAX($E$9:E7040)-1)))","v":""}]
[null,null,null,null,null,{"$f":"IF(B7041=\"\",\"\",IF(C7041=\"\",F7040,IF(E7041=\"\",F7040,E7041/MAX($E$9:E7041)-1)))","v":""}]
[null,null,null,null,null,{"$f":"IF(B7042=\"\",\"\",IF(C7042=\"\",F7041,IF(E7042=\"\",F7041,E7042/MAX($E$9:E7042)-1)))","v":""}]
[null,null,null,null,null,{"$f":"IF(B7043=\"\",\"\",IF(C7043=\"\",F7042,IF(E7043=\"\",F7042,E7043/MAX($E$9:E7043)-1)))","v":""}]
[null,null,null,null,null,{"$f":"IF(B7044=\"\",\"\",IF(C7044=\"\",F7043,IF(E7044=\"\",F7043,E7044/MAX($E$9:E7044)-1)))","v":""}]
[null,null,null,null,null,{"$f":"IF(B7045=\"\",\"\",IF(C7045=\"\",F7044,IF(E7045=\"\",F7044,E7045/MAX($E$9:E7045)-1)))","v":""}]
[null,null,null,null,null,{"$f":"IF(B7046=\"\",\"\",IF(C7046=\"\",F7045,IF(E7046=\"\",F7045,E7046/MAX($E$9:E7046)-1)))","v":""}]
[null,null,null,null,null,{"$f":"IF(B7047=\"\",\"\",IF(C7047=\"\",F7046,IF(E7047=\"\",F7046,E7047/MAX($E$9:E7047)-1)))","v":""}]
[null,null,null,null,null,{"$f":"IF(B7048=\"\",\"\",IF(C7048=\"\",F7047,IF(E7048=\"\",F7047,E7048/MAX($E$9:E7048)-1)))","v":""}]
[null,null,null,null,null,{"$f":"IF(B7049=\"\",\"\",IF(C7049=\"\",F7048,IF(E7049=\"\",F7048,E7049/MAX($E$9:E7049)-1)))","v":""}]
[null,null,null,null,null,{"$f":"IF(B7050=\"\",\"\",IF(C7050=\"\",F7049,IF(E7050=\"\",F7049,E7050/MAX($E$9:E7050)-1)))","v":""}]
[null,null,null,null,null,{"$f":"IF(B7051=\"\",\"\",IF(C7051=\"\",F7050,IF(E7051=\"\",F7050,E7051/MAX($E$9:E7051)-1)))","v":""}]
[null,null,null,null,null,{"$f":"IF(B7052=\"\",\"\",IF(C7052=\"\",F7051,IF(E7052=\"\",F7051,E7052/MAX($E$9:E7052)-1)))","v":""}]
[null,null,null,null,null,{"$f":"IF(B7053=\"\",\"\",IF(C7053=\"\",F7052,IF(E7053=\"\",F7052,E7053/MAX($E$9:E7053)-1)))","v":""}]
[null,null,null,null,null,{"$f":"IF(B7054=\"\",\"\",IF(C7054=\"\",F7053,IF(E7054=\"\",F7053,E7054/MAX($E$9:E7054)-1)))","v":""}]
[null,null,null,null,null,{"$f":"IF(B7055=\"\",\"\",IF(C7055=\"\",F7054,IF(E7055=\"\",F7054,E7055/MAX($E$9:E7055)-1)))","v":""}]
[null,null,null,null,null,{"$f":"IF(B7056=\"\",\"\",IF(C7056=\"\",F7055,IF(E7056=\"\",F7055,E7056/MAX($E$9:E7056)-1)))","v":""}]
[null,null,null,null,null,{"$f":"IF(B7057=\"\",\"\",IF(C7057=\"\",F7056,IF(E7057=\"\",F7056,E7057/MAX($E$9:E7057)-1)))","v":""}]
[null,null,null,null,null,{"$f":"IF(B7058=\"\",\"\",IF(C7058=\"\",F7057,IF(E7058=\"\",F7057,E7058/MAX($E$9:E7058)-1)))","v":""}]
[null,null,null,null,null,{"$f":"IF(B7059=\"\",\"\",IF(C7059=\"\",F7058,IF(E7059=\"\",F7058,E7059/MAX($E$9:E7059)-1)))","v":""}]
[null,null,null,null,null,{"$f":"IF(B7060=\"\",\"\",IF(C7060=\"\",F7059,IF(E7060=\"\",F7059,E7060/MAX($E$9:E7060)-1)))","v":""}]
[null,null,null,null,null,{"$f":"IF(B7061=\"\",\"\",IF(C7061=\"\",F7060,IF(E7061=\"\",F7060,E7061/MAX($E$9:E7061)-1)))","v":""}]
[null,null,null,null,null,{"$f":"IF(B7062=\"\",\"\",IF(C7062=\"\",F7061,IF(E7062=\"\",F7061,E7062/MAX($E$9:E7062)-1)))","v":""}]
[null,null,null,null,null,{"$f":"IF(B7063=\"\",\"\",IF(C7063=\"\",F7062,IF(E7063=\"\",F7062,E7063/MAX($E$9:E7063)-1)))","v":""}]
[null,null,null,null,null,{"$f":"IF(B7064=\"\",\"\",IF(C7064=\"\",F7063,IF(E7064=\"\",F7063,E7064/MAX($E$9:E7064)-1)))","v":""}]
[null,null,null,null,null,{"$f":"IF(B7065=\"\",\"\",IF(C7065=\"\",F7064,IF(E7065=\"\",F7064,E7065/MAX($E$9:E7065)-1)))","v":""}]
[null,null,null,null,null,{"$f":"IF(B7066=\"\",\"\",IF(C7066=\"\",F7065,IF(E7066=\"\",F7065,E7066/MAX($E$9:E7066)-1)))","v":""}]
[null,null,null,null,null,{"$f":"IF(B7067=\"\",\"\",IF(C7067=\"\",F7066,IF(E7067=\"\",F7066,E7067/MAX($E$9:E7067)-1)))","v":""}]
[null,null,null,null,null,{"$f":"IF(B7068=\"\",\"\",IF(C7068=\"\",F7067,IF(E7068=\"\",F7067,E7068/MAX($E$9:E7068)-1)))","v":""}]
[null,null,null,null,null,{"$f":"IF(B7069=\"\",\"\",IF(C7069=\"\",F7068,IF(E7069=\"\",F7068,E7069/MAX($E$9:E7069)-1)))","v":""}]
[null,null,null,null,null,{"$f":"IF(B7070=\"\",\"\",IF(C7070=\"\",F7069,IF(E7070=\"\",F7069,E7070/MAX($E$9:E7070)-1)))","v":""}]
[null,null,null,null,null,{"$f":"IF(B7071=\"\",\"\",IF(C7071=\"\",F7070,IF(E7071=\"\",F7070,E7071/MAX($E$9:E7071)-1)))","v":""}]
[null,null,null,null,null,{"$f":"IF(B7072=\"\",\"\",IF(C7072=\"\",F7071,IF(E7072=\"\",F7071,E7072/MAX($E$9:E7072)-1)))","v":""}]
[null,null,null,null,null,{"$f":"IF(B7073=\"\",\"\",IF(C7073=\"\",F7072,IF(E7073=\"\",F7072,E7073/MAX($E$9:E7073)-1)))","v":""}]
[null,null,null,null,null,{"$f":"IF(B7074=\"\",\"\",IF(C7074=\"\",F7073,IF(E7074=\"\",F7073,E7074/MAX($E$9:E7074)-1)))","v":""}]
[null,null,null,null,null,{"$f":"IF(B7075=\"\",\"\",IF(C7075=\"\",F7074,IF(E7075=\"\",F7074,E7075/MAX($E$9:E7075)-1)))","v":""}]
[null,null,null,null,null,{"$f":"IF(B7076=\"\",\"\",IF(C7076=\"\",F7075,IF(E7076=\"\",F7075,E7076/MAX($E$9:E7076)-1)))","v":""}]
[null,null,null,null,null,{"$f":"IF(B7077=\"\",\"\",IF(C7077=\"\",F7076,IF(E7077=\"\",F7076,E7077/MAX($E$9:E7077)-1)))","v":""}]
[null,null,null,null,null,{"$f":"IF(B7078=\"\",\"\",IF(C7078=\"\",F7077,IF(E7078=\"\",F7077,E7078/MAX($E$9:E7078)-1)))","v":""}]
[null,null,null,null,null,{"$f":"IF(B7079=\"\",\"\",IF(C7079=\"\",F7078,IF(E7079=\"\",F7078,E7079/MAX($E$9:E7079)-1)))","v":""}]
[null,null,null,null,null,{"$f":"IF(B7080=\"\",\"\",IF(C7080=\"\",F7079,IF(E7080=\"\",F7079,E7080/MAX($E$9:E7080)-1)))","v":""}]
[null,null,null,null,null,{"$f":"IF(B7081=\"\",\"\",IF(C7081=\"\",F7080,IF(E7081=\"\",F7080,E7081/MAX($E$9:E7081)-1)))","v":""}]
[null,null,null,null,null,{"$f":"IF(B7082=\"\",\"\",IF(C7082=\"\",F7081,IF(E7082=\"\",F7081,E7082/MAX($E$9:E7082)-1)))","v":""}]
[null,null,null,null,null,{"$f":"IF(B7083=\"\",\"\",IF(C7083=\"\",F7082,IF(E7083=\"\",F7082,E7083/MAX($E$9:E7083)-1)))","v":""}]
[null,null,null,null,null,{"$f":"IF(B7084=\"\",\"\",IF(C7084=\"\",F7083,IF(E7084=\"\",F7083,E7084/MAX($E$9:E7084)-1)))","v":""}]
[null,null,null,null,null,{"$f":"IF(B7085=\"\",\"\",IF(C7085=\"\",F7084,IF(E7085=\"\",F7084,E7085/MAX($E$9:E7085)-1)))","v":""}]
[null,null,null,null,null,{"$f":"IF(B7086=\"\",\"\",IF(C7086=\"\",F7085,IF(E7086=\"\",F7085,E7086/MAX($E$9:E7086)-1)))","v":""}]
[null,null,null,null,null,{"$f":"IF(B7087=\"\",\"\",IF(C7087=\"\",F7086,IF(E7087=\"\",F7086,E7087/MAX($E$9:E7087)-1)))","v":""}]
[null,null,null,null,null,{"$f":"IF(B7088=\"\",\"\",IF(C7088=\"\",F7087,IF(E7088=\"\",F7087,E7088/MAX($E$9:E7088)-1)))","v":""}]
[null,null,null,null,null,{"$f":"IF(B7089=\"\",\"\",IF(C7089=\"\",F7088,IF(E7089=\"\",F7088,E7089/MAX($E$9:E7089)-1)))","v":""}]
[null,null,null,null,null,{"$f":"IF(B7090=\"\",\"\",IF(C7090=\"\",F7089,IF(E7090=\"\",F7089,E7090/MAX($E$9:E7090)-1)))","v":""}]
[null,null,null,null,null,{"$f":"IF(B7091=\"\",\"\",IF(C7091=\"\",F7090,IF(E7091=\"\",F7090,E7091/MAX($E$9:E7091)-1)))","v":""}]
[null,null,null,null,null,{"$f":"IF(B7092=\"\",\"\",IF(C7092=\"\",F7091,IF(E7092=\"\",F7091,E7092/MAX($E$9:E7092)-1)))","v":""}]
[null,null,null,null,null,{"$f":"IF(B7093=\"\",\"\",IF(C7093=\"\",F7092,IF(E7093=\"\",F7092,E7093/MAX($E$9:E7093)-1)))","v":""}]
[null,null,null,null,null,{"$f":"IF(B7094=\"\",\"\",IF(C7094=\"\",F7093,IF(E7094=\"\",F7093,E7094/MAX($E$9:E7094)-1)))","v":""}]
[null,null,null,null,null,{"$f":"IF(B7095=\"\",\"\",IF(C7095=\"\",F7094,IF(E7095=\"\",F7094,E7095/MAX($E$9:E7095)-1)))","v":""}]
[null,null,null,null,null,{"$f":"IF(B7096=\"\",\"\",IF(C7096=\"\",F7095,IF(E7096=\"\",F7095,E7096/MAX($E$9:E7096)-1)))","v":""}]
[null,null,null,null,null,{"$f":"IF(B7097=\"\",\"\",IF(C7097=\"\",F7096,IF(E7097=\"\",F7096,E7097/MAX($E$9:E7097)-1)))","v":""}]
[null,null,null,null,null,{"$f":"IF(B7098=\"\",\"\",IF(C7098=\"\",F7097,IF(E7098=\"\",F7097,E7098/MAX($E$9:E7098)-1)))","v":""}]
[null,null,null,null,null,{"$f":"IF(B7099=\"\",\"\",IF(C7099=\"\",F7098,IF(E7099=\"\",F7098,E7099/MAX($E$9:E7099)-1)))","v":""}]
[null,null,null,null,null,{"$f":"IF(B7100=\"\",\"\",IF(C7100=\"\",F7099,IF(E7100=\"\",F7099,E7100/MAX($E$9:E7100)-1)))","v":""}]
[null,null,null,null,null,{"$f":"IF(B7101=\"\",\"\",IF(C7101=\"\",F7100,IF(E7101=\"\",F7100,E7101/MAX($E$9:E7101)-1)))","v":""}]
[null,null,null,null,null,{"$f":"IF(B7102=\"\",\"\",IF(C7102=\"\",F7101,IF(E7102=\"\",F7101,E7102/MAX($E$9:E7102)-1)))","v":""}]
[null,null,null,null,null,{"$f":"IF(B7103=\"\",\"\",IF(C7103=\"\",F7102,IF(E7103=\"\",F7102,E7103/MAX($E$9:E7103)-1)))","v":""}]
[null,null,null,null,null,{"$f":"IF(B7104=\"\",\"\",IF(C7104=\"\",F7103,IF(E7104=\"\",F7103,E7104/MAX($E$9:E7104)-1)))","v":""}]
[null,null,null,null,null,{"$f":"IF(B7105=\"\",\"\",IF(C7105=\"\",F7104,IF(E7105=\"\",F7104,E7105/MAX($E$9:E7105)-1)))","v":""}]
[null,null,null,null,null,{"$f":"IF(B7106=\"\",\"\",IF(C7106=\"\",F7105,IF(E7106=\"\",F7105,E7106/MAX($E$9:E7106)-1)))","v":""}]
[null,null,null,null,null,{"$f":"IF(B7107=\"\",\"\",IF(C7107=\"\",F7106,IF(E7107=\"\",F7106,E7107/MAX($E$9:E7107)-1)))","v":""}]
[null,null,null,null,null,{"$f":"IF(B7108=\"\",\"\",IF(C7108=\"\",F7107,IF(E7108=\"\",F7107,E7108/MAX($E$9:E7108)-1)))","v":""}]
[null,null,null,null,null,{"$f":"IF(B7109=\"\",\"\",IF(C7109=\"\",F7108,IF(E7109=\"\",F7108,E7109/MAX($E$9:E7109)-1)))","v":""}]
[null,null,null,null,null,{"$f":"IF(B7110=\"\",\"\",IF(C7110=\"\",F7109,IF(E7110=\"\",F7109,E7110/MAX($E$9:E7110)-1)))","v":""}]
[null,null,null,null,null,{"$f":"IF(B7111=\"\",\"\",IF(C7111=\"\",F7110,IF(E7111=\"\",F7110,E7111/MAX($E$9:E7111)-1)))","v":""}]
[null,null,null,null,null,{"$f":"IF(B7112=\"\",\"\",IF(C7112=\"\",F7111,IF(E7112=\"\",F7111,E7112/MAX($E$9:E7112)-1)))","v":""}]
[null,null,null,null,null,{"$f":"IF(B7113=\"\",\"\",IF(C7113=\"\",F7112,IF(E7113=\"\",F7112,E7113/MAX($E$9:E7113)-1)))","v":""}]
[null,null,null,null,null,{"$f":"IF(B7114=\"\",\"\",IF(C7114=\"\",F7113,IF(E7114=\"\",F7113,E7114/MAX($E$9:E7114)-1)))","v":""}]
[null,null,null,null,null,{"$f":"IF(B7115=\"\",\"\",IF(C7115=\"\",F7114,IF(E7115=\"\",F7114,E7115/MAX($E$9:E7115)-1)))","v":""}]
[null,null,null,null,null,{"$f":"IF(B7116=\"\",\"\",IF(C7116=\"\",F7115,IF(E7116=\"\",F7115,E7116/MAX($E$9:E7116)-1)))","v":""}]
[null,null,null,null,null,{"$f":"IF(B7117=\"\",\"\",IF(C7117=\"\",F7116,IF(E7117=\"\",F7116,E7117/MAX($E$9:E7117)-1)))","v":""}]
[null,null,null,null,null,{"$f":"IF(B7118=\"\",\"\",IF(C7118=\"\",F7117,IF(E7118=\"\",F7117,E7118/MAX($E$9:E7118)-1)))","v":""}]
[null,null,null,null,null,{"$f":"IF(B7119=\"\",\"\",IF(C7119=\"\",F7118,IF(E7119=\"\",F7118,E7119/MAX($E$9:E7119)-1)))","v":""}]
[null,null,null,null,null,{"$f":"IF(B7120=\"\",\"\",IF(C7120=\"\",F7119,IF(E7120=\"\",F7119,E7120/MAX($E$9:E7120)-1)))","v":""}]
[null,null,null,null,null,{"$f":"IF(B7121=\"\",\"\",IF(C7121=\"\",F7120,IF(E7121=\"\",F7120,E7121/MAX($E$9:E7121)-1)))","v":""}]
[null,null,null,null,null,{"$f":"IF(B7122=\"\",\"\",IF(C7122=\"\",F7121,IF(E7122=\"\",F7121,E7122/MAX($E$9:E7122)-1)))","v":""}]
[null,null,null,null,null,{"$f":"IF(B7123=\"\",\"\",IF(C7123=\"\",F7122,IF(E7123=\"\",F7122,E7123/MAX($E$9:E7123)-1)))","v":""}]
[null,null,null,null,null,{"$f":"IF(B7124=\"\",\"\",IF(C7124=\"\",F7123,IF(E7124=\"\",F7123,E7124/MAX($E$9:E7124)-1)))","v":""}]
[null,null,null,null,null,{"$f":"IF(B7125=\"\",\"\",IF(C7125=\"\",F7124,IF(E7125=\"\",F7124,E7125/MAX($E$9:E7125)-1)))","v":""}]
[null,null,null,null,null,{"$f":"IF(B7126=\"\",\"\",IF(C7126=\"\",F7125,IF(E7126=\"\",F7125,E7126/MAX($E$9:E7126)-1)))","v":""}]
[null,null,null,null,null,{"$f":"IF(B7127=\"\",\"\",IF(C7127=\"\",F7126,IF(E7127=\"\",F7126,E7127/MAX($E$9:E7127)-1)))","v":""}]
[null,null,null,null,null,{"$f":"IF(B7128=\"\",\"\",IF(C7128=\"\",F7127,IF(E7128=\"\",F7127,E7128/MAX($E$9:E7128)-1)))","v":""}]
[null,null,null,null,null,{"$f":"IF(B7129=\"\",\"\",IF(C7129=\"\",F7128,IF(E7129=\"\",F7128,E7129/MAX($E$9:E7129)-1)))","v":""}]
[null,null,null,null,null,{"$f":"IF(B7130=\"\",\"\",IF(C7130=\"\",F7129,IF(E7130=\"\",F7129,E7130/MAX($E$9:E7130)-1)))","v":""}]
[null,null,null,null,null,{"$f":"IF(B7131=\"\",\"\",IF(C7131=\"\",F7130,IF(E7131=\"\",F7130,E7131/MAX($E$9:E7131)-1)))","v":""}]
[null,null,null,null,null,{"$f":"IF(B7132=\"\",\"\",IF(C7132=\"\",F7131,IF(E7132=\"\",F7131,E7132/MAX($E$9:E7132)-1)))","v":""}]
[null,null,null,null,null,{"$f":"IF(B7133=\"\",\"\",IF(C7133=\"\",F7132,IF(E7133=\"\",F7132,E7133/MAX($E$9:E7133)-1)))","v":""}]
[null,null,null,null,null,{"$f":"IF(B7134=\"\",\"\",IF(C7134=\"\",F7133,IF(E7134=\"\",F7133,E7134/MAX($E$9:E7134)-1)))","v":""}]
[null,null,null,null,null,{"$f":"IF(B7135=\"\",\"\",IF(C7135=\"\",F7134,IF(E7135=\"\",F7134,E7135/MAX($E$9:E7135)-1)))","v":""}]
[null,null,null,null,null,{"$f":"IF(B7136=\"\",\"\",IF(C7136=\"\",F7135,IF(E7136=\"\",F7135,E7136/MAX($E$9:E7136)-1)))","v":""}]
[null,null,null,null,null,{"$f":"IF(B7137=\"\",\"\",IF(C7137=\"\",F7136,IF(E7137=\"\",F7136,E7137/MAX($E$9:E7137)-1)))","v":""}]
[null,null,null,null,null,{"$f":"IF(B7138=\"\",\"\",IF(C7138=\"\",F7137,IF(E7138=\"\",F7137,E7138/MAX($E$9:E7138)-1)))","v":""}]
[null,null,null,null,null,{"$f":"IF(B7139=\"\",\"\",IF(C7139=\"\",F7138,IF(E7139=\"\",F7138,E7139/MAX($E$9:E7139)-1)))","v":""}]
[null,null,null,null,null,{"$f":"IF(B7140=\"\",\"\",IF(C7140=\"\",F7139,IF(E7140=\"\",F7139,E7140/MAX($E$9:E7140)-1)))","v":""}]
[null,null,null,null,null,{"$f":"IF(B7141=\"\",\"\",IF(C7141=\"\",F7140,IF(E7141=\"\",F7140,E7141/MAX($E$9:E7141)-1)))","v":""}]
[null,null,null,null,null,{"$f":"IF(B7142=\"\",\"\",IF(C7142=\"\",F7141,IF(E7142=\"\",F7141,E7142/MAX($E$9:E7142)-1)))","v":""}]
[null,null,null,null,null,{"$f":"IF(B7143=\"\",\"\",IF(C7143=\"\",F7142,IF(E7143=\"\",F7142,E7143/MAX($E$9:E7143)-1)))","v":""}]
[null,null,null,null,null,{"$f":"IF(B7144=\"\",\"\",IF(C7144=\"\",F7143,IF(E7144=\"\",F7143,E7144/MAX($E$9:E7144)-1)))","v":""}]
[null,null,null,null,null,{"$f":"IF(B7145=\"\",\"\",IF(C7145=\"\",F7144,IF(E7145=\"\",F7144,E7145/MAX($E$9:E7145)-1)))","v":""}]
[null,null,null,null,null,{"$f":"IF(B7146=\"\",\"\",IF(C7146=\"\",F7145,IF(E7146=\"\",F7145,E7146/MAX($E$9:E7146)-1)))","v":""}]
[null,null,null,null,null,{"$f":"IF(B7147=\"\",\"\",IF(C7147=\"\",F7146,IF(E7147=\"\",F7146,E7147/MAX($E$9:E7147)-1)))","v":""}]
[null,null,null,null,null,{"$f":"IF(B7148=\"\",\"\",IF(C7148=\"\",F7147,IF(E7148=\"\",F7147,E7148/MAX($E$9:E7148)-1)))","v":""}]
[null,null,null,null,null,{"$f":"IF(B7149=\"\",\"\",IF(C7149=\"\",F7148,IF(E7149=\"\",F7148,E7149/MAX($E$9:E7149)-1)))","v":""}]
[null,null,null,null,null,{"$f":"IF(B7150=\"\",\"\",IF(C7150=\"\",F7149,IF(E7150=\"\",F7149,E7150/MAX($E$9:E7150)-1)))","v":""}]
[null,null,null,null,null,{"$f":"IF(B7151=\"\",\"\",IF(C7151=\"\",F7150,IF(E7151=\"\",F7150,E7151/MAX($E$9:E7151)-1)))","v":""}]
[null,null,null,null,null,{"$f":"IF(B7152=\"\",\"\",IF(C7152=\"\",F7151,IF(E7152=\"\",F7151,E7152/MAX($E$9:E7152)-1)))","v":""}]
[null,null,null,null,null,{"$f":"IF(B7153=\"\",\"\",IF(C7153=\"\",F7152,IF(E7153=\"\",F7152,E7153/MAX($E$9:E7153)-1)))","v":""}]
[null,null,null,null,null,{"$f":"IF(B7154=\"\",\"\",IF(C7154=\"\",F7153,IF(E7154=\"\",F7153,E7154/MAX($E$9:E7154)-1)))","v":""}]
[null,null,null,null,null,{"$f":"IF(B7155=\"\",\"\",IF(C7155=\"\",F7154,IF(E7155=\"\",F7154,E7155/MAX($E$9:E7155)-1)))","v":""}]
[null,null,null,null,null,{"$f":"IF(B7156=\"\",\"\",IF(C7156=\"\",F7155,IF(E7156=\"\",F7155,E7156/MAX($E$9:E7156)-1)))","v":""}]
[null,null,null,null,null,{"$f":"IF(B7157=\"\",\"\",IF(C7157=\"\",F7156,IF(E7157=\"\",F7156,E7157/MAX($E$9:E7157)-1)))","v":""}]
[null,null,null,null,null,{"$f":"IF(B7158=\"\",\"\",IF(C7158=\"\",F7157,IF(E7158=\"\",F7157,E7158/MAX($E$9:E7158)-1)))","v":""}]
[null,null,null,null,null,{"$f":"IF(B7159=\"\",\"\",IF(C7159=\"\",F7158,IF(E7159=\"\",F7158,E7159/MAX($E$9:E7159)-1)))","v":""}]
[null,null,null,null,null,{"$f":"IF(B7160=\"\",\"\",IF(C7160=\"\",F7159,IF(E7160=\"\",F7159,E7160/MAX($E$9:E7160)-1)))","v":""}]
[null,null,null,null,null,{"$f":"IF(B7161=\"\",\"\",IF(C7161=\"\",F7160,IF(E7161=\"\",F7160,E7161/MAX($E$9:E7161)-1)))","v":""}]
[null,null,null,null,null,{"$f":"IF(B7162=\"\",\"\",IF(C7162=\"\",F7161,IF(E7162=\"\",F7161,E7162/MAX($E$9:E7162)-1)))","v":""}]
[null,null,null,null,null,{"$f":"IF(B7163=\"\",\"\",IF(C7163=\"\",F7162,IF(E7163=\"\",F7162,E7163/MAX($E$9:E7163)-1)))","v":""}]
[null,null,null,null,null,{"$f":"IF(B7164=\"\",\"\",IF(C7164=\"\",F7163,IF(E7164=\"\",F7163,E7164/MAX($E$9:E7164)-1)))","v":""}]
[null,null,null,null,null,{"$f":"IF(B7165=\"\",\"\",IF(C7165=\"\",F7164,IF(E7165=\"\",F7164,E7165/MAX($E$9:E7165)-1)))","v":""}]
[null,null,null,null,null,{"$f":"IF(B7166=\"\",\"\",IF(C7166=\"\",F7165,IF(E7166=\"\",F7165,E7166/MAX($E$9:E7166)-1)))","v":""}]
[null,null,null,null,null,{"$f":"IF(B7167=\"\",\"\",IF(C7167=\"\",F7166,IF(E7167=\"\",F7166,E7167/MAX($E$9:E7167)-1)))","v":""}]
[null,null,null,null,null,{"$f":"IF(B7168=\"\",\"\",IF(C7168=\"\",F7167,IF(E7168=\"\",F7167,E7168/MAX($E$9:E7168)-1)))","v":""}]
[null,null,null,null,null,{"$f":"IF(B7169=\"\",\"\",IF(C7169=\"\",F7168,IF(E7169=\"\",F7168,E7169/MAX($E$9:E7169)-1)))","v":""}]
[null,null,null,null,null,{"$f":"IF(B7170=\"\",\"\",IF(C7170=\"\",F7169,IF(E7170=\"\",F7169,E7170/MAX($E$9:E7170)-1)))","v":""}]
[null,null,null,null,null,{"$f":"IF(B7171=\"\",\"\",IF(C7171=\"\",F7170,IF(E7171=\"\",F7170,E7171/MAX($E$9:E7171)-1)))","v":""}]
[null,null,null,null,null,{"$f":"IF(B7172=\"\",\"\",IF(C7172=\"\",F7171,IF(E7172=\"\",F7171,E7172/MAX($E$9:E7172)-1)))","v":""}]
[null,null,null,null,null,{"$f":"IF(B7173=\"\",\"\",IF(C7173=\"\",F7172,IF(E7173=\"\",F7172,E7173/MAX($E$9:E7173)-1)))","v":""}]
[null,null,null,null,null,{"$f":"IF(B7174=\"\",\"\",IF(C7174=\"\",F7173,IF(E7174=\"\",F7173,E7174/MAX($E$9:E7174)-1)))","v":""}]
[null,null,null,null,null,{"$f":"IF(B7175=\"\",\"\",IF(C7175=\"\",F7174,IF(E7175=\"\",F7174,E7175/MAX($E$9:E7175)-1)))","v":""}]
[null,null,null,null,null,{"$f":"IF(B7176=\"\",\"\",IF(C7176=\"\",F7175,IF(E7176=\"\",F7175,E7176/MAX($E$9:E7176)-1)))","v":""}]
[null,null,null,null,null,{"$f":"IF(B7177=\"\",\"\",IF(C7177=\"\",F7176,IF(E7177=\"\",F7176,E7177/MAX($E$9:E7177)-1)))","v":""}]
[null,null,null,null,null,{"$f":"IF(B7178=\"\",\"\",IF(C7178=\"\",F7177,IF(E7178=\"\",F7177,E7178/MAX($E$9:E7178)-1)))","v":""}]
[null,null,null,null,null,{"$f":"IF(B7179=\"\",\"\",IF(C7179=\"\",F7178,IF(E7179=\"\",F7178,E7179/MAX($E$9:E7179)-1)))","v":""}]
[null,null,null,null,null,{"$f":"IF(B7180=\"\",\"\",IF(C7180=\"\",F7179,IF(E7180=\"\",F7179,E7180/MAX($E$9:E7180)-1)))","v":""}]
[null,null,null,null,null,{"$f":"IF(B7181=\"\",\"\",IF(C7181=\"\",F7180,IF(E7181=\"\",F7180,E7181/MAX($E$9:E7181)-1)))","v":""}]
[null,null,null,null,null,{"$f":"IF(B7182=\"\",\"\",IF(C7182=\"\",F7181,IF(E7182=\"\",F7181,E7182/MAX($E$9:E7182)-1)))","v":""}]
[null,null,null,null,null,{"$f":"IF(B7183=\"\",\"\",IF(C7183=\"\",F7182,IF(E7183=\"\",F7182,E7183/MAX($E$9:E7183)-1)))","v":""}]
[null,null,null,null,null,{"$f":"IF(B7184=\"\",\"\",IF(C7184=\"\",F7183,IF(E7184=\"\",F7183,E7184/MAX($E$9:E7184)-1)))","v":""}]
[null,null,null,null,null,{"$f":"IF(B7185=\"\",\"\",IF(C7185=\"\",F7184,IF(E7185=\"\",F7184,E7185/MAX($E$9:E7185)-1)))","v":""}]
[null,null,null,null,null,{"$f":"IF(B7186=\"\",\"\",IF(C7186=\"\",F7185,IF(E7186=\"\",F7185,E7186/MAX($E$9:E7186)-1)))","v":""}]
[null,null,null,null,null,{"$f":"IF(B7187=\"\",\"\",IF(C7187=\"\",F7186,IF(E7187=\"\",F7186,E7187/MAX($E$9:E7187)-1)))","v":""}]
[null,null,null,null,null,{"$f":"IF(B7188=\"\",\"\",IF(C7188=\"\",F7187,IF(E7188=\"\",F7187,E7188/MAX($E$9:E7188)-1)))","v":""}]
[null,null,null,null,null,{"$f":"IF(B7189=\"\",\"\",IF(C7189=\"\",F7188,IF(E7189=\"\",F7188,E7189/MAX($E$9:E7189)-1)))","v":""}]
[null,null,null,null,null,{"$f":"IF(B7190=\"\",\"\",IF(C7190=\"\",F7189,IF(E7190=\"\",F7189,E7190/MAX($E$9:E7190)-1)))","v":""}]
[null,null,null,null,null,{"$f":"IF(B7191=\"\",\"\",IF(C7191=\"\",F7190,IF(E7191=\"\",F7190,E7191/MAX($E$9:E7191)-1)))","v":""}]
[null,null,null,null,null,{"$f":"IF(B7192=\"\",\"\",IF(C7192=\"\",F7191,IF(E7192=\"\",F7191,E7192/MAX($E$9:E7192)-1)))","v":""}]
[null,null,null,null,null,{"$f":"IF(B7193=\"\",\"\",IF(C7193=\"\",F7192,IF(E7193=\"\",F7192,E7193/MAX($E$9:E7193)-1)))","v":""}]
[null,null,null,null,null,{"$f":"IF(B7194=\"\",\"\",IF(C7194=\"\",F7193,IF(E7194=\"\",F7193,E7194/MAX($E$9:E7194)-1)))","v":""}]
[null,null,null,null,null,{"$f":"IF(B7195=\"\",\"\",IF(C7195=\"\",F7194,IF(E7195=\"\",F7194,E7195/MAX($E$9:E7195)-1)))","v":""}]
[null,null,null,null,null,{"$f":"IF(B7196=\"\",\"\",IF(C7196=\"\",F7195,IF(E7196=\"\",F7195,E7196/MAX($E$9:E7196)-1)))","v":""}]
[null,null,null,null,null,{"$f":"IF(B7197=\"\",\"\",IF(C7197=\"\",F7196,IF(E7197=\"\",F7196,E7197/MAX($E$9:E7197)-1)))","v":""}]
[null,null,null,null,null,{"$f":"IF(B7198=\"\",\"\",IF(C7198=\"\",F7197,IF(E7198=\"\",F7197,E7198/MAX($E$9:E7198)-1)))","v":""}]
[null,null,null,null,null,{"$f":"IF(B7199=\"\",\"\",IF(C7199=\"\",F7198,IF(E7199=\"\",F7198,E7199/MAX($E$9:E7199)-1)))","v":""}]
[null,null,null,null,null,{"$f":"IF(B7200=\"\",\"\",IF(C7200=\"\",F7199,IF(E7200=\"\",F7199,E7200/MAX($E$9:E7200)-1)))","v":""}]
[null,null,null,null,null,{"$f":"IF(B7201=\"\",\"\",IF(C7201=\"\",F7200,IF(E7201=\"\",F7200,E7201/MAX($E$9:E7201)-1)))","v":""}]
[null,null,null,null,null,{"$f":"IF(B7202=\"\",\"\",IF(C7202=\"\",F7201,IF(E7202=\"\",F7201,E7202/MAX($E$9:E7202)-1)))","v":""}]
[null,null,null,null,null,{"$f":"IF(B7203=\"\",\"\",IF(C7203=\"\",F7202,IF(E7203=\"\",F7202,E7203/MAX($E$9:E7203)-1)))","v":""}]
[null,null,null,null,null,{"$f":"IF(B7204=\"\",\"\",IF(C7204=\"\",F7203,IF(E7204=\"\",F7203,E7204/MAX($E$9:E7204)-1)))","v":""}]
[null,null,null,null,null,{"$f":"IF(B7205=\"\",\"\",IF(C7205=\"\",F7204,IF(E7205=\"\",F7204,E7205/MAX($E$9:E7205)-1)))","v":""}]
[null,null,null,null,null,{"$f":"IF(B7206=\"\",\"\",IF(C7206=\"\",F7205,IF(E7206=\"\",F7205,E7206/MAX($E$9:E7206)-1)))","v":""}]
[null,null,null,null,null,{"$f":"IF(B7207=\"\",\"\",IF(C7207=\"\",F7206,IF(E7207=\"\",F7206,E7207/MAX($E$9:E7207)-1)))","v":""}]
[null,null,null,null,null,{"$f":"IF(B7208=\"\",\"\",IF(C7208=\"\",F7207,IF(E7208=\"\",F7207,E7208/MAX($E$9:E7208)-1)))","v":""}]
[null,null,null,null,null,{"$f":"IF(B7209=\"\",\"\",IF(C7209=\"\",F7208,IF(E7209=\"\",F7208,E7209/MAX($E$9:E7209)-1)))","v":""}]
[null,null,null,null,null,{"$f":"IF(B7210=\"\",\"\",IF(C7210=\"\",F7209,IF(E7210=\"\",F7209,E7210/MAX($E$9:E7210)-1)))","v":""}]
[null,null,null,null,null,{"$f":"IF(B7211=\"\",\"\",IF(C7211=\"\",F7210,IF(E7211=\"\",F7210,E7211/MAX($E$9:E7211)-1)))","v":""}]
[null,null,null,null,null,{"$f":"IF(B7212=\"\",\"\",IF(C7212=\"\",F7211,IF(E7212=\"\",F7211,E7212/MAX($E$9:E7212)-1)))","v":""}]
[null,null,null,null,null,{"$f":"IF(B7213=\"\",\"\",IF(C7213=\"\",F7212,IF(E7213=\"\",F7212,E7213/MAX($E$9:E7213)-1)))","v":""}]
[null,null,null,null,null,{"$f":"IF(B7214=\"\",\"\",IF(C7214=\"\",F7213,IF(E7214=\"\",F7213,E7214/MAX($E$9:E7214)-1)))","v":""}]
[null,null,null,null,null,{"$f":"IF(B7215=\"\",\"\",IF(C7215=\"\",F7214,IF(E7215=\"\",F7214,E7215/MAX($E$9:E7215)-1)))","v":""}]
[null,null,null,null,null,{"$f":"IF(B7216=\"\",\"\",IF(C7216=\"\",F7215,IF(E7216=\"\",F7215,E7216/MAX($E$9:E7216)-1)))","v":""}]
[null,null,null,null,null,{"$f":"IF(B7217=\"\",\"\",IF(C7217=\"\",F7216,IF(E7217=\"\",F7216,E7217/MAX($E$9:E7217)-1)))","v":""}]
[null,null,null,null,null,{"$f":"IF(B7218=\"\",\"\",IF(C7218=\"\",F7217,IF(E7218=\"\",F7217,E7218/MAX($E$9:E7218)-1)))","v":""}]
[null,null,null,null,null,{"$f":"IF(B7219=\"\",\"\",IF(C7219=\"\",F7218,IF(E7219=\"\",F7218,E7219/MAX($E$9:E7219)-1)))","v":""}]
[null,null,null,null,null,{"$f":"IF(B7220=\"\",\"\",IF(C7220=\"\",F7219,IF(E7220=\"\",F7219,E7220/MAX($E$9:E7220)-1)))","v":""}]
[null,null,null,null,null,{"$f":"IF(B7221=\"\",\"\",IF(C7221=\"\",F7220,IF(E7221=\"\",F7220,E7221/MAX($E$9:E7221)-1)))","v":""}]
[null,null,null,null,null,{"$f":"IF(B7222=\"\",\"\",IF(C7222=\"\",F7221,IF(E7222=\"\",F7221,E7222/MAX($E$9:E7222)-1)))","v":""}]
[null,null,null,null,null,{"$f":"IF(B7223=\"\",\"\",IF(C7223=\"\",F7222,IF(E7223=\"\",F7222,E7223/MAX($E$9:E7223)-1)))","v":""}]
[null,null,null,null,null,{"$f":"IF(B7224=\"\",\"\",IF(C7224=\"\",F7223,IF(E7224=\"\",F7223,E7224/MAX($E$9:E7224)-1)))","v":""}]
[null,null,null,null,null,{"$f":"IF(B7225=\"\",\"\",IF(C7225=\"\",F7224,IF(E7225=\"\",F7224,E7225/MAX($E$9:E7225)-1)))","v":""}]
[null,null,null,null,null,{"$f":"IF(B7226=\"\",\"\",IF(C7226=\"\",F7225,IF(E7226=\"\",F7225,E7226/MAX($E$9:E7226)-1)))","v":""}]
[null,null,null,null,null,{"$f":"IF(B7227=\"\",\"\",IF(C7227=\"\",F7226,IF(E7227=\"\",F7226,E7227/MAX($E$9:E7227)-1)))","v":""}]
[null,null,null,null,null,{"$f":"IF(B7228=\"\",\"\",IF(C7228=\"\",F7227,IF(E7228=\"\",F7227,E7228/MAX($E$9:E7228)-1)))","v":""}]
[null,null,null,null,null,{"$f":"IF(B7229=\"\",\"\",IF(C7229=\"\",F7228,IF(E7229=\"\",F7228,E7229/MAX($E$9:E7229)-1)))","v":""}]
[null,null,null,null,null,{"$f":"IF(B7230=\"\",\"\",IF(C7230=\"\",F7229,IF(E7230=\"\",F7229,E7230/MAX($E$9:E7230)-1)))","v":""}]
[null,null,null,null,null,{"$f":"IF(B7231=\"\",\"\",IF(C7231=\"\",F7230,IF(E7231=\"\",F7230,E7231/MAX($E$9:E7231)-1)))","v":""}]
[null,null,null,null,null,{"$f":"IF(B7232=\"\",\"\",IF(C7232=\"\",F7231,IF(E7232=\"\",F7231,E7232/MAX($E$9:E7232)-1)))","v":""}]
[null,null,null,null,null,{"$f":"IF(B7233=\"\",\"\",IF(C7233=\"\",F7232,IF(E7233=\"\",F7232,E7233/MAX($E$9:E7233)-1)))","v":""}]
[null,null,null,null,null,{"$f":"IF(B7234=\"\",\"\",IF(C7234=\"\",F7233,IF(E7234=\"\",F7233,E7234/MAX($E$9:E7234)-1)))","v":""}]
[null,null,null,null,null,{"$f":"IF(B7235=\"\",\"\",IF(C7235=\"\",F7234,IF(E7235=\"\",F7234,E7235/MAX($E$9:E7235)-1)))","v":""}]
[null,null,null,null,null,{"$f":"IF(B7236=\"\",\"\",IF(C7236=\"\",F7235,IF(E7236=\"\",F7235,E7236/MAX($E$9:E7236)-1)))","v":""}]
[null,null,null,null,null,{"$f":"IF(B7237=\"\",\"\",IF(C7237=\"\",F7236,IF(E7237=\"\",F7236,E7237/MAX($E$9:E7237)-1)))","v":""}]
[null,null,null,null,null,{"$f":"IF(B7238=\"\",\"\",IF(C7238=\"\",F7237,IF(E7238=\"\",F7237,E7238/MAX($E$9:E7238)-1)))","v":""}]
[null,null,null,null,null,{"$f":"IF(B7239=\"\",\"\",IF(C7239=\"\",F7238,IF(E7239=\"\",F7238,E7239/MAX($E$9:E7239)-1)))","v":""}]
[null,null,null,null,null,{"$f":"IF(B7240=\"\",\"\",IF(C7240=\"\",F7239,IF(E7240=\"\",F7239,E7240/MAX($E$9:E7240)-1)))","v":""}]
[null,null,null,null,null,{"$f":"IF(B7241=\"\",\"\",IF(C7241=\"\",F7240,IF(E7241=\"\",F7240,E7241/MAX($E$9:E7241)-1)))","v":""}]
[null,null,null,null,null,{"$f":"IF(B7242=\"\",\"\",IF(C7242=\"\",F7241,IF(E7242=\"\",F7241,E7242/MAX($E$9:E7242)-1)))","v":""}]
[null,null,null,null,null,{"$f":"IF(B7243=\"\",\"\",IF(C7243=\"\",F7242,IF(E7243=\"\",F7242,E7243/MAX($E$9:E7243)-1)))","v":""}]
[null,null,null,null,null,{"$f":"IF(B7244=\"\",\"\",IF(C7244=\"\",F7243,IF(E7244=\"\",F7243,E7244/MAX($E$9:E7244)-1)))","v":""}]
[null,null,null,null,null,{"$f":"IF(B7245=\"\",\"\",IF(C7245=\"\",F7244,IF(E7245=\"\",F7244,E7245/MAX($E$9:E7245)-1)))","v":""}]
[null,null,null,null,null,{"$f":"IF(B7246=\"\",\"\",IF(C7246=\"\",F7245,IF(E7246=\"\",F7245,E7246/MAX($E$9:E7246)-1)))","v":""}]
[null,null,null,null,null,{"$f":"IF(B7247=\"\",\"\",IF(C7247=\"\",F7246,IF(E7247=\"\",F7246,E7247/MAX($E$9:E7247)-1)))","v":""}]
[null,null,null,null,null,{"$f":"IF(B7248=\"\",\"\",IF(C7248=\"\",F7247,IF(E7248=\"\",F7247,E7248/MAX($E$9:E7248)-1)))","v":""}]
[null,null,null,null,null,{"$f":"IF(B7249=\"\",\"\",IF(C7249=\"\",F7248,IF(E7249=\"\",F7248,E7249/MAX($E$9:E7249)-1)))","v":""}]
[null,null,null,null,null,{"$f":"IF(B7250=\"\",\"\",IF(C7250=\"\",F7249,IF(E7250=\"\",F7249,E7250/MAX($E$9:E7250)-1)))","v":""}]
[null,null,null,null,null,{"$f":"IF(B7251=\"\",\"\",IF(C7251=\"\",F7250,IF(E7251=\"\",F7250,E7251/MAX($E$9:E7251)-1)))","v":""}]
[null,null,null,null,null,{"$f":"IF(B7252=\"\",\"\",IF(C7252=\"\",F7251,IF(E7252=\"\",F7251,E7252/MAX($E$9:E7252)-1)))","v":""}]
[null,null,null,null,null,{"$f":"IF(B7253=\"\",\"\",IF(C7253=\"\",F7252,IF(E7253=\"\",F7252,E7253/MAX($E$9:E7253)-1)))","v":""}]
[null,null,null,null,null,{"$f":"IF(B7254=\"\",\"\",IF(C7254=\"\",F7253,IF(E7254=\"\",F7253,E7254/MAX($E$9:E7254)-1)))","v":""}]
[null,null,null,null,null,{"$f":"IF(B7255=\"\",\"\",IF(C7255=\"\",F7254,IF(E7255=\"\",F7254,E7255/MAX($E$9:E7255)-1)))","v":""}]
[null,null,null,null,null,{"$f":"IF(B7256=\"\",\"\",IF(C7256=\"\",F7255,IF(E7256=\"\",F7255,E7256/MAX($E$9:E7256)-1)))","v":""}]
[null,null,null,null,null,{"$f":"IF(B7257=\"\",\"\",IF(C7257=\"\",F7256,IF(E7257=\"\",F7256,E7257/MAX($E$9:E7257)-1)))","v":""}]
[null,null,null,null,null,{"$f":"IF(B7258=\"\",\"\",IF(C7258=\"\",F7257,IF(E7258=\"\",F7257,E7258/MAX($E$9:E7258)-1)))","v":""}]
[null,null,null,null,null,{"$f":"IF(B7259=\"\",\"\",IF(C7259=\"\",F7258,IF(E7259=\"\",F7258,E7259/MAX($E$9:E7259)-1)))","v":""}]
[null,null,null,null,null,{"$f":"IF(B7260=\"\",\"\",IF(C7260=\"\",F7259,IF(E7260=\"\",F7259,E7260/MAX($E$9:E7260)-1)))","v":""}]
[null,null,null,null,null,{"$f":"IF(B7261=\"\",\"\",IF(C7261=\"\",F7260,IF(E7261=\"\",F7260,E7261/MAX($E$9:E7261)-1)))","v":""}]
[null,null,null,null,null,{"$f":"IF(B7262=\"\",\"\",IF(C7262=\"\",F7261,IF(E7262=\"\",F7261,E7262/MAX($E$9:E7262)-1)))","v":""}]
[null,null,null,null,null,{"$f":"IF(B7263=\"\",\"\",IF(C7263=\"\",F7262,IF(E7263=\"\",F7262,E7263/MAX($E$9:E7263)-1)))","v":""}]
[null,null,null,null,null,{"$f":"IF(B7264=\"\",\"\",IF(C7264=\"\",F7263,IF(E7264=\"\",F7263,E7264/MAX($E$9:E7264)-1)))","v":""}]
[null,null,null,null,null,{"$f":"IF(B7265=\"\",\"\",IF(C7265=\"\",F7264,IF(E7265=\"\",F7264,E7265/MAX($E$9:E7265)-1)))","v":""}]
[null,null,null,null,null,{"$f":"IF(B7266=\"\",\"\",IF(C7266=\"\",F7265,IF(E7266=\"\",F7265,E7266/MAX($E$9:E7266)-1)))","v":""}]
[null,null,null,null,null,{"$f":"IF(B7267=\"\",\"\",IF(C7267=\"\",F7266,IF(E7267=\"\",F7266,E7267/MAX($E$9:E7267)-1)))","v":""}]
[null,null,null,null,null,{"$f":"IF(B7268=\"\",\"\",IF(C7268=\"\",F7267,IF(E7268=\"\",F7267,E7268/MAX($E$9:E7268)-1)))","v":""}]
[null,null,null,null,null,{"$f":"IF(B7269=\"\",\"\",IF(C7269=\"\",F7268,IF(E7269=\"\",F7268,E7269/MAX($E$9:E7269)-1)))","v":""}]
[null,null,null,null,null,{"$f":"IF(B7270=\"\",\"\",IF(C7270=\"\",F7269,IF(E7270=\"\",F7269,E7270/MAX($E$9:E7270)-1)))","v":""}]
[null,null,null,null,null,{"$f":"IF(B7271=\"\",\"\",IF(C7271=\"\",F7270,IF(E7271=\"\",F7270,E7271/MAX($E$9:E7271)-1)))","v":""}]
[null,null,null,null,null,{"$f":"IF(B7272=\"\",\"\",IF(C7272=\"\",F7271,IF(E7272=\"\",F7271,E7272/MAX($E$9:E7272)-1)))","v":""}]
[null,null,null,null,null,{"$f":"IF(B7273=\"\",\"\",IF(C7273=\"\",F7272,IF(E7273=\"\",F7272,E7273/MAX($E$9:E7273)-1)))","v":""}]
[null,null,null,null,null,{"$f":"IF(B7274=\"\",\"\",IF(C7274=\"\",F7273,IF(E7274=\"\",F7273,E7274/MAX($E$9:E7274)-1)))","v":""}]
[null,null,null,null,null,{"$f":"IF(B7275=\"\",\"\",IF(C7275=\"\",F7274,IF(E7275=\"\",F7274,E7275/MAX($E$9:E7275)-1)))","v":""}]
[null,null,null,null,null,{"$f":"IF(B7276=\"\",\"\",IF(C7276=\"\",F7275,IF(E7276=\"\",F7275,E7276/MAX($E$9:E7276)-1)))","v":""}]
[null,null,null,null,null,{"$f":"IF(B7277=\"\",\"\",IF(C7277=\"\",F7276,IF(E7277=\"\",F7276,E7277/MAX($E$9:E7277)-1)))","v":""}]
[null,null,null,null,null,{"$f":"IF(B7278=\"\",\"\",IF(C7278=\"\",F7277,IF(E7278=\"\",F7277,E7278/MAX($E$9:E7278)-1)))","v":""}]
[null,null,null,null,null,{"$f":"IF(B7279=\"\",\"\",IF(C7279=\"\",F7278,IF(E7279=\"\",F7278,E7279/MAX($E$9:E7279)-1)))","v":""}]
[null,null,null,null,null,{"$f":"IF(B7280=\"\",\"\",IF(C7280=\"\",F7279,IF(E7280=\"\",F7279,E7280/MAX($E$9:E7280)-1)))","v":""}]
[null,null,null,null,null,{"$f":"IF(B7281=\"\",\"\",IF(C7281=\"\",F7280,IF(E7281=\"\",F7280,E7281/MAX($E$9:E7281)-1)))","v":""}]
[null,null,null,null,null,{"$f":"IF(B7282=\"\",\"\",IF(C7282=\"\",F7281,IF(E7282=\"\",F7281,E7282/MAX($E$9:E7282)-1)))","v":""}]
[null,null,null,null,null,{"$f":"IF(B7283=\"\",\"\",IF(C7283=\"\",F7282,IF(E7283=\"\",F7282,E7283/MAX($E$9:E7283)-1)))","v":""}]
[null,null,null,null,null,{"$f":"IF(B7284=\"\",\"\",IF(C7284=\"\",F7283,IF(E7284=\"\",F7283,E7284/MAX($E$9:E7284)-1)))","v":""}]
[null,null,null,null,null,{"$f":"IF(B7285=\"\",\"\",IF(C7285=\"\",F7284,IF(E7285=\"\",F7284,E7285/MAX($E$9:E7285)-1)))","v":""}]
[null,null,null,null,null,{"$f":"IF(B7286=\"\",\"\",IF(C7286=\"\",F7285,IF(E7286=\"\",F7285,E7286/MAX($E$9:E7286)-1)))","v":""}]
[null,null,null,null,null,{"$f":"IF(B7287=\"\",\"\",IF(C7287=\"\",F7286,IF(E7287=\"\",F7286,E7287/MAX($E$9:E7287)-1)))","v":""}]
[null,null,null,null,null,{"$f":"IF(B7288=\"\",\"\",IF(C7288=\"\",F7287,IF(E7288=\"\",F7287,E7288/MAX($E$9:E7288)-1)))","v":""}]
[null,null,null,null,null,{"$f":"IF(B7289=\"\",\"\",IF(C7289=\"\",F7288,IF(E7289=\"\",F7288,E7289/MAX($E$9:E7289)-1)))","v":""}]
[null,null,null,null,null,{"$f":"IF(B7290=\"\",\"\",IF(C7290=\"\",F7289,IF(E7290=\"\",F7289,E7290/MAX($E$9:E7290)-1)))","v":""}]
[null,null,null,null,null,{"$f":"IF(B7291=\"\",\"\",IF(C7291=\"\",F7290,IF(E7291=\"\",F7290,E7291/MAX($E$9:E7291)-1)))","v":""}]
[null,null,null,null,null,{"$f":"IF(B7292=\"\",\"\",IF(C7292=\"\",F7291,IF(E7292=\"\",F7291,E7292/MAX($E$9:E7292)-1)))","v":""}]
[null,null,null,null,null,{"$f":"IF(B7293=\"\",\"\",IF(C7293=\"\",F7292,IF(E7293=\"\",F7292,E7293/MAX($E$9:E7293)-1)))","v":""}]
[null,null,null,null,null,{"$f":"IF(B7294=\"\",\"\",IF(C7294=\"\",F7293,IF(E7294=\"\",F7293,E7294/MAX($E$9:E7294)-1)))","v":""}]
[null,null,null,null,null,{"$f":"IF(B7295=\"\",\"\",IF(C7295=\"\",F7294,IF(E7295=\"\",F7294,E7295/MAX($E$9:E7295)-1)))","v":""}]
[null,null,null,null,null,{"$f":"IF(B7296=\"\",\"\",IF(C7296=\"\",F7295,IF(E7296=\"\",F7295,E7296/MAX($E$9:E7296)-1)))","v":""}]
[null,null,null,null,null,{"$f":"IF(B7297=\"\",\"\",IF(C7297=\"\",F7296,IF(E7297=\"\",F7296,E7297/MAX($E$9:E7297)-1)))","v":""}]
[null,null,null,null,null,{"$f":"IF(B7298=\"\",\"\",IF(C7298=\"\",F7297,IF(E7298=\"\",F7297,E7298/MAX($E$9:E7298)-1)))","v":""}]
[null,null,null,null,null,{"$f":"IF(B7299=\"\",\"\",IF(C7299=\"\",F7298,IF(E7299=\"\",F7298,E7299/MAX($E$9:E7299)-1)))","v":""}]
[null,null,null,null,null,{"$f":"IF(B7300=\"\",\"\",IF(C7300=\"\",F7299,IF(E7300=\"\",F7299,E7300/MAX($E$9:E7300)-1)))","v":""}]
[null,null,null,null,null,{"$f":"IF(B7301=\"\",\"\",IF(C7301=\"\",F7300,IF(E7301=\"\",F7300,E7301/MAX($E$9:E7301)-1)))","v":""}]
[null,null,null,null,null,{"$f":"IF(B7302=\"\",\"\",IF(C7302=\"\",F7301,IF(E7302=\"\",F7301,E7302/MAX($E$9:E7302)-1)))","v":""}]
[null,null,null,null,null,{"$f":"IF(B7303=\"\",\"\",IF(C7303=\"\",F7302,IF(E7303=\"\",F7302,E7303/MAX($E$9:E7303)-1)))","v":""}]
[null,null,null,null,null,{"$f":"IF(B7304=\"\",\"\",IF(C7304=\"\",F7303,IF(E7304=\"\",F7303,E7304/MAX($E$9:E7304)-1)))","v":""}]
[null,null,null,null,null,{"$f":"IF(B7305=\"\",\"\",IF(C7305=\"\",F7304,IF(E7305=\"\",F7304,E7305/MAX($E$9:E7305)-1)))","v":""}]
[null,null,null,null,null,{"$f":"IF(B7306=\"\",\"\",IF(C7306=\"\",F7305,IF(E7306=\"\",F7305,E7306/MAX($E$9:E7306)-1)))","v":""}]
[null,null,null,null,null,{"$f":"IF(B7307=\"\",\"\",IF(C7307=\"\",F7306,IF(E7307=\"\",F7306,E7307/MAX($E$9:E7307)-1)))","v":""}]
[null,null,null,null,null,{"$f":"IF(B7308=\"\",\"\",IF(C7308=\"\",F7307,IF(E7308=\"\",F7307,E7308/MAX($E$9:E7308)-1)))","v":""}]
[null,null,null,null,null,{"$f":"IF(B7309=\"\",\"\",IF(C7309=\"\",F7308,IF(E7309=\"\",F7308,E7309/MAX($E$9:E7309)-1)))","v":""}]
[null,null,null,null,null,{"$f":"IF(B7310=\"\",\"\",IF(C7310=\"\",F7309,IF(E7310=\"\",F7309,E7310/MAX($E$9:E7310)-1)))","v":""}]
[null,null,null,null,null,{"$f":"IF(B7311=\"\",\"\",IF(C7311=\"\",F7310,IF(E7311=\"\",F7310,E7311/MAX($E$9:E7311)-1)))","v":""}]
[null,null,null,null,null,{"$f":"IF(B7312=\"\",\"\",IF(C7312=\"\",F7311,IF(E7312=\"\",F7311,E7312/MAX($E$9:E7312)-1)))","v":""}]
[null,null,null,null,null,{"$f":"IF(B7313=\"\",\"\",IF(C7313=\"\",F7312,IF(E7313=\"\",F7312,E7313/MAX($E$9:E7313)-1)))","v":""}]
[null,null,null,null,null,{"$f":"IF(B7314=\"\",\"\",IF(C7314=\"\",F7313,IF(E7314=\"\",F7313,E7314/MAX($E$9:E7314)-1)))","v":""}]
[null,null,null,null,null,{"$f":"IF(B7315=\"\",\"\",IF(C7315=\"\",F7314,IF(E7315=\"\",F7314,E7315/MAX($E$9:E7315)-1)))","v":""}]
[null,null,null,null,null,{"$f":"IF(B7316=\"\",\"\",IF(C7316=\"\",F7315,IF(E7316=\"\",F7315,E7316/MAX($E$9:E7316)-1)))","v":""}]
[null,null,null,null,null,{"$f":"IF(B7317=\"\",\"\",IF(C7317=\"\",F7316,IF(E7317=\"\",F7316,E7317/MAX($E$9:E7317)-1)))","v":""}]
[null,null,null,null,null,{"$f":"IF(B7318=\"\",\"\",IF(C7318=\"\",F7317,IF(E7318=\"\",F7317,E7318/MAX($E$9:E7318)-1)))","v":""}]
[null,null,null,null,null,{"$f":"IF(B7319=\"\",\"\",IF(C7319=\"\",F7318,IF(E7319=\"\",F7318,E7319/MAX($E$9:E7319)-1)))","v":""}]
[null,null,null,null,null,{"$f":"IF(B7320=\"\",\"\",IF(C7320=\"\",F7319,IF(E7320=\"\",F7319,E7320/MAX($E$9:E7320)-1)))","v":""}]
[null,null,null,null,null,{"$f":"IF(B7321=\"\",\"\",IF(C7321=\"\",F7320,IF(E7321=\"\",F7320,E7321/MAX($E$9:E7321)-1)))","v":""}]
[null,null,null,null,null,{"$f":"IF(B7322=\"\",\"\",IF(C7322=\"\",F7321,IF(E7322=\"\",F7321,E7322/MAX($E$9:E7322)-1)))","v":""}]
[null,null,null,null,null,{"$f":"IF(B7323=\"\",\"\",IF(C7323=\"\",F7322,IF(E7323=\"\",F7322,E7323/MAX($E$9:E7323)-1)))","v":""}]
[null,null,null,null,null,{"$f":"IF(B7324=\"\",\"\",IF(C7324=\"\",F7323,IF(E7324=\"\",F7323,E7324/MAX($E$9:E7324)-1)))","v":""}]
[null,null,null,null,null,{"$f":"IF(B7325=\"\",\"\",IF(C7325=\"\",F7324,IF(E7325=\"\",F7324,E7325/MAX($E$9:E7325)-1)))","v":""}]
[null,null,null,null,null,{"$f":"IF(B7326=\"\",\"\",IF(C7326=\"\",F7325,IF(E7326=\"\",F7325,E7326/MAX($E$9:E7326)-1)))","v":""}]
[null,null,null,null,null,{"$f":"IF(B7327=\"\",\"\",IF(C7327=\"\",F7326,IF(E7327=\"\",F7326,E7327/MAX($E$9:E7327)-1)))","v":""}]
[null,null,null,null,null,{"$f":"IF(B7328=\"\",\"\",IF(C7328=\"\",F7327,IF(E7328=\"\",F7327,E7328/MAX($E$9:E7328)-1)))","v":""}]
[null,null,null,null,null,{"$f":"IF(B7329=\"\",\"\",IF(C7329=\"\",F7328,IF(E7329=\"\",F7328,E7329/MAX($E$9:E7329)-1)))","v":""}]
[null,null,null,null,null,{"$f":"IF(B7330=\"\",\"\",IF(C7330=\"\",F7329,IF(E7330=\"\",F7329,E7330/MAX($E$9:E7330)-1)))","v":""}]
[null,null,null,null,null,{"$f":"IF(B7331=\"\",\"\",IF(C7331=\"\",F7330,IF(E7331=\"\",F7330,E7331/MAX($E$9:E7331)-1)))","v":""}]
[null,null,null,null,null,{"$f":"IF(B7332=\"\",\"\",IF(C7332=\"\",F7331,IF(E7332=\"\",F7331,E7332/MAX($E$9:E7332)-1)))","v":""}]
[null,null,null,null,null,{"$f":"IF(B7333=\"\",\"\",IF(C7333=\"\",F7332,IF(E7333=\"\",F7332,E7333/MAX($E$9:E7333)-1)))","v":""}]
[null,null,null,null,null,{"$f":"IF(B7334=\"\",\"\",IF(C7334=\"\",F7333,IF(E7334=\"\",F7333,E7334/MAX($E$9:E7334)-1)))","v":""}]
[null,null,null,null,null,{"$f":"IF(B7335=\"\",\"\",IF(C7335=\"\",F7334,IF(E7335=\"\",F7334,E7335/MAX($E$9:E7335)-1)))","v":""}]
[null,null,null,null,null,{"$f":"IF(B7336=\"\",\"\",IF(C7336=\"\",F7335,IF(E7336=\"\",F7335,E7336/MAX($E$9:E7336)-1)))","v":""}]
[null,null,null,null,null,{"$f":"IF(B7337=\"\",\"\",IF(C7337=\"\",F7336,IF(E7337=\"\",F7336,E7337/MAX($E$9:E7337)-1)))","v":""}]
[null,null,null,null,null,{"$f":"IF(B7338=\"\",\"\",IF(C7338=\"\",F7337,IF(E7338=\"\",F7337,E7338/MAX($E$9:E7338)-1)))","v":""}]
[null,null,null,null,null,{"$f":"IF(B7339=\"\",\"\",IF(C7339=\"\",F7338,IF(E7339=\"\",F7338,E7339/MAX($E$9:E7339)-1)))","v":""}]
[null,null,null,null,null,{"$f":"IF(B7340=\"\",\"\",IF(C7340=\"\",F7339,IF(E7340=\"\",F7339,E7340/MAX($E$9:E7340)-1)))","v":""}]
[null,null,null,null,null,{"$f":"IF(B7341=\"\",\"\",IF(C7341=\"\",F7340,IF(E7341=\"\",F7340,E7341/MAX($E$9:E7341)-1)))","v":""}]
[null,null,null,null,null,{"$f":"IF(B7342=\"\",\"\",IF(C7342=\"\",F7341,IF(E7342=\"\",F7341,E7342/MAX($E$9:E7342)-1)))","v":""}]
[null,null,null,null,null,{"$f":"IF(B7343=\"\",\"\",IF(C7343=\"\",F7342,IF(E7343=\"\",F7342,E7343/MAX($E$9:E7343)-1)))","v":""}]
[null,null,null,null,null,{"$f":"IF(B7344=\"\",\"\",IF(C7344=\"\",F7343,IF(E7344=\"\",F7343,E7344/MAX($E$9:E7344)-1)))","v":""}]
[null,null,null,null,null,{"$f":"IF(B7345=\"\",\"\",IF(C7345=\"\",F7344,IF(E7345=\"\",F7344,E7345/MAX($E$9:E7345)-1)))","v":""}]
[null,null,null,null,null,{"$f":"IF(B7346=\"\",\"\",IF(C7346=\"\",F7345,IF(E7346=\"\",F7345,E7346/MAX($E$9:E7346)-1)))","v":""}]
[null,null,null,null,null,{"$f":"IF(B7347=\"\",\"\",IF(C7347=\"\",F7346,IF(E7347=\"\",F7346,E7347/MAX($E$9:E7347)-1)))","v":""}]
[null,null,null,null,null,{"$f":"IF(B7348=\"\",\"\",IF(C7348=\"\",F7347,IF(E7348=\"\",F7347,E7348/MAX($E$9:E7348)-1)))","v":""}]
[null,null,null,null,null,{"$f":"IF(B7349=\"\",\"\",IF(C7349=\"\",F7348,IF(E7349=\"\",F7348,E7349/MAX($E$9:E7349)-1)))","v":""}]
[null,null,null,null,null,{"$f":"IF(B7350=\"\",\"\",IF(C7350=\"\",F7349,IF(E7350=\"\",F7349,E7350/MAX($E$9:E7350)-1)))","v":""}]
[null,null,null,null,null,{"$f":"IF(B7351=\"\",\"\",IF(C7351=\"\",F7350,IF(E7351=\"\",F7350,E7351/MAX($E$9:E7351)-1)))","v":""}]
[null,null,null,null,null,{"$f":"IF(B7352=\"\",\"\",IF(C7352=\"\",F7351,IF(E7352=\"\",F7351,E7352/MAX($E$9:E7352)-1)))","v":""}]
[null,null,null,null,null,{"$f":"IF(B7353=\"\",\"\",IF(C7353=\"\",F7352,IF(E7353=\"\",F7352,E7353/MAX($E$9:E7353)-1)))","v":""}]
[null,null,null,null,null,{"$f":"IF(B7354=\"\",\"\",IF(C7354=\"\",F7353,IF(E7354=\"\",F7353,E7354/MAX($E$9:E7354)-1)))","v":""}]
[null,null,null,null,null,{"$f":"IF(B7355=\"\",\"\",IF(C7355=\"\",F7354,IF(E7355=\"\",F7354,E7355/MAX($E$9:E7355)-1)))","v":""}]
[null,null,null,null,null,{"$f":"IF(B7356=\"\",\"\",IF(C7356=\"\",F7355,IF(E7356=\"\",F7355,E7356/MAX($E$9:E7356)-1)))","v":""}]
[null,null,null,null,null,{"$f":"IF(B7357=\"\",\"\",IF(C7357=\"\",F7356,IF(E7357=\"\",F7356,E7357/MAX($E$9:E7357)-1)))","v":""}]
[null,null,null,null,null,{"$f":"IF(B7358=\"\",\"\",IF(C7358=\"\",F7357,IF(E7358=\"\",F7357,E7358/MAX($E$9:E7358)-1)))","v":""}]
[null,null,null,null,null,{"$f":"IF(B7359=\"\",\"\",IF(C7359=\"\",F7358,IF(E7359=\"\",F7358,E7359/MAX($E$9:E7359)-1)))","v":""}]
[null,null,null,null,null,{"$f":"IF(B7360=\"\",\"\",IF(C7360=\"\",F7359,IF(E7360=\"\",F7359,E7360/MAX($E$9:E7360)-1)))","v":""}]
[null,null,null,null,null,{"$f":"IF(B7361=\"\",\"\",IF(C7361=\"\",F7360,IF(E7361=\"\",F7360,E7361/MAX($E$9:E7361)-1)))","v":""}]
[null,null,null,null,null,{"$f":"IF(B7362=\"\",\"\",IF(C7362=\"\",F7361,IF(E7362=\"\",F7361,E7362/MAX($E$9:E7362)-1)))","v":""}]
[null,null,null,null,null,{"$f":"IF(B7363=\"\",\"\",IF(C7363=\"\",F7362,IF(E7363=\"\",F7362,E7363/MAX($E$9:E7363)-1)))","v":""}]
[null,null,null,null,null,{"$f":"IF(B7364=\"\",\"\",IF(C7364=\"\",F7363,IF(E7364=\"\",F7363,E7364/MAX($E$9:E7364)-1)))","v":""}]
[null,null,null,null,null,{"$f":"IF(B7365=\"\",\"\",IF(C7365=\"\",F7364,IF(E7365=\"\",F7364,E7365/MAX($E$9:E7365)-1)))","v":""}]
[null,null,null,null,null,{"$f":"IF(B7366=\"\",\"\",IF(C7366=\"\",F7365,IF(E7366=\"\",F7365,E7366/MAX($E$9:E7366)-1)))","v":""}]
[null,null,null,null,null,{"$f":"IF(B7367=\"\",\"\",IF(C7367=\"\",F7366,IF(E7367=\"\",F7366,E7367/MAX($E$9:E7367)-1)))","v":""}]
[null,null,null,null,null,{"$f":"IF(B7368=\"\",\"\",IF(C7368=\"\",F7367,IF(E7368=\"\",F7367,E7368/MAX($E$9:E7368)-1)))","v":""}]
[null,null,null,null,null,{"$f":"IF(B7369=\"\",\"\",IF(C7369=\"\",F7368,IF(E7369=\"\",F7368,E7369/MAX($E$9:E7369)-1)))","v":""}]
[null,null,null,null,null,{"$f":"IF(B7370=\"\",\"\",IF(C7370=\"\",F7369,IF(E7370=\"\",F7369,E7370/MAX($E$9:E7370)-1)))","v":""}]
[null,null,null,null,null,{"$f":"IF(B7371=\"\",\"\",IF(C7371=\"\",F7370,IF(E7371=\"\",F7370,E7371/MAX($E$9:E7371)-1)))","v":""}]
[null,null,null,null,null,{"$f":"IF(B7372=\"\",\"\",IF(C7372=\"\",F7371,IF(E7372=\"\",F7371,E7372/MAX($E$9:E7372)-1)))","v":""}]
[null,null,null,null,null,{"$f":"IF(B7373=\"\",\"\",IF(C7373=\"\",F7372,IF(E7373=\"\",F7372,E7373/MAX($E$9:E7373)-1)))","v":""}]
[null,null,null,null,null,{"$f":"IF(B7374=\"\",\"\",IF(C7374=\"\",F7373,IF(E7374=\"\",F7373,E7374/MAX($E$9:E7374)-1)))","v":""}]
[null,null,null,null,null,{"$f":"IF(B7375=\"\",\"\",IF(C7375=\"\",F7374,IF(E7375=\"\",F7374,E7375/MAX($E$9:E7375)-1)))","v":""}]
[null,null,null,null,null,{"$f":"IF(B7376=\"\",\"\",IF(C7376=\"\",F7375,IF(E7376=\"\",F7375,E7376/MAX($E$9:E7376)-1)))","v":""}]
[null,null,null,null,null,{"$f":"IF(B7377=\"\",\"\",IF(C7377=\"\",F7376,IF(E7377=\"\",F7376,E7377/MAX($E$9:E7377)-1)))","v":""}]
[null,null,null,null,null,{"$f":"IF(B7378=\"\",\"\",IF(C7378=\"\",F7377,IF(E7378=\"\",F7377,E7378/MAX($E$9:E7378)-1)))","v":""}]
[null,null,null,null,null,{"$f":"IF(B7379=\"\",\"\",IF(C7379=\"\",F7378,IF(E7379=\"\",F7378,E7379/MAX($E$9:E7379)-1)))","v":""}]
[null,null,null,null,null,{"$f":"IF(B7380=\"\",\"\",IF(C7380=\"\",F7379,IF(E7380=\"\",F7379,E7380/MAX($E$9:E7380)-1)))","v":""}]
[null,null,null,null,null,{"$f":"IF(B7381=\"\",\"\",IF(C7381=\"\",F7380,IF(E7381=\"\",F7380,E7381/MAX($E$9:E7381)-1)))","v":""}]
[null,null,null,null,null,{"$f":"IF(B7382=\"\",\"\",IF(C7382=\"\",F7381,IF(E7382=\"\",F7381,E7382/MAX($E$9:E7382)-1)))","v":""}]
[null,null,null,null,null,{"$f":"IF(B7383=\"\",\"\",IF(C7383=\"\",F7382,IF(E7383=\"\",F7382,E7383/MAX($E$9:E7383)-1)))","v":""}]
[null,null,null,null,null,{"$f":"IF(B7384=\"\",\"\",IF(C7384=\"\",F7383,IF(E7384=\"\",F7383,E7384/MAX($E$9:E7384)-1)))","v":""}]
[null,null,null,null,null,{"$f":"IF(B7385=\"\",\"\",IF(C7385=\"\",F7384,IF(E7385=\"\",F7384,E7385/MAX($E$9:E7385)-1)))","v":""}]
[null,null,null,null,null,{"$f":"IF(B7386=\"\",\"\",IF(C7386=\"\",F7385,IF(E7386=\"\",F7385,E7386/MAX($E$9:E7386)-1)))","v":""}]
[null,null,null,null,null,{"$f":"IF(B7387=\"\",\"\",IF(C7387=\"\",F7386,IF(E7387=\"\",F7386,E7387/MAX($E$9:E7387)-1)))","v":""}]
[null,null,null,null,null,{"$f":"IF(B7388=\"\",\"\",IF(C7388=\"\",F7387,IF(E7388=\"\",F7387,E7388/MAX($E$9:E7388)-1)))","v":""}]
[null,null,null,null,null,{"$f":"IF(B7389=\"\",\"\",IF(C7389=\"\",F7388,IF(E7389=\"\",F7388,E7389/MAX($E$9:E7389)-1)))","v":""}]
[null,null,null,null,null,{"$f":"IF(B7390=\"\",\"\",IF(C7390=\"\",F7389,IF(E7390=\"\",F7389,E7390/MAX($E$9:E7390)-1)))","v":""}]
[null,null,null,null,null,{"$f":"IF(B7391=\"\",\"\",IF(C7391=\"\",F7390,IF(E7391=\"\",F7390,E7391/MAX($E$9:E7391)-1)))","v":""}]
[null,null,null,null,null,{"$f":"IF(B7392=\"\",\"\",IF(C7392=\"\",F7391,IF(E7392=\"\",F7391,E7392/MAX($E$9:E7392)-1)))","v":""}]
[null,null,null,null,null,{"$f":"IF(B7393=\"\",\"\",IF(C7393=\"\",F7392,IF(E7393=\"\",F7392,E7393/MAX($E$9:E7393)-1)))","v":""}]
[null,null,null,null,null,{"$f":"IF(B7394=\"\",\"\",IF(C7394=\"\",F7393,IF(E7394=\"\",F7393,E7394/MAX($E$9:E7394)-1)))","v":""}]
[null,null,null,null,null,{"$f":"IF(B7395=\"\",\"\",IF(C7395=\"\",F7394,IF(E7395=\"\",F7394,E7395/MAX($E$9:E7395)-1)))","v":""}]
[null,null,null,null,null,{"$f":"IF(B7396=\"\",\"\",IF(C7396=\"\",F7395,IF(E7396=\"\",F7395,E7396/MAX($E$9:E7396)-1)))","v":""}]
[null,null,null,null,null,{"$f":"IF(B7397=\"\",\"\",IF(C7397=\"\",F7396,IF(E7397=\"\",F7396,E7397/MAX($E$9:E7397)-1)))","v":""}]
[null,null,null,null,null,{"$f":"IF(B7398=\"\",\"\",IF(C7398=\"\",F7397,IF(E7398=\"\",F7397,E7398/MAX($E$9:E7398)-1)))","v":""}]
[null,null,null,null,null,{"$f":"IF(B7399=\"\",\"\",IF(C7399=\"\",F7398,IF(E7399=\"\",F7398,E7399/MAX($E$9:E7399)-1)))","v":""}]
[null,null,null,null,null,{"$f":"IF(B7400=\"\",\"\",IF(C7400=\"\",F7399,IF(E7400=\"\",F7399,E7400/MAX($E$9:E7400)-1)))","v":""}]
[null,null,null,null,null,{"$f":"IF(B7401=\"\",\"\",IF(C7401=\"\",F7400,IF(E7401=\"\",F7400,E7401/MAX($E$9:E7401)-1)))","v":""}]
[null,null,null,null,null,{"$f":"IF(B7402=\"\",\"\",IF(C7402=\"\",F7401,IF(E7402=\"\",F7401,E7402/MAX($E$9:E7402)-1)))","v":""}]
[null,null,null,null,null,{"$f":"IF(B7403=\"\",\"\",IF(C7403=\"\",F7402,IF(E7403=\"\",F7402,E7403/MAX($E$9:E7403)-1)))","v":""}]
[null,null,null,null,null,{"$f":"IF(B7404=\"\",\"\",IF(C7404=\"\",F7403,IF(E7404=\"\",F7403,E7404/MAX($E$9:E7404)-1)))","v":""}]
[null,null,null,null,null,{"$f":"IF(B7405=\"\",\"\",IF(C7405=\"\",F7404,IF(E7405=\"\",F7404,E7405/MAX($E$9:E7405)-1)))","v":""}]
[null,null,null,null,null,{"$f":"IF(B7406=\"\",\"\",IF(C7406=\"\",F7405,IF(E7406=\"\",F7405,E7406/MAX($E$9:E7406)-1)))","v":""}]
[null,null,null,null,null,{"$f":"IF(B7407=\"\",\"\",IF(C7407=\"\",F7406,IF(E7407=\"\",F7406,E7407/MAX($E$9:E7407)-1)))","v":""}]
[null,null,null,null,null,{"$f":"IF(B7408=\"\",\"\",IF(C7408=\"\",F7407,IF(E7408=\"\",F7407,E7408/MAX($E$9:E7408)-1)))","v":""}]
[null,null,null,null,null,{"$f":"IF(B7409=\"\",\"\",IF(C7409=\"\",F7408,IF(E7409=\"\",F7408,E7409/MAX($E$9:E7409)-1)))","v":""}]
[null,null,null,null,null,{"$f":"IF(B7410=\"\",\"\",IF(C7410=\"\",F7409,IF(E7410=\"\",F7409,E7410/MAX($E$9:E7410)-1)))","v":""}]
[null,null,null,null,null,{"$f":"IF(B7411=\"\",\"\",IF(C7411=\"\",F7410,IF(E7411=\"\",F7410,E7411/MAX($E$9:E7411)-1)))","v":""}]
[null,null,null,null,null,{"$f":"IF(B7412=\"\",\"\",IF(C7412=\"\",F7411,IF(E7412=\"\",F7411,E7412/MAX($E$9:E7412)-1)))","v":""}]
[null,null,null,null,null,{"$f":"IF(B7413=\"\",\"\",IF(C7413=\"\",F7412,IF(E7413=\"\",F7412,E7413/MAX($E$9:E7413)-1)))","v":""}]
[null,null,null,null,null,{"$f":"IF(B7414=\"\",\"\",IF(C7414=\"\",F7413,IF(E7414=\"\",F7413,E7414/MAX($E$9:E7414)-1)))","v":""}]
[null,null,null,null,null,{"$f":"IF(B7415=\"\",\"\",IF(C7415=\"\",F7414,IF(E7415=\"\",F7414,E7415/MAX($E$9:E7415)-1)))","v":""}]
[null,null,null,null,null,{"$f":"IF(B7416=\"\",\"\",IF(C7416=\"\",F7415,IF(E7416=\"\",F7415,E7416/MAX($E$9:E7416)-1)))","v":""}]
[null,null,null,null,null,{"$f":"IF(B7417=\"\",\"\",IF(C7417=\"\",F7416,IF(E7417=\"\",F7416,E7417/MAX($E$9:E7417)-1)))","v":""}]
[null,null,null,null,null,{"$f":"IF(B7418=\"\",\"\",IF(C7418=\"\",F7417,IF(E7418=\"\",F7417,E7418/MAX($E$9:E7418)-1)))","v":""}]
[null,null,null,null,null,{"$f":"IF(B7419=\"\",\"\",IF(C7419=\"\",F7418,IF(E7419=\"\",F7418,E7419/MAX($E$9:E7419)-1)))","v":""}]
[null,null,null,null,null,{"$f":"IF(B7420=\"\",\"\",IF(C7420=\"\",F7419,IF(E7420=\"\",F7419,E7420/MAX($E$9:E7420)-1)))","v":""}]
[null,null,null,null,null,{"$f":"IF(B7421=\"\",\"\",IF(C7421=\"\",F7420,IF(E7421=\"\",F7420,E7421/MAX($E$9:E7421)-1)))","v":""}]
[null,null,null,null,null,{"$f":"IF(B7422=\"\",\"\",IF(C7422=\"\",F7421,IF(E7422=\"\",F7421,E7422/MAX($E$9:E7422)-1)))","v":""}]
[null,null,null,null,null,{"$f":"IF(B7423=\"\",\"\",IF(C7423=\"\",F7422,IF(E7423=\"\",F7422,E7423/MAX($E$9:E7423)-1)))","v":""}]
[null,null,null,null,null,{"$f":"IF(B7424=\"\",\"\",IF(C7424=\"\",F7423,IF(E7424=\"\",F7423,E7424/MAX($E$9:E7424)-1)))","v":""}]
[null,null,null,null,null,{"$f":"IF(B7425=\"\",\"\",IF(C7425=\"\",F7424,IF(E7425=\"\",F7424,E7425/MAX($E$9:E7425)-1)))","v":""}]
[null,null,null,null,null,{"$f":"IF(B7426=\"\",\"\",IF(C7426=\"\",F7425,IF(E7426=\"\",F7425,E7426/MAX($E$9:E7426)-1)))","v":""}]
[null,null,null,null,null,{"$f":"IF(B7427=\"\",\"\",IF(C7427=\"\",F7426,IF(E7427=\"\",F7426,E7427/MAX($E$9:E7427)-1)))","v":""}]
[null,null,null,null,null,{"$f":"IF(B7428=\"\",\"\",IF(C7428=\"\",F7427,IF(E7428=\"\",F7427,E7428/MAX($E$9:E7428)-1)))","v":""}]
[null,null,null,null,null,{"$f":"IF(B7429=\"\",\"\",IF(C7429=\"\",F7428,IF(E7429=\"\",F7428,E7429/MAX($E$9:E7429)-1)))","v":""}]
[null,null,null,null,null,{"$f":"IF(B7430=\"\",\"\",IF(C7430=\"\",F7429,IF(E7430=\"\",F7429,E7430/MAX($E$9:E7430)-1)))","v":""}]
[null,null,null,null,null,{"$f":"IF(B7431=\"\",\"\",IF(C7431=\"\",F7430,IF(E7431=\"\",F7430,E7431/MAX($E$9:E7431)-1)))","v":""}]
[null,null,null,null,null,{"$f":"IF(B7432=\"\",\"\",IF(C7432=\"\",F7431,IF(E7432=\"\",F7431,E7432/MAX($E$9:E7432)-1)))","v":""}]
[null,null,null,null,null,{"$f":"IF(B7433=\"\",\"\",IF(C7433=\"\",F7432,IF(E7433=\"\",F7432,E7433/MAX($E$9:E7433)-1)))","v":""}]
[null,null,null,null,null,{"$f":"IF(B7434=\"\",\"\",IF(C7434=\"\",F7433,IF(E7434=\"\",F7433,E7434/MAX($E$9:E7434)-1)))","v":""}]
[null,null,null,null,null,{"$f":"IF(B7435=\"\",\"\",IF(C7435=\"\",F7434,IF(E7435=\"\",F7434,E7435/MAX($E$9:E7435)-1)))","v":""}]
[null,null,null,null,null,{"$f":"IF(B7436=\"\",\"\",IF(C7436=\"\",F7435,IF(E7436=\"\",F7435,E7436/MAX($E$9:E7436)-1)))","v":""}]
[null,null,null,null,null,{"$f":"IF(B7437=\"\",\"\",IF(C7437=\"\",F7436,IF(E7437=\"\",F7436,E7437/MAX($E$9:E7437)-1)))","v":""}]
[null,null,null,null,null,{"$f":"IF(B7438=\"\",\"\",IF(C7438=\"\",F7437,IF(E7438=\"\",F7437,E7438/MAX($E$9:E7438)-1)))","v":""}]
[null,null,null,null,null,{"$f":"IF(B7439=\"\",\"\",IF(C7439=\"\",F7438,IF(E7439=\"\",F7438,E7439/MAX($E$9:E7439)-1)))","v":""}]
[null,null,null,null,null,{"$f":"IF(B7440=\"\",\"\",IF(C7440=\"\",F7439,IF(E7440=\"\",F7439,E7440/MAX($E$9:E7440)-1)))","v":""}]
[null,null,null,null,null,{"$f":"IF(B7441=\"\",\"\",IF(C7441=\"\",F7440,IF(E7441=\"\",F7440,E7441/MAX($E$9:E7441)-1)))","v":""}]
[null,null,null,null,null,{"$f":"IF(B7442=\"\",\"\",IF(C7442=\"\",F7441,IF(E7442=\"\",F7441,E7442/MAX($E$9:E7442)-1)))","v":""}]
[null,null,null,null,null,{"$f":"IF(B7443=\"\",\"\",IF(C7443=\"\",F7442,IF(E7443=\"\",F7442,E7443/MAX($E$9:E7443)-1)))","v":""}]
[null,null,null,null,null,{"$f":"IF(B7444=\"\",\"\",IF(C7444=\"\",F7443,IF(E7444=\"\",F7443,E7444/MAX($E$9:E7444)-1)))","v":""}]
[null,null,null,null,null,{"$f":"IF(B7445=\"\",\"\",IF(C7445=\"\",F7444,IF(E7445=\"\",F7444,E7445/MAX($E$9:E7445)-1)))","v":""}]
[null,null,null,null,null,{"$f":"IF(B7446=\"\",\"\",IF(C7446=\"\",F7445,IF(E7446=\"\",F7445,E7446/MAX($E$9:E7446)-1)))","v":""}]
[null,null,null,null,null,{"$f":"IF(B7447=\"\",\"\",IF(C7447=\"\",F7446,IF(E7447=\"\",F7446,E7447/MAX($E$9:E7447)-1)))","v":""}]
[null,null,null,null,null,{"$f":"IF(B7448=\"\",\"\",IF(C7448=\"\",F7447,IF(E7448=\"\",F7447,E7448/MAX($E$9:E7448)-1)))","v":""}]
[null,null,null,null,null,{"$f":"IF(B7449=\"\",\"\",IF(C7449=\"\",F7448,IF(E7449=\"\",F7448,E7449/MAX($E$9:E7449)-1)))","v":""}]
[null,null,null,null,null,{"$f":"IF(B7450=\"\",\"\",IF(C7450=\"\",F7449,IF(E7450=\"\",F7449,E7450/MAX($E$9:E7450)-1)))","v":""}]
[null,null,null,null,null,{"$f":"IF(B7451=\"\",\"\",IF(C7451=\"\",F7450,IF(E7451=\"\",F7450,E7451/MAX($E$9:E7451)-1)))","v":""}]
[null,null,null,null,null,{"$f":"IF(B7452=\"\",\"\",IF(C7452=\"\",F7451,IF(E7452=\"\",F7451,E7452/MAX($E$9:E7452)-1)))","v":""}]
[null,null,null,null,null,{"$f":"IF(B7453=\"\",\"\",IF(C7453=\"\",F7452,IF(E7453=\"\",F7452,E7453/MAX($E$9:E7453)-1)))","v":""}]
[null,null,null,null,null,{"$f":"IF(B7454=\"\",\"\",IF(C7454=\"\",F7453,IF(E7454=\"\",F7453,E7454/MAX($E$9:E7454)-1)))","v":""}]
[null,null,null,null,null,{"$f":"IF(B7455=\"\",\"\",IF(C7455=\"\",F7454,IF(E7455=\"\",F7454,E7455/MAX($E$9:E7455)-1)))","v":""}]
[null,null,null,null,null,{"$f":"IF(B7456=\"\",\"\",IF(C7456=\"\",F7455,IF(E7456=\"\",F7455,E7456/MAX($E$9:E7456)-1)))","v":""}]
[null,null,null,null,null,{"$f":"IF(B7457=\"\",\"\",IF(C7457=\"\",F7456,IF(E7457=\"\",F7456,E7457/MAX($E$9:E7457)-1)))","v":""}]
[null,null,null,null,null,{"$f":"IF(B7458=\"\",\"\",IF(C7458=\"\",F7457,IF(E7458=\"\",F7457,E7458/MAX($E$9:E7458)-1)))","v":""}]
[null,null,null,null,null,{"$f":"IF(B7459=\"\",\"\",IF(C7459=\"\",F7458,IF(E7459=\"\",F7458,E7459/MAX($E$9:E7459)-1)))","v":""}]
[null,null,null,null,null,{"$f":"IF(B7460=\"\",\"\",IF(C7460=\"\",F7459,IF(E7460=\"\",F7459,E7460/MAX($E$9:E7460)-1)))","v":""}]
[null,null,null,null,null,{"$f":"IF(B7461=\"\",\"\",IF(C7461=\"\",F7460,IF(E7461=\"\",F7460,E7461/MAX($E$9:E7461)-1)))","v":""}]
[null,null,null,null,null,{"$f":"IF(B7462=\"\",\"\",IF(C7462=\"\",F7461,IF(E7462=\"\",F7461,E7462/MAX($E$9:E7462)-1)))","v":""}]
[null,null,null,null,null,{"$f":"IF(B7463=\"\",\"\",IF(C7463=\"\",F7462,IF(E7463=\"\",F7462,E7463/MAX($E$9:E7463)-1)))","v":""}]
[null,null,null,null,null,{"$f":"IF(B7464=\"\",\"\",IF(C7464=\"\",F7463,IF(E7464=\"\",F7463,E7464/MAX($E$9:E7464)-1)))","v":""}]
[null,null,null,null,null,{"$f":"IF(B7465=\"\",\"\",IF(C7465=\"\",F7464,IF(E7465=\"\",F7464,E7465/MAX($E$9:E7465)-1)))","v":""}]
[null,null,null,null,null,{"$f":"IF(B7466=\"\",\"\",IF(C7466=\"\",F7465,IF(E7466=\"\",F7465,E7466/MAX($E$9:E7466)-1)))","v":""}]
[null,null,null,null,null,{"$f":"IF(B7467=\"\",\"\",IF(C7467=\"\",F7466,IF(E7467=\"\",F7466,E7467/MAX($E$9:E7467)-1)))","v":""}]
[null,null,null,null,null,{"$f":"IF(B7468=\"\",\"\",IF(C7468=\"\",F7467,IF(E7468=\"\",F7467,E7468/MAX($E$9:E7468)-1)))","v":""}]
[null,null,null,null,null,{"$f":"IF(B7469=\"\",\"\",IF(C7469=\"\",F7468,IF(E7469=\"\",F7468,E7469/MAX($E$9:E7469)-1)))","v":""}]
[null,null,null,null,null,{"$f":"IF(B7470=\"\",\"\",IF(C7470=\"\",F7469,IF(E7470=\"\",F7469,E7470/MAX($E$9:E7470)-1)))","v":""}]
[null,null,null,null,null,{"$f":"IF(B7471=\"\",\"\",IF(C7471=\"\",F7470,IF(E7471=\"\",F7470,E7471/MAX($E$9:E7471)-1)))","v":""}]
[null,null,null,null,null,{"$f":"IF(B7472=\"\",\"\",IF(C7472=\"\",F7471,IF(E7472=\"\",F7471,E7472/MAX($E$9:E7472)-1)))","v":""}]
[null,null,null,null,null,{"$f":"IF(B7473=\"\",\"\",IF(C7473=\"\",F7472,IF(E7473=\"\",F7472,E7473/MAX($E$9:E7473)-1)))","v":""}]
[null,null,null,null,null,{"$f":"IF(B7474=\"\",\"\",IF(C7474=\"\",F7473,IF(E7474=\"\",F7473,E7474/MAX($E$9:E7474)-1)))","v":""}]
[null,null,null,null,null,{"$f":"IF(B7475=\"\",\"\",IF(C7475=\"\",F7474,IF(E7475=\"\",F7474,E7475/MAX($E$9:E7475)-1)))","v":""}]
[null,null,null,null,null,{"$f":"IF(B7476=\"\",\"\",IF(C7476=\"\",F7475,IF(E7476=\"\",F7475,E7476/MAX($E$9:E7476)-1)))","v":""}]
[null,null,null,null,null,{"$f":"IF(B7477=\"\",\"\",IF(C7477=\"\",F7476,IF(E7477=\"\",F7476,E7477/MAX($E$9:E7477)-1)))","v":""}]
[null,null,null,null,null,{"$f":"IF(B7478=\"\",\"\",IF(C7478=\"\",F7477,IF(E7478=\"\",F7477,E7478/MAX($E$9:E7478)-1)))","v":""}]
[null,null,null,null,null,{"$f":"IF(B7479=\"\",\"\",IF(C7479=\"\",F7478,IF(E7479=\"\",F7478,E7479/MAX($E$9:E7479)-1)))","v":""}]
[null,null,null,null,null,{"$f":"IF(B7480=\"\",\"\",IF(C7480=\"\",F7479,IF(E7480=\"\",F7479,E7480/MAX($E$9:E7480)-1)))","v":""}]
[null,null,null,null,null,{"$f":"IF(B7481=\"\",\"\",IF(C7481=\"\",F7480,IF(E7481=\"\",F7480,E7481/MAX($E$9:E7481)-1)))","v":""}]
[null,null,null,null,null,{"$f":"IF(B7482=\"\",\"\",IF(C7482=\"\",F7481,IF(E7482=\"\",F7481,E7482/MAX($E$9:E7482)-1)))","v":""}]
[null,null,null,null,null,{"$f":"IF(B7483=\"\",\"\",IF(C7483=\"\",F7482,IF(E7483=\"\",F7482,E7483/MAX($E$9:E7483)-1)))","v":""}]
[null,null,null,null,null,{"$f":"IF(B7484=\"\",\"\",IF(C7484=\"\",F7483,IF(E7484=\"\",F7483,E7484/MAX($E$9:E7484)-1)))","v":""}]
[null,null,null,null,null,{"$f":"IF(B7485=\"\",\"\",IF(C7485=\"\",F7484,IF(E7485=\"\",F7484,E7485/MAX($E$9:E7485)-1)))","v":""}]
[null,null,null,null,null,{"$f":"IF(B7486=\"\",\"\",IF(C7486=\"\",F7485,IF(E7486=\"\",F7485,E7486/MAX($E$9:E7486)-1)))","v":""}]
[null,null,null,null,null,{"$f":"IF(B7487=\"\",\"\",IF(C7487=\"\",F7486,IF(E7487=\"\",F7486,E7487/MAX($E$9:E7487)-1)))","v":""}]
[null,null,null,null,null,{"$f":"IF(B7488=\"\",\"\",IF(C7488=\"\",F7487,IF(E7488=\"\",F7487,E7488/MAX($E$9:E7488)-1)))","v":""}]
[null,null,null,null,null,{"$f":"IF(B7489=\"\",\"\",IF(C7489=\"\",F7488,IF(E7489=\"\",F7488,E7489/MAX($E$9:E7489)-1)))","v":""}]
[null,null,null,null,null,{"$f":"IF(B7490=\"\",\"\",IF(C7490=\"\",F7489,IF(E7490=\"\",F7489,E7490/MAX($E$9:E7490)-1)))","v":""}]
[null,null,null,null,null,{"$f":"IF(B7491=\"\",\"\",IF(C7491=\"\",F7490,IF(E7491=\"\",F7490,E7491/MAX($E$9:E7491)-1)))","v":""}]
[null,null,null,null,null,{"$f":"IF(B7492=\"\",\"\",IF(C7492=\"\",F7491,IF(E7492=\"\",F7491,E7492/MAX($E$9:E7492)-1)))","v":""}]
[null,null,null,null,null,{"$f":"IF(B7493=\"\",\"\",IF(C7493=\"\",F7492,IF(E7493=\"\",F7492,E7493/MAX($E$9:E7493)-1)))","v":""}]
[null,null,null,null,null,{"$f":"IF(B7494=\"\",\"\",IF(C7494=\"\",F7493,IF(E7494=\"\",F7493,E7494/MAX($E$9:E7494)-1)))","v":""}]
[null,null,null,null,null,{"$f":"IF(B7495=\"\",\"\",IF(C7495=\"\",F7494,IF(E7495=\"\",F7494,E7495/MAX($E$9:E7495)-1)))","v":""}]
[null,null,null,null,null,{"$f":"IF(B7496=\"\",\"\",IF(C7496=\"\",F7495,IF(E7496=\"\",F7495,E7496/MAX($E$9:E7496)-1)))","v":""}]
[null,null,null,null,null,{"$f":"IF(B7497=\"\",\"\",IF(C7497=\"\",F7496,IF(E7497=\"\",F7496,E7497/MAX($E$9:E7497)-1)))","v":""}]
[null,null,null,null,null,{"$f":"IF(B7498=\"\",\"\",IF(C7498=\"\",F7497,IF(E7498=\"\",F7497,E7498/MAX($E$9:E7498)-1)))","v":""}]
[null,null,null,null,null,{"$f":"IF(B7499=\"\",\"\",IF(C7499=\"\",F7498,IF(E7499=\"\",F7498,E7499/MAX($E$9:E7499)-1)))","v":""}]
[null,null,null,null,null,{"$f":"IF(B7500=\"\",\"\",IF(C7500=\"\",F7499,IF(E7500=\"\",F7499,E7500/MAX($E$9:E7500)-1)))","v":""}]
[null,null,null,null,null,{"$f":"IF(B7501=\"\",\"\",IF(C7501=\"\",F7500,IF(E7501=\"\",F7500,E7501/MAX($E$9:E7501)-1)))","v":""}]
[null,null,null,null,null,{"$f":"IF(B7502=\"\",\"\",IF(C7502=\"\",F7501,IF(E7502=\"\",F7501,E7502/MAX($E$9:E7502)-1)))","v":""}]
[null,null,null,null,null,{"$f":"IF(B7503=\"\",\"\",IF(C7503=\"\",F7502,IF(E7503=\"\",F7502,E7503/MAX($E$9:E7503)-1)))","v":""}]
[null,null,null,null,null,{"$f":"IF(B7504=\"\",\"\",IF(C7504=\"\",F7503,IF(E7504=\"\",F7503,E7504/MAX($E$9:E7504)-1)))","v":""}]
[null,null,null,null,null,{"$f":"IF(B7505=\"\",\"\",IF(C7505=\"\",F7504,IF(E7505=\"\",F7504,E7505/MAX($E$9:E7505)-1)))","v":""}]
[null,null,null,null,null,{"$f":"IF(B7506=\"\",\"\",IF(C7506=\"\",F7505,IF(E7506=\"\",F7505,E7506/MAX($E$9:E7506)-1)))","v":""}]
[null,null,null,null,null,{"$f":"IF(B7507=\"\",\"\",IF(C7507=\"\",F7506,IF(E7507=\"\",F7506,E7507/MAX($E$9:E7507)-1)))","v":""}]
[null,null,null,null,null,{"$f":"IF(B7508=\"\",\"\",IF(C7508=\"\",F7507,IF(E7508=\"\",F7507,E7508/MAX($E$9:E7508)-1)))","v":""}]
[null,null,null,null,null,{"$f":"IF(B7509=\"\",\"\",IF(C7509=\"\",F7508,IF(E7509=\"\",F7508,E7509/MAX($E$9:E7509)-1)))","v":""}]
[null,null,null,null,null,{"$f":"IF(B7510=\"\",\"\",IF(C7510=\"\",F7509,IF(E7510=\"\",F7509,E7510/MAX($E$9:E7510)-1)))","v":""}]
[null,null,null,null,null,{"$f":"IF(B7511=\"\",\"\",IF(C7511=\"\",F7510,IF(E7511=\"\",F7510,E7511/MAX($E$9:E7511)-1)))","v":""}]
[null,null,null,null,null,{"$f":"IF(B7512=\"\",\"\",IF(C7512=\"\",F7511,IF(E7512=\"\",F7511,E7512/MAX($E$9:E7512)-1)))","v":""}]
[null,null,null,null,null,{"$f":"IF(B7513=\"\",\"\",IF(C7513=\"\",F7512,IF(E7513=\"\",F7512,E7513/MAX($E$9:E7513)-1)))","v":""}]
[null,null,null,null,null,{"$f":"IF(B7514=\"\",\"\",IF(C7514=\"\",F7513,IF(E7514=\"\",F7513,E7514/MAX($E$9:E7514)-1)))","v":""}]
[null,null,null,null,null,{"$f":"IF(B7515=\"\",\"\",IF(C7515=\"\",F7514,IF(E7515=\"\",F7514,E7515/MAX($E$9:E7515)-1)))","v":""}]
[null,null,null,null,null,{"$f":"IF(B7516=\"\",\"\",IF(C7516=\"\",F7515,IF(E7516=\"\",F7515,E7516/MAX($E$9:E7516)-1)))","v":""}]
[null,null,null,null,null,{"$f":"IF(B7517=\"\",\"\",IF(C7517=\"\",F7516,IF(E7517=\"\",F7516,E7517/MAX($E$9:E7517)-1)))","v":""}]
[null,null,null,null,null,{"$f":"IF(B7518=\"\",\"\",IF(C7518=\"\",F7517,IF(E7518=\"\",F7517,E7518/MAX($E$9:E7518)-1)))","v":""}]
[null,null,null,null,null,{"$f":"IF(B7519=\"\",\"\",IF(C7519=\"\",F7518,IF(E7519=\"\",F7518,E7519/MAX($E$9:E7519)-1)))","v":""}]
[null,null,null,null,null,{"$f":"IF(B7520=\"\",\"\",IF(C7520=\"\",F7519,IF(E7520=\"\",F7519,E7520/MAX($E$9:E7520)-1)))","v":""}]
[null,null,null,null,null,{"$f":"IF(B7521=\"\",\"\",IF(C7521=\"\",F7520,IF(E7521=\"\",F7520,E7521/MAX($E$9:E7521)-1)))","v":""}]
[null,null,null,null,null,{"$f":"IF(B7522=\"\",\"\",IF(C7522=\"\",F7521,IF(E7522=\"\",F7521,E7522/MAX($E$9:E7522)-1)))","v":""}]
[null,null,null,null,null,{"$f":"IF(B7523=\"\",\"\",IF(C7523=\"\",F7522,IF(E7523=\"\",F7522,E7523/MAX($E$9:E7523)-1)))","v":""}]
[null,null,null,null,null,{"$f":"IF(B7524=\"\",\"\",IF(C7524=\"\",F7523,IF(E7524=\"\",F7523,E7524/MAX($E$9:E7524)-1)))","v":""}]
[null,null,null,null,null,{"$f":"IF(B7525=\"\",\"\",IF(C7525=\"\",F7524,IF(E7525=\"\",F7524,E7525/MAX($E$9:E7525)-1)))","v":""}]
[null,null,null,null,null,{"$f":"IF(B7526=\"\",\"\",IF(C7526=\"\",F7525,IF(E7526=\"\",F7525,E7526/MAX($E$9:E7526)-1)))","v":""}]
[null,null,null,null,null,{"$f":"IF(B7527=\"\",\"\",IF(C7527=\"\",F7526,IF(E7527=\"\",F7526,E7527/MAX($E$9:E7527)-1)))","v":""}]
[null,null,null,null,null,{"$f":"IF(B7528=\"\",\"\",IF(C7528=\"\",F7527,IF(E7528=\"\",F7527,E7528/MAX($E$9:E7528)-1)))","v":""}]
[null,null,null,null,null,{"$f":"IF(B7529=\"\",\"\",IF(C7529=\"\",F7528,IF(E7529=\"\",F7528,E7529/MAX($E$9:E7529)-1)))","v":""}]
[null,null,null,null,null,{"$f":"IF(B7530=\"\",\"\",IF(C7530=\"\",F7529,IF(E7530=\"\",F7529,E7530/MAX($E$9:E7530)-1)))","v":""}]
[null,null,null,null,null,{"$f":"IF(B7531=\"\",\"\",IF(C7531=\"\",F7530,IF(E7531=\"\",F7530,E7531/MAX($E$9:E7531)-1)))","v":""}]
[null,null,null,null,null,{"$f":"IF(B7532=\"\",\"\",IF(C7532=\"\",F7531,IF(E7532=\"\",F7531,E7532/MAX($E$9:E7532)-1)))","v":""}]
[null,null,null,null,null,{"$f":"IF(B7533=\"\",\"\",IF(C7533=\"\",F7532,IF(E7533=\"\",F7532,E7533/MAX($E$9:E7533)-1)))","v":""}]
[null,null,null,null,null,{"$f":"IF(B7534=\"\",\"\",IF(C7534=\"\",F7533,IF(E7534=\"\",F7533,E7534/MAX($E$9:E7534)-1)))","v":""}]
[null,null,null,null,null,{"$f":"IF(B7535=\"\",\"\",IF(C7535=\"\",F7534,IF(E7535=\"\",F7534,E7535/MAX($E$9:E7535)-1)))","v":""}]
[null,null,null,null,null,{"$f":"IF(B7536=\"\",\"\",IF(C7536=\"\",F7535,IF(E7536=\"\",F7535,E7536/MAX($E$9:E7536)-1)))","v":""}]
[null,null,null,null,null,{"$f":"IF(B7537=\"\",\"\",IF(C7537=\"\",F7536,IF(E7537=\"\",F7536,E7537/MAX($E$9:E7537)-1)))","v":""}]
[null,null,null,null,null,{"$f":"IF(B7538=\"\",\"\",IF(C7538=\"\",F7537,IF(E7538=\"\",F7537,E7538/MAX($E$9:E7538)-1)))","v":""}]
[null,null,null,null,null,{"$f":"IF(B7539=\"\",\"\",IF(C7539=\"\",F7538,IF(E7539=\"\",F7538,E7539/MAX($E$9:E7539)-1)))","v":""}]
[null,null,null,null,null,{"$f":"IF(B7540=\"\",\"\",IF(C7540=\"\",F7539,IF(E7540=\"\",F7539,E7540/MAX($E$9:E7540)-1)))","v":""}]
[null,null,null,null,null,{"$f":"IF(B7541=\"\",\"\",IF(C7541=\"\",F7540,IF(E7541=\"\",F7540,E7541/MAX($E$9:E7541)-1)))","v":""}]
[null,null,null,null,null,{"$f":"IF(B7542=\"\",\"\",IF(C7542=\"\",F7541,IF(E7542=\"\",F7541,E7542/MAX($E$9:E7542)-1)))","v":""}]
[null,null,null,null,null,{"$f":"IF(B7543=\"\",\"\",IF(C7543=\"\",F7542,IF(E7543=\"\",F7542,E7543/MAX($E$9:E7543)-1)))","v":""}]
[null,null,null,null,null,{"$f":"IF(B7544=\"\",\"\",IF(C7544=\"\",F7543,IF(E7544=\"\",F7543,E7544/MAX($E$9:E7544)-1)))","v":""}]
[null,null,null,null,null,{"$f":"IF(B7545=\"\",\"\",IF(C7545=\"\",F7544,IF(E7545=\"\",F7544,E7545/MAX($E$9:E7545)-1)))","v":""}]
[null,null,null,null,null,{"$f":"IF(B7546=\"\",\"\",IF(C7546=\"\",F7545,IF(E7546=\"\",F7545,E7546/MAX($E$9:E7546)-1)))","v":""}]
[null,null,null,null,null,{"$f":"IF(B7547=\"\",\"\",IF(C7547=\"\",F7546,IF(E7547=\"\",F7546,E7547/MAX($E$9:E7547)-1)))","v":""}]
[null,null,null,null,null,{"$f":"IF(B7548=\"\",\"\",IF(C7548=\"\",F7547,IF(E7548=\"\",F7547,E7548/MAX($E$9:E7548)-1)))","v":""}]
[null,null,null,null,null,{"$f":"IF(B7549=\"\",\"\",IF(C7549=\"\",F7548,IF(E7549=\"\",F7548,E7549/MAX($E$9:E7549)-1)))","v":""}]
[null,null,null,null,null,{"$f":"IF(B7550=\"\",\"\",IF(C7550=\"\",F7549,IF(E7550=\"\",F7549,E7550/MAX($E$9:E7550)-1)))","v":""}]
[null,null,null,null,null,{"$f":"IF(B7551=\"\",\"\",IF(C7551=\"\",F7550,IF(E7551=\"\",F7550,E7551/MAX($E$9:E7551)-1)))","v":""}]
[null,null,null,null,null,{"$f":"IF(B7552=\"\",\"\",IF(C7552=\"\",F7551,IF(E7552=\"\",F7551,E7552/MAX($E$9:E7552)-1)))","v":""}]
[null,null,null,null,null,{"$f":"IF(B7553=\"\",\"\",IF(C7553=\"\",F7552,IF(E7553=\"\",F7552,E7553/MAX($E$9:E7553)-1)))","v":""}]
[null,null,null,null,null,{"$f":"IF(B7554=\"\",\"\",IF(C7554=\"\",F7553,IF(E7554=\"\",F7553,E7554/MAX($E$9:E7554)-1)))","v":""}]
[null,null,null,null,null,{"$f":"IF(B7555=\"\",\"\",IF(C7555=\"\",F7554,IF(E7555=\"\",F7554,E7555/MAX($E$9:E7555)-1)))","v":""}]
[null,null,null,null,null,{"$f":"IF(B7556=\"\",\"\",IF(C7556=\"\",F7555,IF(E7556=\"\",F7555,E7556/MAX($E$9:E7556)-1)))","v":""}]
[null,null,null,null,null,{"$f":"IF(B7557=\"\",\"\",IF(C7557=\"\",F7556,IF(E7557=\"\",F7556,E7557/MAX($E$9:E7557)-1)))","v":""}]
[null,null,null,null,null,{"$f":"IF(B7558=\"\",\"\",IF(C7558=\"\",F7557,IF(E7558=\"\",F7557,E7558/MAX($E$9:E7558)-1)))","v":""}]
[null,null,null,null,null,{"$f":"IF(B7559=\"\",\"\",IF(C7559=\"\",F7558,IF(E7559=\"\",F7558,E7559/MAX($E$9:E7559)-1)))","v":""}]
[null,null,null,null,null,{"$f":"IF(B7560=\"\",\"\",IF(C7560=\"\",F7559,IF(E7560=\"\",F7559,E7560/MAX($E$9:E7560)-1)))","v":""}]
[null,null,null,null,null,{"$f":"IF(B7561=\"\",\"\",IF(C7561=\"\",F7560,IF(E7561=\"\",F7560,E7561/MAX($E$9:E7561)-1)))","v":""}]
[null,null,null,null,null,{"$f":"IF(B7562=\"\",\"\",IF(C7562=\"\",F7561,IF(E7562=\"\",F7561,E7562/MAX($E$9:E7562)-1)))","v":""}]
[null,null,null,null,null,{"$f":"IF(B7563=\"\",\"\",IF(C7563=\"\",F7562,IF(E7563=\"\",F7562,E7563/MAX($E$9:E7563)-1)))","v":""}]
[null,null,null,null,null,{"$f":"IF(B7564=\"\",\"\",IF(C7564=\"\",F7563,IF(E7564=\"\",F7563,E7564/MAX($E$9:E7564)-1)))","v":""}]
[null,null,null,null,null,{"$f":"IF(B7565=\"\",\"\",IF(C7565=\"\",F7564,IF(E7565=\"\",F7564,E7565/MAX($E$9:E7565)-1)))","v":""}]
[null,null,null,null,null,{"$f":"IF(B7566=\"\",\"\",IF(C7566=\"\",F7565,IF(E7566=\"\",F7565,E7566/MAX($E$9:E7566)-1)))","v":""}]
[null,null,null,null,null,{"$f":"IF(B7567=\"\",\"\",IF(C7567=\"\",F7566,IF(E7567=\"\",F7566,E7567/MAX($E$9:E7567)-1)))","v":""}]
[null,null,null,null,null,{"$f":"IF(B7568=\"\",\"\",IF(C7568=\"\",F7567,IF(E7568=\"\",F7567,E7568/MAX($E$9:E7568)-1)))","v":""}]
[null,null,null,null,null,{"$f":"IF(B7569=\"\",\"\",IF(C7569=\"\",F7568,IF(E7569=\"\",F7568,E7569/MAX($E$9:E7569)-1)))","v":""}]
[null,null,null,null,null,{"$f":"IF(B7570=\"\",\"\",IF(C7570=\"\",F7569,IF(E7570=\"\",F7569,E7570/MAX($E$9:E7570)-1)))","v":""}]
[null,null,null,null,null,{"$f":"IF(B7571=\"\",\"\",IF(C7571=\"\",F7570,IF(E7571=\"\",F7570,E7571/MAX($E$9:E7571)-1)))","v":""}]
[null,null,null,null,null,{"$f":"IF(B7572=\"\",\"\",IF(C7572=\"\",F7571,IF(E7572=\"\",F7571,E7572/MAX($E$9:E7572)-1)))","v":""}]
[null,null,null,null,null,{"$f":"IF(B7573=\"\",\"\",IF(C7573=\"\",F7572,IF(E7573=\"\",F7572,E7573/MAX($E$9:E7573)-1)))","v":""}]
[null,null,null,null,null,{"$f":"IF(B7574=\"\",\"\",IF(C7574=\"\",F7573,IF(E7574=\"\",F7573,E7574/MAX($E$9:E7574)-1)))","v":""}]
[null,null,null,null,null,{"$f":"IF(B7575=\"\",\"\",IF(C7575=\"\",F7574,IF(E7575=\"\",F7574,E7575/MAX($E$9:E7575)-1)))","v":""}]
[null,null,null,null,null,{"$f":"IF(B7576=\"\",\"\",IF(C7576=\"\",F7575,IF(E7576=\"\",F7575,E7576/MAX($E$9:E7576)-1)))","v":""}]
[null,null,null,null,null,{"$f":"IF(B7577=\"\",\"\",IF(C7577=\"\",F7576,IF(E7577=\"\",F7576,E7577/MAX($E$9:E7577)-1)))","v":""}]
[null,null,null,null,null,{"$f":"IF(B7578=\"\",\"\",IF(C7578=\"\",F7577,IF(E7578=\"\",F7577,E7578/MAX($E$9:E7578)-1)))","v":""}]
[null,null,null,null,null,{"$f":"IF(B7579=\"\",\"\",IF(C7579=\"\",F7578,IF(E7579=\"\",F7578,E7579/MAX($E$9:E7579)-1)))","v":""}]
[null,null,null,null,null,{"$f":"IF(B7580=\"\",\"\",IF(C7580=\"\",F7579,IF(E7580=\"\",F7579,E7580/MAX($E$9:E7580)-1)))","v":""}]
[null,null,null,null,null,{"$f":"IF(B7581=\"\",\"\",IF(C7581=\"\",F7580,IF(E7581=\"\",F7580,E7581/MAX($E$9:E7581)-1)))","v":""}]
[null,null,null,null,null,{"$f":"IF(B7582=\"\",\"\",IF(C7582=\"\",F7581,IF(E7582=\"\",F7581,E7582/MAX($E$9:E7582)-1)))","v":""}]
[null,null,null,null,null,{"$f":"IF(B7583=\"\",\"\",IF(C7583=\"\",F7582,IF(E7583=\"\",F7582,E7583/MAX($E$9:E7583)-1)))","v":""}]
[null,null,null,null,null,{"$f":"IF(B7584=\"\",\"\",IF(C7584=\"\",F7583,IF(E7584=\"\",F7583,E7584/MAX($E$9:E7584)-1)))","v":""}]
[null,null,null,null,null,{"$f":"IF(B7585=\"\",\"\",IF(C7585=\"\",F7584,IF(E7585=\"\",F7584,E7585/MAX($E$9:E7585)-1)))","v":""}]
[null,null,null,null,null,{"$f":"IF(B7586=\"\",\"\",IF(C7586=\"\",F7585,IF(E7586=\"\",F7585,E7586/MAX($E$9:E7586)-1)))","v":""}]
[null,null,null,null,null,{"$f":"IF(B7587=\"\",\"\",IF(C7587=\"\",F7586,IF(E7587=\"\",F7586,E7587/MAX($E$9:E7587)-1)))","v":""}]
[null,null,null,null,null,{"$f":"IF(B7588=\"\",\"\",IF(C7588=\"\",F7587,IF(E7588=\"\",F7587,E7588/MAX($E$9:E7588)-1)))","v":""}]
[null,null,null,null,null,{"$f":"IF(B7589=\"\",\"\",IF(C7589=\"\",F7588,IF(E7589=\"\",F7588,E7589/MAX($E$9:E7589)-1)))","v":""}]
[null,null,null,null,null,{"$f":"IF(B7590=\"\",\"\",IF(C7590=\"\",F7589,IF(E7590=\"\",F7589,E7590/MAX($E$9:E7590)-1)))","v":""}]
[null,null,null,null,null,{"$f":"IF(B7591=\"\",\"\",IF(C7591=\"\",F7590,IF(E7591=\"\",F7590,E7591/MAX($E$9:E7591)-1)))","v":""}]
[null,null,null,null,null,{"$f":"IF(B7592=\"\",\"\",IF(C7592=\"\",F7591,IF(E7592=\"\",F7591,E7592/MAX($E$9:E7592)-1)))","v":""}]
[null,null,null,null,null,{"$f":"IF(B7593=\"\",\"\",IF(C7593=\"\",F7592,IF(E7593=\"\",F7592,E7593/MAX($E$9:E7593)-1)))","v":""}]
[null,null,null,null,null,{"$f":"IF(B7594=\"\",\"\",IF(C7594=\"\",F7593,IF(E7594=\"\",F7593,E7594/MAX($E$9:E7594)-1)))","v":""}]
[null,null,null,null,null,{"$f":"IF(B7595=\"\",\"\",IF(C7595=\"\",F7594,IF(E7595=\"\",F7594,E7595/MAX($E$9:E7595)-1)))","v":""}]
[null,null,null,null,null,{"$f":"IF(B7596=\"\",\"\",IF(C7596=\"\",F7595,IF(E7596=\"\",F7595,E7596/MAX($E$9:E7596)-1)))","v":""}]
[null,null,null,null,null,{"$f":"IF(B7597=\"\",\"\",IF(C7597=\"\",F7596,IF(E7597=\"\",F7596,E7597/MAX($E$9:E7597)-1)))","v":""}]
[null,null,null,null,null,{"$f":"IF(B7598=\"\",\"\",IF(C7598=\"\",F7597,IF(E7598=\"\",F7597,E7598/MAX($E$9:E7598)-1)))","v":""}]
[null,null,null,null,null,{"$f":"IF(B7599=\"\",\"\",IF(C7599=\"\",F7598,IF(E7599=\"\",F7598,E7599/MAX($E$9:E7599)-1)))","v":""}]
[null,null,null,null,null,{"$f":"IF(B7600=\"\",\"\",IF(C7600=\"\",F7599,IF(E7600=\"\",F7599,E7600/MAX($E$9:E7600)-1)))","v":""}]
[null,null,null,null,null,{"$f":"IF(B7601=\"\",\"\",IF(C7601=\"\",F7600,IF(E7601=\"\",F7600,E7601/MAX($E$9:E7601)-1)))","v":""}]
[null,null,null,null,null,{"$f":"IF(B7602=\"\",\"\",IF(C7602=\"\",F7601,IF(E7602=\"\",F7601,E7602/MAX($E$9:E7602)-1)))","v":""}]
[null,null,null,null,null,{"$f":"IF(B7603=\"\",\"\",IF(C7603=\"\",F7602,IF(E7603=\"\",F7602,E7603/MAX($E$9:E7603)-1)))","v":""}]
[null,null,null,null,null,{"$f":"IF(B7604=\"\",\"\",IF(C7604=\"\",F7603,IF(E7604=\"\",F7603,E7604/MAX($E$9:E7604)-1)))","v":""}]
[null,null,null,null,null,{"$f":"IF(B7605=\"\",\"\",IF(C7605=\"\",F7604,IF(E7605=\"\",F7604,E7605/MAX($E$9:E7605)-1)))","v":""}]
[null,null,null,null,null,{"$f":"IF(B7606=\"\",\"\",IF(C7606=\"\",F7605,IF(E7606=\"\",F7605,E7606/MAX($E$9:E7606)-1)))","v":""}]
[null,null,null,null,null,{"$f":"IF(B7607=\"\",\"\",IF(C7607=\"\",F7606,IF(E7607=\"\",F7606,E7607/MAX($E$9:E7607)-1)))","v":""}]
[null,null,null,null,null,{"$f":"IF(B7608=\"\",\"\",IF(C7608=\"\",F7607,IF(E7608=\"\",F7607,E7608/MAX($E$9:E7608)-1)))","v":""}]
[null,null,null,null,null,{"$f":"IF(B7609=\"\",\"\",IF(C7609=\"\",F7608,IF(E7609=\"\",F7608,E7609/MAX($E$9:E7609)-1)))","v":""}]
[null,null,null,null,null,{"$f":"IF(B7610=\"\",\"\",IF(C7610=\"\",F7609,IF(E7610=\"\",F7609,E7610/MAX($E$9:E7610)-1)))","v":""}]
[null,null,null,null,null,{"$f":"IF(B7611=\"\",\"\",IF(C7611=\"\",F7610,IF(E7611=\"\",F7610,E7611/MAX($E$9:E7611)-1)))","v":""}]
[null,null,null,null,null,{"$f":"IF(B7612=\"\",\"\",IF(C7612=\"\",F7611,IF(E7612=\"\",F7611,E7612/MAX($E$9:E7612)-1)))","v":""}]
[null,null,null,null,null,{"$f":"IF(B7613=\"\",\"\",IF(C7613=\"\",F7612,IF(E7613=\"\",F7612,E7613/MAX($E$9:E7613)-1)))","v":""}]
[null,null,null,null,null,{"$f":"IF(B7614=\"\",\"\",IF(C7614=\"\",F7613,IF(E7614=\"\",F7613,E7614/MAX($E$9:E7614)-1)))","v":""}]
[null,null,null,null,null,{"$f":"IF(B7615=\"\",\"\",IF(C7615=\"\",F7614,IF(E7615=\"\",F7614,E7615/MAX($E$9:E7615)-1)))","v":""}]
[null,null,null,null,null,{"$f":"IF(B7616=\"\",\"\",IF(C7616=\"\",F7615,IF(E7616=\"\",F7615,E7616/MAX($E$9:E7616)-1)))","v":""}]
[null,null,null,null,null,{"$f":"IF(B7617=\"\",\"\",IF(C7617=\"\",F7616,IF(E7617=\"\",F7616,E7617/MAX($E$9:E7617)-1)))","v":""}]
[null,null,null,null,null,{"$f":"IF(B7618=\"\",\"\",IF(C7618=\"\",F7617,IF(E7618=\"\",F7617,E7618/MAX($E$9:E7618)-1)))","v":""}]
[null,null,null,null,null,{"$f":"IF(B7619=\"\",\"\",IF(C7619=\"\",F7618,IF(E7619=\"\",F7618,E7619/MAX($E$9:E7619)-1)))","v":""}]
[null,null,null,null,null,{"$f":"IF(B7620=\"\",\"\",IF(C7620=\"\",F7619,IF(E7620=\"\",F7619,E7620/MAX($E$9:E7620)-1)))","v":""}]
[null,null,null,null,null,{"$f":"IF(B7621=\"\",\"\",IF(C7621=\"\",F7620,IF(E7621=\"\",F7620,E7621/MAX($E$9:E7621)-1)))","v":""}]
[null,null,null,null,null,{"$f":"IF(B7622=\"\",\"\",IF(C7622=\"\",F7621,IF(E7622=\"\",F7621,E7622/MAX($E$9:E7622)-1)))","v":""}]
[null,null,null,null,null,{"$f":"IF(B7623=\"\",\"\",IF(C7623=\"\",F7622,IF(E7623=\"\",F7622,E7623/MAX($E$9:E7623)-1)))","v":""}]
[null,null,null,null,null,{"$f":"IF(B7624=\"\",\"\",IF(C7624=\"\",F7623,IF(E7624=\"\",F7623,E7624/MAX($E$9:E7624)-1)))","v":""}]
[null,null,null,null,null,{"$f":"IF(B7625=\"\",\"\",IF(C7625=\"\",F7624,IF(E7625=\"\",F7624,E7625/MAX($E$9:E7625)-1)))","v":""}]
[null,null,null,null,null,{"$f":"IF(B7626=\"\",\"\",IF(C7626=\"\",F7625,IF(E7626=\"\",F7625,E7626/MAX($E$9:E7626)-1)))","v":""}]
[null,null,null,null,null,{"$f":"IF(B7627=\"\",\"\",IF(C7627=\"\",F7626,IF(E7627=\"\",F7626,E7627/MAX($E$9:E7627)-1)))","v":""}]
[null,null,null,null,null,{"$f":"IF(B7628=\"\",\"\",IF(C7628=\"\",F7627,IF(E7628=\"\",F7627,E7628/MAX($E$9:E7628)-1)))","v":""}]
[null,null,null,null,null,{"$f":"IF(B7629=\"\",\"\",IF(C7629=\"\",F7628,IF(E7629=\"\",F7628,E7629/MAX($E$9:E7629)-1)))","v":""}]
[null,null,null,null,null,{"$f":"IF(B7630=\"\",\"\",IF(C7630=\"\",F7629,IF(E7630=\"\",F7629,E7630/MAX($E$9:E7630)-1)))","v":""}]
[null,null,null,null,null,{"$f":"IF(B7631=\"\",\"\",IF(C7631=\"\",F7630,IF(E7631=\"\",F7630,E7631/MAX($E$9:E7631)-1)))","v":""}]
[null,null,null,null,null,{"$f":"IF(B7632=\"\",\"\",IF(C7632=\"\",F7631,IF(E7632=\"\",F7631,E7632/MAX($E$9:E7632)-1)))","v":""}]
[null,null,null,null,null,{"$f":"IF(B7633=\"\",\"\",IF(C7633=\"\",F7632,IF(E7633=\"\",F7632,E7633/MAX($E$9:E7633)-1)))","v":""}]
[null,null,null,null,null,{"$f":"IF(B7634=\"\",\"\",IF(C7634=\"\",F7633,IF(E7634=\"\",F7633,E7634/MAX($E$9:E7634)-1)))","v":""}]
[null,null,null,null,null,{"$f":"IF(B7635=\"\",\"\",IF(C7635=\"\",F7634,IF(E7635=\"\",F7634,E7635/MAX($E$9:E7635)-1)))","v":""}]
[null,null,null,null,null,{"$f":"IF(B7636=\"\",\"\",IF(C7636=\"\",F7635,IF(E7636=\"\",F7635,E7636/MAX($E$9:E7636)-1)))","v":""}]
[null,null,null,null,null,{"$f":"IF(B7637=\"\",\"\",IF(C7637=\"\",F7636,IF(E7637=\"\",F7636,E7637/MAX($E$9:E7637)-1)))","v":""}]
[null,null,null,null,null,{"$f":"IF(B7638=\"\",\"\",IF(C7638=\"\",F7637,IF(E7638=\"\",F7637,E7638/MAX($E$9:E7638)-1)))","v":""}]
[null,null,null,null,null,{"$f":"IF(B7639=\"\",\"\",IF(C7639=\"\",F7638,IF(E7639=\"\",F7638,E7639/MAX($E$9:E7639)-1)))","v":""}]
[null,null,null,null,null,{"$f":"IF(B7640=\"\",\"\",IF(C7640=\"\",F7639,IF(E7640=\"\",F7639,E7640/MAX($E$9:E7640)-1)))","v":""}]
[null,null,null,null,null,{"$f":"IF(B7641=\"\",\"\",IF(C7641=\"\",F7640,IF(E7641=\"\",F7640,E7641/MAX($E$9:E7641)-1)))","v":""}]
[null,null,null,null,null,{"$f":"IF(B7642=\"\",\"\",IF(C7642=\"\",F7641,IF(E7642=\"\",F7641,E7642/MAX($E$9:E7642)-1)))","v":""}]
[null,null,null,null,null,{"$f":"IF(B7643=\"\",\"\",IF(C7643=\"\",F7642,IF(E7643=\"\",F7642,E7643/MAX($E$9:E7643)-1)))","v":""}]
[null,null,null,null,null,{"$f":"IF(B7644=\"\",\"\",IF(C7644=\"\",F7643,IF(E7644=\"\",F7643,E7644/MAX($E$9:E7644)-1)))","v":""}]
[null,null,null,null,null,{"$f":"IF(B7645=\"\",\"\",IF(C7645=\"\",F7644,IF(E7645=\"\",F7644,E7645/MAX($E$9:E7645)-1)))","v":""}]
[null,null,null,null,null,{"$f":"IF(B7646=\"\",\"\",IF(C7646=\"\",F7645,IF(E7646=\"\",F7645,E7646/MAX($E$9:E7646)-1)))","v":""}]
[null,null,null,null,null,{"$f":"IF(B7647=\"\",\"\",IF(C7647=\"\",F7646,IF(E7647=\"\",F7646,E7647/MAX($E$9:E7647)-1)))","v":""}]
[null,null,null,null,null,{"$f":"IF(B7648=\"\",\"\",IF(C7648=\"\",F7647,IF(E7648=\"\",F7647,E7648/MAX($E$9:E7648)-1)))","v":""}]
[null,null,null,null,null,{"$f":"IF(B7649=\"\",\"\",IF(C7649=\"\",F7648,IF(E7649=\"\",F7648,E7649/MAX($E$9:E7649)-1)))","v":""}]
[null,null,null,null,null,{"$f":"IF(B7650=\"\",\"\",IF(C7650=\"\",F7649,IF(E7650=\"\",F7649,E7650/MAX($E$9:E7650)-1)))","v":""}]
[null,null,null,null,null,{"$f":"IF(B7651=\"\",\"\",IF(C7651=\"\",F7650,IF(E7651=\"\",F7650,E7651/MAX($E$9:E7651)-1)))","v":""}]
[null,null,null,null,null,{"$f":"IF(B7652=\"\",\"\",IF(C7652=\"\",F7651,IF(E7652=\"\",F7651,E7652/MAX($E$9:E7652)-1)))","v":""}]
[null,null,null,null,null,{"$f":"IF(B7653=\"\",\"\",IF(C7653=\"\",F7652,IF(E7653=\"\",F7652,E7653/MAX($E$9:E7653)-1)))","v":""}]
[null,null,null,null,null,{"$f":"IF(B7654=\"\",\"\",IF(C7654=\"\",F7653,IF(E7654=\"\",F7653,E7654/MAX($E$9:E7654)-1)))","v":""}]
[null,null,null,null,null,{"$f":"IF(B7655=\"\",\"\",IF(C7655=\"\",F7654,IF(E7655=\"\",F7654,E7655/MAX($E$9:E7655)-1)))","v":""}]
[null,null,null,null,null,{"$f":"IF(B7656=\"\",\"\",IF(C7656=\"\",F7655,IF(E7656=\"\",F7655,E7656/MAX($E$9:E7656)-1)))","v":""}]
[null,null,null,null,null,{"$f":"IF(B7657=\"\",\"\",IF(C7657=\"\",F7656,IF(E7657=\"\",F7656,E7657/MAX($E$9:E7657)-1)))","v":""}]
[null,null,null,null,null,{"$f":"IF(B7658=\"\",\"\",IF(C7658=\"\",F7657,IF(E7658=\"\",F7657,E7658/MAX($E$9:E7658)-1)))","v":""}]
[null,null,null,null,null,{"$f":"IF(B7659=\"\",\"\",IF(C7659=\"\",F7658,IF(E7659=\"\",F7658,E7659/MAX($E$9:E7659)-1)))","v":""}]
[null,null,null,null,null,{"$f":"IF(B7660=\"\",\"\",IF(C7660=\"\",F7659,IF(E7660=\"\",F7659,E7660/MAX($E$9:E7660)-1)))","v":""}]
[null,null,null,null,null,{"$f":"IF(B7661=\"\",\"\",IF(C7661=\"\",F7660,IF(E7661=\"\",F7660,E7661/MAX($E$9:E7661)-1)))","v":""}]
[null,null,null,null,null,{"$f":"IF(B7662=\"\",\"\",IF(C7662=\"\",F7661,IF(E7662=\"\",F7661,E7662/MAX($E$9:E7662)-1)))","v":""}]
[null,null,null,null,null,{"$f":"IF(B7663=\"\",\"\",IF(C7663=\"\",F7662,IF(E7663=\"\",F7662,E7663/MAX($E$9:E7663)-1)))","v":""}]
[null,null,null,null,null,{"$f":"IF(B7664=\"\",\"\",IF(C7664=\"\",F7663,IF(E7664=\"\",F7663,E7664/MAX($E$9:E7664)-1)))","v":""}]
[null,null,null,null,null,{"$f":"IF(B7665=\"\",\"\",IF(C7665=\"\",F7664,IF(E7665=\"\",F7664,E7665/MAX($E$9:E7665)-1)))","v":""}]
[null,null,null,null,null,{"$f":"IF(B7666=\"\",\"\",IF(C7666=\"\",F7665,IF(E7666=\"\",F7665,E7666/MAX($E$9:E7666)-1)))","v":""}]
[null,null,null,null,null,{"$f":"IF(B7667=\"\",\"\",IF(C7667=\"\",F7666,IF(E7667=\"\",F7666,E7667/MAX($E$9:E7667)-1)))","v":""}]
[null,null,null,null,null,{"$f":"IF(B7668=\"\",\"\",IF(C7668=\"\",F7667,IF(E7668=\"\",F7667,E7668/MAX($E$9:E7668)-1)))","v":""}]
[null,null,null,null,null,{"$f":"IF(B7669=\"\",\"\",IF(C7669=\"\",F7668,IF(E7669=\"\",F7668,E7669/MAX($E$9:E7669)-1)))","v":""}]
[null,null,null,null,null,{"$f":"IF(B7670=\"\",\"\",IF(C7670=\"\",F7669,IF(E7670=\"\",F7669,E7670/MAX($E$9:E7670)-1)))","v":""}]
[null,null,null,null,null,{"$f":"IF(B7671=\"\",\"\",IF(C7671=\"\",F7670,IF(E7671=\"\",F7670,E7671/MAX($E$9:E7671)-1)))","v":""}]
[null,null,null,null,null,{"$f":"IF(B7672=\"\",\"\",IF(C7672=\"\",F7671,IF(E7672=\"\",F7671,E7672/MAX($E$9:E7672)-1)))","v":""}]
[null,null,null,null,null,{"$f":"IF(B7673=\"\",\"\",IF(C7673=\"\",F7672,IF(E7673=\"\",F7672,E7673/MAX($E$9:E7673)-1)))","v":""}]
[null,null,null,null,null,{"$f":"IF(B7674=\"\",\"\",IF(C7674=\"\",F7673,IF(E7674=\"\",F7673,E7674/MAX($E$9:E7674)-1)))","v":""}]
[null,null,null,null,null,{"$f":"IF(B7675=\"\",\"\",IF(C7675=\"\",F7674,IF(E7675=\"\",F7674,E7675/MAX($E$9:E7675)-1)))","v":""}]
[null,null,null,null,null,{"$f":"IF(B7676=\"\",\"\",IF(C7676=\"\",F7675,IF(E7676=\"\",F7675,E7676/MAX($E$9:E7676)-1)))","v":""}]
[null,null,null,null,null,{"$f":"IF(B7677=\"\",\"\",IF(C7677=\"\",F7676,IF(E7677=\"\",F7676,E7677/MAX($E$9:E7677)-1)))","v":""}]
[null,null,null,null,null,{"$f":"IF(B7678=\"\",\"\",IF(C7678=\"\",F7677,IF(E7678=\"\",F7677,E7678/MAX($E$9:E7678)-1)))","v":""}]
[null,null,null,null,null,{"$f":"IF(B7679=\"\",\"\",IF(C7679=\"\",F7678,IF(E7679=\"\",F7678,E7679/MAX($E$9:E7679)-1)))","v":""}]
[null,null,null,null,null,{"$f":"IF(B7680=\"\",\"\",IF(C7680=\"\",F7679,IF(E7680=\"\",F7679,E7680/MAX($E$9:E7680)-1)))","v":""}]
[null,null,null,null,null,{"$f":"IF(B7681=\"\",\"\",IF(C7681=\"\",F7680,IF(E7681=\"\",F7680,E7681/MAX($E$9:E7681)-1)))","v":""}]
[null,null,null,null,null,{"$f":"IF(B7682=\"\",\"\",IF(C7682=\"\",F7681,IF(E7682=\"\",F7681,E7682/MAX($E$9:E7682)-1)))","v":""}]
[null,null,null,null,null,{"$f":"IF(B7683=\"\",\"\",IF(C7683=\"\",F7682,IF(E7683=\"\",F7682,E7683/MAX($E$9:E7683)-1)))","v":""}]
[null,null,null,null,null,{"$f":"IF(B7684=\"\",\"\",IF(C7684=\"\",F7683,IF(E7684=\"\",F7683,E7684/MAX($E$9:E7684)-1)))","v":""}]
[null,null,null,null,null,{"$f":"IF(B7685=\"\",\"\",IF(C7685=\"\",F7684,IF(E7685=\"\",F7684,E7685/MAX($E$9:E7685)-1)))","v":""}]
[null,null,null,null,null,{"$f":"IF(B7686=\"\",\"\",IF(C7686=\"\",F7685,IF(E7686=\"\",F7685,E7686/MAX($E$9:E7686)-1)))","v":""}]
[null,null,null,null,null,{"$f":"IF(B7687=\"\",\"\",IF(C7687=\"\",F7686,IF(E7687=\"\",F7686,E7687/MAX($E$9:E7687)-1)))","v":""}]
[null,null,null,null,null,{"$f":"IF(B7688=\"\",\"\",IF(C7688=\"\",F7687,IF(E7688=\"\",F7687,E7688/MAX($E$9:E7688)-1)))","v":""}]
[null,null,null,null,null,{"$f":"IF(B7689=\"\",\"\",IF(C7689=\"\",F7688,IF(E7689=\"\",F7688,E7689/MAX($E$9:E7689)-1)))","v":""}]
[null,null,null,null,null,{"$f":"IF(B7690=\"\",\"\",IF(C7690=\"\",F7689,IF(E7690=\"\",F7689,E7690/MAX($E$9:E7690)-1)))","v":""}]
[null,null,null,null,null,{"$f":"IF(B7691=\"\",\"\",IF(C7691=\"\",F7690,IF(E7691=\"\",F7690,E7691/MAX($E$9:E7691)-1)))","v":""}]
[null,null,null,null,null,{"$f":"IF(B7692=\"\",\"\",IF(C7692=\"\",F7691,IF(E7692=\"\",F7691,E7692/MAX($E$9:E7692)-1)))","v":""}]
[null,null,null,null,null,{"$f":"IF(B7693=\"\",\"\",IF(C7693=\"\",F7692,IF(E7693=\"\",F7692,E7693/MAX($E$9:E7693)-1)))","v":""}]
[null,null,null,null,null,{"$f":"IF(B7694=\"\",\"\",IF(C7694=\"\",F7693,IF(E7694=\"\",F7693,E7694/MAX($E$9:E7694)-1)))","v":""}]
[null,null,null,null,null,{"$f":"IF(B7695=\"\",\"\",IF(C7695=\"\",F7694,IF(E7695=\"\",F7694,E7695/MAX($E$9:E7695)-1)))","v":""}]
[null,null,null,null,null,{"$f":"IF(B7696=\"\",\"\",IF(C7696=\"\",F7695,IF(E7696=\"\",F7695,E7696/MAX($E$9:E7696)-1)))","v":""}]
[null,null,null,null,null,{"$f":"IF(B7697=\"\",\"\",IF(C7697=\"\",F7696,IF(E7697=\"\",F7696,E7697/MAX($E$9:E7697)-1)))","v":""}]
[null,null,null,null,null,{"$f":"IF(B7698=\"\",\"\",IF(C7698=\"\",F7697,IF(E7698=\"\",F7697,E7698/MAX($E$9:E7698)-1)))","v":""}]
[null,null,null,null,null,{"$f":"IF(B7699=\"\",\"\",IF(C7699=\"\",F7698,IF(E7699=\"\",F7698,E7699/MAX($E$9:E7699)-1)))","v":""}]
[null,null,null,null,null,{"$f":"IF(B7700=\"\",\"\",IF(C7700=\"\",F7699,IF(E7700=\"\",F7699,E7700/MAX($E$9:E7700)-1)))","v":""}]
[null,null,null,null,null,{"$f":"IF(B7701=\"\",\"\",IF(C7701=\"\",F7700,IF(E7701=\"\",F7700,E7701/MAX($E$9:E7701)-1)))","v":""}]
[null,null,null,null,null,{"$f":"IF(B7702=\"\",\"\",IF(C7702=\"\",F7701,IF(E7702=\"\",F7701,E7702/MAX($E$9:E7702)-1)))","v":""}]
[null,null,null,null,null,{"$f":"IF(B7703=\"\",\"\",IF(C7703=\"\",F7702,IF(E7703=\"\",F7702,E7703/MAX($E$9:E7703)-1)))","v":""}]
[null,null,null,null,null,{"$f":"IF(B7704=\"\",\"\",IF(C7704=\"\",F7703,IF(E7704=\"\",F7703,E7704/MAX($E$9:E7704)-1)))","v":""}]
[null,null,null,null,null,{"$f":"IF(B7705=\"\",\"\",IF(C7705=\"\",F7704,IF(E7705=\"\",F7704,E7705/MAX($E$9:E7705)-1)))","v":""}]
[null,null,null,null,null,{"$f":"IF(B7706=\"\",\"\",IF(C7706=\"\",F7705,IF(E7706=\"\",F7705,E7706/MAX($E$9:E7706)-1)))","v":""}]
[null,null,null,null,null,{"$f":"IF(B7707=\"\",\"\",IF(C7707=\"\",F7706,IF(E7707=\"\",F7706,E7707/MAX($E$9:E7707)-1)))","v":""}]
[null,null,null,null,null,{"$f":"IF(B7708=\"\",\"\",IF(C7708=\"\",F7707,IF(E7708=\"\",F7707,E7708/MAX($E$9:E7708)-1)))","v":""}]
[null,null,null,null,null,{"$f":"IF(B7709=\"\",\"\",IF(C7709=\"\",F7708,IF(E7709=\"\",F7708,E7709/MAX($E$9:E7709)-1)))","v":""}]
[null,null,null,null,null,{"$f":"IF(B7710=\"\",\"\",IF(C7710=\"\",F7709,IF(E7710=\"\",F7709,E7710/MAX($E$9:E7710)-1)))","v":""}]
[null,null,null,null,null,{"$f":"IF(B7711=\"\",\"\",IF(C7711=\"\",F7710,IF(E7711=\"\",F7710,E7711/MAX($E$9:E7711)-1)))","v":""}]
[null,null,null,null,null,{"$f":"IF(B7712=\"\",\"\",IF(C7712=\"\",F7711,IF(E7712=\"\",F7711,E7712/MAX($E$9:E7712)-1)))","v":""}]
[null,null,null,null,null,{"$f":"IF(B7713=\"\",\"\",IF(C7713=\"\",F7712,IF(E7713=\"\",F7712,E7713/MAX($E$9:E7713)-1)))","v":""}]
[null,null,null,null,null,{"$f":"IF(B7714=\"\",\"\",IF(C7714=\"\",F7713,IF(E7714=\"\",F7713,E7714/MAX($E$9:E7714)-1)))","v":""}]
[null,null,null,null,null,{"$f":"IF(B7715=\"\",\"\",IF(C7715=\"\",F7714,IF(E7715=\"\",F7714,E7715/MAX($E$9:E7715)-1)))","v":""}]
[null,null,null,null,null,{"$f":"IF(B7716=\"\",\"\",IF(C7716=\"\",F7715,IF(E7716=\"\",F7715,E7716/MAX($E$9:E7716)-1)))","v":""}]
[null,null,null,null,null,{"$f":"IF(B7717=\"\",\"\",IF(C7717=\"\",F7716,IF(E7717=\"\",F7716,E7717/MAX($E$9:E7717)-1)))","v":""}]
[null,null,null,null,null,{"$f":"IF(B7718=\"\",\"\",IF(C7718=\"\",F7717,IF(E7718=\"\",F7717,E7718/MAX($E$9:E7718)-1)))","v":""}]
[null,null,null,null,null,{"$f":"IF(B7719=\"\",\"\",IF(C7719=\"\",F7718,IF(E7719=\"\",F7718,E7719/MAX($E$9:E7719)-1)))","v":""}]
[null,null,null,null,null,{"$f":"IF(B7720=\"\",\"\",IF(C7720=\"\",F7719,IF(E7720=\"\",F7719,E7720/MAX($E$9:E7720)-1)))","v":""}]
[null,null,null,null,null,{"$f":"IF(B7721=\"\",\"\",IF(C7721=\"\",F7720,IF(E7721=\"\",F7720,E7721/MAX($E$9:E7721)-1)))","v":""}]
[null,null,null,null,null,{"$f":"IF(B7722=\"\",\"\",IF(C7722=\"\",F7721,IF(E7722=\"\",F7721,E7722/MAX($E$9:E7722)-1)))","v":""}]
[null,null,null,null,null,{"$f":"IF(B7723=\"\",\"\",IF(C7723=\"\",F7722,IF(E7723=\"\",F7722,E7723/MAX($E$9:E7723)-1)))","v":""}]
[null,null,null,null,null,{"$f":"IF(B7724=\"\",\"\",IF(C7724=\"\",F7723,IF(E7724=\"\",F7723,E7724/MAX($E$9:E7724)-1)))","v":""}]
[null,null,null,null,null,{"$f":"IF(B7725=\"\",\"\",IF(C7725=\"\",F7724,IF(E7725=\"\",F7724,E7725/MAX($E$9:E7725)-1)))","v":""}]
[null,null,null,null,null,{"$f":"IF(B7726=\"\",\"\",IF(C7726=\"\",F7725,IF(E7726=\"\",F7725,E7726/MAX($E$9:E7726)-1)))","v":""}]
[null,null,null,null,null,{"$f":"IF(B7727=\"\",\"\",IF(C7727=\"\",F7726,IF(E7727=\"\",F7726,E7727/MAX($E$9:E7727)-1)))","v":""}]
[null,null,null,null,null,{"$f":"IF(B7728=\"\",\"\",IF(C7728=\"\",F7727,IF(E7728=\"\",F7727,E7728/MAX($E$9:E7728)-1)))","v":""}]
[null,null,null,null,null,{"$f":"IF(B7729=\"\",\"\",IF(C7729=\"\",F7728,IF(E7729=\"\",F7728,E7729/MAX($E$9:E7729)-1)))","v":""}]
[null,null,null,null,null,{"$f":"IF(B7730=\"\",\"\",IF(C7730=\"\",F7729,IF(E7730=\"\",F7729,E7730/MAX($E$9:E7730)-1)))","v":""}]
[null,null,null,null,null,{"$f":"IF(B7731=\"\",\"\",IF(C7731=\"\",F7730,IF(E7731=\"\",F7730,E7731/MAX($E$9:E7731)-1)))","v":""}]
[null,null,null,null,null,{"$f":"IF(B7732=\"\",\"\",IF(C7732=\"\",F7731,IF(E7732=\"\",F7731,E7732/MAX($E$9:E7732)-1)))","v":""}]
[null,null,null,null,null,{"$f":"IF(B7733=\"\",\"\",IF(C7733=\"\",F7732,IF(E7733=\"\",F7732,E7733/MAX($E$9:E7733)-1)))","v":""}]
[null,null,null,null,null,{"$f":"IF(B7734=\"\",\"\",IF(C7734=\"\",F7733,IF(E7734=\"\",F7733,E7734/MAX($E$9:E7734)-1)))","v":""}]
[null,null,null,null,null,{"$f":"IF(B7735=\"\",\"\",IF(C7735=\"\",F7734,IF(E7735=\"\",F7734,E7735/MAX($E$9:E7735)-1)))","v":""}]
[null,null,null,null,null,{"$f":"IF(B7736=\"\",\"\",IF(C7736=\"\",F7735,IF(E7736=\"\",F7735,E7736/MAX($E$9:E7736)-1)))","v":""}]
[null,null,null,null,null,{"$f":"IF(B7737=\"\",\"\",IF(C7737=\"\",F7736,IF(E7737=\"\",F7736,E7737/MAX($E$9:E7737)-1)))","v":""}]
[null,null,null,null,null,{"$f":"IF(B7738=\"\",\"\",IF(C7738=\"\",F7737,IF(E7738=\"\",F7737,E7738/MAX($E$9:E7738)-1)))","v":""}]
[null,null,null,null,null,{"$f":"IF(B7739=\"\",\"\",IF(C7739=\"\",F7738,IF(E7739=\"\",F7738,E7739/MAX($E$9:E7739)-1)))","v":""}]
[null,null,null,null,null,{"$f":"IF(B7740=\"\",\"\",IF(C7740=\"\",F7739,IF(E7740=\"\",F7739,E7740/MAX($E$9:E7740)-1)))","v":""}]
[null,null,null,null,null,{"$f":"IF(B7741=\"\",\"\",IF(C7741=\"\",F7740,IF(E7741=\"\",F7740,E7741/MAX($E$9:E7741)-1)))","v":""}]
[null,null,null,null,null,{"$f":"IF(B7742=\"\",\"\",IF(C7742=\"\",F7741,IF(E7742=\"\",F7741,E7742/MAX($E$9:E7742)-1)))","v":""}]
[null,null,null,null,null,{"$f":"IF(B7743=\"\",\"\",IF(C7743=\"\",F7742,IF(E7743=\"\",F7742,E7743/MAX($E$9:E7743)-1)))","v":""}]
[null,null,null,null,null,{"$f":"IF(B7744=\"\",\"\",IF(C7744=\"\",F7743,IF(E7744=\"\",F7743,E7744/MAX($E$9:E7744)-1)))","v":""}]
[null,null,null,null,null,{"$f":"IF(B7745=\"\",\"\",IF(C7745=\"\",F7744,IF(E7745=\"\",F7744,E7745/MAX($E$9:E7745)-1)))","v":""}]
[null,null,null,null,null,{"$f":"IF(B7746=\"\",\"\",IF(C7746=\"\",F7745,IF(E7746=\"\",F7745,E7746/MAX($E$9:E7746)-1)))","v":""}]
[null,null,null,null,null,{"$f":"IF(B7747=\"\",\"\",IF(C7747=\"\",F7746,IF(E7747=\"\",F7746,E7747/MAX($E$9:E7747)-1)))","v":""}]
[null,null,null,null,null,{"$f":"IF(B7748=\"\",\"\",IF(C7748=\"\",F7747,IF(E7748=\"\",F7747,E7748/MAX($E$9:E7748)-1)))","v":""}]
[null,null,null,null,null,{"$f":"IF(B7749=\"\",\"\",IF(C7749=\"\",F7748,IF(E7749=\"\",F7748,E7749/MAX($E$9:E7749)-1)))","v":""}]
[null,null,null,null,null,{"$f":"IF(B7750=\"\",\"\",IF(C7750=\"\",F7749,IF(E7750=\"\",F7749,E7750/MAX($E$9:E7750)-1)))","v":""}]
[null,null,null,null,null,{"$f":"IF(B7751=\"\",\"\",IF(C7751=\"\",F7750,IF(E7751=\"\",F7750,E7751/MAX($E$9:E7751)-1)))","v":""}]
[null,null,null,null,null,{"$f":"IF(B7752=\"\",\"\",IF(C7752=\"\",F7751,IF(E7752=\"\",F7751,E7752/MAX($E$9:E7752)-1)))","v":""}]
[null,null,null,null,null,{"$f":"IF(B7753=\"\",\"\",IF(C7753=\"\",F7752,IF(E7753=\"\",F7752,E7753/MAX($E$9:E7753)-1)))","v":""}]
[null,null,null,null,null,{"$f":"IF(B7754=\"\",\"\",IF(C7754=\"\",F7753,IF(E7754=\"\",F7753,E7754/MAX($E$9:E7754)-1)))","v":""}]
[null,null,null,null,null,{"$f":"IF(B7755=\"\",\"\",IF(C7755=\"\",F7754,IF(E7755=\"\",F7754,E7755/MAX($E$9:E7755)-1)))","v":""}]
[null,null,null,null,null,{"$f":"IF(B7756=\"\",\"\",IF(C7756=\"\",F7755,IF(E7756=\"\",F7755,E7756/MAX($E$9:E7756)-1)))","v":""}]
[null,null,null,null,null,{"$f":"IF(B7757=\"\",\"\",IF(C7757=\"\",F7756,IF(E7757=\"\",F7756,E7757/MAX($E$9:E7757)-1)))","v":""}]
[null,null,null,null,null,{"$f":"IF(B7758=\"\",\"\",IF(C7758=\"\",F7757,IF(E7758=\"\",F7757,E7758/MAX($E$9:E7758)-1)))","v":""}]
[null,null,null,null,null,{"$f":"IF(B7759=\"\",\"\",IF(C7759=\"\",F7758,IF(E7759=\"\",F7758,E7759/MAX($E$9:E7759)-1)))","v":""}]
[null,null,null,null,null,{"$f":"IF(B7760=\"\",\"\",IF(C7760=\"\",F7759,IF(E7760=\"\",F7759,E7760/MAX($E$9:E7760)-1)))","v":""}]
[null,null,null,null,null,{"$f":"IF(B7761=\"\",\"\",IF(C7761=\"\",F7760,IF(E7761=\"\",F7760,E7761/MAX($E$9:E7761)-1)))","v":""}]
[null,null,null,null,null,{"$f":"IF(B7762=\"\",\"\",IF(C7762=\"\",F7761,IF(E7762=\"\",F7761,E7762/MAX($E$9:E7762)-1)))","v":""}]
[null,null,null,null,null,{"$f":"IF(B7763=\"\",\"\",IF(C7763=\"\",F7762,IF(E7763=\"\",F7762,E7763/MAX($E$9:E7763)-1)))","v":""}]
[null,null,null,null,null,{"$f":"IF(B7764=\"\",\"\",IF(C7764=\"\",F7763,IF(E7764=\"\",F7763,E7764/MAX($E$9:E7764)-1)))","v":""}]
[null,null,null,null,null,{"$f":"IF(B7765=\"\",\"\",IF(C7765=\"\",F7764,IF(E7765=\"\",F7764,E7765/MAX($E$9:E7765)-1)))","v":""}]
[null,null,null,null,null,{"$f":"IF(B7766=\"\",\"\",IF(C7766=\"\",F7765,IF(E7766=\"\",F7765,E7766/MAX($E$9:E7766)-1)))","v":""}]
[null,null,null,null,null,{"$f":"IF(B7767=\"\",\"\",IF(C7767=\"\",F7766,IF(E7767=\"\",F7766,E7767/MAX($E$9:E7767)-1)))","v":""}]
[null,null,null,null,null,{"$f":"IF(B7768=\"\",\"\",IF(C7768=\"\",F7767,IF(E7768=\"\",F7767,E7768/MAX($E$9:E7768)-1)))","v":""}]
[null,null,null,null,null,{"$f":"IF(B7769=\"\",\"\",IF(C7769=\"\",F7768,IF(E7769=\"\",F7768,E7769/MAX($E$9:E7769)-1)))","v":""}]
[null,null,null,null,null,{"$f":"IF(B7770=\"\",\"\",IF(C7770=\"\",F7769,IF(E7770=\"\",F7769,E7770/MAX($E$9:E7770)-1)))","v":""}]
[null,null,null,null,null,{"$f":"IF(B7771=\"\",\"\",IF(C7771=\"\",F7770,IF(E7771=\"\",F7770,E7771/MAX($E$9:E7771)-1)))","v":""}]
[null,null,null,null,null,{"$f":"IF(B7772=\"\",\"\",IF(C7772=\"\",F7771,IF(E7772=\"\",F7771,E7772/MAX($E$9:E7772)-1)))","v":""}]
[null,null,null,null,null,{"$f":"IF(B7773=\"\",\"\",IF(C7773=\"\",F7772,IF(E7773=\"\",F7772,E7773/MAX($E$9:E7773)-1)))","v":""}]
[null,null,null,null,null,{"$f":"IF(B7774=\"\",\"\",IF(C7774=\"\",F7773,IF(E7774=\"\",F7773,E7774/MAX($E$9:E7774)-1)))","v":""}]
[null,null,null,null,null,{"$f":"IF(B7775=\"\",\"\",IF(C7775=\"\",F7774,IF(E7775=\"\",F7774,E7775/MAX($E$9:E7775)-1)))","v":""}]
[null,null,null,null,null,{"$f":"IF(B7776=\"\",\"\",IF(C7776=\"\",F7775,IF(E7776=\"\",F7775,E7776/MAX($E$9:E7776)-1)))","v":""}]
[null,null,null,null,null,{"$f":"IF(B7777=\"\",\"\",IF(C7777=\"\",F7776,IF(E7777=\"\",F7776,E7777/MAX($E$9:E7777)-1)))","v":""}]
[null,null,null,null,null,{"$f":"IF(B7778=\"\",\"\",IF(C7778=\"\",F7777,IF(E7778=\"\",F7777,E7778/MAX($E$9:E7778)-1)))","v":""}]
[null,null,null,null,null,{"$f":"IF(B7779=\"\",\"\",IF(C7779=\"\",F7778,IF(E7779=\"\",F7778,E7779/MAX($E$9:E7779)-1)))","v":""}]
[null,null,null,null,null,{"$f":"IF(B7780=\"\",\"\",IF(C7780=\"\",F7779,IF(E7780=\"\",F7779,E7780/MAX($E$9:E7780)-1)))","v":""}]
[null,null,null,null,null,{"$f":"IF(B7781=\"\",\"\",IF(C7781=\"\",F7780,IF(E7781=\"\",F7780,E7781/MAX($E$9:E7781)-1)))","v":""}]
[null,null,null,null,null,{"$f":"IF(B7782=\"\",\"\",IF(C7782=\"\",F7781,IF(E7782=\"\",F7781,E7782/MAX($E$9:E7782)-1)))","v":""}]
[null,null,null,null,null,{"$f":"IF(B7783=\"\",\"\",IF(C7783=\"\",F7782,IF(E7783=\"\",F7782,E7783/MAX($E$9:E7783)-1)))","v":""}]
[null,null,null,null,null,{"$f":"IF(B7784=\"\",\"\",IF(C7784=\"\",F7783,IF(E7784=\"\",F7783,E7784/MAX($E$9:E7784)-1)))","v":""}]
[null,null,null,null,null,{"$f":"IF(B7785=\"\",\"\",IF(C7785=\"\",F7784,IF(E7785=\"\",F7784,E7785/MAX($E$9:E7785)-1)))","v":""}]
[null,null,null,null,null,{"$f":"IF(B7786=\"\",\"\",IF(C7786=\"\",F7785,IF(E7786=\"\",F7785,E7786/MAX($E$9:E7786)-1)))","v":""}]
[null,null,null,null,null,{"$f":"IF(B7787=\"\",\"\",IF(C7787=\"\",F7786,IF(E7787=\"\",F7786,E7787/MAX($E$9:E7787)-1)))","v":""}]
[null,null,null,null,null,{"$f":"IF(B7788=\"\",\"\",IF(C7788=\"\",F7787,IF(E7788=\"\",F7787,E7788/MAX($E$9:E7788)-1)))","v":""}]
[null,null,null,null,null,{"$f":"IF(B7789=\"\",\"\",IF(C7789=\"\",F7788,IF(E7789=\"\",F7788,E7789/MAX($E$9:E7789)-1)))","v":""}]
[null,null,null,null,null,{"$f":"IF(B7790=\"\",\"\",IF(C7790=\"\",F7789,IF(E7790=\"\",F7789,E7790/MAX($E$9:E7790)-1)))","v":""}]
[null,null,null,null,null,{"$f":"IF(B7791=\"\",\"\",IF(C7791=\"\",F7790,IF(E7791=\"\",F7790,E7791/MAX($E$9:E7791)-1)))","v":""}]
[null,null,null,null,null,{"$f":"IF(B7792=\"\",\"\",IF(C7792=\"\",F7791,IF(E7792=\"\",F7791,E7792/MAX($E$9:E7792)-1)))","v":""}]
[null,null,null,null,null,{"$f":"IF(B7793=\"\",\"\",IF(C7793=\"\",F7792,IF(E7793=\"\",F7792,E7793/MAX($E$9:E7793)-1)))","v":""}]
[null,null,null,null,null,{"$f":"IF(B7794=\"\",\"\",IF(C7794=\"\",F7793,IF(E7794=\"\",F7793,E7794/MAX($E$9:E7794)-1)))","v":""}]
[null,null,null,null,null,{"$f":"IF(B7795=\"\",\"\",IF(C7795=\"\",F7794,IF(E7795=\"\",F7794,E7795/MAX($E$9:E7795)-1)))","v":""}]
[null,null,null,null,null,{"$f":"IF(B7796=\"\",\"\",IF(C7796=\"\",F7795,IF(E7796=\"\",F7795,E7796/MAX($E$9:E7796)-1)))","v":""}]
[null,null,null,null,null,{"$f":"IF(B7797=\"\",\"\",IF(C7797=\"\",F7796,IF(E7797=\"\",F7796,E7797/MAX($E$9:E7797)-1)))","v":""}]
[null,null,null,null,null,{"$f":"IF(B7798=\"\",\"\",IF(C7798=\"\",F7797,IF(E7798=\"\",F7797,E7798/MAX($E$9:E7798)-1)))","v":""}]
[null,null,null,null,null,{"$f":"IF(B7799=\"\",\"\",IF(C7799=\"\",F7798,IF(E7799=\"\",F7798,E7799/MAX($E$9:E7799)-1)))","v":""}]
[null,null,null,null,null,{"$f":"IF(B7800=\"\",\"\",IF(C7800=\"\",F7799,IF(E7800=\"\",F7799,E7800/MAX($E$9:E7800)-1)))","v":""}]
[null,null,null,null,null,{"$f":"IF(B7801=\"\",\"\",IF(C7801=\"\",F7800,IF(E7801=\"\",F7800,E7801/MAX($E$9:E7801)-1)))","v":""}]
[null,null,null,null,null,{"$f":"IF(B7802=\"\",\"\",IF(C7802=\"\",F7801,IF(E7802=\"\",F7801,E7802/MAX($E$9:E7802)-1)))","v":""}]
[null,null,null,null,null,{"$f":"IF(B7803=\"\",\"\",IF(C7803=\"\",F7802,IF(E7803=\"\",F7802,E7803/MAX($E$9:E7803)-1)))","v":""}]
[null,null,null,null,null,{"$f":"IF(B7804=\"\",\"\",IF(C7804=\"\",F7803,IF(E7804=\"\",F7803,E7804/MAX($E$9:E7804)-1)))","v":""}]
[null,null,null,null,null,{"$f":"IF(B7805=\"\",\"\",IF(C7805=\"\",F7804,IF(E7805=\"\",F7804,E7805/MAX($E$9:E7805)-1)))","v":""}]
[null,null,null,null,null,{"$f":"IF(B7806=\"\",\"\",IF(C7806=\"\",F7805,IF(E7806=\"\",F7805,E7806/MAX($E$9:E7806)-1)))","v":""}]
[null,null,null,null,null,{"$f":"IF(B7807=\"\",\"\",IF(C7807=\"\",F7806,IF(E7807=\"\",F7806,E7807/MAX($E$9:E7807)-1)))","v":""}]
[null,null,null,null,null,{"$f":"IF(B7808=\"\",\"\",IF(C7808=\"\",F7807,IF(E7808=\"\",F7807,E7808/MAX($E$9:E7808)-1)))","v":""}]
[null,null,null,null,null,{"$f":"IF(B7809=\"\",\"\",IF(C7809=\"\",F7808,IF(E7809=\"\",F7808,E7809/MAX($E$9:E7809)-1)))","v":""}]
[null,null,null,null,null,{"$f":"IF(B7810=\"\",\"\",IF(C7810=\"\",F7809,IF(E7810=\"\",F7809,E7810/MAX($E$9:E7810)-1)))","v":""}]
[null,null,null,null,null,{"$f":"IF(B7811=\"\",\"\",IF(C7811=\"\",F7810,IF(E7811=\"\",F7810,E7811/MAX($E$9:E7811)-1)))","v":""}]
[null,null,null,null,null,{"$f":"IF(B7812=\"\",\"\",IF(C7812=\"\",F7811,IF(E7812=\"\",F7811,E7812/MAX($E$9:E7812)-1)))","v":""}]
[null,null,null,null,null,{"$f":"IF(B7813=\"\",\"\",IF(C7813=\"\",F7812,IF(E7813=\"\",F7812,E7813/MAX($E$9:E7813)-1)))","v":""}]
[null,null,null,null,null,{"$f":"IF(B7814=\"\",\"\",IF(C7814=\"\",F7813,IF(E7814=\"\",F7813,E7814/MAX($E$9:E7814)-1)))","v":""}]
[null,null,null,null,null,{"$f":"IF(B7815=\"\",\"\",IF(C7815=\"\",F7814,IF(E7815=\"\",F7814,E7815/MAX($E$9:E7815)-1)))","v":""}]
[null,null,null,null,null,{"$f":"IF(B7816=\"\",\"\",IF(C7816=\"\",F7815,IF(E7816=\"\",F7815,E7816/MAX($E$9:E7816)-1)))","v":""}]
[null,null,null,null,null,{"$f":"IF(B7817=\"\",\"\",IF(C7817=\"\",F7816,IF(E7817=\"\",F7816,E7817/MAX($E$9:E7817)-1)))","v":""}]
[null,null,null,null,null,{"$f":"IF(B7818=\"\",\"\",IF(C7818=\"\",F7817,IF(E7818=\"\",F7817,E7818/MAX($E$9:E7818)-1)))","v":""}]
[null,null,null,null,null,{"$f":"IF(B7819=\"\",\"\",IF(C7819=\"\",F7818,IF(E7819=\"\",F7818,E7819/MAX($E$9:E7819)-1)))","v":""}]
[null,null,null,null,null,{"$f":"IF(B7820=\"\",\"\",IF(C7820=\"\",F7819,IF(E7820=\"\",F7819,E7820/MAX($E$9:E7820)-1)))","v":""}]
[null,null,null,null,null,{"$f":"IF(B7821=\"\",\"\",IF(C7821=\"\",F7820,IF(E7821=\"\",F7820,E7821/MAX($E$9:E7821)-1)))","v":""}]
[null,null,null,null,null,{"$f":"IF(B7822=\"\",\"\",IF(C7822=\"\",F7821,IF(E7822=\"\",F7821,E7822/MAX($E$9:E7822)-1)))","v":""}]
[null,null,null,null,null,{"$f":"IF(B7823=\"\",\"\",IF(C7823=\"\",F7822,IF(E7823=\"\",F7822,E7823/MAX($E$9:E7823)-1)))","v":""}]
[null,null,null,null,null,{"$f":"IF(B7824=\"\",\"\",IF(C7824=\"\",F7823,IF(E7824=\"\",F7823,E7824/MAX($E$9:E7824)-1)))","v":""}]
[null,null,null,null,null,{"$f":"IF(B7825=\"\",\"\",IF(C7825=\"\",F7824,IF(E7825=\"\",F7824,E7825/MAX($E$9:E7825)-1)))","v":""}]
[null,null,null,null,null,{"$f":"IF(B7826=\"\",\"\",IF(C7826=\"\",F7825,IF(E7826=\"\",F7825,E7826/MAX($E$9:E7826)-1)))","v":""}]
[null,null,null,null,null,{"$f":"IF(B7827=\"\",\"\",IF(C7827=\"\",F7826,IF(E7827=\"\",F7826,E7827/MAX($E$9:E7827)-1)))","v":""}]
[null,null,null,null,null,{"$f":"IF(B7828=\"\",\"\",IF(C7828=\"\",F7827,IF(E7828=\"\",F7827,E7828/MAX($E$9:E7828)-1)))","v":""}]
[null,null,null,null,null,{"$f":"IF(B7829=\"\",\"\",IF(C7829=\"\",F7828,IF(E7829=\"\",F7828,E7829/MAX($E$9:E7829)-1)))","v":""}]
[null,null,null,null,null,{"$f":"IF(B7830=\"\",\"\",IF(C7830=\"\",F7829,IF(E7830=\"\",F7829,E7830/MAX($E$9:E7830)-1)))","v":""}]
[null,null,null,null,null,{"$f":"IF(B7831=\"\",\"\",IF(C7831=\"\",F7830,IF(E7831=\"\",F7830,E7831/MAX($E$9:E7831)-1)))","v":""}]
[null,null,null,null,null,{"$f":"IF(B7832=\"\",\"\",IF(C7832=\"\",F7831,IF(E7832=\"\",F7831,E7832/MAX($E$9:E7832)-1)))","v":""}]
[null,null,null,null,null,{"$f":"IF(B7833=\"\",\"\",IF(C7833=\"\",F7832,IF(E7833=\"\",F7832,E7833/MAX($E$9:E7833)-1)))","v":""}]
[null,null,null,null,null,{"$f":"IF(B7834=\"\",\"\",IF(C7834=\"\",F7833,IF(E7834=\"\",F7833,E7834/MAX($E$9:E7834)-1)))","v":""}]
[null,null,null,null,null,{"$f":"IF(B7835=\"\",\"\",IF(C7835=\"\",F7834,IF(E7835=\"\",F7834,E7835/MAX($E$9:E7835)-1)))","v":""}]
[null,null,null,null,null,{"$f":"IF(B7836=\"\",\"\",IF(C7836=\"\",F7835,IF(E7836=\"\",F7835,E7836/MAX($E$9:E7836)-1)))","v":""}]
[null,null,null,null,null,{"$f":"IF(B7837=\"\",\"\",IF(C7837=\"\",F7836,IF(E7837=\"\",F7836,E7837/MAX($E$9:E7837)-1)))","v":""}]
[null,null,null,null,null,{"$f":"IF(B7838=\"\",\"\",IF(C7838=\"\",F7837,IF(E7838=\"\",F7837,E7838/MAX($E$9:E7838)-1)))","v":""}]
[null,null,null,null,null,{"$f":"IF(B7839=\"\",\"\",IF(C7839=\"\",F7838,IF(E7839=\"\",F7838,E7839/MAX($E$9:E7839)-1)))","v":""}]
[null,null,null,null,null,{"$f":"IF(B7840=\"\",\"\",IF(C7840=\"\",F7839,IF(E7840=\"\",F7839,E7840/MAX($E$9:E7840)-1)))","v":""}]
[null,null,null,null,null,{"$f":"IF(B7841=\"\",\"\",IF(C7841=\"\",F7840,IF(E7841=\"\",F7840,E7841/MAX($E$9:E7841)-1)))","v":""}]
[null,null,null,null,null,{"$f":"IF(B7842=\"\",\"\",IF(C7842=\"\",F7841,IF(E7842=\"\",F7841,E7842/MAX($E$9:E7842)-1)))","v":""}]
[null,null,null,null,null,{"$f":"IF(B7843=\"\",\"\",IF(C7843=\"\",F7842,IF(E7843=\"\",F7842,E7843/MAX($E$9:E7843)-1)))","v":""}]
[null,null,null,null,null,{"$f":"IF(B7844=\"\",\"\",IF(C7844=\"\",F7843,IF(E7844=\"\",F7843,E7844/MAX($E$9:E7844)-1)))","v":""}]
[null,null,null,null,null,{"$f":"IF(B7845=\"\",\"\",IF(C7845=\"\",F7844,IF(E7845=\"\",F7844,E7845/MAX($E$9:E7845)-1)))","v":""}]
[null,null,null,null,null,{"$f":"IF(B7846=\"\",\"\",IF(C7846=\"\",F7845,IF(E7846=\"\",F7845,E7846/MAX($E$9:E7846)-1)))","v":""}]
[null,null,null,null,null,{"$f":"IF(B7847=\"\",\"\",IF(C7847=\"\",F7846,IF(E7847=\"\",F7846,E7847/MAX($E$9:E7847)-1)))","v":""}]
[null,null,null,null,null,{"$f":"IF(B7848=\"\",\"\",IF(C7848=\"\",F7847,IF(E7848=\"\",F7847,E7848/MAX($E$9:E7848)-1)))","v":""}]
[null,null,null,null,null,{"$f":"IF(B7849=\"\",\"\",IF(C7849=\"\",F7848,IF(E7849=\"\",F7848,E7849/MAX($E$9:E7849)-1)))","v":""}]
[null,null,null,null,null,{"$f":"IF(B7850=\"\",\"\",IF(C7850=\"\",F7849,IF(E7850=\"\",F7849,E7850/MAX($E$9:E7850)-1)))","v":""}]
[null,null,null,null,null,{"$f":"IF(B7851=\"\",\"\",IF(C7851=\"\",F7850,IF(E7851=\"\",F7850,E7851/MAX($E$9:E7851)-1)))","v":""}]
[null,null,null,null,null,{"$f":"IF(B7852=\"\",\"\",IF(C7852=\"\",F7851,IF(E7852=\"\",F7851,E7852/MAX($E$9:E7852)-1)))","v":""}]
[null,null,null,null,null,{"$f":"IF(B7853=\"\",\"\",IF(C7853=\"\",F7852,IF(E7853=\"\",F7852,E7853/MAX($E$9:E7853)-1)))","v":""}]
[null,null,null,null,null,{"$f":"IF(B7854=\"\",\"\",IF(C7854=\"\",F7853,IF(E7854=\"\",F7853,E7854/MAX($E$9:E7854)-1)))","v":""}]
[null,null,null,null,null,{"$f":"IF(B7855=\"\",\"\",IF(C7855=\"\",F7854,IF(E7855=\"\",F7854,E7855/MAX($E$9:E7855)-1)))","v":""}]
[null,null,null,null,null,{"$f":"IF(B7856=\"\",\"\",IF(C7856=\"\",F7855,IF(E7856=\"\",F7855,E7856/MAX($E$9:E7856)-1)))","v":""}]
[null,null,null,null,null,{"$f":"IF(B7857=\"\",\"\",IF(C7857=\"\",F7856,IF(E7857=\"\",F7856,E7857/MAX($E$9:E7857)-1)))","v":""}]
[null,null,null,null,null,{"$f":"IF(B7858=\"\",\"\",IF(C7858=\"\",F7857,IF(E7858=\"\",F7857,E7858/MAX($E$9:E7858)-1)))","v":""}]
[null,null,null,null,null,{"$f":"IF(B7859=\"\",\"\",IF(C7859=\"\",F7858,IF(E7859=\"\",F7858,E7859/MAX($E$9:E7859)-1)))","v":""}]
[null,null,null,null,null,{"$f":"IF(B7860=\"\",\"\",IF(C7860=\"\",F7859,IF(E7860=\"\",F7859,E7860/MAX($E$9:E7860)-1)))","v":""}]
[null,null,null,null,null,{"$f":"IF(B7861=\"\",\"\",IF(C7861=\"\",F7860,IF(E7861=\"\",F7860,E7861/MAX($E$9:E7861)-1)))","v":""}]
[null,null,null,null,null,{"$f":"IF(B7862=\"\",\"\",IF(C7862=\"\",F7861,IF(E7862=\"\",F7861,E7862/MAX($E$9:E7862)-1)))","v":""}]
[null,null,null,null,null,{"$f":"IF(B7863=\"\",\"\",IF(C7863=\"\",F7862,IF(E7863=\"\",F7862,E7863/MAX($E$9:E7863)-1)))","v":""}]
[null,null,null,null,null,{"$f":"IF(B7864=\"\",\"\",IF(C7864=\"\",F7863,IF(E7864=\"\",F7863,E7864/MAX($E$9:E7864)-1)))","v":""}]
[null,null,null,null,null,{"$f":"IF(B7865=\"\",\"\",IF(C7865=\"\",F7864,IF(E7865=\"\",F7864,E7865/MAX($E$9:E7865)-1)))","v":""}]
[null,null,null,null,null,{"$f":"IF(B7866=\"\",\"\",IF(C7866=\"\",F7865,IF(E7866=\"\",F7865,E7866/MAX($E$9:E7866)-1)))","v":""}]
[null,null,null,null,null,{"$f":"IF(B7867=\"\",\"\",IF(C7867=\"\",F7866,IF(E7867=\"\",F7866,E7867/MAX($E$9:E7867)-1)))","v":""}]
[null,null,null,null,null,{"$f":"IF(B7868=\"\",\"\",IF(C7868=\"\",F7867,IF(E7868=\"\",F7867,E7868/MAX($E$9:E7868)-1)))","v":""}]
[null,null,null,null,null,{"$f":"IF(B7869=\"\",\"\",IF(C7869=\"\",F7868,IF(E7869=\"\",F7868,E7869/MAX($E$9:E7869)-1)))","v":""}]
[null,null,null,null,null,{"$f":"IF(B7870=\"\",\"\",IF(C7870=\"\",F7869,IF(E7870=\"\",F7869,E7870/MAX($E$9:E7870)-1)))","v":""}]
[null,null,null,null,null,{"$f":"IF(B7871=\"\",\"\",IF(C7871=\"\",F7870,IF(E7871=\"\",F7870,E7871/MAX($E$9:E7871)-1)))","v":""}]
[null,null,null,null,null,{"$f":"IF(B7872=\"\",\"\",IF(C7872=\"\",F7871,IF(E7872=\"\",F7871,E7872/MAX($E$9:E7872)-1)))","v":""}]
[null,null,null,null,null,{"$f":"IF(B7873=\"\",\"\",IF(C7873=\"\",F7872,IF(E7873=\"\",F7872,E7873/MAX($E$9:E7873)-1)))","v":""}]
[null,null,null,null,null,{"$f":"IF(B7874=\"\",\"\",IF(C7874=\"\",F7873,IF(E7874=\"\",F7873,E7874/MAX($E$9:E7874)-1)))","v":""}]
[null,null,null,null,null,{"$f":"IF(B7875=\"\",\"\",IF(C7875=\"\",F7874,IF(E7875=\"\",F7874,E7875/MAX($E$9:E7875)-1)))","v":""}]
[null,null,null,null,null,{"$f":"IF(B7876=\"\",\"\",IF(C7876=\"\",F7875,IF(E7876=\"\",F7875,E7876/MAX($E$9:E7876)-1)))","v":""}]
[null,null,null,null,null,{"$f":"IF(B7877=\"\",\"\",IF(C7877=\"\",F7876,IF(E7877=\"\",F7876,E7877/MAX($E$9:E7877)-1)))","v":""}]
[null,null,null,null,null,{"$f":"IF(B7878=\"\",\"\",IF(C7878=\"\",F7877,IF(E7878=\"\",F7877,E7878/MAX($E$9:E7878)-1)))","v":""}]
[null,null,null,null,null,{"$f":"IF(B7879=\"\",\"\",IF(C7879=\"\",F7878,IF(E7879=\"\",F7878,E7879/MAX($E$9:E7879)-1)))","v":""}]
[null,null,null,null,null,{"$f":"IF(B7880=\"\",\"\",IF(C7880=\"\",F7879,IF(E7880=\"\",F7879,E7880/MAX($E$9:E7880)-1)))","v":""}]
[null,null,null,null,null,{"$f":"IF(B7881=\"\",\"\",IF(C7881=\"\",F7880,IF(E7881=\"\",F7880,E7881/MAX($E$9:E7881)-1)))","v":""}]
[null,null,null,null,null,{"$f":"IF(B7882=\"\",\"\",IF(C7882=\"\",F7881,IF(E7882=\"\",F7881,E7882/MAX($E$9:E7882)-1)))","v":""}]
[null,null,null,null,null,{"$f":"IF(B7883=\"\",\"\",IF(C7883=\"\",F7882,IF(E7883=\"\",F7882,E7883/MAX($E$9:E7883)-1)))","v":""}]
[null,null,null,null,null,{"$f":"IF(B7884=\"\",\"\",IF(C7884=\"\",F7883,IF(E7884=\"\",F7883,E7884/MAX($E$9:E7884)-1)))","v":""}]
[null,null,null,null,null,{"$f":"IF(B7885=\"\",\"\",IF(C7885=\"\",F7884,IF(E7885=\"\",F7884,E7885/MAX($E$9:E7885)-1)))","v":""}]
[null,null,null,null,null,{"$f":"IF(B7886=\"\",\"\",IF(C7886=\"\",F7885,IF(E7886=\"\",F7885,E7886/MAX($E$9:E7886)-1)))","v":""}]
[null,null,null,null,null,{"$f":"IF(B7887=\"\",\"\",IF(C7887=\"\",F7886,IF(E7887=\"\",F7886,E7887/MAX($E$9:E7887)-1)))","v":""}]
[null,null,null,null,null,{"$f":"IF(B7888=\"\",\"\",IF(C7888=\"\",F7887,IF(E7888=\"\",F7887,E7888/MAX($E$9:E7888)-1)))","v":""}]
[null,null,null,null,null,{"$f":"IF(B7889=\"\",\"\",IF(C7889=\"\",F7888,IF(E7889=\"\",F7888,E7889/MAX($E$9:E7889)-1)))","v":""}]
[null,null,null,null,null,{"$f":"IF(B7890=\"\",\"\",IF(C7890=\"\",F7889,IF(E7890=\"\",F7889,E7890/MAX($E$9:E7890)-1)))","v":""}]
[null,null,null,null,null,{"$f":"IF(B7891=\"\",\"\",IF(C7891=\"\",F7890,IF(E7891=\"\",F7890,E7891/MAX($E$9:E7891)-1)))","v":""}]
[null,null,null,null,null,{"$f":"IF(B7892=\"\",\"\",IF(C7892=\"\",F7891,IF(E7892=\"\",F7891,E7892/MAX($E$9:E7892)-1)))","v":""}]
[null,null,null,null,null,{"$f":"IF(B7893=\"\",\"\",IF(C7893=\"\",F7892,IF(E7893=\"\",F7892,E7893/MAX($E$9:E7893)-1)))","v":""}]
[null,null,null,null,null,{"$f":"IF(B7894=\"\",\"\",IF(C7894=\"\",F7893,IF(E7894=\"\",F7893,E7894/MAX($E$9:E7894)-1)))","v":""}]
[null,null,null,null,null,{"$f":"IF(B7895=\"\",\"\",IF(C7895=\"\",F7894,IF(E7895=\"\",F7894,E7895/MAX($E$9:E7895)-1)))","v":""}]
[null,null,null,null,null,{"$f":"IF(B7896=\"\",\"\",IF(C7896=\"\",F7895,IF(E7896=\"\",F7895,E7896/MAX($E$9:E7896)-1)))","v":""}]
[null,null,null,null,null,{"$f":"IF(B7897=\"\",\"\",IF(C7897=\"\",F7896,IF(E7897=\"\",F7896,E7897/MAX($E$9:E7897)-1)))","v":""}]
[null,null,null,null,null,{"$f":"IF(B7898=\"\",\"\",IF(C7898=\"\",F7897,IF(E7898=\"\",F7897,E7898/MAX($E$9:E7898)-1)))","v":""}]
[null,null,null,null,null,{"$f":"IF(B7899=\"\",\"\",IF(C7899=\"\",F7898,IF(E7899=\"\",F7898,E7899/MAX($E$9:E7899)-1)))","v":""}]
[null,null,null,null,null,{"$f":"IF(B7900=\"\",\"\",IF(C7900=\"\",F7899,IF(E7900=\"\",F7899,E7900/MAX($E$9:E7900)-1)))","v":""}]
[null,null,null,null,null,{"$f":"IF(B7901=\"\",\"\",IF(C7901=\"\",F7900,IF(E7901=\"\",F7900,E7901/MAX($E$9:E7901)-1)))","v":""}]
[null,null,null,null,null,{"$f":"IF(B7902=\"\",\"\",IF(C7902=\"\",F7901,IF(E7902=\"\",F7901,E7902/MAX($E$9:E7902)-1)))","v":""}]
[null,null,null,null,null,{"$f":"IF(B7903=\"\",\"\",IF(C7903=\"\",F7902,IF(E7903=\"\",F7902,E7903/MAX($E$9:E7903)-1)))","v":""}]
[null,null,null,null,null,{"$f":"IF(B7904=\"\",\"\",IF(C7904=\"\",F7903,IF(E7904=\"\",F7903,E7904/MAX($E$9:E7904)-1)))","v":""}]
[null,null,null,null,null,{"$f":"IF(B7905=\"\",\"\",IF(C7905=\"\",F7904,IF(E7905=\"\",F7904,E7905/MAX($E$9:E7905)-1)))","v":""}]
[null,null,null,null,null,{"$f":"IF(B7906=\"\",\"\",IF(C7906=\"\",F7905,IF(E7906=\"\",F7905,E7906/MAX($E$9:E7906)-1)))","v":""}]
[null,null,null,null,null,{"$f":"IF(B7907=\"\",\"\",IF(C7907=\"\",F7906,IF(E7907=\"\",F7906,E7907/MAX($E$9:E7907)-1)))","v":""}]
[null,null,null,null,null,{"$f":"IF(B7908=\"\",\"\",IF(C7908=\"\",F7907,IF(E7908=\"\",F7907,E7908/MAX($E$9:E7908)-1)))","v":""}]
[null,null,null,null,null,{"$f":"IF(B7909=\"\",\"\",IF(C7909=\"\",F7908,IF(E7909=\"\",F7908,E7909/MAX($E$9:E7909)-1)))","v":""}]
[null,null,null,null,null,{"$f":"IF(B7910=\"\",\"\",IF(C7910=\"\",F7909,IF(E7910=\"\",F7909,E7910/MAX($E$9:E7910)-1)))","v":""}]
[null,null,null,null,null,{"$f":"IF(B7911=\"\",\"\",IF(C7911=\"\",F7910,IF(E7911=\"\",F7910,E7911/MAX($E$9:E7911)-1)))","v":""}]
[null,null,null,null,null,{"$f":"IF(B7912=\"\",\"\",IF(C7912=\"\",F7911,IF(E7912=\"\",F7911,E7912/MAX($E$9:E7912)-1)))","v":""}]
[null,null,null,null,null,{"$f":"IF(B7913=\"\",\"\",IF(C7913=\"\",F7912,IF(E7913=\"\",F7912,E7913/MAX($E$9:E7913)-1)))","v":""}]
[null,null,null,null,null,{"$f":"IF(B7914=\"\",\"\",IF(C7914=\"\",F7913,IF(E7914=\"\",F7913,E7914/MAX($E$9:E7914)-1)))","v":""}]
[null,null,null,null,null,{"$f":"IF(B7915=\"\",\"\",IF(C7915=\"\",F7914,IF(E7915=\"\",F7914,E7915/MAX($E$9:E7915)-1)))","v":""}]
[null,null,null,null,null,{"$f":"IF(B7916=\"\",\"\",IF(C7916=\"\",F7915,IF(E7916=\"\",F7915,E7916/MAX($E$9:E7916)-1)))","v":""}]
[null,null,null,null,null,{"$f":"IF(B7917=\"\",\"\",IF(C7917=\"\",F7916,IF(E7917=\"\",F7916,E7917/MAX($E$9:E7917)-1)))","v":""}]
[null,null,null,null,null,{"$f":"IF(B7918=\"\",\"\",IF(C7918=\"\",F7917,IF(E7918=\"\",F7917,E7918/MAX($E$9:E7918)-1)))","v":""}]
[null,null,null,null,null,{"$f":"IF(B7919=\"\",\"\",IF(C7919=\"\",F7918,IF(E7919=\"\",F7918,E7919/MAX($E$9:E7919)-1)))","v":""}]
[null,null,null,null,null,{"$f":"IF(B7920=\"\",\"\",IF(C7920=\"\",F7919,IF(E7920=\"\",F7919,E7920/MAX($E$9:E7920)-1)))","v":""}]
[null,null,null,null,null,{"$f":"IF(B7921=\"\",\"\",IF(C7921=\"\",F7920,IF(E7921=\"\",F7920,E7921/MAX($E$9:E7921)-1)))","v":""}]
[null,null,null,null,null,{"$f":"IF(B7922=\"\",\"\",IF(C7922=\"\",F7921,IF(E7922=\"\",F7921,E7922/MAX($E$9:E7922)-1)))","v":""}]
[null,null,null,null,null,{"$f":"IF(B7923=\"\",\"\",IF(C7923=\"\",F7922,IF(E7923=\"\",F7922,E7923/MAX($E$9:E7923)-1)))","v":""}]
[null,null,null,null,null,{"$f":"IF(B7924=\"\",\"\",IF(C7924=\"\",F7923,IF(E7924=\"\",F7923,E7924/MAX($E$9:E7924)-1)))","v":""}]
[null,null,null,null,null,{"$f":"IF(B7925=\"\",\"\",IF(C7925=\"\",F7924,IF(E7925=\"\",F7924,E7925/MAX($E$9:E7925)-1)))","v":""}]
[null,null,null,null,null,{"$f":"IF(B7926=\"\",\"\",IF(C7926=\"\",F7925,IF(E7926=\"\",F7925,E7926/MAX($E$9:E7926)-1)))","v":""}]
[null,null,null,null,null,{"$f":"IF(B7927=\"\",\"\",IF(C7927=\"\",F7926,IF(E7927=\"\",F7926,E7927/MAX($E$9:E7927)-1)))","v":""}]
[null,null,null,null,null,{"$f":"IF(B7928=\"\",\"\",IF(C7928=\"\",F7927,IF(E7928=\"\",F7927,E7928/MAX($E$9:E7928)-1)))","v":""}]
[null,null,null,null,null,{"$f":"IF(B7929=\"\",\"\",IF(C7929=\"\",F7928,IF(E7929=\"\",F7928,E7929/MAX($E$9:E7929)-1)))","v":""}]
[null,null,null,null,null,{"$f":"IF(B7930=\"\",\"\",IF(C7930=\"\",F7929,IF(E7930=\"\",F7929,E7930/MAX($E$9:E7930)-1)))","v":""}]
[null,null,null,null,null,{"$f":"IF(B7931=\"\",\"\",IF(C7931=\"\",F7930,IF(E7931=\"\",F7930,E7931/MAX($E$9:E7931)-1)))","v":""}]
[null,null,null,null,null,{"$f":"IF(B7932=\"\",\"\",IF(C7932=\"\",F7931,IF(E7932=\"\",F7931,E7932/MAX($E$9:E7932)-1)))","v":""}]
[null,null,null,null,null,{"$f":"IF(B7933=\"\",\"\",IF(C7933=\"\",F7932,IF(E7933=\"\",F7932,E7933/MAX($E$9:E7933)-1)))","v":""}]
[null,null,null,null,null,{"$f":"IF(B7934=\"\",\"\",IF(C7934=\"\",F7933,IF(E7934=\"\",F7933,E7934/MAX($E$9:E7934)-1)))","v":""}]
[null,null,null,null,null,{"$f":"IF(B7935=\"\",\"\",IF(C7935=\"\",F7934,IF(E7935=\"\",F7934,E7935/MAX($E$9:E7935)-1)))","v":""}]
[null,null,null,null,null,{"$f":"IF(B7936=\"\",\"\",IF(C7936=\"\",F7935,IF(E7936=\"\",F7935,E7936/MAX($E$9:E7936)-1)))","v":""}]
[null,null,null,null,null,{"$f":"IF(B7937=\"\",\"\",IF(C7937=\"\",F7936,IF(E7937=\"\",F7936,E7937/MAX($E$9:E7937)-1)))","v":""}]
[null,null,null,null,null,{"$f":"IF(B7938=\"\",\"\",IF(C7938=\"\",F7937,IF(E7938=\"\",F7937,E7938/MAX($E$9:E7938)-1)))","v":""}]
[null,null,null,null,null,{"$f":"IF(B7939=\"\",\"\",IF(C7939=\"\",F7938,IF(E7939=\"\",F7938,E7939/MAX($E$9:E7939)-1)))","v":""}]
[null,null,null,null,null,{"$f":"IF(B7940=\"\",\"\",IF(C7940=\"\",F7939,IF(E7940=\"\",F7939,E7940/MAX($E$9:E7940)-1)))","v":""}]
[null,null,null,null,null,{"$f":"IF(B7941=\"\",\"\",IF(C7941=\"\",F7940,IF(E7941=\"\",F7940,E7941/MAX($E$9:E7941)-1)))","v":""}]
[null,null,null,null,null,{"$f":"IF(B7942=\"\",\"\",IF(C7942=\"\",F7941,IF(E7942=\"\",F7941,E7942/MAX($E$9:E7942)-1)))","v":""}]
[null,null,null,null,null,{"$f":"IF(B7943=\"\",\"\",IF(C7943=\"\",F7942,IF(E7943=\"\",F7942,E7943/MAX($E$9:E7943)-1)))","v":""}]
[null,null,null,null,null,{"$f":"IF(B7944=\"\",\"\",IF(C7944=\"\",F7943,IF(E7944=\"\",F7943,E7944/MAX($E$9:E7944)-1)))","v":""}]
[null,null,null,null,null,{"$f":"IF(B7945=\"\",\"\",IF(C7945=\"\",F7944,IF(E7945=\"\",F7944,E7945/MAX($E$9:E7945)-1)))","v":""}]
[null,null,null,null,null,{"$f":"IF(B7946=\"\",\"\",IF(C7946=\"\",F7945,IF(E7946=\"\",F7945,E7946/MAX($E$9:E7946)-1)))","v":""}]
[null,null,null,null,null,{"$f":"IF(B7947=\"\",\"\",IF(C7947=\"\",F7946,IF(E7947=\"\",F7946,E7947/MAX($E$9:E7947)-1)))","v":""}]
[null,null,null,null,null,{"$f":"IF(B7948=\"\",\"\",IF(C7948=\"\",F7947,IF(E7948=\"\",F7947,E7948/MAX($E$9:E7948)-1)))","v":""}]
[null,null,null,null,null,{"$f":"IF(B7949=\"\",\"\",IF(C7949=\"\",F7948,IF(E7949=\"\",F7948,E7949/MAX($E$9:E7949)-1)))","v":""}]
[null,null,null,null,null,{"$f":"IF(B7950=\"\",\"\",IF(C7950=\"\",F7949,IF(E7950=\"\",F7949,E7950/MAX($E$9:E7950)-1)))","v":""}]
[null,null,null,null,null,{"$f":"IF(B7951=\"\",\"\",IF(C7951=\"\",F7950,IF(E7951=\"\",F7950,E7951/MAX($E$9:E7951)-1)))","v":""}]
[null,null,null,null,null,{"$f":"IF(B7952=\"\",\"\",IF(C7952=\"\",F7951,IF(E7952=\"\",F7951,E7952/MAX($E$9:E7952)-1)))","v":""}]
[null,null,null,null,null,{"$f":"IF(B7953=\"\",\"\",IF(C7953=\"\",F7952,IF(E7953=\"\",F7952,E7953/MAX($E$9:E7953)-1)))","v":""}]
[null,null,null,null,null,{"$f":"IF(B7954=\"\",\"\",IF(C7954=\"\",F7953,IF(E7954=\"\",F7953,E7954/MAX($E$9:E7954)-1)))","v":""}]
[null,null,null,null,null,{"$f":"IF(B7955=\"\",\"\",IF(C7955=\"\",F7954,IF(E7955=\"\",F7954,E7955/MAX($E$9:E7955)-1)))","v":""}]
[null,null,null,null,null,{"$f":"IF(B7956=\"\",\"\",IF(C7956=\"\",F7955,IF(E7956=\"\",F7955,E7956/MAX($E$9:E7956)-1)))","v":""}]
[null,null,null,null,null,{"$f":"IF(B7957=\"\",\"\",IF(C7957=\"\",F7956,IF(E7957=\"\",F7956,E7957/MAX($E$9:E7957)-1)))","v":""}]
[null,null,null,null,null,{"$f":"IF(B7958=\"\",\"\",IF(C7958=\"\",F7957,IF(E7958=\"\",F7957,E7958/MAX($E$9:E7958)-1)))","v":""}]
[null,null,null,null,null,{"$f":"IF(B7959=\"\",\"\",IF(C7959=\"\",F7958,IF(E7959=\"\",F7958,E7959/MAX($E$9:E7959)-1)))","v":""}]
[null,null,null,null,null,{"$f":"IF(B7960=\"\",\"\",IF(C7960=\"\",F7959,IF(E7960=\"\",F7959,E7960/MAX($E$9:E7960)-1)))","v":""}]
[null,null,null,null,null,{"$f":"IF(B7961=\"\",\"\",IF(C7961=\"\",F7960,IF(E7961=\"\",F7960,E7961/MAX($E$9:E7961)-1)))","v":""}]
[null,null,null,null,null,{"$f":"IF(B7962=\"\",\"\",IF(C7962=\"\",F7961,IF(E7962=\"\",F7961,E7962/MAX($E$9:E7962)-1)))","v":""}]
[null,null,null,null,null,{"$f":"IF(B7963=\"\",\"\",IF(C7963=\"\",F7962,IF(E7963=\"\",F7962,E7963/MAX($E$9:E7963)-1)))","v":""}]
[null,null,null,null,null,{"$f":"IF(B7964=\"\",\"\",IF(C7964=\"\",F7963,IF(E7964=\"\",F7963,E7964/MAX($E$9:E7964)-1)))","v":""}]
[null,null,null,null,null,{"$f":"IF(B7965=\"\",\"\",IF(C7965=\"\",F7964,IF(E7965=\"\",F7964,E7965/MAX($E$9:E7965)-1)))","v":""}]
[null,null,null,null,null,{"$f":"IF(B7966=\"\",\"\",IF(C7966=\"\",F7965,IF(E7966=\"\",F7965,E7966/MAX($E$9:E7966)-1)))","v":""}]
[null,null,null,null,null,{"$f":"IF(B7967=\"\",\"\",IF(C7967=\"\",F7966,IF(E7967=\"\",F7966,E7967/MAX($E$9:E7967)-1)))","v":""}]
[null,null,null,null,null,{"$f":"IF(B7968=\"\",\"\",IF(C7968=\"\",F7967,IF(E7968=\"\",F7967,E7968/MAX($E$9:E7968)-1)))","v":""}]
[null,null,null,null,null,{"$f":"IF(B7969=\"\",\"\",IF(C7969=\"\",F7968,IF(E7969=\"\",F7968,E7969/MAX($E$9:E7969)-1)))","v":""}]
[null,null,null,null,null,{"$f":"IF(B7970=\"\",\"\",IF(C7970=\"\",F7969,IF(E7970=\"\",F7969,E7970/MAX($E$9:E7970)-1)))","v":""}]
[null,null,null,null,null,{"$f":"IF(B7971=\"\",\"\",IF(C7971=\"\",F7970,IF(E7971=\"\",F7970,E7971/MAX($E$9:E7971)-1)))","v":""}]
[null,null,null,null,null,{"$f":"IF(B7972=\"\",\"\",IF(C7972=\"\",F7971,IF(E7972=\"\",F7971,E7972/MAX($E$9:E7972)-1)))","v":""}]
[null,null,null,null,null,{"$f":"IF(B7973=\"\",\"\",IF(C7973=\"\",F7972,IF(E7973=\"\",F7972,E7973/MAX($E$9:E7973)-1)))","v":""}]
[null,null,null,null,null,{"$f":"IF(B7974=\"\",\"\",IF(C7974=\"\",F7973,IF(E7974=\"\",F7973,E7974/MAX($E$9:E7974)-1)))","v":""}]
[null,null,null,null,null,{"$f":"IF(B7975=\"\",\"\",IF(C7975=\"\",F7974,IF(E7975=\"\",F7974,E7975/MAX($E$9:E7975)-1)))","v":""}]
[null,null,null,null,null,{"$f":"IF(B7976=\"\",\"\",IF(C7976=\"\",F7975,IF(E7976=\"\",F7975,E7976/MAX($E$9:E7976)-1)))","v":""}]
[null,null,null,null,null,{"$f":"IF(B7977=\"\",\"\",IF(C7977=\"\",F7976,IF(E7977=\"\",F7976,E7977/MAX($E$9:E7977)-1)))","v":""}]
[null,null,null,null,null,{"$f":"IF(B7978=\"\",\"\",IF(C7978=\"\",F7977,IF(E7978=\"\",F7977,E7978/MAX($E$9:E7978)-1)))","v":""}]
[null,null,null,null,null,{"$f":"IF(B7979=\"\",\"\",IF(C7979=\"\",F7978,IF(E7979=\"\",F7978,E7979/MAX($E$9:E7979)-1)))","v":""}]
[null,null,null,null,null,{"$f":"IF(B7980=\"\",\"\",IF(C7980=\"\",F7979,IF(E7980=\"\",F7979,E7980/MAX($E$9:E7980)-1)))","v":""}]
[null,null,null,null,null,{"$f":"IF(B7981=\"\",\"\",IF(C7981=\"\",F7980,IF(E7981=\"\",F7980,E7981/MAX($E$9:E7981)-1)))","v":""}]
[null,null,null,null,null,{"$f":"IF(B7982=\"\",\"\",IF(C7982=\"\",F7981,IF(E7982=\"\",F7981,E7982/MAX($E$9:E7982)-1)))","v":""}]
[null,null,null,null,null,{"$f":"IF(B7983=\"\",\"\",IF(C7983=\"\",F7982,IF(E7983=\"\",F7982,E7983/MAX($E$9:E7983)-1)))","v":""}]
[null,null,null,null,null,{"$f":"IF(B7984=\"\",\"\",IF(C7984=\"\",F7983,IF(E7984=\"\",F7983,E7984/MAX($E$9:E7984)-1)))","v":""}]
[null,null,null,null,null,{"$f":"IF(B7985=\"\",\"\",IF(C7985=\"\",F7984,IF(E7985=\"\",F7984,E7985/MAX($E$9:E7985)-1)))","v":""}]
[null,null,null,null,null,{"$f":"IF(B7986=\"\",\"\",IF(C7986=\"\",F7985,IF(E7986=\"\",F7985,E7986/MAX($E$9:E7986)-1)))","v":""}]
[null,null,null,null,null,{"$f":"IF(B7987=\"\",\"\",IF(C7987=\"\",F7986,IF(E7987=\"\",F7986,E7987/MAX($E$9:E7987)-1)))","v":""}]
[null,null,null,null,null,{"$f":"IF(B7988=\"\",\"\",IF(C7988=\"\",F7987,IF(E7988=\"\",F7987,E7988/MAX($E$9:E7988)-1)))","v":""}]
[null,null,null,null,null,{"$f":"IF(B7989=\"\",\"\",IF(C7989=\"\",F7988,IF(E7989=\"\",F7988,E7989/MAX($E$9:E7989)-1)))","v":""}]
[null,null,null,null,null,{"$f":"IF(B7990=\"\",\"\",IF(C7990=\"\",F7989,IF(E7990=\"\",F7989,E7990/MAX($E$9:E7990)-1)))","v":""}]
[null,null,null,null,null,{"$f":"IF(B7991=\"\",\"\",IF(C7991=\"\",F7990,IF(E7991=\"\",F7990,E7991/MAX($E$9:E7991)-1)))","v":""}]
[null,null,null,null,null,{"$f":"IF(B7992=\"\",\"\",IF(C7992=\"\",F7991,IF(E7992=\"\",F7991,E7992/MAX($E$9:E7992)-1)))","v":""}]
[null,null,null,null,null,{"$f":"IF(B7993=\"\",\"\",IF(C7993=\"\",F7992,IF(E7993=\"\",F7992,E7993/MAX($E$9:E7993)-1)))","v":""}]
[null,null,null,null,null,{"$f":"IF(B7994=\"\",\"\",IF(C7994=\"\",F7993,IF(E7994=\"\",F7993,E7994/MAX($E$9:E7994)-1)))","v":""}]
[null,null,null,null,null,{"$f":"IF(B7995=\"\",\"\",IF(C7995=\"\",F7994,IF(E7995=\"\",F7994,E7995/MAX($E$9:E7995)-1)))","v":""}]
[null,null,null,null,null,{"$f":"IF(B7996=\"\",\"\",IF(C7996=\"\",F7995,IF(E7996=\"\",F7995,E7996/MAX($E$9:E7996)-1)))","v":""}]
[null,null,null,null,null,{"$f":"IF(B7997=\"\",\"\",IF(C7997=\"\",F7996,IF(E7997=\"\",F7996,E7997/MAX($E$9:E7997)-1)))","v":""}]
[null,null,null,null,null,{"$f":"IF(B7998=\"\",\"\",IF(C7998=\"\",F7997,IF(E7998=\"\",F7997,E7998/MAX($E$9:E7998)-1)))","v":""}]
[null,null,null,null,null,{"$f":"IF(B7999=\"\",\"\",IF(C7999=\"\",F7998,IF(E7999=\"\",F7998,E7999/MAX($E$9:E7999)-1)))","v":""}]
[null,null,null,null,null,{"$f":"IF(B8000=\"\",\"\",IF(C8000=\"\",F7999,IF(E8000=\"\",F7999,E8000/MAX($E$9:E8000)-1)))","v":""}]
[null,null,null,null,null,{"$f":"IF(B8001=\"\",\"\",IF(C8001=\"\",F8000,IF(E8001=\"\",F8000,E8001/MAX($E$9:E8001)-1)))","v":""}]
[null,null,null,null,null,{"$f":"IF(B8002=\"\",\"\",IF(C8002=\"\",F8001,IF(E8002=\"\",F8001,E8002/MAX($E$9:E8002)-1)))","v":""}]
[null,null,null,null,null,{"$f":"IF(B8003=\"\",\"\",IF(C8003=\"\",F8002,IF(E8003=\"\",F8002,E8003/MAX($E$9:E8003)-1)))","v":""}]
[null,null,null,null,null,{"$f":"IF(B8004=\"\",\"\",IF(C8004=\"\",F8003,IF(E8004=\"\",F8003,E8004/MAX($E$9:E8004)-1)))","v":""}]
[null,null,null,null,null,{"$f":"IF(B8005=\"\",\"\",IF(C8005=\"\",F8004,IF(E8005=\"\",F8004,E8005/MAX($E$9:E8005)-1)))","v":""}]
[null,null,null,null,null,{"$f":"IF(B8006=\"\",\"\",IF(C8006=\"\",F8005,IF(E8006=\"\",F8005,E8006/MAX($E$9:E8006)-1)))","v":""}]
[null,null,null,null,null,{"$f":"IF(B8007=\"\",\"\",IF(C8007=\"\",F8006,IF(E8007=\"\",F8006,E8007/MAX($E$9:E8007)-1)))","v":""}]
[null,null,null,null,null,{"$f":"IF(B8008=\"\",\"\",IF(C8008=\"\",F8007,IF(E8008=\"\",F8007,E8008/MAX($E$9:E8008)-1)))","v":""}]
[null,null,null,null,null,{"$f":"IF(B8009=\"\",\"\",IF(C8009=\"\",F8008,IF(E8009=\"\",F8008,E8009/MAX($E$9:E8009)-1)))","v":""}]
[null,null,null,null,null,{"$f":"IF(B8010=\"\",\"\",IF(C8010=\"\",F8009,IF(E8010=\"\",F8009,E8010/MAX($E$9:E8010)-1)))","v":""}]
[null,null,null,null,null,{"$f":"IF(B8011=\"\",\"\",IF(C8011=\"\",F8010,IF(E8011=\"\",F8010,E8011/MAX($E$9:E8011)-1)))","v":""}]
[null,null,null,null,null,{"$f":"IF(B8012=\"\",\"\",IF(C8012=\"\",F8011,IF(E8012=\"\",F8011,E8012/MAX($E$9:E8012)-1)))","v":""}]
[null,null,null,null,null,{"$f":"IF(B8013=\"\",\"\",IF(C8013=\"\",F8012,IF(E8013=\"\",F8012,E8013/MAX($E$9:E8013)-1)))","v":""}]
[null,null,null,null,null,{"$f":"IF(B8014=\"\",\"\",IF(C8014=\"\",F8013,IF(E8014=\"\",F8013,E8014/MAX($E$9:E8014)-1)))","v":""}]
[null,null,null,null,null,{"$f":"IF(B8015=\"\",\"\",IF(C8015=\"\",F8014,IF(E8015=\"\",F8014,E8015/MAX($E$9:E8015)-1)))","v":""}]
[null,null,null,null,null,{"$f":"IF(B8016=\"\",\"\",IF(C8016=\"\",F8015,IF(E8016=\"\",F8015,E8016/MAX($E$9:E8016)-1)))","v":""}]
[null,null,null,null,null,{"$f":"IF(B8017=\"\",\"\",IF(C8017=\"\",F8016,IF(E8017=\"\",F8016,E8017/MAX($E$9:E8017)-1)))","v":""}]
[null,null,null,null,null,{"$f":"IF(B8018=\"\",\"\",IF(C8018=\"\",F8017,IF(E8018=\"\",F8017,E8018/MAX($E$9:E8018)-1)))","v":""}]
[null,null,null,null,null,{"$f":"IF(B8019=\"\",\"\",IF(C8019=\"\",F8018,IF(E8019=\"\",F8018,E8019/MAX($E$9:E8019)-1)))","v":""}]
[null,null,null,null,null,{"$f":"IF(B8020=\"\",\"\",IF(C8020=\"\",F8019,IF(E8020=\"\",F8019,E8020/MAX($E$9:E8020)-1)))","v":""}]
[null,null,null,null,null,{"$f":"IF(B8021=\"\",\"\",IF(C8021=\"\",F8020,IF(E8021=\"\",F8020,E8021/MAX($E$9:E8021)-1)))","v":""}]
[null,null,null,null,null,{"$f":"IF(B8022=\"\",\"\",IF(C8022=\"\",F8021,IF(E8022=\"\",F8021,E8022/MAX($E$9:E8022)-1)))","v":""}]
[null,null,null,null,null,{"$f":"IF(B8023=\"\",\"\",IF(C8023=\"\",F8022,IF(E8023=\"\",F8022,E8023/MAX($E$9:E8023)-1)))","v":""}]
[null,null,null,null,null,{"$f":"IF(B8024=\"\",\"\",IF(C8024=\"\",F8023,IF(E8024=\"\",F8023,E8024/MAX($E$9:E8024)-1)))","v":""}]
[null,null,null,null,null,{"$f":"IF(B8025=\"\",\"\",IF(C8025=\"\",F8024,IF(E8025=\"\",F8024,E8025/MAX($E$9:E8025)-1)))","v":""}]
[null,null,null,null,null,{"$f":"IF(B8026=\"\",\"\",IF(C8026=\"\",F8025,IF(E8026=\"\",F8025,E8026/MAX($E$9:E8026)-1)))","v":""}]
[null,null,null,null,null,{"$f":"IF(B8027=\"\",\"\",IF(C8027=\"\",F8026,IF(E8027=\"\",F8026,E8027/MAX($E$9:E8027)-1)))","v":""}]
[null,null,null,null,null,{"$f":"IF(B8028=\"\",\"\",IF(C8028=\"\",F8027,IF(E8028=\"\",F8027,E8028/MAX($E$9:E8028)-1)))","v":""}]
[null,null,null,null,null,{"$f":"IF(B8029=\"\",\"\",IF(C8029=\"\",F8028,IF(E8029=\"\",F8028,E8029/MAX($E$9:E8029)-1)))","v":""}]
[null,null,null,null,null,{"$f":"IF(B8030=\"\",\"\",IF(C8030=\"\",F8029,IF(E8030=\"\",F8029,E8030/MAX($E$9:E8030)-1)))","v":""}]
[null,null,null,null,null,{"$f":"IF(B8031=\"\",\"\",IF(C8031=\"\",F8030,IF(E8031=\"\",F8030,E8031/MAX($E$9:E8031)-1)))","v":""}]
[null,null,null,null,null,{"$f":"IF(B8032=\"\",\"\",IF(C8032=\"\",F8031,IF(E8032=\"\",F8031,E8032/MAX($E$9:E8032)-1)))","v":""}]
[null,null,null,null,null,{"$f":"IF(B8033=\"\",\"\",IF(C8033=\"\",F8032,IF(E8033=\"\",F8032,E8033/MAX($E$9:E8033)-1)))","v":""}]
[null,null,null,null,null,{"$f":"IF(B8034=\"\",\"\",IF(C8034=\"\",F8033,IF(E8034=\"\",F8033,E8034/MAX($E$9:E8034)-1)))","v":""}]
[null,null,null,null,null,{"$f":"IF(B8035=\"\",\"\",IF(C8035=\"\",F8034,IF(E8035=\"\",F8034,E8035/MAX($E$9:E8035)-1)))","v":""}]
[null,null,null,null,null,{"$f":"IF(B8036=\"\",\"\",IF(C8036=\"\",F8035,IF(E8036=\"\",F8035,E8036/MAX($E$9:E8036)-1)))","v":""}]
[null,null,null,null,null,{"$f":"IF(B8037=\"\",\"\",IF(C8037=\"\",F8036,IF(E8037=\"\",F8036,E8037/MAX($E$9:E8037)-1)))","v":""}]
[null,null,null,null,null,{"$f":"IF(B8038=\"\",\"\",IF(C8038=\"\",F8037,IF(E8038=\"\",F8037,E8038/MAX($E$9:E8038)-1)))","v":""}]
[null,null,null,null,null,{"$f":"IF(B8039=\"\",\"\",IF(C8039=\"\",F8038,IF(E8039=\"\",F8038,E8039/MAX($E$9:E8039)-1)))","v":""}]
[null,null,null,null,null,{"$f":"IF(B8040=\"\",\"\",IF(C8040=\"\",F8039,IF(E8040=\"\",F8039,E8040/MAX($E$9:E8040)-1)))","v":""}]
[null,null,null,null,null,{"$f":"IF(B8041=\"\",\"\",IF(C8041=\"\",F8040,IF(E8041=\"\",F8040,E8041/MAX($E$9:E8041)-1)))","v":""}]
[null,null,null,null,null,{"$f":"IF(B8042=\"\",\"\",IF(C8042=\"\",F8041,IF(E8042=\"\",F8041,E8042/MAX($E$9:E8042)-1)))","v":""}]
[null,null,null,null,null,{"$f":"IF(B8043=\"\",\"\",IF(C8043=\"\",F8042,IF(E8043=\"\",F8042,E8043/MAX($E$9:E8043)-1)))","v":""}]
[null,null,null,null,null,{"$f":"IF(B8044=\"\",\"\",IF(C8044=\"\",F8043,IF(E8044=\"\",F8043,E8044/MAX($E$9:E8044)-1)))","v":""}]
[null,null,null,null,null,{"$f":"IF(B8045=\"\",\"\",IF(C8045=\"\",F8044,IF(E8045=\"\",F8044,E8045/MAX($E$9:E8045)-1)))","v":""}]
[null,null,null,null,null,{"$f":"IF(B8046=\"\",\"\",IF(C8046=\"\",F8045,IF(E8046=\"\",F8045,E8046/MAX($E$9:E8046)-1)))","v":""}]
[null,null,null,null,null,{"$f":"IF(B8047=\"\",\"\",IF(C8047=\"\",F8046,IF(E8047=\"\",F8046,E8047/MAX($E$9:E8047)-1)))","v":""}]
[null,null,null,null,null,{"$f":"IF(B8048=\"\",\"\",IF(C8048=\"\",F8047,IF(E8048=\"\",F8047,E8048/MAX($E$9:E8048)-1)))","v":""}]
[null,null,null,null,null,{"$f":"IF(B8049=\"\",\"\",IF(C8049=\"\",F8048,IF(E8049=\"\",F8048,E8049/MAX($E$9:E8049)-1)))","v":""}]
[null,null,null,null,null,{"$f":"IF(B8050=\"\",\"\",IF(C8050=\"\",F8049,IF(E8050=\"\",F8049,E8050/MAX($E$9:E8050)-1)))","v":""}]
[null,null,null,null,null,{"$f":"IF(B8051=\"\",\"\",IF(C8051=\"\",F8050,IF(E8051=\"\",F8050,E8051/MAX($E$9:E8051)-1)))","v":""}]
[null,null,null,null,null,{"$f":"IF(B8052=\"\",\"\",IF(C8052=\"\",F8051,IF(E8052=\"\",F8051,E8052/MAX($E$9:E8052)-1)))","v":""}]
[null,null,null,null,null,{"$f":"IF(B8053=\"\",\"\",IF(C8053=\"\",F8052,IF(E8053=\"\",F8052,E8053/MAX($E$9:E8053)-1)))","v":""}]
[null,null,null,null,null,{"$f":"IF(B8054=\"\",\"\",IF(C8054=\"\",F8053,IF(E8054=\"\",F8053,E8054/MAX($E$9:E8054)-1)))","v":""}]
[null,null,null,null,null,{"$f":"IF(B8055=\"\",\"\",IF(C8055=\"\",F8054,IF(E8055=\"\",F8054,E8055/MAX($E$9:E8055)-1)))","v":""}]
[null,null,null,null,null,{"$f":"IF(B8056=\"\",\"\",IF(C8056=\"\",F8055,IF(E8056=\"\",F8055,E8056/MAX($E$9:E8056)-1)))","v":""}]
[null,null,null,null,null,{"$f":"IF(B8057=\"\",\"\",IF(C8057=\"\",F8056,IF(E8057=\"\",F8056,E8057/MAX($E$9:E8057)-1)))","v":""}]
[null,null,null,null,null,{"$f":"IF(B8058=\"\",\"\",IF(C8058=\"\",F8057,IF(E8058=\"\",F8057,E8058/MAX($E$9:E8058)-1)))","v":""}]
[null,null,null,null,null,{"$f":"IF(B8059=\"\",\"\",IF(C8059=\"\",F8058,IF(E8059=\"\",F8058,E8059/MAX($E$9:E8059)-1)))","v":""}]
[null,null,null,null,null,{"$f":"IF(B8060=\"\",\"\",IF(C8060=\"\",F8059,IF(E8060=\"\",F8059,E8060/MAX($E$9:E8060)-1)))","v":""}]
[null,null,null,null,null,{"$f":"IF(B8061=\"\",\"\",IF(C8061=\"\",F8060,IF(E8061=\"\",F8060,E8061/MAX($E$9:E8061)-1)))","v":""}]
[null,null,null,null,null,{"$f":"IF(B8062=\"\",\"\",IF(C8062=\"\",F8061,IF(E8062=\"\",F8061,E8062/MAX($E$9:E8062)-1)))","v":""}]
[null,null,null,null,null,{"$f":"IF(B8063=\"\",\"\",IF(C8063=\"\",F8062,IF(E8063=\"\",F8062,E8063/MAX($E$9:E8063)-1)))","v":""}]
[null,null,null,null,null,{"$f":"IF(B8064=\"\",\"\",IF(C8064=\"\",F8063,IF(E8064=\"\",F8063,E8064/MAX($E$9:E8064)-1)))","v":""}]
[null,null,null,null,null,{"$f":"IF(B8065=\"\",\"\",IF(C8065=\"\",F8064,IF(E8065=\"\",F8064,E8065/MAX($E$9:E8065)-1)))","v":""}]
[null,null,null,null,null,{"$f":"IF(B8066=\"\",\"\",IF(C8066=\"\",F8065,IF(E8066=\"\",F8065,E8066/MAX($E$9:E8066)-1)))","v":""}]
[null,null,null,null,null,{"$f":"IF(B8067=\"\",\"\",IF(C8067=\"\",F8066,IF(E8067=\"\",F8066,E8067/MAX($E$9:E8067)-1)))","v":""}]
[null,null,null,null,null,{"$f":"IF(B8068=\"\",\"\",IF(C8068=\"\",F8067,IF(E8068=\"\",F8067,E8068/MAX($E$9:E8068)-1)))","v":""}]
[null,null,null,null,null,{"$f":"IF(B8069=\"\",\"\",IF(C8069=\"\",F8068,IF(E8069=\"\",F8068,E8069/MAX($E$9:E8069)-1)))","v":""}]
[null,null,null,null,null,{"$f":"IF(B8070=\"\",\"\",IF(C8070=\"\",F8069,IF(E8070=\"\",F8069,E8070/MAX($E$9:E8070)-1)))","v":""}]
[null,null,null,null,null,{"$f":"IF(B8071=\"\",\"\",IF(C8071=\"\",F8070,IF(E8071=\"\",F8070,E8071/MAX($E$9:E8071)-1)))","v":""}]
[null,null,null,null,null,{"$f":"IF(B8072=\"\",\"\",IF(C8072=\"\",F8071,IF(E8072=\"\",F8071,E8072/MAX($E$9:E8072)-1)))","v":""}]
[null,null,null,null,null,{"$f":"IF(B8073=\"\",\"\",IF(C8073=\"\",F8072,IF(E8073=\"\",F8072,E8073/MAX($E$9:E8073)-1)))","v":""}]
[null,null,null,null,null,{"$f":"IF(B8074=\"\",\"\",IF(C8074=\"\",F8073,IF(E8074=\"\",F8073,E8074/MAX($E$9:E8074)-1)))","v":""}]
[null,null,null,null,null,{"$f":"IF(B8075=\"\",\"\",IF(C8075=\"\",F8074,IF(E8075=\"\",F8074,E8075/MAX($E$9:E8075)-1)))","v":""}]
[null,null,null,null,null,{"$f":"IF(B8076=\"\",\"\",IF(C8076=\"\",F8075,IF(E8076=\"\",F8075,E8076/MAX($E$9:E8076)-1)))","v":""}]
[null,null,null,null,null,{"$f":"IF(B8077=\"\",\"\",IF(C8077=\"\",F8076,IF(E8077=\"\",F8076,E8077/MAX($E$9:E8077)-1)))","v":""}]
[null,null,null,null,null,{"$f":"IF(B8078=\"\",\"\",IF(C8078=\"\",F8077,IF(E8078=\"\",F8077,E8078/MAX($E$9:E8078)-1)))","v":""}]
[null,null,null,null,null,{"$f":"IF(B8079=\"\",\"\",IF(C8079=\"\",F8078,IF(E8079=\"\",F8078,E8079/MAX($E$9:E8079)-1)))","v":""}]
[null,null,null,null,null,{"$f":"IF(B8080=\"\",\"\",IF(C8080=\"\",F8079,IF(E8080=\"\",F8079,E8080/MAX($E$9:E8080)-1)))","v":""}]
[null,null,null,null,null,{"$f":"IF(B8081=\"\",\"\",IF(C8081=\"\",F8080,IF(E8081=\"\",F8080,E8081/MAX($E$9:E8081)-1)))","v":""}]
[null,null,null,null,null,{"$f":"IF(B8082=\"\",\"\",IF(C8082=\"\",F8081,IF(E8082=\"\",F8081,E8082/MAX($E$9:E8082)-1)))","v":""}]
[null,null,null,null,null,{"$f":"IF(B8083=\"\",\"\",IF(C8083=\"\",F8082,IF(E8083=\"\",F8082,E8083/MAX($E$9:E8083)-1)))","v":""}]
[null,null,null,null,null,{"$f":"IF(B8084=\"\",\"\",IF(C8084=\"\",F8083,IF(E8084=\"\",F8083,E8084/MAX($E$9:E8084)-1)))","v":""}]
[null,null,null,null,null,{"$f":"IF(B8085=\"\",\"\",IF(C8085=\"\",F8084,IF(E8085=\"\",F8084,E8085/MAX($E$9:E8085)-1)))","v":""}]
[null,null,null,null,null,{"$f":"IF(B8086=\"\",\"\",IF(C8086=\"\",F8085,IF(E8086=\"\",F8085,E8086/MAX($E$9:E8086)-1)))","v":""}]
[null,null,null,null,null,{"$f":"IF(B8087=\"\",\"\",IF(C8087=\"\",F8086,IF(E8087=\"\",F8086,E8087/MAX($E$9:E8087)-1)))","v":""}]
[null,null,null,null,null,{"$f":"IF(B8088=\"\",\"\",IF(C8088=\"\",F8087,IF(E8088=\"\",F8087,E8088/MAX($E$9:E8088)-1)))","v":""}]
[null,null,null,null,null,{"$f":"IF(B8089=\"\",\"\",IF(C8089=\"\",F8088,IF(E8089=\"\",F8088,E8089/MAX($E$9:E8089)-1)))","v":""}]
[null,null,null,null,null,{"$f":"IF(B8090=\"\",\"\",IF(C8090=\"\",F8089,IF(E8090=\"\",F8089,E8090/MAX($E$9:E8090)-1)))","v":""}]
[null,null,null,null,null,{"$f":"IF(B8091=\"\",\"\",IF(C8091=\"\",F8090,IF(E8091=\"\",F8090,E8091/MAX($E$9:E8091)-1)))","v":""}]
[null,null,null,null,null,{"$f":"IF(B8092=\"\",\"\",IF(C8092=\"\",F8091,IF(E8092=\"\",F8091,E8092/MAX($E$9:E8092)-1)))","v":""}]
[null,null,null,null,null,{"$f":"IF(B8093=\"\",\"\",IF(C8093=\"\",F8092,IF(E8093=\"\",F8092,E8093/MAX($E$9:E8093)-1)))","v":""}]
[null,null,null,null,null,{"$f":"IF(B8094=\"\",\"\",IF(C8094=\"\",F8093,IF(E8094=\"\",F8093,E8094/MAX($E$9:E8094)-1)))","v":""}]
[null,null,null,null,null,{"$f":"IF(B8095=\"\",\"\",IF(C8095=\"\",F8094,IF(E8095=\"\",F8094,E8095/MAX($E$9:E8095)-1)))","v":""}]
[null,null,null,null,null,{"$f":"IF(B8096=\"\",\"\",IF(C8096=\"\",F8095,IF(E8096=\"\",F8095,E8096/MAX($E$9:E8096)-1)))","v":""}]
[null,null,null,null,null,{"$f":"IF(B8097=\"\",\"\",IF(C8097=\"\",F8096,IF(E8097=\"\",F8096,E8097/MAX($E$9:E8097)-1)))","v":""}]
[null,null,null,null,null,{"$f":"IF(B8098=\"\",\"\",IF(C8098=\"\",F8097,IF(E8098=\"\",F8097,E8098/MAX($E$9:E8098)-1)))","v":""}]
[null,null,null,null,null,{"$f":"IF(B8099=\"\",\"\",IF(C8099=\"\",F8098,IF(E8099=\"\",F8098,E8099/MAX($E$9:E8099)-1)))","v":""}]
[null,null,null,null,null,{"$f":"IF(B8100=\"\",\"\",IF(C8100=\"\",F8099,IF(E8100=\"\",F8099,E8100/MAX($E$9:E8100)-1)))","v":""}]
[null,null,null,null,null,{"$f":"IF(B8101=\"\",\"\",IF(C8101=\"\",F8100,IF(E8101=\"\",F8100,E8101/MAX($E$9:E8101)-1)))","v":""}]
[null,null,null,null,null,{"$f":"IF(B8102=\"\",\"\",IF(C8102=\"\",F8101,IF(E8102=\"\",F8101,E8102/MAX($E$9:E8102)-1)))","v":""}]
[null,null,null,null,null,{"$f":"IF(B8103=\"\",\"\",IF(C8103=\"\",F8102,IF(E8103=\"\",F8102,E8103/MAX($E$9:E8103)-1)))","v":""}]
[null,null,null,null,null,{"$f":"IF(B8104=\"\",\"\",IF(C8104=\"\",F8103,IF(E8104=\"\",F8103,E8104/MAX($E$9:E8104)-1)))","v":""}]
[null,null,null,null,null,{"$f":"IF(B8105=\"\",\"\",IF(C8105=\"\",F8104,IF(E8105=\"\",F8104,E8105/MAX($E$9:E8105)-1)))","v":""}]
[null,null,null,null,null,{"$f":"IF(B8106=\"\",\"\",IF(C8106=\"\",F8105,IF(E8106=\"\",F8105,E8106/MAX($E$9:E8106)-1)))","v":""}]
[null,null,null,null,null,{"$f":"IF(B8107=\"\",\"\",IF(C8107=\"\",F8106,IF(E8107=\"\",F8106,E8107/MAX($E$9:E8107)-1)))","v":""}]
[null,null,null,null,null,{"$f":"IF(B8108=\"\",\"\",IF(C8108=\"\",F8107,IF(E8108=\"\",F8107,E8108/MAX($E$9:E8108)-1)))","v":""}]
[null,null,null,null,null,{"$f":"IF(B8109=\"\",\"\",IF(C8109=\"\",F8108,IF(E8109=\"\",F8108,E8109/MAX($E$9:E8109)-1)))","v":""}]
[null,null,null,null,null,{"$f":"IF(B8110=\"\",\"\",IF(C8110=\"\",F8109,IF(E8110=\"\",F8109,E8110/MAX($E$9:E8110)-1)))","v":""}]
[null,null,null,null,null,{"$f":"IF(B8111=\"\",\"\",IF(C8111=\"\",F8110,IF(E8111=\"\",F8110,E8111/MAX($E$9:E8111)-1)))","v":""}]
[null,null,null,null,null,{"$f":"IF(B8112=\"\",\"\",IF(C8112=\"\",F8111,IF(E8112=\"\",F8111,E8112/MAX($E$9:E8112)-1)))","v":""}]
[null,null,null,null,null,{"$f":"IF(B8113=\"\",\"\",IF(C8113=\"\",F8112,IF(E8113=\"\",F8112,E8113/MAX($E$9:E8113)-1)))","v":""}]
[null,null,null,null,null,{"$f":"IF(B8114=\"\",\"\",IF(C8114=\"\",F8113,IF(E8114=\"\",F8113,E8114/MAX($E$9:E8114)-1)))","v":""}]
[null,null,null,null,null,{"$f":"IF(B8115=\"\",\"\",IF(C8115=\"\",F8114,IF(E8115=\"\",F8114,E8115/MAX($E$9:E8115)-1)))","v":""}]
[null,null,null,null,null,{"$f":"IF(B8116=\"\",\"\",IF(C8116=\"\",F8115,IF(E8116=\"\",F8115,E8116/MAX($E$9:E8116)-1)))","v":""}]
[null,null,null,null,null,{"$f":"IF(B8117=\"\",\"\",IF(C8117=\"\",F8116,IF(E8117=\"\",F8116,E8117/MAX($E$9:E8117)-1)))","v":""}]
[null,null,null,null,null,{"$f":"IF(B8118=\"\",\"\",IF(C8118=\"\",F8117,IF(E8118=\"\",F8117,E8118/MAX($E$9:E8118)-1)))","v":""}]
[null,null,null,null,null,{"$f":"IF(B8119=\"\",\"\",IF(C8119=\"\",F8118,IF(E8119=\"\",F8118,E8119/MAX($E$9:E8119)-1)))","v":""}]
[null,null,null,null,null,{"$f":"IF(B8120=\"\",\"\",IF(C8120=\"\",F8119,IF(E8120=\"\",F8119,E8120/MAX($E$9:E8120)-1)))","v":""}]
[null,null,null,null,null,{"$f":"IF(B8121=\"\",\"\",IF(C8121=\"\",F8120,IF(E8121=\"\",F8120,E8121/MAX($E$9:E8121)-1)))","v":""}]
[null,null,null,null,null,{"$f":"IF(B8122=\"\",\"\",IF(C8122=\"\",F8121,IF(E8122=\"\",F8121,E8122/MAX($E$9:E8122)-1)))","v":""}]
[null,null,null,null,null,{"$f":"IF(B8123=\"\",\"\",IF(C8123=\"\",F8122,IF(E8123=\"\",F8122,E8123/MAX($E$9:E8123)-1)))","v":""}]
[null,null,null,null,null,{"$f":"IF(B8124=\"\",\"\",IF(C8124=\"\",F8123,IF(E8124=\"\",F8123,E8124/MAX($E$9:E8124)-1)))","v":""}]
[null,null,null,null,null,{"$f":"IF(B8125=\"\",\"\",IF(C8125=\"\",F8124,IF(E8125=\"\",F8124,E8125/MAX($E$9:E8125)-1)))","v":""}]
[null,null,null,null,null,{"$f":"IF(B8126=\"\",\"\",IF(C8126=\"\",F8125,IF(E8126=\"\",F8125,E8126/MAX($E$9:E8126)-1)))","v":""}]
[null,null,null,null,null,{"$f":"IF(B8127=\"\",\"\",IF(C8127=\"\",F8126,IF(E8127=\"\",F8126,E8127/MAX($E$9:E8127)-1)))","v":""}]
[null,null,null,null,null,{"$f":"IF(B8128=\"\",\"\",IF(C8128=\"\",F8127,IF(E8128=\"\",F8127,E8128/MAX($E$9:E8128)-1)))","v":""}]
[null,null,null,null,null,{"$f":"IF(B8129=\"\",\"\",IF(C8129=\"\",F8128,IF(E8129=\"\",F8128,E8129/MAX($E$9:E8129)-1)))","v":""}]
[null,null,null,null,null,{"$f":"IF(B8130=\"\",\"\",IF(C8130=\"\",F8129,IF(E8130=\"\",F8129,E8130/MAX($E$9:E8130)-1)))","v":""}]
[null,null,null,null,null,{"$f":"IF(B8131=\"\",\"\",IF(C8131=\"\",F8130,IF(E8131=\"\",F8130,E8131/MAX($E$9:E8131)-1)))","v":""}]
[null,null,null,null,null,{"$f":"IF(B8132=\"\",\"\",IF(C8132=\"\",F8131,IF(E8132=\"\",F8131,E8132/MAX($E$9:E8132)-1)))","v":""}]
[null,null,null,null,null,{"$f":"IF(B8133=\"\",\"\",IF(C8133=\"\",F8132,IF(E8133=\"\",F8132,E8133/MAX($E$9:E8133)-1)))","v":""}]
[null,null,null,null,null,{"$f":"IF(B8134=\"\",\"\",IF(C8134=\"\",F8133,IF(E8134=\"\",F8133,E8134/MAX($E$9:E8134)-1)))","v":""}]
[null,null,null,null,null,{"$f":"IF(B8135=\"\",\"\",IF(C8135=\"\",F8134,IF(E8135=\"\",F8134,E8135/MAX($E$9:E8135)-1)))","v":""}]
[null,null,null,null,null,{"$f":"IF(B8136=\"\",\"\",IF(C8136=\"\",F8135,IF(E8136=\"\",F8135,E8136/MAX($E$9:E8136)-1)))","v":""}]
[null,null,null,null,null,{"$f":"IF(B8137=\"\",\"\",IF(C8137=\"\",F8136,IF(E8137=\"\",F8136,E8137/MAX($E$9:E8137)-1)))","v":""}]
[null,null,null,null,null,{"$f":"IF(B8138=\"\",\"\",IF(C8138=\"\",F8137,IF(E8138=\"\",F8137,E8138/MAX($E$9:E8138)-1)))","v":""}]
[null,null,null,null,null,{"$f":"IF(B8139=\"\",\"\",IF(C8139=\"\",F8138,IF(E8139=\"\",F8138,E8139/MAX($E$9:E8139)-1)))","v":""}]
[null,null,null,null,null,{"$f":"IF(B8140=\"\",\"\",IF(C8140=\"\",F8139,IF(E8140=\"\",F8139,E8140/MAX($E$9:E8140)-1)))","v":""}]
[null,null,null,null,null,{"$f":"IF(B8141=\"\",\"\",IF(C8141=\"\",F8140,IF(E8141=\"\",F8140,E8141/MAX($E$9:E8141)-1)))","v":""}]
[null,null,null,null,null,{"$f":"IF(B8142=\"\",\"\",IF(C8142=\"\",F8141,IF(E8142=\"\",F8141,E8142/MAX($E$9:E8142)-1)))","v":""}]
[null,null,null,null,null,{"$f":"IF(B8143=\"\",\"\",IF(C8143=\"\",F8142,IF(E8143=\"\",F8142,E8143/MAX($E$9:E8143)-1)))","v":""}]
[null,null,null,null,null,{"$f":"IF(B8144=\"\",\"\",IF(C8144=\"\",F8143,IF(E8144=\"\",F8143,E8144/MAX($E$9:E8144)-1)))","v":""}]
[null,null,null,null,null,{"$f":"IF(B8145=\"\",\"\",IF(C8145=\"\",F8144,IF(E8145=\"\",F8144,E8145/MAX($E$9:E8145)-1)))","v":""}]
[null,null,null,null,null,{"$f":"IF(B8146=\"\",\"\",IF(C8146=\"\",F8145,IF(E8146=\"\",F8145,E8146/MAX($E$9:E8146)-1)))","v":""}]
[null,null,null,null,null,{"$f":"IF(B8147=\"\",\"\",IF(C8147=\"\",F8146,IF(E8147=\"\",F8146,E8147/MAX($E$9:E8147)-1)))","v":""}]
[null,null,null,null,null,{"$f":"IF(B8148=\"\",\"\",IF(C8148=\"\",F8147,IF(E8148=\"\",F8147,E8148/MAX($E$9:E8148)-1)))","v":""}]
[null,null,null,null,null,{"$f":"IF(B8149=\"\",\"\",IF(C8149=\"\",F8148,IF(E8149=\"\",F8148,E8149/MAX($E$9:E8149)-1)))","v":""}]
[null,null,null,null,null,{"$f":"IF(B8150=\"\",\"\",IF(C8150=\"\",F8149,IF(E8150=\"\",F8149,E8150/MAX($E$9:E8150)-1)))","v":""}]
[null,null,null,null,null,{"$f":"IF(B8151=\"\",\"\",IF(C8151=\"\",F8150,IF(E8151=\"\",F8150,E8151/MAX($E$9:E8151)-1)))","v":""}]
[null,null,null,null,null,{"$f":"IF(B8152=\"\",\"\",IF(C8152=\"\",F8151,IF(E8152=\"\",F8151,E8152/MAX($E$9:E8152)-1)))","v":""}]
[null,null,null,null,null,{"$f":"IF(B8153=\"\",\"\",IF(C8153=\"\",F8152,IF(E8153=\"\",F8152,E8153/MAX($E$9:E8153)-1)))","v":""}]
[null,null,null,null,null,{"$f":"IF(B8154=\"\",\"\",IF(C8154=\"\",F8153,IF(E8154=\"\",F8153,E8154/MAX($E$9:E8154)-1)))","v":""}]
[null,null,null,null,null,{"$f":"IF(B8155=\"\",\"\",IF(C8155=\"\",F8154,IF(E8155=\"\",F8154,E8155/MAX($E$9:E8155)-1)))","v":""}]
[null,null,null,null,null,{"$f":"IF(B8156=\"\",\"\",IF(C8156=\"\",F8155,IF(E8156=\"\",F8155,E8156/MAX($E$9:E8156)-1)))","v":""}]
[null,null,null,null,null,{"$f":"IF(B8157=\"\",\"\",IF(C8157=\"\",F8156,IF(E8157=\"\",F8156,E8157/MAX($E$9:E8157)-1)))","v":""}]
[null,null,null,null,null,{"$f":"IF(B8158=\"\",\"\",IF(C8158=\"\",F8157,IF(E8158=\"\",F8157,E8158/MAX($E$9:E8158)-1)))","v":""}]
[null,null,null,null,null,{"$f":"IF(B8159=\"\",\"\",IF(C8159=\"\",F8158,IF(E8159=\"\",F8158,E8159/MAX($E$9:E8159)-1)))","v":""}]
[null,null,null,null,null,{"$f":"IF(B8160=\"\",\"\",IF(C8160=\"\",F8159,IF(E8160=\"\",F8159,E8160/MAX($E$9:E8160)-1)))","v":""}]
[null,null,null,null,null,{"$f":"IF(B8161=\"\",\"\",IF(C8161=\"\",F8160,IF(E8161=\"\",F8160,E8161/MAX($E$9:E8161)-1)))","v":""}]
[null,null,null,null,null,{"$f":"IF(B8162=\"\",\"\",IF(C8162=\"\",F8161,IF(E8162=\"\",F8161,E8162/MAX($E$9:E8162)-1)))","v":""}]
[null,null,null,null,null,{"$f":"IF(B8163=\"\",\"\",IF(C8163=\"\",F8162,IF(E8163=\"\",F8162,E8163/MAX($E$9:E8163)-1)))","v":""}]
[null,null,null,null,null,{"$f":"IF(B8164=\"\",\"\",IF(C8164=\"\",F8163,IF(E8164=\"\",F8163,E8164/MAX($E$9:E8164)-1)))","v":""}]
[null,null,null,null,null,{"$f":"IF(B8165=\"\",\"\",IF(C8165=\"\",F8164,IF(E8165=\"\",F8164,E8165/MAX($E$9:E8165)-1)))","v":""}]
[null,null,null,null,null,{"$f":"IF(B8166=\"\",\"\",IF(C8166=\"\",F8165,IF(E8166=\"\",F8165,E8166/MAX($E$9:E8166)-1)))","v":""}]
[null,null,null,null,null,{"$f":"IF(B8167=\"\",\"\",IF(C8167=\"\",F8166,IF(E8167=\"\",F8166,E8167/MAX($E$9:E8167)-1)))","v":""}]
[null,null,null,null,null,{"$f":"IF(B8168=\"\",\"\",IF(C8168=\"\",F8167,IF(E8168=\"\",F8167,E8168/MAX($E$9:E8168)-1)))","v":""}]
[null,null,null,null,null,{"$f":"IF(B8169=\"\",\"\",IF(C8169=\"\",F8168,IF(E8169=\"\",F8168,E8169/MAX($E$9:E8169)-1)))","v":""}]
[null,null,null,null,null,{"$f":"IF(B8170=\"\",\"\",IF(C8170=\"\",F8169,IF(E8170=\"\",F8169,E8170/MAX($E$9:E8170)-1)))","v":""}]
[null,null,null,null,null,{"$f":"IF(B8171=\"\",\"\",IF(C8171=\"\",F8170,IF(E8171=\"\",F8170,E8171/MAX($E$9:E8171)-1)))","v":""}]
[null,null,null,null,null,{"$f":"IF(B8172=\"\",\"\",IF(C8172=\"\",F8171,IF(E8172=\"\",F8171,E8172/MAX($E$9:E8172)-1)))","v":""}]
[null,null,null,null,null,{"$f":"IF(B8173=\"\",\"\",IF(C8173=\"\",F8172,IF(E8173=\"\",F8172,E8173/MAX($E$9:E8173)-1)))","v":""}]
[null,null,null,null,null,{"$f":"IF(B8174=\"\",\"\",IF(C8174=\"\",F8173,IF(E8174=\"\",F8173,E8174/MAX($E$9:E8174)-1)))","v":""}]
[null,null,null,null,null,{"$f":"IF(B8175=\"\",\"\",IF(C8175=\"\",F8174,IF(E8175=\"\",F8174,E8175/MAX($E$9:E8175)-1)))","v":""}]
[null,null,null,null,null,{"$f":"IF(B8176=\"\",\"\",IF(C8176=\"\",F8175,IF(E8176=\"\",F8175,E8176/MAX($E$9:E8176)-1)))","v":""}]
[null,null,null,null,null,{"$f":"IF(B8177=\"\",\"\",IF(C8177=\"\",F8176,IF(E8177=\"\",F8176,E8177/MAX($E$9:E8177)-1)))","v":""}]
[null,null,null,null,null,{"$f":"IF(B8178=\"\",\"\",IF(C8178=\"\",F8177,IF(E8178=\"\",F8177,E8178/MAX($E$9:E8178)-1)))","v":""}]
[null,null,null,null,null,{"$f":"IF(B8179=\"\",\"\",IF(C8179=\"\",F8178,IF(E8179=\"\",F8178,E8179/MAX($E$9:E8179)-1)))","v":""}]
[null,null,null,null,null,{"$f":"IF(B8180=\"\",\"\",IF(C8180=\"\",F8179,IF(E8180=\"\",F8179,E8180/MAX($E$9:E8180)-1)))","v":""}]
[null,null,null,null,null,{"$f":"IF(B8181=\"\",\"\",IF(C8181=\"\",F8180,IF(E8181=\"\",F8180,E8181/MAX($E$9:E8181)-1)))","v":""}]
[null,null,null,null,null,{"$f":"IF(B8182=\"\",\"\",IF(C8182=\"\",F8181,IF(E8182=\"\",F8181,E8182/MAX($E$9:E8182)-1)))","v":""}]
[null,null,null,null,null,{"$f":"IF(B8183=\"\",\"\",IF(C8183=\"\",F8182,IF(E8183=\"\",F8182,E8183/MAX($E$9:E8183)-1)))","v":""}]
[null,null,null,null,null,{"$f":"IF(B8184=\"\",\"\",IF(C8184=\"\",F8183,IF(E8184=\"\",F8183,E8184/MAX($E$9:E8184)-1)))","v":""}]
[null,null,null,null,null,{"$f":"IF(B8185=\"\",\"\",IF(C8185=\"\",F8184,IF(E8185=\"\",F8184,E8185/MAX($E$9:E8185)-1)))","v":""}]
[null,null,null,null,null,{"$f":"IF(B8186=\"\",\"\",IF(C8186=\"\",F8185,IF(E8186=\"\",F8185,E8186/MAX($E$9:E8186)-1)))","v":""}]
[null,null,null,null,null,{"$f":"IF(B8187=\"\",\"\",IF(C8187=\"\",F8186,IF(E8187=\"\",F8186,E8187/MAX($E$9:E8187)-1)))","v":""}]
[null,null,null,null,null,{"$f":"IF(B8188=\"\",\"\",IF(C8188=\"\",F8187,IF(E8188=\"\",F8187,E8188/MAX($E$9:E8188)-1)))","v":""}]
[null,null,null,null,null,{"$f":"IF(B8189=\"\",\"\",IF(C8189=\"\",F8188,IF(E8189=\"\",F8188,E8189/MAX($E$9:E8189)-1)))","v":""}]
[null,null,null,null,null,{"$f":"IF(B8190=\"\",\"\",IF(C8190=\"\",F8189,IF(E8190=\"\",F8189,E8190/MAX($E$9:E8190)-1)))","v":""}]
[null,null,null,null,null,{"$f":"IF(B8191=\"\",\"\",IF(C8191=\"\",F8190,IF(E8191=\"\",F8190,E8191/MAX($E$9:E8191)-1)))","v":""}]
[null,null,null,null,null,{"$f":"IF(B8192=\"\",\"\",IF(C8192=\"\",F8191,IF(E8192=\"\",F8191,E8192/MAX($E$9:E8192)-1)))","v":""}]
[null,null,null,null,null,{"$f":"IF(B8193=\"\",\"\",IF(C8193=\"\",F8192,IF(E8193=\"\",F8192,E8193/MAX($E$9:E8193)-1)))","v":""}]
[null,null,null,null,null,{"$f":"IF(B8194=\"\",\"\",IF(C8194=\"\",F8193,IF(E8194=\"\",F8193,E8194/MAX($E$9:E8194)-1)))","v":""}]
[null,null,null,null,null,{"$f":"IF(B8195=\"\",\"\",IF(C8195=\"\",F8194,IF(E8195=\"\",F8194,E8195/MAX($E$9:E8195)-1)))","v":""}]
[null,null,null,null,null,{"$f":"IF(B8196=\"\",\"\",IF(C8196=\"\",F8195,IF(E8196=\"\",F8195,E8196/MAX($E$9:E8196)-1)))","v":""}]
[null,null,null,null,null,{"$f":"IF(B8197=\"\",\"\",IF(C8197=\"\",F8196,IF(E8197=\"\",F8196,E8197/MAX($E$9:E8197)-1)))","v":""}]
[null,null,null,null,null,{"$f":"IF(B8198=\"\",\"\",IF(C8198=\"\",F8197,IF(E8198=\"\",F8197,E8198/MAX($E$9:E8198)-1)))","v":""}]
[null,null,null,null,null,{"$f":"IF(B8199=\"\",\"\",IF(C8199=\"\",F8198,IF(E8199=\"\",F8198,E8199/MAX($E$9:E8199)-1)))","v":""}]
[null,null,null,null,null,{"$f":"IF(B8200=\"\",\"\",IF(C8200=\"\",F8199,IF(E8200=\"\",F8199,E8200/MAX($E$9:E8200)-1)))","v":""}]
[null,null,null,null,null,{"$f":"IF(B8201=\"\",\"\",IF(C8201=\"\",F8200,IF(E8201=\"\",F8200,E8201/MAX($E$9:E8201)-1)))","v":""}]
[null,null,null,null,null,{"$f":"IF(B8202=\"\",\"\",IF(C8202=\"\",F8201,IF(E8202=\"\",F8201,E8202/MAX($E$9:E8202)-1)))","v":""}]
[null,null,null,null,null,{"$f":"IF(B8203=\"\",\"\",IF(C8203=\"\",F8202,IF(E8203=\"\",F8202,E8203/MAX($E$9:E8203)-1)))","v":""}]
[null,null,null,null,null,{"$f":"IF(B8204=\"\",\"\",IF(C8204=\"\",F8203,IF(E8204=\"\",F8203,E8204/MAX($E$9:E8204)-1)))","v":""}]
[null,null,null,null,null,{"$f":"IF(B8205=\"\",\"\",IF(C8205=\"\",F8204,IF(E8205=\"\",F8204,E8205/MAX($E$9:E8205)-1)))","v":""}]
[null,null,null,null,null,{"$f":"IF(B8206=\"\",\"\",IF(C8206=\"\",F8205,IF(E8206=\"\",F8205,E8206/MAX($E$9:E8206)-1)))","v":""}]
[null,null,null,null,null,{"$f":"IF(B8207=\"\",\"\",IF(C8207=\"\",F8206,IF(E8207=\"\",F8206,E8207/MAX($E$9:E8207)-1)))","v":""}]
[null,null,null,null,null,{"$f":"IF(B8208=\"\",\"\",IF(C8208=\"\",F8207,IF(E8208=\"\",F8207,E8208/MAX($E$9:E8208)-1)))","v":""}]
[null,null,null,null,null,{"$f":"IF(B8209=\"\",\"\",IF(C8209=\"\",F8208,IF(E8209=\"\",F8208,E8209/MAX($E$9:E8209)-1)))","v":""}]
[null,null,null,null,null,{"$f":"IF(B8210=\"\",\"\",IF(C8210=\"\",F8209,IF(E8210=\"\",F8209,E8210/MAX($E$9:E8210)-1)))","v":""}]
[null,null,null,null,null,{"$f":"IF(B8211=\"\",\"\",IF(C8211=\"\",F8210,IF(E8211=\"\",F8210,E8211/MAX($E$9:E8211)-1)))","v":""}]
[null,null,null,null,null,{"$f":"IF(B8212=\"\",\"\",IF(C8212=\"\",F8211,IF(E8212=\"\",F8211,E8212/MAX($E$9:E8212)-1)))","v":""}]
[null,null,null,null,null,{"$f":"IF(B8213=\"\",\"\",IF(C8213=\"\",F8212,IF(E8213=\"\",F8212,E8213/MAX($E$9:E8213)-1)))","v":""}]
[null,null,null,null,null,{"$f":"IF(B8214=\"\",\"\",IF(C8214=\"\",F8213,IF(E8214=\"\",F8213,E8214/MAX($E$9:E8214)-1)))","v":""}]
[null,null,null,null,null,{"$f":"IF(B8215=\"\",\"\",IF(C8215=\"\",F8214,IF(E8215=\"\",F8214,E8215/MAX($E$9:E8215)-1)))","v":""}]
[null,null,null,null,null,{"$f":"IF(B8216=\"\",\"\",IF(C8216=\"\",F8215,IF(E8216=\"\",F8215,E8216/MAX($E$9:E8216)-1)))","v":""}]
[null,null,null,null,null,{"$f":"IF(B8217=\"\",\"\",IF(C8217=\"\",F8216,IF(E8217=\"\",F8216,E8217/MAX($E$9:E8217)-1)))","v":""}]
[null,null,null,null,null,{"$f":"IF(B8218=\"\",\"\",IF(C8218=\"\",F8217,IF(E8218=\"\",F8217,E8218/MAX($E$9:E8218)-1)))","v":""}]
[null,null,null,null,null,{"$f":"IF(B8219=\"\",\"\",IF(C8219=\"\",F8218,IF(E8219=\"\",F8218,E8219/MAX($E$9:E8219)-1)))","v":""}]
[null,null,null,null,null,{"$f":"IF(B8220=\"\",\"\",IF(C8220=\"\",F8219,IF(E8220=\"\",F8219,E8220/MAX($E$9:E8220)-1)))","v":""}]
[null,null,null,null,null,{"$f":"IF(B8221=\"\",\"\",IF(C8221=\"\",F8220,IF(E8221=\"\",F8220,E8221/MAX($E$9:E8221)-1)))","v":""}]
[null,null,null,null,null,{"$f":"IF(B8222=\"\",\"\",IF(C8222=\"\",F8221,IF(E8222=\"\",F8221,E8222/MAX($E$9:E8222)-1)))","v":""}]
[null,null,null,null,null,{"$f":"IF(B8223=\"\",\"\",IF(C8223=\"\",F8222,IF(E8223=\"\",F8222,E8223/MAX($E$9:E8223)-1)))","v":""}]
[null,null,null,null,null,{"$f":"IF(B8224=\"\",\"\",IF(C8224=\"\",F8223,IF(E8224=\"\",F8223,E8224/MAX($E$9:E8224)-1)))","v":""}]
[null,null,null,null,null,{"$f":"IF(B8225=\"\",\"\",IF(C8225=\"\",F8224,IF(E8225=\"\",F8224,E8225/MAX($E$9:E8225)-1)))","v":""}]
[null,null,null,null,null,{"$f":"IF(B8226=\"\",\"\",IF(C8226=\"\",F8225,IF(E8226=\"\",F8225,E8226/MAX($E$9:E8226)-1)))","v":""}]
[null,null,null,null,null,{"$f":"IF(B8227=\"\",\"\",IF(C8227=\"\",F8226,IF(E8227=\"\",F8226,E8227/MAX($E$9:E8227)-1)))","v":""}]
[null,null,null,null,null,{"$f":"IF(B8228=\"\",\"\",IF(C8228=\"\",F8227,IF(E8228=\"\",F8227,E8228/MAX($E$9:E8228)-1)))","v":""}]
[null,null,null,null,null,{"$f":"IF(B8229=\"\",\"\",IF(C8229=\"\",F8228,IF(E8229=\"\",F8228,E8229/MAX($E$9:E8229)-1)))","v":""}]
[null,null,null,null,null,{"$f":"IF(B8230=\"\",\"\",IF(C8230=\"\",F8229,IF(E8230=\"\",F8229,E8230/MAX($E$9:E8230)-1)))","v":""}]
[null,null,null,null,null,{"$f":"IF(B8231=\"\",\"\",IF(C8231=\"\",F8230,IF(E8231=\"\",F8230,E8231/MAX($E$9:E8231)-1)))","v":""}]
[null,null,null,null,null,{"$f":"IF(B8232=\"\",\"\",IF(C8232=\"\",F8231,IF(E8232=\"\",F8231,E8232/MAX($E$9:E8232)-1)))","v":""}]
[null,null,null,null,null,{"$f":"IF(B8233=\"\",\"\",IF(C8233=\"\",F8232,IF(E8233=\"\",F8232,E8233/MAX($E$9:E8233)-1)))","v":""}]
[null,null,null,null,null,{"$f":"IF(B8234=\"\",\"\",IF(C8234=\"\",F8233,IF(E8234=\"\",F8233,E8234/MAX($E$9:E8234)-1)))","v":""}]
[null,null,null,null,null,{"$f":"IF(B8235=\"\",\"\",IF(C8235=\"\",F8234,IF(E8235=\"\",F8234,E8235/MAX($E$9:E8235)-1)))","v":""}]
[null,null,null,null,null,{"$f":"IF(B8236=\"\",\"\",IF(C8236=\"\",F8235,IF(E8236=\"\",F8235,E8236/MAX($E$9:E8236)-1)))","v":""}]
[null,null,null,null,null,{"$f":"IF(B8237=\"\",\"\",IF(C8237=\"\",F8236,IF(E8237=\"\",F8236,E8237/MAX($E$9:E8237)-1)))","v":""}]
[null,null,null,null,null,{"$f":"IF(B8238=\"\",\"\",IF(C8238=\"\",F8237,IF(E8238=\"\",F8237,E8238/MAX($E$9:E8238)-1)))","v":""}]
[null,null,null,null,null,{"$f":"IF(B8239=\"\",\"\",IF(C8239=\"\",F8238,IF(E8239=\"\",F8238,E8239/MAX($E$9:E8239)-1)))","v":""}]
[null,null,null,null,null,{"$f":"IF(B8240=\"\",\"\",IF(C8240=\"\",F8239,IF(E8240=\"\",F8239,E8240/MAX($E$9:E8240)-1)))","v":""}]
[null,null,null,null,null,{"$f":"IF(B8241=\"\",\"\",IF(C8241=\"\",F8240,IF(E8241=\"\",F8240,E8241/MAX($E$9:E8241)-1)))","v":""}]
[null,null,null,null,null,{"$f":"IF(B8242=\"\",\"\",IF(C8242=\"\",F8241,IF(E8242=\"\",F8241,E8242/MAX($E$9:E8242)-1)))","v":""}]
[null,null,null,null,null,{"$f":"IF(B8243=\"\",\"\",IF(C8243=\"\",F8242,IF(E8243=\"\",F8242,E8243/MAX($E$9:E8243)-1)))","v":""}]
[null,null,null,null,null,{"$f":"IF(B8244=\"\",\"\",IF(C8244=\"\",F8243,IF(E8244=\"\",F8243,E8244/MAX($E$9:E8244)-1)))","v":""}]
[null,null,null,null,null,{"$f":"IF(B8245=\"\",\"\",IF(C8245=\"\",F8244,IF(E8245=\"\",F8244,E8245/MAX($E$9:E8245)-1)))","v":""}]
[null,null,null,null,null,{"$f":"IF(B8246=\"\",\"\",IF(C8246=\"\",F8245,IF(E8246=\"\",F8245,E8246/MAX($E$9:E8246)-1)))","v":""}]
[null,null,null,null,null,{"$f":"IF(B8247=\"\",\"\",IF(C8247=\"\",F8246,IF(E8247=\"\",F8246,E8247/MAX($E$9:E8247)-1)))","v":""}]
[null,null,null,null,null,{"$f":"IF(B8248=\"\",\"\",IF(C8248=\"\",F8247,IF(E8248=\"\",F8247,E8248/MAX($E$9:E8248)-1)))","v":""}]
[null,null,null,null,null,{"$f":"IF(B8249=\"\",\"\",IF(C8249=\"\",F8248,IF(E8249=\"\",F8248,E8249/MAX($E$9:E8249)-1)))","v":""}]
[null,null,null,null,null,{"$f":"IF(B8250=\"\",\"\",IF(C8250=\"\",F8249,IF(E8250=\"\",F8249,E8250/MAX($E$9:E8250)-1)))","v":""}]
[null,null,null,null,null,{"$f":"IF(B8251=\"\",\"\",IF(C8251=\"\",F8250,IF(E8251=\"\",F8250,E8251/MAX($E$9:E8251)-1)))","v":""}]
[null,null,null,null,null,{"$f":"IF(B8252=\"\",\"\",IF(C8252=\"\",F8251,IF(E8252=\"\",F8251,E8252/MAX($E$9:E8252)-1)))","v":""}]
[null,null,null,null,null,{"$f":"IF(B8253=\"\",\"\",IF(C8253=\"\",F8252,IF(E8253=\"\",F8252,E8253/MAX($E$9:E8253)-1)))","v":""}]
[null,null,null,null,null,{"$f":"IF(B8254=\"\",\"\",IF(C8254=\"\",F8253,IF(E8254=\"\",F8253,E8254/MAX($E$9:E8254)-1)))","v":""}]
[null,null,null,null,null,{"$f":"IF(B8255=\"\",\"\",IF(C8255=\"\",F8254,IF(E8255=\"\",F8254,E8255/MAX($E$9:E8255)-1)))","v":""}]
[null,null,null,null,null,{"$f":"IF(B8256=\"\",\"\",IF(C8256=\"\",F8255,IF(E8256=\"\",F8255,E8256/MAX($E$9:E8256)-1)))","v":""}]
[null,null,null,null,null,{"$f":"IF(B8257=\"\",\"\",IF(C8257=\"\",F8256,IF(E8257=\"\",F8256,E8257/MAX($E$9:E8257)-1)))","v":""}]
[null,null,null,null,null,{"$f":"IF(B8258=\"\",\"\",IF(C8258=\"\",F8257,IF(E8258=\"\",F8257,E8258/MAX($E$9:E8258)-1)))","v":""}]
[null,null,null,null,null,{"$f":"IF(B8259=\"\",\"\",IF(C8259=\"\",F8258,IF(E8259=\"\",F8258,E8259/MAX($E$9:E8259)-1)))","v":""}]
[null,null,null,null,null,{"$f":"IF(B8260=\"\",\"\",IF(C8260=\"\",F8259,IF(E8260=\"\",F8259,E8260/MAX($E$9:E8260)-1)))","v":""}]
[null,null,null,null,null,{"$f":"IF(B8261=\"\",\"\",IF(C8261=\"\",F8260,IF(E8261=\"\",F8260,E8261/MAX($E$9:E8261)-1)))","v":""}]
[null,null,null,null,null,{"$f":"IF(B8262=\"\",\"\",IF(C8262=\"\",F8261,IF(E8262=\"\",F8261,E8262/MAX($E$9:E8262)-1)))","v":""}]
[null,null,null,null,null,{"$f":"IF(B8263=\"\",\"\",IF(C8263=\"\",F8262,IF(E8263=\"\",F8262,E8263/MAX($E$9:E8263)-1)))","v":""}]
[null,null,null,null,null,{"$f":"IF(B8264=\"\",\"\",IF(C8264=\"\",F8263,IF(E8264=\"\",F8263,E8264/MAX($E$9:E8264)-1)))","v":""}]
[null,null,null,null,null,{"$f":"IF(B8265=\"\",\"\",IF(C8265=\"\",F8264,IF(E8265=\"\",F8264,E8265/MAX($E$9:E8265)-1)))","v":""}]
[null,null,null,null,null,{"$f":"IF(B8266=\"\",\"\",IF(C8266=\"\",F8265,IF(E8266=\"\",F8265,E8266/MAX($E$9:E8266)-1)))","v":""}]
[null,null,null,null,null,{"$f":"IF(B8267=\"\",\"\",IF(C8267=\"\",F8266,IF(E8267=\"\",F8266,E8267/MAX($E$9:E8267)-1)))","v":""}]
[null,null,null,null,null,{"$f":"IF(B8268=\"\",\"\",IF(C8268=\"\",F8267,IF(E8268=\"\",F8267,E8268/MAX($E$9:E8268)-1)))","v":""}]
[null,null,null,null,null,{"$f":"IF(B8269=\"\",\"\",IF(C8269=\"\",F8268,IF(E8269=\"\",F8268,E8269/MAX($E$9:E8269)-1)))","v":""}]
[null,null,null,null,null,{"$f":"IF(B8270=\"\",\"\",IF(C8270=\"\",F8269,IF(E8270=\"\",F8269,E8270/MAX($E$9:E8270)-1)))","v":""}]
[null,null,null,null,null,{"$f":"IF(B8271=\"\",\"\",IF(C8271=\"\",F8270,IF(E8271=\"\",F8270,E8271/MAX($E$9:E8271)-1)))","v":""}]
[null,null,null,null,null,{"$f":"IF(B8272=\"\",\"\",IF(C8272=\"\",F8271,IF(E8272=\"\",F8271,E8272/MAX($E$9:E8272)-1)))","v":""}]
[null,null,null,null,null,{"$f":"IF(B8273=\"\",\"\",IF(C8273=\"\",F8272,IF(E8273=\"\",F8272,E8273/MAX($E$9:E8273)-1)))","v":""}]
[null,null,null,null,null,{"$f":"IF(B8274=\"\",\"\",IF(C8274=\"\",F8273,IF(E8274=\"\",F8273,E8274/MAX($E$9:E8274)-1)))","v":""}]
[null,null,null,null,null,{"$f":"IF(B8275=\"\",\"\",IF(C8275=\"\",F8274,IF(E8275=\"\",F8274,E8275/MAX($E$9:E8275)-1)))","v":""}]
[null,null,null,null,null,{"$f":"IF(B8276=\"\",\"\",IF(C8276=\"\",F8275,IF(E8276=\"\",F8275,E8276/MAX($E$9:E8276)-1)))","v":""}]
[null,null,null,null,null,{"$f":"IF(B8277=\"\",\"\",IF(C8277=\"\",F8276,IF(E8277=\"\",F8276,E8277/MAX($E$9:E8277)-1)))","v":""}]
[null,null,null,null,null,{"$f":"IF(B8278=\"\",\"\",IF(C8278=\"\",F8277,IF(E8278=\"\",F8277,E8278/MAX($E$9:E8278)-1)))","v":""}]
[null,null,null,null,null,{"$f":"IF(B8279=\"\",\"\",IF(C8279=\"\",F8278,IF(E8279=\"\",F8278,E8279/MAX($E$9:E8279)-1)))","v":""}]
[null,null,null,null,null,{"$f":"IF(B8280=\"\",\"\",IF(C8280=\"\",F8279,IF(E8280=\"\",F8279,E8280/MAX($E$9:E8280)-1)))","v":""}]
[null,null,null,null,null,{"$f":"IF(B8281=\"\",\"\",IF(C8281=\"\",F8280,IF(E8281=\"\",F8280,E8281/MAX($E$9:E8281)-1)))","v":""}]
[null,null,null,null,null,{"$f":"IF(B8282=\"\",\"\",IF(C8282=\"\",F8281,IF(E8282=\"\",F8281,E8282/MAX($E$9:E8282)-1)))","v":""}]
[null,null,null,null,null,{"$f":"IF(B8283=\"\",\"\",IF(C8283=\"\",F8282,IF(E8283=\"\",F8282,E8283/MAX($E$9:E8283)-1)))","v":""}]
[null,null,null,null,null,{"$f":"IF(B8284=\"\",\"\",IF(C8284=\"\",F8283,IF(E8284=\"\",F8283,E8284/MAX($E$9:E8284)-1)))","v":""}]
[null,null,null,null,null,{"$f":"IF(B8285=\"\",\"\",IF(C8285=\"\",F8284,IF(E8285=\"\",F8284,E8285/MAX($E$9:E8285)-1)))","v":""}]
[null,null,null,null,null,{"$f":"IF(B8286=\"\",\"\",IF(C8286=\"\",F8285,IF(E8286=\"\",F8285,E8286/MAX($E$9:E8286)-1)))","v":""}]
[null,null,null,null,null,{"$f":"IF(B8287=\"\",\"\",IF(C8287=\"\",F8286,IF(E8287=\"\",F8286,E8287/MAX($E$9:E8287)-1)))","v":""}]
[null,null,null,null,null,{"$f":"IF(B8288=\"\",\"\",IF(C8288=\"\",F8287,IF(E8288=\"\",F8287,E8288/MAX($E$9:E8288)-1)))","v":""}]
[null,null,null,null,null,{"$f":"IF(B8289=\"\",\"\",IF(C8289=\"\",F8288,IF(E8289=\"\",F8288,E8289/MAX($E$9:E8289)-1)))","v":""}]
[null,null,null,null,null,{"$f":"IF(B8290=\"\",\"\",IF(C8290=\"\",F8289,IF(E8290=\"\",F8289,E8290/MAX($E$9:E8290)-1)))","v":""}]
[null,null,null,null,null,{"$f":"IF(B8291=\"\",\"\",IF(C8291=\"\",F8290,IF(E8291=\"\",F8290,E8291/MAX($E$9:E8291)-1)))","v":""}]
[null,null,null,null,null,{"$f":"IF(B8292=\"\",\"\",IF(C8292=\"\",F8291,IF(E8292=\"\",F8291,E8292/MAX($E$9:E8292)-1)))","v":""}]
[null,null,null,null,null,{"$f":"IF(B8293=\"\",\"\",IF(C8293=\"\",F8292,IF(E8293=\"\",F8292,E8293/MAX($E$9:E8293)-1)))","v":""}]
[null,null,null,null,null,{"$f":"IF(B8294=\"\",\"\",IF(C8294=\"\",F8293,IF(E8294=\"\",F8293,E8294/MAX($E$9:E8294)-1)))","v":""}]
[null,null,null,null,null,{"$f":"IF(B8295=\"\",\"\",IF(C8295=\"\",F8294,IF(E8295=\"\",F8294,E8295/MAX($E$9:E8295)-1)))","v":""}]
[null,null,null,null,null,{"$f":"IF(B8296=\"\",\"\",IF(C8296=\"\",F8295,IF(E8296=\"\",F8295,E8296/MAX($E$9:E8296)-1)))","v":""}]
[null,null,null,null,null,{"$f":"IF(B8297=\"\",\"\",IF(C8297=\"\",F8296,IF(E8297=\"\",F8296,E8297/MAX($E$9:E8297)-1)))","v":""}]
[null,null,null,null,null,{"$f":"IF(B8298=\"\",\"\",IF(C8298=\"\",F8297,IF(E8298=\"\",F8297,E8298/MAX($E$9:E8298)-1)))","v":""}]
[null,null,null,null,null,{"$f":"IF(B8299=\"\",\"\",IF(C8299=\"\",F8298,IF(E8299=\"\",F8298,E8299/MAX($E$9:E8299)-1)))","v":""}]
[null,null,null,null,null,{"$f":"IF(B8300=\"\",\"\",IF(C8300=\"\",F8299,IF(E8300=\"\",F8299,E8300/MAX($E$9:E8300)-1)))","v":""}]
[null,null,null,null,null,{"$f":"IF(B8301=\"\",\"\",IF(C8301=\"\",F8300,IF(E8301=\"\",F8300,E8301/MAX($E$9:E8301)-1)))","v":""}]
[null,null,null,null,null,{"$f":"IF(B8302=\"\",\"\",IF(C8302=\"\",F8301,IF(E8302=\"\",F8301,E8302/MAX($E$9:E8302)-1)))","v":""}]
[null,null,null,null,null,{"$f":"IF(B8303=\"\",\"\",IF(C8303=\"\",F8302,IF(E8303=\"\",F8302,E8303/MAX($E$9:E8303)-1)))","v":""}]
[null,null,null,null,null,{"$f":"IF(B8304=\"\",\"\",IF(C8304=\"\",F8303,IF(E8304=\"\",F8303,E8304/MAX($E$9:E8304)-1)))","v":""}]
[null,null,null,null,null,{"$f":"IF(B8305=\"\",\"\",IF(C8305=\"\",F8304,IF(E8305=\"\",F8304,E8305/MAX($E$9:E8305)-1)))","v":""}]
[null,null,null,null,null,{"$f":"IF(B8306=\"\",\"\",IF(C8306=\"\",F8305,IF(E8306=\"\",F8305,E8306/MAX($E$9:E8306)-1)))","v":""}]
[null,null,null,null,null,{"$f":"IF(B8307=\"\",\"\",IF(C8307=\"\",F8306,IF(E8307=\"\",F8306,E8307/MAX($E$9:E8307)-1)))","v":""}]
[null,null,null,null,null,{"$f":"IF(B8308=\"\",\"\",IF(C8308=\"\",F8307,IF(E8308=\"\",F8307,E8308/MAX($E$9:E8308)-1)))","v":""}]
[null,null,null,null,null,{"$f":"IF(B8309=\"\",\"\",IF(C8309=\"\",F8308,IF(E8309=\"\",F8308,E8309/MAX($E$9:E8309)-1)))","v":""}]
[null,null,null,null,null,{"$f":"IF(B8310=\"\",\"\",IF(C8310=\"\",F8309,IF(E8310=\"\",F8309,E8310/MAX($E$9:E8310)-1)))","v":""}]
[null,null,null,null,null,{"$f":"IF(B8311=\"\",\"\",IF(C8311=\"\",F8310,IF(E8311=\"\",F8310,E8311/MAX($E$9:E8311)-1)))","v":""}]
[null,null,null,null,null,{"$f":"IF(B8312=\"\",\"\",IF(C8312=\"\",F8311,IF(E8312=\"\",F8311,E8312/MAX($E$9:E8312)-1)))","v":""}]
[null,null,null,null,null,{"$f":"IF(B8313=\"\",\"\",IF(C8313=\"\",F8312,IF(E8313=\"\",F8312,E8313/MAX($E$9:E8313)-1)))","v":""}]
[null,null,null,null,null,{"$f":"IF(B8314=\"\",\"\",IF(C8314=\"\",F8313,IF(E8314=\"\",F8313,E8314/MAX($E$9:E8314)-1)))","v":""}]
[null,null,null,null,null,{"$f":"IF(B8315=\"\",\"\",IF(C8315=\"\",F8314,IF(E8315=\"\",F8314,E8315/MAX($E$9:E8315)-1)))","v":""}]
[null,null,null,null,null,{"$f":"IF(B8316=\"\",\"\",IF(C8316=\"\",F8315,IF(E8316=\"\",F8315,E8316/MAX($E$9:E8316)-1)))","v":""}]
[null,null,null,null,null,{"$f":"IF(B8317=\"\",\"\",IF(C8317=\"\",F8316,IF(E8317=\"\",F8316,E8317/MAX($E$9:E8317)-1)))","v":""}]
[null,null,null,null,null,{"$f":"IF(B8318=\"\",\"\",IF(C8318=\"\",F8317,IF(E8318=\"\",F8317,E8318/MAX($E$9:E8318)-1)))","v":""}]
[null,null,null,null,null,{"$f":"IF(B8319=\"\",\"\",IF(C8319=\"\",F8318,IF(E8319=\"\",F8318,E8319/MAX($E$9:E8319)-1)))","v":""}]
[null,null,null,null,null,{"$f":"IF(B8320=\"\",\"\",IF(C8320=\"\",F8319,IF(E8320=\"\",F8319,E8320/MAX($E$9:E8320)-1)))","v":""}]
[null,null,null,null,null,{"$f":"IF(B8321=\"\",\"\",IF(C8321=\"\",F8320,IF(E8321=\"\",F8320,E8321/MAX($E$9:E8321)-1)))","v":""}]
[null,null,null,null,null,{"$f":"IF(B8322=\"\",\"\",IF(C8322=\"\",F8321,IF(E8322=\"\",F8321,E8322/MAX($E$9:E8322)-1)))","v":""}]
[null,null,null,null,null,{"$f":"IF(B8323=\"\",\"\",IF(C8323=\"\",F8322,IF(E8323=\"\",F8322,E8323/MAX($E$9:E8323)-1)))","v":""}]
[null,null,null,null,null,{"$f":"IF(B8324=\"\",\"\",IF(C8324=\"\",F8323,IF(E8324=\"\",F8323,E8324/MAX($E$9:E8324)-1)))","v":""}]
[null,null,null,null,null,{"$f":"IF(B8325=\"\",\"\",IF(C8325=\"\",F8324,IF(E8325=\"\",F8324,E8325/MAX($E$9:E8325)-1)))","v":""}]
[null,null,null,null,null,{"$f":"IF(B8326=\"\",\"\",IF(C8326=\"\",F8325,IF(E8326=\"\",F8325,E8326/MAX($E$9:E8326)-1)))","v":""}]
[null,null,null,null,null,{"$f":"IF(B8327=\"\",\"\",IF(C8327=\"\",F8326,IF(E8327=\"\",F8326,E8327/MAX($E$9:E8327)-1)))","v":""}]
[null,null,null,null,null,{"$f":"IF(B8328=\"\",\"\",IF(C8328=\"\",F8327,IF(E8328=\"\",F8327,E8328/MAX($E$9:E8328)-1)))","v":""}]
[null,null,null,null,null,{"$f":"IF(B8329=\"\",\"\",IF(C8329=\"\",F8328,IF(E8329=\"\",F8328,E8329/MAX($E$9:E8329)-1)))","v":""}]
[null,null,null,null,null,{"$f":"IF(B8330=\"\",\"\",IF(C8330=\"\",F8329,IF(E8330=\"\",F8329,E8330/MAX($E$9:E8330)-1)))","v":""}]
[null,null,null,null,null,{"$f":"IF(B8331=\"\",\"\",IF(C8331=\"\",F8330,IF(E8331=\"\",F8330,E8331/MAX($E$9:E8331)-1)))","v":""}]
[null,null,null,null,null,{"$f":"IF(B8332=\"\",\"\",IF(C8332=\"\",F8331,IF(E8332=\"\",F8331,E8332/MAX($E$9:E8332)-1)))","v":""}]
[null,null,null,null,null,{"$f":"IF(B8333=\"\",\"\",IF(C8333=\"\",F8332,IF(E8333=\"\",F8332,E8333/MAX($E$9:E8333)-1)))","v":""}]
[null,null,null,null,null,{"$f":"IF(B8334=\"\",\"\",IF(C8334=\"\",F8333,IF(E8334=\"\",F8333,E8334/MAX($E$9:E8334)-1)))","v":""}]
[null,null,null,null,null,{"$f":"IF(B8335=\"\",\"\",IF(C8335=\"\",F8334,IF(E8335=\"\",F8334,E8335/MAX($E$9:E8335)-1)))","v":""}]
[null,null,null,null,null,{"$f":"IF(B8336=\"\",\"\",IF(C8336=\"\",F8335,IF(E8336=\"\",F8335,E8336/MAX($E$9:E8336)-1)))","v":""}]
[null,null,null,null,null,{"$f":"IF(B8337=\"\",\"\",IF(C8337=\"\",F8336,IF(E8337=\"\",F8336,E8337/MAX($E$9:E8337)-1)))","v":""}]
[null,null,null,null,null,{"$f":"IF(B8338=\"\",\"\",IF(C8338=\"\",F8337,IF(E8338=\"\",F8337,E8338/MAX($E$9:E8338)-1)))","v":""}]
[null,null,null,null,null,{"$f":"IF(B8339=\"\",\"\",IF(C8339=\"\",F8338,IF(E8339=\"\",F8338,E8339/MAX($E$9:E8339)-1)))","v":""}]
[null,null,null,null,null,{"$f":"IF(B8340=\"\",\"\",IF(C8340=\"\",F8339,IF(E8340=\"\",F8339,E8340/MAX($E$9:E8340)-1)))","v":""}]
[null,null,null,null,null,{"$f":"IF(B8341=\"\",\"\",IF(C8341=\"\",F8340,IF(E8341=\"\",F8340,E8341/MAX($E$9:E8341)-1)))","v":""}]
[null,null,null,null,null,{"$f":"IF(B8342=\"\",\"\",IF(C8342=\"\",F8341,IF(E8342=\"\",F8341,E8342/MAX($E$9:E8342)-1)))","v":""}]
[null,null,null,null,null,{"$f":"IF(B8343=\"\",\"\",IF(C8343=\"\",F8342,IF(E8343=\"\",F8342,E8343/MAX($E$9:E8343)-1)))","v":""}]
[null,null,null,null,null,{"$f":"IF(B8344=\"\",\"\",IF(C8344=\"\",F8343,IF(E8344=\"\",F8343,E8344/MAX($E$9:E8344)-1)))","v":""}]
[null,null,null,null,null,{"$f":"IF(B8345=\"\",\"\",IF(C8345=\"\",F8344,IF(E8345=\"\",F8344,E8345/MAX($E$9:E8345)-1)))","v":""}]
[null,null,null,null,null,{"$f":"IF(B8346=\"\",\"\",IF(C8346=\"\",F8345,IF(E8346=\"\",F8345,E8346/MAX($E$9:E8346)-1)))","v":""}]
[null,null,null,null,null,{"$f":"IF(B8347=\"\",\"\",IF(C8347=\"\",F8346,IF(E8347=\"\",F8346,E8347/MAX($E$9:E8347)-1)))","v":""}]
[null,null,null,null,null,{"$f":"IF(B8348=\"\",\"\",IF(C8348=\"\",F8347,IF(E8348=\"\",F8347,E8348/MAX($E$9:E8348)-1)))","v":""}]
[null,null,null,null,null,{"$f":"IF(B8349=\"\",\"\",IF(C8349=\"\",F8348,IF(E8349=\"\",F8348,E8349/MAX($E$9:E8349)-1)))","v":""}]
[null,null,null,null,null,{"$f":"IF(B8350=\"\",\"\",IF(C8350=\"\",F8349,IF(E8350=\"\",F8349,E8350/MAX($E$9:E8350)-1)))","v":""}]
[null,null,null,null,null,{"$f":"IF(B8351=\"\",\"\",IF(C8351=\"\",F8350,IF(E8351=\"\",F8350,E8351/MAX($E$9:E8351)-1)))","v":""}]
[null,null,null,null,null,{"$f":"IF(B8352=\"\",\"\",IF(C8352=\"\",F8351,IF(E8352=\"\",F8351,E8352/MAX($E$9:E8352)-1)))","v":""}]
[null,null,null,null,null,{"$f":"IF(B8353=\"\",\"\",IF(C8353=\"\",F8352,IF(E8353=\"\",F8352,E8353/MAX($E$9:E8353)-1)))","v":""}]
[null,null,null,null,null,{"$f":"IF(B8354=\"\",\"\",IF(C8354=\"\",F8353,IF(E8354=\"\",F8353,E8354/MAX($E$9:E8354)-1)))","v":""}]
[null,null,null,null,null,{"$f":"IF(B8355=\"\",\"\",IF(C8355=\"\",F8354,IF(E8355=\"\",F8354,E8355/MAX($E$9:E8355)-1)))","v":""}]
[null,null,null,null,null,{"$f":"IF(B8356=\"\",\"\",IF(C8356=\"\",F8355,IF(E8356=\"\",F8355,E8356/MAX($E$9:E8356)-1)))","v":""}]
[null,null,null,null,null,{"$f":"IF(B8357=\"\",\"\",IF(C8357=\"\",F8356,IF(E8357=\"\",F8356,E8357/MAX($E$9:E8357)-1)))","v":""}]
[null,null,null,null,null,{"$f":"IF(B8358=\"\",\"\",IF(C8358=\"\",F8357,IF(E8358=\"\",F8357,E8358/MAX($E$9:E8358)-1)))","v":""}]
[null,null,null,null,null,{"$f":"IF(B8359=\"\",\"\",IF(C8359=\"\",F8358,IF(E8359=\"\",F8358,E8359/MAX($E$9:E8359)-1)))","v":""}]
[null,null,null,null,null,{"$f":"IF(B8360=\"\",\"\",IF(C8360=\"\",F8359,IF(E8360=\"\",F8359,E8360/MAX($E$9:E8360)-1)))","v":""}]
[null,null,null,null,null,{"$f":"IF(B8361=\"\",\"\",IF(C8361=\"\",F8360,IF(E8361=\"\",F8360,E8361/MAX($E$9:E8361)-1)))","v":""}]
[null,null,null,null,null,{"$f":"IF(B8362=\"\",\"\",IF(C8362=\"\",F8361,IF(E8362=\"\",F8361,E8362/MAX($E$9:E8362)-1)))","v":""}]
[null,null,null,null,null,{"$f":"IF(B8363=\"\",\"\",IF(C8363=\"\",F8362,IF(E8363=\"\",F8362,E8363/MAX($E$9:E8363)-1)))","v":""}]
[null,null,null,null,null,{"$f":"IF(B8364=\"\",\"\",IF(C8364=\"\",F8363,IF(E8364=\"\",F8363,E8364/MAX($E$9:E8364)-1)))","v":""}]
[null,null,null,null,null,{"$f":"IF(B8365=\"\",\"\",IF(C8365=\"\",F8364,IF(E8365=\"\",F8364,E8365/MAX($E$9:E8365)-1)))","v":""}]
[null,null,null,null,null,{"$f":"IF(B8366=\"\",\"\",IF(C8366=\"\",F8365,IF(E8366=\"\",F8365,E8366/MAX($E$9:E8366)-1)))","v":""}]
[null,null,null,null,null,{"$f":"IF(B8367=\"\",\"\",IF(C8367=\"\",F8366,IF(E8367=\"\",F8366,E8367/MAX($E$9:E8367)-1)))","v":""}]
[null,null,null,null,null,{"$f":"IF(B8368=\"\",\"\",IF(C8368=\"\",F8367,IF(E8368=\"\",F8367,E8368/MAX($E$9:E8368)-1)))","v":""}]
[null,null,null,null,null,{"$f":"IF(B8369=\"\",\"\",IF(C8369=\"\",F8368,IF(E8369=\"\",F8368,E8369/MAX($E$9:E8369)-1)))","v":""}]
[null,null,null,null,null,{"$f":"IF(B8370=\"\",\"\",IF(C8370=\"\",F8369,IF(E8370=\"\",F8369,E8370/MAX($E$9:E8370)-1)))","v":""}]
[null,null,null,null,null,{"$f":"IF(B8371=\"\",\"\",IF(C8371=\"\",F8370,IF(E8371=\"\",F8370,E8371/MAX($E$9:E8371)-1)))","v":""}]
[null,null,null,null,null,{"$f":"IF(B8372=\"\",\"\",IF(C8372=\"\",F8371,IF(E8372=\"\",F8371,E8372/MAX($E$9:E8372)-1)))","v":""}]
[null,null,null,null,null,{"$f":"IF(B8373=\"\",\"\",IF(C8373=\"\",F8372,IF(E8373=\"\",F8372,E8373/MAX($E$9:E8373)-1)))","v":""}]
[null,null,null,null,null,{"$f":"IF(B8374=\"\",\"\",IF(C8374=\"\",F8373,IF(E8374=\"\",F8373,E8374/MAX($E$9:E8374)-1)))","v":""}]
[null,null,null,null,null,{"$f":"IF(B8375=\"\",\"\",IF(C8375=\"\",F8374,IF(E8375=\"\",F8374,E8375/MAX($E$9:E8375)-1)))","v":""}]
[null,null,null,null,null,{"$f":"IF(B8376=\"\",\"\",IF(C8376=\"\",F8375,IF(E8376=\"\",F8375,E8376/MAX($E$9:E8376)-1)))","v":""}]
[null,null,null,null,null,{"$f":"IF(B8377=\"\",\"\",IF(C8377=\"\",F8376,IF(E8377=\"\",F8376,E8377/MAX($E$9:E8377)-1)))","v":""}]
[null,null,null,null,null,{"$f":"IF(B8378=\"\",\"\",IF(C8378=\"\",F8377,IF(E8378=\"\",F8377,E8378/MAX($E$9:E8378)-1)))","v":""}]
[null,null,null,null,null,{"$f":"IF(B8379=\"\",\"\",IF(C8379=\"\",F8378,IF(E8379=\"\",F8378,E8379/MAX($E$9:E8379)-1)))","v":""}]
[null,null,null,null,null,{"$f":"IF(B8380=\"\",\"\",IF(C8380=\"\",F8379,IF(E8380=\"\",F8379,E8380/MAX($E$9:E8380)-1)))","v":""}]
[null,null,null,null,null,{"$f":"IF(B8381=\"\",\"\",IF(C8381=\"\",F8380,IF(E8381=\"\",F8380,E8381/MAX($E$9:E8381)-1)))","v":""}]
[null,null,null,null,null,{"$f":"IF(B8382=\"\",\"\",IF(C8382=\"\",F8381,IF(E8382=\"\",F8381,E8382/MAX($E$9:E8382)-1)))","v":""}]
[null,null,null,null,null,{"$f":"IF(B8383=\"\",\"\",IF(C8383=\"\",F8382,IF(E8383=\"\",F8382,E8383/MAX($E$9:E8383)-1)))","v":""}]
[null,null,null,null,null,{"$f":"IF(B8384=\"\",\"\",IF(C8384=\"\",F8383,IF(E8384=\"\",F8383,E8384/MAX($E$9:E8384)-1)))","v":""}]
[null,null,null,null,null,{"$f":"IF(B8385=\"\",\"\",IF(C8385=\"\",F8384,IF(E8385=\"\",F8384,E8385/MAX($E$9:E8385)-1)))","v":""}]
[null,null,null,null,null,{"$f":"IF(B8386=\"\",\"\",IF(C8386=\"\",F8385,IF(E8386=\"\",F8385,E8386/MAX($E$9:E8386)-1)))","v":""}]
[null,null,null,null,null,{"$f":"IF(B8387=\"\",\"\",IF(C8387=\"\",F8386,IF(E8387=\"\",F8386,E8387/MAX($E$9:E8387)-1)))","v":""}]
[null,null,null,null,null,{"$f":"IF(B8388=\"\",\"\",IF(C8388=\"\",F8387,IF(E8388=\"\",F8387,E8388/MAX($E$9:E8388)-1)))","v":""}]
[null,null,null,null,null,{"$f":"IF(B8389=\"\",\"\",IF(C8389=\"\",F8388,IF(E8389=\"\",F8388,E8389/MAX($E$9:E8389)-1)))","v":""}]
[null,null,null,null,null,{"$f":"IF(B8390=\"\",\"\",IF(C8390=\"\",F8389,IF(E8390=\"\",F8389,E8390/MAX($E$9:E8390)-1)))","v":""}]
[null,null,null,null,null,{"$f":"IF(B8391=\"\",\"\",IF(C8391=\"\",F8390,IF(E8391=\"\",F8390,E8391/MAX($E$9:E8391)-1)))","v":""}]
[null,null,null,null,null,{"$f":"IF(B8392=\"\",\"\",IF(C8392=\"\",F8391,IF(E8392=\"\",F8391,E8392/MAX($E$9:E8392)-1)))","v":""}]
[null,null,null,null,null,{"$f":"IF(B8393=\"\",\"\",IF(C8393=\"\",F8392,IF(E8393=\"\",F8392,E8393/MAX($E$9:E8393)-1)))","v":""}]
[null,null,null,null,null,{"$f":"IF(B8394=\"\",\"\",IF(C8394=\"\",F8393,IF(E8394=\"\",F8393,E8394/MAX($E$9:E8394)-1)))","v":""}]
[null,null,null,null,null,{"$f":"IF(B8395=\"\",\"\",IF(C8395=\"\",F8394,IF(E8395=\"\",F8394,E8395/MAX($E$9:E8395)-1)))","v":""}]
[null,null,null,null,null,{"$f":"IF(B8396=\"\",\"\",IF(C8396=\"\",F8395,IF(E8396=\"\",F8395,E8396/MAX($E$9:E8396)-1)))","v":""}]
[null,null,null,null,null,{"$f":"IF(B8397=\"\",\"\",IF(C8397=\"\",F8396,IF(E8397=\"\",F8396,E8397/MAX($E$9:E8397)-1)))","v":""}]
[null,null,null,null,null,{"$f":"IF(B8398=\"\",\"\",IF(C8398=\"\",F8397,IF(E8398=\"\",F8397,E8398/MAX($E$9:E8398)-1)))","v":""}]
[null,null,null,null,null,{"$f":"IF(B8399=\"\",\"\",IF(C8399=\"\",F8398,IF(E8399=\"\",F8398,E8399/MAX($E$9:E8399)-1)))","v":""}]
[null,null,null,null,null,{"$f":"IF(B8400=\"\",\"\",IF(C8400=\"\",F8399,IF(E8400=\"\",F8399,E8400/MAX($E$9:E8400)-1)))","v":""}]
[null,null,null,null,null,{"$f":"IF(B8401=\"\",\"\",IF(C8401=\"\",F8400,IF(E8401=\"\",F8400,E8401/MAX($E$9:E8401)-1)))","v":""}]
[null,null,null,null,null,{"$f":"IF(B8402=\"\",\"\",IF(C8402=\"\",F8401,IF(E8402=\"\",F8401,E8402/MAX($E$9:E8402)-1)))","v":""}]
[null,null,null,null,null,{"$f":"IF(B8403=\"\",\"\",IF(C8403=\"\",F8402,IF(E8403=\"\",F8402,E8403/MAX($E$9:E8403)-1)))","v":""}]
[null,null,null,null,null,{"$f":"IF(B8404=\"\",\"\",IF(C8404=\"\",F8403,IF(E8404=\"\",F8403,E8404/MAX($E$9:E8404)-1)))","v":""}]
[null,null,null,null,null,{"$f":"IF(B8405=\"\",\"\",IF(C8405=\"\",F8404,IF(E8405=\"\",F8404,E8405/MAX($E$9:E8405)-1)))","v":""}]
[null,null,null,null,null,{"$f":"IF(B8406=\"\",\"\",IF(C8406=\"\",F8405,IF(E8406=\"\",F8405,E8406/MAX($E$9:E8406)-1)))","v":""}]
[null,null,null,null,null,{"$f":"IF(B8407=\"\",\"\",IF(C8407=\"\",F8406,IF(E8407=\"\",F8406,E8407/MAX($E$9:E8407)-1)))","v":""}]
[null,null,null,null,null,{"$f":"IF(B8408=\"\",\"\",IF(C8408=\"\",F8407,IF(E8408=\"\",F8407,E8408/MAX($E$9:E8408)-1)))","v":""}]
[null,null,null,null,null,{"$f":"IF(B8409=\"\",\"\",IF(C8409=\"\",F8408,IF(E8409=\"\",F8408,E8409/MAX($E$9:E8409)-1)))","v":""}]
[null,null,null,null,null,{"$f":"IF(B8410=\"\",\"\",IF(C8410=\"\",F8409,IF(E8410=\"\",F8409,E8410/MAX($E$9:E8410)-1)))","v":""}]
[null,null,null,null,null,{"$f":"IF(B8411=\"\",\"\",IF(C8411=\"\",F8410,IF(E8411=\"\",F8410,E8411/MAX($E$9:E8411)-1)))","v":""}]
[null,null,null,null,null,{"$f":"IF(B8412=\"\",\"\",IF(C8412=\"\",F8411,IF(E8412=\"\",F8411,E8412/MAX($E$9:E8412)-1)))","v":""}]
[null,null,null,null,null,{"$f":"IF(B8413=\"\",\"\",IF(C8413=\"\",F8412,IF(E8413=\"\",F8412,E8413/MAX($E$9:E8413)-1)))","v":""}]
[null,null,null,null,null,{"$f":"IF(B8414=\"\",\"\",IF(C8414=\"\",F8413,IF(E8414=\"\",F8413,E8414/MAX($E$9:E8414)-1)))","v":""}]
[null,null,null,null,null,{"$f":"IF(B8415=\"\",\"\",IF(C8415=\"\",F8414,IF(E8415=\"\",F8414,E8415/MAX($E$9:E8415)-1)))","v":""}]
[null,null,null,null,null,{"$f":"IF(B8416=\"\",\"\",IF(C8416=\"\",F8415,IF(E8416=\"\",F8415,E8416/MAX($E$9:E8416)-1)))","v":""}]
[null,null,null,null,null,{"$f":"IF(B8417=\"\",\"\",IF(C8417=\"\",F8416,IF(E8417=\"\",F8416,E8417/MAX($E$9:E8417)-1)))","v":""}]
[null,null,null,null,null,{"$f":"IF(B8418=\"\",\"\",IF(C8418=\"\",F8417,IF(E8418=\"\",F8417,E8418/MAX($E$9:E8418)-1)))","v":""}]
[null,null,null,null,null,{"$f":"IF(B8419=\"\",\"\",IF(C8419=\"\",F8418,IF(E8419=\"\",F8418,E8419/MAX($E$9:E8419)-1)))","v":""}]
[null,null,null,null,null,{"$f":"IF(B8420=\"\",\"\",IF(C8420=\"\",F8419,IF(E8420=\"\",F8419,E8420/MAX($E$9:E8420)-1)))","v":""}]
[null,null,null,null,null,{"$f":"IF(B8421=\"\",\"\",IF(C8421=\"\",F8420,IF(E8421=\"\",F8420,E8421/MAX($E$9:E8421)-1)))","v":""}]
[null,null,null,null,null,{"$f":"IF(B8422=\"\",\"\",IF(C8422=\"\",F8421,IF(E8422=\"\",F8421,E8422/MAX($E$9:E8422)-1)))","v":""}]
[null,null,null,null,null,{"$f":"IF(B8423=\"\",\"\",IF(C8423=\"\",F8422,IF(E8423=\"\",F8422,E8423/MAX($E$9:E8423)-1)))","v":""}]
[null,null,null,null,null,{"$f":"IF(B8424=\"\",\"\",IF(C8424=\"\",F8423,IF(E8424=\"\",F8423,E8424/MAX($E$9:E8424)-1)))","v":""}]
[null,null,null,null,null,{"$f":"IF(B8425=\"\",\"\",IF(C8425=\"\",F8424,IF(E8425=\"\",F8424,E8425/MAX($E$9:E8425)-1)))","v":""}]
[null,null,null,null,null,{"$f":"IF(B8426=\"\",\"\",IF(C8426=\"\",F8425,IF(E8426=\"\",F8425,E8426/MAX($E$9:E8426)-1)))","v":""}]
[null,null,null,null,null,{"$f":"IF(B8427=\"\",\"\",IF(C8427=\"\",F8426,IF(E8427=\"\",F8426,E8427/MAX($E$9:E8427)-1)))","v":""}]
[null,null,null,null,null,{"$f":"IF(B8428=\"\",\"\",IF(C8428=\"\",F8427,IF(E8428=\"\",F8427,E8428/MAX($E$9:E8428)-1)))","v":""}]
[null,null,null,null,null,{"$f":"IF(B8429=\"\",\"\",IF(C8429=\"\",F8428,IF(E8429=\"\",F8428,E8429/MAX($E$9:E8429)-1)))","v":""}]
[null,null,null,null,null,{"$f":"IF(B8430=\"\",\"\",IF(C8430=\"\",F8429,IF(E8430=\"\",F8429,E8430/MAX($E$9:E8430)-1)))","v":""}]
[null,null,null,null,null,{"$f":"IF(B8431=\"\",\"\",IF(C8431=\"\",F8430,IF(E8431=\"\",F8430,E8431/MAX($E$9:E8431)-1)))","v":""}]
[null,null,null,null,null,{"$f":"IF(B8432=\"\",\"\",IF(C8432=\"\",F8431,IF(E8432=\"\",F8431,E8432/MAX($E$9:E8432)-1)))","v":""}]
[null,null,null,null,null,{"$f":"IF(B8433=\"\",\"\",IF(C8433=\"\",F8432,IF(E8433=\"\",F8432,E8433/MAX($E$9:E8433)-1)))","v":""}]
[null,null,null,null,null,{"$f":"IF(B8434=\"\",\"\",IF(C8434=\"\",F8433,IF(E8434=\"\",F8433,E8434/MAX($E$9:E8434)-1)))","v":""}]
[null,null,null,null,null,{"$f":"IF(B8435=\"\",\"\",IF(C8435=\"\",F8434,IF(E8435=\"\",F8434,E8435/MAX($E$9:E8435)-1)))","v":""}]
[null,null,null,null,null,{"$f":"IF(B8436=\"\",\"\",IF(C8436=\"\",F8435,IF(E8436=\"\",F8435,E8436/MAX($E$9:E8436)-1)))","v":""}]
[null,null,null,null,null,{"$f":"IF(B8437=\"\",\"\",IF(C8437=\"\",F8436,IF(E8437=\"\",F8436,E8437/MAX($E$9:E8437)-1)))","v":""}]
[null,null,null,null,null,{"$f":"IF(B8438=\"\",\"\",IF(C8438=\"\",F8437,IF(E8438=\"\",F8437,E8438/MAX($E$9:E8438)-1)))","v":""}]
[null,null,null,null,null,{"$f":"IF(B8439=\"\",\"\",IF(C8439=\"\",F8438,IF(E8439=\"\",F8438,E8439/MAX($E$9:E8439)-1)))","v":""}]
[null,null,null,null,null,{"$f":"IF(B8440=\"\",\"\",IF(C8440=\"\",F8439,IF(E8440=\"\",F8439,E8440/MAX($E$9:E8440)-1)))","v":""}]
[null,null,null,null,null,{"$f":"IF(B8441=\"\",\"\",IF(C8441=\"\",F8440,IF(E8441=\"\",F8440,E8441/MAX($E$9:E8441)-1)))","v":""}]
[null,null,null,null,null,{"$f":"IF(B8442=\"\",\"\",IF(C8442=\"\",F8441,IF(E8442=\"\",F8441,E8442/MAX($E$9:E8442)-1)))","v":""}]
[null,null,null,null,null,{"$f":"IF(B8443=\"\",\"\",IF(C8443=\"\",F8442,IF(E8443=\"\",F8442,E8443/MAX($E$9:E8443)-1)))","v":""}]
[null,null,null,null,null,{"$f":"IF(B8444=\"\",\"\",IF(C8444=\"\",F8443,IF(E8444=\"\",F8443,E8444/MAX($E$9:E8444)-1)))","v":""}]
[null,null,null,null,null,{"$f":"IF(B8445=\"\",\"\",IF(C8445=\"\",F8444,IF(E8445=\"\",F8444,E8445/MAX($E$9:E8445)-1)))","v":""}]
[null,null,null,null,null,{"$f":"IF(B8446=\"\",\"\",IF(C8446=\"\",F8445,IF(E8446=\"\",F8445,E8446/MAX($E$9:E8446)-1)))","v":""}]
[null,null,null,null,null,{"$f":"IF(B8447=\"\",\"\",IF(C8447=\"\",F8446,IF(E8447=\"\",F8446,E8447/MAX($E$9:E8447)-1)))","v":""}]
[null,null,null,null,null,{"$f":"IF(B8448=\"\",\"\",IF(C8448=\"\",F8447,IF(E8448=\"\",F8447,E8448/MAX($E$9:E8448)-1)))","v":""}]
[null,null,null,null,null,{"$f":"IF(B8449=\"\",\"\",IF(C8449=\"\",F8448,IF(E8449=\"\",F8448,E8449/MAX($E$9:E8449)-1)))","v":""}]
[null,null,null,null,null,{"$f":"IF(B8450=\"\",\"\",IF(C8450=\"\",F8449,IF(E8450=\"\",F8449,E8450/MAX($E$9:E8450)-1)))","v":""}]
[null,null,null,null,null,{"$f":"IF(B8451=\"\",\"\",IF(C8451=\"\",F8450,IF(E8451=\"\",F8450,E8451/MAX($E$9:E8451)-1)))","v":""}]
[null,null,null,null,null,{"$f":"IF(B8452=\"\",\"\",IF(C8452=\"\",F8451,IF(E8452=\"\",F8451,E8452/MAX($E$9:E8452)-1)))","v":""}]
[null,null,null,null,null,{"$f":"IF(B8453=\"\",\"\",IF(C8453=\"\",F8452,IF(E8453=\"\",F8452,E8453/MAX($E$9:E8453)-1)))","v":""}]
[null,null,null,null,null,{"$f":"IF(B8454=\"\",\"\",IF(C8454=\"\",F8453,IF(E8454=\"\",F8453,E8454/MAX($E$9:E8454)-1)))","v":""}]
[null,null,null,null,null,{"$f":"IF(B8455=\"\",\"\",IF(C8455=\"\",F8454,IF(E8455=\"\",F8454,E8455/MAX($E$9:E8455)-1)))","v":""}]
[null,null,null,null,null,{"$f":"IF(B8456=\"\",\"\",IF(C8456=\"\",F8455,IF(E8456=\"\",F8455,E8456/MAX($E$9:E8456)-1)))","v":""}]
[null,null,null,null,null,{"$f":"IF(B8457=\"\",\"\",IF(C8457=\"\",F8456,IF(E8457=\"\",F8456,E8457/MAX($E$9:E8457)-1)))","v":""}]
[null,null,null,null,null,{"$f":"IF(B8458=\"\",\"\",IF(C8458=\"\",F8457,IF(E8458=\"\",F8457,E8458/MAX($E$9:E8458)-1)))","v":""}]
[null,null,null,null,null,{"$f":"IF(B8459=\"\",\"\",IF(C8459=\"\",F8458,IF(E8459=\"\",F8458,E8459/MAX($E$9:E8459)-1)))","v":""}]
[null,null,null,null,null,{"$f":"IF(B8460=\"\",\"\",IF(C8460=\"\",F8459,IF(E8460=\"\",F8459,E8460/MAX($E$9:E8460)-1)))","v":""}]
[null,null,null,null,null,{"$f":"IF(B8461=\"\",\"\",IF(C8461=\"\",F8460,IF(E8461=\"\",F8460,E8461/MAX($E$9:E8461)-1)))","v":""}]
[null,null,null,null,null,{"$f":"IF(B8462=\"\",\"\",IF(C8462=\"\",F8461,IF(E8462=\"\",F8461,E8462/MAX($E$9:E8462)-1)))","v":""}]
[null,null,null,null,null,{"$f":"IF(B8463=\"\",\"\",IF(C8463=\"\",F8462,IF(E8463=\"\",F8462,E8463/MAX($E$9:E8463)-1)))","v":""}]
[null,null,null,null,null,{"$f":"IF(B8464=\"\",\"\",IF(C8464=\"\",F8463,IF(E8464=\"\",F8463,E8464/MAX($E$9:E8464)-1)))","v":""}]
[null,null,null,null,null,{"$f":"IF(B8465=\"\",\"\",IF(C8465=\"\",F8464,IF(E8465=\"\",F8464,E8465/MAX($E$9:E8465)-1)))","v":""}]
[null,null,null,null,null,{"$f":"IF(B8466=\"\",\"\",IF(C8466=\"\",F8465,IF(E8466=\"\",F8465,E8466/MAX($E$9:E8466)-1)))","v":""}]
[null,null,null,null,null,{"$f":"IF(B8467=\"\",\"\",IF(C8467=\"\",F8466,IF(E8467=\"\",F8466,E8467/MAX($E$9:E8467)-1)))","v":""}]
[null,null,null,null,null,{"$f":"IF(B8468=\"\",\"\",IF(C8468=\"\",F8467,IF(E8468=\"\",F8467,E8468/MAX($E$9:E8468)-1)))","v":""}]
[null,null,null,null,null,{"$f":"IF(B8469=\"\",\"\",IF(C8469=\"\",F8468,IF(E8469=\"\",F8468,E8469/MAX($E$9:E8469)-1)))","v":""}]
[null,null,null,null,null,{"$f":"IF(B8470=\"\",\"\",IF(C8470=\"\",F8469,IF(E8470=\"\",F8469,E8470/MAX($E$9:E8470)-1)))","v":""}]
[null,null,null,null,null,{"$f":"IF(B8471=\"\",\"\",IF(C8471=\"\",F8470,IF(E8471=\"\",F8470,E8471/MAX($E$9:E8471)-1)))","v":""}]
[null,null,null,null,null,{"$f":"IF(B8472=\"\",\"\",IF(C8472=\"\",F8471,IF(E8472=\"\",F8471,E8472/MAX($E$9:E8472)-1)))","v":""}]
[null,null,null,null,null,{"$f":"IF(B8473=\"\",\"\",IF(C8473=\"\",F8472,IF(E8473=\"\",F8472,E8473/MAX($E$9:E8473)-1)))","v":""}]
[null,null,null,null,null,{"$f":"IF(B8474=\"\",\"\",IF(C8474=\"\",F8473,IF(E8474=\"\",F8473,E8474/MAX($E$9:E8474)-1)))","v":""}]
[null,null,null,null,null,{"$f":"IF(B8475=\"\",\"\",IF(C8475=\"\",F8474,IF(E8475=\"\",F8474,E8475/MAX($E$9:E8475)-1)))","v":""}]
[null,null,null,null,null,{"$f":"IF(B8476=\"\",\"\",IF(C8476=\"\",F8475,IF(E8476=\"\",F8475,E8476/MAX($E$9:E8476)-1)))","v":""}]
[null,null,null,null,null,{"$f":"IF(B8477=\"\",\"\",IF(C8477=\"\",F8476,IF(E8477=\"\",F8476,E8477/MAX($E$9:E8477)-1)))","v":""}]
[null,null,null,null,null,{"$f":"IF(B8478=\"\",\"\",IF(C8478=\"\",F8477,IF(E8478=\"\",F8477,E8478/MAX($E$9:E8478)-1)))","v":""}]
[null,null,null,null,null,{"$f":"IF(B8479=\"\",\"\",IF(C8479=\"\",F8478,IF(E8479=\"\",F8478,E8479/MAX($E$9:E8479)-1)))","v":""}]
[null,null,null,null,null,{"$f":"IF(B8480=\"\",\"\",IF(C8480=\"\",F8479,IF(E8480=\"\",F8479,E8480/MAX($E$9:E8480)-1)))","v":""}]
[null,null,null,null,null,{"$f":"IF(B8481=\"\",\"\",IF(C8481=\"\",F8480,IF(E8481=\"\",F8480,E8481/MAX($E$9:E8481)-1)))","v":""}]
[null,null,null,null,null,{"$f":"IF(B8482=\"\",\"\",IF(C8482=\"\",F8481,IF(E8482=\"\",F8481,E8482/MAX($E$9:E8482)-1)))","v":""}]
[null,null,null,null,null,{"$f":"IF(B8483=\"\",\"\",IF(C8483=\"\",F8482,IF(E8483=\"\",F8482,E8483/MAX($E$9:E8483)-1)))","v":""}]
[null,null,null,null,null,{"$f":"IF(B8484=\"\",\"\",IF(C8484=\"\",F8483,IF(E8484=\"\",F8483,E8484/MAX($E$9:E8484)-1)))","v":""}]
[null,null,null,null,null,{"$f":"IF(B8485=\"\",\"\",IF(C8485=\"\",F8484,IF(E8485=\"\",F8484,E8485/MAX($E$9:E8485)-1)))","v":""}]
[null,null,null,null,null,{"$f":"IF(B8486=\"\",\"\",IF(C8486=\"\",F8485,IF(E8486=\"\",F8485,E8486/MAX($E$9:E8486)-1)))","v":""}]
[null,null,null,null,null,{"$f":"IF(B8487=\"\",\"\",IF(C8487=\"\",F8486,IF(E8487=\"\",F8486,E8487/MAX($E$9:E8487)-1)))","v":""}]
[null,null,null,null,null,{"$f":"IF(B8488=\"\",\"\",IF(C8488=\"\",F8487,IF(E8488=\"\",F8487,E8488/MAX($E$9:E8488)-1)))","v":""}]
[null,null,null,null,null,{"$f":"IF(B8489=\"\",\"\",IF(C8489=\"\",F8488,IF(E8489=\"\",F8488,E8489/MAX($E$9:E8489)-1)))","v":""}]
[null,null,null,null,null,{"$f":"IF(B8490=\"\",\"\",IF(C8490=\"\",F8489,IF(E8490=\"\",F8489,E8490/MAX($E$9:E8490)-1)))","v":""}]
[null,null,null,null,null,{"$f":"IF(B8491=\"\",\"\",IF(C8491=\"\",F8490,IF(E8491=\"\",F8490,E8491/MAX($E$9:E8491)-1)))","v":""}]
[null,null,null,null,null,{"$f":"IF(B8492=\"\",\"\",IF(C8492=\"\",F8491,IF(E8492=\"\",F8491,E8492/MAX($E$9:E8492)-1)))","v":""}]
[null,null,null,null,null,{"$f":"IF(B8493=\"\",\"\",IF(C8493=\"\",F8492,IF(E8493=\"\",F8492,E8493/MAX($E$9:E8493)-1)))","v":""}]
[null,null,null,null,null,{"$f":"IF(B8494=\"\",\"\",IF(C8494=\"\",F8493,IF(E8494=\"\",F8493,E8494/MAX($E$9:E8494)-1)))","v":""}]
[null,null,null,null,null,{"$f":"IF(B8495=\"\",\"\",IF(C8495=\"\",F8494,IF(E8495=\"\",F8494,E8495/MAX($E$9:E8495)-1)))","v":""}]
[null,null,null,null,null,{"$f":"IF(B8496=\"\",\"\",IF(C8496=\"\",F8495,IF(E8496=\"\",F8495,E8496/MAX($E$9:E8496)-1)))","v":""}]
[null,null,null,null,null,{"$f":"IF(B8497=\"\",\"\",IF(C8497=\"\",F8496,IF(E8497=\"\",F8496,E8497/MAX($E$9:E8497)-1)))","v":""}]
[null,null,null,null,null,{"$f":"IF(B8498=\"\",\"\",IF(C8498=\"\",F8497,IF(E8498=\"\",F8497,E8498/MAX($E$9:E8498)-1)))","v":""}]
[null,null,null,null,null,{"$f":"IF(B8499=\"\",\"\",IF(C8499=\"\",F8498,IF(E8499=\"\",F8498,E8499/MAX($E$9:E8499)-1)))","v":""}]
[null,null,null,null,null,{"$f":"IF(B8500=\"\",\"\",IF(C8500=\"\",F8499,IF(E8500=\"\",F8499,E8500/MAX($E$9:E8500)-1)))","v":""}]
[null,null,null,null,null,{"$f":"IF(B8501=\"\",\"\",IF(C8501=\"\",F8500,IF(E8501=\"\",F8500,E8501/MAX($E$9:E8501)-1)))","v":""}]
[null,null,null,null,null,{"$f":"IF(B8502=\"\",\"\",IF(C8502=\"\",F8501,IF(E8502=\"\",F8501,E8502/MAX($E$9:E8502)-1)))","v":""}]
[null,null,null,null,null,{"$f":"IF(B8503=\"\",\"\",IF(C8503=\"\",F8502,IF(E8503=\"\",F8502,E8503/MAX($E$9:E8503)-1)))","v":""}]
[null,null,null,null,null,{"$f":"IF(B8504=\"\",\"\",IF(C8504=\"\",F8503,IF(E8504=\"\",F8503,E8504/MAX($E$9:E8504)-1)))","v":""}]
[null,null,null,null,null,{"$f":"IF(B8505=\"\",\"\",IF(C8505=\"\",F8504,IF(E8505=\"\",F8504,E8505/MAX($E$9:E8505)-1)))","v":""}]
[null,null,null,null,null,{"$f":"IF(B8506=\"\",\"\",IF(C8506=\"\",F8505,IF(E8506=\"\",F8505,E8506/MAX($E$9:E8506)-1)))","v":""}]
[null,null,null,null,null,{"$f":"IF(B8507=\"\",\"\",IF(C8507=\"\",F8506,IF(E8507=\"\",F8506,E8507/MAX($E$9:E8507)-1)))","v":""}]
[null,null,null,null,null,{"$f":"IF(B8508=\"\",\"\",IF(C8508=\"\",F8507,IF(E8508=\"\",F8507,E8508/MAX($E$9:E8508)-1)))","v":""}]
[null,null,null,null,null,{"$f":"IF(B8509=\"\",\"\",IF(C8509=\"\",F8508,IF(E8509=\"\",F8508,E8509/MAX($E$9:E8509)-1)))","v":""}]
[null,null,null,null,null,{"$f":"IF(B8510=\"\",\"\",IF(C8510=\"\",F8509,IF(E8510=\"\",F8509,E8510/MAX($E$9:E8510)-1)))","v":""}]
[null,null,null,null,null,{"$f":"IF(B8511=\"\",\"\",IF(C8511=\"\",F8510,IF(E8511=\"\",F8510,E8511/MAX($E$9:E8511)-1)))","v":""}]
[null,null,null,null,null,{"$f":"IF(B8512=\"\",\"\",IF(C8512=\"\",F8511,IF(E8512=\"\",F8511,E8512/MAX($E$9:E8512)-1)))","v":""}]
[null,null,null,null,null,{"$f":"IF(B8513=\"\",\"\",IF(C8513=\"\",F8512,IF(E8513=\"\",F8512,E8513/MAX($E$9:E8513)-1)))","v":""}]
[null,null,null,null,null,{"$f":"IF(B8514=\"\",\"\",IF(C8514=\"\",F8513,IF(E8514=\"\",F8513,E8514/MAX($E$9:E8514)-1)))","v":""}]
[null,null,null,null,null,{"$f":"IF(B8515=\"\",\"\",IF(C8515=\"\",F8514,IF(E8515=\"\",F8514,E8515/MAX($E$9:E8515)-1)))","v":""}]
[null,null,null,null,null,{"$f":"IF(B8516=\"\",\"\",IF(C8516=\"\",F8515,IF(E8516=\"\",F8515,E8516/MAX($E$9:E8516)-1)))","v":""}]
[null,null,null,null,null,{"$f":"IF(B8517=\"\",\"\",IF(C8517=\"\",F8516,IF(E8517=\"\",F8516,E8517/MAX($E$9:E8517)-1)))","v":""}]
[null,null,null,null,null,{"$f":"IF(B8518=\"\",\"\",IF(C8518=\"\",F8517,IF(E8518=\"\",F8517,E8518/MAX($E$9:E8518)-1)))","v":""}]
[null,null,null,null,null,{"$f":"IF(B8519=\"\",\"\",IF(C8519=\"\",F8518,IF(E8519=\"\",F8518,E8519/MAX($E$9:E8519)-1)))","v":""}]
[null,null,null,null,null,{"$f":"IF(B8520=\"\",\"\",IF(C8520=\"\",F8519,IF(E8520=\"\",F8519,E8520/MAX($E$9:E8520)-1)))","v":""}]
[null,null,null,null,null,{"$f":"IF(B8521=\"\",\"\",IF(C8521=\"\",F8520,IF(E8521=\"\",F8520,E8521/MAX($E$9:E8521)-1)))","v":""}]
[null,null,null,null,null,{"$f":"IF(B8522=\"\",\"\",IF(C8522=\"\",F8521,IF(E8522=\"\",F8521,E8522/MAX($E$9:E8522)-1)))","v":""}]
[null,null,null,null,null,{"$f":"IF(B8523=\"\",\"\",IF(C8523=\"\",F8522,IF(E8523=\"\",F8522,E8523/MAX($E$9:E8523)-1)))","v":""}]
[null,null,null,null,null,{"$f":"IF(B8524=\"\",\"\",IF(C8524=\"\",F8523,IF(E8524=\"\",F8523,E8524/MAX($E$9:E8524)-1)))","v":""}]
[null,null,null,null,null,{"$f":"IF(B8525=\"\",\"\",IF(C8525=\"\",F8524,IF(E8525=\"\",F8524,E8525/MAX($E$9:E8525)-1)))","v":""}]
[null,null,null,null,null,{"$f":"IF(B8526=\"\",\"\",IF(C8526=\"\",F8525,IF(E8526=\"\",F8525,E8526/MAX($E$9:E8526)-1)))","v":""}]
[null,null,null,null,null,{"$f":"IF(B8527=\"\",\"\",IF(C8527=\"\",F8526,IF(E8527=\"\",F8526,E8527/MAX($E$9:E8527)-1)))","v":""}]
[null,null,null,null,null,{"$f":"IF(B8528=\"\",\"\",IF(C8528=\"\",F8527,IF(E8528=\"\",F8527,E8528/MAX($E$9:E8528)-1)))","v":""}]
[null,null,null,null,null,{"$f":"IF(B8529=\"\",\"\",IF(C8529=\"\",F8528,IF(E8529=\"\",F8528,E8529/MAX($E$9:E8529)-1)))","v":""}]
[null,null,null,null,null,{"$f":"IF(B8530=\"\",\"\",IF(C8530=\"\",F8529,IF(E8530=\"\",F8529,E8530/MAX($E$9:E8530)-1)))","v":""}]
[null,null,null,null,null,{"$f":"IF(B8531=\"\",\"\",IF(C8531=\"\",F8530,IF(E8531=\"\",F8530,E8531/MAX($E$9:E8531)-1)))","v":""}]
[null,null,null,null,null,{"$f":"IF(B8532=\"\",\"\",IF(C8532=\"\",F8531,IF(E8532=\"\",F8531,E8532/MAX($E$9:E8532)-1)))","v":""}]
[null,null,null,null,null,{"$f":"IF(B8533=\"\",\"\",IF(C8533=\"\",F8532,IF(E8533=\"\",F8532,E8533/MAX($E$9:E8533)-1)))","v":""}]
[null,null,null,null,null,{"$f":"IF(B8534=\"\",\"\",IF(C8534=\"\",F8533,IF(E8534=\"\",F8533,E8534/MAX($E$9:E8534)-1)))","v":""}]
[null,null,null,null,null,{"$f":"IF(B8535=\"\",\"\",IF(C8535=\"\",F8534,IF(E8535=\"\",F8534,E8535/MAX($E$9:E8535)-1)))","v":""}]
[null,null,null,null,null,{"$f":"IF(B8536=\"\",\"\",IF(C8536=\"\",F8535,IF(E8536=\"\",F8535,E8536/MAX($E$9:E8536)-1)))","v":""}]
[null,null,null,null,null,{"$f":"IF(B8537=\"\",\"\",IF(C8537=\"\",F8536,IF(E8537=\"\",F8536,E8537/MAX($E$9:E8537)-1)))","v":""}]
[null,null,null,null,null,{"$f":"IF(B8538=\"\",\"\",IF(C8538=\"\",F8537,IF(E8538=\"\",F8537,E8538/MAX($E$9:E8538)-1)))","v":""}]
[null,null,null,null,null,{"$f":"IF(B8539=\"\",\"\",IF(C8539=\"\",F8538,IF(E8539=\"\",F8538,E8539/MAX($E$9:E8539)-1)))","v":""}]
[null,null,null,null,null,{"$f":"IF(B8540=\"\",\"\",IF(C8540=\"\",F8539,IF(E8540=\"\",F8539,E8540/MAX($E$9:E8540)-1)))","v":""}]
[null,null,null,null,null,{"$f":"IF(B8541=\"\",\"\",IF(C8541=\"\",F8540,IF(E8541=\"\",F8540,E8541/MAX($E$9:E8541)-1)))","v":""}]
[null,null,null,null,null,{"$f":"IF(B8542=\"\",\"\",IF(C8542=\"\",F8541,IF(E8542=\"\",F8541,E8542/MAX($E$9:E8542)-1)))","v":""}]
[null,null,null,null,null,{"$f":"IF(B8543=\"\",\"\",IF(C8543=\"\",F8542,IF(E8543=\"\",F8542,E8543/MAX($E$9:E8543)-1)))","v":""}]
[null,null,null,null,null,{"$f":"IF(B8544=\"\",\"\",IF(C8544=\"\",F8543,IF(E8544=\"\",F8543,E8544/MAX($E$9:E8544)-1)))","v":""}]
[null,null,null,null,null,{"$f":"IF(B8545=\"\",\"\",IF(C8545=\"\",F8544,IF(E8545=\"\",F8544,E8545/MAX($E$9:E8545)-1)))","v":""}]
[null,null,null,null,null,{"$f":"IF(B8546=\"\",\"\",IF(C8546=\"\",F8545,IF(E8546=\"\",F8545,E8546/MAX($E$9:E8546)-1)))","v":""}]
[null,null,null,null,null,{"$f":"IF(B8547=\"\",\"\",IF(C8547=\"\",F8546,IF(E8547=\"\",F8546,E8547/MAX($E$9:E8547)-1)))","v":""}]
[null,null,null,null,null,{"$f":"IF(B8548=\"\",\"\",IF(C8548=\"\",F8547,IF(E8548=\"\",F8547,E8548/MAX($E$9:E8548)-1)))","v":""}]
[null,null,null,null,null,{"$f":"IF(B8549=\"\",\"\",IF(C8549=\"\",F8548,IF(E8549=\"\",F8548,E8549/MAX($E$9:E8549)-1)))","v":""}]
[null,null,null,null,null,{"$f":"IF(B8550=\"\",\"\",IF(C8550=\"\",F8549,IF(E8550=\"\",F8549,E8550/MAX($E$9:E8550)-1)))","v":""}]
[null,null,null,null,null,{"$f":"IF(B8551=\"\",\"\",IF(C8551=\"\",F8550,IF(E8551=\"\",F8550,E8551/MAX($E$9:E8551)-1)))","v":""}]
[null,null,null,null,null,{"$f":"IF(B8552=\"\",\"\",IF(C8552=\"\",F8551,IF(E8552=\"\",F8551,E8552/MAX($E$9:E8552)-1)))","v":""}]
[null,null,null,null,null,{"$f":"IF(B8553=\"\",\"\",IF(C8553=\"\",F8552,IF(E8553=\"\",F8552,E8553/MAX($E$9:E8553)-1)))","v":""}]
[null,null,null,null,null,{"$f":"IF(B8554=\"\",\"\",IF(C8554=\"\",F8553,IF(E8554=\"\",F8553,E8554/MAX($E$9:E8554)-1)))","v":""}]
[null,null,null,null,null,{"$f":"IF(B8555=\"\",\"\",IF(C8555=\"\",F8554,IF(E8555=\"\",F8554,E8555/MAX($E$9:E8555)-1)))","v":""}]
[null,null,null,null,null,{"$f":"IF(B8556=\"\",\"\",IF(C8556=\"\",F8555,IF(E8556=\"\",F8555,E8556/MAX($E$9:E8556)-1)))","v":""}]
[null,null,null,null,null,{"$f":"IF(B8557=\"\",\"\",IF(C8557=\"\",F8556,IF(E8557=\"\",F8556,E8557/MAX($E$9:E8557)-1)))","v":""}]
[null,null,null,null,null,{"$f":"IF(B8558=\"\",\"\",IF(C8558=\"\",F8557,IF(E8558=\"\",F8557,E8558/MAX($E$9:E8558)-1)))","v":""}]
[null,null,null,null,null,{"$f":"IF(B8559=\"\",\"\",IF(C8559=\"\",F8558,IF(E8559=\"\",F8558,E8559/MAX($E$9:E8559)-1)))","v":""}]
[null,null,null,null,null,{"$f":"IF(B8560=\"\",\"\",IF(C8560=\"\",F8559,IF(E8560=\"\",F8559,E8560/MAX($E$9:E8560)-1)))","v":""}]
[null,null,null,null,null,{"$f":"IF(B8561=\"\",\"\",IF(C8561=\"\",F8560,IF(E8561=\"\",F8560,E8561/MAX($E$9:E8561)-1)))","v":""}]
[null,null,null,null,null,{"$f":"IF(B8562=\"\",\"\",IF(C8562=\"\",F8561,IF(E8562=\"\",F8561,E8562/MAX($E$9:E8562)-1)))","v":""}]
[null,null,null,null,null,{"$f":"IF(B8563=\"\",\"\",IF(C8563=\"\",F8562,IF(E8563=\"\",F8562,E8563/MAX($E$9:E8563)-1)))","v":""}]
[null,null,null,null,null,{"$f":"IF(B8564=\"\",\"\",IF(C8564=\"\",F8563,IF(E8564=\"\",F8563,E8564/MAX($E$9:E8564)-1)))","v":""}]
[null,null,null,null,null,{"$f":"IF(B8565=\"\",\"\",IF(C8565=\"\",F8564,IF(E8565=\"\",F8564,E8565/MAX($E$9:E8565)-1)))","v":""}]
[null,null,null,null,null,{"$f":"IF(B8566=\"\",\"\",IF(C8566=\"\",F8565,IF(E8566=\"\",F8565,E8566/MAX($E$9:E8566)-1)))","v":""}]
[null,null,null,null,null,{"$f":"IF(B8567=\"\",\"\",IF(C8567=\"\",F8566,IF(E8567=\"\",F8566,E8567/MAX($E$9:E8567)-1)))","v":""}]
[null,null,null,null,null,{"$f":"IF(B8568=\"\",\"\",IF(C8568=\"\",F8567,IF(E8568=\"\",F8567,E8568/MAX($E$9:E8568)-1)))","v":""}]
[null,null,null,null,null,{"$f":"IF(B8569=\"\",\"\",IF(C8569=\"\",F8568,IF(E8569=\"\",F8568,E8569/MAX($E$9:E8569)-1)))","v":""}]
[null,null,null,null,null,{"$f":"IF(B8570=\"\",\"\",IF(C8570=\"\",F8569,IF(E8570=\"\",F8569,E8570/MAX($E$9:E8570)-1)))","v":""}]
[null,null,null,null,null,{"$f":"IF(B8571=\"\",\"\",IF(C8571=\"\",F8570,IF(E8571=\"\",F8570,E8571/MAX($E$9:E8571)-1)))","v":""}]
[null,null,null,null,null,{"$f":"IF(B8572=\"\",\"\",IF(C8572=\"\",F8571,IF(E8572=\"\",F8571,E8572/MAX($E$9:E8572)-1)))","v":""}]
[null,null,null,null,null,{"$f":"IF(B8573=\"\",\"\",IF(C8573=\"\",F8572,IF(E8573=\"\",F8572,E8573/MAX($E$9:E8573)-1)))","v":""}]
[null,null,null,null,null,{"$f":"IF(B8574=\"\",\"\",IF(C8574=\"\",F8573,IF(E8574=\"\",F8573,E8574/MAX($E$9:E8574)-1)))","v":""}]
[null,null,null,null,null,{"$f":"IF(B8575=\"\",\"\",IF(C8575=\"\",F8574,IF(E8575=\"\",F8574,E8575/MAX($E$9:E8575)-1)))","v":""}]
[null,null,null,null,null,{"$f":"IF(B8576=\"\",\"\",IF(C8576=\"\",F8575,IF(E8576=\"\",F8575,E8576/MAX($E$9:E8576)-1)))","v":""}]
[null,null,null,null,null,{"$f":"IF(B8577=\"\",\"\",IF(C8577=\"\",F8576,IF(E8577=\"\",F8576,E8577/MAX($E$9:E8577)-1)))","v":""}]
[null,null,null,null,null,{"$f":"IF(B8578=\"\",\"\",IF(C8578=\"\",F8577,IF(E8578=\"\",F8577,E8578/MAX($E$9:E8578)-1)))","v":""}]
[null,null,null,null,null,{"$f":"IF(B8579=\"\",\"\",IF(C8579=\"\",F8578,IF(E8579=\"\",F8578,E8579/MAX($E$9:E8579)-1)))","v":""}]
[null,null,null,null,null,{"$f":"IF(B8580=\"\",\"\",IF(C8580=\"\",F8579,IF(E8580=\"\",F8579,E8580/MAX($E$9:E8580)-1)))","v":""}]
[null,null,null,null,null,{"$f":"IF(B8581=\"\",\"\",IF(C8581=\"\",F8580,IF(E8581=\"\",F8580,E8581/MAX($E$9:E8581)-1)))","v":""}]
[null,null,null,null,null,{"$f":"IF(B8582=\"\",\"\",IF(C8582=\"\",F8581,IF(E8582=\"\",F8581,E8582/MAX($E$9:E8582)-1)))","v":""}]
[null,null,null,null,null,{"$f":"IF(B8583=\"\",\"\",IF(C8583=\"\",F8582,IF(E8583=\"\",F8582,E8583/MAX($E$9:E8583)-1)))","v":""}]
[null,null,null,null,null,{"$f":"IF(B8584=\"\",\"\",IF(C8584=\"\",F8583,IF(E8584=\"\",F8583,E8584/MAX($E$9:E8584)-1)))","v":""}]
[null,null,null,null,null,{"$f":"IF(B8585=\"\",\"\",IF(C8585=\"\",F8584,IF(E8585=\"\",F8584,E8585/MAX($E$9:E8585)-1)))","v":""}]
[null,null,null,null,null,{"$f":"IF(B8586=\"\",\"\",IF(C8586=\"\",F8585,IF(E8586=\"\",F8585,E8586/MAX($E$9:E8586)-1)))","v":""}]
[null,null,null,null,null,{"$f":"IF(B8587=\"\",\"\",IF(C8587=\"\",F8586,IF(E8587=\"\",F8586,E8587/MAX($E$9:E8587)-1)))","v":""}]
[null,null,null,null,null,{"$f":"IF(B8588=\"\",\"\",IF(C8588=\"\",F8587,IF(E8588=\"\",F8587,E8588/MAX($E$9:E8588)-1)))","v":""}]
[null,null,null,null,null,{"$f":"IF(B8589=\"\",\"\",IF(C8589=\"\",F8588,IF(E8589=\"\",F8588,E8589/MAX($E$9:E8589)-1)))","v":""}]
[null,null,null,null,null,{"$f":"IF(B8590=\"\",\"\",IF(C8590=\"\",F8589,IF(E8590=\"\",F8589,E8590/MAX($E$9:E8590)-1)))","v":""}]
[null,null,null,null,null,{"$f":"IF(B8591=\"\",\"\",IF(C8591=\"\",F8590,IF(E8591=\"\",F8590,E8591/MAX($E$9:E8591)-1)))","v":""}]
[null,null,null,null,null,{"$f":"IF(B8592=\"\",\"\",IF(C8592=\"\",F8591,IF(E8592=\"\",F8591,E8592/MAX($E$9:E8592)-1)))","v":""}]
[null,null,null,null,null,{"$f":"IF(B8593=\"\",\"\",IF(C8593=\"\",F8592,IF(E8593=\"\",F8592,E8593/MAX($E$9:E8593)-1)))","v":""}]
[null,null,null,null,null,{"$f":"IF(B8594=\"\",\"\",IF(C8594=\"\",F8593,IF(E8594=\"\",F8593,E8594/MAX($E$9:E8594)-1)))","v":""}]
[null,null,null,null,null,{"$f":"IF(B8595=\"\",\"\",IF(C8595=\"\",F8594,IF(E8595=\"\",F8594,E8595/MAX($E$9:E8595)-1)))","v":""}]
[null,null,null,null,null,{"$f":"IF(B8596=\"\",\"\",IF(C8596=\"\",F8595,IF(E8596=\"\",F8595,E8596/MAX($E$9:E8596)-1)))","v":""}]
[null,null,null,null,null,{"$f":"IF(B8597=\"\",\"\",IF(C8597=\"\",F8596,IF(E8597=\"\",F8596,E8597/MAX($E$9:E8597)-1)))","v":""}]
[null,null,null,null,null,{"$f":"IF(B8598=\"\",\"\",IF(C8598=\"\",F8597,IF(E8598=\"\",F8597,E8598/MAX($E$9:E8598)-1)))","v":""}]
[null,null,null,null,null,{"$f":"IF(B8599=\"\",\"\",IF(C8599=\"\",F8598,IF(E8599=\"\",F8598,E8599/MAX($E$9:E8599)-1)))","v":""}]
[null,null,null,null,null,{"$f":"IF(B8600=\"\",\"\",IF(C8600=\"\",F8599,IF(E8600=\"\",F8599,E8600/MAX($E$9:E8600)-1)))","v":""}]
[null,null,null,null,null,{"$f":"IF(B8601=\"\",\"\",IF(C8601=\"\",F8600,IF(E8601=\"\",F8600,E8601/MAX($E$9:E8601)-1)))","v":""}]
[null,null,null,null,null,{"$f":"IF(B8602=\"\",\"\",IF(C8602=\"\",F8601,IF(E8602=\"\",F8601,E8602/MAX($E$9:E8602)-1)))","v":""}]
[null,null,null,null,null,{"$f":"IF(B8603=\"\",\"\",IF(C8603=\"\",F8602,IF(E8603=\"\",F8602,E8603/MAX($E$9:E8603)-1)))","v":""}]
[null,null,null,null,null,{"$f":"IF(B8604=\"\",\"\",IF(C8604=\"\",F8603,IF(E8604=\"\",F8603,E8604/MAX($E$9:E8604)-1)))","v":""}]
[null,null,null,null,null,{"$f":"IF(B8605=\"\",\"\",IF(C8605=\"\",F8604,IF(E8605=\"\",F8604,E8605/MAX($E$9:E8605)-1)))","v":""}]
[null,null,null,null,null,{"$f":"IF(B8606=\"\",\"\",IF(C8606=\"\",F8605,IF(E8606=\"\",F8605,E8606/MAX($E$9:E8606)-1)))","v":""}]
[null,null,null,null,null,{"$f":"IF(B8607=\"\",\"\",IF(C8607=\"\",F8606,IF(E8607=\"\",F8606,E8607/MAX($E$9:E8607)-1)))","v":""}]
[null,null,null,null,null,{"$f":"IF(B8608=\"\",\"\",IF(C8608=\"\",F8607,IF(E8608=\"\",F8607,E8608/MAX($E$9:E8608)-1)))","v":""}]
[null,null,null,null,null,{"$f":"IF(B8609=\"\",\"\",IF(C8609=\"\",F8608,IF(E8609=\"\",F8608,E8609/MAX($E$9:E8609)-1)))","v":""}]
[null,null,null,null,null,{"$f":"IF(B8610=\"\",\"\",IF(C8610=\"\",F8609,IF(E8610=\"\",F8609,E8610/MAX($E$9:E8610)-1)))","v":""}]
[null,null,null,null,null,{"$f":"IF(B8611=\"\",\"\",IF(C8611=\"\",F8610,IF(E8611=\"\",F8610,E8611/MAX($E$9:E8611)-1)))","v":""}]
[null,null,null,null,null,{"$f":"IF(B8612=\"\",\"\",IF(C8612=\"\",F8611,IF(E8612=\"\",F8611,E8612/MAX($E$9:E8612)-1)))","v":""}]
[null,null,null,null,null,{"$f":"IF(B8613=\"\",\"\",IF(C8613=\"\",F8612,IF(E8613=\"\",F8612,E8613/MAX($E$9:E8613)-1)))","v":""}]
[null,null,null,null,null,{"$f":"IF(B8614=\"\",\"\",IF(C8614=\"\",F8613,IF(E8614=\"\",F8613,E8614/MAX($E$9:E8614)-1)))","v":""}]
[null,null,null,null,null,{"$f":"IF(B8615=\"\",\"\",IF(C8615=\"\",F8614,IF(E8615=\"\",F8614,E8615/MAX($E$9:E8615)-1)))","v":""}]
[null,null,null,null,null,{"$f":"IF(B8616=\"\",\"\",IF(C8616=\"\",F8615,IF(E8616=\"\",F8615,E8616/MAX($E$9:E8616)-1)))","v":""}]
[null,null,null,null,null,{"$f":"IF(B8617=\"\",\"\",IF(C8617=\"\",F8616,IF(E8617=\"\",F8616,E8617/MAX($E$9:E8617)-1)))","v":""}]
[null,null,null,null,null,{"$f":"IF(B8618=\"\",\"\",IF(C8618=\"\",F8617,IF(E8618=\"\",F8617,E8618/MAX($E$9:E8618)-1)))","v":""}]
[null,null,null,null,null,{"$f":"IF(B8619=\"\",\"\",IF(C8619=\"\",F8618,IF(E8619=\"\",F8618,E8619/MAX($E$9:E8619)-1)))","v":""}]
[null,null,null,null,null,{"$f":"IF(B8620=\"\",\"\",IF(C8620=\"\",F8619,IF(E8620=\"\",F8619,E8620/MAX($E$9:E8620)-1)))","v":""}]
[null,null,null,null,null,{"$f":"IF(B8621=\"\",\"\",IF(C8621=\"\",F8620,IF(E8621=\"\",F8620,E8621/MAX($E$9:E8621)-1)))","v":""}]
[null,null,null,null,null,{"$f":"IF(B8622=\"\",\"\",IF(C8622=\"\",F8621,IF(E8622=\"\",F8621,E8622/MAX($E$9:E8622)-1)))","v":""}]
[null,null,null,null,null,{"$f":"IF(B8623=\"\",\"\",IF(C8623=\"\",F8622,IF(E8623=\"\",F8622,E8623/MAX($E$9:E8623)-1)))","v":""}]
[null,null,null,null,null,{"$f":"IF(B8624=\"\",\"\",IF(C8624=\"\",F8623,IF(E8624=\"\",F8623,E8624/MAX($E$9:E8624)-1)))","v":""}]
[null,null,null,null,null,{"$f":"IF(B8625=\"\",\"\",IF(C8625=\"\",F8624,IF(E8625=\"\",F8624,E8625/MAX($E$9:E8625)-1)))","v":""}]
[null,null,null,null,null,{"$f":"IF(B8626=\"\",\"\",IF(C8626=\"\",F8625,IF(E8626=\"\",F8625,E8626/MAX($E$9:E8626)-1)))","v":""}]
[null,null,null,null,null,{"$f":"IF(B8627=\"\",\"\",IF(C8627=\"\",F8626,IF(E8627=\"\",F8626,E8627/MAX($E$9:E8627)-1)))","v":""}]
[null,null,null,null,null,{"$f":"IF(B8628=\"\",\"\",IF(C8628=\"\",F8627,IF(E8628=\"\",F8627,E8628/MAX($E$9:E8628)-1)))","v":""}]
[null,null,null,null,null,{"$f":"IF(B8629=\"\",\"\",IF(C8629=\"\",F8628,IF(E8629=\"\",F8628,E8629/MAX($E$9:E8629)-1)))","v":""}]
[null,null,null,null,null,{"$f":"IF(B8630=\"\",\"\",IF(C8630=\"\",F8629,IF(E8630=\"\",F8629,E8630/MAX($E$9:E8630)-1)))","v":""}]
[null,null,null,null,null,{"$f":"IF(B8631=\"\",\"\",IF(C8631=\"\",F8630,IF(E8631=\"\",F8630,E8631/MAX($E$9:E8631)-1)))","v":""}]
[null,null,null,null,null,{"$f":"IF(B8632=\"\",\"\",IF(C8632=\"\",F8631,IF(E8632=\"\",F8631,E8632/MAX($E$9:E8632)-1)))","v":""}]
[null,null,null,null,null,{"$f":"IF(B8633=\"\",\"\",IF(C8633=\"\",F8632,IF(E8633=\"\",F8632,E8633/MAX($E$9:E8633)-1)))","v":""}]
[null,null,null,null,null,{"$f":"IF(B8634=\"\",\"\",IF(C8634=\"\",F8633,IF(E8634=\"\",F8633,E8634/MAX($E$9:E8634)-1)))","v":""}]
[null,null,null,null,null,{"$f":"IF(B8635=\"\",\"\",IF(C8635=\"\",F8634,IF(E8635=\"\",F8634,E8635/MAX($E$9:E8635)-1)))","v":""}]
[null,null,null,null,null,{"$f":"IF(B8636=\"\",\"\",IF(C8636=\"\",F8635,IF(E8636=\"\",F8635,E8636/MAX($E$9:E8636)-1)))","v":""}]
[null,null,null,null,null,{"$f":"IF(B8637=\"\",\"\",IF(C8637=\"\",F8636,IF(E8637=\"\",F8636,E8637/MAX($E$9:E8637)-1)))","v":""}]
[null,null,null,null,null,{"$f":"IF(B8638=\"\",\"\",IF(C8638=\"\",F8637,IF(E8638=\"\",F8637,E8638/MAX($E$9:E8638)-1)))","v":""}]
[null,null,null,null,null,{"$f":"IF(B8639=\"\",\"\",IF(C8639=\"\",F8638,IF(E8639=\"\",F8638,E8639/MAX($E$9:E8639)-1)))","v":""}]
[null,null,null,null,null,{"$f":"IF(B8640=\"\",\"\",IF(C8640=\"\",F8639,IF(E8640=\"\",F8639,E8640/MAX($E$9:E8640)-1)))","v":""}]
[null,null,null,null,null,{"$f":"IF(B8641=\"\",\"\",IF(C8641=\"\",F8640,IF(E8641=\"\",F8640,E8641/MAX($E$9:E8641)-1)))","v":""}]
[null,null,null,null,null,{"$f":"IF(B8642=\"\",\"\",IF(C8642=\"\",F8641,IF(E8642=\"\",F8641,E8642/MAX($E$9:E8642)-1)))","v":""}]
[null,null,null,null,null,{"$f":"IF(B8643=\"\",\"\",IF(C8643=\"\",F8642,IF(E8643=\"\",F8642,E8643/MAX($E$9:E8643)-1)))","v":""}]
[null,null,null,null,null,{"$f":"IF(B8644=\"\",\"\",IF(C8644=\"\",F8643,IF(E8644=\"\",F8643,E8644/MAX($E$9:E8644)-1)))","v":""}]
[null,null,null,null,null,{"$f":"IF(B8645=\"\",\"\",IF(C8645=\"\",F8644,IF(E8645=\"\",F8644,E8645/MAX($E$9:E8645)-1)))","v":""}]
[null,null,null,null,null,{"$f":"IF(B8646=\"\",\"\",IF(C8646=\"\",F8645,IF(E8646=\"\",F8645,E8646/MAX($E$9:E8646)-1)))","v":""}]
[null,null,null,null,null,{"$f":"IF(B8647=\"\",\"\",IF(C8647=\"\",F8646,IF(E8647=\"\",F8646,E8647/MAX($E$9:E8647)-1)))","v":""}]
[null,null,null,null,null,{"$f":"IF(B8648=\"\",\"\",IF(C8648=\"\",F8647,IF(E8648=\"\",F8647,E8648/MAX($E$9:E8648)-1)))","v":""}]
[null,null,null,null,null,{"$f":"IF(B8649=\"\",\"\",IF(C8649=\"\",F8648,IF(E8649=\"\",F8648,E8649/MAX($E$9:E8649)-1)))","v":""}]
[null,null,null,null,null,{"$f":"IF(B8650=\"\",\"\",IF(C8650=\"\",F8649,IF(E8650=\"\",F8649,E8650/MAX($E$9:E8650)-1)))","v":""}]
[null,null,null,null,null,{"$f":"IF(B8651=\"\",\"\",IF(C8651=\"\",F8650,IF(E8651=\"\",F8650,E8651/MAX($E$9:E8651)-1)))","v":""}]
[null,null,null,null,null,{"$f":"IF(B8652=\"\",\"\",IF(C8652=\"\",F8651,IF(E8652=\"\",F8651,E8652/MAX($E$9:E8652)-1)))","v":""}]
[null,null,null,null,null,{"$f":"IF(B8653=\"\",\"\",IF(C8653=\"\",F8652,IF(E8653=\"\",F8652,E8653/MAX($E$9:E8653)-1)))","v":""}]
[null,null,null,null,null,{"$f":"IF(B8654=\"\",\"\",IF(C8654=\"\",F8653,IF(E8654=\"\",F8653,E8654/MAX($E$9:E8654)-1)))","v":""}]
[null,null,null,null,null,{"$f":"IF(B8655=\"\",\"\",IF(C8655=\"\",F8654,IF(E8655=\"\",F8654,E8655/MAX($E$9:E8655)-1)))","v":""}]
[null,null,null,null,null,{"$f":"IF(B8656=\"\",\"\",IF(C8656=\"\",F8655,IF(E8656=\"\",F8655,E8656/MAX($E$9:E8656)-1)))","v":""}]
[null,null,null,null,null,{"$f":"IF(B8657=\"\",\"\",IF(C8657=\"\",F8656,IF(E8657=\"\",F8656,E8657/MAX($E$9:E8657)-1)))","v":""}]
[null,null,null,null,null,{"$f":"IF(B8658=\"\",\"\",IF(C8658=\"\",F8657,IF(E8658=\"\",F8657,E8658/MAX($E$9:E8658)-1)))","v":""}]
[null,null,null,null,null,{"$f":"IF(B8659=\"\",\"\",IF(C8659=\"\",F8658,IF(E8659=\"\",F8658,E8659/MAX($E$9:E8659)-1)))","v":""}]
[null,null,null,null,null,{"$f":"IF(B8660=\"\",\"\",IF(C8660=\"\",F8659,IF(E8660=\"\",F8659,E8660/MAX($E$9:E8660)-1)))","v":""}]
[null,null,null,null,null,{"$f":"IF(B8661=\"\",\"\",IF(C8661=\"\",F8660,IF(E8661=\"\",F8660,E8661/MAX($E$9:E8661)-1)))","v":""}]
[null,null,null,null,null,{"$f":"IF(B8662=\"\",\"\",IF(C8662=\"\",F8661,IF(E8662=\"\",F8661,E8662/MAX($E$9:E8662)-1)))","v":""}]
[null,null,null,null,null,{"$f":"IF(B8663=\"\",\"\",IF(C8663=\"\",F8662,IF(E8663=\"\",F8662,E8663/MAX($E$9:E8663)-1)))","v":""}]
[null,null,null,null,null,{"$f":"IF(B8664=\"\",\"\",IF(C8664=\"\",F8663,IF(E8664=\"\",F8663,E8664/MAX($E$9:E8664)-1)))","v":""}]
[null,null,null,null,null,{"$f":"IF(B8665=\"\",\"\",IF(C8665=\"\",F8664,IF(E8665=\"\",F8664,E8665/MAX($E$9:E8665)-1)))","v":""}]
[null,null,null,null,null,{"$f":"IF(B8666=\"\",\"\",IF(C8666=\"\",F8665,IF(E8666=\"\",F8665,E8666/MAX($E$9:E8666)-1)))","v":""}]
[null,null,null,null,null,{"$f":"IF(B8667=\"\",\"\",IF(C8667=\"\",F8666,IF(E8667=\"\",F8666,E8667/MAX($E$9:E8667)-1)))","v":""}]
[null,null,null,null,null,{"$f":"IF(B8668=\"\",\"\",IF(C8668=\"\",F8667,IF(E8668=\"\",F8667,E8668/MAX($E$9:E8668)-1)))","v":""}]
[null,null,null,null,null,{"$f":"IF(B8669=\"\",\"\",IF(C8669=\"\",F8668,IF(E8669=\"\",F8668,E8669/MAX($E$9:E8669)-1)))","v":""}]
[null,null,null,null,null,{"$f":"IF(B8670=\"\",\"\",IF(C8670=\"\",F8669,IF(E8670=\"\",F8669,E8670/MAX($E$9:E8670)-1)))","v":""}]
[null,null,null,null,null,{"$f":"IF(B8671=\"\",\"\",IF(C8671=\"\",F8670,IF(E8671=\"\",F8670,E8671/MAX($E$9:E8671)-1)))","v":""}]
[null,null,null,null,null,{"$f":"IF(B8672=\"\",\"\",IF(C8672=\"\",F8671,IF(E8672=\"\",F8671,E8672/MAX($E$9:E8672)-1)))","v":""}]
[null,null,null,null,null,{"$f":"IF(B8673=\"\",\"\",IF(C8673=\"\",F8672,IF(E8673=\"\",F8672,E8673/MAX($E$9:E8673)-1)))","v":""}]
[null,null,null,null,null,{"$f":"IF(B8674=\"\",\"\",IF(C8674=\"\",F8673,IF(E8674=\"\",F8673,E8674/MAX($E$9:E8674)-1)))","v":""}]
[null,null,null,null,null,{"$f":"IF(B8675=\"\",\"\",IF(C8675=\"\",F8674,IF(E8675=\"\",F8674,E8675/MAX($E$9:E8675)-1)))","v":""}]
[null,null,null,null,null,{"$f":"IF(B8676=\"\",\"\",IF(C8676=\"\",F8675,IF(E8676=\"\",F8675,E8676/MAX($E$9:E8676)-1)))","v":""}]
[null,null,null,null,null,{"$f":"IF(B8677=\"\",\"\",IF(C8677=\"\",F8676,IF(E8677=\"\",F8676,E8677/MAX($E$9:E8677)-1)))","v":""}]
[null,null,null,null,null,{"$f":"IF(B8678=\"\",\"\",IF(C8678=\"\",F8677,IF(E8678=\"\",F8677,E8678/MAX($E$9:E8678)-1)))","v":""}]
[null,null,null,null,null,{"$f":"IF(B8679=\"\",\"\",IF(C8679=\"\",F8678,IF(E8679=\"\",F8678,E8679/MAX($E$9:E8679)-1)))","v":""}]
[null,null,null,null,null,{"$f":"IF(B8680=\"\",\"\",IF(C8680=\"\",F8679,IF(E8680=\"\",F8679,E8680/MAX($E$9:E8680)-1)))","v":""}]
[null,null,null,null,null,{"$f":"IF(B8681=\"\",\"\",IF(C8681=\"\",F8680,IF(E8681=\"\",F8680,E8681/MAX($E$9:E8681)-1)))","v":""}]
[null,null,null,null,null,{"$f":"IF(B8682=\"\",\"\",IF(C8682=\"\",F8681,IF(E8682=\"\",F8681,E8682/MAX($E$9:E8682)-1)))","v":""}]
[null,null,null,null,null,{"$f":"IF(B8683=\"\",\"\",IF(C8683=\"\",F8682,IF(E8683=\"\",F8682,E8683/MAX($E$9:E8683)-1)))","v":""}]
[null,null,null,null,null,{"$f":"IF(B8684=\"\",\"\",IF(C8684=\"\",F8683,IF(E8684=\"\",F8683,E8684/MAX($E$9:E8684)-1)))","v":""}]
[null,null,null,null,null,{"$f":"IF(B8685=\"\",\"\",IF(C8685=\"\",F8684,IF(E8685=\"\",F8684,E8685/MAX($E$9:E8685)-1)))","v":""}]
[null,null,null,null,null,{"$f":"IF(B8686=\"\",\"\",IF(C8686=\"\",F8685,IF(E8686=\"\",F8685,E8686/MAX($E$9:E8686)-1)))","v":""}]
[null,null,null,null,null,{"$f":"IF(B8687=\"\",\"\",IF(C8687=\"\",F8686,IF(E8687=\"\",F8686,E8687/MAX($E$9:E8687)-1)))","v":""}]
[null,null,null,null,null,{"$f":"IF(B8688=\"\",\"\",IF(C8688=\"\",F8687,IF(E8688=\"\",F8687,E8688/MAX($E$9:E8688)-1)))","v":""}]
[null,null,null,null,null,{"$f":"IF(B8689=\"\",\"\",IF(C8689=\"\",F8688,IF(E8689=\"\",F8688,E8689/MAX($E$9:E8689)-1)))","v":""}]
[null,null,null,null,null,{"$f":"IF(B8690=\"\",\"\",IF(C8690=\"\",F8689,IF(E8690=\"\",F8689,E8690/MAX($E$9:E8690)-1)))","v":""}]
[null,null,null,null,null,{"$f":"IF(B8691=\"\",\"\",IF(C8691=\"\",F8690,IF(E8691=\"\",F8690,E8691/MAX($E$9:E8691)-1)))","v":""}]
[null,null,null,null,null,{"$f":"IF(B8692=\"\",\"\",IF(C8692=\"\",F8691,IF(E8692=\"\",F8691,E8692/MAX($E$9:E8692)-1)))","v":""}]
[null,null,null,null,null,{"$f":"IF(B8693=\"\",\"\",IF(C8693=\"\",F8692,IF(E8693=\"\",F8692,E8693/MAX($E$9:E8693)-1)))","v":""}]
[null,null,null,null,null,{"$f":"IF(B8694=\"\",\"\",IF(C8694=\"\",F8693,IF(E8694=\"\",F8693,E8694/MAX($E$9:E8694)-1)))","v":""}]
[null,null,null,null,null,{"$f":"IF(B8695=\"\",\"\",IF(C8695=\"\",F8694,IF(E8695=\"\",F8694,E8695/MAX($E$9:E8695)-1)))","v":""}]
[null,null,null,null,null,{"$f":"IF(B8696=\"\",\"\",IF(C8696=\"\",F8695,IF(E8696=\"\",F8695,E8696/MAX($E$9:E8696)-1)))","v":""}]
[null,null,null,null,null,{"$f":"IF(B8697=\"\",\"\",IF(C8697=\"\",F8696,IF(E8697=\"\",F8696,E8697/MAX($E$9:E8697)-1)))","v":""}]
[null,null,null,null,null,{"$f":"IF(B8698=\"\",\"\",IF(C8698=\"\",F8697,IF(E8698=\"\",F8697,E8698/MAX($E$9:E8698)-1)))","v":""}]
[null,null,null,null,null,{"$f":"IF(B8699=\"\",\"\",IF(C8699=\"\",F8698,IF(E8699=\"\",F8698,E8699/MAX($E$9:E8699)-1)))","v":""}]
[null,null,null,null,null,{"$f":"IF(B8700=\"\",\"\",IF(C8700=\"\",F8699,IF(E8700=\"\",F8699,E8700/MAX($E$9:E8700)-1)))","v":""}]
[null,null,null,null,null,{"$f":"IF(B8701=\"\",\"\",IF(C8701=\"\",F8700,IF(E8701=\"\",F8700,E8701/MAX($E$9:E8701)-1)))","v":""}]
[null,null,null,null,null,{"$f":"IF(B8702=\"\",\"\",IF(C8702=\"\",F8701,IF(E8702=\"\",F8701,E8702/MAX($E$9:E8702)-1)))","v":""}]
[null,null,null,null,null,{"$f":"IF(B8703=\"\",\"\",IF(C8703=\"\",F8702,IF(E8703=\"\",F8702,E8703/MAX($E$9:E8703)-1)))","v":""}]
[null,null,null,null,null,{"$f":"IF(B8704=\"\",\"\",IF(C8704=\"\",F8703,IF(E8704=\"\",F8703,E8704/MAX($E$9:E8704)-1)))","v":""}]
[null,null,null,null,null,{"$f":"IF(B8705=\"\",\"\",IF(C8705=\"\",F8704,IF(E8705=\"\",F8704,E8705/MAX($E$9:E8705)-1)))","v":""}]
[null,null,null,null,null,{"$f":"IF(B8706=\"\",\"\",IF(C8706=\"\",F8705,IF(E8706=\"\",F8705,E8706/MAX($E$9:E8706)-1)))","v":""}]
[null,null,null,null,null,{"$f":"IF(B8707=\"\",\"\",IF(C8707=\"\",F8706,IF(E8707=\"\",F8706,E8707/MAX($E$9:E8707)-1)))","v":""}]
[null,null,null,null,null,{"$f":"IF(B8708=\"\",\"\",IF(C8708=\"\",F8707,IF(E8708=\"\",F8707,E8708/MAX($E$9:E8708)-1)))","v":""}]
[null,null,null,null,null,{"$f":"IF(B8709=\"\",\"\",IF(C8709=\"\",F8708,IF(E8709=\"\",F8708,E8709/MAX($E$9:E8709)-1)))","v":""}]
[null,null,null,null,null,{"$f":"IF(B8710=\"\",\"\",IF(C8710=\"\",F8709,IF(E8710=\"\",F8709,E8710/MAX($E$9:E8710)-1)))","v":""}]
[null,null,null,null,null,{"$f":"IF(B8711=\"\",\"\",IF(C8711=\"\",F8710,IF(E8711=\"\",F8710,E8711/MAX($E$9:E8711)-1)))","v":""}]
[null,null,null,null,null,{"$f":"IF(B8712=\"\",\"\",IF(C8712=\"\",F8711,IF(E8712=\"\",F8711,E8712/MAX($E$9:E8712)-1)))","v":""}]
[null,null,null,null,null,{"$f":"IF(B8713=\"\",\"\",IF(C8713=\"\",F8712,IF(E8713=\"\",F8712,E8713/MAX($E$9:E8713)-1)))","v":""}]
[null,null,null,null,null,{"$f":"IF(B8714=\"\",\"\",IF(C8714=\"\",F8713,IF(E8714=\"\",F8713,E8714/MAX($E$9:E8714)-1)))","v":""}]
[null,null,null,null,null,{"$f":"IF(B8715=\"\",\"\",IF(C8715=\"\",F8714,IF(E8715=\"\",F8714,E8715/MAX($E$9:E8715)-1)))","v":""}]
[null,null,null,null,null,{"$f":"IF(B8716=\"\",\"\",IF(C8716=\"\",F8715,IF(E8716=\"\",F8715,E8716/MAX($E$9:E8716)-1)))","v":""}]
[null,null,null,null,null,{"$f":"IF(B8717=\"\",\"\",IF(C8717=\"\",F8716,IF(E8717=\"\",F8716,E8717/MAX($E$9:E8717)-1)))","v":""}]
[null,null,null,null,null,{"$f":"IF(B8718=\"\",\"\",IF(C8718=\"\",F8717,IF(E8718=\"\",F8717,E8718/MAX($E$9:E8718)-1)))","v":""}]
[null,null,null,null,null,{"$f":"IF(B8719=\"\",\"\",IF(C8719=\"\",F8718,IF(E8719=\"\",F8718,E8719/MAX($E$9:E8719)-1)))","v":""}]
[null,null,null,null,null,{"$f":"IF(B8720=\"\",\"\",IF(C8720=\"\",F8719,IF(E8720=\"\",F8719,E8720/MAX($E$9:E8720)-1)))","v":""}]
[null,null,null,null,null,{"$f":"IF(B8721=\"\",\"\",IF(C8721=\"\",F8720,IF(E8721=\"\",F8720,E8721/MAX($E$9:E8721)-1)))","v":""}]
[null,null,null,null,null,{"$f":"IF(B8722=\"\",\"\",IF(C8722=\"\",F8721,IF(E8722=\"\",F8721,E8722/MAX($E$9:E8722)-1)))","v":""}]
[null,null,null,null,null,{"$f":"IF(B8723=\"\",\"\",IF(C8723=\"\",F8722,IF(E8723=\"\",F8722,E8723/MAX($E$9:E8723)-1)))","v":""}]
[null,null,null,null,null,{"$f":"IF(B8724=\"\",\"\",IF(C8724=\"\",F8723,IF(E8724=\"\",F8723,E8724/MAX($E$9:E8724)-1)))","v":""}]
[null,null,null,null,null,{"$f":"IF(B8725=\"\",\"\",IF(C8725=\"\",F8724,IF(E8725=\"\",F8724,E8725/MAX($E$9:E8725)-1)))","v":""}]
[null,null,null,null,null,{"$f":"IF(B8726=\"\",\"\",IF(C8726=\"\",F8725,IF(E8726=\"\",F8725,E8726/MAX($E$9:E8726)-1)))","v":""}]
[null,null,null,null,null,{"$f":"IF(B8727=\"\",\"\",IF(C8727=\"\",F8726,IF(E8727=\"\",F8726,E8727/MAX($E$9:E8727)-1)))","v":""}]
[null,null,null,null,null,{"$f":"IF(B8728=\"\",\"\",IF(C8728=\"\",F8727,IF(E8728=\"\",F8727,E8728/MAX($E$9:E8728)-1)))","v":""}]
[null,null,null,null,null,{"$f":"IF(B8729=\"\",\"\",IF(C8729=\"\",F8728,IF(E8729=\"\",F8728,E8729/MAX($E$9:E8729)-1)))","v":""}]
[null,null,null,null,null,{"$f":"IF(B8730=\"\",\"\",IF(C8730=\"\",F8729,IF(E8730=\"\",F8729,E8730/MAX($E$9:E8730)-1)))","v":""}]
[null,null,null,null,null,{"$f":"IF(B8731=\"\",\"\",IF(C8731=\"\",F8730,IF(E8731=\"\",F8730,E8731/MAX($E$9:E8731)-1)))","v":""}]
[null,null,null,null,null,{"$f":"IF(B8732=\"\",\"\",IF(C8732=\"\",F8731,IF(E8732=\"\",F8731,E8732/MAX($E$9:E8732)-1)))","v":""}]
[null,null,null,null,null,{"$f":"IF(B8733=\"\",\"\",IF(C8733=\"\",F8732,IF(E8733=\"\",F8732,E8733/MAX($E$9:E8733)-1)))","v":""}]
[null,null,null,null,null,{"$f":"IF(B8734=\"\",\"\",IF(C8734=\"\",F8733,IF(E8734=\"\",F8733,E8734/MAX($E$9:E8734)-1)))","v":""}]
[null,null,null,null,null,{"$f":"IF(B8735=\"\",\"\",IF(C8735=\"\",F8734,IF(E8735=\"\",F8734,E8735/MAX($E$9:E8735)-1)))","v":""}]
[null,null,null,null,null,{"$f":"IF(B8736=\"\",\"\",IF(C8736=\"\",F8735,IF(E8736=\"\",F8735,E8736/MAX($E$9:E8736)-1)))","v":""}]
[null,null,null,null,null,{"$f":"IF(B8737=\"\",\"\",IF(C8737=\"\",F8736,IF(E8737=\"\",F8736,E8737/MAX($E$9:E8737)-1)))","v":""}]
[null,null,null,null,null,{"$f":"IF(B8738=\"\",\"\",IF(C8738=\"\",F8737,IF(E8738=\"\",F8737,E8738/MAX($E$9:E8738)-1)))","v":""}]
[null,null,null,null,null,{"$f":"IF(B8739=\"\",\"\",IF(C8739=\"\",F8738,IF(E8739=\"\",F8738,E8739/MAX($E$9:E8739)-1)))","v":""}]
[null,null,null,null,null,{"$f":"IF(B8740=\"\",\"\",IF(C8740=\"\",F8739,IF(E8740=\"\",F8739,E8740/MAX($E$9:E8740)-1)))","v":""}]
[null,null,null,null,null,{"$f":"IF(B8741=\"\",\"\",IF(C8741=\"\",F8740,IF(E8741=\"\",F8740,E8741/MAX($E$9:E8741)-1)))","v":""}]
[null,null,null,null,null,{"$f":"IF(B8742=\"\",\"\",IF(C8742=\"\",F8741,IF(E8742=\"\",F8741,E8742/MAX($E$9:E8742)-1)))","v":""}]
[null,null,null,null,null,{"$f":"IF(B8743=\"\",\"\",IF(C8743=\"\",F8742,IF(E8743=\"\",F8742,E8743/MAX($E$9:E8743)-1)))","v":""}]
[null,null,null,null,null,{"$f":"IF(B8744=\"\",\"\",IF(C8744=\"\",F8743,IF(E8744=\"\",F8743,E8744/MAX($E$9:E8744)-1)))","v":""}]
[null,null,null,null,null,{"$f":"IF(B8745=\"\",\"\",IF(C8745=\"\",F8744,IF(E8745=\"\",F8744,E8745/MAX($E$9:E8745)-1)))","v":""}]
[null,null,null,null,null,{"$f":"IF(B8746=\"\",\"\",IF(C8746=\"\",F8745,IF(E8746=\"\",F8745,E8746/MAX($E$9:E8746)-1)))","v":""}]
[null,null,null,null,null,{"$f":"IF(B8747=\"\",\"\",IF(C8747=\"\",F8746,IF(E8747=\"\",F8746,E8747/MAX($E$9:E8747)-1)))","v":""}]
[null,null,null,null,null,{"$f":"IF(B8748=\"\",\"\",IF(C8748=\"\",F8747,IF(E8748=\"\",F8747,E8748/MAX($E$9:E8748)-1)))","v":""}]
[null,null,null,null,null,{"$f":"IF(B8749=\"\",\"\",IF(C8749=\"\",F8748,IF(E8749=\"\",F8748,E8749/MAX($E$9:E8749)-1)))","v":""}]
[null,null,null,null,null,{"$f":"IF(B8750=\"\",\"\",IF(C8750=\"\",F8749,IF(E8750=\"\",F8749,E8750/MAX($E$9:E8750)-1)))","v":""}]
[null,null,null,null,null,{"$f":"IF(B8751=\"\",\"\",IF(C8751=\"\",F8750,IF(E8751=\"\",F8750,E8751/MAX($E$9:E8751)-1)))","v":""}]
[null,null,null,null,null,{"$f":"IF(B8752=\"\",\"\",IF(C8752=\"\",F8751,IF(E8752=\"\",F8751,E8752/MAX($E$9:E8752)-1)))","v":""}]
[null,null,null,null,null,{"$f":"IF(B8753=\"\",\"\",IF(C8753=\"\",F8752,IF(E8753=\"\",F8752,E8753/MAX($E$9:E8753)-1)))","v":""}]
[null,null,null,null,null,{"$f":"IF(B8754=\"\",\"\",IF(C8754=\"\",F8753,IF(E8754=\"\",F8753,E8754/MAX($E$9:E8754)-1)))","v":""}]
[null,null,null,null,null,{"$f":"IF(B8755=\"\",\"\",IF(C8755=\"\",F8754,IF(E8755=\"\",F8754,E8755/MAX($E$9:E8755)-1)))","v":""}]
[null,null,null,null,null,{"$f":"IF(B8756=\"\",\"\",IF(C8756=\"\",F8755,IF(E8756=\"\",F8755,E8756/MAX($E$9:E8756)-1)))","v":""}]
[null,null,null,null,null,{"$f":"IF(B8757=\"\",\"\",IF(C8757=\"\",F8756,IF(E8757=\"\",F8756,E8757/MAX($E$9:E8757)-1)))","v":""}]
[null,null,null,null,null,{"$f":"IF(B8758=\"\",\"\",IF(C8758=\"\",F8757,IF(E8758=\"\",F8757,E8758/MAX($E$9:E8758)-1)))","v":""}]
[null,null,null,null,null,{"$f":"IF(B8759=\"\",\"\",IF(C8759=\"\",F8758,IF(E8759=\"\",F8758,E8759/MAX($E$9:E8759)-1)))","v":""}]
[null,null,null,null,null,{"$f":"IF(B8760=\"\",\"\",IF(C8760=\"\",F8759,IF(E8760=\"\",F8759,E8760/MAX($E$9:E8760)-1)))","v":""}]
[null,null,null,null,null,{"$f":"IF(B8761=\"\",\"\",IF(C8761=\"\",F8760,IF(E8761=\"\",F8760,E8761/MAX($E$9:E8761)-1)))","v":""}]
[null,null,null,null,null,{"$f":"IF(B8762=\"\",\"\",IF(C8762=\"\",F8761,IF(E8762=\"\",F8761,E8762/MAX($E$9:E8762)-1)))","v":""}]
[null,null,null,null,null,{"$f":"IF(B8763=\"\",\"\",IF(C8763=\"\",F8762,IF(E8763=\"\",F8762,E8763/MAX($E$9:E8763)-1)))","v":""}]
[null,null,null,null,null,{"$f":"IF(B8764=\"\",\"\",IF(C8764=\"\",F8763,IF(E8764=\"\",F8763,E8764/MAX($E$9:E8764)-1)))","v":""}]
[null,null,null,null,null,{"$f":"IF(B8765=\"\",\"\",IF(C8765=\"\",F8764,IF(E8765=\"\",F8764,E8765/MAX($E$9:E8765)-1)))","v":""}]
[null,null,null,null,null,{"$f":"IF(B8766=\"\",\"\",IF(C8766=\"\",F8765,IF(E8766=\"\",F8765,E8766/MAX($E$9:E8766)-1)))","v":""}]
[null,null,null,null,null,{"$f":"IF(B8767=\"\",\"\",IF(C8767=\"\",F8766,IF(E8767=\"\",F8766,E8767/MAX($E$9:E8767)-1)))","v":""}]
[null,null,null,null,null,{"$f":"IF(B8768=\"\",\"\",IF(C8768=\"\",F8767,IF(E8768=\"\",F8767,E8768/MAX($E$9:E8768)-1)))","v":""}]
[null,null,null,null,null,{"$f":"IF(B8769=\"\",\"\",IF(C8769=\"\",F8768,IF(E8769=\"\",F8768,E8769/MAX($E$9:E8769)-1)))","v":""}]
[null,null,null,null,null,{"$f":"IF(B8770=\"\",\"\",IF(C8770=\"\",F8769,IF(E8770=\"\",F8769,E8770/MAX($E$9:E8770)-1)))","v":""}]
[null,null,null,null,null,{"$f":"IF(B8771=\"\",\"\",IF(C8771=\"\",F8770,IF(E8771=\"\",F8770,E8771/MAX($E$9:E8771)-1)))","v":""}]
[null,null,null,null,null,{"$f":"IF(B8772=\"\",\"\",IF(C8772=\"\",F8771,IF(E8772=\"\",F8771,E8772/MAX($E$9:E8772)-1)))","v":""}]
[null,null,null,null,null,{"$f":"IF(B8773=\"\",\"\",IF(C8773=\"\",F8772,IF(E8773=\"\",F8772,E8773/MAX($E$9:E8773)-1)))","v":""}]
[null,null,null,null,null,{"$f":"IF(B8774=\"\",\"\",IF(C8774=\"\",F8773,IF(E8774=\"\",F8773,E8774/MAX($E$9:E8774)-1)))","v":""}]
[null,null,null,null,null,{"$f":"IF(B8775=\"\",\"\",IF(C8775=\"\",F8774,IF(E8775=\"\",F8774,E8775/MAX($E$9:E8775)-1)))","v":""}]
[null,null,null,null,null,{"$f":"IF(B8776=\"\",\"\",IF(C8776=\"\",F8775,IF(E8776=\"\",F8775,E8776/MAX($E$9:E8776)-1)))","v":""}]
[null,null,null,null,null,{"$f":"IF(B8777=\"\",\"\",IF(C8777=\"\",F8776,IF(E8777=\"\",F8776,E8777/MAX($E$9:E8777)-1)))","v":""}]
[null,null,null,null,null,{"$f":"IF(B8778=\"\",\"\",IF(C8778=\"\",F8777,IF(E8778=\"\",F8777,E8778/MAX($E$9:E8778)-1)))","v":""}]
[null,null,null,null,null,{"$f":"IF(B8779=\"\",\"\",IF(C8779=\"\",F8778,IF(E8779=\"\",F8778,E8779/MAX($E$9:E8779)-1)))","v":""}]
[null,null,null,null,null,{"$f":"IF(B8780=\"\",\"\",IF(C8780=\"\",F8779,IF(E8780=\"\",F8779,E8780/MAX($E$9:E8780)-1)))","v":""}]
[null,null,null,null,null,{"$f":"IF(B8781=\"\",\"\",IF(C8781=\"\",F8780,IF(E8781=\"\",F8780,E8781/MAX($E$9:E8781)-1)))","v":""}]
[null,null,null,null,null,{"$f":"IF(B8782=\"\",\"\",IF(C8782=\"\",F8781,IF(E8782=\"\",F8781,E8782/MAX($E$9:E8782)-1)))","v":""}]
[null,null,null,null,null,{"$f":"IF(B8783=\"\",\"\",IF(C8783=\"\",F8782,IF(E8783=\"\",F8782,E8783/MAX($E$9:E8783)-1)))","v":""}]
[null,null,null,null,null,{"$f":"IF(B8784=\"\",\"\",IF(C8784=\"\",F8783,IF(E8784=\"\",F8783,E8784/MAX($E$9:E8784)-1)))","v":""}]
[null,null,null,null,null,{"$f":"IF(B8785=\"\",\"\",IF(C8785=\"\",F8784,IF(E8785=\"\",F8784,E8785/MAX($E$9:E8785)-1)))","v":""}]
[null,null,null,null,null,{"$f":"IF(B8786=\"\",\"\",IF(C8786=\"\",F8785,IF(E8786=\"\",F8785,E8786/MAX($E$9:E8786)-1)))","v":""}]
[null,null,null,null,null,{"$f":"IF(B8787=\"\",\"\",IF(C8787=\"\",F8786,IF(E8787=\"\",F8786,E8787/MAX($E$9:E8787)-1)))","v":""}]
[null,null,null,null,null,{"$f":"IF(B8788=\"\",\"\",IF(C8788=\"\",F8787,IF(E8788=\"\",F8787,E8788/MAX($E$9:E8788)-1)))","v":""}]
[null,null,null,null,null,{"$f":"IF(B8789=\"\",\"\",IF(C8789=\"\",F8788,IF(E8789=\"\",F8788,E8789/MAX($E$9:E8789)-1)))","v":""}]
[null,null,null,null,null,{"$f":"IF(B8790=\"\",\"\",IF(C8790=\"\",F8789,IF(E8790=\"\",F8789,E8790/MAX($E$9:E8790)-1)))","v":""}]
[null,null,null,null,null,{"$f":"IF(B8791=\"\",\"\",IF(C8791=\"\",F8790,IF(E8791=\"\",F8790,E8791/MAX($E$9:E8791)-1)))","v":""}]
[null,null,null,null,null,{"$f":"IF(B8792=\"\",\"\",IF(C8792=\"\",F8791,IF(E8792=\"\",F8791,E8792/MAX($E$9:E8792)-1)))","v":""}]
[null,null,null,null,null,{"$f":"IF(B8793=\"\",\"\",IF(C8793=\"\",F8792,IF(E8793=\"\",F8792,E8793/MAX($E$9:E8793)-1)))","v":""}]
[null,null,null,null,null,{"$f":"IF(B8794=\"\",\"\",IF(C8794=\"\",F8793,IF(E8794=\"\",F8793,E8794/MAX($E$9:E8794)-1)))","v":""}]
[null,null,null,null,null,{"$f":"IF(B8795=\"\",\"\",IF(C8795=\"\",F8794,IF(E8795=\"\",F8794,E8795/MAX($E$9:E8795)-1)))","v":""}]
[null,null,null,null,null,{"$f":"IF(B8796=\"\",\"\",IF(C8796=\"\",F8795,IF(E8796=\"\",F8795,E8796/MAX($E$9:E8796)-1)))","v":""}]
[null,null,null,null,null,{"$f":"IF(B8797=\"\",\"\",IF(C8797=\"\",F8796,IF(E8797=\"\",F8796,E8797/MAX($E$9:E8797)-1)))","v":""}]
[null,null,null,null,null,{"$f":"IF(B8798=\"\",\"\",IF(C8798=\"\",F8797,IF(E8798=\"\",F8797,E8798/MAX($E$9:E8798)-1)))","v":""}]
[null,null,null,null,null,{"$f":"IF(B8799=\"\",\"\",IF(C8799=\"\",F8798,IF(E8799=\"\",F8798,E8799/MAX($E$9:E8799)-1)))","v":""}]
[null,null,null,null,null,{"$f":"IF(B8800=\"\",\"\",IF(C8800=\"\",F8799,IF(E8800=\"\",F8799,E8800/MAX($E$9:E8800)-1)))","v":""}]
[null,null,null,null,null,{"$f":"IF(B8801=\"\",\"\",IF(C8801=\"\",F8800,IF(E8801=\"\",F8800,E8801/MAX($E$9:E8801)-1)))","v":""}]
[null,null,null,null,null,{"$f":"IF(B8802=\"\",\"\",IF(C8802=\"\",F8801,IF(E8802=\"\",F8801,E8802/MAX($E$9:E8802)-1)))","v":""}]
[null,null,null,null,null,{"$f":"IF(B8803=\"\",\"\",IF(C8803=\"\",F8802,IF(E8803=\"\",F8802,E8803/MAX($E$9:E8803)-1)))","v":""}]
[null,null,null,null,null,{"$f":"IF(B8804=\"\",\"\",IF(C8804=\"\",F8803,IF(E8804=\"\",F8803,E8804/MAX($E$9:E8804)-1)))","v":""}]
[null,null,null,null,null,{"$f":"IF(B8805=\"\",\"\",IF(C8805=\"\",F8804,IF(E8805=\"\",F8804,E8805/MAX($E$9:E8805)-1)))","v":""}]
[null,null,null,null,null,{"$f":"IF(B8806=\"\",\"\",IF(C8806=\"\",F8805,IF(E8806=\"\",F8805,E8806/MAX($E$9:E8806)-1)))","v":""}]
[null,null,null,null,null,{"$f":"IF(B8807=\"\",\"\",IF(C8807=\"\",F8806,IF(E8807=\"\",F8806,E8807/MAX($E$9:E8807)-1)))","v":""}]
[null,null,null,null,null,{"$f":"IF(B8808=\"\",\"\",IF(C8808=\"\",F8807,IF(E8808=\"\",F8807,E8808/MAX($E$9:E8808)-1)))","v":""}]
[null,null,null,null,null,{"$f":"IF(B8809=\"\",\"\",IF(C8809=\"\",F8808,IF(E8809=\"\",F8808,E8809/MAX($E$9:E8809)-1)))","v":""}]
[null,null,null,null,null,{"$f":"IF(B8810=\"\",\"\",IF(C8810=\"\",F8809,IF(E8810=\"\",F8809,E8810/MAX($E$9:E8810)-1)))","v":""}]
[null,null,null,null,null,{"$f":"IF(B8811=\"\",\"\",IF(C8811=\"\",F8810,IF(E8811=\"\",F8810,E8811/MAX($E$9:E8811)-1)))","v":""}]
[null,null,null,null,null,{"$f":"IF(B8812=\"\",\"\",IF(C8812=\"\",F8811,IF(E8812=\"\",F8811,E8812/MAX($E$9:E8812)-1)))","v":""}]
[null,null,null,null,null,{"$f":"IF(B8813=\"\",\"\",IF(C8813=\"\",F8812,IF(E8813=\"\",F8812,E8813/MAX($E$9:E8813)-1)))","v":""}]
[null,null,null,null,null,{"$f":"IF(B8814=\"\",\"\",IF(C8814=\"\",F8813,IF(E8814=\"\",F8813,E8814/MAX($E$9:E8814)-1)))","v":""}]
[null,null,null,null,null,{"$f":"IF(B8815=\"\",\"\",IF(C8815=\"\",F8814,IF(E8815=\"\",F8814,E8815/MAX($E$9:E8815)-1)))","v":""}]
[null,null,null,null,null,{"$f":"IF(B8816=\"\",\"\",IF(C8816=\"\",F8815,IF(E8816=\"\",F8815,E8816/MAX($E$9:E8816)-1)))","v":""}]
[null,null,null,null,null,{"$f":"IF(B8817=\"\",\"\",IF(C8817=\"\",F8816,IF(E8817=\"\",F8816,E8817/MAX($E$9:E8817)-1)))","v":""}]
[null,null,null,null,null,{"$f":"IF(B8818=\"\",\"\",IF(C8818=\"\",F8817,IF(E8818=\"\",F8817,E8818/MAX($E$9:E8818)-1)))","v":""}]
[null,null,null,null,null,{"$f":"IF(B8819=\"\",\"\",IF(C8819=\"\",F8818,IF(E8819=\"\",F8818,E8819/MAX($E$9:E8819)-1)))","v":""}]
[null,null,null,null,null,{"$f":"IF(B8820=\"\",\"\",IF(C8820=\"\",F8819,IF(E8820=\"\",F8819,E8820/MAX($E$9:E8820)-1)))","v":""}]
[null,null,null,null,null,{"$f":"IF(B8821=\"\",\"\",IF(C8821=\"\",F8820,IF(E8821=\"\",F8820,E8821/MAX($E$9:E8821)-1)))","v":""}]
[null,null,null,null,null,{"$f":"IF(B8822=\"\",\"\",IF(C8822=\"\",F8821,IF(E8822=\"\",F8821,E8822/MAX($E$9:E8822)-1)))","v":""}]
[null,null,null,null,null,{"$f":"IF(B8823=\"\",\"\",IF(C8823=\"\",F8822,IF(E8823=\"\",F8822,E8823/MAX($E$9:E8823)-1)))","v":""}]
[null,null,null,null,null,{"$f":"IF(B8824=\"\",\"\",IF(C8824=\"\",F8823,IF(E8824=\"\",F8823,E8824/MAX($E$9:E8824)-1)))","v":""}]
[null,null,null,null,null,{"$f":"IF(B8825=\"\",\"\",IF(C8825=\"\",F8824,IF(E8825=\"\",F8824,E8825/MAX($E$9:E8825)-1)))","v":""}]
[null,null,null,null,null,{"$f":"IF(B8826=\"\",\"\",IF(C8826=\"\",F8825,IF(E8826=\"\",F8825,E8826/MAX($E$9:E8826)-1)))","v":""}]
[null,null,null,null,null,{"$f":"IF(B8827=\"\",\"\",IF(C8827=\"\",F8826,IF(E8827=\"\",F8826,E8827/MAX($E$9:E8827)-1)))","v":""}]
[null,null,null,null,null,{"$f":"IF(B8828=\"\",\"\",IF(C8828=\"\",F8827,IF(E8828=\"\",F8827,E8828/MAX($E$9:E8828)-1)))","v":""}]
[null,null,null,null,null,{"$f":"IF(B8829=\"\",\"\",IF(C8829=\"\",F8828,IF(E8829=\"\",F8828,E8829/MAX($E$9:E8829)-1)))","v":""}]
[null,null,null,null,null,{"$f":"IF(B8830=\"\",\"\",IF(C8830=\"\",F8829,IF(E8830=\"\",F8829,E8830/MAX($E$9:E8830)-1)))","v":""}]
[null,null,null,null,null,{"$f":"IF(B8831=\"\",\"\",IF(C8831=\"\",F8830,IF(E8831=\"\",F8830,E8831/MAX($E$9:E8831)-1)))","v":""}]
[null,null,null,null,null,{"$f":"IF(B8832=\"\",\"\",IF(C8832=\"\",F8831,IF(E8832=\"\",F8831,E8832/MAX($E$9:E8832)-1)))","v":""}]
[null,null,null,null,null,{"$f":"IF(B8833=\"\",\"\",IF(C8833=\"\",F8832,IF(E8833=\"\",F8832,E8833/MAX($E$9:E8833)-1)))","v":""}]
[null,null,null,null,null,{"$f":"IF(B8834=\"\",\"\",IF(C8834=\"\",F8833,IF(E8834=\"\",F8833,E8834/MAX($E$9:E8834)-1)))","v":""}]
[null,null,null,null,null,{"$f":"IF(B8835=\"\",\"\",IF(C8835=\"\",F8834,IF(E8835=\"\",F8834,E8835/MAX($E$9:E8835)-1)))","v":""}]
[null,null,null,null,null,{"$f":"IF(B8836=\"\",\"\",IF(C8836=\"\",F8835,IF(E8836=\"\",F8835,E8836/MAX($E$9:E8836)-1)))","v":""}]
[null,null,null,null,null,{"$f":"IF(B8837=\"\",\"\",IF(C8837=\"\",F8836,IF(E8837=\"\",F8836,E8837/MAX($E$9:E8837)-1)))","v":""}]
[null,null,null,null,null,{"$f":"IF(B8838=\"\",\"\",IF(C8838=\"\",F8837,IF(E8838=\"\",F8837,E8838/MAX($E$9:E8838)-1)))","v":""}]
[null,null,null,null,null,{"$f":"IF(B8839=\"\",\"\",IF(C8839=\"\",F8838,IF(E8839=\"\",F8838,E8839/MAX($E$9:E8839)-1)))","v":""}]
[null,null,null,null,null,{"$f":"IF(B8840=\"\",\"\",IF(C8840=\"\",F8839,IF(E8840=\"\",F8839,E8840/MAX($E$9:E8840)-1)))","v":""}]
[null,null,null,null,null,{"$f":"IF(B8841=\"\",\"\",IF(C8841=\"\",F8840,IF(E8841=\"\",F8840,E8841/MAX($E$9:E8841)-1)))","v":""}]
[null,null,null,null,null,{"$f":"IF(B8842=\"\",\"\",IF(C8842=\"\",F8841,IF(E8842=\"\",F8841,E8842/MAX($E$9:E8842)-1)))","v":""}]
[null,null,null,null,null,{"$f":"IF(B8843=\"\",\"\",IF(C8843=\"\",F8842,IF(E8843=\"\",F8842,E8843/MAX($E$9:E8843)-1)))","v":""}]
[null,null,null,null,null,{"$f":"IF(B8844=\"\",\"\",IF(C8844=\"\",F8843,IF(E8844=\"\",F8843,E8844/MAX($E$9:E8844)-1)))","v":""}]
[null,null,null,null,null,{"$f":"IF(B8845=\"\",\"\",IF(C8845=\"\",F8844,IF(E8845=\"\",F8844,E8845/MAX($E$9:E8845)-1)))","v":""}]
[null,null,null,null,null,{"$f":"IF(B8846=\"\",\"\",IF(C8846=\"\",F8845,IF(E8846=\"\",F8845,E8846/MAX($E$9:E8846)-1)))","v":""}]
[null,null,null,null,null,{"$f":"IF(B8847=\"\",\"\",IF(C8847=\"\",F8846,IF(E8847=\"\",F8846,E8847/MAX($E$9:E8847)-1)))","v":""}]
[null,null,null,null,null,{"$f":"IF(B8848=\"\",\"\",IF(C8848=\"\",F8847,IF(E8848=\"\",F8847,E8848/MAX($E$9:E8848)-1)))","v":""}]
[null,null,null,null,null,{"$f":"IF(B8849=\"\",\"\",IF(C8849=\"\",F8848,IF(E8849=\"\",F8848,E8849/MAX($E$9:E8849)-1)))","v":""}]
[null,null,null,null,null,{"$f":"IF(B8850=\"\",\"\",IF(C8850=\"\",F8849,IF(E8850=\"\",F8849,E8850/MAX($E$9:E8850)-1)))","v":""}]
[null,null,null,null,null,{"$f":"IF(B8851=\"\",\"\",IF(C8851=\"\",F8850,IF(E8851=\"\",F8850,E8851/MAX($E$9:E8851)-1)))","v":""}]
[null,null,null,null,null,{"$f":"IF(B8852=\"\",\"\",IF(C8852=\"\",F8851,IF(E8852=\"\",F8851,E8852/MAX($E$9:E8852)-1)))","v":""}]
[null,null,null,null,null,{"$f":"IF(B8853=\"\",\"\",IF(C8853=\"\",F8852,IF(E8853=\"\",F8852,E8853/MAX($E$9:E8853)-1)))","v":""}]
[null,null,null,null,null,{"$f":"IF(B8854=\"\",\"\",IF(C8854=\"\",F8853,IF(E8854=\"\",F8853,E8854/MAX($E$9:E8854)-1)))","v":""}]
[null,null,null,null,null,{"$f":"IF(B8855=\"\",\"\",IF(C8855=\"\",F8854,IF(E8855=\"\",F8854,E8855/MAX($E$9:E8855)-1)))","v":""}]
[null,null,null,null,null,{"$f":"IF(B8856=\"\",\"\",IF(C8856=\"\",F8855,IF(E8856=\"\",F8855,E8856/MAX($E$9:E8856)-1)))","v":""}]
[null,null,null,null,null,{"$f":"IF(B8857=\"\",\"\",IF(C8857=\"\",F8856,IF(E8857=\"\",F8856,E8857/MAX($E$9:E8857)-1)))","v":""}]
[null,null,null,null,null,{"$f":"IF(B8858=\"\",\"\",IF(C8858=\"\",F8857,IF(E8858=\"\",F8857,E8858/MAX($E$9:E8858)-1)))","v":""}]
[null,null,null,null,null,{"$f":"IF(B8859=\"\",\"\",IF(C8859=\"\",F8858,IF(E8859=\"\",F8858,E8859/MAX($E$9:E8859)-1)))","v":""}]
[null,null,null,null,null,{"$f":"IF(B8860=\"\",\"\",IF(C8860=\"\",F8859,IF(E8860=\"\",F8859,E8860/MAX($E$9:E8860)-1)))","v":""}]
[null,null,null,null,null,{"$f":"IF(B8861=\"\",\"\",IF(C8861=\"\",F8860,IF(E8861=\"\",F8860,E8861/MAX($E$9:E8861)-1)))","v":""}]
[null,null,null,null,null,{"$f":"IF(B8862=\"\",\"\",IF(C8862=\"\",F8861,IF(E8862=\"\",F8861,E8862/MAX($E$9:E8862)-1)))","v":""}]
[null,null,null,null,null,{"$f":"IF(B8863=\"\",\"\",IF(C8863=\"\",F8862,IF(E8863=\"\",F8862,E8863/MAX($E$9:E8863)-1)))","v":""}]
[null,null,null,null,null,{"$f":"IF(B8864=\"\",\"\",IF(C8864=\"\",F8863,IF(E8864=\"\",F8863,E8864/MAX($E$9:E8864)-1)))","v":""}]
[null,null,null,null,null,{"$f":"IF(B8865=\"\",\"\",IF(C8865=\"\",F8864,IF(E8865=\"\",F8864,E8865/MAX($E$9:E8865)-1)))","v":""}]
[null,null,null,null,null,{"$f":"IF(B8866=\"\",\"\",IF(C8866=\"\",F8865,IF(E8866=\"\",F8865,E8866/MAX($E$9:E8866)-1)))","v":""}]
[null,null,null,null,null,{"$f":"IF(B8867=\"\",\"\",IF(C8867=\"\",F8866,IF(E8867=\"\",F8866,E8867/MAX($E$9:E8867)-1)))","v":""}]
[null,null,null,null,null,{"$f":"IF(B8868=\"\",\"\",IF(C8868=\"\",F8867,IF(E8868=\"\",F8867,E8868/MAX($E$9:E8868)-1)))","v":""}]
[null,null,null,null,null,{"$f":"IF(B8869=\"\",\"\",IF(C8869=\"\",F8868,IF(E8869=\"\",F8868,E8869/MAX($E$9:E8869)-1)))","v":""}]
[null,null,null,null,null,{"$f":"IF(B8870=\"\",\"\",IF(C8870=\"\",F8869,IF(E8870=\"\",F8869,E8870/MAX($E$9:E8870)-1)))","v":""}]
[null,null,null,null,null,{"$f":"IF(B8871=\"\",\"\",IF(C8871=\"\",F8870,IF(E8871=\"\",F8870,E8871/MAX($E$9:E8871)-1)))","v":""}]
[null,null,null,null,null,{"$f":"IF(B8872=\"\",\"\",IF(C8872=\"\",F8871,IF(E8872=\"\",F8871,E8872/MAX($E$9:E8872)-1)))","v":""}]
[null,null,null,null,null,{"$f":"IF(B8873=\"\",\"\",IF(C8873=\"\",F8872,IF(E8873=\"\",F8872,E8873/MAX($E$9:E8873)-1)))","v":""}]
[null,null,null,null,null,{"$f":"IF(B8874=\"\",\"\",IF(C8874=\"\",F8873,IF(E8874=\"\",F8873,E8874/MAX($E$9:E8874)-1)))","v":""}]
[null,null,null,null,null,{"$f":"IF(B8875=\"\",\"\",IF(C8875=\"\",F8874,IF(E8875=\"\",F8874,E8875/MAX($E$9:E8875)-1)))","v":""}]
[null,null,null,null,null,{"$f":"IF(B8876=\"\",\"\",IF(C8876=\"\",F8875,IF(E8876=\"\",F8875,E8876/MAX($E$9:E8876)-1)))","v":""}]
[null,null,null,null,null,{"$f":"IF(B8877=\"\",\"\",IF(C8877=\"\",F8876,IF(E8877=\"\",F8876,E8877/MAX($E$9:E8877)-1)))","v":""}]
[null,null,null,null,null,{"$f":"IF(B8878=\"\",\"\",IF(C8878=\"\",F8877,IF(E8878=\"\",F8877,E8878/MAX($E$9:E8878)-1)))","v":""}]
[null,null,null,null,null,{"$f":"IF(B8879=\"\",\"\",IF(C8879=\"\",F8878,IF(E8879=\"\",F8878,E8879/MAX($E$9:E8879)-1)))","v":""}]
[null,null,null,null,null,{"$f":"IF(B8880=\"\",\"\",IF(C8880=\"\",F8879,IF(E8880=\"\",F8879,E8880/MAX($E$9:E8880)-1)))","v":""}]
[null,null,null,null,null,{"$f":"IF(B8881=\"\",\"\",IF(C8881=\"\",F8880,IF(E8881=\"\",F8880,E8881/MAX($E$9:E8881)-1)))","v":""}]
[null,null,null,null,null,{"$f":"IF(B8882=\"\",\"\",IF(C8882=\"\",F8881,IF(E8882=\"\",F8881,E8882/MAX($E$9:E8882)-1)))","v":""}]
[null,null,null,null,null,{"$f":"IF(B8883=\"\",\"\",IF(C8883=\"\",F8882,IF(E8883=\"\",F8882,E8883/MAX($E$9:E8883)-1)))","v":""}]
[null,null,null,null,null,{"$f":"IF(B8884=\"\",\"\",IF(C8884=\"\",F8883,IF(E8884=\"\",F8883,E8884/MAX($E$9:E8884)-1)))","v":""}]
[null,null,null,null,null,{"$f":"IF(B8885=\"\",\"\",IF(C8885=\"\",F8884,IF(E8885=\"\",F8884,E8885/MAX($E$9:E8885)-1)))","v":""}]
[null,null,null,null,null,{"$f":"IF(B8886=\"\",\"\",IF(C8886=\"\",F8885,IF(E8886=\"\",F8885,E8886/MAX($E$9:E8886)-1)))","v":""}]
[null,null,null,null,null,{"$f":"IF(B8887=\"\",\"\",IF(C8887=\"\",F8886,IF(E8887=\"\",F8886,E8887/MAX($E$9:E8887)-1)))","v":""}]
[null,null,null,null,null,{"$f":"IF(B8888=\"\",\"\",IF(C8888=\"\",F8887,IF(E8888=\"\",F8887,E8888/MAX($E$9:E8888)-1)))","v":""}]
[null,null,null,null,null,{"$f":"IF(B8889=\"\",\"\",IF(C8889=\"\",F8888,IF(E8889=\"\",F8888,E8889/MAX($E$9:E8889)-1)))","v":""}]
[null,null,null,null,null,{"$f":"IF(B8890=\"\",\"\",IF(C8890=\"\",F8889,IF(E8890=\"\",F8889,E8890/MAX($E$9:E8890)-1)))","v":""}]
[null,null,null,null,null,{"$f":"IF(B8891=\"\",\"\",IF(C8891=\"\",F8890,IF(E8891=\"\",F8890,E8891/MAX($E$9:E8891)-1)))","v":""}]
[null,null,null,null,null,{"$f":"IF(B8892=\"\",\"\",IF(C8892=\"\",F8891,IF(E8892=\"\",F8891,E8892/MAX($E$9:E8892)-1)))","v":""}]
[null,null,null,null,null,{"$f":"IF(B8893=\"\",\"\",IF(C8893=\"\",F8892,IF(E8893=\"\",F8892,E8893/MAX($E$9:E8893)-1)))","v":""}]
[null,null,null,null,null,{"$f":"IF(B8894=\"\",\"\",IF(C8894=\"\",F8893,IF(E8894=\"\",F8893,E8894/MAX($E$9:E8894)-1)))","v":""}]
[null,null,null,null,null,{"$f":"IF(B8895=\"\",\"\",IF(C8895=\"\",F8894,IF(E8895=\"\",F8894,E8895/MAX($E$9:E8895)-1)))","v":""}]
[null,null,null,null,null,{"$f":"IF(B8896=\"\",\"\",IF(C8896=\"\",F8895,IF(E8896=\"\",F8895,E8896/MAX($E$9:E8896)-1)))","v":""}]
[null,null,null,null,null,{"$f":"IF(B8897=\"\",\"\",IF(C8897=\"\",F8896,IF(E8897=\"\",F8896,E8897/MAX($E$9:E8897)-1)))","v":""}]
[null,null,null,null,null,{"$f":"IF(B8898=\"\",\"\",IF(C8898=\"\",F8897,IF(E8898=\"\",F8897,E8898/MAX($E$9:E8898)-1)))","v":""}]
[null,null,null,null,null,{"$f":"IF(B8899=\"\",\"\",IF(C8899=\"\",F8898,IF(E8899=\"\",F8898,E8899/MAX($E$9:E8899)-1)))","v":""}]
[null,null,null,null,null,{"$f":"IF(B8900=\"\",\"\",IF(C8900=\"\",F8899,IF(E8900=\"\",F8899,E8900/MAX($E$9:E8900)-1)))","v":""}]
[null,null,null,null,null,{"$f":"IF(B8901=\"\",\"\",IF(C8901=\"\",F8900,IF(E8901=\"\",F8900,E8901/MAX($E$9:E8901)-1)))","v":""}]
[null,null,null,null,null,{"$f":"IF(B8902=\"\",\"\",IF(C8902=\"\",F8901,IF(E8902=\"\",F8901,E8902/MAX($E$9:E8902)-1)))","v":""}]
[null,null,null,null,null,{"$f":"IF(B8903=\"\",\"\",IF(C8903=\"\",F8902,IF(E8903=\"\",F8902,E8903/MAX($E$9:E8903)-1)))","v":""}]
[null,null,null,null,null,{"$f":"IF(B8904=\"\",\"\",IF(C8904=\"\",F8903,IF(E8904=\"\",F8903,E8904/MAX($E$9:E8904)-1)))","v":""}]
[null,null,null,null,null,{"$f":"IF(B8905=\"\",\"\",IF(C8905=\"\",F8904,IF(E8905=\"\",F8904,E8905/MAX($E$9:E8905)-1)))","v":""}]
[null,null,null,null,null,{"$f":"IF(B8906=\"\",\"\",IF(C8906=\"\",F8905,IF(E8906=\"\",F8905,E8906/MAX($E$9:E8906)-1)))","v":""}]
[null,null,null,null,null,{"$f":"IF(B8907=\"\",\"\",IF(C8907=\"\",F8906,IF(E8907=\"\",F8906,E8907/MAX($E$9:E8907)-1)))","v":""}]
[null,null,null,null,null,{"$f":"IF(B8908=\"\",\"\",IF(C8908=\"\",F8907,IF(E8908=\"\",F8907,E8908/MAX($E$9:E8908)-1)))","v":""}]
[null,null,null,null,null,{"$f":"IF(B8909=\"\",\"\",IF(C8909=\"\",F8908,IF(E8909=\"\",F8908,E8909/MAX($E$9:E8909)-1)))","v":""}]
[null,null,null,null,null,{"$f":"IF(B8910=\"\",\"\",IF(C8910=\"\",F8909,IF(E8910=\"\",F8909,E8910/MAX($E$9:E8910)-1)))","v":""}]
[null,null,null,null,null,{"$f":"IF(B8911=\"\",\"\",IF(C8911=\"\",F8910,IF(E8911=\"\",F8910,E8911/MAX($E$9:E8911)-1)))","v":""}]
[null,null,null,null,null,{"$f":"IF(B8912=\"\",\"\",IF(C8912=\"\",F8911,IF(E8912=\"\",F8911,E8912/MAX($E$9:E8912)-1)))","v":""}]
[null,null,null,null,null,{"$f":"IF(B8913=\"\",\"\",IF(C8913=\"\",F8912,IF(E8913=\"\",F8912,E8913/MAX($E$9:E8913)-1)))","v":""}]
[null,null,null,null,null,{"$f":"IF(B8914=\"\",\"\",IF(C8914=\"\",F8913,IF(E8914=\"\",F8913,E8914/MAX($E$9:E8914)-1)))","v":""}]
[null,null,null,null,null,{"$f":"IF(B8915=\"\",\"\",IF(C8915=\"\",F8914,IF(E8915=\"\",F8914,E8915/MAX($E$9:E8915)-1)))","v":""}]
[null,null,null,null,null,{"$f":"IF(B8916=\"\",\"\",IF(C8916=\"\",F8915,IF(E8916=\"\",F8915,E8916/MAX($E$9:E8916)-1)))","v":""}]
[null,null,null,null,null,{"$f":"IF(B8917=\"\",\"\",IF(C8917=\"\",F8916,IF(E8917=\"\",F8916,E8917/MAX($E$9:E8917)-1)))","v":""}]
[null,null,null,null,null,{"$f":"IF(B8918=\"\",\"\",IF(C8918=\"\",F8917,IF(E8918=\"\",F8917,E8918/MAX($E$9:E8918)-1)))","v":""}]
[null,null,null,null,null,{"$f":"IF(B8919=\"\",\"\",IF(C8919=\"\",F8918,IF(E8919=\"\",F8918,E8919/MAX($E$9:E8919)-1)))","v":""}]
[null,null,null,null,null,{"$f":"IF(B8920=\"\",\"\",IF(C8920=\"\",F8919,IF(E8920=\"\",F8919,E8920/MAX($E$9:E8920)-1)))","v":""}]
[null,null,null,null,null,{"$f":"IF(B8921=\"\",\"\",IF(C8921=\"\",F8920,IF(E8921=\"\",F8920,E8921/MAX($E$9:E8921)-1)))","v":""}]
[null,null,null,null,null,{"$f":"IF(B8922=\"\",\"\",IF(C8922=\"\",F8921,IF(E8922=\"\",F8921,E8922/MAX($E$9:E8922)-1)))","v":""}]
[null,null,null,null,null,{"$f":"IF(B8923=\"\",\"\",IF(C8923=\"\",F8922,IF(E8923=\"\",F8922,E8923/MAX($E$9:E8923)-1)))","v":""}]
[null,null,null,null,null,{"$f":"IF(B8924=\"\",\"\",IF(C8924=\"\",F8923,IF(E8924=\"\",F8923,E8924/MAX($E$9:E8924)-1)))","v":""}]
[null,null,null,null,null,{"$f":"IF(B8925=\"\",\"\",IF(C8925=\"\",F8924,IF(E8925=\"\",F8924,E8925/MAX($E$9:E8925)-1)))","v":""}]
[null,null,null,null,null,{"$f":"IF(B8926=\"\",\"\",IF(C8926=\"\",F8925,IF(E8926=\"\",F8925,E8926/MAX($E$9:E8926)-1)))","v":""}]
[null,null,null,null,null,{"$f":"IF(B8927=\"\",\"\",IF(C8927=\"\",F8926,IF(E8927=\"\",F8926,E8927/MAX($E$9:E8927)-1)))","v":""}]
[null,null,null,null,null,{"$f":"IF(B8928=\"\",\"\",IF(C8928=\"\",F8927,IF(E8928=\"\",F8927,E8928/MAX($E$9:E8928)-1)))","v":""}]
[null,null,null,null,null,{"$f":"IF(B8929=\"\",\"\",IF(C8929=\"\",F8928,IF(E8929=\"\",F8928,E8929/MAX($E$9:E8929)-1)))","v":""}]
[null,null,null,null,null,{"$f":"IF(B8930=\"\",\"\",IF(C8930=\"\",F8929,IF(E8930=\"\",F8929,E8930/MAX($E$9:E8930)-1)))","v":""}]
[null,null,null,null,null,{"$f":"IF(B8931=\"\",\"\",IF(C8931=\"\",F8930,IF(E8931=\"\",F8930,E8931/MAX($E$9:E8931)-1)))","v":""}]
[null,null,null,null,null,{"$f":"IF(B8932=\"\",\"\",IF(C8932=\"\",F8931,IF(E8932=\"\",F8931,E8932/MAX($E$9:E8932)-1)))","v":""}]
[null,null,null,null,null,{"$f":"IF(B8933=\"\",\"\",IF(C8933=\"\",F8932,IF(E8933=\"\",F8932,E8933/MAX($E$9:E8933)-1)))","v":""}]
[null,null,null,null,null,{"$f":"IF(B8934=\"\",\"\",IF(C8934=\"\",F8933,IF(E8934=\"\",F8933,E8934/MAX($E$9:E8934)-1)))","v":""}]
[null,null,null,null,null,{"$f":"IF(B8935=\"\",\"\",IF(C8935=\"\",F8934,IF(E8935=\"\",F8934,E8935/MAX($E$9:E8935)-1)))","v":""}]
[null,null,null,null,null,{"$f":"IF(B8936=\"\",\"\",IF(C8936=\"\",F8935,IF(E8936=\"\",F8935,E8936/MAX($E$9:E8936)-1)))","v":""}]
[null,null,null,null,null,{"$f":"IF(B8937=\"\",\"\",IF(C8937=\"\",F8936,IF(E8937=\"\",F8936,E8937/MAX($E$9:E8937)-1)))","v":""}]
[null,null,null,null,null,{"$f":"IF(B8938=\"\",\"\",IF(C8938=\"\",F8937,IF(E8938=\"\",F8937,E8938/MAX($E$9:E8938)-1)))","v":""}]
[null,null,null,null,null,{"$f":"IF(B8939=\"\",\"\",IF(C8939=\"\",F8938,IF(E8939=\"\",F8938,E8939/MAX($E$9:E8939)-1)))","v":""}]
[null,null,null,null,null,{"$f":"IF(B8940=\"\",\"\",IF(C8940=\"\",F8939,IF(E8940=\"\",F8939,E8940/MAX($E$9:E8940)-1)))","v":""}]
[null,null,null,null,null,{"$f":"IF(B8941=\"\",\"\",IF(C8941=\"\",F8940,IF(E8941=\"\",F8940,E8941/MAX($E$9:E8941)-1)))","v":""}]
[null,null,null,null,null,{"$f":"IF(B8942=\"\",\"\",IF(C8942=\"\",F8941,IF(E8942=\"\",F8941,E8942/MAX($E$9:E8942)-1)))","v":""}]
[null,null,null,null,null,{"$f":"IF(B8943=\"\",\"\",IF(C8943=\"\",F8942,IF(E8943=\"\",F8942,E8943/MAX($E$9:E8943)-1)))","v":""}]
[null,null,null,null,null,{"$f":"IF(B8944=\"\",\"\",IF(C8944=\"\",F8943,IF(E8944=\"\",F8943,E8944/MAX($E$9:E8944)-1)))","v":""}]
[null,null,null,null,null,{"$f":"IF(B8945=\"\",\"\",IF(C8945=\"\",F8944,IF(E8945=\"\",F8944,E8945/MAX($E$9:E8945)-1)))","v":""}]
[null,null,null,null,null,{"$f":"IF(B8946=\"\",\"\",IF(C8946=\"\",F8945,IF(E8946=\"\",F8945,E8946/MAX($E$9:E8946)-1)))","v":""}]
[null,null,null,null,null,{"$f":"IF(B8947=\"\",\"\",IF(C8947=\"\",F8946,IF(E8947=\"\",F8946,E8947/MAX($E$9:E8947)-1)))","v":""}]
[null,null,null,null,null,{"$f":"IF(B8948=\"\",\"\",IF(C8948=\"\",F8947,IF(E8948=\"\",F8947,E8948/MAX($E$9:E8948)-1)))","v":""}]
[null,null,null,null,null,{"$f":"IF(B8949=\"\",\"\",IF(C8949=\"\",F8948,IF(E8949=\"\",F8948,E8949/MAX($E$9:E8949)-1)))","v":""}]
[null,null,null,null,null,{"$f":"IF(B8950=\"\",\"\",IF(C8950=\"\",F8949,IF(E8950=\"\",F8949,E8950/MAX($E$9:E8950)-1)))","v":""}]
[null,null,null,null,null,{"$f":"IF(B8951=\"\",\"\",IF(C8951=\"\",F8950,IF(E8951=\"\",F8950,E8951/MAX($E$9:E8951)-1)))","v":""}]
[null,null,null,null,null,{"$f":"IF(B8952=\"\",\"\",IF(C8952=\"\",F8951,IF(E8952=\"\",F8951,E8952/MAX($E$9:E8952)-1)))","v":""}]
[null,null,null,null,null,{"$f":"IF(B8953=\"\",\"\",IF(C8953=\"\",F8952,IF(E8953=\"\",F8952,E8953/MAX($E$9:E8953)-1)))","v":""}]
[null,null,null,null,null,{"$f":"IF(B8954=\"\",\"\",IF(C8954=\"\",F8953,IF(E8954=\"\",F8953,E8954/MAX($E$9:E8954)-1)))","v":""}]
[null,null,null,null,null,{"$f":"IF(B8955=\"\",\"\",IF(C8955=\"\",F8954,IF(E8955=\"\",F8954,E8955/MAX($E$9:E8955)-1)))","v":""}]
[null,null,null,null,null,{"$f":"IF(B8956=\"\",\"\",IF(C8956=\"\",F8955,IF(E8956=\"\",F8955,E8956/MAX($E$9:E8956)-1)))","v":""}]
[null,null,null,null,null,{"$f":"IF(B8957=\"\",\"\",IF(C8957=\"\",F8956,IF(E8957=\"\",F8956,E8957/MAX($E$9:E8957)-1)))","v":""}]
[null,null,null,null,null,{"$f":"IF(B8958=\"\",\"\",IF(C8958=\"\",F8957,IF(E8958=\"\",F8957,E8958/MAX($E$9:E8958)-1)))","v":""}]
[null,null,null,null,null,{"$f":"IF(B8959=\"\",\"\",IF(C8959=\"\",F8958,IF(E8959=\"\",F8958,E8959/MAX($E$9:E8959)-1)))","v":""}]
[null,null,null,null,null,{"$f":"IF(B8960=\"\",\"\",IF(C8960=\"\",F8959,IF(E8960=\"\",F8959,E8960/MAX($E$9:E8960)-1)))","v":""}]
[null,null,null,null,null,{"$f":"IF(B8961=\"\",\"\",IF(C8961=\"\",F8960,IF(E8961=\"\",F8960,E8961/MAX($E$9:E8961)-1)))","v":""}]
[null,null,null,null,null,{"$f":"IF(B8962=\"\",\"\",IF(C8962=\"\",F8961,IF(E8962=\"\",F8961,E8962/MAX($E$9:E8962)-1)))","v":""}]
[null,null,null,null,null,{"$f":"IF(B8963=\"\",\"\",IF(C8963=\"\",F8962,IF(E8963=\"\",F8962,E8963/MAX($E$9:E8963)-1)))","v":""}]
[null,null,null,null,null,{"$f":"IF(B8964=\"\",\"\",IF(C8964=\"\",F8963,IF(E8964=\"\",F8963,E8964/MAX($E$9:E8964)-1)))","v":""}]
[null,null,null,null,null,{"$f":"IF(B8965=\"\",\"\",IF(C8965=\"\",F8964,IF(E8965=\"\",F8964,E8965/MAX($E$9:E8965)-1)))","v":""}]
[null,null,null,null,null,{"$f":"IF(B8966=\"\",\"\",IF(C8966=\"\",F8965,IF(E8966=\"\",F8965,E8966/MAX($E$9:E8966)-1)))","v":""}]
[null,null,null,null,null,{"$f":"IF(B8967=\"\",\"\",IF(C8967=\"\",F8966,IF(E8967=\"\",F8966,E8967/MAX($E$9:E8967)-1)))","v":""}]
[null,null,null,null,null,{"$f":"IF(B8968=\"\",\"\",IF(C8968=\"\",F8967,IF(E8968=\"\",F8967,E8968/MAX($E$9:E8968)-1)))","v":""}]
[null,null,null,null,null,{"$f":"IF(B8969=\"\",\"\",IF(C8969=\"\",F8968,IF(E8969=\"\",F8968,E8969/MAX($E$9:E8969)-1)))","v":""}]
[null,null,null,null,null,{"$f":"IF(B8970=\"\",\"\",IF(C8970=\"\",F8969,IF(E8970=\"\",F8969,E8970/MAX($E$9:E8970)-1)))","v":""}]
[null,null,null,null,null,{"$f":"IF(B8971=\"\",\"\",IF(C8971=\"\",F8970,IF(E8971=\"\",F8970,E8971/MAX($E$9:E8971)-1)))","v":""}]
[null,null,null,null,null,{"$f":"IF(B8972=\"\",\"\",IF(C8972=\"\",F8971,IF(E8972=\"\",F8971,E8972/MAX($E$9:E8972)-1)))","v":""}]
[null,null,null,null,null,{"$f":"IF(B8973=\"\",\"\",IF(C8973=\"\",F8972,IF(E8973=\"\",F8972,E8973/MAX($E$9:E8973)-1)))","v":""}]
[null,null,null,null,null,{"$f":"IF(B8974=\"\",\"\",IF(C8974=\"\",F8973,IF(E8974=\"\",F8973,E8974/MAX($E$9:E8974)-1)))","v":""}]
[null,null,null,null,null,{"$f":"IF(B8975=\"\",\"\",IF(C8975=\"\",F8974,IF(E8975=\"\",F8974,E8975/MAX($E$9:E8975)-1)))","v":""}]
[null,null,null,null,null,{"$f":"IF(B8976=\"\",\"\",IF(C8976=\"\",F8975,IF(E8976=\"\",F8975,E8976/MAX($E$9:E8976)-1)))","v":""}]
[null,null,null,null,null,{"$f":"IF(B8977=\"\",\"\",IF(C8977=\"\",F8976,IF(E8977=\"\",F8976,E8977/MAX($E$9:E8977)-1)))","v":""}]
[null,null,null,null,null,{"$f":"IF(B8978=\"\",\"\",IF(C8978=\"\",F8977,IF(E8978=\"\",F8977,E8978/MAX($E$9:E8978)-1)))","v":""}]
[null,null,null,null,null,{"$f":"IF(B8979=\"\",\"\",IF(C8979=\"\",F8978,IF(E8979=\"\",F8978,E8979/MAX($E$9:E8979)-1)))","v":""}]
[null,null,null,null,null,{"$f":"IF(B8980=\"\",\"\",IF(C8980=\"\",F8979,IF(E8980=\"\",F8979,E8980/MAX($E$9:E8980)-1)))","v":""}]
[null,null,null,null,null,{"$f":"IF(B8981=\"\",\"\",IF(C8981=\"\",F8980,IF(E8981=\"\",F8980,E8981/MAX($E$9:E8981)-1)))","v":""}]
[null,null,null,null,null,{"$f":"IF(B8982=\"\",\"\",IF(C8982=\"\",F8981,IF(E8982=\"\",F8981,E8982/MAX($E$9:E8982)-1)))","v":""}]
[null,null,null,null,null,{"$f":"IF(B8983=\"\",\"\",IF(C8983=\"\",F8982,IF(E8983=\"\",F8982,E8983/MAX($E$9:E8983)-1)))","v":""}]
[null,null,null,null,null,{"$f":"IF(B8984=\"\",\"\",IF(C8984=\"\",F8983,IF(E8984=\"\",F8983,E8984/MAX($E$9:E8984)-1)))","v":""}]
[null,null,null,null,null,{"$f":"IF(B8985=\"\",\"\",IF(C8985=\"\",F8984,IF(E8985=\"\",F8984,E8985/MAX($E$9:E8985)-1)))","v":""}]
[null,null,null,null,null,{"$f":"IF(B8986=\"\",\"\",IF(C8986=\"\",F8985,IF(E8986=\"\",F8985,E8986/MAX($E$9:E8986)-1)))","v":""}]
[null,null,null,null,null,{"$f":"IF(B8987=\"\",\"\",IF(C8987=\"\",F8986,IF(E8987=\"\",F8986,E8987/MAX($E$9:E8987)-1)))","v":""}]
[null,null,null,null,null,{"$f":"IF(B8988=\"\",\"\",IF(C8988=\"\",F8987,IF(E8988=\"\",F8987,E8988/MAX($E$9:E8988)-1)))","v":""}]
[null,null,null,null,null,{"$f":"IF(B8989=\"\",\"\",IF(C8989=\"\",F8988,IF(E8989=\"\",F8988,E8989/MAX($E$9:E8989)-1)))","v":""}]
[null,null,null,null,null,{"$f":"IF(B8990=\"\",\"\",IF(C8990=\"\",F8989,IF(E8990=\"\",F8989,E8990/MAX($E$9:E8990)-1)))","v":""}]
[null,null,null,null,null,{"$f":"IF(B8991=\"\",\"\",IF(C8991=\"\",F8990,IF(E8991=\"\",F8990,E8991/MAX($E$9:E8991)-1)))","v":""}]
[null,null,null,null,null,{"$f":"IF(B8992=\"\",\"\",IF(C8992=\"\",F8991,IF(E8992=\"\",F8991,E8992/MAX($E$9:E8992)-1)))","v":""}]
[null,null,null,null,null,{"$f":"IF(B8993=\"\",\"\",IF(C8993=\"\",F8992,IF(E8993=\"\",F8992,E8993/MAX($E$9:E8993)-1)))","v":""}]
[null,null,null,null,null,{"$f":"IF(B8994=\"\",\"\",IF(C8994=\"\",F8993,IF(E8994=\"\",F8993,E8994/MAX($E$9:E8994)-1)))","v":""}]
[null,null,null,null,null,{"$f":"IF(B8995=\"\",\"\",IF(C8995=\"\",F8994,IF(E8995=\"\",F8994,E8995/MAX($E$9:E8995)-1)))","v":""}]
[null,null,null,null,null,{"$f":"IF(B8996=\"\",\"\",IF(C8996=\"\",F8995,IF(E8996=\"\",F8995,E8996/MAX($E$9:E8996)-1)))","v":""}]
[null,null,null,null,null,{"$f":"IF(B8997=\"\",\"\",IF(C8997=\"\",F8996,IF(E8997=\"\",F8996,E8997/MAX($E$9:E8997)-1)))","v":""}]
[null,null,null,null,null,{"$f":"IF(B8998=\"\",\"\",IF(C8998=\"\",F8997,IF(E8998=\"\",F8997,E8998/MAX($E$9:E8998)-1)))","v":""}]
[null,null,null,null,null,{"$f":"IF(B8999=\"\",\"\",IF(C8999=\"\",F8998,IF(E8999=\"\",F8998,E8999/MAX($E$9:E8999)-1)))","v":""}]
[null,null,null,null,null,{"$f":"IF(B9000=\"\",\"\",IF(C9000=\"\",F8999,IF(E9000=\"\",F8999,E9000/MAX($E$9:E9000)-1)))","v":""}]
[null,null,null,null,null,{"$f":"IF(B9001=\"\",\"\",IF(C9001=\"\",F9000,IF(E9001=\"\",F9000,E9001/MAX($E$9:E9001)-1)))","v":""}]
[null,null,null,null,null,{"$f":"IF(B9002=\"\",\"\",IF(C9002=\"\",F9001,IF(E9002=\"\",F9001,E9002/MAX($E$9:E9002)-1)))","v":""}]
[null,null,null,null,null,{"$f":"IF(B9003=\"\",\"\",IF(C9003=\"\",F9002,IF(E9003=\"\",F9002,E9003/MAX($E$9:E9003)-1)))","v":""}]
[null,null,null,null,null,{"$f":"IF(B9004=\"\",\"\",IF(C9004=\"\",F9003,IF(E9004=\"\",F9003,E9004/MAX($E$9:E9004)-1)))","v":""}]
[null,null,null,null,null,{"$f":"IF(B9005=\"\",\"\",IF(C9005=\"\",F9004,IF(E9005=\"\",F9004,E9005/MAX($E$9:E9005)-1)))","v":""}]
[null,null,null,null,null,{"$f":"IF(B9006=\"\",\"\",IF(C9006=\"\",F9005,IF(E9006=\"\",F9005,E9006/MAX($E$9:E9006)-1)))","v":""}]
[null,null,null,null,null,{"$f":"IF(B9007=\"\",\"\",IF(C9007=\"\",F9006,IF(E9007=\"\",F9006,E9007/MAX($E$9:E9007)-1)))","v":""}]
[null,null,null,null,null,{"$f":"IF(B9008=\"\",\"\",IF(C9008=\"\",F9007,IF(E9008=\"\",F9007,E9008/MAX($E$9:E9008)-1)))","v":""}]
[null,null,null,null,null,{"$f":"IF(B9009=\"\",\"\",IF(C9009=\"\",F9008,IF(E9009=\"\",F9008,E9009/MAX($E$9:E9009)-1)))","v":""}]
[null,null,null,null,null,{"$f":"IF(B9010=\"\",\"\",IF(C9010=\"\",F9009,IF(E9010=\"\",F9009,E9010/MAX($E$9:E9010)-1)))","v":""}]
[null,null,null,null,null,{"$f":"IF(B9011=\"\",\"\",IF(C9011=\"\",F9010,IF(E9011=\"\",F9010,E9011/MAX($E$9:E9011)-1)))","v":""}]
[null,null,null,null,null,{"$f":"IF(B9012=\"\",\"\",IF(C9012=\"\",F9011,IF(E9012=\"\",F9011,E9012/MAX($E$9:E9012)-1)))","v":""}]
[null,null,null,null,null,{"$f":"IF(B9013=\"\",\"\",IF(C9013=\"\",F9012,IF(E9013=\"\",F9012,E9013/MAX($E$9:E9013)-1)))","v":""}]
[null,null,null,null,null,{"$f":"IF(B9014=\"\",\"\",IF(C9014=\"\",F9013,IF(E9014=\"\",F9013,E9014/MAX($E$9:E9014)-1)))","v":""}]
[null,null,null,null,null,{"$f":"IF(B9015=\"\",\"\",IF(C9015=\"\",F9014,IF(E9015=\"\",F9014,E9015/MAX($E$9:E9015)-1)))","v":""}]
[null,null,null,null,null,{"$f":"IF(B9016=\"\",\"\",IF(C9016=\"\",F9015,IF(E9016=\"\",F9015,E9016/MAX($E$9:E9016)-1)))","v":""}]
[null,null,null,null,null,{"$f":"IF(B9017=\"\",\"\",IF(C9017=\"\",F9016,IF(E9017=\"\",F9016,E9017/MAX($E$9:E9017)-1)))","v":""}]
[null,null,null,null,null,{"$f":"IF(B9018=\"\",\"\",IF(C9018=\"\",F9017,IF(E9018=\"\",F9017,E9018/MAX($E$9:E9018)-1)))","v":""}]
[null,null,null,null,null,{"$f":"IF(B9019=\"\",\"\",IF(C9019=\"\",F9018,IF(E9019=\"\",F9018,E9019/MAX($E$9:E9019)-1)))","v":""}]
[null,null,null,null,null,{"$f":"IF(B9020=\"\",\"\",IF(C9020=\"\",F9019,IF(E9020=\"\",F9019,E9020/MAX($E$9:E9020)-1)))","v":""}]
[null,null,null,null,null,{"$f":"IF(B9021=\"\",\"\",IF(C9021=\"\",F9020,IF(E9021=\"\",F9020,E9021/MAX($E$9:E9021)-1)))","v":""}]
[null,null,null,null,null,{"$f":"IF(B9022=\"\",\"\",IF(C9022=\"\",F9021,IF(E9022=\"\",F9021,E9022/MAX($E$9:E9022)-1)))","v":""}]
[null,null,null,null,null,{"$f":"IF(B9023=\"\",\"\",IF(C9023=\"\",F9022,IF(E9023=\"\",F9022,E9023/MAX($E$9:E9023)-1)))","v":""}]
[null,null,null,null,null,{"$f":"IF(B9024=\"\",\"\",IF(C9024=\"\",F9023,IF(E9024=\"\",F9023,E9024/MAX($E$9:E9024)-1)))","v":""}]
[null,null,null,null,null,{"$f":"IF(B9025=\"\",\"\",IF(C9025=\"\",F9024,IF(E9025=\"\",F9024,E9025/MAX($E$9:E9025)-1)))","v":""}]
[null,null,null,null,null,{"$f":"IF(B9026=\"\",\"\",IF(C9026=\"\",F9025,IF(E9026=\"\",F9025,E9026/MAX($E$9:E9026)-1)))","v":""}]
[null,null,null,null,null,{"$f":"IF(B9027=\"\",\"\",IF(C9027=\"\",F9026,IF(E9027=\"\",F9026,E9027/MAX($E$9:E9027)-1)))","v":""}]
[null,null,null,null,null,{"$f":"IF(B9028=\"\",\"\",IF(C9028=\"\",F9027,IF(E9028=\"\",F9027,E9028/MAX($E$9:E9028)-1)))","v":""}]
[null,null,null,null,null,{"$f":"IF(B9029=\"\",\"\",IF(C9029=\"\",F9028,IF(E9029=\"\",F9028,E9029/MAX($E$9:E9029)-1)))","v":""}]
[null,null,null,null,null,{"$f":"IF(B9030=\"\",\"\",IF(C9030=\"\",F9029,IF(E9030=\"\",F9029,E9030/MAX($E$9:E9030)-1)))","v":""}]
[null,null,null,null,null,{"$f":"IF(B9031=\"\",\"\",IF(C9031=\"\",F9030,IF(E9031=\"\",F9030,E9031/MAX($E$9:E9031)-1)))","v":""}]
[null,null,null,null,null,{"$f":"IF(B9032=\"\",\"\",IF(C9032=\"\",F9031,IF(E9032=\"\",F9031,E9032/MAX($E$9:E9032)-1)))","v":""}]
[null,null,null,null,null,{"$f":"IF(B9033=\"\",\"\",IF(C9033=\"\",F9032,IF(E9033=\"\",F9032,E9033/MAX($E$9:E9033)-1)))","v":""}]
[null,null,null,null,null,{"$f":"IF(B9034=\"\",\"\",IF(C9034=\"\",F9033,IF(E9034=\"\",F9033,E9034/MAX($E$9:E9034)-1)))","v":""}]
[null,null,null,null,null,{"$f":"IF(B9035=\"\",\"\",IF(C9035=\"\",F9034,IF(E9035=\"\",F9034,E9035/MAX($E$9:E9035)-1)))","v":""}]
[null,null,null,null,null,{"$f":"IF(B9036=\"\",\"\",IF(C9036=\"\",F9035,IF(E9036=\"\",F9035,E9036/MAX($E$9:E9036)-1)))","v":""}]
[null,null,null,null,null,{"$f":"IF(B9037=\"\",\"\",IF(C9037=\"\",F9036,IF(E9037=\"\",F9036,E9037/MAX($E$9:E9037)-1)))","v":""}]
[null,null,null,null,null,{"$f":"IF(B9038=\"\",\"\",IF(C9038=\"\",F9037,IF(E9038=\"\",F9037,E9038/MAX($E$9:E9038)-1)))","v":""}]
[null,null,null,null,null,{"$f":"IF(B9039=\"\",\"\",IF(C9039=\"\",F9038,IF(E9039=\"\",F9038,E9039/MAX($E$9:E9039)-1)))","v":""}]
[null,null,null,null,null,{"$f":"IF(B9040=\"\",\"\",IF(C9040=\"\",F9039,IF(E9040=\"\",F9039,E9040/MAX($E$9:E9040)-1)))","v":""}]
[null,null,null,null,null,{"$f":"IF(B9041=\"\",\"\",IF(C9041=\"\",F9040,IF(E9041=\"\",F9040,E9041/MAX($E$9:E9041)-1)))","v":""}]
[null,null,null,null,null,{"$f":"IF(B9042=\"\",\"\",IF(C9042=\"\",F9041,IF(E9042=\"\",F9041,E9042/MAX($E$9:E9042)-1)))","v":""}]
[null,null,null,null,null,{"$f":"IF(B9043=\"\",\"\",IF(C9043=\"\",F9042,IF(E9043=\"\",F9042,E9043/MAX($E$9:E9043)-1)))","v":""}]
[null,null,null,null,null,{"$f":"IF(B9044=\"\",\"\",IF(C9044=\"\",F9043,IF(E9044=\"\",F9043,E9044/MAX($E$9:E9044)-1)))","v":""}]
[null,null,null,null,null,{"$f":"IF(B9045=\"\",\"\",IF(C9045=\"\",F9044,IF(E9045=\"\",F9044,E9045/MAX($E$9:E9045)-1)))","v":""}]
[null,null,null,null,null,{"$f":"IF(B9046=\"\",\"\",IF(C9046=\"\",F9045,IF(E9046=\"\",F9045,E9046/MAX($E$9:E9046)-1)))","v":""}]
[null,null,null,null,null,{"$f":"IF(B9047=\"\",\"\",IF(C9047=\"\",F9046,IF(E9047=\"\",F9046,E9047/MAX($E$9:E9047)-1)))","v":""}]
[null,null,null,null,null,{"$f":"IF(B9048=\"\",\"\",IF(C9048=\"\",F9047,IF(E9048=\"\",F9047,E9048/MAX($E$9:E9048)-1)))","v":""}]
[null,null,null,null,null,{"$f":"IF(B9049=\"\",\"\",IF(C9049=\"\",F9048,IF(E9049=\"\",F9048,E9049/MAX($E$9:E9049)-1)))","v":""}]
[null,null,null,null,null,{"$f":"IF(B9050=\"\",\"\",IF(C9050=\"\",F9049,IF(E9050=\"\",F9049,E9050/MAX($E$9:E9050)-1)))","v":""}]
[null,null,null,null,null,{"$f":"IF(B9051=\"\",\"\",IF(C9051=\"\",F9050,IF(E9051=\"\",F9050,E9051/MAX($E$9:E9051)-1)))","v":""}]
[null,null,null,null,null,{"$f":"IF(B9052=\"\",\"\",IF(C9052=\"\",F9051,IF(E9052=\"\",F9051,E9052/MAX($E$9:E9052)-1)))","v":""}]
[null,null,null,null,null,{"$f":"IF(B9053=\"\",\"\",IF(C9053=\"\",F9052,IF(E9053=\"\",F9052,E9053/MAX($E$9:E9053)-1)))","v":""}]
[null,null,null,null,null,{"$f":"IF(B9054=\"\",\"\",IF(C9054=\"\",F9053,IF(E9054=\"\",F9053,E9054/MAX($E$9:E9054)-1)))","v":""}]
[null,null,null,null,null,{"$f":"IF(B9055=\"\",\"\",IF(C9055=\"\",F9054,IF(E9055=\"\",F9054,E9055/MAX($E$9:E9055)-1)))","v":""}]
[null,null,null,null,null,{"$f":"IF(B9056=\"\",\"\",IF(C9056=\"\",F9055,IF(E9056=\"\",F9055,E9056/MAX($E$9:E9056)-1)))","v":""}]
[null,null,null,null,null,{"$f":"IF(B9057=\"\",\"\",IF(C9057=\"\",F9056,IF(E9057=\"\",F9056,E9057/MAX($E$9:E9057)-1)))","v":""}]
[null,null,null,null,null,{"$f":"IF(B9058=\"\",\"\",IF(C9058=\"\",F9057,IF(E9058=\"\",F9057,E9058/MAX($E$9:E9058)-1)))","v":""}]
[null,null,null,null,null,{"$f":"IF(B9059=\"\",\"\",IF(C9059=\"\",F9058,IF(E9059=\"\",F9058,E9059/MAX($E$9:E9059)-1)))","v":""}]
[null,null,null,null,null,{"$f":"IF(B9060=\"\",\"\",IF(C9060=\"\",F9059,IF(E9060=\"\",F9059,E9060/MAX($E$9:E9060)-1)))","v":""}]
[null,null,null,null,null,{"$f":"IF(B9061=\"\",\"\",IF(C9061=\"\",F9060,IF(E9061=\"\",F9060,E9061/MAX($E$9:E9061)-1)))","v":""}]
[null,null,null,null,null,{"$f":"IF(B9062=\"\",\"\",IF(C9062=\"\",F9061,IF(E9062=\"\",F9061,E9062/MAX($E$9:E9062)-1)))","v":""}]
[null,null,null,null,null,{"$f":"IF(B9063=\"\",\"\",IF(C9063=\"\",F9062,IF(E9063=\"\",F9062,E9063/MAX($E$9:E9063)-1)))","v":""}]
[null,null,null,null,null,{"$f":"IF(B9064=\"\",\"\",IF(C9064=\"\",F9063,IF(E9064=\"\",F9063,E9064/MAX($E$9:E9064)-1)))","v":""}]
[null,null,null,null,null,{"$f":"IF(B9065=\"\",\"\",IF(C9065=\"\",F9064,IF(E9065=\"\",F9064,E9065/MAX($E$9:E9065)-1)))","v":""}]
[null,null,null,null,null,{"$f":"IF(B9066=\"\",\"\",IF(C9066=\"\",F9065,IF(E9066=\"\",F9065,E9066/MAX($E$9:E9066)-1)))","v":""}]
[null,null,null,null,null,{"$f":"IF(B9067=\"\",\"\",IF(C9067=\"\",F9066,IF(E9067=\"\",F9066,E9067/MAX($E$9:E9067)-1)))","v":""}]
[null,null,null,null,null,{"$f":"IF(B9068=\"\",\"\",IF(C9068=\"\",F9067,IF(E9068=\"\",F9067,E9068/MAX($E$9:E9068)-1)))","v":""}]
[null,null,null,null,null,{"$f":"IF(B9069=\"\",\"\",IF(C9069=\"\",F9068,IF(E9069=\"\",F9068,E9069/MAX($E$9:E9069)-1)))","v":""}]
[null,null,null,null,null,{"$f":"IF(B9070=\"\",\"\",IF(C9070=\"\",F9069,IF(E9070=\"\",F9069,E9070/MAX($E$9:E9070)-1)))","v":""}]
[null,null,null,null,null,{"$f":"IF(B9071=\"\",\"\",IF(C9071=\"\",F9070,IF(E9071=\"\",F9070,E9071/MAX($E$9:E9071)-1)))","v":""}]
[null,null,null,null,null,{"$f":"IF(B9072=\"\",\"\",IF(C9072=\"\",F9071,IF(E9072=\"\",F9071,E9072/MAX($E$9:E9072)-1)))","v":""}]
[null,null,null,null,null,{"$f":"IF(B9073=\"\",\"\",IF(C9073=\"\",F9072,IF(E9073=\"\",F9072,E9073/MAX($E$9:E9073)-1)))","v":""}]
[null,null,null,null,null,{"$f":"IF(B9074=\"\",\"\",IF(C9074=\"\",F9073,IF(E9074=\"\",F9073,E9074/MAX($E$9:E9074)-1)))","v":""}]
[null,null,null,null,null,{"$f":"IF(B9075=\"\",\"\",IF(C9075=\"\",F9074,IF(E9075=\"\",F9074,E9075/MAX($E$9:E9075)-1)))","v":""}]
[null,null,null,null,null,{"$f":"IF(B9076=\"\",\"\",IF(C9076=\"\",F9075,IF(E9076=\"\",F9075,E9076/MAX($E$9:E9076)-1)))","v":""}]
[null,null,null,null,null,{"$f":"IF(B9077=\"\",\"\",IF(C9077=\"\",F9076,IF(E9077=\"\",F9076,E9077/MAX($E$9:E9077)-1)))","v":""}]
[null,null,null,null,null,{"$f":"IF(B9078=\"\",\"\",IF(C9078=\"\",F9077,IF(E9078=\"\",F9077,E9078/MAX($E$9:E9078)-1)))","v":""}]
[null,null,null,null,null,{"$f":"IF(B9079=\"\",\"\",IF(C9079=\"\",F9078,IF(E9079=\"\",F9078,E9079/MAX($E$9:E9079)-1)))","v":""}]
[null,null,null,null,null,{"$f":"IF(B9080=\"\",\"\",IF(C9080=\"\",F9079,IF(E9080=\"\",F9079,E9080/MAX($E$9:E9080)-1)))","v":""}]
[null,null,null,null,null,{"$f":"IF(B9081=\"\",\"\",IF(C9081=\"\",F9080,IF(E9081=\"\",F9080,E9081/MAX($E$9:E9081)-1)))","v":""}]
[null,null,null,null,null,{"$f":"IF(B9082=\"\",\"\",IF(C9082=\"\",F9081,IF(E9082=\"\",F9081,E9082/MAX($E$9:E9082)-1)))","v":""}]
[null,null,null,null,null,{"$f":"IF(B9083=\"\",\"\",IF(C9083=\"\",F9082,IF(E9083=\"\",F9082,E9083/MAX($E$9:E9083)-1)))","v":""}]
[null,null,null,null,null,{"$f":"IF(B9084=\"\",\"\",IF(C9084=\"\",F9083,IF(E9084=\"\",F9083,E9084/MAX($E$9:E9084)-1)))","v":""}]
[null,null,null,null,null,{"$f":"IF(B9085=\"\",\"\",IF(C9085=\"\",F9084,IF(E9085=\"\",F9084,E9085/MAX($E$9:E9085)-1)))","v":""}]
[null,null,null,null,null,{"$f":"IF(B9086=\"\",\"\",IF(C9086=\"\",F9085,IF(E9086=\"\",F9085,E9086/MAX($E$9:E9086)-1)))","v":""}]
[null,null,null,null,null,{"$f":"IF(B9087=\"\",\"\",IF(C9087=\"\",F9086,IF(E9087=\"\",F9086,E9087/MAX($E$9:E9087)-1)))","v":""}]
[null,null,null,null,null,{"$f":"IF(B9088=\"\",\"\",IF(C9088=\"\",F9087,IF(E9088=\"\",F9087,E9088/MAX($E$9:E9088)-1)))","v":""}]
[null,null,null,null,null,{"$f":"IF(B9089=\"\",\"\",IF(C9089=\"\",F9088,IF(E9089=\"\",F9088,E9089/MAX($E$9:E9089)-1)))","v":""}]
[null,null,null,null,null,{"$f":"IF(B9090=\"\",\"\",IF(C9090=\"\",F9089,IF(E9090=\"\",F9089,E9090/MAX($E$9:E9090)-1)))","v":""}]
[null,null,null,null,null,{"$f":"IF(B9091=\"\",\"\",IF(C9091=\"\",F9090,IF(E9091=\"\",F9090,E9091/MAX($E$9:E9091)-1)))","v":""}]
[null,null,null,null,null,{"$f":"IF(B9092=\"\",\"\",IF(C9092=\"\",F9091,IF(E9092=\"\",F9091,E9092/MAX($E$9:E9092)-1)))","v":""}]
[null,null,null,null,null,{"$f":"IF(B9093=\"\",\"\",IF(C9093=\"\",F9092,IF(E9093=\"\",F9092,E9093/MAX($E$9:E9093)-1)))","v":""}]
[null,null,null,null,null,{"$f":"IF(B9094=\"\",\"\",IF(C9094=\"\",F9093,IF(E9094=\"\",F9093,E9094/MAX($E$9:E9094)-1)))","v":""}]
[null,null,null,null,null,{"$f":"IF(B9095=\"\",\"\",IF(C9095=\"\",F9094,IF(E9095=\"\",F9094,E9095/MAX($E$9:E9095)-1)))","v":""}]
[null,null,null,null,null,{"$f":"IF(B9096=\"\",\"\",IF(C9096=\"\",F9095,IF(E9096=\"\",F9095,E9096/MAX($E$9:E9096)-1)))","v":""}]
[null,null,null,null,null,{"$f":"IF(B9097=\"\",\"\",IF(C9097=\"\",F9096,IF(E9097=\"\",F9096,E9097/MAX($E$9:E9097)-1)))","v":""}]
[null,null,null,null,null,{"$f":"IF(B9098=\"\",\"\",IF(C9098=\"\",F9097,IF(E9098=\"\",F9097,E9098/MAX($E$9:E9098)-1)))","v":""}]
[null,null,null,null,null,{"$f":"IF(B9099=\"\",\"\",IF(C9099=\"\",F9098,IF(E9099=\"\",F9098,E9099/MAX($E$9:E9099)-1)))","v":""}]
[null,null,null,null,null,{"$f":"IF(B9100=\"\",\"\",IF(C9100=\"\",F9099,IF(E9100=\"\",F9099,E9100/MAX($E$9:E9100)-1)))","v":""}]
[null,null,null,null,null,{"$f":"IF(B9101=\"\",\"\",IF(C9101=\"\",F9100,IF(E9101=\"\",F9100,E9101/MAX($E$9:E9101)-1)))","v":""}]
[null,null,null,null,null,{"$f":"IF(B9102=\"\",\"\",IF(C9102=\"\",F9101,IF(E9102=\"\",F9101,E9102/MAX($E$9:E9102)-1)))","v":""}]
[null,null,null,null,null,{"$f":"IF(B9103=\"\",\"\",IF(C9103=\"\",F9102,IF(E9103=\"\",F9102,E9103/MAX($E$9:E9103)-1)))","v":""}]
[null,null,null,null,null,{"$f":"IF(B9104=\"\",\"\",IF(C9104=\"\",F9103,IF(E9104=\"\",F9103,E9104/MAX($E$9:E9104)-1)))","v":""}]
[null,null,null,null,null,{"$f":"IF(B9105=\"\",\"\",IF(C9105=\"\",F9104,IF(E9105=\"\",F9104,E9105/MAX($E$9:E9105)-1)))","v":""}]
[null,null,null,null,null,{"$f":"IF(B9106=\"\",\"\",IF(C9106=\"\",F9105,IF(E9106=\"\",F9105,E9106/MAX($E$9:E9106)-1)))","v":""}]
[null,null,null,null,null,{"$f":"IF(B9107=\"\",\"\",IF(C9107=\"\",F9106,IF(E9107=\"\",F9106,E9107/MAX($E$9:E9107)-1)))","v":""}]
[null,null,null,null,null,{"$f":"IF(B9108=\"\",\"\",IF(C9108=\"\",F9107,IF(E9108=\"\",F9107,E9108/MAX($E$9:E9108)-1)))","v":""}]
[null,null,null,null,null,{"$f":"IF(B9109=\"\",\"\",IF(C9109=\"\",F9108,IF(E9109=\"\",F9108,E9109/MAX($E$9:E9109)-1)))","v":""}]
[null,null,null,null,null,{"$f":"IF(B9110=\"\",\"\",IF(C9110=\"\",F9109,IF(E9110=\"\",F9109,E9110/MAX($E$9:E9110)-1)))","v":""}]
[null,null,null,null,null,{"$f":"IF(B9111=\"\",\"\",IF(C9111=\"\",F9110,IF(E9111=\"\",F9110,E9111/MAX($E$9:E9111)-1)))","v":""}]
[null,null,null,null,null,{"$f":"IF(B9112=\"\",\"\",IF(C9112=\"\",F9111,IF(E9112=\"\",F9111,E9112/MAX($E$9:E9112)-1)))","v":""}]
[null,null,null,null,null,{"$f":"IF(B9113=\"\",\"\",IF(C9113=\"\",F9112,IF(E9113=\"\",F9112,E9113/MAX($E$9:E9113)-1)))","v":""}]
[null,null,null,null,null,{"$f":"IF(B9114=\"\",\"\",IF(C9114=\"\",F9113,IF(E9114=\"\",F9113,E9114/MAX($E$9:E9114)-1)))","v":""}]
[null,null,null,null,null,{"$f":"IF(B9115=\"\",\"\",IF(C9115=\"\",F9114,IF(E9115=\"\",F9114,E9115/MAX($E$9:E9115)-1)))","v":""}]
[null,null,null,null,null,{"$f":"IF(B9116=\"\",\"\",IF(C9116=\"\",F9115,IF(E9116=\"\",F9115,E9116/MAX($E$9:E9116)-1)))","v":""}]
[null,null,null,null,null,{"$f":"IF(B9117=\"\",\"\",IF(C9117=\"\",F9116,IF(E9117=\"\",F9116,E9117/MAX($E$9:E9117)-1)))","v":""}]
[null,null,null,null,null,{"$f":"IF(B9118=\"\",\"\",IF(C9118=\"\",F9117,IF(E9118=\"\",F9117,E9118/MAX($E$9:E9118)-1)))","v":""}]
[null,null,null,null,null,{"$f":"IF(B9119=\"\",\"\",IF(C9119=\"\",F9118,IF(E9119=\"\",F9118,E9119/MAX($E$9:E9119)-1)))","v":""}]
[null,null,null,null,null,{"$f":"IF(B9120=\"\",\"\",IF(C9120=\"\",F9119,IF(E9120=\"\",F9119,E9120/MAX($E$9:E9120)-1)))","v":""}]
[null,null,null,null,null,{"$f":"IF(B9121=\"\",\"\",IF(C9121=\"\",F9120,IF(E9121=\"\",F9120,E9121/MAX($E$9:E9121)-1)))","v":""}]
[null,null,null,null,null,{"$f":"IF(B9122=\"\",\"\",IF(C9122=\"\",F9121,IF(E9122=\"\",F9121,E9122/MAX($E$9:E9122)-1)))","v":""}]
[null,null,null,null,null,{"$f":"IF(B9123=\"\",\"\",IF(C9123=\"\",F9122,IF(E9123=\"\",F9122,E9123/MAX($E$9:E9123)-1)))","v":""}]
[null,null,null,null,null,{"$f":"IF(B9124=\"\",\"\",IF(C9124=\"\",F9123,IF(E9124=\"\",F9123,E9124/MAX($E$9:E9124)-1)))","v":""}]
[null,null,null,null,null,{"$f":"IF(B9125=\"\",\"\",IF(C9125=\"\",F9124,IF(E9125=\"\",F9124,E9125/MAX($E$9:E9125)-1)))","v":""}]
[null,null,null,null,null,{"$f":"IF(B9126=\"\",\"\",IF(C9126=\"\",F9125,IF(E9126=\"\",F9125,E9126/MAX($E$9:E9126)-1)))","v":""}]
[null,null,null,null,null,{"$f":"IF(B9127=\"\",\"\",IF(C9127=\"\",F9126,IF(E9127=\"\",F9126,E9127/MAX($E$9:E9127)-1)))","v":""}]
[null,null,null,null,null,{"$f":"IF(B9128=\"\",\"\",IF(C9128=\"\",F9127,IF(E9128=\"\",F9127,E9128/MAX($E$9:E9128)-1)))","v":""}]
[null,null,null,null,null,{"$f":"IF(B9129=\"\",\"\",IF(C9129=\"\",F9128,IF(E9129=\"\",F9128,E9129/MAX($E$9:E9129)-1)))","v":""}]
[null,null,null,null,null,{"$f":"IF(B9130=\"\",\"\",IF(C9130=\"\",F9129,IF(E9130=\"\",F9129,E9130/MAX($E$9:E9130)-1)))","v":""}]
[null,null,null,null,null,{"$f":"IF(B9131=\"\",\"\",IF(C9131=\"\",F9130,IF(E9131=\"\",F9130,E9131/MAX($E$9:E9131)-1)))","v":""}]
[null,null,null,null,null,{"$f":"IF(B9132=\"\",\"\",IF(C9132=\"\",F9131,IF(E9132=\"\",F9131,E9132/MAX($E$9:E9132)-1)))","v":""}]
[null,null,null,null,null,{"$f":"IF(B9133=\"\",\"\",IF(C9133=\"\",F9132,IF(E9133=\"\",F9132,E9133/MAX($E$9:E9133)-1)))","v":""}]
[null,null,null,null,null,{"$f":"IF(B9134=\"\",\"\",IF(C9134=\"\",F9133,IF(E9134=\"\",F9133,E9134/MAX($E$9:E9134)-1)))","v":""}]
[null,null,null,null,null,{"$f":"IF(B9135=\"\",\"\",IF(C9135=\"\",F9134,IF(E9135=\"\",F9134,E9135/MAX($E$9:E9135)-1)))","v":""}]
[null,null,null,null,null,{"$f":"IF(B9136=\"\",\"\",IF(C9136=\"\",F9135,IF(E9136=\"\",F9135,E9136/MAX($E$9:E9136)-1)))","v":""}]
[null,null,null,null,null,{"$f":"IF(B9137=\"\",\"\",IF(C9137=\"\",F9136,IF(E9137=\"\",F9136,E9137/MAX($E$9:E9137)-1)))","v":""}]
[null,null,null,null,null,{"$f":"IF(B9138=\"\",\"\",IF(C9138=\"\",F9137,IF(E9138=\"\",F9137,E9138/MAX($E$9:E9138)-1)))","v":""}]
[null,null,null,null,null,{"$f":"IF(B9139=\"\",\"\",IF(C9139=\"\",F9138,IF(E9139=\"\",F9138,E9139/MAX($E$9:E9139)-1)))","v":""}]
[null,null,null,null,null,{"$f":"IF(B9140=\"\",\"\",IF(C9140=\"\",F9139,IF(E9140=\"\",F9139,E9140/MAX($E$9:E9140)-1)))","v":""}]
[null,null,null,null,null,{"$f":"IF(B9141=\"\",\"\",IF(C9141=\"\",F9140,IF(E9141=\"\",F9140,E9141/MAX($E$9:E9141)-1)))","v":""}]
[null,null,null,null,null,{"$f":"IF(B9142=\"\",\"\",IF(C9142=\"\",F9141,IF(E9142=\"\",F9141,E9142/MAX($E$9:E9142)-1)))","v":""}]
[null,null,null,null,null,{"$f":"IF(B9143=\"\",\"\",IF(C9143=\"\",F9142,IF(E9143=\"\",F9142,E9143/MAX($E$9:E9143)-1)))","v":""}]
[null,null,null,null,null,{"$f":"IF(B9144=\"\",\"\",IF(C9144=\"\",F9143,IF(E9144=\"\",F9143,E9144/MAX($E$9:E9144)-1)))","v":""}]
[null,null,null,null,null,{"$f":"IF(B9145=\"\",\"\",IF(C9145=\"\",F9144,IF(E9145=\"\",F9144,E9145/MAX($E$9:E9145)-1)))","v":""}]
[null,null,null,null,null,{"$f":"IF(B9146=\"\",\"\",IF(C9146=\"\",F9145,IF(E9146=\"\",F9145,E9146/MAX($E$9:E9146)-1)))","v":""}]
[null,null,null,null,null,{"$f":"IF(B9147=\"\",\"\",IF(C9147=\"\",F9146,IF(E9147=\"\",F9146,E9147/MAX($E$9:E9147)-1)))","v":""}]
[null,null,null,null,null,{"$f":"IF(B9148=\"\",\"\",IF(C9148=\"\",F9147,IF(E9148=\"\",F9147,E9148/MAX($E$9:E9148)-1)))","v":""}]
[null,null,null,null,null,{"$f":"IF(B9149=\"\",\"\",IF(C9149=\"\",F9148,IF(E9149=\"\",F9148,E9149/MAX($E$9:E9149)-1)))","v":""}]
[null,null,null,null,null,{"$f":"IF(B9150=\"\",\"\",IF(C9150=\"\",F9149,IF(E9150=\"\",F9149,E9150/MAX($E$9:E9150)-1)))","v":""}]
[null,null,null,null,null,{"$f":"IF(B9151=\"\",\"\",IF(C9151=\"\",F9150,IF(E9151=\"\",F9150,E9151/MAX($E$9:E9151)-1)))","v":""}]
[null,null,null,null,null,{"$f":"IF(B9152=\"\",\"\",IF(C9152=\"\",F9151,IF(E9152=\"\",F9151,E9152/MAX($E$9:E9152)-1)))","v":""}]
[null,null,null,null,null,{"$f":"IF(B9153=\"\",\"\",IF(C9153=\"\",F9152,IF(E9153=\"\",F9152,E9153/MAX($E$9:E9153)-1)))","v":""}]
[null,null,null,null,null,{"$f":"IF(B9154=\"\",\"\",IF(C9154=\"\",F9153,IF(E9154=\"\",F9153,E9154/MAX($E$9:E9154)-1)))","v":""}]
[null,null,null,null,null,{"$f":"IF(B9155=\"\",\"\",IF(C9155=\"\",F9154,IF(E9155=\"\",F9154,E9155/MAX($E$9:E9155)-1)))","v":""}]
[null,null,null,null,null,{"$f":"IF(B9156=\"\",\"\",IF(C9156=\"\",F9155,IF(E9156=\"\",F9155,E9156/MAX($E$9:E9156)-1)))","v":""}]
[null,null,null,null,null,{"$f":"IF(B9157=\"\",\"\",IF(C9157=\"\",F9156,IF(E9157=\"\",F9156,E9157/MAX($E$9:E9157)-1)))","v":""}]
[null,null,null,null,null,{"$f":"IF(B9158=\"\",\"\",IF(C9158=\"\",F9157,IF(E9158=\"\",F9157,E9158/MAX($E$9:E9158)-1)))","v":""}]
[null,null,null,null,null,{"$f":"IF(B9159=\"\",\"\",IF(C9159=\"\",F9158,IF(E9159=\"\",F9158,E9159/MAX($E$9:E9159)-1)))","v":""}]
[null,null,null,null,null,{"$f":"IF(B9160=\"\",\"\",IF(C9160=\"\",F9159,IF(E9160=\"\",F9159,E9160/MAX($E$9:E9160)-1)))","v":""}]
[null,null,null,null,null,{"$f":"IF(B9161=\"\",\"\",IF(C9161=\"\",F9160,IF(E9161=\"\",F9160,E9161/MAX($E$9:E9161)-1)))","v":""}]
[null,null,null,null,null,{"$f":"IF(B9162=\"\",\"\",IF(C9162=\"\",F9161,IF(E9162=\"\",F9161,E9162/MAX($E$9:E9162)-1)))","v":""}]
[null,null,null,null,null,{"$f":"IF(B9163=\"\",\"\",IF(C9163=\"\",F9162,IF(E9163=\"\",F9162,E9163/MAX($E$9:E9163)-1)))","v":""}]
[null,null,null,null,null,{"$f":"IF(B9164=\"\",\"\",IF(C9164=\"\",F9163,IF(E9164=\"\",F9163,E9164/MAX($E$9:E9164)-1)))","v":""}]
[null,null,null,null,null,{"$f":"IF(B9165=\"\",\"\",IF(C9165=\"\",F9164,IF(E9165=\"\",F9164,E9165/MAX($E$9:E9165)-1)))","v":""}]
[null,null,null,null,null,{"$f":"IF(B9166=\"\",\"\",IF(C9166=\"\",F9165,IF(E9166=\"\",F9165,E9166/MAX($E$9:E9166)-1)))","v":""}]
[null,null,null,null,null,{"$f":"IF(B9167=\"\",\"\",IF(C9167=\"\",F9166,IF(E9167=\"\",F9166,E9167/MAX($E$9:E9167)-1)))","v":""}]
[null,null,null,null,null,{"$f":"IF(B9168=\"\",\"\",IF(C9168=\"\",F9167,IF(E9168=\"\",F9167,E9168/MAX($E$9:E9168)-1)))","v":""}]
[null,null,null,null,null,{"$f":"IF(B9169=\"\",\"\",IF(C9169=\"\",F9168,IF(E9169=\"\",F9168,E9169/MAX($E$9:E9169)-1)))","v":""}]
[null,null,null,null,null,{"$f":"IF(B9170=\"\",\"\",IF(C9170=\"\",F9169,IF(E9170=\"\",F9169,E9170/MAX($E$9:E9170)-1)))","v":""}]
[null,null,null,null,null,{"$f":"IF(B9171=\"\",\"\",IF(C9171=\"\",F9170,IF(E9171=\"\",F9170,E9171/MAX($E$9:E9171)-1)))","v":""}]
[null,null,null,null,null,{"$f":"IF(B9172=\"\",\"\",IF(C9172=\"\",F9171,IF(E9172=\"\",F9171,E9172/MAX($E$9:E9172)-1)))","v":""}]
[null,null,null,null,null,{"$f":"IF(B9173=\"\",\"\",IF(C9173=\"\",F9172,IF(E9173=\"\",F9172,E9173/MAX($E$9:E9173)-1)))","v":""}]
[null,null,null,null,null,{"$f":"IF(B9174=\"\",\"\",IF(C9174=\"\",F9173,IF(E9174=\"\",F9173,E9174/MAX($E$9:E9174)-1)))","v":""}]
[null,null,null,null,null,{"$f":"IF(B9175=\"\",\"\",IF(C9175=\"\",F9174,IF(E9175=\"\",F9174,E9175/MAX($E$9:E9175)-1)))","v":""}]
[null,null,null,null,null,{"$f":"IF(B9176=\"\",\"\",IF(C9176=\"\",F9175,IF(E9176=\"\",F9175,E9176/MAX($E$9:E9176)-1)))","v":""}]
[null,null,null,null,null,{"$f":"IF(B9177=\"\",\"\",IF(C9177=\"\",F9176,IF(E9177=\"\",F9176,E9177/MAX($E$9:E9177)-1)))","v":""}]
[null,null,null,null,null,{"$f":"IF(B9178=\"\",\"\",IF(C9178=\"\",F9177,IF(E9178=\"\",F9177,E9178/MAX($E$9:E9178)-1)))","v":""}]
[null,null,null,null,null,{"$f":"IF(B9179=\"\",\"\",IF(C9179=\"\",F9178,IF(E9179=\"\",F9178,E9179/MAX($E$9:E9179)-1)))","v":""}]
[null,null,null,null,null,{"$f":"IF(B9180=\"\",\"\",IF(C9180=\"\",F9179,IF(E9180=\"\",F9179,E9180/MAX($E$9:E9180)-1)))","v":""}]
[null,null,null,null,null,{"$f":"IF(B9181=\"\",\"\",IF(C9181=\"\",F9180,IF(E9181=\"\",F9180,E9181/MAX($E$9:E9181)-1)))","v":""}]
[null,null,null,null,null,{"$f":"IF(B9182=\"\",\"\",IF(C9182=\"\",F9181,IF(E9182=\"\",F9181,E9182/MAX($E$9:E9182)-1)))","v":""}]
[null,null,null,null,null,{"$f":"IF(B9183=\"\",\"\",IF(C9183=\"\",F9182,IF(E9183=\"\",F9182,E9183/MAX($E$9:E9183)-1)))","v":""}]
[null,null,null,null,null,{"$f":"IF(B9184=\"\",\"\",IF(C9184=\"\",F9183,IF(E9184=\"\",F9183,E9184/MAX($E$9:E9184)-1)))","v":""}]
[null,null,null,null,null,{"$f":"IF(B9185=\"\",\"\",IF(C9185=\"\",F9184,IF(E9185=\"\",F9184,E9185/MAX($E$9:E9185)-1)))","v":""}]
[null,null,null,null,null,{"$f":"IF(B9186=\"\",\"\",IF(C9186=\"\",F9185,IF(E9186=\"\",F9185,E9186/MAX($E$9:E9186)-1)))","v":""}]
[null,null,null,null,null,{"$f":"IF(B9187=\"\",\"\",IF(C9187=\"\",F9186,IF(E9187=\"\",F9186,E9187/MAX($E$9:E9187)-1)))","v":""}]
[null,null,null,null,null,{"$f":"IF(B9188=\"\",\"\",IF(C9188=\"\",F9187,IF(E9188=\"\",F9187,E9188/MAX($E$9:E9188)-1)))","v":""}]
[null,null,null,null,null,{"$f":"IF(B9189=\"\",\"\",IF(C9189=\"\",F9188,IF(E9189=\"\",F9188,E9189/MAX($E$9:E9189)-1)))","v":""}]
[null,null,null,null,null,{"$f":"IF(B9190=\"\",\"\",IF(C9190=\"\",F9189,IF(E9190=\"\",F9189,E9190/MAX($E$9:E9190)-1)))","v":""}]
[null,null,null,null,null,{"$f":"IF(B9191=\"\",\"\",IF(C9191=\"\",F9190,IF(E9191=\"\",F9190,E9191/MAX($E$9:E9191)-1)))","v":""}]
[null,null,null,null,null,{"$f":"IF(B9192=\"\",\"\",IF(C9192=\"\",F9191,IF(E9192=\"\",F9191,E9192/MAX($E$9:E9192)-1)))","v":""}]
[null,null,null,null,null,{"$f":"IF(B9193=\"\",\"\",IF(C9193=\"\",F9192,IF(E9193=\"\",F9192,E9193/MAX($E$9:E9193)-1)))","v":""}]
[null,null,null,null,null,{"$f":"IF(B9194=\"\",\"\",IF(C9194=\"\",F9193,IF(E9194=\"\",F9193,E9194/MAX($E$9:E9194)-1)))","v":""}]
[null,null,null,null,null,{"$f":"IF(B9195=\"\",\"\",IF(C9195=\"\",F9194,IF(E9195=\"\",F9194,E9195/MAX($E$9:E9195)-1)))","v":""}]
[null,null,null,null,null,{"$f":"IF(B9196=\"\",\"\",IF(C9196=\"\",F9195,IF(E9196=\"\",F9195,E9196/MAX($E$9:E9196)-1)))","v":""}]
[null,null,null,null,null,{"$f":"IF(B9197=\"\",\"\",IF(C9197=\"\",F9196,IF(E9197=\"\",F9196,E9197/MAX($E$9:E9197)-1)))","v":""}]
[null,null,null,null,null,{"$f":"IF(B9198=\"\",\"\",IF(C9198=\"\",F9197,IF(E9198=\"\",F9197,E9198/MAX($E$9:E9198)-1)))","v":""}]
[null,null,null,null,null,{"$f":"IF(B9199=\"\",\"\",IF(C9199=\"\",F9198,IF(E9199=\"\",F9198,E9199/MAX($E$9:E9199)-1)))","v":""}]
[null,null,null,null,null,{"$f":"IF(B9200=\"\",\"\",IF(C9200=\"\",F9199,IF(E9200=\"\",F9199,E9200/MAX($E$9:E9200)-1)))","v":""}]
[null,null,null,null,null,{"$f":"IF(B9201=\"\",\"\",IF(C9201=\"\",F9200,IF(E9201=\"\",F9200,E9201/MAX($E$9:E9201)-1)))","v":""}]
[null,null,null,null,null,{"$f":"IF(B9202=\"\",\"\",IF(C9202=\"\",F9201,IF(E9202=\"\",F9201,E9202/MAX($E$9:E9202)-1)))","v":""}]
[null,null,null,null,null,{"$f":"IF(B9203=\"\",\"\",IF(C9203=\"\",F9202,IF(E9203=\"\",F9202,E9203/MAX($E$9:E9203)-1)))","v":""}]
[null,null,null,null,null,{"$f":"IF(B9204=\"\",\"\",IF(C9204=\"\",F9203,IF(E9204=\"\",F9203,E9204/MAX($E$9:E9204)-1)))","v":""}]
[null,null,null,null,null,{"$f":"IF(B9205=\"\",\"\",IF(C9205=\"\",F9204,IF(E9205=\"\",F9204,E9205/MAX($E$9:E9205)-1)))","v":""}]
[null,null,null,null,null,{"$f":"IF(B9206=\"\",\"\",IF(C9206=\"\",F9205,IF(E9206=\"\",F9205,E9206/MAX($E$9:E9206)-1)))","v":""}]
[null,null,null,null,null,{"$f":"IF(B9207=\"\",\"\",IF(C9207=\"\",F9206,IF(E9207=\"\",F9206,E9207/MAX($E$9:E9207)-1)))","v":""}]
[null,null,null,null,null,{"$f":"IF(B9208=\"\",\"\",IF(C9208=\"\",F9207,IF(E9208=\"\",F9207,E9208/MAX($E$9:E9208)-1)))","v":""}]
[null,null,null,null,null,{"$f":"IF(B9209=\"\",\"\",IF(C9209=\"\",F9208,IF(E9209=\"\",F9208,E9209/MAX($E$9:E9209)-1)))","v":""}]
[null,null,null,null,null,{"$f":"IF(B9210=\"\",\"\",IF(C9210=\"\",F9209,IF(E9210=\"\",F9209,E9210/MAX($E$9:E9210)-1)))","v":""}]
[null,null,null,null,null,{"$f":"IF(B9211=\"\",\"\",IF(C9211=\"\",F9210,IF(E9211=\"\",F9210,E9211/MAX($E$9:E9211)-1)))","v":""}]
[null,null,null,null,null,{"$f":"IF(B9212=\"\",\"\",IF(C9212=\"\",F9211,IF(E9212=\"\",F9211,E9212/MAX($E$9:E9212)-1)))","v":""}]
[null,null,null,null,null,{"$f":"IF(B9213=\"\",\"\",IF(C9213=\"\",F9212,IF(E9213=\"\",F9212,E9213/MAX($E$9:E9213)-1)))","v":""}]
[null,null,null,null,null,{"$f":"IF(B9214=\"\",\"\",IF(C9214=\"\",F9213,IF(E9214=\"\",F9213,E9214/MAX($E$9:E9214)-1)))","v":""}]
[null,null,null,null,null,{"$f":"IF(B9215=\"\",\"\",IF(C9215=\"\",F9214,IF(E9215=\"\",F9214,E9215/MAX($E$9:E9215)-1)))","v":""}]
[null,null,null,null,null,{"$f":"IF(B9216=\"\",\"\",IF(C9216=\"\",F9215,IF(E9216=\"\",F9215,E9216/MAX($E$9:E9216)-1)))","v":""}]
[null,null,null,null,null,{"$f":"IF(B9217=\"\",\"\",IF(C9217=\"\",F9216,IF(E9217=\"\",F9216,E9217/MAX($E$9:E9217)-1)))","v":""}]
[null,null,null,null,null,{"$f":"IF(B9218=\"\",\"\",IF(C9218=\"\",F9217,IF(E9218=\"\",F9217,E9218/MAX($E$9:E9218)-1)))","v":""}]
[null,null,null,null,null,{"$f":"IF(B9219=\"\",\"\",IF(C9219=\"\",F9218,IF(E9219=\"\",F9218,E9219/MAX($E$9:E9219)-1)))","v":""}]
[null,null,null,null,null,{"$f":"IF(B9220=\"\",\"\",IF(C9220=\"\",F9219,IF(E9220=\"\",F9219,E9220/MAX($E$9:E9220)-1)))","v":""}]
[null,null,null,null,null,{"$f":"IF(B9221=\"\",\"\",IF(C9221=\"\",F9220,IF(E9221=\"\",F9220,E9221/MAX($E$9:E9221)-1)))","v":""}]
[null,null,null,null,null,{"$f":"IF(B9222=\"\",\"\",IF(C9222=\"\",F9221,IF(E9222=\"\",F9221,E9222/MAX($E$9:E9222)-1)))","v":""}]
[null,null,null,null,null,{"$f":"IF(B9223=\"\",\"\",IF(C9223=\"\",F9222,IF(E9223=\"\",F9222,E9223/MAX($E$9:E9223)-1)))","v":""}]
[null,null,null,null,null,{"$f":"IF(B9224=\"\",\"\",IF(C9224=\"\",F9223,IF(E9224=\"\",F9223,E9224/MAX($E$9:E9224)-1)))","v":""}]
[null,null,null,null,null,{"$f":"IF(B9225=\"\",\"\",IF(C9225=\"\",F9224,IF(E9225=\"\",F9224,E9225/MAX($E$9:E9225)-1)))","v":""}]
[null,null,null,null,null,{"$f":"IF(B9226=\"\",\"\",IF(C9226=\"\",F9225,IF(E9226=\"\",F9225,E9226/MAX($E$9:E9226)-1)))","v":""}]
[null,null,null,null,null,{"$f":"IF(B9227=\"\",\"\",IF(C9227=\"\",F9226,IF(E9227=\"\",F9226,E9227/MAX($E$9:E9227)-1)))","v":""}]
[null,null,null,null,null,{"$f":"IF(B9228=\"\",\"\",IF(C9228=\"\",F9227,IF(E9228=\"\",F9227,E9228/MAX($E$9:E9228)-1)))","v":""}]
[null,null,null,null,null,{"$f":"IF(B9229=\"\",\"\",IF(C9229=\"\",F9228,IF(E9229=\"\",F9228,E9229/MAX($E$9:E9229)-1)))","v":""}]
[null,null,null,null,null,{"$f":"IF(B9230=\"\",\"\",IF(C9230=\"\",F9229,IF(E9230=\"\",F9229,E9230/MAX($E$9:E9230)-1)))","v":""}]
[null,null,null,null,null,{"$f":"IF(B9231=\"\",\"\",IF(C9231=\"\",F9230,IF(E9231=\"\",F9230,E9231/MAX($E$9:E9231)-1)))","v":""}]
[null,null,null,null,null,{"$f":"IF(B9232=\"\",\"\",IF(C9232=\"\",F9231,IF(E9232=\"\",F9231,E9232/MAX($E$9:E9232)-1)))","v":""}]
[null,null,null,null,null,{"$f":"IF(B9233=\"\",\"\",IF(C9233=\"\",F9232,IF(E9233=\"\",F9232,E9233/MAX($E$9:E9233)-1)))","v":""}]
[null,null,null,null,null,{"$f":"IF(B9234=\"\",\"\",IF(C9234=\"\",F9233,IF(E9234=\"\",F9233,E9234/MAX($E$9:E9234)-1)))","v":""}]
[null,null,null,null,null,{"$f":"IF(B9235=\"\",\"\",IF(C9235=\"\",F9234,IF(E9235=\"\",F9234,E9235/MAX($E$9:E9235)-1)))","v":""}]
[null,null,null,null,null,{"$f":"IF(B9236=\"\",\"\",IF(C9236=\"\",F9235,IF(E9236=\"\",F9235,E9236/MAX($E$9:E9236)-1)))","v":""}]
[null,null,null,null,null,{"$f":"IF(B9237=\"\",\"\",IF(C9237=\"\",F9236,IF(E9237=\"\",F9236,E9237/MAX($E$9:E9237)-1)))","v":""}]
[null,null,null,null,null,{"$f":"IF(B9238=\"\",\"\",IF(C9238=\"\",F9237,IF(E9238=\"\",F9237,E9238/MAX($E$9:E9238)-1)))","v":""}]
[null,null,null,null,null,{"$f":"IF(B9239=\"\",\"\",IF(C9239=\"\",F9238,IF(E9239=\"\",F9238,E9239/MAX($E$9:E9239)-1)))","v":""}]
[null,null,null,null,null,{"$f":"IF(B9240=\"\",\"\",IF(C9240=\"\",F9239,IF(E9240=\"\",F9239,E9240/MAX($E$9:E9240)-1)))","v":""}]
[null,null,null,null,null,{"$f":"IF(B9241=\"\",\"\",IF(C9241=\"\",F9240,IF(E9241=\"\",F9240,E9241/MAX($E$9:E9241)-1)))","v":""}]
[null,null,null,null,null,{"$f":"IF(B9242=\"\",\"\",IF(C9242=\"\",F9241,IF(E9242=\"\",F9241,E9242/MAX($E$9:E9242)-1)))","v":""}]
[null,null,null,null,null,{"$f":"IF(B9243=\"\",\"\",IF(C9243=\"\",F9242,IF(E9243=\"\",F9242,E9243/MAX($E$9:E9243)-1)))","v":""}]
[null,null,null,null,null,{"$f":"IF(B9244=\"\",\"\",IF(C9244=\"\",F9243,IF(E9244=\"\",F9243,E9244/MAX($E$9:E9244)-1)))","v":""}]
[null,null,null,null,null,{"$f":"IF(B9245=\"\",\"\",IF(C9245=\"\",F9244,IF(E9245=\"\",F9244,E9245/MAX($E$9:E9245)-1)))","v":""}]
[null,null,null,null,null,{"$f":"IF(B9246=\"\",\"\",IF(C9246=\"\",F9245,IF(E9246=\"\",F9245,E9246/MAX($E$9:E9246)-1)))","v":""}]
[null,null,null,null,null,{"$f":"IF(B9247=\"\",\"\",IF(C9247=\"\",F9246,IF(E9247=\"\",F9246,E9247/MAX($E$9:E9247)-1)))","v":""}]
[null,null,null,null,null,{"$f":"IF(B9248=\"\",\"\",IF(C9248=\"\",F9247,IF(E9248=\"\",F9247,E9248/MAX($E$9:E9248)-1)))","v":""}]
[null,null,null,null,null,{"$f":"IF(B9249=\"\",\"\",IF(C9249=\"\",F9248,IF(E9249=\"\",F9248,E9249/MAX($E$9:E9249)-1)))","v":""}]
[null,null,null,null,null,{"$f":"IF(B9250=\"\",\"\",IF(C9250=\"\",F9249,IF(E9250=\"\",F9249,E9250/MAX($E$9:E9250)-1)))","v":""}]
[null,null,null,null,null,{"$f":"IF(B9251=\"\",\"\",IF(C9251=\"\",F9250,IF(E9251=\"\",F9250,E9251/MAX($E$9:E9251)-1)))","v":""}]
[null,null,null,null,null,{"$f":"IF(B9252=\"\",\"\",IF(C9252=\"\",F9251,IF(E9252=\"\",F9251,E9252/MAX($E$9:E9252)-1)))","v":""}]
[null,null,null,null,null,{"$f":"IF(B9253=\"\",\"\",IF(C9253=\"\",F9252,IF(E9253=\"\",F9252,E9253/MAX($E$9:E9253)-1)))","v":""}]
[null,null,null,null,null,{"$f":"IF(B9254=\"\",\"\",IF(C9254=\"\",F9253,IF(E9254=\"\",F9253,E9254/MAX($E$9:E9254)-1)))","v":""}]
[null,null,null,null,null,{"$f":"IF(B9255=\"\",\"\",IF(C9255=\"\",F9254,IF(E9255=\"\",F9254,E9255/MAX($E$9:E9255)-1)))","v":""}]
[null,null,null,null,null,{"$f":"IF(B9256=\"\",\"\",IF(C9256=\"\",F9255,IF(E9256=\"\",F9255,E9256/MAX($E$9:E9256)-1)))","v":""}]
[null,null,null,null,null,{"$f":"IF(B9257=\"\",\"\",IF(C9257=\"\",F9256,IF(E9257=\"\",F9256,E9257/MAX($E$9:E9257)-1)))","v":""}]
[null,null,null,null,null,{"$f":"IF(B9258=\"\",\"\",IF(C9258=\"\",F9257,IF(E9258=\"\",F9257,E9258/MAX($E$9:E9258)-1)))","v":""}]
[null,null,null,null,null,{"$f":"IF(B9259=\"\",\"\",IF(C9259=\"\",F9258,IF(E9259=\"\",F9258,E9259/MAX($E$9:E9259)-1)))","v":""}]
[null,null,null,null,null,{"$f":"IF(B9260=\"\",\"\",IF(C9260=\"\",F9259,IF(E9260=\"\",F9259,E9260/MAX($E$9:E9260)-1)))","v":""}]
[null,null,null,null,null,{"$f":"IF(B9261=\"\",\"\",IF(C9261=\"\",F9260,IF(E9261=\"\",F9260,E9261/MAX($E$9:E9261)-1)))","v":""}]
[null,null,null,null,null,{"$f":"IF(B9262=\"\",\"\",IF(C9262=\"\",F9261,IF(E9262=\"\",F9261,E9262/MAX($E$9:E9262)-1)))","v":""}]
[null,null,null,null,null,{"$f":"IF(B9263=\"\",\"\",IF(C9263=\"\",F9262,IF(E9263=\"\",F9262,E9263/MAX($E$9:E9263)-1)))","v":""}]
[null,null,null,null,null,{"$f":"IF(B9264=\"\",\"\",IF(C9264=\"\",F9263,IF(E9264=\"\",F9263,E9264/MAX($E$9:E9264)-1)))","v":""}]
[null,null,null,null,null,{"$f":"IF(B9265=\"\",\"\",IF(C9265=\"\",F9264,IF(E9265=\"\",F9264,E9265/MAX($E$9:E9265)-1)))","v":""}]
[null,null,null,null,null,{"$f":"IF(B9266=\"\",\"\",IF(C9266=\"\",F9265,IF(E9266=\"\",F9265,E9266/MAX($E$9:E9266)-1)))","v":""}]
[null,null,null,null,null,{"$f":"IF(B9267=\"\",\"\",IF(C9267=\"\",F9266,IF(E9267=\"\",F9266,E9267/MAX($E$9:E9267)-1)))","v":""}]
[null,null,null,null,null,{"$f":"IF(B9268=\"\",\"\",IF(C9268=\"\",F9267,IF(E9268=\"\",F9267,E9268/MAX($E$9:E9268)-1)))","v":""}]
[null,null,null,null,null,{"$f":"IF(B9269=\"\",\"\",IF(C9269=\"\",F9268,IF(E9269=\"\",F9268,E9269/MAX($E$9:E9269)-1)))","v":""}]
[null,null,null,null,null,{"$f":"IF(B9270=\"\",\"\",IF(C9270=\"\",F9269,IF(E9270=\"\",F9269,E9270/MAX($E$9:E9270)-1)))","v":""}]
[null,null,null,null,null,{"$f":"IF(B9271=\"\",\"\",IF(C9271=\"\",F9270,IF(E9271=\"\",F9270,E9271/MAX($E$9:E9271)-1)))","v":""}]
[null,null,null,null,null,{"$f":"IF(B9272=\"\",\"\",IF(C9272=\"\",F9271,IF(E9272=\"\",F9271,E9272/MAX($E$9:E9272)-1)))","v":""}]
[null,null,null,null,null,{"$f":"IF(B9273=\"\",\"\",IF(C9273=\"\",F9272,IF(E9273=\"\",F9272,E9273/MAX($E$9:E9273)-1)))","v":""}]
[null,null,null,null,null,{"$f":"IF(B9274=\"\",\"\",IF(C9274=\"\",F9273,IF(E9274=\"\",F9273,E9274/MAX($E$9:E9274)-1)))","v":""}]
[null,null,null,null,null,{"$f":"IF(B9275=\"\",\"\",IF(C9275=\"\",F9274,IF(E9275=\"\",F9274,E9275/MAX($E$9:E9275)-1)))","v":""}]
[null,null,null,null,null,{"$f":"IF(B9276=\"\",\"\",IF(C9276=\"\",F9275,IF(E9276=\"\",F9275,E9276/MAX($E$9:E9276)-1)))","v":""}]
[null,null,null,null,null,{"$f":"IF(B9277=\"\",\"\",IF(C9277=\"\",F9276,IF(E9277=\"\",F9276,E9277/MAX($E$9:E9277)-1)))","v":""}]
[null,null,null,null,null,{"$f":"IF(B9278=\"\",\"\",IF(C9278=\"\",F9277,IF(E9278=\"\",F9277,E9278/MAX($E$9:E9278)-1)))","v":""}]
[null,null,null,null,null,{"$f":"IF(B9279=\"\",\"\",IF(C9279=\"\",F9278,IF(E9279=\"\",F9278,E9279/MAX($E$9:E9279)-1)))","v":""}]
[null,null,null,null,null,{"$f":"IF(B9280=\"\",\"\",IF(C9280=\"\",F9279,IF(E9280=\"\",F9279,E9280/MAX($E$9:E9280)-1)))","v":""}]
[null,null,null,null,null,{"$f":"IF(B9281=\"\",\"\",IF(C9281=\"\",F9280,IF(E9281=\"\",F9280,E9281/MAX($E$9:E9281)-1)))","v":""}]
[null,null,null,null,null,{"$f":"IF(B9282=\"\",\"\",IF(C9282=\"\",F9281,IF(E9282=\"\",F9281,E9282/MAX($E$9:E9282)-1)))","v":""}]
[null,null,null,null,null,{"$f":"IF(B9283=\"\",\"\",IF(C9283=\"\",F9282,IF(E9283=\"\",F9282,E9283/MAX($E$9:E9283)-1)))","v":""}]
[null,null,null,null,null,{"$f":"IF(B9284=\"\",\"\",IF(C9284=\"\",F9283,IF(E9284=\"\",F9283,E9284/MAX($E$9:E9284)-1)))","v":""}]
[null,null,null,null,null,{"$f":"IF(B9285=\"\",\"\",IF(C9285=\"\",F9284,IF(E9285=\"\",F9284,E9285/MAX($E$9:E9285)-1)))","v":""}]
[null,null,null,null,null,{"$f":"IF(B9286=\"\",\"\",IF(C9286=\"\",F9285,IF(E9286=\"\",F9285,E9286/MAX($E$9:E9286)-1)))","v":""}]
[null,null,null,null,null,{"$f":"IF(B9287=\"\",\"\",IF(C9287=\"\",F9286,IF(E9287=\"\",F9286,E9287/MAX($E$9:E9287)-1)))","v":""}]
[null,null,null,null,null,{"$f":"IF(B9288=\"\",\"\",IF(C9288=\"\",F9287,IF(E9288=\"\",F9287,E9288/MAX($E$9:E9288)-1)))","v":""}]
[null,null,null,null,null,{"$f":"IF(B9289=\"\",\"\",IF(C9289=\"\",F9288,IF(E9289=\"\",F9288,E9289/MAX($E$9:E9289)-1)))","v":""}]
[null,null,null,null,null,{"$f":"IF(B9290=\"\",\"\",IF(C9290=\"\",F9289,IF(E9290=\"\",F9289,E9290/MAX($E$9:E9290)-1)))","v":""}]
[null,null,null,null,null,{"$f":"IF(B9291=\"\",\"\",IF(C9291=\"\",F9290,IF(E9291=\"\",F9290,E9291/MAX($E$9:E9291)-1)))","v":""}]
[null,null,null,null,null,{"$f":"IF(B9292=\"\",\"\",IF(C9292=\"\",F9291,IF(E9292=\"\",F9291,E9292/MAX($E$9:E9292)-1)))","v":""}]
[null,null,null,null,null,{"$f":"IF(B9293=\"\",\"\",IF(C9293=\"\",F9292,IF(E9293=\"\",F9292,E9293/MAX($E$9:E9293)-1)))","v":""}]
[null,null,null,null,null,{"$f":"IF(B9294=\"\",\"\",IF(C9294=\"\",F9293,IF(E9294=\"\",F9293,E9294/MAX($E$9:E9294)-1)))","v":""}]
[null,null,null,null,null,{"$f":"IF(B9295=\"\",\"\",IF(C9295=\"\",F9294,IF(E9295=\"\",F9294,E9295/MAX($E$9:E9295)-1)))","v":""}]
[null,null,null,null,null,{"$f":"IF(B9296=\"\",\"\",IF(C9296=\"\",F9295,IF(E9296=\"\",F9295,E9296/MAX($E$9:E9296)-1)))","v":""}]
[null,null,null,null,null,{"$f":"IF(B9297=\"\",\"\",IF(C9297=\"\",F9296,IF(E9297=\"\",F9296,E9297/MAX($E$9:E9297)-1)))","v":""}]
[null,null,null,null,null,{"$f":"IF(B9298=\"\",\"\",IF(C9298=\"\",F9297,IF(E9298=\"\",F9297,E9298/MAX($E$9:E9298)-1)))","v":""}]
[null,null,null,null,null,{"$f":"IF(B9299=\"\",\"\",IF(C9299=\"\",F9298,IF(E9299=\"\",F9298,E9299/MAX($E$9:E9299)-1)))","v":""}]
[null,null,null,null,null,{"$f":"IF(B9300=\"\",\"\",IF(C9300=\"\",F9299,IF(E9300=\"\",F9299,E9300/MAX($E$9:E9300)-1)))","v":""}]
[null,null,null,null,null,{"$f":"IF(B9301=\"\",\"\",IF(C9301=\"\",F9300,IF(E9301=\"\",F9300,E9301/MAX($E$9:E9301)-1)))","v":""}]
[null,null,null,null,null,{"$f":"IF(B9302=\"\",\"\",IF(C9302=\"\",F9301,IF(E9302=\"\",F9301,E9302/MAX($E$9:E9302)-1)))","v":""}]
[null,null,null,null,null,{"$f":"IF(B9303=\"\",\"\",IF(C9303=\"\",F9302,IF(E9303=\"\",F9302,E9303/MAX($E$9:E9303)-1)))","v":""}]
[null,null,null,null,null,{"$f":"IF(B9304=\"\",\"\",IF(C9304=\"\",F9303,IF(E9304=\"\",F9303,E9304/MAX($E$9:E9304)-1)))","v":""}]
[null,null,null,null,null,{"$f":"IF(B9305=\"\",\"\",IF(C9305=\"\",F9304,IF(E9305=\"\",F9304,E9305/MAX($E$9:E9305)-1)))","v":""}]
[null,null,null,null,null,{"$f":"IF(B9306=\"\",\"\",IF(C9306=\"\",F9305,IF(E9306=\"\",F9305,E9306/MAX($E$9:E9306)-1)))","v":""}]
[null,null,null,null,null,{"$f":"IF(B9307=\"\",\"\",IF(C9307=\"\",F9306,IF(E9307=\"\",F9306,E9307/MAX($E$9:E9307)-1)))","v":""}]
[null,null,null,null,null,{"$f":"IF(B9308=\"\",\"\",IF(C9308=\"\",F9307,IF(E9308=\"\",F9307,E9308/MAX($E$9:E9308)-1)))","v":""}]
[null,null,null,null,null,{"$f":"IF(B9309=\"\",\"\",IF(C9309=\"\",F9308,IF(E9309=\"\",F9308,E9309/MAX($E$9:E9309)-1)))","v":""}]
[null,null,null,null,null,{"$f":"IF(B9310=\"\",\"\",IF(C9310=\"\",F9309,IF(E9310=\"\",F9309,E9310/MAX($E$9:E9310)-1)))","v":""}]
[null,null,null,null,null,{"$f":"IF(B9311=\"\",\"\",IF(C9311=\"\",F9310,IF(E9311=\"\",F9310,E9311/MAX($E$9:E9311)-1)))","v":""}]
[null,null,null,null,null,{"$f":"IF(B9312=\"\",\"\",IF(C9312=\"\",F9311,IF(E9312=\"\",F9311,E9312/MAX($E$9:E9312)-1)))","v":""}]
[null,null,null,null,null,{"$f":"IF(B9313=\"\",\"\",IF(C9313=\"\",F9312,IF(E9313=\"\",F9312,E9313/MAX($E$9:E9313)-1)))","v":""}]
[null,null,null,null,null,{"$f":"IF(B9314=\"\",\"\",IF(C9314=\"\",F9313,IF(E9314=\"\",F9313,E9314/MAX($E$9:E9314)-1)))","v":""}]
[null,null,null,null,null,{"$f":"IF(B9315=\"\",\"\",IF(C9315=\"\",F9314,IF(E9315=\"\",F9314,E9315/MAX($E$9:E9315)-1)))","v":""}]
[null,null,null,null,null,{"$f":"IF(B9316=\"\",\"\",IF(C9316=\"\",F9315,IF(E9316=\"\",F9315,E9316/MAX($E$9:E9316)-1)))","v":""}]
[null,null,null,null,null,{"$f":"IF(B9317=\"\",\"\",IF(C9317=\"\",F9316,IF(E9317=\"\",F9316,E9317/MAX($E$9:E9317)-1)))","v":""}]
[null,null,null,null,null,{"$f":"IF(B9318=\"\",\"\",IF(C9318=\"\",F9317,IF(E9318=\"\",F9317,E9318/MAX($E$9:E9318)-1)))","v":""}]
[null,null,null,null,null,{"$f":"IF(B9319=\"\",\"\",IF(C9319=\"\",F9318,IF(E9319=\"\",F9318,E9319/MAX($E$9:E9319)-1)))","v":""}]
[null,null,null,null,null,{"$f":"IF(B9320=\"\",\"\",IF(C9320=\"\",F9319,IF(E9320=\"\",F9319,E9320/MAX($E$9:E9320)-1)))","v":""}]
[null,null,null,null,null,{"$f":"IF(B9321=\"\",\"\",IF(C9321=\"\",F9320,IF(E9321=\"\",F9320,E9321/MAX($E$9:E9321)-1)))","v":""}]
[null,null,null,null,null,{"$f":"IF(B9322=\"\",\"\",IF(C9322=\"\",F9321,IF(E9322=\"\",F9321,E9322/MAX($E$9:E9322)-1)))","v":""}]
[null,null,null,null,null,{"$f":"IF(B9323=\"\",\"\",IF(C9323=\"\",F9322,IF(E9323=\"\",F9322,E9323/MAX($E$9:E9323)-1)))","v":""}]
[null,null,null,null,null,{"$f":"IF(B9324=\"\",\"\",IF(C9324=\"\",F9323,IF(E9324=\"\",F9323,E9324/MAX($E$9:E9324)-1)))","v":""}]
[null,null,null,null,null,{"$f":"IF(B9325=\"\",\"\",IF(C9325=\"\",F9324,IF(E9325=\"\",F9324,E9325/MAX($E$9:E9325)-1)))","v":""}]
[null,null,null,null,null,{"$f":"IF(B9326=\"\",\"\",IF(C9326=\"\",F9325,IF(E9326=\"\",F9325,E9326/MAX($E$9:E9326)-1)))","v":""}]
[null,null,null,null,null,{"$f":"IF(B9327=\"\",\"\",IF(C9327=\"\",F9326,IF(E9327=\"\",F9326,E9327/MAX($E$9:E9327)-1)))","v":""}]
[null,null,null,null,null,{"$f":"IF(B9328=\"\",\"\",IF(C9328=\"\",F9327,IF(E9328=\"\",F9327,E9328/MAX($E$9:E9328)-1)))","v":""}]
[null,null,null,null,null,{"$f":"IF(B9329=\"\",\"\",IF(C9329=\"\",F9328,IF(E9329=\"\",F9328,E9329/MAX($E$9:E9329)-1)))","v":""}]
[null,null,null,null,null,{"$f":"IF(B9330=\"\",\"\",IF(C9330=\"\",F9329,IF(E9330=\"\",F9329,E9330/MAX($E$9:E9330)-1)))","v":""}]
[null,null,null,null,null,{"$f":"IF(B9331=\"\",\"\",IF(C9331=\"\",F9330,IF(E9331=\"\",F9330,E9331/MAX($E$9:E9331)-1)))","v":""}]
[null,null,null,null,null,{"$f":"IF(B9332=\"\",\"\",IF(C9332=\"\",F9331,IF(E9332=\"\",F9331,E9332/MAX($E$9:E9332)-1)))","v":""}]
[null,null,null,null,null,{"$f":"IF(B9333=\"\",\"\",IF(C9333=\"\",F9332,IF(E9333=\"\",F9332,E9333/MAX($E$9:E9333)-1)))","v":""}]
[null,null,null,null,null,{"$f":"IF(B9334=\"\",\"\",IF(C9334=\"\",F9333,IF(E9334=\"\",F9333,E9334/MAX($E$9:E9334)-1)))","v":""}]
[null,null,null,null,null,{"$f":"IF(B9335=\"\",\"\",IF(C9335=\"\",F9334,IF(E9335=\"\",F9334,E9335/MAX($E$9:E9335)-1)))","v":""}]
[null,null,null,null,null,{"$f":"IF(B9336=\"\",\"\",IF(C9336=\"\",F9335,IF(E9336=\"\",F9335,E9336/MAX($E$9:E9336)-1)))","v":""}]
[null,null,null,null,null,{"$f":"IF(B9337=\"\",\"\",IF(C9337=\"\",F9336,IF(E9337=\"\",F9336,E9337/MAX($E$9:E9337)-1)))","v":""}]
[null,null,null,null,null,{"$f":"IF(B9338=\"\",\"\",IF(C9338=\"\",F9337,IF(E9338=\"\",F9337,E9338/MAX($E$9:E9338)-1)))","v":""}]
[null,null,null,null,null,{"$f":"IF(B9339=\"\",\"\",IF(C9339=\"\",F9338,IF(E9339=\"\",F9338,E9339/MAX($E$9:E9339)-1)))","v":""}]
[null,null,null,null,null,{"$f":"IF(B9340=\"\",\"\",IF(C9340=\"\",F9339,IF(E9340=\"\",F9339,E9340/MAX($E$9:E9340)-1)))","v":""}]
[null,null,null,null,null,{"$f":"IF(B9341=\"\",\"\",IF(C9341=\"\",F9340,IF(E9341=\"\",F9340,E9341/MAX($E$9:E9341)-1)))","v":""}]
[null,null,null,null,null,{"$f":"IF(B9342=\"\",\"\",IF(C9342=\"\",F9341,IF(E9342=\"\",F9341,E9342/MAX($E$9:E9342)-1)))","v":""}]
[null,null,null,null,null,{"$f":"IF(B9343=\"\",\"\",IF(C9343=\"\",F9342,IF(E9343=\"\",F9342,E9343/MAX($E$9:E9343)-1)))","v":""}]
[null,null,null,null,null,{"$f":"IF(B9344=\"\",\"\",IF(C9344=\"\",F9343,IF(E9344=\"\",F9343,E9344/MAX($E$9:E9344)-1)))","v":""}]
[null,null,null,null,null,{"$f":"IF(B9345=\"\",\"\",IF(C9345=\"\",F9344,IF(E9345=\"\",F9344,E9345/MAX($E$9:E9345)-1)))","v":""}]
[null,null,null,null,null,{"$f":"IF(B9346=\"\",\"\",IF(C9346=\"\",F9345,IF(E9346=\"\",F9345,E9346/MAX($E$9:E9346)-1)))","v":""}]
[null,null,null,null,null,{"$f":"IF(B9347=\"\",\"\",IF(C9347=\"\",F9346,IF(E9347=\"\",F9346,E9347/MAX($E$9:E9347)-1)))","v":""}]
[null,null,null,null,null,{"$f":"IF(B9348=\"\",\"\",IF(C9348=\"\",F9347,IF(E9348=\"\",F9347,E9348/MAX($E$9:E9348)-1)))","v":""}]
[null,null,null,null,null,{"$f":"IF(B9349=\"\",\"\",IF(C9349=\"\",F9348,IF(E9349=\"\",F9348,E9349/MAX($E$9:E9349)-1)))","v":""}]
[null,null,null,null,null,{"$f":"IF(B9350=\"\",\"\",IF(C9350=\"\",F9349,IF(E9350=\"\",F9349,E9350/MAX($E$9:E9350)-1)))","v":""}]
[null,null,null,null,null,{"$f":"IF(B9351=\"\",\"\",IF(C9351=\"\",F9350,IF(E9351=\"\",F9350,E9351/MAX($E$9:E9351)-1)))","v":""}]
[null,null,null,null,null,{"$f":"IF(B9352=\"\",\"\",IF(C9352=\"\",F9351,IF(E9352=\"\",F9351,E9352/MAX($E$9:E9352)-1)))","v":""}]
[null,null,null,null,null,{"$f":"IF(B9353=\"\",\"\",IF(C9353=\"\",F9352,IF(E9353=\"\",F9352,E9353/MAX($E$9:E9353)-1)))","v":""}]
[null,null,null,null,null,{"$f":"IF(B9354=\"\",\"\",IF(C9354=\"\",F9353,IF(E9354=\"\",F9353,E9354/MAX($E$9:E9354)-1)))","v":""}]
[null,null,null,null,null,{"$f":"IF(B9355=\"\",\"\",IF(C9355=\"\",F9354,IF(E9355=\"\",F9354,E9355/MAX($E$9:E9355)-1)))","v":""}]
[null,null,null,null,null,{"$f":"IF(B9356=\"\",\"\",IF(C9356=\"\",F9355,IF(E9356=\"\",F9355,E9356/MAX($E$9:E9356)-1)))","v":""}]
[null,null,null,null,null,{"$f":"IF(B9357=\"\",\"\",IF(C9357=\"\",F9356,IF(E9357=\"\",F9356,E9357/MAX($E$9:E9357)-1)))","v":""}]
[null,null,null,null,null,{"$f":"IF(B9358=\"\",\"\",IF(C9358=\"\",F9357,IF(E9358=\"\",F9357,E9358/MAX($E$9:E9358)-1)))","v":""}]
[null,null,null,null,null,{"$f":"IF(B9359=\"\",\"\",IF(C9359=\"\",F9358,IF(E9359=\"\",F9358,E9359/MAX($E$9:E9359)-1)))","v":""}]
[null,null,null,null,null,{"$f":"IF(B9360=\"\",\"\",IF(C9360=\"\",F9359,IF(E9360=\"\",F9359,E9360/MAX($E$9:E9360)-1)))","v":""}]
[null,null,null,null,null,{"$f":"IF(B9361=\"\",\"\",IF(C9361=\"\",F9360,IF(E9361=\"\",F9360,E9361/MAX($E$9:E9361)-1)))","v":""}]
[null,null,null,null,null,{"$f":"IF(B9362=\"\",\"\",IF(C9362=\"\",F9361,IF(E9362=\"\",F9361,E9362/MAX($E$9:E9362)-1)))","v":""}]
[null,null,null,null,null,{"$f":"IF(B9363=\"\",\"\",IF(C9363=\"\",F9362,IF(E9363=\"\",F9362,E9363/MAX($E$9:E9363)-1)))","v":""}]
[null,null,null,null,null,{"$f":"IF(B9364=\"\",\"\",IF(C9364=\"\",F9363,IF(E9364=\"\",F9363,E9364/MAX($E$9:E9364)-1)))","v":""}]
[null,null,null,null,null,{"$f":"IF(B9365=\"\",\"\",IF(C9365=\"\",F9364,IF(E9365=\"\",F9364,E9365/MAX($E$9:E9365)-1)))","v":""}]
[null,null,null,null,null,{"$f":"IF(B9366=\"\",\"\",IF(C9366=\"\",F9365,IF(E9366=\"\",F9365,E9366/MAX($E$9:E9366)-1)))","v":""}]
[null,null,null,null,null,{"$f":"IF(B9367=\"\",\"\",IF(C9367=\"\",F9366,IF(E9367=\"\",F9366,E9367/MAX($E$9:E9367)-1)))","v":""}]
[null,null,null,null,null,{"$f":"IF(B9368=\"\",\"\",IF(C9368=\"\",F9367,IF(E9368=\"\",F9367,E9368/MAX($E$9:E9368)-1)))","v":""}]
[null,null,null,null,null,{"$f":"IF(B9369=\"\",\"\",IF(C9369=\"\",F9368,IF(E9369=\"\",F9368,E9369/MAX($E$9:E9369)-1)))","v":""}]
[null,null,null,null,null,{"$f":"IF(B9370=\"\",\"\",IF(C9370=\"\",F9369,IF(E9370=\"\",F9369,E9370/MAX($E$9:E9370)-1)))","v":""}]
[null,null,null,null,null,{"$f":"IF(B9371=\"\",\"\",IF(C9371=\"\",F9370,IF(E9371=\"\",F9370,E9371/MAX($E$9:E9371)-1)))","v":""}]
[null,null,null,null,null,{"$f":"IF(B9372=\"\",\"\",IF(C9372=\"\",F9371,IF(E9372=\"\",F9371,E9372/MAX($E$9:E9372)-1)))","v":""}]
[null,null,null,null,null,{"$f":"IF(B9373=\"\",\"\",IF(C9373=\"\",F9372,IF(E9373=\"\",F9372,E9373/MAX($E$9:E9373)-1)))","v":""}]
[null,null,null,null,null,{"$f":"IF(B9374=\"\",\"\",IF(C9374=\"\",F9373,IF(E9374=\"\",F9373,E9374/MAX($E$9:E9374)-1)))","v":""}]
[null,null,null,null,null,{"$f":"IF(B9375=\"\",\"\",IF(C9375=\"\",F9374,IF(E9375=\"\",F9374,E9375/MAX($E$9:E9375)-1)))","v":""}]
[null,null,null,null,null,{"$f":"IF(B9376=\"\",\"\",IF(C9376=\"\",F9375,IF(E9376=\"\",F9375,E9376/MAX($E$9:E9376)-1)))","v":""}]
[null,null,null,null,null,{"$f":"IF(B9377=\"\",\"\",IF(C9377=\"\",F9376,IF(E9377=\"\",F9376,E9377/MAX($E$9:E9377)-1)))","v":""}]
[null,null,null,null,null,{"$f":"IF(B9378=\"\",\"\",IF(C9378=\"\",F9377,IF(E9378=\"\",F9377,E9378/MAX($E$9:E9378)-1)))","v":""}]
[null,null,null,null,null,{"$f":"IF(B9379=\"\",\"\",IF(C9379=\"\",F9378,IF(E9379=\"\",F9378,E9379/MAX($E$9:E9379)-1)))","v":""}]
[null,null,null,null,null,{"$f":"IF(B9380=\"\",\"\",IF(C9380=\"\",F9379,IF(E9380=\"\",F9379,E9380/MAX($E$9:E9380)-1)))","v":""}]
[null,null,null,null,null,{"$f":"IF(B9381=\"\",\"\",IF(C9381=\"\",F9380,IF(E9381=\"\",F9380,E9381/MAX($E$9:E9381)-1)))","v":""}]
[null,null,null,null,null,{"$f":"IF(B9382=\"\",\"\",IF(C9382=\"\",F9381,IF(E9382=\"\",F9381,E9382/MAX($E$9:E9382)-1)))","v":""}]
[null,null,null,null,null,{"$f":"IF(B9383=\"\",\"\",IF(C9383=\"\",F9382,IF(E9383=\"\",F9382,E9383/MAX($E$9:E9383)-1)))","v":""}]
[null,null,null,null,null,{"$f":"IF(B9384=\"\",\"\",IF(C9384=\"\",F9383,IF(E9384=\"\",F9383,E9384/MAX($E$9:E9384)-1)))","v":""}]
[null,null,null,null,null,{"$f":"IF(B9385=\"\",\"\",IF(C9385=\"\",F9384,IF(E9385=\"\",F9384,E9385/MAX($E$9:E9385)-1)))","v":""}]
[null,null,null,null,null,{"$f":"IF(B9386=\"\",\"\",IF(C9386=\"\",F9385,IF(E9386=\"\",F9385,E9386/MAX($E$9:E9386)-1)))","v":""}]
[null,null,null,null,null,{"$f":"IF(B9387=\"\",\"\",IF(C9387=\"\",F9386,IF(E9387=\"\",F9386,E9387/MAX($E$9:E9387)-1)))","v":""}]
[null,null,null,null,null,{"$f":"IF(B9388=\"\",\"\",IF(C9388=\"\",F9387,IF(E9388=\"\",F9387,E9388/MAX($E$9:E9388)-1)))","v":""}]
[null,null,null,null,null,{"$f":"IF(B9389=\"\",\"\",IF(C9389=\"\",F9388,IF(E9389=\"\",F9388,E9389/MAX($E$9:E9389)-1)))","v":""}]
[null,null,null,null,null,{"$f":"IF(B9390=\"\",\"\",IF(C9390=\"\",F9389,IF(E9390=\"\",F9389,E9390/MAX($E$9:E9390)-1)))","v":""}]
[null,null,null,null,null,{"$f":"IF(B9391=\"\",\"\",IF(C9391=\"\",F9390,IF(E9391=\"\",F9390,E9391/MAX($E$9:E9391)-1)))","v":""}]
[null,null,null,null,null,{"$f":"IF(B9392=\"\",\"\",IF(C9392=\"\",F9391,IF(E9392=\"\",F9391,E9392/MAX($E$9:E9392)-1)))","v":""}]
[null,null,null,null,null,{"$f":"IF(B9393=\"\",\"\",IF(C9393=\"\",F9392,IF(E9393=\"\",F9392,E9393/MAX($E$9:E9393)-1)))","v":""}]
[null,null,null,null,null,{"$f":"IF(B9394=\"\",\"\",IF(C9394=\"\",F9393,IF(E9394=\"\",F9393,E9394/MAX($E$9:E9394)-1)))","v":""}]
[null,null,null,null,null,{"$f":"IF(B9395=\"\",\"\",IF(C9395=\"\",F9394,IF(E9395=\"\",F9394,E9395/MAX($E$9:E9395)-1)))","v":""}]
[null,null,null,null,null,{"$f":"IF(B9396=\"\",\"\",IF(C9396=\"\",F9395,IF(E9396=\"\",F9395,E9396/MAX($E$9:E9396)-1)))","v":""}]
[null,null,null,null,null,{"$f":"IF(B9397=\"\",\"\",IF(C9397=\"\",F9396,IF(E9397=\"\",F9396,E9397/MAX($E$9:E9397)-1)))","v":""}]
[null,null,null,null,null,{"$f":"IF(B9398=\"\",\"\",IF(C9398=\"\",F9397,IF(E9398=\"\",F9397,E9398/MAX($E$9:E9398)-1)))","v":""}]
[null,null,null,null,null,{"$f":"IF(B9399=\"\",\"\",IF(C9399=\"\",F9398,IF(E9399=\"\",F9398,E9399/MAX($E$9:E9399)-1)))","v":""}]
[null,null,null,null,null,{"$f":"IF(B9400=\"\",\"\",IF(C9400=\"\",F9399,IF(E9400=\"\",F9399,E9400/MAX($E$9:E9400)-1)))","v":""}]
[null,null,null,null,null,{"$f":"IF(B9401=\"\",\"\",IF(C9401=\"\",F9400,IF(E9401=\"\",F9400,E9401/MAX($E$9:E9401)-1)))","v":""}]
[null,null,null,null,null,{"$f":"IF(B9402=\"\",\"\",IF(C9402=\"\",F9401,IF(E9402=\"\",F9401,E9402/MAX($E$9:E9402)-1)))","v":""}]
[null,null,null,null,null,{"$f":"IF(B9403=\"\",\"\",IF(C9403=\"\",F9402,IF(E9403=\"\",F9402,E9403/MAX($E$9:E9403)-1)))","v":""}]
[null,null,null,null,null,{"$f":"IF(B9404=\"\",\"\",IF(C9404=\"\",F9403,IF(E9404=\"\",F9403,E9404/MAX($E$9:E9404)-1)))","v":""}]
[null,null,null,null,null,{"$f":"IF(B9405=\"\",\"\",IF(C9405=\"\",F9404,IF(E9405=\"\",F9404,E9405/MAX($E$9:E9405)-1)))","v":""}]
[null,null,null,null,null,{"$f":"IF(B9406=\"\",\"\",IF(C9406=\"\",F9405,IF(E9406=\"\",F9405,E9406/MAX($E$9:E9406)-1)))","v":""}]
[null,null,null,null,null,{"$f":"IF(B9407=\"\",\"\",IF(C9407=\"\",F9406,IF(E9407=\"\",F9406,E9407/MAX($E$9:E9407)-1)))","v":""}]
[null,null,null,null,null,{"$f":"IF(B9408=\"\",\"\",IF(C9408=\"\",F9407,IF(E9408=\"\",F9407,E9408/MAX($E$9:E9408)-1)))","v":""}]
[null,null,null,null,null,{"$f":"IF(B9409=\"\",\"\",IF(C9409=\"\",F9408,IF(E9409=\"\",F9408,E9409/MAX($E$9:E9409)-1)))","v":""}]
[null,null,null,null,null,{"$f":"IF(B9410=\"\",\"\",IF(C9410=\"\",F9409,IF(E9410=\"\",F9409,E9410/MAX($E$9:E9410)-1)))","v":""}]
[null,null,null,null,null,{"$f":"IF(B9411=\"\",\"\",IF(C9411=\"\",F9410,IF(E9411=\"\",F9410,E9411/MAX($E$9:E9411)-1)))","v":""}]
[null,null,null,null,null,{"$f":"IF(B9412=\"\",\"\",IF(C9412=\"\",F9411,IF(E9412=\"\",F9411,E9412/MAX($E$9:E9412)-1)))","v":""}]
[null,null,null,null,null,{"$f":"IF(B9413=\"\",\"\",IF(C9413=\"\",F9412,IF(E9413=\"\",F9412,E9413/MAX($E$9:E9413)-1)))","v":""}]
[null,null,null,null,null,{"$f":"IF(B9414=\"\",\"\",IF(C9414=\"\",F9413,IF(E9414=\"\",F9413,E9414/MAX($E$9:E9414)-1)))","v":""}]
[null,null,null,null,null,{"$f":"IF(B9415=\"\",\"\",IF(C9415=\"\",F9414,IF(E9415=\"\",F9414,E9415/MAX($E$9:E9415)-1)))","v":""}]
[null,null,null,null,null,{"$f":"IF(B9416=\"\",\"\",IF(C9416=\"\",F9415,IF(E9416=\"\",F9415,E9416/MAX($E$9:E9416)-1)))","v":""}]
[null,null,null,null,null,{"$f":"IF(B9417=\"\",\"\",IF(C9417=\"\",F9416,IF(E9417=\"\",F9416,E9417/MAX($E$9:E9417)-1)))","v":""}]
[null,null,null,null,null,{"$f":"IF(B9418=\"\",\"\",IF(C9418=\"\",F9417,IF(E9418=\"\",F9417,E9418/MAX($E$9:E9418)-1)))","v":""}]
[null,null,null,null,null,{"$f":"IF(B9419=\"\",\"\",IF(C9419=\"\",F9418,IF(E9419=\"\",F9418,E9419/MAX($E$9:E9419)-1)))","v":""}]
[null,null,null,null,null,{"$f":"IF(B9420=\"\",\"\",IF(C9420=\"\",F9419,IF(E9420=\"\",F9419,E9420/MAX($E$9:E9420)-1)))","v":""}]
[null,null,null,null,null,{"$f":"IF(B9421=\"\",\"\",IF(C9421=\"\",F9420,IF(E9421=\"\",F9420,E9421/MAX($E$9:E9421)-1)))","v":""}]
[null,null,null,null,null,{"$f":"IF(B9422=\"\",\"\",IF(C9422=\"\",F9421,IF(E9422=\"\",F9421,E9422/MAX($E$9:E9422)-1)))","v":""}]
[null,null,null,null,null,{"$f":"IF(B9423=\"\",\"\",IF(C9423=\"\",F9422,IF(E9423=\"\",F9422,E9423/MAX($E$9:E9423)-1)))","v":""}]
[null,null,null,null,null,{"$f":"IF(B9424=\"\",\"\",IF(C9424=\"\",F9423,IF(E9424=\"\",F9423,E9424/MAX($E$9:E9424)-1)))","v":""}]
[null,null,null,null,null,{"$f":"IF(B9425=\"\",\"\",IF(C9425=\"\",F9424,IF(E9425=\"\",F9424,E9425/MAX($E$9:E9425)-1)))","v":""}]
[null,null,null,null,null,{"$f":"IF(B9426=\"\",\"\",IF(C9426=\"\",F9425,IF(E9426=\"\",F9425,E9426/MAX($E$9:E9426)-1)))","v":""}]
[null,null,null,null,null,{"$f":"IF(B9427=\"\",\"\",IF(C9427=\"\",F9426,IF(E9427=\"\",F9426,E9427/MAX($E$9:E9427)-1)))","v":""}]
[null,null,null,null,null,{"$f":"IF(B9428=\"\",\"\",IF(C9428=\"\",F9427,IF(E9428=\"\",F9427,E9428/MAX($E$9:E9428)-1)))","v":""}]
[null,null,null,null,null,{"$f":"IF(B9429=\"\",\"\",IF(C9429=\"\",F9428,IF(E9429=\"\",F9428,E9429/MAX($E$9:E9429)-1)))","v":""}]
[null,null,null,null,null,{"$f":"IF(B9430=\"\",\"\",IF(C9430=\"\",F9429,IF(E9430=\"\",F9429,E9430/MAX($E$9:E9430)-1)))","v":""}]
[null,null,null,null,null,{"$f":"IF(B9431=\"\",\"\",IF(C9431=\"\",F9430,IF(E9431=\"\",F9430,E9431/MAX($E$9:E9431)-1)))","v":""}]
[null,null,null,null,null,{"$f":"IF(B9432=\"\",\"\",IF(C9432=\"\",F9431,IF(E9432=\"\",F9431,E9432/MAX($E$9:E9432)-1)))","v":""}]
[null,null,null,null,null,{"$f":"IF(B9433=\"\",\"\",IF(C9433=\"\",F9432,IF(E9433=\"\",F9432,E9433/MAX($E$9:E9433)-1)))","v":""}]
[null,null,null,null,null,{"$f":"IF(B9434=\"\",\"\",IF(C9434=\"\",F9433,IF(E9434=\"\",F9433,E9434/MAX($E$9:E9434)-1)))","v":""}]
[null,null,null,null,null,{"$f":"IF(B9435=\"\",\"\",IF(C9435=\"\",F9434,IF(E9435=\"\",F9434,E9435/MAX($E$9:E9435)-1)))","v":""}]
[null,null,null,null,null,{"$f":"IF(B9436=\"\",\"\",IF(C9436=\"\",F9435,IF(E9436=\"\",F9435,E9436/MAX($E$9:E9436)-1)))","v":""}]
[null,null,null,null,null,{"$f":"IF(B9437=\"\",\"\",IF(C9437=\"\",F9436,IF(E9437=\"\",F9436,E9437/MAX($E$9:E9437)-1)))","v":""}]
[null,null,null,null,null,{"$f":"IF(B9438=\"\",\"\",IF(C9438=\"\",F9437,IF(E9438=\"\",F9437,E9438/MAX($E$9:E9438)-1)))","v":""}]
[null,null,null,null,null,{"$f":"IF(B9439=\"\",\"\",IF(C9439=\"\",F9438,IF(E9439=\"\",F9438,E9439/MAX($E$9:E9439)-1)))","v":""}]
[null,null,null,null,null,{"$f":"IF(B9440=\"\",\"\",IF(C9440=\"\",F9439,IF(E9440=\"\",F9439,E9440/MAX($E$9:E9440)-1)))","v":""}]
[null,null,null,null,null,{"$f":"IF(B9441=\"\",\"\",IF(C9441=\"\",F9440,IF(E9441=\"\",F9440,E9441/MAX($E$9:E9441)-1)))","v":""}]
[null,null,null,null,null,{"$f":"IF(B9442=\"\",\"\",IF(C9442=\"\",F9441,IF(E9442=\"\",F9441,E9442/MAX($E$9:E9442)-1)))","v":""}]
[null,null,null,null,null,{"$f":"IF(B9443=\"\",\"\",IF(C9443=\"\",F9442,IF(E9443=\"\",F9442,E9443/MAX($E$9:E9443)-1)))","v":""}]
[null,null,null,null,null,{"$f":"IF(B9444=\"\",\"\",IF(C9444=\"\",F9443,IF(E9444=\"\",F9443,E9444/MAX($E$9:E9444)-1)))","v":""}]
[null,null,null,null,null,{"$f":"IF(B9445=\"\",\"\",IF(C9445=\"\",F9444,IF(E9445=\"\",F9444,E9445/MAX($E$9:E9445)-1)))","v":""}]
[null,null,null,null,null,{"$f":"IF(B9446=\"\",\"\",IF(C9446=\"\",F9445,IF(E9446=\"\",F9445,E9446/MAX($E$9:E9446)-1)))","v":""}]
[null,null,null,null,null,{"$f":"IF(B9447=\"\",\"\",IF(C9447=\"\",F9446,IF(E9447=\"\",F9446,E9447/MAX($E$9:E9447)-1)))","v":""}]
[null,null,null,null,null,{"$f":"IF(B9448=\"\",\"\",IF(C9448=\"\",F9447,IF(E9448=\"\",F9447,E9448/MAX($E$9:E9448)-1)))","v":""}]
[null,null,null,null,null,{"$f":"IF(B9449=\"\",\"\",IF(C9449=\"\",F9448,IF(E9449=\"\",F9448,E9449/MAX($E$9:E9449)-1)))","v":""}]
[null,null,null,null,null,{"$f":"IF(B9450=\"\",\"\",IF(C9450=\"\",F9449,IF(E9450=\"\",F9449,E9450/MAX($E$9:E9450)-1)))","v":""}]
[null,null,null,null,null,{"$f":"IF(B9451=\"\",\"\",IF(C9451=\"\",F9450,IF(E9451=\"\",F9450,E9451/MAX($E$9:E9451)-1)))","v":""}]
[null,null,null,null,null,{"$f":"IF(B9452=\"\",\"\",IF(C9452=\"\",F9451,IF(E9452=\"\",F9451,E9452/MAX($E$9:E9452)-1)))","v":""}]
[null,null,null,null,null,{"$f":"IF(B9453=\"\",\"\",IF(C9453=\"\",F9452,IF(E9453=\"\",F9452,E9453/MAX($E$9:E9453)-1)))","v":""}]
[null,null,null,null,null,{"$f":"IF(B9454=\"\",\"\",IF(C9454=\"\",F9453,IF(E9454=\"\",F9453,E9454/MAX($E$9:E9454)-1)))","v":""}]
[null,null,null,null,null,{"$f":"IF(B9455=\"\",\"\",IF(C9455=\"\",F9454,IF(E9455=\"\",F9454,E9455/MAX($E$9:E9455)-1)))","v":""}]
[null,null,null,null,null,{"$f":"IF(B9456=\"\",\"\",IF(C9456=\"\",F9455,IF(E9456=\"\",F9455,E9456/MAX($E$9:E9456)-1)))","v":""}]
[null,null,null,null,null,{"$f":"IF(B9457=\"\",\"\",IF(C9457=\"\",F9456,IF(E9457=\"\",F9456,E9457/MAX($E$9:E9457)-1)))","v":""}]
[null,null,null,null,null,{"$f":"IF(B9458=\"\",\"\",IF(C9458=\"\",F9457,IF(E9458=\"\",F9457,E9458/MAX($E$9:E9458)-1)))","v":""}]
[null,null,null,null,null,{"$f":"IF(B9459=\"\",\"\",IF(C9459=\"\",F9458,IF(E9459=\"\",F9458,E9459/MAX($E$9:E9459)-1)))","v":""}]
[null,null,null,null,null,{"$f":"IF(B9460=\"\",\"\",IF(C9460=\"\",F9459,IF(E9460=\"\",F9459,E9460/MAX($E$9:E9460)-1)))","v":""}]
[null,null,null,null,null,{"$f":"IF(B9461=\"\",\"\",IF(C9461=\"\",F9460,IF(E9461=\"\",F9460,E9461/MAX($E$9:E9461)-1)))","v":""}]
[null,null,null,null,null,{"$f":"IF(B9462=\"\",\"\",IF(C9462=\"\",F9461,IF(E9462=\"\",F9461,E9462/MAX($E$9:E9462)-1)))","v":""}]
[null,null,null,null,null,{"$f":"IF(B9463=\"\",\"\",IF(C9463=\"\",F9462,IF(E9463=\"\",F9462,E9463/MAX($E$9:E9463)-1)))","v":""}]
[null,null,null,null,null,{"$f":"IF(B9464=\"\",\"\",IF(C9464=\"\",F9463,IF(E9464=\"\",F9463,E9464/MAX($E$9:E9464)-1)))","v":""}]
[null,null,null,null,null,{"$f":"IF(B9465=\"\",\"\",IF(C9465=\"\",F9464,IF(E9465=\"\",F9464,E9465/MAX($E$9:E9465)-1)))","v":""}]
[null,null,null,null,null,{"$f":"IF(B9466=\"\",\"\",IF(C9466=\"\",F9465,IF(E9466=\"\",F9465,E9466/MAX($E$9:E9466)-1)))","v":""}]
[null,null,null,null,null,{"$f":"IF(B9467=\"\",\"\",IF(C9467=\"\",F9466,IF(E9467=\"\",F9466,E9467/MAX($E$9:E9467)-1)))","v":""}]
[null,null,null,null,null,{"$f":"IF(B9468=\"\",\"\",IF(C9468=\"\",F9467,IF(E9468=\"\",F9467,E9468/MAX($E$9:E9468)-1)))","v":""}]
[null,null,null,null,null,{"$f":"IF(B9469=\"\",\"\",IF(C9469=\"\",F9468,IF(E9469=\"\",F9468,E9469/MAX($E$9:E9469)-1)))","v":""}]
[null,null,null,null,null,{"$f":"IF(B9470=\"\",\"\",IF(C9470=\"\",F9469,IF(E9470=\"\",F9469,E9470/MAX($E$9:E9470)-1)))","v":""}]
[null,null,null,null,null,{"$f":"IF(B9471=\"\",\"\",IF(C9471=\"\",F9470,IF(E9471=\"\",F9470,E9471/MAX($E$9:E9471)-1)))","v":""}]
[null,null,null,null,null,{"$f":"IF(B9472=\"\",\"\",IF(C9472=\"\",F9471,IF(E9472=\"\",F9471,E9472/MAX($E$9:E9472)-1)))","v":""}]
[null,null,null,null,null,{"$f":"IF(B9473=\"\",\"\",IF(C9473=\"\",F9472,IF(E9473=\"\",F9472,E9473/MAX($E$9:E9473)-1)))","v":""}]
[null,null,null,null,null,{"$f":"IF(B9474=\"\",\"\",IF(C9474=\"\",F9473,IF(E9474=\"\",F9473,E9474/MAX($E$9:E9474)-1)))","v":""}]
[null,null,null,null,null,{"$f":"IF(B9475=\"\",\"\",IF(C9475=\"\",F9474,IF(E9475=\"\",F9474,E9475/MAX($E$9:E9475)-1)))","v":""}]
[null,null,null,null,null,{"$f":"IF(B9476=\"\",\"\",IF(C9476=\"\",F9475,IF(E9476=\"\",F9475,E9476/MAX($E$9:E9476)-1)))","v":""}]
[null,null,null,null,null,{"$f":"IF(B9477=\"\",\"\",IF(C9477=\"\",F9476,IF(E9477=\"\",F9476,E9477/MAX($E$9:E9477)-1)))","v":""}]
[null,null,null,null,null,{"$f":"IF(B9478=\"\",\"\",IF(C9478=\"\",F9477,IF(E9478=\"\",F9477,E9478/MAX($E$9:E9478)-1)))","v":""}]
[null,null,null,null,null,{"$f":"IF(B9479=\"\",\"\",IF(C9479=\"\",F9478,IF(E9479=\"\",F9478,E9479/MAX($E$9:E9479)-1)))","v":""}]
[null,null,null,null,null,{"$f":"IF(B9480=\"\",\"\",IF(C9480=\"\",F9479,IF(E9480=\"\",F9479,E9480/MAX($E$9:E9480)-1)))","v":""}]
[null,null,null,null,null,{"$f":"IF(B9481=\"\",\"\",IF(C9481=\"\",F9480,IF(E9481=\"\",F9480,E9481/MAX($E$9:E9481)-1)))","v":""}]
[null,null,null,null,null,{"$f":"IF(B9482=\"\",\"\",IF(C9482=\"\",F9481,IF(E9482=\"\",F9481,E9482/MAX($E$9:E9482)-1)))","v":""}]
[null,null,null,null,null,{"$f":"IF(B9483=\"\",\"\",IF(C9483=\"\",F9482,IF(E9483=\"\",F9482,E9483/MAX($E$9:E9483)-1)))","v":""}]
[null,null,null,null,null,{"$f":"IF(B9484=\"\",\"\",IF(C9484=\"\",F9483,IF(E9484=\"\",F9483,E9484/MAX($E$9:E9484)-1)))","v":""}]
[null,null,null,null,null,{"$f":"IF(B9485=\"\",\"\",IF(C9485=\"\",F9484,IF(E9485=\"\",F9484,E9485/MAX($E$9:E9485)-1)))","v":""}]
[null,null,null,null,null,{"$f":"IF(B9486=\"\",\"\",IF(C9486=\"\",F9485,IF(E9486=\"\",F9485,E9486/MAX($E$9:E9486)-1)))","v":""}]
[null,null,null,null,null,{"$f":"IF(B9487=\"\",\"\",IF(C9487=\"\",F9486,IF(E9487=\"\",F9486,E9487/MAX($E$9:E9487)-1)))","v":""}]
[null,null,null,null,null,{"$f":"IF(B9488=\"\",\"\",IF(C9488=\"\",F9487,IF(E9488=\"\",F9487,E9488/MAX($E$9:E9488)-1)))","v":""}]
[null,null,null,null,null,{"$f":"IF(B9489=\"\",\"\",IF(C9489=\"\",F9488,IF(E9489=\"\",F9488,E9489/MAX($E$9:E9489)-1)))","v":""}]
[null,null,null,null,null,{"$f":"IF(B9490=\"\",\"\",IF(C9490=\"\",F9489,IF(E9490=\"\",F9489,E9490/MAX($E$9:E9490)-1)))","v":""}]
[null,null,null,null,null,{"$f":"IF(B9491=\"\",\"\",IF(C9491=\"\",F9490,IF(E9491=\"\",F9490,E9491/MAX($E$9:E9491)-1)))","v":""}]
[null,null,null,null,null,{"$f":"IF(B9492=\"\",\"\",IF(C9492=\"\",F9491,IF(E9492=\"\",F9491,E9492/MAX($E$9:E9492)-1)))","v":""}]
[null,null,null,null,null,{"$f":"IF(B9493=\"\",\"\",IF(C9493=\"\",F9492,IF(E9493=\"\",F9492,E9493/MAX($E$9:E9493)-1)))","v":""}]
[null,null,null,null,null,{"$f":"IF(B9494=\"\",\"\",IF(C9494=\"\",F9493,IF(E9494=\"\",F9493,E9494/MAX($E$9:E9494)-1)))","v":""}]
[null,null,null,null,null,{"$f":"IF(B9495=\"\",\"\",IF(C9495=\"\",F9494,IF(E9495=\"\",F9494,E9495/MAX($E$9:E9495)-1)))","v":""}]
[null,null,null,null,null,{"$f":"IF(B9496=\"\",\"\",IF(C9496=\"\",F9495,IF(E9496=\"\",F9495,E9496/MAX($E$9:E9496)-1)))","v":""}]
[null,null,null,null,null,{"$f":"IF(B9497=\"\",\"\",IF(C9497=\"\",F9496,IF(E9497=\"\",F9496,E9497/MAX($E$9:E9497)-1)))","v":""}]
[null,null,null,null,null,{"$f":"IF(B9498=\"\",\"\",IF(C9498=\"\",F9497,IF(E9498=\"\",F9497,E9498/MAX($E$9:E9498)-1)))","v":""}]
[null,null,null,null,null,{"$f":"IF(B9499=\"\",\"\",IF(C9499=\"\",F9498,IF(E9499=\"\",F9498,E9499/MAX($E$9:E9499)-1)))","v":""}]
[null,null,null,null,null,{"$f":"IF(B9500=\"\",\"\",IF(C9500=\"\",F9499,IF(E9500=\"\",F9499,E9500/MAX($E$9:E9500)-1)))","v":""}]
[null,null,null,null,null,{"$f":"IF(B9501=\"\",\"\",IF(C9501=\"\",F9500,IF(E9501=\"\",F9500,E9501/MAX($E$9:E9501)-1)))","v":""}]
[null,null,null,null,null,{"$f":"IF(B9502=\"\",\"\",IF(C9502=\"\",F9501,IF(E9502=\"\",F9501,E9502/MAX($E$9:E9502)-1)))","v":""}]
[null,null,null,null,null,{"$f":"IF(B9503=\"\",\"\",IF(C9503=\"\",F9502,IF(E9503=\"\",F9502,E9503/MAX($E$9:E9503)-1)))","v":""}]
[null,null,null,null,null,{"$f":"IF(B9504=\"\",\"\",IF(C9504=\"\",F9503,IF(E9504=\"\",F9503,E9504/MAX($E$9:E9504)-1)))","v":""}]
[null,null,null,null,null,{"$f":"IF(B9505=\"\",\"\",IF(C9505=\"\",F9504,IF(E9505=\"\",F9504,E9505/MAX($E$9:E9505)-1)))","v":""}]
[null,null,null,null,null,{"$f":"IF(B9506=\"\",\"\",IF(C9506=\"\",F9505,IF(E9506=\"\",F9505,E9506/MAX($E$9:E9506)-1)))","v":""}]
[null,null,null,null,null,{"$f":"IF(B9507=\"\",\"\",IF(C9507=\"\",F9506,IF(E9507=\"\",F9506,E9507/MAX($E$9:E9507)-1)))","v":""}]
[null,null,null,null,null,{"$f":"IF(B9508=\"\",\"\",IF(C9508=\"\",F9507,IF(E9508=\"\",F9507,E9508/MAX($E$9:E9508)-1)))","v":""}]
[null,null,null,null,null,{"$f":"IF(B9509=\"\",\"\",IF(C9509=\"\",F9508,IF(E9509=\"\",F9508,E9509/MAX($E$9:E9509)-1)))","v":""}]
[null,null,null,null,null,{"$f":"IF(B9510=\"\",\"\",IF(C9510=\"\",F9509,IF(E9510=\"\",F9509,E9510/MAX($E$9:E9510)-1)))","v":""}]
[null,null,null,null,null,{"$f":"IF(B9511=\"\",\"\",IF(C9511=\"\",F9510,IF(E9511=\"\",F9510,E9511/MAX($E$9:E9511)-1)))","v":""}]
[null,null,null,null,null,{"$f":"IF(B9512=\"\",\"\",IF(C9512=\"\",F9511,IF(E9512=\"\",F9511,E9512/MAX($E$9:E9512)-1)))","v":""}]
[null,null,null,null,null,{"$f":"IF(B9513=\"\",\"\",IF(C9513=\"\",F9512,IF(E9513=\"\",F9512,E9513/MAX($E$9:E9513)-1)))","v":""}]
[null,null,null,null,null,{"$f":"IF(B9514=\"\",\"\",IF(C9514=\"\",F9513,IF(E9514=\"\",F9513,E9514/MAX($E$9:E9514)-1)))","v":""}]
[null,null,null,null,null,{"$f":"IF(B9515=\"\",\"\",IF(C9515=\"\",F9514,IF(E9515=\"\",F9514,E9515/MAX($E$9:E9515)-1)))","v":""}]
[null,null,null,null,null,{"$f":"IF(B9516=\"\",\"\",IF(C9516=\"\",F9515,IF(E9516=\"\",F9515,E9516/MAX($E$9:E9516)-1)))","v":""}]
[null,null,null,null,null,{"$f":"IF(B9517=\"\",\"\",IF(C9517=\"\",F9516,IF(E9517=\"\",F9516,E9517/MAX($E$9:E9517)-1)))","v":""}]
[null,null,null,null,null,{"$f":"IF(B9518=\"\",\"\",IF(C9518=\"\",F9517,IF(E9518=\"\",F9517,E9518/MAX($E$9:E9518)-1)))","v":""}]
[null,null,null,null,null,{"$f":"IF(B9519=\"\",\"\",IF(C9519=\"\",F9518,IF(E9519=\"\",F9518,E9519/MAX($E$9:E9519)-1)))","v":""}]
[null,null,null,null,null,{"$f":"IF(B9520=\"\",\"\",IF(C9520=\"\",F9519,IF(E9520=\"\",F9519,E9520/MAX($E$9:E9520)-1)))","v":""}]
[null,null,null,null,null,{"$f":"IF(B9521=\"\",\"\",IF(C9521=\"\",F9520,IF(E9521=\"\",F9520,E9521/MAX($E$9:E9521)-1)))","v":""}]
[null,null,null,null,null,{"$f":"IF(B9522=\"\",\"\",IF(C9522=\"\",F9521,IF(E9522=\"\",F9521,E9522/MAX($E$9:E9522)-1)))","v":""}]
[null,null,null,null,null,{"$f":"IF(B9523=\"\",\"\",IF(C9523=\"\",F9522,IF(E9523=\"\",F9522,E9523/MAX($E$9:E9523)-1)))","v":""}]
[null,null,null,null,null,{"$f":"IF(B9524=\"\",\"\",IF(C9524=\"\",F9523,IF(E9524=\"\",F9523,E9524/MAX($E$9:E9524)-1)))","v":""}]
[null,null,null,null,null,{"$f":"IF(B9525=\"\",\"\",IF(C9525=\"\",F9524,IF(E9525=\"\",F9524,E9525/MAX($E$9:E9525)-1)))","v":""}]
[null,null,null,null,null,{"$f":"IF(B9526=\"\",\"\",IF(C9526=\"\",F9525,IF(E9526=\"\",F9525,E9526/MAX($E$9:E9526)-1)))","v":""}]
[null,null,null,null,null,{"$f":"IF(B9527=\"\",\"\",IF(C9527=\"\",F9526,IF(E9527=\"\",F9526,E9527/MAX($E$9:E9527)-1)))","v":""}]
[null,null,null,null,null,{"$f":"IF(B9528=\"\",\"\",IF(C9528=\"\",F9527,IF(E9528=\"\",F9527,E9528/MAX($E$9:E9528)-1)))","v":""}]
[null,null,null,null,null,{"$f":"IF(B9529=\"\",\"\",IF(C9529=\"\",F9528,IF(E9529=\"\",F9528,E9529/MAX($E$9:E9529)-1)))","v":""}]
[null,null,null,null,null,{"$f":"IF(B9530=\"\",\"\",IF(C9530=\"\",F9529,IF(E9530=\"\",F9529,E9530/MAX($E$9:E9530)-1)))","v":""}]
[null,null,null,null,null,{"$f":"IF(B9531=\"\",\"\",IF(C9531=\"\",F9530,IF(E9531=\"\",F9530,E9531/MAX($E$9:E9531)-1)))","v":""}]
[null,null,null,null,null,{"$f":"IF(B9532=\"\",\"\",IF(C9532=\"\",F9531,IF(E9532=\"\",F9531,E9532/MAX($E$9:E9532)-1)))","v":""}]
[null,null,null,null,null,{"$f":"IF(B9533=\"\",\"\",IF(C9533=\"\",F9532,IF(E9533=\"\",F9532,E9533/MAX($E$9:E9533)-1)))","v":""}]
[null,null,null,null,null,{"$f":"IF(B9534=\"\",\"\",IF(C9534=\"\",F9533,IF(E9534=\"\",F9533,E9534/MAX($E$9:E9534)-1)))","v":""}]
[null,null,null,null,null,{"$f":"IF(B9535=\"\",\"\",IF(C9535=\"\",F9534,IF(E9535=\"\",F9534,E9535/MAX($E$9:E9535)-1)))","v":""}]
[null,null,null,null,null,{"$f":"IF(B9536=\"\",\"\",IF(C9536=\"\",F9535,IF(E9536=\"\",F9535,E9536/MAX($E$9:E9536)-1)))","v":""}]
[null,null,null,null,null,{"$f":"IF(B9537=\"\",\"\",IF(C9537=\"\",F9536,IF(E9537=\"\",F9536,E9537/MAX($E$9:E9537)-1)))","v":""}]
[null,null,null,null,null,{"$f":"IF(B9538=\"\",\"\",IF(C9538=\"\",F9537,IF(E9538=\"\",F9537,E9538/MAX($E$9:E9538)-1)))","v":""}]
[null,null,null,null,null,{"$f":"IF(B9539=\"\",\"\",IF(C9539=\"\",F9538,IF(E9539=\"\",F9538,E9539/MAX($E$9:E9539)-1)))","v":""}]
[null,null,null,null,null,{"$f":"IF(B9540=\"\",\"\",IF(C9540=\"\",F9539,IF(E9540=\"\",F9539,E9540/MAX($E$9:E9540)-1)))","v":""}]
[null,null,null,null,null,{"$f":"IF(B9541=\"\",\"\",IF(C9541=\"\",F9540,IF(E9541=\"\",F9540,E9541/MAX($E$9:E9541)-1)))","v":""}]
[null,null,null,null,null,{"$f":"IF(B9542=\"\",\"\",IF(C9542=\"\",F9541,IF(E9542=\"\",F9541,E9542/MAX($E$9:E9542)-1)))","v":""}]
[null,null,null,null,null,{"$f":"IF(B9543=\"\",\"\",IF(C9543=\"\",F9542,IF(E9543=\"\",F9542,E9543/MAX($E$9:E9543)-1)))","v":""}]
[null,null,null,null,null,{"$f":"IF(B9544=\"\",\"\",IF(C9544=\"\",F9543,IF(E9544=\"\",F9543,E9544/MAX($E$9:E9544)-1)))","v":""}]
[null,null,null,null,null,{"$f":"IF(B9545=\"\",\"\",IF(C9545=\"\",F9544,IF(E9545=\"\",F9544,E9545/MAX($E$9:E9545)-1)))","v":""}]
[null,null,null,null,null,{"$f":"IF(B9546=\"\",\"\",IF(C9546=\"\",F9545,IF(E9546=\"\",F9545,E9546/MAX($E$9:E9546)-1)))","v":""}]
[null,null,null,null,null,{"$f":"IF(B9547=\"\",\"\",IF(C9547=\"\",F9546,IF(E9547=\"\",F9546,E9547/MAX($E$9:E9547)-1)))","v":""}]
[null,null,null,null,null,{"$f":"IF(B9548=\"\",\"\",IF(C9548=\"\",F9547,IF(E9548=\"\",F9547,E9548/MAX($E$9:E9548)-1)))","v":""}]
[null,null,null,null,null,{"$f":"IF(B9549=\"\",\"\",IF(C9549=\"\",F9548,IF(E9549=\"\",F9548,E9549/MAX($E$9:E9549)-1)))","v":""}]
[null,null,null,null,null,{"$f":"IF(B9550=\"\",\"\",IF(C9550=\"\",F9549,IF(E9550=\"\",F9549,E9550/MAX($E$9:E9550)-1)))","v":""}]
[null,null,null,null,null,{"$f":"IF(B9551=\"\",\"\",IF(C9551=\"\",F9550,IF(E9551=\"\",F9550,E9551/MAX($E$9:E9551)-1)))","v":""}]
[null,null,null,null,null,{"$f":"IF(B9552=\"\",\"\",IF(C9552=\"\",F9551,IF(E9552=\"\",F9551,E9552/MAX($E$9:E9552)-1)))","v":""}]
[null,null,null,null,null,{"$f":"IF(B9553=\"\",\"\",IF(C9553=\"\",F9552,IF(E9553=\"\",F9552,E9553/MAX($E$9:E9553)-1)))","v":""}]
[null,null,null,null,null,{"$f":"IF(B9554=\"\",\"\",IF(C9554=\"\",F9553,IF(E9554=\"\",F9553,E9554/MAX($E$9:E9554)-1)))","v":""}]
[null,null,null,null,null,{"$f":"IF(B9555=\"\",\"\",IF(C9555=\"\",F9554,IF(E9555=\"\",F9554,E9555/MAX($E$9:E9555)-1)))","v":""}]
[null,null,null,null,null,{"$f":"IF(B9556=\"\",\"\",IF(C9556=\"\",F9555,IF(E9556=\"\",F9555,E9556/MAX($E$9:E9556)-1)))","v":""}]
[null,null,null,null,null,{"$f":"IF(B9557=\"\",\"\",IF(C9557=\"\",F9556,IF(E9557=\"\",F9556,E9557/MAX($E$9:E9557)-1)))","v":""}]
[null,null,null,null,null,{"$f":"IF(B9558=\"\",\"\",IF(C9558=\"\",F9557,IF(E9558=\"\",F9557,E9558/MAX($E$9:E9558)-1)))","v":""}]
[null,null,null,null,null,{"$f":"IF(B9559=\"\",\"\",IF(C9559=\"\",F9558,IF(E9559=\"\",F9558,E9559/MAX($E$9:E9559)-1)))","v":""}]
[null,null,null,null,null,{"$f":"IF(B9560=\"\",\"\",IF(C9560=\"\",F9559,IF(E9560=\"\",F9559,E9560/MAX($E$9:E9560)-1)))","v":""}]
[null,null,null,null,null,{"$f":"IF(B9561=\"\",\"\",IF(C9561=\"\",F9560,IF(E9561=\"\",F9560,E9561/MAX($E$9:E9561)-1)))","v":""}]
[null,null,null,null,null,{"$f":"IF(B9562=\"\",\"\",IF(C9562=\"\",F9561,IF(E9562=\"\",F9561,E9562/MAX($E$9:E9562)-1)))","v":""}]
[null,null,null,null,null,{"$f":"IF(B9563=\"\",\"\",IF(C9563=\"\",F9562,IF(E9563=\"\",F9562,E9563/MAX($E$9:E9563)-1)))","v":""}]
[null,null,null,null,null,{"$f":"IF(B9564=\"\",\"\",IF(C9564=\"\",F9563,IF(E9564=\"\",F9563,E9564/MAX($E$9:E9564)-1)))","v":""}]
[null,null,null,null,null,{"$f":"IF(B9565=\"\",\"\",IF(C9565=\"\",F9564,IF(E9565=\"\",F9564,E9565/MAX($E$9:E9565)-1)))","v":""}]
[null,null,null,null,null,{"$f":"IF(B9566=\"\",\"\",IF(C9566=\"\",F9565,IF(E9566=\"\",F9565,E9566/MAX($E$9:E9566)-1)))","v":""}]
[null,null,null,null,null,{"$f":"IF(B9567=\"\",\"\",IF(C9567=\"\",F9566,IF(E9567=\"\",F9566,E9567/MAX($E$9:E9567)-1)))","v":""}]
[null,null,null,null,null,{"$f":"IF(B9568=\"\",\"\",IF(C9568=\"\",F9567,IF(E9568=\"\",F9567,E9568/MAX($E$9:E9568)-1)))","v":""}]
[null,null,null,null,null,{"$f":"IF(B9569=\"\",\"\",IF(C9569=\"\",F9568,IF(E9569=\"\",F9568,E9569/MAX($E$9:E9569)-1)))","v":""}]
[null,null,null,null,null,{"$f":"IF(B9570=\"\",\"\",IF(C9570=\"\",F9569,IF(E9570=\"\",F9569,E9570/MAX($E$9:E9570)-1)))","v":""}]
[null,null,null,null,null,{"$f":"IF(B9571=\"\",\"\",IF(C9571=\"\",F9570,IF(E9571=\"\",F9570,E9571/MAX($E$9:E9571)-1)))","v":""}]
[null,null,null,null,null,{"$f":"IF(B9572=\"\",\"\",IF(C9572=\"\",F9571,IF(E9572=\"\",F9571,E9572/MAX($E$9:E9572)-1)))","v":""}]
[null,null,null,null,null,{"$f":"IF(B9573=\"\",\"\",IF(C9573=\"\",F9572,IF(E9573=\"\",F9572,E9573/MAX($E$9:E9573)-1)))","v":""}]
[null,null,null,null,null,{"$f":"IF(B9574=\"\",\"\",IF(C9574=\"\",F9573,IF(E9574=\"\",F9573,E9574/MAX($E$9:E9574)-1)))","v":""}]
[null,null,null,null,null,{"$f":"IF(B9575=\"\",\"\",IF(C9575=\"\",F9574,IF(E9575=\"\",F9574,E9575/MAX($E$9:E9575)-1)))","v":""}]
[null,null,null,null,null,{"$f":"IF(B9576=\"\",\"\",IF(C9576=\"\",F9575,IF(E9576=\"\",F9575,E9576/MAX($E$9:E9576)-1)))","v":""}]
[null,null,null,null,null,{"$f":"IF(B9577=\"\",\"\",IF(C9577=\"\",F9576,IF(E9577=\"\",F9576,E9577/MAX($E$9:E9577)-1)))","v":""}]
[null,null,null,null,null,{"$f":"IF(B9578=\"\",\"\",IF(C9578=\"\",F9577,IF(E9578=\"\",F9577,E9578/MAX($E$9:E9578)-1)))","v":""}]
[null,null,null,null,null,{"$f":"IF(B9579=\"\",\"\",IF(C9579=\"\",F9578,IF(E9579=\"\",F9578,E9579/MAX($E$9:E9579)-1)))","v":""}]
[null,null,null,null,null,{"$f":"IF(B9580=\"\",\"\",IF(C9580=\"\",F9579,IF(E9580=\"\",F9579,E9580/MAX($E$9:E9580)-1)))","v":""}]
[null,null,null,null,null,{"$f":"IF(B9581=\"\",\"\",IF(C9581=\"\",F9580,IF(E9581=\"\",F9580,E9581/MAX($E$9:E9581)-1)))","v":""}]
[null,null,null,null,null,{"$f":"IF(B9582=\"\",\"\",IF(C9582=\"\",F9581,IF(E9582=\"\",F9581,E9582/MAX($E$9:E9582)-1)))","v":""}]
[null,null,null,null,null,{"$f":"IF(B9583=\"\",\"\",IF(C9583=\"\",F9582,IF(E9583=\"\",F9582,E9583/MAX($E$9:E9583)-1)))","v":""}]
[null,null,null,null,null,{"$f":"IF(B9584=\"\",\"\",IF(C9584=\"\",F9583,IF(E9584=\"\",F9583,E9584/MAX($E$9:E9584)-1)))","v":""}]
[null,null,null,null,null,{"$f":"IF(B9585=\"\",\"\",IF(C9585=\"\",F9584,IF(E9585=\"\",F9584,E9585/MAX($E$9:E9585)-1)))","v":""}]
[null,null,null,null,null,{"$f":"IF(B9586=\"\",\"\",IF(C9586=\"\",F9585,IF(E9586=\"\",F9585,E9586/MAX($E$9:E9586)-1)))","v":""}]
[null,null,null,null,null,{"$f":"IF(B9587=\"\",\"\",IF(C9587=\"\",F9586,IF(E9587=\"\",F9586,E9587/MAX($E$9:E9587)-1)))","v":""}]
[null,null,null,null,null,{"$f":"IF(B9588=\"\",\"\",IF(C9588=\"\",F9587,IF(E9588=\"\",F9587,E9588/MAX($E$9:E9588)-1)))","v":""}]
[null,null,null,null,null,{"$f":"IF(B9589=\"\",\"\",IF(C9589=\"\",F9588,IF(E9589=\"\",F9588,E9589/MAX($E$9:E9589)-1)))","v":""}]
[null,null,null,null,null,{"$f":"IF(B9590=\"\",\"\",IF(C9590=\"\",F9589,IF(E9590=\"\",F9589,E9590/MAX($E$9:E9590)-1)))","v":""}]
[null,null,null,null,null,{"$f":"IF(B9591=\"\",\"\",IF(C9591=\"\",F9590,IF(E9591=\"\",F9590,E9591/MAX($E$9:E9591)-1)))","v":""}]
[null,null,null,null,null,{"$f":"IF(B9592=\"\",\"\",IF(C9592=\"\",F9591,IF(E9592=\"\",F9591,E9592/MAX($E$9:E9592)-1)))","v":""}]
[null,null,null,null,null,{"$f":"IF(B9593=\"\",\"\",IF(C9593=\"\",F9592,IF(E9593=\"\",F9592,E9593/MAX($E$9:E9593)-1)))","v":""}]
[null,null,null,null,null,{"$f":"IF(B9594=\"\",\"\",IF(C9594=\"\",F9593,IF(E9594=\"\",F9593,E9594/MAX($E$9:E9594)-1)))","v":""}]
[null,null,null,null,null,{"$f":"IF(B9595=\"\",\"\",IF(C9595=\"\",F9594,IF(E9595=\"\",F9594,E9595/MAX($E$9:E9595)-1)))","v":""}]
[null,null,null,null,null,{"$f":"IF(B9596=\"\",\"\",IF(C9596=\"\",F9595,IF(E9596=\"\",F9595,E9596/MAX($E$9:E9596)-1)))","v":""}]
[null,null,null,null,null,{"$f":"IF(B9597=\"\",\"\",IF(C9597=\"\",F9596,IF(E9597=\"\",F9596,E9597/MAX($E$9:E9597)-1)))","v":""}]
[null,null,null,null,null,{"$f":"IF(B9598=\"\",\"\",IF(C9598=\"\",F9597,IF(E9598=\"\",F9597,E9598/MAX($E$9:E9598)-1)))","v":""}]
[null,null,null,null,null,{"$f":"IF(B9599=\"\",\"\",IF(C9599=\"\",F9598,IF(E9599=\"\",F9598,E9599/MAX($E$9:E9599)-1)))","v":""}]
[null,null,null,null,null,{"$f":"IF(B9600=\"\",\"\",IF(C9600=\"\",F9599,IF(E9600=\"\",F9599,E9600/MAX($E$9:E9600)-1)))","v":""}]
[null,null,null,null,null,{"$f":"IF(B9601=\"\",\"\",IF(C9601=\"\",F9600,IF(E9601=\"\",F9600,E9601/MAX($E$9:E9601)-1)))","v":""}]
[null,null,null,null,null,{"$f":"IF(B9602=\"\",\"\",IF(C9602=\"\",F9601,IF(E9602=\"\",F9601,E9602/MAX($E$9:E9602)-1)))","v":""}]
[null,null,null,null,null,{"$f":"IF(B9603=\"\",\"\",IF(C9603=\"\",F9602,IF(E9603=\"\",F9602,E9603/MAX($E$9:E9603)-1)))","v":""}]
[null,null,null,null,null,{"$f":"IF(B9604=\"\",\"\",IF(C9604=\"\",F9603,IF(E9604=\"\",F9603,E9604/MAX($E$9:E9604)-1)))","v":""}]
[null,null,null,null,null,{"$f":"IF(B9605=\"\",\"\",IF(C9605=\"\",F9604,IF(E9605=\"\",F9604,E9605/MAX($E$9:E9605)-1)))","v":""}]
[null,null,null,null,null,{"$f":"IF(B9606=\"\",\"\",IF(C9606=\"\",F9605,IF(E9606=\"\",F9605,E9606/MAX($E$9:E9606)-1)))","v":""}]
[null,null,null,null,null,{"$f":"IF(B9607=\"\",\"\",IF(C9607=\"\",F9606,IF(E9607=\"\",F9606,E9607/MAX($E$9:E9607)-1)))","v":""}]
[null,null,null,null,null,{"$f":"IF(B9608=\"\",\"\",IF(C9608=\"\",F9607,IF(E9608=\"\",F9607,E9608/MAX($E$9:E9608)-1)))","v":""}]
[null,null,null,null,null,{"$f":"IF(B9609=\"\",\"\",IF(C9609=\"\",F9608,IF(E9609=\"\",F9608,E9609/MAX($E$9:E9609)-1)))","v":""}]
[null,null,null,null,null,{"$f":"IF(B9610=\"\",\"\",IF(C9610=\"\",F9609,IF(E9610=\"\",F9609,E9610/MAX($E$9:E9610)-1)))","v":""}]
[null,null,null,null,null,{"$f":"IF(B9611=\"\",\"\",IF(C9611=\"\",F9610,IF(E9611=\"\",F9610,E9611/MAX($E$9:E9611)-1)))","v":""}]
[null,null,null,null,null,{"$f":"IF(B9612=\"\",\"\",IF(C9612=\"\",F9611,IF(E9612=\"\",F9611,E9612/MAX($E$9:E9612)-1)))","v":""}]
[null,null,null,null,null,{"$f":"IF(B9613=\"\",\"\",IF(C9613=\"\",F9612,IF(E9613=\"\",F9612,E9613/MAX($E$9:E9613)-1)))","v":""}]
[null,null,null,null,null,{"$f":"IF(B9614=\"\",\"\",IF(C9614=\"\",F9613,IF(E9614=\"\",F9613,E9614/MAX($E$9:E9614)-1)))","v":""}]
[null,null,null,null,null,{"$f":"IF(B9615=\"\",\"\",IF(C9615=\"\",F9614,IF(E9615=\"\",F9614,E9615/MAX($E$9:E9615)-1)))","v":""}]
[null,null,null,null,null,{"$f":"IF(B9616=\"\",\"\",IF(C9616=\"\",F9615,IF(E9616=\"\",F9615,E9616/MAX($E$9:E9616)-1)))","v":""}]
[null,null,null,null,null,{"$f":"IF(B9617=\"\",\"\",IF(C9617=\"\",F9616,IF(E9617=\"\",F9616,E9617/MAX($E$9:E9617)-1)))","v":""}]
[null,null,null,null,null,{"$f":"IF(B9618=\"\",\"\",IF(C9618=\"\",F9617,IF(E9618=\"\",F9617,E9618/MAX($E$9:E9618)-1)))","v":""}]
[null,null,null,null,null,{"$f":"IF(B9619=\"\",\"\",IF(C9619=\"\",F9618,IF(E9619=\"\",F9618,E9619/MAX($E$9:E9619)-1)))","v":""}]
[null,null,null,null,null,{"$f":"IF(B9620=\"\",\"\",IF(C9620=\"\",F9619,IF(E9620=\"\",F9619,E9620/MAX($E$9:E9620)-1)))","v":""}]
[null,null,null,null,null,{"$f":"IF(B9621=\"\",\"\",IF(C9621=\"\",F9620,IF(E9621=\"\",F9620,E9621/MAX($E$9:E9621)-1)))","v":""}]
[null,null,null,null,null,{"$f":"IF(B9622=\"\",\"\",IF(C9622=\"\",F9621,IF(E9622=\"\",F9621,E9622/MAX($E$9:E9622)-1)))","v":""}]
[null,null,null,null,null,{"$f":"IF(B9623=\"\",\"\",IF(C9623=\"\",F9622,IF(E9623=\"\",F9622,E9623/MAX($E$9:E9623)-1)))","v":""}]
[null,null,null,null,null,{"$f":"IF(B9624=\"\",\"\",IF(C9624=\"\",F9623,IF(E9624=\"\",F9623,E9624/MAX($E$9:E9624)-1)))","v":""}]
[null,null,null,null,null,{"$f":"IF(B9625=\"\",\"\",IF(C9625=\"\",F9624,IF(E9625=\"\",F9624,E9625/MAX($E$9:E9625)-1)))","v":""}]
[null,null,null,null,null,{"$f":"IF(B9626=\"\",\"\",IF(C9626=\"\",F9625,IF(E9626=\"\",F9625,E9626/MAX($E$9:E9626)-1)))","v":""}]
[null,null,null,null,null,{"$f":"IF(B9627=\"\",\"\",IF(C9627=\"\",F9626,IF(E9627=\"\",F9626,E9627/MAX($E$9:E9627)-1)))","v":""}]
[null,null,null,null,null,{"$f":"IF(B9628=\"\",\"\",IF(C9628=\"\",F9627,IF(E9628=\"\",F9627,E9628/MAX($E$9:E9628)-1)))","v":""}]
[null,null,null,null,null,{"$f":"IF(B9629=\"\",\"\",IF(C9629=\"\",F9628,IF(E9629=\"\",F9628,E9629/MAX($E$9:E9629)-1)))","v":""}]
[null,null,null,null,null,{"$f":"IF(B9630=\"\",\"\",IF(C9630=\"\",F9629,IF(E9630=\"\",F9629,E9630/MAX($E$9:E9630)-1)))","v":""}]
[null,null,null,null,null,{"$f":"IF(B9631=\"\",\"\",IF(C9631=\"\",F9630,IF(E9631=\"\",F9630,E9631/MAX($E$9:E9631)-1)))","v":""}]
[null,null,null,null,null,{"$f":"IF(B9632=\"\",\"\",IF(C9632=\"\",F9631,IF(E9632=\"\",F9631,E9632/MAX($E$9:E9632)-1)))","v":""}]
[null,null,null,null,null,{"$f":"IF(B9633=\"\",\"\",IF(C9633=\"\",F9632,IF(E9633=\"\",F9632,E9633/MAX($E$9:E9633)-1)))","v":""}]
[null,null,null,null,null,{"$f":"IF(B9634=\"\",\"\",IF(C9634=\"\",F9633,IF(E9634=\"\",F9633,E9634/MAX($E$9:E9634)-1)))","v":""}]
[null,null,null,null,null,{"$f":"IF(B9635=\"\",\"\",IF(C9635=\"\",F9634,IF(E9635=\"\",F9634,E9635/MAX($E$9:E9635)-1)))","v":""}]
[null,null,null,null,null,{"$f":"IF(B9636=\"\",\"\",IF(C9636=\"\",F9635,IF(E9636=\"\",F9635,E9636/MAX($E$9:E9636)-1)))","v":""}]
[null,null,null,null,null,{"$f":"IF(B9637=\"\",\"\",IF(C9637=\"\",F9636,IF(E9637=\"\",F9636,E9637/MAX($E$9:E9637)-1)))","v":""}]
[null,null,null,null,null,{"$f":"IF(B9638=\"\",\"\",IF(C9638=\"\",F9637,IF(E9638=\"\",F9637,E9638/MAX($E$9:E9638)-1)))","v":""}]
[null,null,null,null,null,{"$f":"IF(B9639=\"\",\"\",IF(C9639=\"\",F9638,IF(E9639=\"\",F9638,E9639/MAX($E$9:E9639)-1)))","v":""}]
[null,null,null,null,null,{"$f":"IF(B9640=\"\",\"\",IF(C9640=\"\",F9639,IF(E9640=\"\",F9639,E9640/MAX($E$9:E9640)-1)))","v":""}]
[null,null,null,null,null,{"$f":"IF(B9641=\"\",\"\",IF(C9641=\"\",F9640,IF(E9641=\"\",F9640,E9641/MAX($E$9:E9641)-1)))","v":""}]
[null,null,null,null,null,{"$f":"IF(B9642=\"\",\"\",IF(C9642=\"\",F9641,IF(E9642=\"\",F9641,E9642/MAX($E$9:E9642)-1)))","v":""}]
[null,null,null,null,null,{"$f":"IF(B9643=\"\",\"\",IF(C9643=\"\",F9642,IF(E9643=\"\",F9642,E9643/MAX($E$9:E9643)-1)))","v":""}]
[null,null,null,null,null,{"$f":"IF(B9644=\"\",\"\",IF(C9644=\"\",F9643,IF(E9644=\"\",F9643,E9644/MAX($E$9:E9644)-1)))","v":""}]
[null,null,null,null,null,{"$f":"IF(B9645=\"\",\"\",IF(C9645=\"\",F9644,IF(E9645=\"\",F9644,E9645/MAX($E$9:E9645)-1)))","v":""}]
[null,null,null,null,null,{"$f":"IF(B9646=\"\",\"\",IF(C9646=\"\",F9645,IF(E9646=\"\",F9645,E9646/MAX($E$9:E9646)-1)))","v":""}]
[null,null,null,null,null,{"$f":"IF(B9647=\"\",\"\",IF(C9647=\"\",F9646,IF(E9647=\"\",F9646,E9647/MAX($E$9:E9647)-1)))","v":""}]
[null,null,null,null,null,{"$f":"IF(B9648=\"\",\"\",IF(C9648=\"\",F9647,IF(E9648=\"\",F9647,E9648/MAX($E$9:E9648)-1)))","v":""}]
[null,null,null,null,null,{"$f":"IF(B9649=\"\",\"\",IF(C9649=\"\",F9648,IF(E9649=\"\",F9648,E9649/MAX($E$9:E9649)-1)))","v":""}]
[null,null,null,null,null,{"$f":"IF(B9650=\"\",\"\",IF(C9650=\"\",F9649,IF(E9650=\"\",F9649,E9650/MAX($E$9:E9650)-1)))","v":""}]
[null,null,null,null,null,{"$f":"IF(B9651=\"\",\"\",IF(C9651=\"\",F9650,IF(E9651=\"\",F9650,E9651/MAX($E$9:E9651)-1)))","v":""}]
[null,null,null,null,null,{"$f":"IF(B9652=\"\",\"\",IF(C9652=\"\",F9651,IF(E9652=\"\",F9651,E9652/MAX($E$9:E9652)-1)))","v":""}]
[null,null,null,null,null,{"$f":"IF(B9653=\"\",\"\",IF(C9653=\"\",F9652,IF(E9653=\"\",F9652,E9653/MAX($E$9:E9653)-1)))","v":""}]
[null,null,null,null,null,{"$f":"IF(B9654=\"\",\"\",IF(C9654=\"\",F9653,IF(E9654=\"\",F9653,E9654/MAX($E$9:E9654)-1)))","v":""}]
[null,null,null,null,null,{"$f":"IF(B9655=\"\",\"\",IF(C9655=\"\",F9654,IF(E9655=\"\",F9654,E9655/MAX($E$9:E9655)-1)))","v":""}]
[null,null,null,null,null,{"$f":"IF(B9656=\"\",\"\",IF(C9656=\"\",F9655,IF(E9656=\"\",F9655,E9656/MAX($E$9:E9656)-1)))","v":""}]
[null,null,null,null,null,{"$f":"IF(B9657=\"\",\"\",IF(C9657=\"\",F9656,IF(E9657=\"\",F9656,E9657/MAX($E$9:E9657)-1)))","v":""}]
[null,null,null,null,null,{"$f":"IF(B9658=\"\",\"\",IF(C9658=\"\",F9657,IF(E9658=\"\",F9657,E9658/MAX($E$9:E9658)-1)))","v":""}]
[null,null,null,null,null,{"$f":"IF(B9659=\"\",\"\",IF(C9659=\"\",F9658,IF(E9659=\"\",F9658,E9659/MAX($E$9:E9659)-1)))","v":""}]
[null,null,null,null,null,{"$f":"IF(B9660=\"\",\"\",IF(C9660=\"\",F9659,IF(E9660=\"\",F9659,E9660/MAX($E$9:E9660)-1)))","v":""}]
[null,null,null,null,null,{"$f":"IF(B9661=\"\",\"\",IF(C9661=\"\",F9660,IF(E9661=\"\",F9660,E9661/MAX($E$9:E9661)-1)))","v":""}]
[null,null,null,null,null,{"$f":"IF(B9662=\"\",\"\",IF(C9662=\"\",F9661,IF(E9662=\"\",F9661,E9662/MAX($E$9:E9662)-1)))","v":""}]
[null,null,null,null,null,{"$f":"IF(B9663=\"\",\"\",IF(C9663=\"\",F9662,IF(E9663=\"\",F9662,E9663/MAX($E$9:E9663)-1)))","v":""}]
[null,null,null,null,null,{"$f":"IF(B9664=\"\",\"\",IF(C9664=\"\",F9663,IF(E9664=\"\",F9663,E9664/MAX($E$9:E9664)-1)))","v":""}]
[null,null,null,null,null,{"$f":"IF(B9665=\"\",\"\",IF(C9665=\"\",F9664,IF(E9665=\"\",F9664,E9665/MAX($E$9:E9665)-1)))","v":""}]
[null,null,null,null,null,{"$f":"IF(B9666=\"\",\"\",IF(C9666=\"\",F9665,IF(E9666=\"\",F9665,E9666/MAX($E$9:E9666)-1)))","v":""}]
[null,null,null,null,null,{"$f":"IF(B9667=\"\",\"\",IF(C9667=\"\",F9666,IF(E9667=\"\",F9666,E9667/MAX($E$9:E9667)-1)))","v":""}]
[null,null,null,null,null,{"$f":"IF(B9668=\"\",\"\",IF(C9668=\"\",F9667,IF(E9668=\"\",F9667,E9668/MAX($E$9:E9668)-1)))","v":""}]
[null,null,null,null,null,{"$f":"IF(B9669=\"\",\"\",IF(C9669=\"\",F9668,IF(E9669=\"\",F9668,E9669/MAX($E$9:E9669)-1)))","v":""}]
[null,null,null,null,null,{"$f":"IF(B9670=\"\",\"\",IF(C9670=\"\",F9669,IF(E9670=\"\",F9669,E9670/MAX($E$9:E9670)-1)))","v":""}]
[null,null,null,null,null,{"$f":"IF(B9671=\"\",\"\",IF(C9671=\"\",F9670,IF(E9671=\"\",F9670,E9671/MAX($E$9:E9671)-1)))","v":""}]
[null,null,null,null,null,{"$f":"IF(B9672=\"\",\"\",IF(C9672=\"\",F9671,IF(E9672=\"\",F9671,E9672/MAX($E$9:E9672)-1)))","v":""}]
[null,null,null,null,null,{"$f":"IF(B9673=\"\",\"\",IF(C9673=\"\",F9672,IF(E9673=\"\",F9672,E9673/MAX($E$9:E9673)-1)))","v":""}]
[null,null,null,null,null,{"$f":"IF(B9674=\"\",\"\",IF(C9674=\"\",F9673,IF(E9674=\"\",F9673,E9674/MAX($E$9:E9674)-1)))","v":""}]
[null,null,null,null,null,{"$f":"IF(B9675=\"\",\"\",IF(C9675=\"\",F9674,IF(E9675=\"\",F9674,E9675/MAX($E$9:E9675)-1)))","v":""}]
[null,null,null,null,null,{"$f":"IF(B9676=\"\",\"\",IF(C9676=\"\",F9675,IF(E9676=\"\",F9675,E9676/MAX($E$9:E9676)-1)))","v":""}]
[null,null,null,null,null,{"$f":"IF(B9677=\"\",\"\",IF(C9677=\"\",F9676,IF(E9677=\"\",F9676,E9677/MAX($E$9:E9677)-1)))","v":""}]
[null,null,null,null,null,{"$f":"IF(B9678=\"\",\"\",IF(C9678=\"\",F9677,IF(E9678=\"\",F9677,E9678/MAX($E$9:E9678)-1)))","v":""}]
[null,null,null,null,null,{"$f":"IF(B9679=\"\",\"\",IF(C9679=\"\",F9678,IF(E9679=\"\",F9678,E9679/MAX($E$9:E9679)-1)))","v":""}]
[null,null,null,null,null,{"$f":"IF(B9680=\"\",\"\",IF(C9680=\"\",F9679,IF(E9680=\"\",F9679,E9680/MAX($E$9:E9680)-1)))","v":""}]
[null,null,null,null,null,{"$f":"IF(B9681=\"\",\"\",IF(C9681=\"\",F9680,IF(E9681=\"\",F9680,E9681/MAX($E$9:E9681)-1)))","v":""}]
[null,null,null,null,null,{"$f":"IF(B9682=\"\",\"\",IF(C9682=\"\",F9681,IF(E9682=\"\",F9681,E9682/MAX($E$9:E9682)-1)))","v":""}]
[null,null,null,null,null,{"$f":"IF(B9683=\"\",\"\",IF(C9683=\"\",F9682,IF(E9683=\"\",F9682,E9683/MAX($E$9:E9683)-1)))","v":""}]
[null,null,null,null,null,{"$f":"IF(B9684=\"\",\"\",IF(C9684=\"\",F9683,IF(E9684=\"\",F9683,E9684/MAX($E$9:E9684)-1)))","v":""}]
[null,null,null,null,null,{"$f":"IF(B9685=\"\",\"\",IF(C9685=\"\",F9684,IF(E9685=\"\",F9684,E9685/MAX($E$9:E9685)-1)))","v":""}]
[null,null,null,null,null,{"$f":"IF(B9686=\"\",\"\",IF(C9686=\"\",F9685,IF(E9686=\"\",F9685,E9686/MAX($E$9:E9686)-1)))","v":""}]
[null,null,null,null,null,{"$f":"IF(B9687=\"\",\"\",IF(C9687=\"\",F9686,IF(E9687=\"\",F9686,E9687/MAX($E$9:E9687)-1)))","v":""}]
[null,null,null,null,null,{"$f":"IF(B9688=\"\",\"\",IF(C9688=\"\",F9687,IF(E9688=\"\",F9687,E9688/MAX($E$9:E9688)-1)))","v":""}]
[null,null,null,null,null,{"$f":"IF(B9689=\"\",\"\",IF(C9689=\"\",F9688,IF(E9689=\"\",F9688,E9689/MAX($E$9:E9689)-1)))","v":""}]
[null,null,null,null,null,{"$f":"IF(B9690=\"\",\"\",IF(C9690=\"\",F9689,IF(E9690=\"\",F9689,E9690/MAX($E$9:E9690)-1)))","v":""}]
[null,null,null,null,null,{"$f":"IF(B9691=\"\",\"\",IF(C9691=\"\",F9690,IF(E9691=\"\",F9690,E9691/MAX($E$9:E9691)-1)))","v":""}]
[null,null,null,null,null,{"$f":"IF(B9692=\"\",\"\",IF(C9692=\"\",F9691,IF(E9692=\"\",F9691,E9692/MAX($E$9:E9692)-1)))","v":""}]
[null,null,null,null,null,{"$f":"IF(B9693=\"\",\"\",IF(C9693=\"\",F9692,IF(E9693=\"\",F9692,E9693/MAX($E$9:E9693)-1)))","v":""}]
[null,null,null,null,null,{"$f":"IF(B9694=\"\",\"\",IF(C9694=\"\",F9693,IF(E9694=\"\",F9693,E9694/MAX($E$9:E9694)-1)))","v":""}]
[null,null,null,null,null,{"$f":"IF(B9695=\"\",\"\",IF(C9695=\"\",F9694,IF(E9695=\"\",F9694,E9695/MAX($E$9:E9695)-1)))","v":""}]
[null,null,null,null,null,{"$f":"IF(B9696=\"\",\"\",IF(C9696=\"\",F9695,IF(E9696=\"\",F9695,E9696/MAX($E$9:E9696)-1)))","v":""}]
[null,null,null,null,null,{"$f":"IF(B9697=\"\",\"\",IF(C9697=\"\",F9696,IF(E9697=\"\",F9696,E9697/MAX($E$9:E9697)-1)))","v":""}]
[null,null,null,null,null,{"$f":"IF(B9698=\"\",\"\",IF(C9698=\"\",F9697,IF(E9698=\"\",F9697,E9698/MAX($E$9:E9698)-1)))","v":""}]
[null,null,null,null,null,{"$f":"IF(B9699=\"\",\"\",IF(C9699=\"\",F9698,IF(E9699=\"\",F9698,E9699/MAX($E$9:E9699)-1)))","v":""}]
[null,null,null,null,null,{"$f":"IF(B9700=\"\",\"\",IF(C9700=\"\",F9699,IF(E9700=\"\",F9699,E9700/MAX($E$9:E9700)-1)))","v":""}]
[null,null,null,null,null,{"$f":"IF(B9701=\"\",\"\",IF(C9701=\"\",F9700,IF(E9701=\"\",F9700,E9701/MAX($E$9:E9701)-1)))","v":""}]
[null,null,null,null,null,{"$f":"IF(B9702=\"\",\"\",IF(C9702=\"\",F9701,IF(E9702=\"\",F9701,E9702/MAX($E$9:E9702)-1)))","v":""}]
[null,null,null,null,null,{"$f":"IF(B9703=\"\",\"\",IF(C9703=\"\",F9702,IF(E9703=\"\",F9702,E9703/MAX($E$9:E9703)-1)))","v":""}]
[null,null,null,null,null,{"$f":"IF(B9704=\"\",\"\",IF(C9704=\"\",F9703,IF(E9704=\"\",F9703,E9704/MAX($E$9:E9704)-1)))","v":""}]
[null,null,null,null,null,{"$f":"IF(B9705=\"\",\"\",IF(C9705=\"\",F9704,IF(E9705=\"\",F9704,E9705/MAX($E$9:E9705)-1)))","v":""}]
[null,null,null,null,null,{"$f":"IF(B9706=\"\",\"\",IF(C9706=\"\",F9705,IF(E9706=\"\",F9705,E9706/MAX($E$9:E9706)-1)))","v":""}]
[null,null,null,null,null,{"$f":"IF(B9707=\"\",\"\",IF(C9707=\"\",F9706,IF(E9707=\"\",F9706,E9707/MAX($E$9:E9707)-1)))","v":""}]
[null,null,null,null,null,{"$f":"IF(B9708=\"\",\"\",IF(C9708=\"\",F9707,IF(E9708=\"\",F9707,E9708/MAX($E$9:E9708)-1)))","v":""}]
[null,null,null,null,null,{"$f":"IF(B9709=\"\",\"\",IF(C9709=\"\",F9708,IF(E9709=\"\",F9708,E9709/MAX($E$9:E9709)-1)))","v":""}]
[null,null,null,null,null,{"$f":"IF(B9710=\"\",\"\",IF(C9710=\"\",F9709,IF(E9710=\"\",F9709,E9710/MAX($E$9:E9710)-1)))","v":""}]
[null,null,null,null,null,{"$f":"IF(B9711=\"\",\"\",IF(C9711=\"\",F9710,IF(E9711=\"\",F9710,E9711/MAX($E$9:E9711)-1)))","v":""}]
[null,null,null,null,null,{"$f":"IF(B9712=\"\",\"\",IF(C9712=\"\",F9711,IF(E9712=\"\",F9711,E9712/MAX($E$9:E9712)-1)))","v":""}]
[null,null,null,null,null,{"$f":"IF(B9713=\"\",\"\",IF(C9713=\"\",F9712,IF(E9713=\"\",F9712,E9713/MAX($E$9:E9713)-1)))","v":""}]
[null,null,null,null,null,{"$f":"IF(B9714=\"\",\"\",IF(C9714=\"\",F9713,IF(E9714=\"\",F9713,E9714/MAX($E$9:E9714)-1)))","v":""}]
[null,null,null,null,null,{"$f":"IF(B9715=\"\",\"\",IF(C9715=\"\",F9714,IF(E9715=\"\",F9714,E9715/MAX($E$9:E9715)-1)))","v":""}]
[null,null,null,null,null,{"$f":"IF(B9716=\"\",\"\",IF(C9716=\"\",F9715,IF(E9716=\"\",F9715,E9716/MAX($E$9:E9716)-1)))","v":""}]
[null,null,null,null,null,{"$f":"IF(B9717=\"\",\"\",IF(C9717=\"\",F9716,IF(E9717=\"\",F9716,E9717/MAX($E$9:E9717)-1)))","v":""}]
[null,null,null,null,null,{"$f":"IF(B9718=\"\",\"\",IF(C9718=\"\",F9717,IF(E9718=\"\",F9717,E9718/MAX($E$9:E9718)-1)))","v":""}]
[null,null,null,null,null,{"$f":"IF(B9719=\"\",\"\",IF(C9719=\"\",F9718,IF(E9719=\"\",F9718,E9719/MAX($E$9:E9719)-1)))","v":""}]
[null,null,null,null,null,{"$f":"IF(B9720=\"\",\"\",IF(C9720=\"\",F9719,IF(E9720=\"\",F9719,E9720/MAX($E$9:E9720)-1)))","v":""}]
[null,null,null,null,null,{"$f":"IF(B9721=\"\",\"\",IF(C9721=\"\",F9720,IF(E9721=\"\",F9720,E9721/MAX($E$9:E9721)-1)))","v":""}]
[null,null,null,null,null,{"$f":"IF(B9722=\"\",\"\",IF(C9722=\"\",F9721,IF(E9722=\"\",F9721,E9722/MAX($E$9:E9722)-1)))","v":""}]
[null,null,null,null,null,{"$f":"IF(B9723=\"\",\"\",IF(C9723=\"\",F9722,IF(E9723=\"\",F9722,E9723/MAX($E$9:E9723)-1)))","v":""}]
[null,null,null,null,null,{"$f":"IF(B9724=\"\",\"\",IF(C9724=\"\",F9723,IF(E9724=\"\",F9723,E9724/MAX($E$9:E9724)-1)))","v":""}]
[null,null,null,null,null,{"$f":"IF(B9725=\"\",\"\",IF(C9725=\"\",F9724,IF(E9725=\"\",F9724,E9725/MAX($E$9:E9725)-1)))","v":""}]
[null,null,null,null,null,{"$f":"IF(B9726=\"\",\"\",IF(C9726=\"\",F9725,IF(E9726=\"\",F9725,E9726/MAX($E$9:E9726)-1)))","v":""}]
[null,null,null,null,null,{"$f":"IF(B9727=\"\",\"\",IF(C9727=\"\",F9726,IF(E9727=\"\",F9726,E9727/MAX($E$9:E9727)-1)))","v":""}]
[null,null,null,null,null,{"$f":"IF(B9728=\"\",\"\",IF(C9728=\"\",F9727,IF(E9728=\"\",F9727,E9728/MAX($E$9:E9728)-1)))","v":""}]
[null,null,null,null,null,{"$f":"IF(B9729=\"\",\"\",IF(C9729=\"\",F9728,IF(E9729=\"\",F9728,E9729/MAX($E$9:E9729)-1)))","v":""}]
[null,null,null,null,null,{"$f":"IF(B9730=\"\",\"\",IF(C9730=\"\",F9729,IF(E9730=\"\",F9729,E9730/MAX($E$9:E9730)-1)))","v":""}]
[null,null,null,null,null,{"$f":"IF(B9731=\"\",\"\",IF(C9731=\"\",F9730,IF(E9731=\"\",F9730,E9731/MAX($E$9:E9731)-1)))","v":""}]
[null,null,null,null,null,{"$f":"IF(B9732=\"\",\"\",IF(C9732=\"\",F9731,IF(E9732=\"\",F9731,E9732/MAX($E$9:E9732)-1)))","v":""}]
[null,null,null,null,null,{"$f":"IF(B9733=\"\",\"\",IF(C9733=\"\",F9732,IF(E9733=\"\",F9732,E9733/MAX($E$9:E9733)-1)))","v":""}]
[null,null,null,null,null,{"$f":"IF(B9734=\"\",\"\",IF(C9734=\"\",F9733,IF(E9734=\"\",F9733,E9734/MAX($E$9:E9734)-1)))","v":""}]
[null,null,null,null,null,{"$f":"IF(B9735=\"\",\"\",IF(C9735=\"\",F9734,IF(E9735=\"\",F9734,E9735/MAX($E$9:E9735)-1)))","v":""}]
[null,null,null,null,null,{"$f":"IF(B9736=\"\",\"\",IF(C9736=\"\",F9735,IF(E9736=\"\",F9735,E9736/MAX($E$9:E9736)-1)))","v":""}]
[null,null,null,null,null,{"$f":"IF(B9737=\"\",\"\",IF(C9737=\"\",F9736,IF(E9737=\"\",F9736,E9737/MAX($E$9:E9737)-1)))","v":""}]
[null,null,null,null,null,{"$f":"IF(B9738=\"\",\"\",IF(C9738=\"\",F9737,IF(E9738=\"\",F9737,E9738/MAX($E$9:E9738)-1)))","v":""}]
[null,null,null,null,null,{"$f":"IF(B9739=\"\",\"\",IF(C9739=\"\",F9738,IF(E9739=\"\",F9738,E9739/MAX($E$9:E9739)-1)))","v":""}]
[null,null,null,null,null,{"$f":"IF(B9740=\"\",\"\",IF(C9740=\"\",F9739,IF(E9740=\"\",F9739,E9740/MAX($E$9:E9740)-1)))","v":""}]
[null,null,null,null,null,{"$f":"IF(B9741=\"\",\"\",IF(C9741=\"\",F9740,IF(E9741=\"\",F9740,E9741/MAX($E$9:E9741)-1)))","v":""}]
[null,null,null,null,null,{"$f":"IF(B9742=\"\",\"\",IF(C9742=\"\",F9741,IF(E9742=\"\",F9741,E9742/MAX($E$9:E9742)-1)))","v":""}]
[null,null,null,null,null,{"$f":"IF(B9743=\"\",\"\",IF(C9743=\"\",F9742,IF(E9743=\"\",F9742,E9743/MAX($E$9:E9743)-1)))","v":""}]
[null,null,null,null,null,{"$f":"IF(B9744=\"\",\"\",IF(C9744=\"\",F9743,IF(E9744=\"\",F9743,E9744/MAX($E$9:E9744)-1)))","v":""}]
[null,null,null,null,null,{"$f":"IF(B9745=\"\",\"\",IF(C9745=\"\",F9744,IF(E9745=\"\",F9744,E9745/MAX($E$9:E9745)-1)))","v":""}]
[null,null,null,null,null,{"$f":"IF(B9746=\"\",\"\",IF(C9746=\"\",F9745,IF(E9746=\"\",F9745,E9746/MAX($E$9:E9746)-1)))","v":""}]
[null,null,null,null,null,{"$f":"IF(B9747=\"\",\"\",IF(C9747=\"\",F9746,IF(E9747=\"\",F9746,E9747/MAX($E$9:E9747)-1)))","v":""}]
[null,null,null,null,null,{"$f":"IF(B9748=\"\",\"\",IF(C9748=\"\",F9747,IF(E9748=\"\",F9747,E9748/MAX($E$9:E9748)-1)))","v":""}]
[null,null,null,null,null,{"$f":"IF(B9749=\"\",\"\",IF(C9749=\"\",F9748,IF(E9749=\"\",F9748,E9749/MAX($E$9:E9749)-1)))","v":""}]
[null,null,null,null,null,{"$f":"IF(B9750=\"\",\"\",IF(C9750=\"\",F9749,IF(E9750=\"\",F9749,E9750/MAX($E$9:E9750)-1)))","v":""}]
[null,null,null,null,null,{"$f":"IF(B9751=\"\",\"\",IF(C9751=\"\",F9750,IF(E9751=\"\",F9750,E9751/MAX($E$9:E9751)-1)))","v":""}]
[null,null,null,null,null,{"$f":"IF(B9752=\"\",\"\",IF(C9752=\"\",F9751,IF(E9752=\"\",F9751,E9752/MAX($E$9:E9752)-1)))","v":""}]
[null,null,null,null,null,{"$f":"IF(B9753=\"\",\"\",IF(C9753=\"\",F9752,IF(E9753=\"\",F9752,E9753/MAX($E$9:E9753)-1)))","v":""}]
[null,null,null,null,null,{"$f":"IF(B9754=\"\",\"\",IF(C9754=\"\",F9753,IF(E9754=\"\",F9753,E9754/MAX($E$9:E9754)-1)))","v":""}]
[null,null,null,null,null,{"$f":"IF(B9755=\"\",\"\",IF(C9755=\"\",F9754,IF(E9755=\"\",F9754,E9755/MAX($E$9:E9755)-1)))","v":""}]
[null,null,null,null,null,{"$f":"IF(B9756=\"\",\"\",IF(C9756=\"\",F9755,IF(E9756=\"\",F9755,E9756/MAX($E$9:E9756)-1)))","v":""}]
[null,null,null,null,null,{"$f":"IF(B9757=\"\",\"\",IF(C9757=\"\",F9756,IF(E9757=\"\",F9756,E9757/MAX($E$9:E9757)-1)))","v":""}]
[null,null,null,null,null,{"$f":"IF(B9758=\"\",\"\",IF(C9758=\"\",F9757,IF(E9758=\"\",F9757,E9758/MAX($E$9:E9758)-1)))","v":""}]
[null,null,null,null,null,{"$f":"IF(B9759=\"\",\"\",IF(C9759=\"\",F9758,IF(E9759=\"\",F9758,E9759/MAX($E$9:E9759)-1)))","v":""}]
[null,null,null,null,null,{"$f":"IF(B9760=\"\",\"\",IF(C9760=\"\",F9759,IF(E9760=\"\",F9759,E9760/MAX($E$9:E9760)-1)))","v":""}]
[null,null,null,null,null,{"$f":"IF(B9761=\"\",\"\",IF(C9761=\"\",F9760,IF(E9761=\"\",F9760,E9761/MAX($E$9:E9761)-1)))","v":""}]
[null,null,null,null,null,{"$f":"IF(B9762=\"\",\"\",IF(C9762=\"\",F9761,IF(E9762=\"\",F9761,E9762/MAX($E$9:E9762)-1)))","v":""}]
[null,null,null,null,null,{"$f":"IF(B9763=\"\",\"\",IF(C9763=\"\",F9762,IF(E9763=\"\",F9762,E9763/MAX($E$9:E9763)-1)))","v":""}]
[null,null,null,null,null,{"$f":"IF(B9764=\"\",\"\",IF(C9764=\"\",F9763,IF(E9764=\"\",F9763,E9764/MAX($E$9:E9764)-1)))","v":""}]
[null,null,null,null,null,{"$f":"IF(B9765=\"\",\"\",IF(C9765=\"\",F9764,IF(E9765=\"\",F9764,E9765/MAX($E$9:E9765)-1)))","v":""}]
[null,null,null,null,null,{"$f":"IF(B9766=\"\",\"\",IF(C9766=\"\",F9765,IF(E9766=\"\",F9765,E9766/MAX($E$9:E9766)-1)))","v":""}]
[null,null,null,null,null,{"$f":"IF(B9767=\"\",\"\",IF(C9767=\"\",F9766,IF(E9767=\"\",F9766,E9767/MAX($E$9:E9767)-1)))","v":""}]
[null,null,null,null,null,{"$f":"IF(B9768=\"\",\"\",IF(C9768=\"\",F9767,IF(E9768=\"\",F9767,E9768/MAX($E$9:E9768)-1)))","v":""}]
[null,null,null,null,null,{"$f":"IF(B9769=\"\",\"\",IF(C9769=\"\",F9768,IF(E9769=\"\",F9768,E9769/MAX($E$9:E9769)-1)))","v":""}]
[null,null,null,null,null,{"$f":"IF(B9770=\"\",\"\",IF(C9770=\"\",F9769,IF(E9770=\"\",F9769,E9770/MAX($E$9:E9770)-1)))","v":""}]
[null,null,null,null,null,{"$f":"IF(B9771=\"\",\"\",IF(C9771=\"\",F9770,IF(E9771=\"\",F9770,E9771/MAX($E$9:E9771)-1)))","v":""}]
[null,null,null,null,null,{"$f":"IF(B9772=\"\",\"\",IF(C9772=\"\",F9771,IF(E9772=\"\",F9771,E9772/MAX($E$9:E9772)-1)))","v":""}]
[null,null,null,null,null,{"$f":"IF(B9773=\"\",\"\",IF(C9773=\"\",F9772,IF(E9773=\"\",F9772,E9773/MAX($E$9:E9773)-1)))","v":""}]
[null,null,null,null,null,{"$f":"IF(B9774=\"\",\"\",IF(C9774=\"\",F9773,IF(E9774=\"\",F9773,E9774/MAX($E$9:E9774)-1)))","v":""}]
[null,null,null,null,null,{"$f":"IF(B9775=\"\",\"\",IF(C9775=\"\",F9774,IF(E9775=\"\",F9774,E9775/MAX($E$9:E9775)-1)))","v":""}]
[null,null,null,null,null,{"$f":"IF(B9776=\"\",\"\",IF(C9776=\"\",F9775,IF(E9776=\"\",F9775,E9776/MAX($E$9:E9776)-1)))","v":""}]
[null,null,null,null,null,{"$f":"IF(B9777=\"\",\"\",IF(C9777=\"\",F9776,IF(E9777=\"\",F9776,E9777/MAX($E$9:E9777)-1)))","v":""}]
[null,null,null,null,null,{"$f":"IF(B9778=\"\",\"\",IF(C9778=\"\",F9777,IF(E9778=\"\",F9777,E9778/MAX($E$9:E9778)-1)))","v":""}]
[null,null,null,null,null,{"$f":"IF(B9779=\"\",\"\",IF(C9779=\"\",F9778,IF(E9779=\"\",F9778,E9779/MAX($E$9:E9779)-1)))","v":""}]
[null,null,null,null,null,{"$f":"IF(B9780=\"\",\"\",IF(C9780=\"\",F9779,IF(E9780=\"\",F9779,E9780/MAX($E$9:E9780)-1)))","v":""}]
[null,null,null,null,null,{"$f":"IF(B9781=\"\",\"\",IF(C9781=\"\",F9780,IF(E9781=\"\",F9780,E9781/MAX($E$9:E9781)-1)))","v":""}]
[null,null,null,null,null,{"$f":"IF(B9782=\"\",\"\",IF(C9782=\"\",F9781,IF(E9782=\"\",F9781,E9782/MAX($E$9:E9782)-1)))","v":""}]
[null,null,null,null,null,{"$f":"IF(B9783=\"\",\"\",IF(C9783=\"\",F9782,IF(E9783=\"\",F9782,E9783/MAX($E$9:E9783)-1)))","v":""}]
[null,null,null,null,null,{"$f":"IF(B9784=\"\",\"\",IF(C9784=\"\",F9783,IF(E9784=\"\",F9783,E9784/MAX($E$9:E9784)-1)))","v":""}]
[null,null,null,null,null,{"$f":"IF(B9785=\"\",\"\",IF(C9785=\"\",F9784,IF(E9785=\"\",F9784,E9785/MAX($E$9:E9785)-1)))","v":""}]
[null,null,null,null,null,{"$f":"IF(B9786=\"\",\"\",IF(C9786=\"\",F9785,IF(E9786=\"\",F9785,E9786/MAX($E$9:E9786)-1)))","v":""}]
[null,null,null,null,null,{"$f":"IF(B9787=\"\",\"\",IF(C9787=\"\",F9786,IF(E9787=\"\",F9786,E9787/MAX($E$9:E9787)-1)))","v":""}]
[null,null,null,null,null,{"$f":"IF(B9788=\"\",\"\",IF(C9788=\"\",F9787,IF(E9788=\"\",F9787,E9788/MAX($E$9:E9788)-1)))","v":""}]
[null,null,null,null,null,{"$f":"IF(B9789=\"\",\"\",IF(C9789=\"\",F9788,IF(E9789=\"\",F9788,E9789/MAX($E$9:E9789)-1)))","v":""}]
[null,null,null,null,null,{"$f":"IF(B9790=\"\",\"\",IF(C9790=\"\",F9789,IF(E9790=\"\",F9789,E9790/MAX($E$9:E9790)-1)))","v":""}]
[null,null,null,null,null,{"$f":"IF(B9791=\"\",\"\",IF(C9791=\"\",F9790,IF(E9791=\"\",F9790,E9791/MAX($E$9:E9791)-1)))","v":""}]
[null,null,null,null,null,{"$f":"IF(B9792=\"\",\"\",IF(C9792=\"\",F9791,IF(E9792=\"\",F9791,E9792/MAX($E$9:E9792)-1)))","v":""}]
[null,null,null,null,null,{"$f":"IF(B9793=\"\",\"\",IF(C9793=\"\",F9792,IF(E9793=\"\",F9792,E9793/MAX($E$9:E9793)-1)))","v":""}]
[null,null,null,null,null,{"$f":"IF(B9794=\"\",\"\",IF(C9794=\"\",F9793,IF(E9794=\"\",F9793,E9794/MAX($E$9:E9794)-1)))","v":""}]
[null,null,null,null,null,{"$f":"IF(B9795=\"\",\"\",IF(C9795=\"\",F9794,IF(E9795=\"\",F9794,E9795/MAX($E$9:E9795)-1)))","v":""}]
[null,null,null,null,null,{"$f":"IF(B9796=\"\",\"\",IF(C9796=\"\",F9795,IF(E9796=\"\",F9795,E9796/MAX($E$9:E9796)-1)))","v":""}]
[null,null,null,null,null,{"$f":"IF(B9797=\"\",\"\",IF(C9797=\"\",F9796,IF(E9797=\"\",F9796,E9797/MAX($E$9:E9797)-1)))","v":""}]
[null,null,null,null,null,{"$f":"IF(B9798=\"\",\"\",IF(C9798=\"\",F9797,IF(E9798=\"\",F9797,E9798/MAX($E$9:E9798)-1)))","v":""}]
[null,null,null,null,null,{"$f":"IF(B9799=\"\",\"\",IF(C9799=\"\",F9798,IF(E9799=\"\",F9798,E9799/MAX($E$9:E9799)-1)))","v":""}]
[null,null,null,null,null,{"$f":"IF(B9800=\"\",\"\",IF(C9800=\"\",F9799,IF(E9800=\"\",F9799,E9800/MAX($E$9:E9800)-1)))","v":""}]
[null,null,null,null,null,{"$f":"IF(B9801=\"\",\"\",IF(C9801=\"\",F9800,IF(E9801=\"\",F9800,E9801/MAX($E$9:E9801)-1)))","v":""}]
[null,null,null,null,null,{"$f":"IF(B9802=\"\",\"\",IF(C9802=\"\",F9801,IF(E9802=\"\",F9801,E9802/MAX($E$9:E9802)-1)))","v":""}]
[null,null,null,null,null,{"$f":"IF(B9803=\"\",\"\",IF(C9803=\"\",F9802,IF(E9803=\"\",F9802,E9803/MAX($E$9:E9803)-1)))","v":""}]
[null,null,null,null,null,{"$f":"IF(B9804=\"\",\"\",IF(C9804=\"\",F9803,IF(E9804=\"\",F9803,E9804/MAX($E$9:E9804)-1)))","v":""}]
[null,null,null,null,null,{"$f":"IF(B9805=\"\",\"\",IF(C9805=\"\",F9804,IF(E9805=\"\",F9804,E9805/MAX($E$9:E9805)-1)))","v":""}]
[null,null,null,null,null,{"$f":"IF(B9806=\"\",\"\",IF(C9806=\"\",F9805,IF(E9806=\"\",F9805,E9806/MAX($E$9:E9806)-1)))","v":""}]
[null,null,null,null,null,{"$f":"IF(B9807=\"\",\"\",IF(C9807=\"\",F9806,IF(E9807=\"\",F9806,E9807/MAX($E$9:E9807)-1)))","v":""}]
[null,null,null,null,null,{"$f":"IF(B9808=\"\",\"\",IF(C9808=\"\",F9807,IF(E9808=\"\",F9807,E9808/MAX($E$9:E9808)-1)))","v":""}]
[null,null,null,null,null,{"$f":"IF(B9809=\"\",\"\",IF(C9809=\"\",F9808,IF(E9809=\"\",F9808,E9809/MAX($E$9:E9809)-1)))","v":""}]
[null,null,null,null,null,{"$f":"IF(B9810=\"\",\"\",IF(C9810=\"\",F9809,IF(E9810=\"\",F9809,E9810/MAX($E$9:E9810)-1)))","v":""}]
[null,null,null,null,null,{"$f":"IF(B9811=\"\",\"\",IF(C9811=\"\",F9810,IF(E9811=\"\",F9810,E9811/MAX($E$9:E9811)-1)))","v":""}]
[null,null,null,null,null,{"$f":"IF(B9812=\"\",\"\",IF(C9812=\"\",F9811,IF(E9812=\"\",F9811,E9812/MAX($E$9:E9812)-1)))","v":""}]
[null,null,null,null,null,{"$f":"IF(B9813=\"\",\"\",IF(C9813=\"\",F9812,IF(E9813=\"\",F9812,E9813/MAX($E$9:E9813)-1)))","v":""}]
[null,null,null,null,null,{"$f":"IF(B9814=\"\",\"\",IF(C9814=\"\",F9813,IF(E9814=\"\",F9813,E9814/MAX($E$9:E9814)-1)))","v":""}]
[null,null,null,null,null,{"$f":"IF(B9815=\"\",\"\",IF(C9815=\"\",F9814,IF(E9815=\"\",F9814,E9815/MAX($E$9:E9815)-1)))","v":""}]
[null,null,null,null,null,{"$f":"IF(B9816=\"\",\"\",IF(C9816=\"\",F9815,IF(E9816=\"\",F9815,E9816/MAX($E$9:E9816)-1)))","v":""}]
[null,null,null,null,null,{"$f":"IF(B9817=\"\",\"\",IF(C9817=\"\",F9816,IF(E9817=\"\",F9816,E9817/MAX($E$9:E9817)-1)))","v":""}]
[null,null,null,null,null,{"$f":"IF(B9818=\"\",\"\",IF(C9818=\"\",F9817,IF(E9818=\"\",F9817,E9818/MAX($E$9:E9818)-1)))","v":""}]
[null,null,null,null,null,{"$f":"IF(B9819=\"\",\"\",IF(C9819=\"\",F9818,IF(E9819=\"\",F9818,E9819/MAX($E$9:E9819)-1)))","v":""}]
[null,null,null,null,null,{"$f":"IF(B9820=\"\",\"\",IF(C9820=\"\",F9819,IF(E9820=\"\",F9819,E9820/MAX($E$9:E9820)-1)))","v":""}]
[null,null,null,null,null,{"$f":"IF(B9821=\"\",\"\",IF(C9821=\"\",F9820,IF(E9821=\"\",F9820,E9821/MAX($E$9:E9821)-1)))","v":""}]
[null,null,null,null,null,{"$f":"IF(B9822=\"\",\"\",IF(C9822=\"\",F9821,IF(E9822=\"\",F9821,E9822/MAX($E$9:E9822)-1)))","v":""}]
[null,null,null,null,null,{"$f":"IF(B9823=\"\",\"\",IF(C9823=\"\",F9822,IF(E9823=\"\",F9822,E9823/MAX($E$9:E9823)-1)))","v":""}]
[null,null,null,null,null,{"$f":"IF(B9824=\"\",\"\",IF(C9824=\"\",F9823,IF(E9824=\"\",F9823,E9824/MAX($E$9:E9824)-1)))","v":""}]
[null,null,null,null,null,{"$f":"IF(B9825=\"\",\"\",IF(C9825=\"\",F9824,IF(E9825=\"\",F9824,E9825/MAX($E$9:E9825)-1)))","v":""}]
[null,null,null,null,null,{"$f":"IF(B9826=\"\",\"\",IF(C9826=\"\",F9825,IF(E9826=\"\",F9825,E9826/MAX($E$9:E9826)-1)))","v":""}]
[null,null,null,null,null,{"$f":"IF(B9827=\"\",\"\",IF(C9827=\"\",F9826,IF(E9827=\"\",F9826,E9827/MAX($E$9:E9827)-1)))","v":""}]
[null,null,null,null,null,{"$f":"IF(B9828=\"\",\"\",IF(C9828=\"\",F9827,IF(E9828=\"\",F9827,E9828/MAX($E$9:E9828)-1)))","v":""}]
[null,null,null,null,null,{"$f":"IF(B9829=\"\",\"\",IF(C9829=\"\",F9828,IF(E9829=\"\",F9828,E9829/MAX($E$9:E9829)-1)))","v":""}]
[null,null,null,null,null,{"$f":"IF(B9830=\"\",\"\",IF(C9830=\"\",F9829,IF(E9830=\"\",F9829,E9830/MAX($E$9:E9830)-1)))","v":""}]
[null,null,null,null,null,{"$f":"IF(B9831=\"\",\"\",IF(C9831=\"\",F9830,IF(E9831=\"\",F9830,E9831/MAX($E$9:E9831)-1)))","v":""}]
[null,null,null,null,null,{"$f":"IF(B9832=\"\",\"\",IF(C9832=\"\",F9831,IF(E9832=\"\",F9831,E9832/MAX($E$9:E9832)-1)))","v":""}]
[null,null,null,null,null,{"$f":"IF(B9833=\"\",\"\",IF(C9833=\"\",F9832,IF(E9833=\"\",F9832,E9833/MAX($E$9:E9833)-1)))","v":""}]
[null,null,null,null,null,{"$f":"IF(B9834=\"\",\"\",IF(C9834=\"\",F9833,IF(E9834=\"\",F9833,E9834/MAX($E$9:E9834)-1)))","v":""}]
[null,null,null,null,null,{"$f":"IF(B9835=\"\",\"\",IF(C9835=\"\",F9834,IF(E9835=\"\",F9834,E9835/MAX($E$9:E9835)-1)))","v":""}]
[null,null,null,null,null,{"$f":"IF(B9836=\"\",\"\",IF(C9836=\"\",F9835,IF(E9836=\"\",F9835,E9836/MAX($E$9:E9836)-1)))","v":""}]
[null,null,null,null,null,{"$f":"IF(B9837=\"\",\"\",IF(C9837=\"\",F9836,IF(E9837=\"\",F9836,E9837/MAX($E$9:E9837)-1)))","v":""}]
[null,null,null,null,null,{"$f":"IF(B9838=\"\",\"\",IF(C9838=\"\",F9837,IF(E9838=\"\",F9837,E9838/MAX($E$9:E9838)-1)))","v":""}]
[null,null,null,null,null,{"$f":"IF(B9839=\"\",\"\",IF(C9839=\"\",F9838,IF(E9839=\"\",F9838,E9839/MAX($E$9:E9839)-1)))","v":""}]
[null,null,null,null,null,{"$f":"IF(B9840=\"\",\"\",IF(C9840=\"\",F9839,IF(E9840=\"\",F9839,E9840/MAX($E$9:E9840)-1)))","v":""}]
[null,null,null,null,null,{"$f":"IF(B9841=\"\",\"\",IF(C9841=\"\",F9840,IF(E9841=\"\",F9840,E9841/MAX($E$9:E9841)-1)))","v":""}]
[null,null,null,null,null,{"$f":"IF(B9842=\"\",\"\",IF(C9842=\"\",F9841,IF(E9842=\"\",F9841,E9842/MAX($E$9:E9842)-1)))","v":""}]
[null,null,null,null,null,{"$f":"IF(B9843=\"\",\"\",IF(C9843=\"\",F9842,IF(E9843=\"\",F9842,E9843/MAX($E$9:E9843)-1)))","v":""}]
[null,null,null,null,null,{"$f":"IF(B9844=\"\",\"\",IF(C9844=\"\",F9843,IF(E9844=\"\",F9843,E9844/MAX($E$9:E9844)-1)))","v":""}]
[null,null,null,null,null,{"$f":"IF(B9845=\"\",\"\",IF(C9845=\"\",F9844,IF(E9845=\"\",F9844,E9845/MAX($E$9:E9845)-1)))","v":""}]
[null,null,null,null,null,{"$f":"IF(B9846=\"\",\"\",IF(C9846=\"\",F9845,IF(E9846=\"\",F9845,E9846/MAX($E$9:E9846)-1)))","v":""}]
[null,null,null,null,null,{"$f":"IF(B9847=\"\",\"\",IF(C9847=\"\",F9846,IF(E9847=\"\",F9846,E9847/MAX($E$9:E9847)-1)))","v":""}]
[null,null,null,null,null,{"$f":"IF(B9848=\"\",\"\",IF(C9848=\"\",F9847,IF(E9848=\"\",F9847,E9848/MAX($E$9:E9848)-1)))","v":""}]
[null,null,null,null,null,{"$f":"IF(B9849=\"\",\"\",IF(C9849=\"\",F9848,IF(E9849=\"\",F9848,E9849/MAX($E$9:E9849)-1)))","v":""}]
[null,null,null,null,null,{"$f":"IF(B9850=\"\",\"\",IF(C9850=\"\",F9849,IF(E9850=\"\",F9849,E9850/MAX($E$9:E9850)-1)))","v":""}]
[null,null,null,null,null,{"$f":"IF(B9851=\"\",\"\",IF(C9851=\"\",F9850,IF(E9851=\"\",F9850,E9851/MAX($E$9:E9851)-1)))","v":""}]
[null,null,null,null,null,{"$f":"IF(B9852=\"\",\"\",IF(C9852=\"\",F9851,IF(E9852=\"\",F9851,E9852/MAX($E$9:E9852)-1)))","v":""}]
[null,null,null,null,null,{"$f":"IF(B9853=\"\",\"\",IF(C9853=\"\",F9852,IF(E9853=\"\",F9852,E9853/MAX($E$9:E9853)-1)))","v":""}]
[null,null,null,null,null,{"$f":"IF(B9854=\"\",\"\",IF(C9854=\"\",F9853,IF(E9854=\"\",F9853,E9854/MAX($E$9:E9854)-1)))","v":""}]
[null,null,null,null,null,{"$f":"IF(B9855=\"\",\"\",IF(C9855=\"\",F9854,IF(E9855=\"\",F9854,E9855/MAX($E$9:E9855)-1)))","v":""}]
[null,null,null,null,null,{"$f":"IF(B9856=\"\",\"\",IF(C9856=\"\",F9855,IF(E9856=\"\",F9855,E9856/MAX($E$9:E9856)-1)))","v":""}]
[null,null,null,null,null,{"$f":"IF(B9857=\"\",\"\",IF(C9857=\"\",F9856,IF(E9857=\"\",F9856,E9857/MAX($E$9:E9857)-1)))","v":""}]
[null,null,null,null,null,{"$f":"IF(B9858=\"\",\"\",IF(C9858=\"\",F9857,IF(E9858=\"\",F9857,E9858/MAX($E$9:E9858)-1)))","v":""}]
[null,null,null,null,null,{"$f":"IF(B9859=\"\",\"\",IF(C9859=\"\",F9858,IF(E9859=\"\",F9858,E9859/MAX($E$9:E9859)-1)))","v":""}]
[null,null,null,null,null,{"$f":"IF(B9860=\"\",\"\",IF(C9860=\"\",F9859,IF(E9860=\"\",F9859,E9860/MAX($E$9:E9860)-1)))","v":""}]
[null,null,null,null,null,{"$f":"IF(B9861=\"\",\"\",IF(C9861=\"\",F9860,IF(E9861=\"\",F9860,E9861/MAX($E$9:E9861)-1)))","v":""}]
[null,null,null,null,null,{"$f":"IF(B9862=\"\",\"\",IF(C9862=\"\",F9861,IF(E9862=\"\",F9861,E9862/MAX($E$9:E9862)-1)))","v":""}]
[null,null,null,null,null,{"$f":"IF(B9863=\"\",\"\",IF(C9863=\"\",F9862,IF(E9863=\"\",F9862,E9863/MAX($E$9:E9863)-1)))","v":""}]
[null,null,null,null,null,{"$f":"IF(B9864=\"\",\"\",IF(C9864=\"\",F9863,IF(E9864=\"\",F9863,E9864/MAX($E$9:E9864)-1)))","v":""}]
[null,null,null,null,null,{"$f":"IF(B9865=\"\",\"\",IF(C9865=\"\",F9864,IF(E9865=\"\",F9864,E9865/MAX($E$9:E9865)-1)))","v":""}]
[null,null,null,null,null,{"$f":"IF(B9866=\"\",\"\",IF(C9866=\"\",F9865,IF(E9866=\"\",F9865,E9866/MAX($E$9:E9866)-1)))","v":""}]
[null,null,null,null,null,{"$f":"IF(B9867=\"\",\"\",IF(C9867=\"\",F9866,IF(E9867=\"\",F9866,E9867/MAX($E$9:E9867)-1)))","v":""}]
[null,null,null,null,null,{"$f":"IF(B9868=\"\",\"\",IF(C9868=\"\",F9867,IF(E9868=\"\",F9867,E9868/MAX($E$9:E9868)-1)))","v":""}]
[null,null,null,null,null,{"$f":"IF(B9869=\"\",\"\",IF(C9869=\"\",F9868,IF(E9869=\"\",F9868,E9869/MAX($E$9:E9869)-1)))","v":""}]
[null,null,null,null,null,{"$f":"IF(B9870=\"\",\"\",IF(C9870=\"\",F9869,IF(E9870=\"\",F9869,E9870/MAX($E$9:E9870)-1)))","v":""}]
[null,null,null,null,null,{"$f":"IF(B9871=\"\",\"\",IF(C9871=\"\",F9870,IF(E9871=\"\",F9870,E9871/MAX($E$9:E9871)-1)))","v":""}]
[null,null,null,null,null,{"$f":"IF(B9872=\"\",\"\",IF(C9872=\"\",F9871,IF(E9872=\"\",F9871,E9872/MAX($E$9:E9872)-1)))","v":""}]
[null,null,null,null,null,{"$f":"IF(B9873=\"\",\"\",IF(C9873=\"\",F9872,IF(E9873=\"\",F9872,E9873/MAX($E$9:E9873)-1)))","v":""}]
[null,null,null,null,null,{"$f":"IF(B9874=\"\",\"\",IF(C9874=\"\",F9873,IF(E9874=\"\",F9873,E9874/MAX($E$9:E9874)-1)))","v":""}]
[null,null,null,null,null,{"$f":"IF(B9875=\"\",\"\",IF(C9875=\"\",F9874,IF(E9875=\"\",F9874,E9875/MAX($E$9:E9875)-1)))","v":""}]
[null,null,null,null,null,{"$f":"IF(B9876=\"\",\"\",IF(C9876=\"\",F9875,IF(E9876=\"\",F9875,E9876/MAX($E$9:E9876)-1)))","v":""}]
[null,null,null,null,null,{"$f":"IF(B9877=\"\",\"\",IF(C9877=\"\",F9876,IF(E9877=\"\",F9876,E9877/MAX($E$9:E9877)-1)))","v":""}]
[null,null,null,null,null,{"$f":"IF(B9878=\"\",\"\",IF(C9878=\"\",F9877,IF(E9878=\"\",F9877,E9878/MAX($E$9:E9878)-1)))","v":""}]
[null,null,null,null,null,{"$f":"IF(B9879=\"\",\"\",IF(C9879=\"\",F9878,IF(E9879=\"\",F9878,E9879/MAX($E$9:E9879)-1)))","v":""}]
[null,null,null,null,null,{"$f":"IF(B9880=\"\",\"\",IF(C9880=\"\",F9879,IF(E9880=\"\",F9879,E9880/MAX($E$9:E9880)-1)))","v":""}]
[null,null,null,null,null,{"$f":"IF(B9881=\"\",\"\",IF(C9881=\"\",F9880,IF(E9881=\"\",F9880,E9881/MAX($E$9:E9881)-1)))","v":""}]
[null,null,null,null,null,{"$f":"IF(B9882=\"\",\"\",IF(C9882=\"\",F9881,IF(E9882=\"\",F9881,E9882/MAX($E$9:E9882)-1)))","v":""}]
[null,null,null,null,null,{"$f":"IF(B9883=\"\",\"\",IF(C9883=\"\",F9882,IF(E9883=\"\",F9882,E9883/MAX($E$9:E9883)-1)))","v":""}]
[null,null,null,null,null,{"$f":"IF(B9884=\"\",\"\",IF(C9884=\"\",F9883,IF(E9884=\"\",F9883,E9884/MAX($E$9:E9884)-1)))","v":""}]
[null,null,null,null,null,{"$f":"IF(B9885=\"\",\"\",IF(C9885=\"\",F9884,IF(E9885=\"\",F9884,E9885/MAX($E$9:E9885)-1)))","v":""}]
[null,null,null,null,null,{"$f":"IF(B9886=\"\",\"\",IF(C9886=\"\",F9885,IF(E9886=\"\",F9885,E9886/MAX($E$9:E9886)-1)))","v":""}]
[null,null,null,null,null,{"$f":"IF(B9887=\"\",\"\",IF(C9887=\"\",F9886,IF(E9887=\"\",F9886,E9887/MAX($E$9:E9887)-1)))","v":""}]
[null,null,null,null,null,{"$f":"IF(B9888=\"\",\"\",IF(C9888=\"\",F9887,IF(E9888=\"\",F9887,E9888/MAX($E$9:E9888)-1)))","v":""}]
[null,null,null,null,null,{"$f":"IF(B9889=\"\",\"\",IF(C9889=\"\",F9888,IF(E9889=\"\",F9888,E9889/MAX($E$9:E9889)-1)))","v":""}]
[null,null,null,null,null,{"$f":"IF(B9890=\"\",\"\",IF(C9890=\"\",F9889,IF(E9890=\"\",F9889,E9890/MAX($E$9:E9890)-1)))","v":""}]
[null,null,null,null,null,{"$f":"IF(B9891=\"\",\"\",IF(C9891=\"\",F9890,IF(E9891=\"\",F9890,E9891/MAX($E$9:E9891)-1)))","v":""}]
[null,null,null,null,null,{"$f":"IF(B9892=\"\",\"\",IF(C9892=\"\",F9891,IF(E9892=\"\",F9891,E9892/MAX($E$9:E9892)-1)))","v":""}]
[null,null,null,null,null,{"$f":"IF(B9893=\"\",\"\",IF(C9893=\"\",F9892,IF(E9893=\"\",F9892,E9893/MAX($E$9:E9893)-1)))","v":""}]
[null,null,null,null,null,{"$f":"IF(B9894=\"\",\"\",IF(C9894=\"\",F9893,IF(E9894=\"\",F9893,E9894/MAX($E$9:E9894)-1)))","v":""}]
[null,null,null,null,null,{"$f":"IF(B9895=\"\",\"\",IF(C9895=\"\",F9894,IF(E9895=\"\",F9894,E9895/MAX($E$9:E9895)-1)))","v":""}]
[null,null,null,null,null,{"$f":"IF(B9896=\"\",\"\",IF(C9896=\"\",F9895,IF(E9896=\"\",F9895,E9896/MAX($E$9:E9896)-1)))","v":""}]
[null,null,null,null,null,{"$f":"IF(B9897=\"\",\"\",IF(C9897=\"\",F9896,IF(E9897=\"\",F9896,E9897/MAX($E$9:E9897)-1)))","v":""}]
[null,null,null,null,null,{"$f":"IF(B9898=\"\",\"\",IF(C9898=\"\",F9897,IF(E9898=\"\",F9897,E9898/MAX($E$9:E9898)-1)))","v":""}]
[null,null,null,null,null,{"$f":"IF(B9899=\"\",\"\",IF(C9899=\"\",F9898,IF(E9899=\"\",F9898,E9899/MAX($E$9:E9899)-1)))","v":""}]
[null,null,null,null,null,{"$f":"IF(B9900=\"\",\"\",IF(C9900=\"\",F9899,IF(E9900=\"\",F9899,E9900/MAX($E$9:E9900)-1)))","v":""}]
[null,null,null,null,null,{"$f":"IF(B9901=\"\",\"\",IF(C9901=\"\",F9900,IF(E9901=\"\",F9900,E9901/MAX($E$9:E9901)-1)))","v":""}]
[null,null,null,null,null,{"$f":"IF(B9902=\"\",\"\",IF(C9902=\"\",F9901,IF(E9902=\"\",F9901,E9902/MAX($E$9:E9902)-1)))","v":""}]
[null,null,null,null,null,{"$f":"IF(B9903=\"\",\"\",IF(C9903=\"\",F9902,IF(E9903=\"\",F9902,E9903/MAX($E$9:E9903)-1)))","v":""}]
[null,null,null,null,null,{"$f":"IF(B9904=\"\",\"\",IF(C9904=\"\",F9903,IF(E9904=\"\",F9903,E9904/MAX($E$9:E9904)-1)))","v":""}]
[null,null,null,null,null,{"$f":"IF(B9905=\"\",\"\",IF(C9905=\"\",F9904,IF(E9905=\"\",F9904,E9905/MAX($E$9:E9905)-1)))","v":""}]
[null,null,null,null,null,{"$f":"IF(B9906=\"\",\"\",IF(C9906=\"\",F9905,IF(E9906=\"\",F9905,E9906/MAX($E$9:E9906)-1)))","v":""}]
[null,null,null,null,null,{"$f":"IF(B9907=\"\",\"\",IF(C9907=\"\",F9906,IF(E9907=\"\",F9906,E9907/MAX($E$9:E9907)-1)))","v":""}]
[null,null,null,null,null,{"$f":"IF(B9908=\"\",\"\",IF(C9908=\"\",F9907,IF(E9908=\"\",F9907,E9908/MAX($E$9:E9908)-1)))","v":""}]
[null,null,null,null,null,{"$f":"IF(B9909=\"\",\"\",IF(C9909=\"\",F9908,IF(E9909=\"\",F9908,E9909/MAX($E$9:E9909)-1)))","v":""}]
[null,null,null,null,null,{"$f":"IF(B9910=\"\",\"\",IF(C9910=\"\",F9909,IF(E9910=\"\",F9909,E9910/MAX($E$9:E9910)-1)))","v":""}]
[null,null,null,null,null,{"$f":"IF(B9911=\"\",\"\",IF(C9911=\"\",F9910,IF(E9911=\"\",F9910,E9911/MAX($E$9:E9911)-1)))","v":""}]
[null,null,null,null,null,{"$f":"IF(B9912=\"\",\"\",IF(C9912=\"\",F9911,IF(E9912=\"\",F9911,E9912/MAX($E$9:E9912)-1)))","v":""}]
[null,null,null,null,null,{"$f":"IF(B9913=\"\",\"\",IF(C9913=\"\",F9912,IF(E9913=\"\",F9912,E9913/MAX($E$9:E9913)-1)))","v":""}]
[null,null,null,null,null,{"$f":"IF(B9914=\"\",\"\",IF(C9914=\"\",F9913,IF(E9914=\"\",F9913,E9914/MAX($E$9:E9914)-1)))","v":""}]
[null,null,null,null,null,{"$f":"IF(B9915=\"\",\"\",IF(C9915=\"\",F9914,IF(E9915=\"\",F9914,E9915/MAX($E$9:E9915)-1)))","v":""}]
[null,null,null,null,null,{"$f":"IF(B9916=\"\",\"\",IF(C9916=\"\",F9915,IF(E9916=\"\",F9915,E9916/MAX($E$9:E9916)-1)))","v":""}]
[null,null,null,null,null,{"$f":"IF(B9917=\"\",\"\",IF(C9917=\"\",F9916,IF(E9917=\"\",F9916,E9917/MAX($E$9:E9917)-1)))","v":""}]
[null,null,null,null,null,{"$f":"IF(B9918=\"\",\"\",IF(C9918=\"\",F9917,IF(E9918=\"\",F9917,E9918/MAX($E$9:E9918)-1)))","v":""}]
[null,null,null,null,null,{"$f":"IF(B9919=\"\",\"\",IF(C9919=\"\",F9918,IF(E9919=\"\",F9918,E9919/MAX($E$9:E9919)-1)))","v":""}]
[null,null,null,null,null,{"$f":"IF(B9920=\"\",\"\",IF(C9920=\"\",F9919,IF(E9920=\"\",F9919,E9920/MAX($E$9:E9920)-1)))","v":""}]
[null,null,null,null,null,{"$f":"IF(B9921=\"\",\"\",IF(C9921=\"\",F9920,IF(E9921=\"\",F9920,E9921/MAX($E$9:E9921)-1)))","v":""}]
[null,null,null,null,null,{"$f":"IF(B9922=\"\",\"\",IF(C9922=\"\",F9921,IF(E9922=\"\",F9921,E9922/MAX($E$9:E9922)-1)))","v":""}]
[null,null,null,null,null,{"$f":"IF(B9923=\"\",\"\",IF(C9923=\"\",F9922,IF(E9923=\"\",F9922,E9923/MAX($E$9:E9923)-1)))","v":""}]
[null,null,null,null,null,{"$f":"IF(B9924=\"\",\"\",IF(C9924=\"\",F9923,IF(E9924=\"\",F9923,E9924/MAX($E$9:E9924)-1)))","v":""}]
[null,null,null,null,null,{"$f":"IF(B9925=\"\",\"\",IF(C9925=\"\",F9924,IF(E9925=\"\",F9924,E9925/MAX($E$9:E9925)-1)))","v":""}]
[null,null,null,null,null,{"$f":"IF(B9926=\"\",\"\",IF(C9926=\"\",F9925,IF(E9926=\"\",F9925,E9926/MAX($E$9:E9926)-1)))","v":""}]
[null,null,null,null,null,{"$f":"IF(B9927=\"\",\"\",IF(C9927=\"\",F9926,IF(E9927=\"\",F9926,E9927/MAX($E$9:E9927)-1)))","v":""}]
[null,null,null,null,null,{"$f":"IF(B9928=\"\",\"\",IF(C9928=\"\",F9927,IF(E9928=\"\",F9927,E9928/MAX($E$9:E9928)-1)))","v":""}]
[null,null,null,null,null,{"$f":"IF(B9929=\"\",\"\",IF(C9929=\"\",F9928,IF(E9929=\"\",F9928,E9929/MAX($E$9:E9929)-1)))","v":""}]
[null,null,null,null,null,{"$f":"IF(B9930=\"\",\"\",IF(C9930=\"\",F9929,IF(E9930=\"\",F9929,E9930/MAX($E$9:E9930)-1)))","v":""}]
[null,null,null,null,null,{"$f":"IF(B9931=\"\",\"\",IF(C9931=\"\",F9930,IF(E9931=\"\",F9930,E9931/MAX($E$9:E9931)-1)))","v":""}]
[null,null,null,null,null,{"$f":"IF(B9932=\"\",\"\",IF(C9932=\"\",F9931,IF(E9932=\"\",F9931,E9932/MAX($E$9:E9932)-1)))","v":""}]
[null,null,null,null,null,{"$f":"IF(B9933=\"\",\"\",IF(C9933=\"\",F9932,IF(E9933=\"\",F9932,E9933/MAX($E$9:E9933)-1)))","v":""}]
[null,null,null,null,null,{"$f":"IF(B9934=\"\",\"\",IF(C9934=\"\",F9933,IF(E9934=\"\",F9933,E9934/MAX($E$9:E9934)-1)))","v":""}]
[null,null,null,null,null,{"$f":"IF(B9935=\"\",\"\",IF(C9935=\"\",F9934,IF(E9935=\"\",F9934,E9935/MAX($E$9:E9935)-1)))","v":""}]
[null,null,null,null,null,{"$f":"IF(B9936=\"\",\"\",IF(C9936=\"\",F9935,IF(E9936=\"\",F9935,E9936/MAX($E$9:E9936)-1)))","v":""}]
[null,null,null,null,null,{"$f":"IF(B9937=\"\",\"\",IF(C9937=\"\",F9936,IF(E9937=\"\",F9936,E9937/MAX($E$9:E9937)-1)))","v":""}]
[null,null,null,null,null,{"$f":"IF(B9938=\"\",\"\",IF(C9938=\"\",F9937,IF(E9938=\"\",F9937,E9938/MAX($E$9:E9938)-1)))","v":""}]
[null,null,null,null,null,{"$f":"IF(B9939=\"\",\"\",IF(C9939=\"\",F9938,IF(E9939=\"\",F9938,E9939/MAX($E$9:E9939)-1)))","v":""}]
[null,null,null,null,null,{"$f":"IF(B9940=\"\",\"\",IF(C9940=\"\",F9939,IF(E9940=\"\",F9939,E9940/MAX($E$9:E9940)-1)))","v":""}]
[null,null,null,null,null,{"$f":"IF(B9941=\"\",\"\",IF(C9941=\"\",F9940,IF(E9941=\"\",F9940,E9941/MAX($E$9:E9941)-1)))","v":""}]
[null,null,null,null,null,{"$f":"IF(B9942=\"\",\"\",IF(C9942=\"\",F9941,IF(E9942=\"\",F9941,E9942/MAX($E$9:E9942)-1)))","v":""}]
[null,null,null,null,null,{"$f":"IF(B9943=\"\",\"\",IF(C9943=\"\",F9942,IF(E9943=\"\",F9942,E9943/MAX($E$9:E9943)-1)))","v":""}]
[null,null,null,null,null,{"$f":"IF(B9944=\"\",\"\",IF(C9944=\"\",F9943,IF(E9944=\"\",F9943,E9944/MAX($E$9:E9944)-1)))","v":""}]
[null,null,null,null,null,{"$f":"IF(B9945=\"\",\"\",IF(C9945=\"\",F9944,IF(E9945=\"\",F9944,E9945/MAX($E$9:E9945)-1)))","v":""}]
[null,null,null,null,null,{"$f":"IF(B9946=\"\",\"\",IF(C9946=\"\",F9945,IF(E9946=\"\",F9945,E9946/MAX($E$9:E9946)-1)))","v":""}]
[null,null,null,null,null,{"$f":"IF(B9947=\"\",\"\",IF(C9947=\"\",F9946,IF(E9947=\"\",F9946,E9947/MAX($E$9:E9947)-1)))","v":""}]
[null,null,null,null,null,{"$f":"IF(B9948=\"\",\"\",IF(C9948=\"\",F9947,IF(E9948=\"\",F9947,E9948/MAX($E$9:E9948)-1)))","v":""}]
[null,null,null,null,null,{"$f":"IF(B9949=\"\",\"\",IF(C9949=\"\",F9948,IF(E9949=\"\",F9948,E9949/MAX($E$9:E9949)-1)))","v":""}]
[null,null,null,null,null,{"$f":"IF(B9950=\"\",\"\",IF(C9950=\"\",F9949,IF(E9950=\"\",F9949,E9950/MAX($E$9:E9950)-1)))","v":""}]
[null,null,null,null,null,{"$f":"IF(B9951=\"\",\"\",IF(C9951=\"\",F9950,IF(E9951=\"\",F9950,E9951/MAX($E$9:E9951)-1)))","v":""}]
[null,null,null,null,null,{"$f":"IF(B9952=\"\",\"\",IF(C9952=\"\",F9951,IF(E9952=\"\",F9951,E9952/MAX($E$9:E9952)-1)))","v":""}]
[null,null,null,null,null,{"$f":"IF(B9953=\"\",\"\",IF(C9953=\"\",F9952,IF(E9953=\"\",F9952,E9953/MAX($E$9:E9953)-1)))","v":""}]
[null,null,null,null,null,{"$f":"IF(B9954=\"\",\"\",IF(C9954=\"\",F9953,IF(E9954=\"\",F9953,E9954/MAX($E$9:E9954)-1)))","v":""}]
[null,null,null,null,null,{"$f":"IF(B9955=\"\",\"\",IF(C9955=\"\",F9954,IF(E9955=\"\",F9954,E9955/MAX($E$9:E9955)-1)))","v":""}]
[null,null,null,null,null,{"$f":"IF(B9956=\"\",\"\",IF(C9956=\"\",F9955,IF(E9956=\"\",F9955,E9956/MAX($E$9:E9956)-1)))","v":""}]
[null,null,null,null,null,{"$f":"IF(B9957=\"\",\"\",IF(C9957=\"\",F9956,IF(E9957=\"\",F9956,E9957/MAX($E$9:E9957)-1)))","v":""}]
[null,null,null,null,null,{"$f":"IF(B9958=\"\",\"\",IF(C9958=\"\",F9957,IF(E9958=\"\",F9957,E9958/MAX($E$9:E9958)-1)))","v":""}]
[null,null,null,null,null,{"$f":"IF(B9959=\"\",\"\",IF(C9959=\"\",F9958,IF(E9959=\"\",F9958,E9959/MAX($E$9:E9959)-1)))","v":""}]
[null,null,null,null,null,{"$f":"IF(B9960=\"\",\"\",IF(C9960=\"\",F9959,IF(E9960=\"\",F9959,E9960/MAX($E$9:E9960)-1)))","v":""}]
[null,null,null,null,null,{"$f":"IF(B9961=\"\",\"\",IF(C9961=\"\",F9960,IF(E9961=\"\",F9960,E9961/MAX($E$9:E9961)-1)))","v":""}]
[null,null,null,null,null,{"$f":"IF(B9962=\"\",\"\",IF(C9962=\"\",F9961,IF(E9962=\"\",F9961,E9962/MAX($E$9:E9962)-1)))","v":""}]
[null,null,null,null,null,{"$f":"IF(B9963=\"\",\"\",IF(C9963=\"\",F9962,IF(E9963=\"\",F9962,E9963/MAX($E$9:E9963)-1)))","v":""}]
[null,null,null,null,null,{"$f":"IF(B9964=\"\",\"\",IF(C9964=\"\",F9963,IF(E9964=\"\",F9963,E9964/MAX($E$9:E9964)-1)))","v":""}]
[null,null,null,null,null,{"$f":"IF(B9965=\"\",\"\",IF(C9965=\"\",F9964,IF(E9965=\"\",F9964,E9965/MAX($E$9:E9965)-1)))","v":""}]
[null,null,null,null,null,{"$f":"IF(B9966=\"\",\"\",IF(C9966=\"\",F9965,IF(E9966=\"\",F9965,E9966/MAX($E$9:E9966)-1)))","v":""}]
[null,null,null,null,null,{"$f":"IF(B9967=\"\",\"\",IF(C9967=\"\",F9966,IF(E9967=\"\",F9966,E9967/MAX($E$9:E9967)-1)))","v":""}]
[null,null,null,null,null,{"$f":"IF(B9968=\"\",\"\",IF(C9968=\"\",F9967,IF(E9968=\"\",F9967,E9968/MAX($E$9:E9968)-1)))","v":""}]
[null,null,null,null,null,{"$f":"IF(B9969=\"\",\"\",IF(C9969=\"\",F9968,IF(E9969=\"\",F9968,E9969/MAX($E$9:E9969)-1)))","v":""}]
[null,null,null,null,null,{"$f":"IF(B9970=\"\",\"\",IF(C9970=\"\",F9969,IF(E9970=\"\",F9969,E9970/MAX($E$9:E9970)-1)))","v":""}]
[null,null,null,null,null,{"$f":"IF(B9971=\"\",\"\",IF(C9971=\"\",F9970,IF(E9971=\"\",F9970,E9971/MAX($E$9:E9971)-1)))","v":""}]
[null,null,null,null,null,{"$f":"IF(B9972=\"\",\"\",IF(C9972=\"\",F9971,IF(E9972=\"\",F9971,E9972/MAX($E$9:E9972)-1)))","v":""}]
[null,null,null,null,null,{"$f":"IF(B9973=\"\",\"\",IF(C9973=\"\",F9972,IF(E9973=\"\",F9972,E9973/MAX($E$9:E9973)-1)))","v":""}]
[null,null,null,null,null,{"$f":"IF(B9974=\"\",\"\",IF(C9974=\"\",F9973,IF(E9974=\"\",F9973,E9974/MAX($E$9:E9974)-1)))","v":""}]
[null,null,null,null,null,{"$f":"IF(B9975=\"\",\"\",IF(C9975=\"\",F9974,IF(E9975=\"\",F9974,E9975/MAX($E$9:E9975)-1)))","v":""}]
[null,null,null,null,null,{"$f":"IF(B9976=\"\",\"\",IF(C9976=\"\",F9975,IF(E9976=\"\",F9975,E9976/MAX($E$9:E9976)-1)))","v":""}]
[null,null,null,null,null,{"$f":"IF(B9977=\"\",\"\",IF(C9977=\"\",F9976,IF(E9977=\"\",F9976,E9977/MAX($E$9:E9977)-1)))","v":""}]
[null,null,null,null,null,{"$f":"IF(B9978=\"\",\"\",IF(C9978=\"\",F9977,IF(E9978=\"\",F9977,E9978/MAX($E$9:E9978)-1)))","v":""}]
[null,null,null,null,null,{"$f":"IF(B9979=\"\",\"\",IF(C9979=\"\",F9978,IF(E9979=\"\",F9978,E9979/MAX($E$9:E9979)-1)))","v":""}]
[null,null,null,null,null,{"$f":"IF(B9980=\"\",\"\",IF(C9980=\"\",F9979,IF(E9980=\"\",F9979,E9980/MAX($E$9:E9980)-1)))","v":""}]
[null,null,null,null,null,{"$f":"IF(B9981=\"\",\"\",IF(C9981=\"\",F9980,IF(E9981=\"\",F9980,E9981/MAX($E$9:E9981)-1)))","v":""}]
[null,null,null,null,null,{"$f":"IF(B9982=\"\",\"\",IF(C9982=\"\",F9981,IF(E9982=\"\",F9981,E9982/MAX($E$9:E9982)-1)))","v":""}]
[null,null,null,null,null,{"$f":"IF(B9983=\"\",\"\",IF(C9983=\"\",F9982,IF(E9983=\"\",F9982,E9983/MAX($E$9:E9983)-1)))","v":""}]
[null,null,null,null,null,{"$f":"IF(B9984=\"\",\"\",IF(C9984=\"\",F9983,IF(E9984=\"\",F9983,E9984/MAX($E$9:E9984)-1)))","v":""}]
[null,null,null,null,null,{"$f":"IF(B9985=\"\",\"\",IF(C9985=\"\",F9984,IF(E9985=\"\",F9984,E9985/MAX($E$9:E9985)-1)))","v":""}]
[null,null,null,null,null,{"$f":"IF(B9986=\"\",\"\",IF(C9986=\"\",F9985,IF(E9986=\"\",F9985,E9986/MAX($E$9:E9986)-1)))","v":""}]
[null,null,null,null,null,{"$f":"IF(B9987=\"\",\"\",IF(C9987=\"\",F9986,IF(E9987=\"\",F9986,E9987/MAX($E$9:E9987)-1)))","v":""}]
[null,null,null,null,null,{"$f":"IF(B9988=\"\",\"\",IF(C9988=\"\",F9987,IF(E9988=\"\",F9987,E9988/MAX($E$9:E9988)-1)))","v":""}]
[null,null,null,null,null,{"$f":"IF(B9989=\"\",\"\",IF(C9989=\"\",F9988,IF(E9989=\"\",F9988,E9989/MAX($E$9:E9989)-1)))","v":""}]
[null,null,null,null,null,{"$f":"IF(B9990=\"\",\"\",IF(C9990=\"\",F9989,IF(E9990=\"\",F9989,E9990/MAX($E$9:E9990)-1)))","v":""}]
[null,null,null,null,null,{"$f":"IF(B9991=\"\",\"\",IF(C9991=\"\",F9990,IF(E9991=\"\",F9990,E9991/MAX($E$9:E9991)-1)))","v":""}]
[null,null,null,null,null,{"$f":"IF(B9992=\"\",\"\",IF(C9992=\"\",F9991,IF(E9992=\"\",F9991,E9992/MAX($E$9:E9992)-1)))","v":""}]
[null,null,null,null,null,{"$f":"IF(B9993=\"\",\"\",IF(C9993=\"\",F9992,IF(E9993=\"\",F9992,E9993/MAX($E$9:E9993)-1)))","v":""}]
[null,null,null,null,null,{"$f":"IF(B9994=\"\",\"\",IF(C9994=\"\",F9993,IF(E9994=\"\",F9993,E9994/MAX($E$9:E9994)-1)))","v":""}]
[null,null,null,null,null,{"$f":"IF(B9995=\"\",\"\",IF(C9995=\"\",F9994,IF(E9995=\"\",F9994,E9995/MAX($E$9:E9995)-1)))","v":""}]
[null,null,null,null,null,{"$f":"IF(B9996=\"\",\"\",IF(C9996=\"\",F9995,IF(E9996=\"\",F9995,E9996/MAX($E$9:E9996)-1)))","v":""}]
[null,null,null,null,null,{"$f":"IF(B9997=\"\",\"\",IF(C9997=\"\",F9996,IF(E9997=\"\",F9996,E9997/MAX($E$9:E9997)-1)))","v":""}]
[null,null,null,null,null,{"$f":"IF(B9998=\"\",\"\",IF(C9998=\"\",F9997,IF(E9998=\"\",F9997,E9998/MAX($E$9:E9998)-1)))","v":""}]
[null,null,null,null,null,{"$f":"IF(B9999=\"\",\"\",IF(C9999=\"\",F9998,IF(E9999=\"\",F9998,E9999/MAX($E$9:E9999)-1)))","v":""}]
[null,null,null,null,null,{"$f":"IF(B10000=\"\",\"\",IF(C10000=\"\",F9999,IF(E10000=\"\",F9999,E10000/MAX($E$9:E10000)-1)))","v":""}]
[null,null,null,null,null,{"$f":"IF(B10001=\"\",\"\",IF(C10001=\"\",F10000,IF(E10001=\"\",F10000,E10001/MAX($E$9:E10001)-1)))","v":""}]
[null,null,null,null,null,{"$f":"IF(B10002=\"\",\"\",IF(C10002=\"\",F10001,IF(E10002=\"\",F10001,E10002/MAX($E$9:E10002)-1)))","v":""}]
[null,null,null,null,null,{"$f":"IF(B10003=\"\",\"\",IF(C10003=\"\",F10002,IF(E10003=\"\",F10002,E10003/MAX($E$9:E10003)-1)))","v":""}]
[null,null,null,null,null,{"$f":"IF(B10004=\"\",\"\",IF(C10004=\"\",F10003,IF(E10004=\"\",F10003,E10004/MAX($E$9:E10004)-1)))","v":""}]
[null,null,null,null,null,{"$f":"IF(B10005=\"\",\"\",IF(C10005=\"\",F10004,IF(E10005=\"\",F10004,E10005/MAX($E$9:E10005)-1)))","v":""}]
[null,null,null,null,null,{"$f":"IF(B10006=\"\",\"\",IF(C10006=\"\",F10005,IF(E10006=\"\",F10005,E10006/MAX($E$9:E10006)-1)))","v":""}]
[null,null,null,null,null,{"$f":"IF(B10007=\"\",\"\",IF(C10007=\"\",F10006,IF(E10007=\"\",F10006,E10007/MAX($E$9:E10007)-1)))","v":""}]
[null,null,null,null,null,{"$f":"IF(B10008=\"\",\"\",IF(C10008=\"\",F10007,IF(E10008=\"\",F10007,E10008/MAX($E$9:E10008)-1)))","v":""}]
[null,null,null,null,null,{"$f":"IF(B10009=\"\",\"\",IF(C10009=\"\",F10008,IF(E10009=\"\",F10008,E10009/MAX($E$9:E10009)-1)))","v":""}]
[null,null,null,null,null,{"$f":"IF(B10010=\"\",\"\",IF(C10010=\"\",F10009,IF(E10010=\"\",F10009,E10010/MAX($E$9:E10010)-1)))","v":""}]
[null,null,null,null,null,{"$f":"IF(B10011=\"\",\"\",IF(C10011=\"\",F10010,IF(E10011=\"\",F10010,E10011/MAX($E$9:E10011)-1)))","v":""}]
[null,null,null,null,null,{"$f":"IF(B10012=\"\",\"\",IF(C10012=\"\",F10011,IF(E10012=\"\",F10011,E10012/MAX($E$9:E10012)-1)))","v":""}]
[null,null,null,null,null,{"$f":"IF(B10013=\"\",\"\",IF(C10013=\"\",F10012,IF(E10013=\"\",F10012,E10013/MAX($E$9:E10013)-1)))","v":""}]
[null,null,null,null,null,{"$f":"IF(B10014=\"\",\"\",IF(C10014=\"\",F10013,IF(E10014=\"\",F10013,E10014/MAX($E$9:E10014)-1)))","v":""}]
[null,null,null,null,null,{"$f":"IF(B10015=\"\",\"\",IF(C10015=\"\",F10014,IF(E10015=\"\",F10014,E10015/MAX($E$9:E10015)-1)))","v":""}]
[null,null,null,null,null,{"$f":"IF(B10016=\"\",\"\",IF(C10016=\"\",F10015,IF(E10016=\"\",F10015,E10016/MAX($E$9:E10016)-1)))","v":""}]
[null,null,null,null,null,{"$f":"IF(B10017=\"\",\"\",IF(C10017=\"\",F10016,IF(E10017=\"\",F10016,E10017/MAX($E$9:E10017)-1)))","v":""}]
[null,null,null,null,null,{"$f":"IF(B10018=\"\",\"\",IF(C10018=\"\",F10017,IF(E10018=\"\",F10017,E10018/MAX($E$9:E10018)-1)))","v":""}]
[null,null,null,null,null,{"$f":"IF(B10019=\"\",\"\",IF(C10019=\"\",F10018,IF(E10019=\"\",F10018,E10019/MAX($E$9:E10019)-1)))","v":""}]
[null,null,null,null,null,{"$f":"IF(B10020=\"\",\"\",IF(C10020=\"\",F10019,IF(E10020=\"\",F10019,E10020/MAX($E$9:E10020)-1)))","v":""}]
[null,null,null,null,null,{"$f":"IF(B10021=\"\",\"\",IF(C10021=\"\",F10020,IF(E10021=\"\",F10020,E10021/MAX($E$9:E10021)-1)))","v":""}]
[null,null,null,null,null,{"$f":"IF(B10022=\"\",\"\",IF(C10022=\"\",F10021,IF(E10022=\"\",F10021,E10022/MAX($E$9:E10022)-1)))","v":""}]
[null,null,null,null,null,{"$f":"IF(B10023=\"\",\"\",IF(C10023=\"\",F10022,IF(E10023=\"\",F10022,E10023/MAX($E$9:E10023)-1)))","v":""}]
[null,null,null,null,null,{"$f":"IF(B10024=\"\",\"\",IF(C10024=\"\",F10023,IF(E10024=\"\",F10023,E10024/MAX($E$9:E10024)-1)))","v":""}]
[null,null,null,null,null,{"$f":"IF(B10025=\"\",\"\",IF(C10025=\"\",F10024,IF(E10025=\"\",F10024,E10025/MAX($E$9:E10025)-1)))","v":""}]
[null,null,null,null,null,{"$f":"IF(B10026=\"\",\"\",IF(C10026=\"\",F10025,IF(E10026=\"\",F10025,E10026/MAX($E$9:E10026)-1)))","v":""}]
[null,null,null,null,null,{"$f":"IF(B10027=\"\",\"\",IF(C10027=\"\",F10026,IF(E10027=\"\",F10026,E10027/MAX($E$9:E10027)-1)))","v":""}]
[null,null,null,null,null,{"$f":"IF(B10028=\"\",\"\",IF(C10028=\"\",F10027,IF(E10028=\"\",F10027,E10028/MAX($E$9:E10028)-1)))","v":""}]
[null,null,null,null,null,{"$f":"IF(B10029=\"\",\"\",IF(C10029=\"\",F10028,IF(E10029=\"\",F10028,E10029/MAX($E$9:E10029)-1)))","v":""}]
[null,null,null,null,null,{"$f":"IF(B10030=\"\",\"\",IF(C10030=\"\",F10029,IF(E10030=\"\",F10029,E10030/MAX($E$9:E10030)-1)))","v":""}]
[null,null,null,null,null,{"$f":"IF(B10031=\"\",\"\",IF(C10031=\"\",F10030,IF(E10031=\"\",F10030,E10031/MAX($E$9:E10031)-1)))","v":""}]
[null,null,null,null,null,{"$f":"IF(B10032=\"\",\"\",IF(C10032=\"\",F10031,IF(E10032=\"\",F10031,E10032/MAX($E$9:E10032)-1)))","v":""}]
[null,null,null,null,null,{"$f":"IF(B10033=\"\",\"\",IF(C10033=\"\",F10032,IF(E10033=\"\",F10032,E10033/MAX($E$9:E10033)-1)))","v":""}]
[null,null,null,null,null,{"$f":"IF(B10034=\"\",\"\",IF(C10034=\"\",F10033,IF(E10034=\"\",F10033,E10034/MAX($E$9:E10034)-1)))","v":""}]
[null,null,null,null,null,{"$f":"IF(B10035=\"\",\"\",IF(C10035=\"\",F10034,IF(E10035=\"\",F10034,E10035/MAX($E$9:E10035)-1)))","v":""}]
[null,null,null,null,null,{"$f":"IF(B10036=\"\",\"\",IF(C10036=\"\",F10035,IF(E10036=\"\",F10035,E10036/MAX($E$9:E10036)-1)))","v":""}]
[null,null,null,null,null,{"$f":"IF(B10037=\"\",\"\",IF(C10037=\"\",F10036,IF(E10037=\"\",F10036,E10037/MAX($E$9:E10037)-1)))","v":""}]
[null,null,null,null,null,{"$f":"IF(B10038=\"\",\"\",IF(C10038=\"\",F10037,IF(E10038=\"\",F10037,E10038/MAX($E$9:E10038)-1)))","v":""}]
[null,null,null,null,null,{"$f":"IF(B10039=\"\",\"\",IF(C10039=\"\",F10038,IF(E10039=\"\",F10038,E10039/MAX($E$9:E10039)-1)))","v":""}]
[null,null,null,null,null,{"$f":"IF(B10040=\"\",\"\",IF(C10040=\"\",F10039,IF(E10040=\"\",F10039,E10040/MAX($E$9:E10040)-1)))","v":""}]
[null,null,null,null,null,{"$f":"IF(B10041=\"\",\"\",IF(C10041=\"\",F10040,IF(E10041=\"\",F10040,E10041/MAX($E$9:E10041)-1)))","v":""}]
[null,null,null,null,null,{"$f":"IF(B10042=\"\",\"\",IF(C10042=\"\",F10041,IF(E10042=\"\",F10041,E10042/MAX($E$9:E10042)-1)))","v":""}]
[null,null,null,null,null,{"$f":"IF(B10043=\"\",\"\",IF(C10043=\"\",F10042,IF(E10043=\"\",F10042,E10043/MAX($E$9:E10043)-1)))","v":""}]
[null,null,null,null,null,{"$f":"IF(B10044=\"\",\"\",IF(C10044=\"\",F10043,IF(E10044=\"\",F10043,E10044/MAX($E$9:E10044)-1)))","v":""}]
[null,null,null,null,null,{"$f":"IF(B10045=\"\",\"\",IF(C10045=\"\",F10044,IF(E10045=\"\",F10044,E10045/MAX($E$9:E10045)-1)))","v":""}]
[null,null,null,null,null,{"$f":"IF(B10046=\"\",\"\",IF(C10046=\"\",F10045,IF(E10046=\"\",F10045,E10046/MAX($E$9:E10046)-1)))","v":""}]
[null,null,null,null,null,{"$f":"IF(B10047=\"\",\"\",IF(C10047=\"\",F10046,IF(E10047=\"\",F10046,E10047/MAX($E$9:E10047)-1)))","v":""}]
[null,null,null,null,null,{"$f":"IF(B10048=\"\",\"\",IF(C10048=\"\",F10047,IF(E10048=\"\",F10047,E10048/MAX($E$9:E10048)-1)))","v":""}]
[null,null,null,null,null,{"$f":"IF(B10049=\"\",\"\",IF(C10049=\"\",F10048,IF(E10049=\"\",F10048,E10049/MAX($E$9:E10049)-1)))","v":""}]
[null,null,null,null,null,{"$f":"IF(B10050=\"\",\"\",IF(C10050=\"\",F10049,IF(E10050=\"\",F10049,E10050/MAX($E$9:E10050)-1)))","v":""}]
[null,null,null,null,null,{"$f":"IF(B10051=\"\",\"\",IF(C10051=\"\",F10050,IF(E10051=\"\",F10050,E10051/MAX($E$9:E10051)-1)))","v":""}]
[null,null,null,null,null,{"$f":"IF(B10052=\"\",\"\",IF(C10052=\"\",F10051,IF(E10052=\"\",F10051,E10052/MAX($E$9:E10052)-1)))","v":""}]
[null,null,null,null,null,{"$f":"IF(B10053=\"\",\"\",IF(C10053=\"\",F10052,IF(E10053=\"\",F10052,E10053/MAX($E$9:E10053)-1)))","v":""}]
[null,null,null,null,null,{"$f":"IF(B10054=\"\",\"\",IF(C10054=\"\",F10053,IF(E10054=\"\",F10053,E10054/MAX($E$9:E10054)-1)))","v":""}]
[null,null,null,null,null,{"$f":"IF(B10055=\"\",\"\",IF(C10055=\"\",F10054,IF(E10055=\"\",F10054,E10055/MAX($E$9:E10055)-1)))","v":""}]
[null,null,null,null,null,{"$f":"IF(B10056=\"\",\"\",IF(C10056=\"\",F10055,IF(E10056=\"\",F10055,E10056/MAX($E$9:E10056)-1)))","v":""}]
[null,null,null,null,null,{"$f":"IF(B10057=\"\",\"\",IF(C10057=\"\",F10056,IF(E10057=\"\",F10056,E10057/MAX($E$9:E10057)-1)))","v":""}]
[null,null,null,null,null,{"$f":"IF(B10058=\"\",\"\",IF(C10058=\"\",F10057,IF(E10058=\"\",F10057,E10058/MAX($E$9:E10058)-1)))","v":""}]
[null,null,null,null,null,{"$f":"IF(B10059=\"\",\"\",IF(C10059=\"\",F10058,IF(E10059=\"\",F10058,E10059/MAX($E$9:E10059)-1)))","v":""}]
[null,null,null,null,null,{"$f":"IF(B10060=\"\",\"\",IF(C10060=\"\",F10059,IF(E10060=\"\",F10059,E10060/MAX($E$9:E10060)-1)))","v":""}]
[null,null,null,null,null,{"$f":"IF(B10061=\"\",\"\",IF(C10061=\"\",F10060,IF(E10061=\"\",F10060,E10061/MAX($E$9:E10061)-1)))","v":""}]
[null,null,null,null,null,{"$f":"IF(B10062=\"\",\"\",IF(C10062=\"\",F10061,IF(E10062=\"\",F10061,E10062/MAX($E$9:E10062)-1)))","v":""}]
[null,null,null,null,null,{"$f":"IF(B10063=\"\",\"\",IF(C10063=\"\",F10062,IF(E10063=\"\",F10062,E10063/MAX($E$9:E10063)-1)))","v":""}]
[null,null,null,null,null,{"$f":"IF(B10064=\"\",\"\",IF(C10064=\"\",F10063,IF(E10064=\"\",F10063,E10064/MAX($E$9:E10064)-1)))","v":""}]
[null,null,null,null,null,{"$f":"IF(B10065=\"\",\"\",IF(C10065=\"\",F10064,IF(E10065=\"\",F10064,E10065/MAX($E$9:E10065)-1)))","v":""}]
[null,null,null,null,null,{"$f":"IF(B10066=\"\",\"\",IF(C10066=\"\",F10065,IF(E10066=\"\",F10065,E10066/MAX($E$9:E10066)-1)))","v":""}]
[null,null,null,null,null,{"$f":"IF(B10067=\"\",\"\",IF(C10067=\"\",F10066,IF(E10067=\"\",F10066,E10067/MAX($E$9:E10067)-1)))","v":""}]
[null,null,null,null,null,{"$f":"IF(B10068=\"\",\"\",IF(C10068=\"\",F10067,IF(E10068=\"\",F10067,E10068/MAX($E$9:E10068)-1)))","v":""}]
[null,null,null,null,null,{"$f":"IF(B10069=\"\",\"\",IF(C10069=\"\",F10068,IF(E10069=\"\",F10068,E10069/MAX($E$9:E10069)-1)))","v":""}]
[null,null,null,null,null,{"$f":"IF(B10070=\"\",\"\",IF(C10070=\"\",F10069,IF(E10070=\"\",F10069,E10070/MAX($E$9:E10070)-1)))","v":""}]
[null,null,null,null,null,{"$f":"IF(B10071=\"\",\"\",IF(C10071=\"\",F10070,IF(E10071=\"\",F10070,E10071/MAX($E$9:E10071)-1)))","v":""}]
[null,null,null,null,null,{"$f":"IF(B10072=\"\",\"\",IF(C10072=\"\",F10071,IF(E10072=\"\",F10071,E10072/MAX($E$9:E10072)-1)))","v":""}]
[null,null,null,null,null,{"$f":"IF(B10073=\"\",\"\",IF(C10073=\"\",F10072,IF(E10073=\"\",F10072,E10073/MAX($E$9:E10073)-1)))","v":""}]
[null,null,null,null,null,{"$f":"IF(B10074=\"\",\"\",IF(C10074=\"\",F10073,IF(E10074=\"\",F10073,E10074/MAX($E$9:E10074)-1)))","v":""}]
[null,null,null,null,null,{"$f":"IF(B10075=\"\",\"\",IF(C10075=\"\",F10074,IF(E10075=\"\",F10074,E10075/MAX($E$9:E10075)-1)))","v":""}]
[null,null,null,null,null,{"$f":"IF(B10076=\"\",\"\",IF(C10076=\"\",F10075,IF(E10076=\"\",F10075,E10076/MAX($E$9:E10076)-1)))","v":""}]
[null,null,null,null,null,{"$f":"IF(B10077=\"\",\"\",IF(C10077=\"\",F10076,IF(E10077=\"\",F10076,E10077/MAX($E$9:E10077)-1)))","v":""}]
[null,null,null,null,null,{"$f":"IF(B10078=\"\",\"\",IF(C10078=\"\",F10077,IF(E10078=\"\",F10077,E10078/MAX($E$9:E10078)-1)))","v":""}]
[null,null,null,null,null,{"$f":"IF(B10079=\"\",\"\",IF(C10079=\"\",F10078,IF(E10079=\"\",F10078,E10079/MAX($E$9:E10079)-1)))","v":""}]
[null,null,null,null,null,{"$f":"IF(B10080=\"\",\"\",IF(C10080=\"\",F10079,IF(E10080=\"\",F10079,E10080/MAX($E$9:E10080)-1)))","v":""}]
[null,null,null,null,null,{"$f":"IF(B10081=\"\",\"\",IF(C10081=\"\",F10080,IF(E10081=\"\",F10080,E10081/MAX($E$9:E10081)-1)))","v":""}]
[null,null,null,null,null,{"$f":"IF(B10082=\"\",\"\",IF(C10082=\"\",F10081,IF(E10082=\"\",F10081,E10082/MAX($E$9:E10082)-1)))","v":""}]
[null,null,null,null,null,{"$f":"IF(B10083=\"\",\"\",IF(C10083=\"\",F10082,IF(E10083=\"\",F10082,E10083/MAX($E$9:E10083)-1)))","v":""}]
[null,null,null,null,null,{"$f":"IF(B10084=\"\",\"\",IF(C10084=\"\",F10083,IF(E10084=\"\",F10083,E10084/MAX($E$9:E10084)-1)))","v":""}]
[null,null,null,null,null,{"$f":"IF(B10085=\"\",\"\",IF(C10085=\"\",F10084,IF(E10085=\"\",F10084,E10085/MAX($E$9:E10085)-1)))","v":""}]
[null,null,null,null,null,{"$f":"IF(B10086=\"\",\"\",IF(C10086=\"\",F10085,IF(E10086=\"\",F10085,E10086/MAX($E$9:E10086)-1)))","v":""}]
[null,null,null,null,null,{"$f":"IF(B10087=\"\",\"\",IF(C10087=\"\",F10086,IF(E10087=\"\",F10086,E10087/MAX($E$9:E10087)-1)))","v":""}]
[null,null,null,null,null,{"$f":"IF(B10088=\"\",\"\",IF(C10088=\"\",F10087,IF(E10088=\"\",F10087,E10088/MAX($E$9:E10088)-1)))","v":""}]
[null,null,null,null,null,{"$f":"IF(B10089=\"\",\"\",IF(C10089=\"\",F10088,IF(E10089=\"\",F10088,E10089/MAX($E$9:E10089)-1)))","v":""}]
[null,null,null,null,null,{"$f":"IF(B10090=\"\",\"\",IF(C10090=\"\",F10089,IF(E10090=\"\",F10089,E10090/MAX($E$9:E10090)-1)))","v":""}]
[null,null,null,null,null,{"$f":"IF(B10091=\"\",\"\",IF(C10091=\"\",F10090,IF(E10091=\"\",F10090,E10091/MAX($E$9:E10091)-1)))","v":""}]
[null,null,null,null,null,{"$f":"IF(B10092=\"\",\"\",IF(C10092=\"\",F10091,IF(E10092=\"\",F10091,E10092/MAX($E$9:E10092)-1)))","v":""}]
[null,null,null,null,null,{"$f":"IF(B10093=\"\",\"\",IF(C10093=\"\",F10092,IF(E10093=\"\",F10092,E10093/MAX($E$9:E10093)-1)))","v":""}]
[null,null,null,null,null,{"$f":"IF(B10094=\"\",\"\",IF(C10094=\"\",F10093,IF(E10094=\"\",F10093,E10094/MAX($E$9:E10094)-1)))","v":""}]
[null,null,null,null,null,{"$f":"IF(B10095=\"\",\"\",IF(C10095=\"\",F10094,IF(E10095=\"\",F10094,E10095/MAX($E$9:E10095)-1)))","v":""}]
[null,null,null,null,null,{"$f":"IF(B10096=\"\",\"\",IF(C10096=\"\",F10095,IF(E10096=\"\",F10095,E10096/MAX($E$9:E10096)-1)))","v":""}]
[null,null,null,null,null,{"$f":"IF(B10097=\"\",\"\",IF(C10097=\"\",F10096,IF(E10097=\"\",F10096,E10097/MAX($E$9:E10097)-1)))","v":""}]
[null,null,null,null,null,{"$f":"IF(B10098=\"\",\"\",IF(C10098=\"\",F10097,IF(E10098=\"\",F10097,E10098/MAX($E$9:E10098)-1)))","v":""}]
[null,null,null,null,null,{"$f":"IF(B10099=\"\",\"\",IF(C10099=\"\",F10098,IF(E10099=\"\",F10098,E10099/MAX($E$9:E10099)-1)))","v":""}]
[null,null,null,null,null,{"$f":"IF(B10100=\"\",\"\",IF(C10100=\"\",F10099,IF(E10100=\"\",F10099,E10100/MAX($E$9:E10100)-1)))","v":""}]
[null,null,null,null,null,{"$f":"IF(B10101=\"\",\"\",IF(C10101=\"\",F10100,IF(E10101=\"\",F10100,E10101/MAX($E$9:E10101)-1)))","v":""}]
[null,null,null,null,null,{"$f":"IF(B10102=\"\",\"\",IF(C10102=\"\",F10101,IF(E10102=\"\",F10101,E10102/MAX($E$9:E10102)-1)))","v":""}]
[null,null,null,null,null,{"$f":"IF(B10103=\"\",\"\",IF(C10103=\"\",F10102,IF(E10103=\"\",F10102,E10103/MAX($E$9:E10103)-1)))","v":""}]
[null,null,null,null,null,{"$f":"IF(B10104=\"\",\"\",IF(C10104=\"\",F10103,IF(E10104=\"\",F10103,E10104/MAX($E$9:E10104)-1)))","v":""}]
[null,null,null,null,null,{"$f":"IF(B10105=\"\",\"\",IF(C10105=\"\",F10104,IF(E10105=\"\",F10104,E10105/MAX($E$9:E10105)-1)))","v":""}]
[null,null,null,null,null,{"$f":"IF(B10106=\"\",\"\",IF(C10106=\"\",F10105,IF(E10106=\"\",F10105,E10106/MAX($E$9:E10106)-1)))","v":""}]
[null,null,null,null,null,{"$f":"IF(B10107=\"\",\"\",IF(C10107=\"\",F10106,IF(E10107=\"\",F10106,E10107/MAX($E$9:E10107)-1)))","v":""}]
[null,null,null,null,null,{"$f":"IF(B10108=\"\",\"\",IF(C10108=\"\",F10107,IF(E10108=\"\",F10107,E10108/MAX($E$9:E10108)-1)))","v":""}]
[null,null,null,null,null,{"$f":"IF(B10109=\"\",\"\",IF(C10109=\"\",F10108,IF(E10109=\"\",F10108,E10109/MAX($E$9:E10109)-1)))","v":""}]
[null,null,null,null,null,{"$f":"IF(B10110=\"\",\"\",IF(C10110=\"\",F10109,IF(E10110=\"\",F10109,E10110/MAX($E$9:E10110)-1)))","v":""}]
[null,null,null,null,null,{"$f":"IF(B10111=\"\",\"\",IF(C10111=\"\",F10110,IF(E10111=\"\",F10110,E10111/MAX($E$9:E10111)-1)))","v":""}]
[null,null,null,null,null,{"$f":"IF(B10112=\"\",\"\",IF(C10112=\"\",F10111,IF(E10112=\"\",F10111,E10112/MAX($E$9:E10112)-1)))","v":""}]
[null,null,null,null,null,{"$f":"IF(B10113=\"\",\"\",IF(C10113=\"\",F10112,IF(E10113=\"\",F10112,E10113/MAX($E$9:E10113)-1)))","v":""}]
[null,null,null,null,null,{"$f":"IF(B10114=\"\",\"\",IF(C10114=\"\",F10113,IF(E10114=\"\",F10113,E10114/MAX($E$9:E10114)-1)))","v":""}]
[null,null,null,null,null,{"$f":"IF(B10115=\"\",\"\",IF(C10115=\"\",F10114,IF(E10115=\"\",F10114,E10115/MAX($E$9:E10115)-1)))","v":""}]
[null,null,null,null,null,{"$f":"IF(B10116=\"\",\"\",IF(C10116=\"\",F10115,IF(E10116=\"\",F10115,E10116/MAX($E$9:E10116)-1)))","v":""}]
[null,null,null,null,null,{"$f":"IF(B10117=\"\",\"\",IF(C10117=\"\",F10116,IF(E10117=\"\",F10116,E10117/MAX($E$9:E10117)-1)))","v":""}]
[null,null,null,null,null,{"$f":"IF(B10118=\"\",\"\",IF(C10118=\"\",F10117,IF(E10118=\"\",F10117,E10118/MAX($E$9:E10118)-1)))","v":""}]
[null,null,null,null,null,{"$f":"IF(B10119=\"\",\"\",IF(C10119=\"\",F10118,IF(E10119=\"\",F10118,E10119/MAX($E$9:E10119)-1)))","v":""}]
[null,null,null,null,null,{"$f":"IF(B10120=\"\",\"\",IF(C10120=\"\",F10119,IF(E10120=\"\",F10119,E10120/MAX($E$9:E10120)-1)))","v":""}]
[null,null,null,null,null,{"$f":"IF(B10121=\"\",\"\",IF(C10121=\"\",F10120,IF(E10121=\"\",F10120,E10121/MAX($E$9:E10121)-1)))","v":""}]
[null,null,null,null,null,{"$f":"IF(B10122=\"\",\"\",IF(C10122=\"\",F10121,IF(E10122=\"\",F10121,E10122/MAX($E$9:E10122)-1)))","v":""}]
[null,null,null,null,null,{"$f":"IF(B10123=\"\",\"\",IF(C10123=\"\",F10122,IF(E10123=\"\",F10122,E10123/MAX($E$9:E10123)-1)))","v":""}]
[null,null,null,null,null,{"$f":"IF(B10124=\"\",\"\",IF(C10124=\"\",F10123,IF(E10124=\"\",F10123,E10124/MAX($E$9:E10124)-1)))","v":""}]
[null,null,null,null,null,{"$f":"IF(B10125=\"\",\"\",IF(C10125=\"\",F10124,IF(E10125=\"\",F10124,E10125/MAX($E$9:E10125)-1)))","v":""}]
[null,null,null,null,null,{"$f":"IF(B10126=\"\",\"\",IF(C10126=\"\",F10125,IF(E10126=\"\",F10125,E10126/MAX($E$9:E10126)-1)))","v":""}]
[null,null,null,null,null,{"$f":"IF(B10127=\"\",\"\",IF(C10127=\"\",F10126,IF(E10127=\"\",F10126,E10127/MAX($E$9:E10127)-1)))","v":""}]
[null,null,null,null,null,{"$f":"IF(B10128=\"\",\"\",IF(C10128=\"\",F10127,IF(E10128=\"\",F10127,E10128/MAX($E$9:E10128)-1)))","v":""}]
[null,null,null,null,null,{"$f":"IF(B10129=\"\",\"\",IF(C10129=\"\",F10128,IF(E10129=\"\",F10128,E10129/MAX($E$9:E10129)-1)))","v":""}]
[null,null,null,null,null,{"$f":"IF(B10130=\"\",\"\",IF(C10130=\"\",F10129,IF(E10130=\"\",F10129,E10130/MAX($E$9:E10130)-1)))","v":""}]
[null,null,null,null,null,{"$f":"IF(B10131=\"\",\"\",IF(C10131=\"\",F10130,IF(E10131=\"\",F10130,E10131/MAX($E$9:E10131)-1)))","v":""}]
[null,null,null,null,null,{"$f":"IF(B10132=\"\",\"\",IF(C10132=\"\",F10131,IF(E10132=\"\",F10131,E10132/MAX($E$9:E10132)-1)))","v":""}]
[null,null,null,null,null,{"$f":"IF(B10133=\"\",\"\",IF(C10133=\"\",F10132,IF(E10133=\"\",F10132,E10133/MAX($E$9:E10133)-1)))","v":""}]
[null,null,null,null,null,{"$f":"IF(B10134=\"\",\"\",IF(C10134=\"\",F10133,IF(E10134=\"\",F10133,E10134/MAX($E$9:E10134)-1)))","v":""}]
[null,null,null,null,null,{"$f":"IF(B10135=\"\",\"\",IF(C10135=\"\",F10134,IF(E10135=\"\",F10134,E10135/MAX($E$9:E10135)-1)))","v":""}]
[null,null,null,null,null,{"$f":"IF(B10136=\"\",\"\",IF(C10136=\"\",F10135,IF(E10136=\"\",F10135,E10136/MAX($E$9:E10136)-1)))","v":""}]
[null,null,null,null,null,{"$f":"IF(B10137=\"\",\"\",IF(C10137=\"\",F10136,IF(E10137=\"\",F10136,E10137/MAX($E$9:E10137)-1)))","v":""}]
[null,null,null,null,null,{"$f":"IF(B10138=\"\",\"\",IF(C10138=\"\",F10137,IF(E10138=\"\",F10137,E10138/MAX($E$9:E10138)-1)))","v":""}]
[null,null,null,null,null,{"$f":"IF(B10139=\"\",\"\",IF(C10139=\"\",F10138,IF(E10139=\"\",F10138,E10139/MAX($E$9:E10139)-1)))","v":""}]
[null,null,null,null,null,{"$f":"IF(B10140=\"\",\"\",IF(C10140=\"\",F10139,IF(E10140=\"\",F10139,E10140/MAX($E$9:E10140)-1)))","v":""}]
[null,null,null,null,null,{"$f":"IF(B10141=\"\",\"\",IF(C10141=\"\",F10140,IF(E10141=\"\",F10140,E10141/MAX($E$9:E10141)-1)))","v":""}]
[null,null,null,null,null,{"$f":"IF(B10142=\"\",\"\",IF(C10142=\"\",F10141,IF(E10142=\"\",F10141,E10142/MAX($E$9:E10142)-1)))","v":""}]
[null,null,null,null,null,{"$f":"IF(B10143=\"\",\"\",IF(C10143=\"\",F10142,IF(E10143=\"\",F10142,E10143/MAX($E$9:E10143)-1)))","v":""}]
[null,null,null,null,null,{"$f":"IF(B10144=\"\",\"\",IF(C10144=\"\",F10143,IF(E10144=\"\",F10143,E10144/MAX($E$9:E10144)-1)))","v":""}]
[null,null,null,null,null,{"$f":"IF(B10145=\"\",\"\",IF(C10145=\"\",F10144,IF(E10145=\"\",F10144,E10145/MAX($E$9:E10145)-1)))","v":""}]
[null,null,null,null,null,{"$f":"IF(B10146=\"\",\"\",IF(C10146=\"\",F10145,IF(E10146=\"\",F10145,E10146/MAX($E$9:E10146)-1)))","v":""}]
[null,null,null,null,null,{"$f":"IF(B10147=\"\",\"\",IF(C10147=\"\",F10146,IF(E10147=\"\",F10146,E10147/MAX($E$9:E10147)-1)))","v":""}]
[null,null,null,null,null,{"$f":"IF(B10148=\"\",\"\",IF(C10148=\"\",F10147,IF(E10148=\"\",F10147,E10148/MAX($E$9:E10148)-1)))","v":""}]
[null,null,null,null,null,{"$f":"IF(B10149=\"\",\"\",IF(C10149=\"\",F10148,IF(E10149=\"\",F10148,E10149/MAX($E$9:E10149)-1)))","v":""}]
[null,null,null,null,null,{"$f":"IF(B10150=\"\",\"\",IF(C10150=\"\",F10149,IF(E10150=\"\",F10149,E10150/MAX($E$9:E10150)-1)))","v":""}]
[null,null,null,null,null,{"$f":"IF(B10151=\"\",\"\",IF(C10151=\"\",F10150,IF(E10151=\"\",F10150,E10151/MAX($E$9:E10151)-1)))","v":""}]
[null,null,null,null,null,{"$f":"IF(B10152=\"\",\"\",IF(C10152=\"\",F10151,IF(E10152=\"\",F10151,E10152/MAX($E$9:E10152)-1)))","v":""}]
[null,null,null,null,null,{"$f":"IF(B10153=\"\",\"\",IF(C10153=\"\",F10152,IF(E10153=\"\",F10152,E10153/MAX($E$9:E10153)-1)))","v":""}]
[null,null,null,null,null,{"$f":"IF(B10154=\"\",\"\",IF(C10154=\"\",F10153,IF(E10154=\"\",F10153,E10154/MAX($E$9:E10154)-1)))","v":""}]
[null,null,null,null,null,{"$f":"IF(B10155=\"\",\"\",IF(C10155=\"\",F10154,IF(E10155=\"\",F10154,E10155/MAX($E$9:E10155)-1)))","v":""}]
[null,null,null,null,null,{"$f":"IF(B10156=\"\",\"\",IF(C10156=\"\",F10155,IF(E10156=\"\",F10155,E10156/MAX($E$9:E10156)-1)))","v":""}]
[null,null,null,null,null,{"$f":"IF(B10157=\"\",\"\",IF(C10157=\"\",F10156,IF(E10157=\"\",F10156,E10157/MAX($E$9:E10157)-1)))","v":""}]
[null,null,null,null,null,{"$f":"IF(B10158=\"\",\"\",IF(C10158=\"\",F10157,IF(E10158=\"\",F10157,E10158/MAX($E$9:E10158)-1)))","v":""}]
[null,null,null,null,null,{"$f":"IF(B10159=\"\",\"\",IF(C10159=\"\",F10158,IF(E10159=\"\",F10158,E10159/MAX($E$9:E10159)-1)))","v":""}]
[null,null,null,null,null,{"$f":"IF(B10160=\"\",\"\",IF(C10160=\"\",F10159,IF(E10160=\"\",F10159,E10160/MAX($E$9:E10160)-1)))","v":""}]
[null,null,null,null,null,{"$f":"IF(B10161=\"\",\"\",IF(C10161=\"\",F10160,IF(E10161=\"\",F10160,E10161/MAX($E$9:E10161)-1)))","v":""}]
[null,null,null,null,null,{"$f":"IF(B10162=\"\",\"\",IF(C10162=\"\",F10161,IF(E10162=\"\",F10161,E10162/MAX($E$9:E10162)-1)))","v":""}]
[null,null,null,null,null,{"$f":"IF(B10163=\"\",\"\",IF(C10163=\"\",F10162,IF(E10163=\"\",F10162,E10163/MAX($E$9:E10163)-1)))","v":""}]
[null,null,null,null,null,{"$f":"IF(B10164=\"\",\"\",IF(C10164=\"\",F10163,IF(E10164=\"\",F10163,E10164/MAX($E$9:E10164)-1)))","v":""}]
[null,null,null,null,null,{"$f":"IF(B10165=\"\",\"\",IF(C10165=\"\",F10164,IF(E10165=\"\",F10164,E10165/MAX($E$9:E10165)-1)))","v":""}]
[null,null,null,null,null,{"$f":"IF(B10166=\"\",\"\",IF(C10166=\"\",F10165,IF(E10166=\"\",F10165,E10166/MAX($E$9:E10166)-1)))","v":""}]
[null,null,null,null,null,{"$f":"IF(B10167=\"\",\"\",IF(C10167=\"\",F10166,IF(E10167=\"\",F10166,E10167/MAX($E$9:E10167)-1)))","v":""}]
[null,null,null,null,null,{"$f":"IF(B10168=\"\",\"\",IF(C10168=\"\",F10167,IF(E10168=\"\",F10167,E10168/MAX($E$9:E10168)-1)))","v":""}]
[null,null,null,null,null,{"$f":"IF(B10169=\"\",\"\",IF(C10169=\"\",F10168,IF(E10169=\"\",F10168,E10169/MAX($E$9:E10169)-1)))","v":""}]
[null,null,null,null,null,{"$f":"IF(B10170=\"\",\"\",IF(C10170=\"\",F10169,IF(E10170=\"\",F10169,E10170/MAX($E$9:E10170)-1)))","v":""}]
[null,null,null,null,null,{"$f":"IF(B10171=\"\",\"\",IF(C10171=\"\",F10170,IF(E10171=\"\",F10170,E10171/MAX($E$9:E10171)-1)))","v":""}]
[null,null,null,null,null,{"$f":"IF(B10172=\"\",\"\",IF(C10172=\"\",F10171,IF(E10172=\"\",F10171,E10172/MAX($E$9:E10172)-1)))","v":""}]
[null,null,null,null,null,{"$f":"IF(B10173=\"\",\"\",IF(C10173=\"\",F10172,IF(E10173=\"\",F10172,E10173/MAX($E$9:E10173)-1)))","v":""}]
[null,null,null,null,null,{"$f":"IF(B10174=\"\",\"\",IF(C10174=\"\",F10173,IF(E10174=\"\",F10173,E10174/MAX($E$9:E10174)-1)))","v":""}]
[null,null,null,null,null,{"$f":"IF(B10175=\"\",\"\",IF(C10175=\"\",F10174,IF(E10175=\"\",F10174,E10175/MAX($E$9:E10175)-1)))","v":""}]
[null,null,null,null,null,{"$f":"IF(B10176=\"\",\"\",IF(C10176=\"\",F10175,IF(E10176=\"\",F10175,E10176/MAX($E$9:E10176)-1)))","v":""}]
[null,null,null,null,null,{"$f":"IF(B10177=\"\",\"\",IF(C10177=\"\",F10176,IF(E10177=\"\",F10176,E10177/MAX($E$9:E10177)-1)))","v":""}]
[null,null,null,null,null,{"$f":"IF(B10178=\"\",\"\",IF(C10178=\"\",F10177,IF(E10178=\"\",F10177,E10178/MAX($E$9:E10178)-1)))","v":""}]
[null,null,null,null,null,{"$f":"IF(B10179=\"\",\"\",IF(C10179=\"\",F10178,IF(E10179=\"\",F10178,E10179/MAX($E$9:E10179)-1)))","v":""}]
[null,null,null,null,null,{"$f":"IF(B10180=\"\",\"\",IF(C10180=\"\",F10179,IF(E10180=\"\",F10179,E10180/MAX($E$9:E10180)-1)))","v":""}]
[null,null,null,null,null,{"$f":"IF(B10181=\"\",\"\",IF(C10181=\"\",F10180,IF(E10181=\"\",F10180,E10181/MAX($E$9:E10181)-1)))","v":""}]
[null,null,null,null,null,{"$f":"IF(B10182=\"\",\"\",IF(C10182=\"\",F10181,IF(E10182=\"\",F10181,E10182/MAX($E$9:E10182)-1)))","v":""}]
[null,null,null,null,null,{"$f":"IF(B10183=\"\",\"\",IF(C10183=\"\",F10182,IF(E10183=\"\",F10182,E10183/MAX($E$9:E10183)-1)))","v":""}]
[null,null,null,null,null,{"$f":"IF(B10184=\"\",\"\",IF(C10184=\"\",F10183,IF(E10184=\"\",F10183,E10184/MAX($E$9:E10184)-1)))","v":""}]
[null,null,null,null,null,{"$f":"IF(B10185=\"\",\"\",IF(C10185=\"\",F10184,IF(E10185=\"\",F10184,E10185/MAX($E$9:E10185)-1)))","v":""}]
[null,null,null,null,null,{"$f":"IF(B10186=\"\",\"\",IF(C10186=\"\",F10185,IF(E10186=\"\",F10185,E10186/MAX($E$9:E10186)-1)))","v":""}]
[null,null,null,null,null,{"$f":"IF(B10187=\"\",\"\",IF(C10187=\"\",F10186,IF(E10187=\"\",F10186,E10187/MAX($E$9:E10187)-1)))","v":""}]
[null,null,null,null,null,{"$f":"IF(B10188=\"\",\"\",IF(C10188=\"\",F10187,IF(E10188=\"\",F10187,E10188/MAX($E$9:E10188)-1)))","v":""}]
[null,null,null,null,null,{"$f":"IF(B10189=\"\",\"\",IF(C10189=\"\",F10188,IF(E10189=\"\",F10188,E10189/MAX($E$9:E10189)-1)))","v":""}]
[null,null,null,null,null,{"$f":"IF(B10190=\"\",\"\",IF(C10190=\"\",F10189,IF(E10190=\"\",F10189,E10190/MAX($E$9:E10190)-1)))","v":""}]
[null,null,null,null,null,{"$f":"IF(B10191=\"\",\"\",IF(C10191=\"\",F10190,IF(E10191=\"\",F10190,E10191/MAX($E$9:E10191)-1)))","v":""}]
[null,null,null,null,null,{"$f":"IF(B10192=\"\",\"\",IF(C10192=\"\",F10191,IF(E10192=\"\",F10191,E10192/MAX($E$9:E10192)-1)))","v":""}]
[null,null,null,null,null,{"$f":"IF(B10193=\"\",\"\",IF(C10193=\"\",F10192,IF(E10193=\"\",F10192,E10193/MAX($E$9:E10193)-1)))","v":""}]
[null,null,null,null,null,{"$f":"IF(B10194=\"\",\"\",IF(C10194=\"\",F10193,IF(E10194=\"\",F10193,E10194/MAX($E$9:E10194)-1)))","v":""}]
[null,null,null,null,null,{"$f":"IF(B10195=\"\",\"\",IF(C10195=\"\",F10194,IF(E10195=\"\",F10194,E10195/MAX($E$9:E10195)-1)))","v":""}]
[null,null,null,null,null,{"$f":"IF(B10196=\"\",\"\",IF(C10196=\"\",F10195,IF(E10196=\"\",F10195,E10196/MAX($E$9:E10196)-1)))","v":""}]
[null,null,null,null,null,{"$f":"IF(B10197=\"\",\"\",IF(C10197=\"\",F10196,IF(E10197=\"\",F10196,E10197/MAX($E$9:E10197)-1)))","v":""}]
[null,null,null,null,null,{"$f":"IF(B10198=\"\",\"\",IF(C10198=\"\",F10197,IF(E10198=\"\",F10197,E10198/MAX($E$9:E10198)-1)))","v":""}]
[null,null,null,null,null,{"$f":"IF(B10199=\"\",\"\",IF(C10199=\"\",F10198,IF(E10199=\"\",F10198,E10199/MAX($E$9:E10199)-1)))","v":""}]
[null,null,null,null,null,{"$f":"IF(B10200=\"\",\"\",IF(C10200=\"\",F10199,IF(E10200=\"\",F10199,E10200/MAX($E$9:E10200)-1)))","v":""}]
[null,null,null,null,null,{"$f":"IF(B10201=\"\",\"\",IF(C10201=\"\",F10200,IF(E10201=\"\",F10200,E10201/MAX($E$9:E10201)-1)))","v":""}]
[null,null,null,null,null,{"$f":"IF(B10202=\"\",\"\",IF(C10202=\"\",F10201,IF(E10202=\"\",F10201,E10202/MAX($E$9:E10202)-1)))","v":""}]
[null,null,null,null,null,{"$f":"IF(B10203=\"\",\"\",IF(C10203=\"\",F10202,IF(E10203=\"\",F10202,E10203/MAX($E$9:E10203)-1)))","v":""}]
[null,null,null,null,null,{"$f":"IF(B10204=\"\",\"\",IF(C10204=\"\",F10203,IF(E10204=\"\",F10203,E10204/MAX($E$9:E10204)-1)))","v":""}]
[null,null,null,null,null,{"$f":"IF(B10205=\"\",\"\",IF(C10205=\"\",F10204,IF(E10205=\"\",F10204,E10205/MAX($E$9:E10205)-1)))","v":""}]
[null,null,null,null,null,{"$f":"IF(B10206=\"\",\"\",IF(C10206=\"\",F10205,IF(E10206=\"\",F10205,E10206/MAX($E$9:E10206)-1)))","v":""}]
[null,null,null,null,null,{"$f":"IF(B10207=\"\",\"\",IF(C10207=\"\",F10206,IF(E10207=\"\",F10206,E10207/MAX($E$9:E10207)-1)))","v":""}]
[null,null,null,null,null,{"$f":"IF(B10208=\"\",\"\",IF(C10208=\"\",F10207,IF(E10208=\"\",F10207,E10208/MAX($E$9:E10208)-1)))","v":""}]
[null,null,null,null,null,{"$f":"IF(B10209=\"\",\"\",IF(C10209=\"\",F10208,IF(E10209=\"\",F10208,E10209/MAX($E$9:E10209)-1)))","v":""}]
[null,null,null,null,null,{"$f":"IF(B10210=\"\",\"\",IF(C10210=\"\",F10209,IF(E10210=\"\",F10209,E10210/MAX($E$9:E10210)-1)))","v":""}]
[null,null,null,null,null,{"$f":"IF(B10211=\"\",\"\",IF(C10211=\"\",F10210,IF(E10211=\"\",F10210,E10211/MAX($E$9:E10211)-1)))","v":""}]
[null,null,null,null,null,{"$f":"IF(B10212=\"\",\"\",IF(C10212=\"\",F10211,IF(E10212=\"\",F10211,E10212/MAX($E$9:E10212)-1)))","v":""}]
[null,null,null,null,null,{"$f":"IF(B10213=\"\",\"\",IF(C10213=\"\",F10212,IF(E10213=\"\",F10212,E10213/MAX($E$9:E10213)-1)))","v":""}]
[null,null,null,null,null,{"$f":"IF(B10214=\"\",\"\",IF(C10214=\"\",F10213,IF(E10214=\"\",F10213,E10214/MAX($E$9:E10214)-1)))","v":""}]
[null,null,null,null,null,{"$f":"IF(B10215=\"\",\"\",IF(C10215=\"\",F10214,IF(E10215=\"\",F10214,E10215/MAX($E$9:E10215)-1)))","v":""}]
[null,null,null,null,null,{"$f":"IF(B10216=\"\",\"\",IF(C10216=\"\",F10215,IF(E10216=\"\",F10215,E10216/MAX($E$9:E10216)-1)))","v":""}]
[null,null,null,null,null,{"$f":"IF(B10217=\"\",\"\",IF(C10217=\"\",F10216,IF(E10217=\"\",F10216,E10217/MAX($E$9:E10217)-1)))","v":""}]
[null,null,null,null,null,{"$f":"IF(B10218=\"\",\"\",IF(C10218=\"\",F10217,IF(E10218=\"\",F10217,E10218/MAX($E$9:E10218)-1)))","v":""}]
[null,null,null,null,null,{"$f":"IF(B10219=\"\",\"\",IF(C10219=\"\",F10218,IF(E10219=\"\",F10218,E10219/MAX($E$9:E10219)-1)))","v":""}]
[null,null,null,null,null,{"$f":"IF(B10220=\"\",\"\",IF(C10220=\"\",F10219,IF(E10220=\"\",F10219,E10220/MAX($E$9:E10220)-1)))","v":""}]
[null,null,null,null,null,{"$f":"IF(B10221=\"\",\"\",IF(C10221=\"\",F10220,IF(E10221=\"\",F10220,E10221/MAX($E$9:E10221)-1)))","v":""}]
[null,null,null,null,null,{"$f":"IF(B10222=\"\",\"\",IF(C10222=\"\",F10221,IF(E10222=\"\",F10221,E10222/MAX($E$9:E10222)-1)))","v":""}]
[null,null,null,null,null,{"$f":"IF(B10223=\"\",\"\",IF(C10223=\"\",F10222,IF(E10223=\"\",F10222,E10223/MAX($E$9:E10223)-1)))","v":""}]
[null,null,null,null,null,{"$f":"IF(B10224=\"\",\"\",IF(C10224=\"\",F10223,IF(E10224=\"\",F10223,E10224/MAX($E$9:E10224)-1)))","v":""}]
[null,null,null,null,null,{"$f":"IF(B10225=\"\",\"\",IF(C10225=\"\",F10224,IF(E10225=\"\",F10224,E10225/MAX($E$9:E10225)-1)))","v":""}]
[null,null,null,null,null,{"$f":"IF(B10226=\"\",\"\",IF(C10226=\"\",F10225,IF(E10226=\"\",F10225,E10226/MAX($E$9:E10226)-1)))","v":""}]
[null,null,null,null,null,{"$f":"IF(B10227=\"\",\"\",IF(C10227=\"\",F10226,IF(E10227=\"\",F10226,E10227/MAX($E$9:E10227)-1)))","v":""}]
[null,null,null,null,null,{"$f":"IF(B10228=\"\",\"\",IF(C10228=\"\",F10227,IF(E10228=\"\",F10227,E10228/MAX($E$9:E10228)-1)))","v":""}]
[null,null,null,null,null,{"$f":"IF(B10229=\"\",\"\",IF(C10229=\"\",F10228,IF(E10229=\"\",F10228,E10229/MAX($E$9:E10229)-1)))","v":""}]
[null,null,null,null,null,{"$f":"IF(B10230=\"\",\"\",IF(C10230=\"\",F10229,IF(E10230=\"\",F10229,E10230/MAX($E$9:E10230)-1)))","v":""}]
[null,null,null,null,null,{"$f":"IF(B10231=\"\",\"\",IF(C10231=\"\",F10230,IF(E10231=\"\",F10230,E10231/MAX($E$9:E10231)-1)))","v":""}]
[null,null,null,null,null,{"$f":"IF(B10232=\"\",\"\",IF(C10232=\"\",F10231,IF(E10232=\"\",F10231,E10232/MAX($E$9:E10232)-1)))","v":""}]
[null,null,null,null,null,{"$f":"IF(B10233=\"\",\"\",IF(C10233=\"\",F10232,IF(E10233=\"\",F10232,E10233/MAX($E$9:E10233)-1)))","v":""}]
[null,null,null,null,null,{"$f":"IF(B10234=\"\",\"\",IF(C10234=\"\",F10233,IF(E10234=\"\",F10233,E10234/MAX($E$9:E10234)-1)))","v":""}]
[null,null,null,null,null,{"$f":"IF(B10235=\"\",\"\",IF(C10235=\"\",F10234,IF(E10235=\"\",F10234,E10235/MAX($E$9:E10235)-1)))","v":""}]
[null,null,null,null,null,{"$f":"IF(B10236=\"\",\"\",IF(C10236=\"\",F10235,IF(E10236=\"\",F10235,E10236/MAX($E$9:E10236)-1)))","v":""}]
[null,null,null,null,null,{"$f":"IF(B10237=\"\",\"\",IF(C10237=\"\",F10236,IF(E10237=\"\",F10236,E10237/MAX($E$9:E10237)-1)))","v":""}]
[null,null,null,null,null,{"$f":"IF(B10238=\"\",\"\",IF(C10238=\"\",F10237,IF(E10238=\"\",F10237,E10238/MAX($E$9:E10238)-1)))","v":""}]
[null,null,null,null,null,{"$f":"IF(B10239=\"\",\"\",IF(C10239=\"\",F10238,IF(E10239=\"\",F10238,E10239/MAX($E$9:E10239)-1)))","v":""}]
[null,null,null,null,null,{"$f":"IF(B10240=\"\",\"\",IF(C10240=\"\",F10239,IF(E10240=\"\",F10239,E10240/MAX($E$9:E10240)-1)))","v":""}]
[null,null,null,null,null,{"$f":"IF(B10241=\"\",\"\",IF(C10241=\"\",F10240,IF(E10241=\"\",F10240,E10241/MAX($E$9:E10241)-1)))","v":""}]
[null,null,null,null,null,{"$f":"IF(B10242=\"\",\"\",IF(C10242=\"\",F10241,IF(E10242=\"\",F10241,E10242/MAX($E$9:E10242)-1)))","v":""}]
[null,null,null,null,null,{"$f":"IF(B10243=\"\",\"\",IF(C10243=\"\",F10242,IF(E10243=\"\",F10242,E10243/MAX($E$9:E10243)-1)))","v":""}]
[null,null,null,null,null,{"$f":"IF(B10244=\"\",\"\",IF(C10244=\"\",F10243,IF(E10244=\"\",F10243,E10244/MAX($E$9:E10244)-1)))","v":""}]
[null,null,null,null,null,{"$f":"IF(B10245=\"\",\"\",IF(C10245=\"\",F10244,IF(E10245=\"\",F10244,E10245/MAX($E$9:E10245)-1)))","v":""}]
[null,null,null,null,null,{"$f":"IF(B10246=\"\",\"\",IF(C10246=\"\",F10245,IF(E10246=\"\",F10245,E10246/MAX($E$9:E10246)-1)))","v":""}]
[null,null,null,null,null,{"$f":"IF(B10247=\"\",\"\",IF(C10247=\"\",F10246,IF(E10247=\"\",F10246,E10247/MAX($E$9:E10247)-1)))","v":""}]
[null,null,null,null,null,{"$f":"IF(B10248=\"\",\"\",IF(C10248=\"\",F10247,IF(E10248=\"\",F10247,E10248/MAX($E$9:E10248)-1)))","v":""}]
[null,null,null,null,null,{"$f":"IF(B10249=\"\",\"\",IF(C10249=\"\",F10248,IF(E10249=\"\",F10248,E10249/MAX($E$9:E10249)-1)))","v":""}]
[null,null,null,null,null,{"$f":"IF(B10250=\"\",\"\",IF(C10250=\"\",F10249,IF(E10250=\"\",F10249,E10250/MAX($E$9:E10250)-1)))","v":""}]
[null,null,null,null,null,{"$f":"IF(B10251=\"\",\"\",IF(C10251=\"\",F10250,IF(E10251=\"\",F10250,E10251/MAX($E$9:E10251)-1)))","v":""}]
[null,null,null,null,null,{"$f":"IF(B10252=\"\",\"\",IF(C10252=\"\",F10251,IF(E10252=\"\",F10251,E10252/MAX($E$9:E10252)-1)))","v":""}]
[null,null,null,null,null,{"$f":"IF(B10253=\"\",\"\",IF(C10253=\"\",F10252,IF(E10253=\"\",F10252,E10253/MAX($E$9:E10253)-1)))","v":""}]
[null,null,null,null,null,{"$f":"IF(B10254=\"\",\"\",IF(C10254=\"\",F10253,IF(E10254=\"\",F10253,E10254/MAX($E$9:E10254)-1)))","v":""}]
[null,null,null,null,null,{"$f":"IF(B10255=\"\",\"\",IF(C10255=\"\",F10254,IF(E10255=\"\",F10254,E10255/MAX($E$9:E10255)-1)))","v":""}]
[null,null,null,null,null,{"$f":"IF(B10256=\"\",\"\",IF(C10256=\"\",F10255,IF(E10256=\"\",F10255,E10256/MAX($E$9:E10256)-1)))","v":""}]
[null,null,null,null,null,{"$f":"IF(B10257=\"\",\"\",IF(C10257=\"\",F10256,IF(E10257=\"\",F10256,E10257/MAX($E$9:E10257)-1)))","v":""}]
[null,null,null,null,null,{"$f":"IF(B10258=\"\",\"\",IF(C10258=\"\",F10257,IF(E10258=\"\",F10257,E10258/MAX($E$9:E10258)-1)))","v":""}]
[null,null,null,null,null,{"$f":"IF(B10259=\"\",\"\",IF(C10259=\"\",F10258,IF(E10259=\"\",F10258,E10259/MAX($E$9:E10259)-1)))","v":""}]
[null,null,null,null,null,{"$f":"IF(B10260=\"\",\"\",IF(C10260=\"\",F10259,IF(E10260=\"\",F10259,E10260/MAX($E$9:E10260)-1)))","v":""}]
[null,null,null,null,null,{"$f":"IF(B10261=\"\",\"\",IF(C10261=\"\",F10260,IF(E10261=\"\",F10260,E10261/MAX($E$9:E10261)-1)))","v":""}]
[null,null,null,null,null,{"$f":"IF(B10262=\"\",\"\",IF(C10262=\"\",F10261,IF(E10262=\"\",F10261,E10262/MAX($E$9:E10262)-1)))","v":""}]
[null,null,null,null,null,{"$f":"IF(B10263=\"\",\"\",IF(C10263=\"\",F10262,IF(E10263=\"\",F10262,E10263/MAX($E$9:E10263)-1)))","v":""}]
[null,null,null,null,null,{"$f":"IF(B10264=\"\",\"\",IF(C10264=\"\",F10263,IF(E10264=\"\",F10263,E10264/MAX($E$9:E10264)-1)))","v":""}]
[null,null,null,null,null,{"$f":"IF(B10265=\"\",\"\",IF(C10265=\"\",F10264,IF(E10265=\"\",F10264,E10265/MAX($E$9:E10265)-1)))","v":""}]
[null,null,null,null,null,{"$f":"IF(B10266=\"\",\"\",IF(C10266=\"\",F10265,IF(E10266=\"\",F10265,E10266/MAX($E$9:E10266)-1)))","v":""}]
[null,null,null,null,null,{"$f":"IF(B10267=\"\",\"\",IF(C10267=\"\",F10266,IF(E10267=\"\",F10266,E10267/MAX($E$9:E10267)-1)))","v":""}]
[null,null,null,null,null,{"$f":"IF(B10268=\"\",\"\",IF(C10268=\"\",F10267,IF(E10268=\"\",F10267,E10268/MAX($E$9:E10268)-1)))","v":""}]
[null,null,null,null,null,{"$f":"IF(B10269=\"\",\"\",IF(C10269=\"\",F10268,IF(E10269=\"\",F10268,E10269/MAX($E$9:E10269)-1)))","v":""}]
[null,null,null,null,null,{"$f":"IF(B10270=\"\",\"\",IF(C10270=\"\",F10269,IF(E10270=\"\",F10269,E10270/MAX($E$9:E10270)-1)))","v":""}]
[null,null,null,null,null,{"$f":"IF(B10271=\"\",\"\",IF(C10271=\"\",F10270,IF(E10271=\"\",F10270,E10271/MAX($E$9:E10271)-1)))","v":""}]
[null,null,null,null,null,{"$f":"IF(B10272=\"\",\"\",IF(C10272=\"\",F10271,IF(E10272=\"\",F10271,E10272/MAX($E$9:E10272)-1)))","v":""}]
[null,null,null,null,null,{"$f":"IF(B10273=\"\",\"\",IF(C10273=\"\",F10272,IF(E10273=\"\",F10272,E10273/MAX($E$9:E10273)-1)))","v":""}]
[null,null,null,null,null,{"$f":"IF(B10274=\"\",\"\",IF(C10274=\"\",F10273,IF(E10274=\"\",F10273,E10274/MAX($E$9:E10274)-1)))","v":""}]
[null,null,null,null,null,{"$f":"IF(B10275=\"\",\"\",IF(C10275=\"\",F10274,IF(E10275=\"\",F10274,E10275/MAX($E$9:E10275)-1)))","v":""}]
[null,null,null,null,null,{"$f":"IF(B10276=\"\",\"\",IF(C10276=\"\",F10275,IF(E10276=\"\",F10275,E10276/MAX($E$9:E10276)-1)))","v":""}]
[null,null,null,null,null,{"$f":"IF(B10277=\"\",\"\",IF(C10277=\"\",F10276,IF(E10277=\"\",F10276,E10277/MAX($E$9:E10277)-1)))","v":""}]
[null,null,null,null,null,{"$f":"IF(B10278=\"\",\"\",IF(C10278=\"\",F10277,IF(E10278=\"\",F10277,E10278/MAX($E$9:E10278)-1)))","v":""}]
[null,null,null,null,null,{"$f":"IF(B10279=\"\",\"\",IF(C10279=\"\",F10278,IF(E10279=\"\",F10278,E10279/MAX($E$9:E10279)-1)))","v":""}]
[null,null,null,null,null,{"$f":"IF(B10280=\"\",\"\",IF(C10280=\"\",F10279,IF(E10280=\"\",F10279,E10280/MAX($E$9:E10280)-1)))","v":""}]
[null,null,null,null,null,{"$f":"IF(B10281=\"\",\"\",IF(C10281=\"\",F10280,IF(E10281=\"\",F10280,E10281/MAX($E$9:E10281)-1)))","v":""}]
[null,null,null,null,null,{"$f":"IF(B10282=\"\",\"\",IF(C10282=\"\",F10281,IF(E10282=\"\",F10281,E10282/MAX($E$9:E10282)-1)))","v":""}]
[null,null,null,null,null,{"$f":"IF(B10283=\"\",\"\",IF(C10283=\"\",F10282,IF(E10283=\"\",F10282,E10283/MAX($E$9:E10283)-1)))","v":""}]
[null,null,null,null,null,{"$f":"IF(B10284=\"\",\"\",IF(C10284=\"\",F10283,IF(E10284=\"\",F10283,E10284/MAX($E$9:E10284)-1)))","v":""}]
[null,null,null,null,null,{"$f":"IF(B10285=\"\",\"\",IF(C10285=\"\",F10284,IF(E10285=\"\",F10284,E10285/MAX($E$9:E10285)-1)))","v":""}]
[null,null,null,null,null,{"$f":"IF(B10286=\"\",\"\",IF(C10286=\"\",F10285,IF(E10286=\"\",F10285,E10286/MAX($E$9:E10286)-1)))","v":""}]
[null,null,null,null,null,{"$f":"IF(B10287=\"\",\"\",IF(C10287=\"\",F10286,IF(E10287=\"\",F10286,E10287/MAX($E$9:E10287)-1)))","v":""}]
[null,null,null,null,null,{"$f":"IF(B10288=\"\",\"\",IF(C10288=\"\",F10287,IF(E10288=\"\",F10287,E10288/MAX($E$9:E10288)-1)))","v":""}]
[null,null,null,null,null,{"$f":"IF(B10289=\"\",\"\",IF(C10289=\"\",F10288,IF(E10289=\"\",F10288,E10289/MAX($E$9:E10289)-1)))","v":""}]
[null,null,null,null,null,{"$f":"IF(B10290=\"\",\"\",IF(C10290=\"\",F10289,IF(E10290=\"\",F10289,E10290/MAX($E$9:E10290)-1)))","v":""}]
[null,null,null,null,null,{"$f":"IF(B10291=\"\",\"\",IF(C10291=\"\",F10290,IF(E10291=\"\",F10290,E10291/MAX($E$9:E10291)-1)))","v":""}]
[null,null,null,null,null,{"$f":"IF(B10292=\"\",\"\",IF(C10292=\"\",F10291,IF(E10292=\"\",F10291,E10292/MAX($E$9:E10292)-1)))","v":""}]
[null,null,null,null,null,{"$f":"IF(B10293=\"\",\"\",IF(C10293=\"\",F10292,IF(E10293=\"\",F10292,E10293/MAX($E$9:E10293)-1)))","v":""}]
[null,null,null,null,null,{"$f":"IF(B10294=\"\",\"\",IF(C10294=\"\",F10293,IF(E10294=\"\",F10293,E10294/MAX($E$9:E10294)-1)))","v":""}]
[null,null,null,null,null,{"$f":"IF(B10295=\"\",\"\",IF(C10295=\"\",F10294,IF(E10295=\"\",F10294,E10295/MAX($E$9:E10295)-1)))","v":""}]
[null,null,null,null,null,{"$f":"IF(B10296=\"\",\"\",IF(C10296=\"\",F10295,IF(E10296=\"\",F10295,E10296/MAX($E$9:E10296)-1)))","v":""}]
[null,null,null,null,null,{"$f":"IF(B10297=\"\",\"\",IF(C10297=\"\",F10296,IF(E10297=\"\",F10296,E10297/MAX($E$9:E10297)-1)))","v":""}]
[null,null,null,null,null,{"$f":"IF(B10298=\"\",\"\",IF(C10298=\"\",F10297,IF(E10298=\"\",F10297,E10298/MAX($E$9:E10298)-1)))","v":""}]
[null,null,null,null,null,{"$f":"IF(B10299=\"\",\"\",IF(C10299=\"\",F10298,IF(E10299=\"\",F10298,E10299/MAX($E$9:E10299)-1)))","v":""}]
[null,null,null,null,null,{"$f":"IF(B10300=\"\",\"\",IF(C10300=\"\",F10299,IF(E10300=\"\",F10299,E10300/MAX($E$9:E10300)-1)))","v":""}]
[null,null,null,null,null,{"$f":"IF(B10301=\"\",\"\",IF(C10301=\"\",F10300,IF(E10301=\"\",F10300,E10301/MAX($E$9:E10301)-1)))","v":""}]
[null,null,null,null,null,{"$f":"IF(B10302=\"\",\"\",IF(C10302=\"\",F10301,IF(E10302=\"\",F10301,E10302/MAX($E$9:E10302)-1)))","v":""}]
[null,null,null,null,null,{"$f":"IF(B10303=\"\",\"\",IF(C10303=\"\",F10302,IF(E10303=\"\",F10302,E10303/MAX($E$9:E10303)-1)))","v":""}]
[null,null,null,null,null,{"$f":"IF(B10304=\"\",\"\",IF(C10304=\"\",F10303,IF(E10304=\"\",F10303,E10304/MAX($E$9:E10304)-1)))","v":""}]