{"text_format":"1","workbook":"xlsx","n_sheets":12,"sheets":["GUIDE","base_curvas ","FIIs","AUX_FIIs","base_graf_fundos","Drawdown","mm","optionals","Base Auxiliar","Base Auxiliar (2)","Base Opcionais","Historico"],"not_rendered":{"charts":0,"images":4,"macros":1,"external_links":2,"defined_names":21,"comments":0,"pivot_tables":0},"unopened":[],"bounds":{"document_bytes":16777216,"sheet_cells":100000,"rows_first":2000,"rows_last":500,"rows_between":2000,"halvings":0,"cell_chars":16384,"cell_head_chars":4096},"cells_cut":0,"cells_raw":0,"read":"whole","date_system":"1900"}

{"sheet":"GUIDE","index":0,"n_rows":57,"n_cols":34,"rows_kept":57,"cut":false,"hidden":false,"merged":[[54,5,54,6],[55,5,55,6],[56,5,56,6],[52,3,52,4],[53,3,53,4],[54,3,54,4],[55,3,55,4],[56,3,56,4],[52,9,52,10],[53,9,53,10],[54,9,54,10],[55,9,55,10],[56,9,56,10],[52,7,52,8],[53,7,53,8],[54,7,54,8],[55,7,55,8],[56,7,56,8],[52,1,52,2],[53,1,53,2],[54,1,54,2],[55,1,55,2],[56,1,56,2],[46,9,46,10],[47,9,47,10],[48,9,48,10],[50,1,50,2],[51,1,51,2],[50,3,50,4],[51,3,51,4],[50,5,50,6],[51,5,51,6],[50,7,50,8],[51,7,51,8],[50,9,50,10],[51,9,51,10],[46,5,46,6],[47,5,47,6],[48,5,48,6],[49,1,49,10],[52,5,52,6],[53,5,53,6],[41,1,41,10],[42,7,42,8],[43,7,43,8],[44,7,44,8],[45,7,45,8],[46,7,46,8],[47,7,47,8],[48,7,48,8],[46,1,46,2],[47,1,47,2],[48,1,48,2],[42,3,42,4],[43,3,43,4],[44,3,44,4],[45,3,45,4],[46,3,46,4],[47,3,47,4],[48,3,48,4],[42,1,42,2],[43,1,43,2],[44,1,44,2],[45,1,45,2],[42,5,42,6],[43,5,43,6],[44,5,44,6],[45,5,45,6],[42,9,42,10],[43,9,43,10],[44,9,44,10],[45,9,45,10],[35,1,35,10],[36,7,36,8],[37,7,37,8],[38,7,38,8],[39,7,39,8],[40,7,40,8],[40,1,40,2],[36,3,36,4],[37,3,37,4],[38,3,38,4],[39,3,39,4],[40,3,40,4],[40,9,40,10],[40,5,40,6],[36,1,36,2],[37,1,37,2],[38,1,38,2],[39,1,39,2],[36,5,36,6],[37,5,37,6],[38,5,38,6],[39,5,39,6],[36,9,36,10],[37,9,37,10],[38,9,38,10],[39,9,39,10],[29,1,29,10],[30,7,30,8],[31,7,31,8],[32,7,32,8],[33,7,33,8],[34,7,34,8],[34,1,34,2],[30,3,30,4],[31,3,31,4],[32,3,32,4],[33,3,33,4],[34,3,34,4],[34,9,34,10],[34,5,34,6],[30,1,30,2],[31,1,31,2],[32,1,32,2],[33,1,33,2],[30,5,30,6],[31,5,31,6],[32,5,32,6],[33,5,33,6],[30,9,30,10],[31,9,31,10],[32,9,32,10],[33,9,33,10],[23,9,23,10],[24,9,24,10],[25,9,25,10],[26,9,26,10],[27,9,27,10],[28,5,28,6],[23,7,23,8],[24,7,24,8],[25,7,25,8],[26,7,26,8],[27,7,27,8],[28,7,28,8],[23,5,23,6],[24,5,24,6],[25,5,25,6],[26,5,26,6],[27,5,27,6],[28,9,28,10],[23,3,23,4],[24,3,24,4],[25,3,25,4],[26,3,26,4],[27,3,27,4],[28,3,28,4],[23,1,23,2],[24,1,24,2],[25,1,25,2],[26,1,26,2],[27,1,27,2],[28,1,28,2],[52,21,52,22],[53,21,53,22],[54,21,54,22],[55,21,55,22],[56,21,56,22],[52,19,52,20],[53,19,53,20],[54,19,54,20],[55,19,55,20],[56,19,56,20],[52,17,52,18],[53,17,53,18],[54,17,54,18],[55,17,55,18],[56,17,56,18],[52,15,52,16],[53,15,53,16],[54,15,54,16],[55,15,55,16],[56,15,56,16],[52,13,52,14],[53,13,53,14],[54,13,54,14],[55,13,55,14],[56,13,56,14],[46,21,46,22],[48,13,48,14],[49,13,49,14],[50,13,50,14],[48,15,48,16],[49,15,49,16],[50,15,50,16],[48,17,48,18],[49,17,49,18],[50,17,50,18],[48,19,48,20],[49,19,49,20],[50,19,50,20],[48,21,48,22],[49,21,49,22],[50,21,50,22],[46,17,46,18],[46,13,46,14],[51,13,51,22],[41,21,41,22],[42,21,42,22],[43,21,43,22],[44,21,44,22],[45,21,45,22],[36,21,36,22],[37,21,37,22],[38,21,38,22],[39,21,39,22],[40,21,40,22],[45,19,45,20],[46,19,46,20],[41,17,41,18],[42,17,42,18],[43,17,43,18],[44,17,44,18],[45,17,45,18],[36,17,36,18],[37,17,37,18],[38,17,38,18],[39,17,39,18],[40,17,40,18],[36,19,36,20],[37,19,37,20],[38,19,38,20],[39,19,39,20],[40,19,40,20],[41,19,41,20],[42,19,42,20],[43,19,43,20],[44,19,44,20],[45,15,45,16],[46,15,46,16],[41,13,41,14],[42,13,42,14],[43,13,43,14],[44,13,44,14],[45,13,45,14],[36,13,36,14],[37,13,37,14],[38,13,38,14],[39,13,39,14],[40,13,40,14],[36,15,36,16],[37,15,37,16],[38,15,38,16],[39,15,39,16],[40,15,40,16],[41,15,41,16],[42,15,42,16],[43,15,43,16],[44,15,44,16],[28,21,28,22],[30,21,30,22],[31,21,31,22],[32,21,32,22],[33,21,33,22],[23,21,23,22],[24,21,24,22],[25,21,25,22],[26,21,26,22],[27,21,27,22],[28,17,28,18],[23,19,23,20],[24,19,24,20],[25,19,25,20],[26,19,26,20],[27,19,27,20],[28,19,28,20],[23,17,23,18],[24,17,24,18],[25,17,25,18],[26,17,26,18],[27,17,27,18],[28,13,28,14],[23,15,23,16],[24,15,24,16],[25,15,25,16],[26,15,26,16],[27,15,27,16],[28,15,28,16],[23,13,23,14],[24,13,24,14],[25,13,25,14],[26,13,26,14],[27,13,27,14],[53,25,53,26],[54,25,54,26],[55,29,55,30],[56,29,56,30],[50,31,50,32],[51,31,51,32],[52,31,52,32],[53,31,53,32],[54,31,54,32],[55,31,55,32],[56,31,56,32],[50,29,50,30],[51,29,51,30],[52,29,52,30],[53,29,53,30],[54,29,54,30],[43,31,43,32],[44,31,44,32],[45,31,45,32],[46,31,46,32],[47,31,47,32],[48,31,48,32],[43,29,43,30],[44,29,44,30],[45,29,45,30],[46,29,46,30],[47,29,47,30],[48,25,48,26],[43,27,43,28],[44,27,44,28],[45,27,45,28],[46,27,46,28],[47,27,47,28],[48,27,48,28],[43,25,43,26],[44,25,44,26],[45,25,45,26],[46,25,46,26],[47,25,47,26],[37,27,37,28],[39,29,39,30],[40,29,40,30],[41,29,41,30],[39,31,39,32],[40,31,40,32],[41,31,41,32],[39,25,39,26],[40,25,40,26],[41,25,41,26],[39,27,39,28],[40,27,40,28],[41,27,41,28],[52,33,52,35],[53,33,53,35],[54,33,54,35],[55,33,55,35],[56,33,56,35],[46,33,46,35],[47,33,47,35],[48,33,48,35],[50,33,50,35],[51,33,51,35],[49,25,49,35],[48,29,48,30],[55,25,55,26],[56,25,56,26],[50,27,50,28],[51,27,51,28],[52,27,52,28],[53,27,53,28],[54,27,54,28],[55,27,55,28],[56,27,56,28],[50,25,50,26],[51,25,51,26],[52,25,52,26],[43,33,43,35],[44,33,44,35],[45,33,45,35],[34,33,34,35],[35,33,35,35],[36,33,36,35],[37,33,37,35],[39,33,39,35],[42,25,42,35],[34,29,34,30],[35,29,35,30],[36,29,36,30],[37,29,37,30],[34,31,34,32],[35,31,35,32],[36,31,36,32],[37,31,37,32],[34,25,34,26],[35,25,35,26],[36,25,36,26],[37,25,37,26],[34,27,34,28],[35,27,35,28],[36,27,36,28],[23,33,23,35],[24,33,24,35],[26,33,26,35],[27,33,27,35],[28,33,28,35],[29,33,29,35],[30,33,30,35],[40,33,40,35],[41,33,41,35],[13,33,13,35],[14,33,14,35],[15,33,15,35],[17,33,17,35],[18,33,18,35],[19,33,19,35],[20,33,20,35],[21,33,21,35],[22,33,22,35],[27,31,27,32],[28,31,28,32],[29,31,29,32],[30,31,30,32],[31,31,31,32],[32,31,32,32],[10,25,10,35],[16,25,16,35],[25,25,25,35],[22,29,22,30],[23,29,23,30],[24,29,24,30],[17,31,17,32],[18,31,18,32],[19,31,19,32],[20,31,20,32],[21,31,21,32],[22,31,22,32],[23,31,23,32],[24,31,24,32],[17,29,17,30],[18,29,18,30],[31,33,31,35],[32,33,32,35],[33,25,33,35],[38,25,38,35],[26,25,26,26],[27,25,27,26],[28,25,28,26],[29,25,29,26],[30,25,30,26],[31,25,31,26],[32,25,32,26],[26,27,26,28],[27,27,27,28],[28,27,28,28],[29,27,29,28],[30,27,30,28],[31,27,31,28],[32,27,32,28],[26,29,26,30],[27,29,27,30],[28,29,28,30],[29,29,29,30],[30,29,30,30],[31,29,31,30],[32,29,32,30],[26,31,26,32],[19,29,19,30],[20,29,20,30],[21,29,21,30],[22,25,22,26],[23,25,23,26],[24,25,24,26],[17,27,17,28],[18,27,18,28],[19,27,19,28],[20,27,20,28],[21,27,21,28],[22,27,22,28],[23,27,23,28],[24,27,24,28],[17,25,17,26],[18,25,18,26],[19,25,19,26],[20,25,20,26],[21,25,21,26],[13,25,13,26],[14,25,14,26],[19,19,19,20],[19,21,19,22],[20,15,20,16],[21,15,21,16],[20,21,20,22],[21,21,21,22],[20,19,20,20],[21,19,21,20],[20,17,20,18],[21,17,21,18],[13,31,13,32],[14,31,14,32],[15,31,15,32],[11,29,11,30],[12,29,12,30],[13,29,13,30],[14,29,14,30],[15,29,15,30],[11,27,11,28],[12,27,12,28],[13,27,13,28],[14,27,14,28],[15,27,15,28],[13,17,13,18],[14,17,14,18],[15,17,15,18],[16,17,16,18],[17,17,17,18],[11,15,11,16],[12,15,12,16],[15,25,15,26],[17,19,17,20],[11,21,11,22],[12,21,12,22],[13,21,13,22],[14,21,14,22],[15,21,15,22],[16,21,16,22],[17,21,17,22],[11,19,11,20],[13,19,13,20],[14,19,14,20],[15,19,15,20],[16,19,16,20],[12,19,12,20],[11,25,11,26],[12,25,12,26],[13,7,13,8],[14,7,14,8],[15,7,15,8],[16,7,16,8],[17,7,17,8],[13,5,13,6],[14,5,14,6],[15,5,15,6],[14,15,14,16],[15,15,15,16],[16,15,16,16],[17,15,17,16],[13,9,13,10],[14,9,14,10],[15,9,15,10],[16,9,16,10],[17,9,17,10],[18,9,18,10],[19,9,19,10],[20,9,20,10],[21,9,21,10],[34,21,34,22],[30,13,30,14],[31,13,31,14],[32,13,32,14],[33,13,33,14],[34,13,34,14],[30,15,30,16],[31,15,31,16],[32,15,32,16],[33,15,33,16],[34,15,34,16],[30,19,30,20],[31,19,31,20],[32,19,32,20],[33,19,33,20],[34,19,34,20],[30,17,30,18],[31,17,31,18],[32,17,32,18],[33,17,33,18],[34,17,34,18],[21,1,21,2],[22,1,22,10],[18,13,18,22],[22,13,22,22],[18,3,18,4],[19,3,19,4],[20,3,20,4],[21,3,21,4],[18,5,18,6],[19,5,19,6],[20,5,20,6],[21,5,21,6],[18,7,18,8],[19,7,19,8],[20,7,20,8],[21,7,21,8],[19,13,19,14],[20,13,20,14],[21,13,21,14],[19,15,19,16],[19,17,19,18],[16,5,16,6],[17,5,17,6],[13,3,13,4],[11,1,11,2],[12,1,12,2],[11,3,11,4],[12,3,12,4],[11,5,11,6],[12,5,12,6],[14,3,14,4],[15,3,15,4],[16,3,16,4],[17,3,17,4],[11,7,11,8],[12,7,12,8],[11,13,11,14],[12,13,12,14],[9,25,9,26],[9,27,9,28],[9,29,9,30],[9,31,9,32],[9,33,9,34],[9,13,9,14],[9,15,9,16],[9,17,9,18],[9,19,9,20],[9,21,9,22],[11,9,11,10],[12,9,12,10],[11,17,11,18],[12,17,12,18],[11,31,11,32],[12,31,12,32],[11,33,11,35],[12,33,12,35],[35,13,35,22],[47,13,47,22],[13,13,13,14],[14,13,14,14],[15,13,15,14],[16,13,16,14],[17,13,17,14],[13,15,13,16],[9,1,9,2],[9,3,9,4],[9,5,9,6],[9,7,9,8],[9,9,9,10],[13,1,13,2],[14,1,14,2],[15,1,15,2],[29,13,29,22],[16,1,16,2],[17,1,17,2],[18,1,18,2],[19,1,19,2],[20,1,20,2],[10,1,10,10],[10,13,10,22]]}
[]
[]
[]
[]
[]
[]
[]
[null,null,"Cotações"]
[]
[null,"Ativo ",null,"Preço",null,"Var. $",null,"Var. %",null,"Último Neg.",null,null,null,"Ativo ",null,"Preço",null,"Var. $",null,"Var. %",null,"Último Neg.",null,null,null,"Ativo ",null,"Preço",null,"Var. $",null,"Var. %",null,"Último Neg."]
[null,"ALIMENTOS",null,null,null,null,null,null,null,null,null,null,null,"HEALTH CARE",null,null,null,null,null,null,null,null,null,null,null,"AGRO"]
[{"$f":"CONCATENATE(B12,\"<XBSP>\")","v":"ABEV3<XBSP>"},"ABEV3",null,{"$f":"_xll.ECONOMATICA(A12,\"price\",,\"RealTime\")","v":14.06},null,{"$f":"_xll.ECONOMATICA(A12,\"pricediff\",,\"RealTime\",,,,)","v":-0.02},null,{"$f":"IFERROR(_xll.ECONOMATICA(A12,\"percentdiff\",,\"RealTime\",,,,),\"-\")","v":-0.14199999999999999},null,{"$f":"_xll.ECONOMATICA(A12,\"date\",,\"RealTime\")","v":45264.754166666666},null,null,{"$f":"CONCATENATE(N12,\"<XBSP>\")","v":"MATD3<XBSP>"},"MATD3",null,{"$f":"_xll.ECONOMATICA(M12,\"price\",,\"RealTime\")","v":7.84},null,{"$f":"_xll.ECONOMATICA(M12,\"pricediff\",,\"RealTime\",,,,)","v":-0.12},null,{"$f":"_xll.ECONOMATICA(M12,\"percentdiff\",,\"RealTime\",,,,)","v":-1.508},null,{"$f":"_xll.ECONOMATICA(M12,\"date\",,\"RealTime\")","v":45264.754861111112},null,null,{"$f":"CONCATENATE(Z12,\"<XBSP>\")","v":"JALL3<XBSP>"},"JALL3",null,{"$f":"_xll.ECONOMATICA(Y12,\"price\",,\"RealTime\")","v":8.1},null,{"$f":"_xll.ECONOMATICA(Y12,\"pricediff\",,\"RealTime\",,,,)","v":0.08},null,{"$f":"_xll.ECONOMATICA(Y12,\"percentdiff\",,\"RealTime\",,,,)","v":0.998},null,{"$f":"_xll.ECONOMATICA(Y12,\"date\",,\"RealTime\")","v":45264.754166666666}]
[{"$f":"CONCATENATE(B13,\"<XBSP>\")","v":"BEEF3<XBSP>"},"BEEF3",null,{"$f":"_xll.ECONOMATICA(A13,\"price\",,\"RealTime\")","v":7.4},null,{"$f":"_xll.ECONOMATICA(A13,\"pricediff\",,\"RealTime\",,,,)","v":-7.0000000000000007E-2},null,{"$f":"IFERROR(_xll.ECONOMATICA(A13,\"percentdiff\",,\"RealTime\",,,,),\"-\")","v":-0.93700000000000006},null,{"$f":"_xll.ECONOMATICA(A13,\"date\",,\"RealTime\")","v":45264.755277777775},null,null,{"$f":"CONCATENATE(N13,\"<XBSP>\")","v":"HAPV3<XBSP>"},"HAPV3",null,{"$f":"_xll.ECONOMATICA(M13,\"price\",,\"RealTime\")","v":4.29},null,{"$f":"_xll.ECONOMATICA(M13,\"pricediff\",,\"RealTime\",,,,)","v":-0.13},null,{"$f":"_xll.ECONOMATICA(M13,\"percentdiff\",,\"RealTime\",,,,)","v":-2.9409999999999998},null,{"$f":"_xll.ECONOMATICA(M13,\"date\",,\"RealTime\")","v":45264.754861111112},null,null,{"$f":"CONCATENATE(Z13,\"<XBSP>\")","v":"SOJA3<XBSP>"},"SOJA3",null,{"$f":"_xll.ECONOMATICA(Y13,\"price\",,\"RealTime\")","v":15.08},null,{"$f":"_xll.ECONOMATICA(Y13,\"pricediff\",,\"RealTime\",,,,)","v":-0.55000000000000004},null,{"$f":"_xll.ECONOMATICA(Y13,\"percentdiff\",,\"RealTime\",,,,)","v":-3.5190000000000001},null,{"$f":"_xll.ECONOMATICA(Y13,\"date\",,\"RealTime\")","v":45264.754166666666}]
[{"$f":"CONCATENATE(B14,\"<XBSP>\")","v":"ZAMP3<XBSP>"},"ZAMP3",null,{"$f":"_xll.ECONOMATICA(A14,\"price\",,\"RealTime\")","v":6},null,{"$f":"_xll.ECONOMATICA(A14,\"pricediff\",,\"RealTime\",,,,)","v":0.02},null,{"$f":"IFERROR(_xll.ECONOMATICA(A14,\"percentdiff\",,\"RealTime\",,,,),\"-\")","v":0.33400000000000002},null,{"$f":"_xll.ECONOMATICA(A14,\"date\",,\"RealTime\")","v":45264.754166666666},null,null,{"$f":"CONCATENATE(N14,\"<XBSP>\")","v":"RDOR3<XBSP>"},"RDOR3",null,{"$f":"_xll.ECONOMATICA(M14,\"price\",,\"RealTime\")","v":26.67},null,{"$f":"_xll.ECONOMATICA(M14,\"pricediff\",,\"RealTime\",,,,)","v":-0.47},null,{"$f":"_xll.ECONOMATICA(M14,\"percentdiff\",,\"RealTime\",,,,)","v":-1.732},null,{"$f":"_xll.ECONOMATICA(M14,\"date\",,\"RealTime\")","v":45264.754166666666},null,null,{"$f":"CONCATENATE(Z14,\"<XBSP>\")","v":"SLCE3<XBSP>"},"SLCE3",null,{"$f":"_xll.ECONOMATICA(Y14,\"price\",,\"RealTime\")","v":38.04},null,{"$f":"_xll.ECONOMATICA(Y14,\"pricediff\",,\"RealTime\",,,,)","v":0.28000000000000003},null,{"$f":"_xll.ECONOMATICA(Y14,\"percentdiff\",,\"RealTime\",,,,)","v":0.74199999999999999},null,{"$f":"_xll.ECONOMATICA(Y14,\"date\",,\"RealTime\")","v":45264.754166666666}]
[{"$f":"CONCATENATE(B15,\"<XBSP>\")","v":"BRFS3<XBSP>"},"BRFS3",null,{"$f":"_xll.ECONOMATICA(A15,\"price\",,\"RealTime\")","v":15.13},null,{"$f":"_xll.ECONOMATICA(A15,\"pricediff\",,\"RealTime\",,,,)","v":-0.05},null,{"$f":"IFERROR(_xll.ECONOMATICA(A15,\"percentdiff\",,\"RealTime\",,,,),\"-\")","v":-0.32900000000000001},null,{"$f":"_xll.ECONOMATICA(A15,\"date\",,\"RealTime\")","v":45264.755219907405},null,null,{"$f":"CONCATENATE(N15,\"<XBSP>\")","v":"QUAL3<XBSP>"},"QUAL3",null,{"$f":"_xll.ECONOMATICA(M15,\"price\",,\"RealTime\")","v":2.93},null,{"$f":"_xll.ECONOMATICA(M15,\"pricediff\",,\"RealTime\",,,,)","v":0.02},null,{"$f":"_xll.ECONOMATICA(M15,\"percentdiff\",,\"RealTime\",,,,)","v":0.68700000000000006},null,{"$f":"_xll.ECONOMATICA(M15,\"date\",,\"RealTime\")","v":45264.754166666666},null,null,{"$f":"CONCATENATE(Z15,\"<XBSP>\")","v":"AGRO3<XBSP>"},"AGRO3",null,{"$f":"_xll.ECONOMATICA(Y15,\"price\",,\"RealTime\")","v":24.7},null,{"$f":"_xll.ECONOMATICA(Y15,\"pricediff\",,\"RealTime\",,,,)","v":0.08},null,{"$f":"_xll.ECONOMATICA(Y15,\"percentdiff\",,\"RealTime\",,,,)","v":0.32500000000000001},null,{"$f":"_xll.ECONOMATICA(Y15,\"date\",,\"RealTime\")","v":45264.754166666666}]
[{"$f":"CONCATENATE(B16,\"<XBSP>\")","v":"CRFB3<XBSP>"},"CRFB3",null,{"$f":"_xll.ECONOMATICA(A16,\"price\",,\"RealTime\")","v":11.07},null,{"$f":"_xll.ECONOMATICA(A16,\"pricediff\",,\"RealTime\",,,,)","v":-0.4},null,{"$f":"IFERROR(_xll.ECONOMATICA(A16,\"percentdiff\",,\"RealTime\",,,,),\"-\")","v":-3.4870000000000001},null,{"$f":"_xll.ECONOMATICA(A16,\"date\",,\"RealTime\")","v":45264.754166666666},null,null,{"$f":"CONCATENATE(N16,\"<XBSP>\")","v":"ODPV3<XBSP>"},"ODPV3",null,{"$f":"_xll.ECONOMATICA(M16,\"price\",,\"RealTime\")","v":11.04},null,{"$f":"_xll.ECONOMATICA(M16,\"pricediff\",,\"RealTime\",,,,)","v":-0.14000000000000001},null,{"$f":"_xll.ECONOMATICA(M16,\"percentdiff\",,\"RealTime\",,,,)","v":-1.252},null,{"$f":"_xll.ECONOMATICA(M16,\"date\",,\"RealTime\")","v":45264.754166666666},null,null,{"$f":"CONCATENATE(Z16,\"<XBSP>\")","v":"SMTO3<XBSP>"},"SMTO3",null,{"$f":"_xll.ECONOMATICA(Y16,\"price\",,\"RealTime\")","v":32.42},null,{"$f":"_xll.ECONOMATICA(Y16,\"pricediff\",,\"RealTime\",,,,)","v":-0.77},null,{"$f":"_xll.ECONOMATICA(Y16,\"percentdiff\",,\"RealTime\",,,,)","v":-2.3199999999999998},null,{"$f":"_xll.ECONOMATICA(Y16,\"date\",,\"RealTime\")","v":45264.754861111112}]
[{"$f":"CONCATENATE(B17,\"<XBSP>\")","v":"JBSS3<XBSP>"},"JBSS3",null,{"$f":"_xll.ECONOMATICA(A17,\"price\",,\"RealTime\")","v":23.61},null,{"$f":"_xll.ECONOMATICA(A17,\"pricediff\",,\"RealTime\",,,,)","v":-0.25},null,{"$f":"IFERROR(_xll.ECONOMATICA(A17,\"percentdiff\",,\"RealTime\",,,,),\"-\")","v":-1.048},null,{"$f":"_xll.ECONOMATICA(A17,\"date\",,\"RealTime\")","v":45264.755543981482},null,null,{"$f":"CONCATENATE(N17,\"<XBSP>\")","v":"DASA3<XBSP>"},"DASA3",null,{"$f":"_xll.ECONOMATICA(M17,\"price\",,\"RealTime\")","v":9.17},null,{"$f":"_xll.ECONOMATICA(M17,\"pricediff\",,\"RealTime\",,,,)","v":-0.05},null,{"$f":"_xll.ECONOMATICA(M17,\"percentdiff\",,\"RealTime\",,,,)","v":-0.54200000000000004},null,{"$f":"_xll.ECONOMATICA(M17,\"date\",,\"RealTime\")","v":45264.754166666666},null,null,null,"PAPEL & CELULOSE / OIL GAS"]
[{"$f":"CONCATENATE(B18,\"<XBSP>\")","v":"MEAL3<XBSP>"},"MEAL3",null,{"$f":"_xll.ECONOMATICA(A18,\"price\",,\"RealTime\")","v":1.99},null,{"$f":"_xll.ECONOMATICA(A18,\"pricediff\",,\"RealTime\",,,,)","v":-0.01},null,{"$f":"IFERROR(_xll.ECONOMATICA(A18,\"percentdiff\",,\"RealTime\",,,,),\"-\")","v":-0.5},null,{"$f":"_xll.ECONOMATICA(A18,\"date\",,\"RealTime\")","v":45264.754166666666},null,null,{"$f":"CONCATENATE(N18,\"<XBSP>\")","v":"RDOR3<XBSP>"},"RDOR3",null,{"$f":"_xll.ECONOMATICA(M18,\"price\",,\"RealTime\")","v":26.67},null,{"$f":"_xll.ECONOMATICA(M18,\"pricediff\",,\"RealTime\",,,,)","v":-0.47},null,{"$f":"_xll.ECONOMATICA(M18,\"percentdiff\",,\"RealTime\",,,,)","v":-1.732},null,{"$f":"_xll.ECONOMATICA(M18,\"date\",,\"RealTime\")","v":45264.754166666666},null,null,{"$f":"CONCATENATE(Z18,\"<XBSP>\")","v":"PETR4<XBSP>"},"PETR4",null,{"$f":"_xll.ECONOMATICA(Y18,\"price\",,\"RealTime\")","v":34.909999999999997},null,{"$f":"_xll.ECONOMATICA(Y18,\"pricediff\",,\"RealTime\",,,,)","v":-0.76},null,{"$f":"_xll.ECONOMATICA(Y18,\"percentdiff\",,\"RealTime\",,,,)","v":-2.1309999999999998},null,{"$f":"_xll.ECONOMATICA(Y18,\"date\",,\"RealTime\")","v":45264.755243055559}]
[{"$f":"CONCATENATE(B19,\"<XBSP>\")","v":"MDIA3<XBSP>"},"MDIA3",null,{"$f":"_xll.ECONOMATICA(A19,\"price\",,\"RealTime\")","v":36.07},null,{"$f":"_xll.ECONOMATICA(A19,\"pricediff\",,\"RealTime\",,,,)","v":-0.13},null,{"$f":"IFERROR(_xll.ECONOMATICA(A19,\"percentdiff\",,\"RealTime\",,,,),\"-\")","v":-0.35899999999999999},null,{"$f":"_xll.ECONOMATICA(A19,\"date\",,\"RealTime\")","v":45264.754861111112},null,null,null,"MÉD. DIAGNÓSTICA",null,null,null,null,null,null,null,null,null,null,{"$f":"CONCATENATE(Z19,\"<XBSP>\")","v":"PRIO3<XBSP>"},"PRIO3",null,{"$f":"_xll.ECONOMATICA(Y19,\"price\",,\"RealTime\")","v":44.22},null,{"$f":"_xll.ECONOMATICA(Y19,\"pricediff\",,\"RealTime\",,,,)","v":-0.35},null,{"$f":"_xll.ECONOMATICA(Y19,\"percentdiff\",,\"RealTime\",,,,)","v":-0.78500000000000003},null,{"$f":"_xll.ECONOMATICA(Y19,\"date\",,\"RealTime\")","v":45264.755474537036}]
[{"$f":"CONCATENATE(B20,\"<XBSP>\")","v":"MRFG3<XBSP>"},"MRFG3",null,{"$f":"_xll.ECONOMATICA(A20,\"price\",,\"RealTime\")","v":9.93},null,{"$f":"_xll.ECONOMATICA(A20,\"pricediff\",,\"RealTime\",,,,)","v":-0.11},null,{"$f":"IFERROR(_xll.ECONOMATICA(A20,\"percentdiff\",,\"RealTime\",,,,),\"-\")","v":-1.0960000000000001},null,{"$f":"_xll.ECONOMATICA(A20,\"date\",,\"RealTime\")","v":45264.754166666666},null,null,{"$f":"CONCATENATE(N20,\"<XBSP>\")","v":"AALR3<XBSP>"},"AALR3",null,{"$f":"_xll.ECONOMATICA(M20,\"price\",,\"RealTime\")","v":11.78},null,{"$f":"_xll.ECONOMATICA(M20,\"pricediff\",,\"RealTime\",,,,)","v":{"$error":"#VALUE!"}},null,{"$f":"_xll.ECONOMATICA(M20,\"percentdiff\",,\"RealTime\",,,,)","v":{"$error":"#VALUE!"}},null,{"$f":"_xll.ECONOMATICA(M20,\"date\",,\"RealTime\")","v":45264.75},null,null,{"$f":"CONCATENATE(Z20,\"<XBSP>\")","v":"SUZB3<XBSP>"},"SUZB3",null,{"$f":"_xll.ECONOMATICA(Y20,\"price\",,\"RealTime\")","v":51.79},null,{"$f":"_xll.ECONOMATICA(Y20,\"pricediff\",,\"RealTime\",,,,)","v":0.03},null,{"$f":"_xll.ECONOMATICA(Y20,\"percentdiff\",,\"RealTime\",,,,)","v":5.8000000000000003E-2},null,{"$f":"_xll.ECONOMATICA(Y20,\"date\",,\"RealTime\")","v":45264.754166666666}]
[{"$f":"CONCATENATE(B21,\"<XBSP>\")","v":"ASAI3<XBSP>"},"ASAI3",null,{"$f":"_xll.ECONOMATICA(A21,\"price\",,\"RealTime\")","v":12.68},null,{"$f":"_xll.ECONOMATICA(A21,\"pricediff\",,\"RealTime\",,,,)","v":{"$error":"#VALUE!"}},null,{"$f":"IFERROR(_xll.ECONOMATICA(A21,\"percentdiff\",,\"RealTime\",,,,),\"-\")","v":"-"},null,{"$f":"_xll.ECONOMATICA(A21,\"date\",,\"RealTime\")","v":45264.755254629628},null,null,{"$f":"CONCATENATE(N21,\"<XBSP>\")","v":"FLRY3<XBSP>"},"FLRY3",null,{"$f":"_xll.ECONOMATICA(M21,\"price\",,\"RealTime\")","v":17.37},null,{"$f":"_xll.ECONOMATICA(M21,\"pricediff\",,\"RealTime\",,,,)","v":-0.09},null,{"$f":"_xll.ECONOMATICA(M21,\"percentdiff\",,\"RealTime\",,,,)","v":-0.51500000000000001},null,{"$f":"_xll.ECONOMATICA(M21,\"date\",,\"RealTime\")","v":45264.754861111112},null,null,{"$f":"CONCATENATE(Z21,\"<XBSP>\")","v":"UGPA3<XBSP>"},"UGPA3",null,{"$f":"_xll.ECONOMATICA(Y21,\"price\",,\"RealTime\")","v":25.48},null,{"$f":"_xll.ECONOMATICA(Y21,\"pricediff\",,\"RealTime\",,,,)","v":-0.11},null,{"$f":"_xll.ECONOMATICA(Y21,\"percentdiff\",,\"RealTime\",,,,)","v":-0.43},null,{"$f":"_xll.ECONOMATICA(Y21,\"date\",,\"RealTime\")","v":45264.754166666666}]
[{"$f":"CONCATENATE(B22,\"<XBSP>\")","v":"GMAT3<XBSP>"},"GMAT3",null,{"$f":"_xll.ECONOMATICA(A22,\"price\",,\"RealTime\")","v":6.37},null,{"$f":"_xll.ECONOMATICA(A22,\"pricediff\",,\"RealTime\",,,,)","v":-0.13},null,{"$f":"IFERROR(_xll.ECONOMATICA(A22,\"percentdiff\",,\"RealTime\",,,,),\"-\")","v":-2},null,{"$f":"_xll.ECONOMATICA(A22,\"date\",,\"RealTime\")","v":45264.754166666666},null,null,{"$f":"CONCATENATE(N22,\"<XBSP>\")","v":"PARD3<XBSP>"},"PARD3",null,{"$f":"_xll.ECONOMATICA(M22,\"price\",,\"RealTime\")","v":0},null,{"$f":"_xll.ECONOMATICA(M22,\"pricediff\",,\"RealTime\",,,,)","v":0},null,{"$f":"_xll.ECONOMATICA(M22,\"percentdiff\",,\"RealTime\",,,,)","v":0},null,{"$f":"_xll.ECONOMATICA(M22,\"date\",,\"RealTime\")","v":"00:00:00"},null,null,{"$f":"CONCATENATE(Z22,\"<XBSP>\")","v":"KLBN11<XBSP>"},"KLBN11",null,{"$f":"_xll.ECONOMATICA(Y22,\"price\",,\"RealTime\")","v":20.9},null,{"$f":"_xll.ECONOMATICA(Y22,\"pricediff\",,\"RealTime\",,,,)","v":-0.26},null,{"$f":"_xll.ECONOMATICA(Y22,\"percentdiff\",,\"RealTime\",,,,)","v":-1.2290000000000001},null,{"$f":"_xll.ECONOMATICA(Y22,\"date\",,\"RealTime\")","v":45264.755416666667}]
[null,"VAREJO",null,null,null,null,null,null,null,null,null,null,{"$f":"CONCATENATE(N23,\"<XBSP>\")","v":"FARMA<XBSP>"},"FARMA",null,null,null,null,null,null,null,null,null,null,{"$f":"CONCATENATE(Z23,\"<XBSP>\")","v":"VBBR3<XBSP>"},"VBBR3",null,{"$f":"_xll.ECONOMATICA(Y23,\"price\",,\"RealTime\")","v":23.2},null,{"$f":"_xll.ECONOMATICA(Y23,\"pricediff\",,\"RealTime\",,,,)","v":-0.95},null,{"$f":"_xll.ECONOMATICA(Y23,\"percentdiff\",,\"RealTime\",,,,)","v":-3.9340000000000002},null,{"$f":"_xll.ECONOMATICA(Y23,\"date\",,\"RealTime\")","v":45264.754166666666}]
[{"$f":"CONCATENATE(B24,\"<XBSP>\")","v":"ESPA3<XBSP>"},"ESPA3",null,{"$f":"_xll.ECONOMATICA(A24,\"price\",,\"RealTime\")","v":1.25},null,{"$f":"_xll.ECONOMATICA(A24,\"pricediff\",,\"RealTime\",,,,)","v":{"$error":"#VALUE!"}},null,{"$f":"_xll.ECONOMATICA(A24,\"percentdiff\",,\"RealTime\",,,,)","v":{"$error":"#VALUE!"}},null,{"$f":"_xll.ECONOMATICA(A24,\"date\",,\"RealTime\")","v":45264.754166666666},null,null,{"$f":"CONCATENATE(N24,\"<XBSP>\")","v":"HYPE3<XBSP>"},"HYPE3",null,{"$f":"_xll.ECONOMATICA(M24,\"price\",,\"RealTime\")","v":34},null,{"$f":"_xll.ECONOMATICA(M24,\"pricediff\",,\"RealTime\",,,,)","v":-0.2},null,{"$f":"_xll.ECONOMATICA(M24,\"percentdiff\",,\"RealTime\",,,,)","v":-0.58499999999999996},null,{"$f":"_xll.ECONOMATICA(M24,\"date\",,\"RealTime\")","v":45264.754166666666},null,null,{"$f":"CONCATENATE(Z24,\"<XBSP>\")","v":"CSAN3<XBSP>"},"CSAN3",null,{"$f":"_xll.ECONOMATICA(Y24,\"price\",,\"RealTime\")","v":17.690000000000001},null,{"$f":"_xll.ECONOMATICA(Y24,\"pricediff\",,\"RealTime\",,,,)","v":-0.09},null,{"$f":"_xll.ECONOMATICA(Y24,\"percentdiff\",,\"RealTime\",,,,)","v":-0.50600000000000001},null,{"$f":"_xll.ECONOMATICA(Y24,\"date\",,\"RealTime\")","v":45264.754166666666}]
[{"$f":"CONCATENATE(B25,\"<XBSP>\")","v":"AMER3<XBSP>"},"AMER3",null,{"$f":"_xll.ECONOMATICA(A25,\"price\",,\"RealTime\")","v":0.92},null,{"$f":"_xll.ECONOMATICA(A25,\"pricediff\",,\"RealTime\",,,,)","v":{"$error":"#VALUE!"}},null,{"$f":"_xll.ECONOMATICA(A25,\"percentdiff\",,\"RealTime\",,,,)","v":{"$error":"#VALUE!"}},null,{"$f":"_xll.ECONOMATICA(A25,\"date\",,\"RealTime\")","v":45264.755289351851},null,null,{"$f":"CONCATENATE(N25,\"<XBSP>\")","v":"PGMN3<XBSP>"},"PGMN3",null,{"$f":"_xll.ECONOMATICA(M25,\"price\",,\"RealTime\")","v":3.35},null,{"$f":"_xll.ECONOMATICA(M25,\"pricediff\",,\"RealTime\",,,,)","v":-0.02},null,{"$f":"_xll.ECONOMATICA(M25,\"percentdiff\",,\"RealTime\",,,,)","v":-0.59299999999999997},null,{"$f":"_xll.ECONOMATICA(M25,\"date\",,\"RealTime\")","v":45264.754166666666},null,null,{"$f":"CONCATENATE(Z25,\"<XBSP>\")","v":"RRRP3<XBSP>"},"RRRP3",null,{"$f":"_xll.ECONOMATICA(Y25,\"price\",,\"RealTime\")","v":28.3},null,{"$f":"_xll.ECONOMATICA(Y25,\"pricediff\",,\"RealTime\",,,,)","v":-1.1000000000000001},null,{"$f":"_xll.ECONOMATICA(Y25,\"percentdiff\",,\"RealTime\",,,,)","v":-3.7410000000000001},null,{"$f":"_xll.ECONOMATICA(Y25,\"date\",,\"RealTime\")","v":45264.754861111112}]
[{"$f":"CONCATENATE(B26,\"<XBSP>\")","v":"MGLU3<XBSP>"},"MGLU3",null,{"$f":"_xll.ECONOMATICA(A26,\"price\",,\"RealTime\")","v":2},null,{"$f":"_xll.ECONOMATICA(A26,\"pricediff\",,\"RealTime\",,,,)","v":-0.17},null,{"$f":"_xll.ECONOMATICA(A26,\"percentdiff\",,\"RealTime\",,,,)","v":-7.8339999999999996},null,{"$f":"_xll.ECONOMATICA(A26,\"date\",,\"RealTime\")","v":45264.755474537036},null,null,{"$f":"CONCATENATE(N26,\"<XBSP>\")","v":"PNVL3<XBSP>"},"PNVL3",null,{"$f":"_xll.ECONOMATICA(M26,\"price\",,\"RealTime\")","v":12.13},null,{"$f":"_xll.ECONOMATICA(M26,\"pricediff\",,\"RealTime\",,,,)","v":{"$error":"#VALUE!"}},null,{"$f":"_xll.ECONOMATICA(M26,\"percentdiff\",,\"RealTime\",,,,)","v":{"$error":"#VALUE!"}},null,{"$f":"_xll.ECONOMATICA(M26,\"date\",,\"RealTime\")","v":45264.754861111112},null,null,null,"TECH"]
[{"$f":"CONCATENATE(B27,\"<XBSP>\")","v":"VIIA3<XBSP>"},"VIIA3",null,{"$f":"_xll.ECONOMATICA(A27,\"price\",,\"RealTime\")","v":0.75},null,{"$f":"_xll.ECONOMATICA(A27,\"pricediff\",,\"RealTime\",,,,)","v":0.02},null,{"$f":"_xll.ECONOMATICA(A27,\"percentdiff\",,\"RealTime\",,,,)","v":2.74},null,{"$f":"_xll.ECONOMATICA(A27,\"date\",,\"RealTime\")","v":45188.749988425923},null,null,{"$f":"CONCATENATE(N27,\"<XBSP>\")","v":"DMVF3<XBSP>"},"DMVF3",null,{"$f":"_xll.ECONOMATICA(M27,\"price\",,\"RealTime\")","v":5.78},null,{"$f":"_xll.ECONOMATICA(M27,\"pricediff\",,\"RealTime\",,,,)","v":{"$error":"#VALUE!"}},null,{"$f":"_xll.ECONOMATICA(M27,\"percentdiff\",,\"RealTime\",,,,)","v":{"$error":"#VALUE!"}},null,{"$f":"_xll.ECONOMATICA(M27,\"date\",,\"RealTime\")","v":45264.754166666666},null,null,{"$f":"CONCATENATE(Z27,\"<XBSP>\")","v":"TRAD3<XBSP>"},"TRAD3",null,{"$f":"_xll.ECONOMATICA(Y27,\"price\",,\"RealTime\")","v":0.95},null,{"$f":"_xll.ECONOMATICA(Y27,\"pricediff\",,\"RealTime\",,,,)","v":{"$error":"#VALUE!"}},null,{"$f":"_xll.ECONOMATICA(Y27,\"percentdiff\",,\"RealTime\",,,,)","v":{"$error":"#VALUE!"}},null,{"$f":"_xll.ECONOMATICA(Y27,\"date\",,\"RealTime\")","v":45264.753472222219}]
[{"$f":"CONCATENATE(B28,\"<XBSP>\")","v":"PETZ3<XBSP>"},"PETZ3",null,{"$f":"_xll.ECONOMATICA(A28,\"price\",,\"RealTime\")","v":4.22},null,{"$f":"_xll.ECONOMATICA(A28,\"pricediff\",,\"RealTime\",,,,)","v":-0.1},null,{"$f":"_xll.ECONOMATICA(A28,\"percentdiff\",,\"RealTime\",,,,)","v":-2.3149999999999999},null,{"$f":"_xll.ECONOMATICA(A28,\"date\",,\"RealTime\")","v":45264.754166666666},null,null,{"$f":"CONCATENATE(N28,\"<XBSP>\")","v":"RADL3<XBSP>"},"RADL3",null,{"$f":"_xll.ECONOMATICA(M28,\"price\",,\"RealTime\")","v":28.18},null,{"$f":"_xll.ECONOMATICA(M28,\"pricediff\",,\"RealTime\",,,,)","v":0.13},null,{"$f":"_xll.ECONOMATICA(M28,\"percentdiff\",,\"RealTime\",,,,)","v":0.46300000000000002},null,{"$f":"_xll.ECONOMATICA(M28,\"date\",,\"RealTime\")","v":45264.754166666666},null,null,{"$f":"CONCATENATE(Z28,\"<XBSP>\")","v":"ENJU3<XBSP>"},"ENJU3",null,{"$f":"_xll.ECONOMATICA(Y28,\"price\",,\"RealTime\")","v":1.52},null,{"$f":"_xll.ECONOMATICA(Y28,\"pricediff\",,\"RealTime\",,,,)","v":{"$error":"#VALUE!"}},null,{"$f":"_xll.ECONOMATICA(Y28,\"percentdiff\",,\"RealTime\",,,,)","v":{"$error":"#VALUE!"}},null,{"$f":"_xll.ECONOMATICA(Y28,\"date\",,\"RealTime\")","v":45264.754166666666}]
[{"$f":"CONCATENATE(B29,\"<XBSP>\")","v":"MLAS3<XBSP>"},"MLAS3",null,{"$f":"_xll.ECONOMATICA(A29,\"price\",,\"RealTime\")","v":2.1},null,{"$f":"_xll.ECONOMATICA(A29,\"pricediff\",,\"RealTime\",,,,)","v":-0.18},null,{"$f":"_xll.ECONOMATICA(A29,\"percentdiff\",,\"RealTime\",,,,)","v":-7.8949999999999996},null,{"$f":"_xll.ECONOMATICA(A29,\"date\",,\"RealTime\")","v":45264.755497685182},null,null,{"$f":"CONCATENATE(N29,\"<XBSP>\")","v":"BLAU3<XBSP>"},"BLAU3",null,{"$f":"_xll.ECONOMATICA(M29,\"price\",,\"RealTime\")","v":15.46},null,{"$f":"_xll.ECONOMATICA(M29,\"pricediff\",,\"RealTime\",,,,)","v":{"$error":"#VALUE!"}},null,{"$f":"_xll.ECONOMATICA(M29,\"percentdiff\",,\"RealTime\",,,,)","v":{"$error":"#VALUE!"}},null,{"$f":"_xll.ECONOMATICA(M29,\"date\",,\"RealTime\")","v":45264.754166666666},null,null,{"$f":"CONCATENATE(Z29,\"<XBSP>\")","v":"CASH3<XBSP>"},"CASH3",null,{"$f":"_xll.ECONOMATICA(Y29,\"price\",,\"RealTime\")","v":7.38},null,{"$f":"_xll.ECONOMATICA(Y29,\"pricediff\",,\"RealTime\",,,,)","v":-0.17},null,{"$f":"_xll.ECONOMATICA(Y29,\"percentdiff\",,\"RealTime\",,,,)","v":-2.2519999999999998},null,{"$f":"_xll.ECONOMATICA(Y29,\"date\",,\"RealTime\")","v":45264.754166666666}]
[null,"VESTUÁRIO",null,null,null,null,null,null,null,null,null,null,null,"EDUCAÇÃO",null,null,null,null,null,null,null,null,null,null,{"$f":"CONCATENATE(Z30,\"<XBSP>\")","v":"LWSA3<XBSP>"},"LWSA3",null,{"$f":"_xll.ECONOMATICA(Y30,\"price\",,\"RealTime\")","v":6},null,{"$f":"_xll.ECONOMATICA(Y30,\"pricediff\",,\"RealTime\",,,,)","v":-0.16},null,{"$f":"_xll.ECONOMATICA(Y30,\"percentdiff\",,\"RealTime\",,,,)","v":-2.597},null,{"$f":"_xll.ECONOMATICA(Y30,\"date\",,\"RealTime\")","v":45264.754166666666}]
[{"$f":"CONCATENATE(B31,\"<XBSP>\")","v":"ARZZ3<XBSP>"},"ARZZ3",null,{"$f":"_xll.ECONOMATICA(A31,\"price\",,\"RealTime\")","v":57.5},null,{"$f":"_xll.ECONOMATICA(A31,\"pricediff\",,\"RealTime\",,,,)","v":-2.0099999999999998},null,{"$f":"_xll.ECONOMATICA(A31,\"percentdiff\",,\"RealTime\",,,,)","v":-3.3780000000000001},null,{"$f":"_xll.ECONOMATICA(A31,\"date\",,\"RealTime\")","v":45264.755347222221},null,null,{"$f":"CONCATENATE(N31,\"<XBSP>\")","v":"ANIM3<XBSP>"},"ANIM3",null,{"$f":"_xll.ECONOMATICA(M31,\"price\",,\"RealTime\")","v":3.65},null,{"$f":"_xll.ECONOMATICA(M31,\"pricediff\",,\"RealTime\",,,,)","v":-0.23},null,{"$f":"_xll.ECONOMATICA(M31,\"percentdiff\",,\"RealTime\",,,,)","v":-5.9279999999999999},null,{"$f":"_xll.ECONOMATICA(M31,\"date\",,\"RealTime\")","v":45264.755439814813},null,null,{"$f":"CONCATENATE(Z31,\"<XBSP>\")","v":"WEST3<XBSP>"},"WEST3",null,{"$f":"_xll.ECONOMATICA(Y31,\"price\",,\"RealTime\")","v":1.35},null,{"$f":"_xll.ECONOMATICA(Y31,\"pricediff\",,\"RealTime\",,,,)","v":-0.01},null,{"$f":"_xll.ECONOMATICA(Y31,\"percentdiff\",,\"RealTime\",,,,)","v":-0.74099999999999999},null,{"$f":"_xll.ECONOMATICA(Y31,\"date\",,\"RealTime\")","v":45264.753472222219}]
[{"$f":"CONCATENATE(B32,\"<XBSP>\")","v":"GUAR3<XBSP>"},"GUAR3",null,{"$f":"_xll.ECONOMATICA(A32,\"price\",,\"RealTime\")","v":6.31},null,{"$f":"_xll.ECONOMATICA(A32,\"pricediff\",,\"RealTime\",,,,)","v":0.01},null,{"$f":"_xll.ECONOMATICA(A32,\"percentdiff\",,\"RealTime\",,,,)","v":0.159},null,{"$f":"_xll.ECONOMATICA(A32,\"date\",,\"RealTime\")","v":45264.754166666666},null,null,{"$f":"CONCATENATE(N32,\"<XBSP>\")","v":"COGN3<XBSP>"},"COGN3",null,{"$f":"_xll.ECONOMATICA(M32,\"price\",,\"RealTime\")","v":3.2},null,{"$f":"_xll.ECONOMATICA(M32,\"pricediff\",,\"RealTime\",,,,)","v":-0.09},null,{"$f":"_xll.ECONOMATICA(M32,\"percentdiff\",,\"RealTime\",,,,)","v":-2.7360000000000002},null,{"$f":"_xll.ECONOMATICA(M32,\"date\",,\"RealTime\")","v":45264.754166666666},null,null,{"$f":"CONCATENATE(Z32,\"<XBSP>\")","v":"IFCM3<XBSP>"},"IFCM3",null,{"$f":"_xll.ECONOMATICA(Y32,\"price\",,\"RealTime\")","v":1.61},null,{"$f":"_xll.ECONOMATICA(Y32,\"pricediff\",,\"RealTime\",,,,)","v":{"$error":"#VALUE!"}},null,{"$f":"_xll.ECONOMATICA(Y32,\"percentdiff\",,\"RealTime\",,,,)","v":{"$error":"#VALUE!"}},null,{"$f":"_xll.ECONOMATICA(Y32,\"date\",,\"RealTime\")","v":45264.755266203705}]
[{"$f":"CONCATENATE(B33,\"<XBSP>\")","v":"LREN3<XBSP>"},"LREN3",null,{"$f":"_xll.ECONOMATICA(A33,\"price\",,\"RealTime\")","v":16.05},null,{"$f":"_xll.ECONOMATICA(A33,\"pricediff\",,\"RealTime\",,,,)","v":-0.33},null,{"$f":"_xll.ECONOMATICA(A33,\"percentdiff\",,\"RealTime\",,,,)","v":-2.0150000000000001},null,{"$f":"_xll.ECONOMATICA(A33,\"date\",,\"RealTime\")","v":45264.754861111112},null,null,{"$f":"CONCATENATE(N33,\"<XBSP>\")","v":"SEER3<XBSP>"},"SEER3",null,{"$f":"_xll.ECONOMATICA(M33,\"price\",,\"RealTime\")","v":6.15},null,{"$f":"_xll.ECONOMATICA(M33,\"pricediff\",,\"RealTime\",,,,)","v":{"$error":"#VALUE!"}},null,{"$f":"_xll.ECONOMATICA(M33,\"percentdiff\",,\"RealTime\",,,,)","v":{"$error":"#VALUE!"}},null,{"$f":"_xll.ECONOMATICA(M33,\"date\",,\"RealTime\")","v":45264.754861111112},null,null,{"$f":"CONCATENATE(Z33,\"<XBSP>\")","v":"BMOB3<XBSP>"},"BMOB3",null,{"$f":"_xll.ECONOMATICA(Y33,\"price\",,\"RealTime\")","v":12.46},null,{"$f":"_xll.ECONOMATICA(Y33,\"pricediff\",,\"RealTime\",,,,)","v":-0.4},null,{"$f":"_xll.ECONOMATICA(Y33,\"percentdiff\",,\"RealTime\",,,,)","v":-3.11},null,{"$f":"_xll.ECONOMATICA(Y33,\"date\",,\"RealTime\")","v":45264.754166666666}]
[{"$f":"CONCATENATE(B34,\"<XBSP>\")","v":"SOMA3<XBSP>"},"SOMA3",null,{"$f":"_xll.ECONOMATICA(A34,\"price\",,\"RealTime\")","v":6.22},null,{"$f":"_xll.ECONOMATICA(A34,\"pricediff\",,\"RealTime\",,,,)","v":-0.19},null,{"$f":"_xll.ECONOMATICA(A34,\"percentdiff\",,\"RealTime\",,,,)","v":-2.964},null,{"$f":"_xll.ECONOMATICA(A34,\"date\",,\"RealTime\")","v":45264.754166666666},null,null,{"$f":"CONCATENATE(N34,\"<XBSP>\")","v":"YDUQ3<XBSP>"},"YDUQ3",null,{"$f":"_xll.ECONOMATICA(M34,\"price\",,\"RealTime\")","v":20.059999999999999},null,{"$f":"_xll.ECONOMATICA(M34,\"pricediff\",,\"RealTime\",,,,)","v":-0.61},null,{"$f":"_xll.ECONOMATICA(M34,\"percentdiff\",,\"RealTime\",,,,)","v":-2.9510000000000001},null,{"$f":"_xll.ECONOMATICA(M34,\"date\",,\"RealTime\")","v":45264.755289351851},null,null,null,"ENERGIA"]
[{"$f":"CONCATENATE(B35,\"<XBSP>\")","v":"AMAR3<XBSP>"},"AMAR3",null,{"$f":"_xll.ECONOMATICA(A35,\"price\",,\"RealTime\")","v":3.82},null,{"$f":"_xll.ECONOMATICA(A35,\"pricediff\",,\"RealTime\",,,,)","v":-0.32},null,{"$f":"_xll.ECONOMATICA(A35,\"percentdiff\",,\"RealTime\",,,,)","v":-7.7290000000000001},null,{"$f":"_xll.ECONOMATICA(A35,\"date\",,\"RealTime\")","v":45264.753472222219},null,null,{"$f":"CONCATENATE(N35,\"<XBSP>\")","v":"CSED3<XBSP>"},"CSED3",null,{"$f":"_xll.ECONOMATICA(M35,\"price\",,\"RealTime\")","v":4.03},null,{"$f":"_xll.ECONOMATICA(M35,\"pricediff\",,\"RealTime\",,,,)","v":{"$error":"#VALUE!"}},null,{"$f":"_xll.ECONOMATICA(M35,\"percentdiff\",,\"RealTime\",,,,)","v":{"$error":"#VALUE!"}},null,{"$f":"_xll.ECONOMATICA(M35,\"date\",,\"RealTime\")","v":45264.754166666666},null,null,{"$f":"CONCATENATE(Z35,\"<XBSP>\")","v":"ELET3<XBSP>"},"ELET3",null,{"$f":"_xll.ECONOMATICA(Y35,\"price\",,\"RealTime\")","v":40.74},null,{"$f":"_xll.ECONOMATICA(Y35,\"pricediff\",,\"RealTime\",,,,)","v":-0.37},null,{"$f":"_xll.ECONOMATICA(Y35,\"percentdiff\",,\"RealTime\",,,,)","v":-0.9},null,{"$f":"_xll.ECONOMATICA(Y35,\"date\",,\"RealTime\")","v":45264.754166666666}]
[null,"SHOPPINGS",null,null,null,null,null,null,null,null,null,null,null,"FINANCEIRO",null,null,null,null,null,null,null,null,null,null,{"$f":"CONCATENATE(Z36,\"<XBSP>\")","v":"ELET6<XBSP>"},"ELET6",null,{"$f":"_xll.ECONOMATICA(Y36,\"price\",,\"RealTime\")","v":44.81},null,{"$f":"_xll.ECONOMATICA(Y36,\"pricediff\",,\"RealTime\",,,,)","v":-0.1},null,{"$f":"_xll.ECONOMATICA(Y36,\"percentdiff\",,\"RealTime\",,,,)","v":-0.223},null,{"$f":"_xll.ECONOMATICA(Y36,\"date\",,\"RealTime\")","v":45264.754166666666}]
[{"$f":"CONCATENATE(B37,\"<XBSP>\")","v":"ALSO3<XBSP>"},"ALSO3",null,{"$f":"_xll.ECONOMATICA(A37,\"price\",,\"RealTime\")","v":23.25},null,{"$f":"_xll.ECONOMATICA(A37,\"pricediff\",,\"RealTime\",,,,)","v":0.39},null,{"$f":"_xll.ECONOMATICA(A37,\"percentdiff\",,\"RealTime\",,,,)","v":1.706},null,{"$f":"_xll.ECONOMATICA(A37,\"date\",,\"RealTime\")","v":45223.749525462961},null,null,{"$f":"CONCATENATE(N37,\"<XBSP>\")","v":"B3SA3<XBSP>"},"B3SA3",null,{"$f":"_xll.ECONOMATICA(M37,\"price\",,\"RealTime\")","v":13.54},null,{"$f":"_xll.ECONOMATICA(M37,\"pricediff\",,\"RealTime\",,,,)","v":0.01},null,{"$f":"_xll.ECONOMATICA(M37,\"percentdiff\",,\"RealTime\",,,,)","v":7.3999999999999996E-2},null,{"$f":"_xll.ECONOMATICA(M37,\"date\",,\"RealTime\")","v":45264.754861111112},null,null,{"$f":"CONCATENATE(Z37,\"<XBSP>\")","v":"MEGA3<XBSP>"},"MEGA3",null,{"$f":"_xll.ECONOMATICA(Y37,\"price\",,\"RealTime\")","v":9.6199999999999992},null,{"$f":"_xll.ECONOMATICA(Y37,\"pricediff\",,\"RealTime\",,,,)","v":{"$error":"#VALUE!"}},null,{"$f":"_xll.ECONOMATICA(Y37,\"percentdiff\",,\"RealTime\",,,,)","v":{"$error":"#VALUE!"}},null,{"$f":"_xll.ECONOMATICA(Y37,\"date\",,\"RealTime\")","v":45261.755219907405}]
[{"$f":"CONCATENATE(B38,\"<XBSP>\")","v":"BRPR3<XBSP>"},"BRPR3",null,{"$f":"_xll.ECONOMATICA(A38,\"price\",,\"RealTime\")","v":131.16999999999999},null,{"$f":"_xll.ECONOMATICA(A38,\"pricediff\",,\"RealTime\",,,,)","v":{"$error":"#VALUE!"}},null,{"$f":"_xll.ECONOMATICA(A38,\"percentdiff\",,\"RealTime\",,,,)","v":{"$error":"#VALUE!"}},null,{"$f":"_xll.ECONOMATICA(A38,\"date\",,\"RealTime\")","v":45218.702650462961},null,null,{"$f":"CONCATENATE(N38,\"<XBSP>\")","v":"BBAS3<XBSP>"},"BBAS3",null,{"$f":"_xll.ECONOMATICA(M38,\"price\",,\"RealTime\")","v":54.17},null,{"$f":"_xll.ECONOMATICA(M38,\"pricediff\",,\"RealTime\",,,,)","v":-0.21},null,{"$f":"_xll.ECONOMATICA(M38,\"percentdiff\",,\"RealTime\",,,,)","v":-0.38600000000000001},null,{"$f":"_xll.ECONOMATICA(M38,\"date\",,\"RealTime\")","v":45264.755509259259},null,null,{"$f":"CONCATENATE(Z38,\"<XBSP>\")","v":"EQTL3<XBSP>"},"EQTL3",null,{"$f":"_xll.ECONOMATICA(Y38,\"price\",,\"RealTime\")","v":34},null,{"$f":"_xll.ECONOMATICA(Y38,\"pricediff\",,\"RealTime\",,,,)","v":-0.17},null,{"$f":"_xll.ECONOMATICA(Y38,\"percentdiff\",,\"RealTime\",,,,)","v":-0.498},null,{"$f":"_xll.ECONOMATICA(Y38,\"date\",,\"RealTime\")","v":45264.754166666666}]
[{"$f":"CONCATENATE(B39,\"<XBSP>\")","v":"IGTI11<XBSP>"},"IGTI11",null,{"$f":"_xll.ECONOMATICA(A39,\"price\",,\"RealTime\")","v":23.44},null,{"$f":"_xll.ECONOMATICA(A39,\"pricediff\",,\"RealTime\",,,,)","v":-0.03},null,{"$f":"_xll.ECONOMATICA(A39,\"percentdiff\",,\"RealTime\",,,,)","v":-0.128},null,{"$f":"_xll.ECONOMATICA(A39,\"date\",,\"RealTime\")","v":45264.754861111112},null,null,{"$f":"CONCATENATE(N39,\"<XBSP>\")","v":"BBDC4<XBSP>"},"BBDC4",null,{"$f":"_xll.ECONOMATICA(M39,\"price\",,\"RealTime\")","v":16.18},null,{"$f":"_xll.ECONOMATICA(M39,\"pricediff\",,\"RealTime\",,,,)","v":-0.12},null,{"$f":"_xll.ECONOMATICA(M39,\"percentdiff\",,\"RealTime\",,,,)","v":-0.76},null,{"$f":"_xll.ECONOMATICA(M39,\"date\",,\"RealTime\")","v":45264.755231481482},null,null,null,"SANEAMENTO"]
[{"$f":"CONCATENATE(B40,\"<XBSP>\")","v":"JHSF3<XBSP>"},"JHSF3",null,{"$f":"_xll.ECONOMATICA(A40,\"price\",,\"RealTime\")","v":4.5599999999999996},null,{"$f":"_xll.ECONOMATICA(A40,\"pricediff\",,\"RealTime\",,,,)","v":-0.01},null,{"$f":"_xll.ECONOMATICA(A40,\"percentdiff\",,\"RealTime\",,,,)","v":-0.219},null,{"$f":"_xll.ECONOMATICA(A40,\"date\",,\"RealTime\")","v":45264.754166666666},null,null,{"$f":"CONCATENATE(N40,\"<XBSP>\")","v":"BPAC11<XBSP>"},"BPAC11",null,{"$f":"_xll.ECONOMATICA(M40,\"price\",,\"RealTime\")","v":34.979999999999997},null,{"$f":"_xll.ECONOMATICA(M40,\"pricediff\",,\"RealTime\",,,,)","v":-0.24},null,{"$f":"_xll.ECONOMATICA(M40,\"percentdiff\",,\"RealTime\",,,,)","v":-0.68100000000000005},null,{"$f":"_xll.ECONOMATICA(M40,\"date\",,\"RealTime\")","v":45264.754861111112},null,null,{"$f":"CONCATENATE(Z40,\"<XBSP>\")","v":"CSMG3<XBSP>"},"CSMG3",null,{"$f":"_xll.ECONOMATICA(Y40,\"price\",,\"RealTime\")","v":19.98},null,{"$f":"_xll.ECONOMATICA(Y40,\"pricediff\",,\"RealTime\",,,,)","v":0.75},null,{"$f":"_xll.ECONOMATICA(Y40,\"percentdiff\",,\"RealTime\",,,,)","v":3.9},null,{"$f":"_xll.ECONOMATICA(Y40,\"date\",,\"RealTime\")","v":45264.754166666666}]
[{"$f":"CONCATENATE(B41,\"<XBSP>\")","v":"MULT3<XBSP>"},"MULT3",null,{"$f":"_xll.ECONOMATICA(A41,\"price\",,\"RealTime\")","v":27.64},null,{"$f":"_xll.ECONOMATICA(A41,\"pricediff\",,\"RealTime\",,,,)","v":-0.09},null,{"$f":"_xll.ECONOMATICA(A41,\"percentdiff\",,\"RealTime\",,,,)","v":-0.32500000000000001},null,{"$f":"_xll.ECONOMATICA(A41,\"date\",,\"RealTime\")","v":45264.754166666666},null,null,{"$f":"CONCATENATE(N41,\"<XBSP>\")","v":"BRAP4<XBSP>"},"BRAP4",null,{"$f":"_xll.ECONOMATICA(M41,\"price\",,\"RealTime\")","v":24.49},null,{"$f":"_xll.ECONOMATICA(M41,\"pricediff\",,\"RealTime\",,,,)","v":-0.23},null,{"$f":"_xll.ECONOMATICA(M41,\"percentdiff\",,\"RealTime\",,,,)","v":-0.93},null,{"$f":"_xll.ECONOMATICA(M41,\"date\",,\"RealTime\")","v":45264.754166666666},null,null,{"$f":"CONCATENATE(Z41,\"<XBSP>\")","v":"SAPR11<XBSP>"},"SAPR11",null,{"$f":"_xll.ECONOMATICA(Y41,\"price\",,\"RealTime\")","v":26.71},null,{"$f":"_xll.ECONOMATICA(Y41,\"pricediff\",,\"RealTime\",,,,)","v":0.16},null,{"$f":"_xll.ECONOMATICA(Y41,\"percentdiff\",,\"RealTime\",,,,)","v":0.60299999999999998},null,{"$f":"_xll.ECONOMATICA(Y41,\"date\",,\"RealTime\")","v":45264.754166666666}]
[null,"REAL ESTATE",null,null,null,null,null,null,null,null,null,null,{"$f":"CONCATENATE(N42,\"<XBSP>\")","v":"BRSR6<XBSP>"},"BRSR6",null,{"$f":"_xll.ECONOMATICA(M42,\"price\",,\"RealTime\")","v":12.13},null,{"$f":"_xll.ECONOMATICA(M42,\"pricediff\",,\"RealTime\",,,,)","v":-0.05},null,{"$f":"_xll.ECONOMATICA(M42,\"percentdiff\",,\"RealTime\",,,,)","v":-0.41199999999999998},null,{"$f":"_xll.ECONOMATICA(M42,\"date\",,\"RealTime\")","v":45264.754166666666},null,null,{"$f":"CONCATENATE(Z42,\"<XBSP>\")","v":"SBSP3<XBSP>"},"SBSP3",null,{"$f":"_xll.ECONOMATICA(Y42,\"price\",,\"RealTime\")","v":67.98},null,{"$f":"_xll.ECONOMATICA(Y42,\"pricediff\",,\"RealTime\",,,,)","v":-0.68},null,{"$f":"_xll.ECONOMATICA(Y42,\"percentdiff\",,\"RealTime\",,,,)","v":-0.99},null,{"$f":"_xll.ECONOMATICA(Y42,\"date\",,\"RealTime\")","v":45264.754166666666}]
[{"$f":"CONCATENATE(B43,\"<XBSP>\")","v":"BRPR3<XBSP>"},"BRPR3",null,{"$f":"_xll.ECONOMATICA(A43,\"price\",,\"RealTime\")","v":131.16999999999999},null,{"$f":"_xll.ECONOMATICA(A43,\"pricediff\",,\"RealTime\",,,,)","v":{"$error":"#VALUE!"}},null,{"$f":"_xll.ECONOMATICA(A43,\"percentdiff\",,\"RealTime\",,,,)","v":{"$error":"#VALUE!"}},null,{"$f":"_xll.ECONOMATICA(A43,\"date\",,\"RealTime\")","v":45218.702650462961},null,null,{"$f":"CONCATENATE(N43,\"<XBSP>\")","v":"CIEL3<XBSP>"},"CIEL3",null,{"$f":"_xll.ECONOMATICA(M43,\"price\",,\"RealTime\")","v":4.3499999999999996},null,{"$f":"_xll.ECONOMATICA(M43,\"pricediff\",,\"RealTime\",,,,)","v":0.01},null,{"$f":"_xll.ECONOMATICA(M43,\"percentdiff\",,\"RealTime\",,,,)","v":0.23},null,{"$f":"_xll.ECONOMATICA(M43,\"date\",,\"RealTime\")","v":45264.754166666666},null,null,null,"TRANSPORTE E LOGÍSTICA"]
[{"$f":"CONCATENATE(B44,\"<XBSP>\")","v":"CYRE3<XBSP>"},"CYRE3",null,{"$f":"_xll.ECONOMATICA(A44,\"price\",,\"RealTime\")","v":21.46},null,{"$f":"_xll.ECONOMATICA(A44,\"pricediff\",,\"RealTime\",,,,)","v":-0.75},null,{"$f":"_xll.ECONOMATICA(A44,\"percentdiff\",,\"RealTime\",,,,)","v":-3.3769999999999998},null,{"$f":"_xll.ECONOMATICA(A44,\"date\",,\"RealTime\")","v":45264.754166666666},null,null,{"$f":"CONCATENATE(N44,\"<XBSP>\")","v":"ITUB4<XBSP>"},"ITUB4",null,{"$f":"_xll.ECONOMATICA(M44,\"price\",,\"RealTime\")","v":31.54},null,{"$f":"_xll.ECONOMATICA(M44,\"pricediff\",,\"RealTime\",,,,)","v":0.04},null,{"$f":"_xll.ECONOMATICA(M44,\"percentdiff\",,\"RealTime\",,,,)","v":0.127},null,{"$f":"_xll.ECONOMATICA(M44,\"date\",,\"RealTime\")","v":45264.755254629628},null,null,{"$f":"CONCATENATE(Z44,\"<XBSP>\")","v":"CCRO3<XBSP>"},"CCRO3",null,{"$f":"_xll.ECONOMATICA(Y44,\"price\",,\"RealTime\")","v":13.67},null,{"$f":"_xll.ECONOMATICA(Y44,\"pricediff\",,\"RealTime\",,,,)","v":-0.17},null,{"$f":"_xll.ECONOMATICA(Y44,\"percentdiff\",,\"RealTime\",,,,)","v":-1.228},null,{"$f":"_xll.ECONOMATICA(Y44,\"date\",,\"RealTime\")","v":45264.754861111112}]
[{"$f":"CONCATENATE(B45,\"<XBSP>\")","v":"EVEN3<XBSP>"},"EVEN3",null,{"$f":"_xll.ECONOMATICA(A45,\"price\",,\"RealTime\")","v":6.9},null,{"$f":"_xll.ECONOMATICA(A45,\"pricediff\",,\"RealTime\",,,,)","v":-0.24},null,{"$f":"_xll.ECONOMATICA(A45,\"percentdiff\",,\"RealTime\",,,,)","v":-3.3610000000000002},null,{"$f":"_xll.ECONOMATICA(A45,\"date\",,\"RealTime\")","v":45264.754166666666},null,null,{"$f":"CONCATENATE(N45,\"<XBSP>\")","v":"BRBI11<XBSP>"},"BRBI11",null,{"$f":"_xll.ECONOMATICA(M45,\"price\",,\"RealTime\")","v":12.99},null,{"$f":"_xll.ECONOMATICA(M45,\"pricediff\",,\"RealTime\",,,,)","v":-0.66},null,{"$f":"_xll.ECONOMATICA(M45,\"percentdiff\",,\"RealTime\",,,,)","v":-4.84},null,{"$f":"_xll.ECONOMATICA(M45,\"date\",,\"RealTime\")","v":45264.755254629628},null,null,{"$f":"CONCATENATE(Z45,\"<XBSP>\")","v":"EMBR3<XBSP>"},"EMBR3",null,{"$f":"_xll.ECONOMATICA(Y45,\"price\",,\"RealTime\")","v":23},null,{"$f":"_xll.ECONOMATICA(Y45,\"pricediff\",,\"RealTime\",,,,)","v":0.16},null,{"$f":"_xll.ECONOMATICA(Y45,\"percentdiff\",,\"RealTime\",,,,)","v":0.70099999999999996},null,{"$f":"_xll.ECONOMATICA(Y45,\"date\",,\"RealTime\")","v":45264.754166666666}]
[{"$f":"CONCATENATE(B46,\"<XBSP>\")","v":"GFSA3<XBSP>"},"GFSA3",null,{"$f":"_xll.ECONOMATICA(A46,\"price\",,\"RealTime\")","v":6.39},null,{"$f":"_xll.ECONOMATICA(A46,\"pricediff\",,\"RealTime\",,,,)","v":-0.09},null,{"$f":"_xll.ECONOMATICA(A46,\"percentdiff\",,\"RealTime\",,,,)","v":-1.389},null,{"$f":"_xll.ECONOMATICA(A46,\"date\",,\"RealTime\")","v":45264.754166666666},null,null,{"$f":"CONCATENATE(N46,\"<XBSP>\")","v":"SANB11<XBSP>"},"SANB11",null,{"$f":"_xll.ECONOMATICA(M46,\"price\",,\"RealTime\")","v":30.96},null,{"$f":"_xll.ECONOMATICA(M46,\"pricediff\",,\"RealTime\",,,,)","v":0.28999999999999998},null,{"$f":"_xll.ECONOMATICA(M46,\"percentdiff\",,\"RealTime\",,,,)","v":0.94599999999999995},null,{"$f":"_xll.ECONOMATICA(M46,\"date\",,\"RealTime\")","v":45264.754166666666},null,null,{"$f":"CONCATENATE(Z46,\"<XBSP>\")","v":"POMO4<XBSP>"},"POMO4",null,{"$f":"_xll.ECONOMATICA(Y46,\"price\",,\"RealTime\")","v":6.37},null,{"$f":"_xll.ECONOMATICA(Y46,\"pricediff\",,\"RealTime\",,,,)","v":0.22},null,{"$f":"_xll.ECONOMATICA(Y46,\"percentdiff\",,\"RealTime\",,,,)","v":3.577},null,{"$f":"_xll.ECONOMATICA(Y46,\"date\",,\"RealTime\")","v":45264.754166666666}]
[{"$f":"CONCATENATE(B47,\"<XBSP>\")","v":"MRVE3<XBSP>"},"MRVE3",null,{"$f":"_xll.ECONOMATICA(A47,\"price\",,\"RealTime\")","v":9.07},null,{"$f":"_xll.ECONOMATICA(A47,\"pricediff\",,\"RealTime\",,,,)","v":-0.52},null,{"$f":"_xll.ECONOMATICA(A47,\"percentdiff\",,\"RealTime\",,,,)","v":-5.4219999999999997},null,{"$f":"_xll.ECONOMATICA(A47,\"date\",,\"RealTime\")","v":45264.754166666666},null,null,{"$f":"CONCATENATE(N47,\"<XBSP>\")","v":"INBR32<XBSP>"},"INBR32",null,{"$f":"_xll.ECONOMATICA(M47,\"price\",,\"RealTime\")","v":23.6},null,{"$f":"_xll.ECONOMATICA(M47,\"pricediff\",,\"RealTime\",,,,)","v":-0.95},null,{"$f":"_xll.ECONOMATICA(M47,\"percentdiff\",,\"RealTime\",,,,)","v":-3.87},null,{"$f":"_xll.ECONOMATICA(M47,\"date\",,\"RealTime\")","v":45264.75545138889},null,null,{"$f":"CONCATENATE(Z47,\"<XBSP>\")","v":"RAIL3<XBSP>"},"RAIL3",null,{"$f":"_xll.ECONOMATICA(Y47,\"price\",,\"RealTime\")","v":22.58},null,{"$f":"_xll.ECONOMATICA(Y47,\"pricediff\",,\"RealTime\",,,,)","v":-0.19},null,{"$f":"_xll.ECONOMATICA(Y47,\"percentdiff\",,\"RealTime\",,,,)","v":-0.83399999999999996},null,{"$f":"_xll.ECONOMATICA(Y47,\"date\",,\"RealTime\")","v":45264.755208333336}]
[{"$f":"CONCATENATE(B48,\"<XBSP>\")","v":"TCSA3<XBSP>"},"TCSA3",null,{"$f":"_xll.ECONOMATICA(A48,\"price\",,\"RealTime\")","v":3.5},null,{"$f":"_xll.ECONOMATICA(A48,\"pricediff\",,\"RealTime\",,,,)","v":{"$error":"#VALUE!"}},null,{"$f":"_xll.ECONOMATICA(A48,\"percentdiff\",,\"RealTime\",,,,)","v":{"$error":"#VALUE!"}},null,{"$f":"_xll.ECONOMATICA(A48,\"date\",,\"RealTime\")","v":45264.754166666666},null,null,{"$f":"CONCATENATE(N48,\"<XBSP>\")","v":"SEGUROS<XBSP>"},"SEGUROS",null,null,null,null,null,null,null,null,null,null,{"$f":"CONCATENATE(Z48,\"<XBSP>\")","v":"JSLG3<XBSP>"},"JSLG3",null,{"$f":"_xll.ECONOMATICA(Y48,\"price\",,\"RealTime\")","v":10.39},null,{"$f":"_xll.ECONOMATICA(Y48,\"pricediff\",,\"RealTime\",,,,)","v":{"$error":"#VALUE!"}},null,{"$f":"_xll.ECONOMATICA(Y48,\"percentdiff\",,\"RealTime\",,,,)","v":{"$error":"#VALUE!"}},null,{"$f":"_xll.ECONOMATICA(Y48,\"date\",,\"RealTime\")","v":45264.754166666666}]
[{"$f":"CONCATENATE(B49,\"<XBSP>\")","v":"EZTC3<XBSP>"},"EZTC3",null,{"$f":"_xll.ECONOMATICA(A49,\"price\",,\"RealTime\")","v":18.02},null,{"$f":"_xll.ECONOMATICA(A49,\"pricediff\",,\"RealTime\",,,,)","v":-0.71},null,{"$f":"_xll.ECONOMATICA(A49,\"percentdiff\",,\"RealTime\",,,,)","v":-3.7909999999999999},null,{"$f":"_xll.ECONOMATICA(A49,\"date\",,\"RealTime\")","v":45264.754861111112},null,null,{"$f":"CONCATENATE(N49,\"<XBSP>\")","v":"BBSE3<XBSP>"},"BBSE3",null,{"$f":"_xll.ECONOMATICA(M49,\"price\",,\"RealTime\")","v":30.82},null,{"$f":"_xll.ECONOMATICA(M49,\"pricediff\",,\"RealTime\",,,,)","v":-0.08},null,{"$f":"_xll.ECONOMATICA(M49,\"percentdiff\",,\"RealTime\",,,,)","v":-0.25900000000000001},null,{"$f":"_xll.ECONOMATICA(M49,\"date\",,\"RealTime\")","v":45264.754861111112},null,null,{"$f":"CONCATENATE(Z49,\"<XBSP>\")","v":"RAPT3<XBSP>"},"RAPT3",null,{"$f":"_xll.ECONOMATICA(Y49,\"price\",,\"RealTime\")","v":10.09},null,{"$f":"_xll.ECONOMATICA(Y49,\"pricediff\",,\"RealTime\",,,,)","v":{"$error":"#VALUE!"}},null,{"$f":"_xll.ECONOMATICA(Y49,\"percentdiff\",,\"RealTime\",,,,)","v":{"$error":"#VALUE!"}},null,{"$f":"_xll.ECONOMATICA(Y49,\"date\",,\"RealTime\")","v":45264.753472222219}]
[null,"INDUSTRIA / MINÉRIO / SIDERÚRGICA",null,null,null,null,null,null,null,null,null,null,{"$f":"CONCATENATE(N50,\"<XBSP>\")","v":"IRBR3<XBSP>"},"IRBR3",null,{"$f":"_xll.ECONOMATICA(M50,\"price\",,\"RealTime\")","v":52.25},null,{"$f":"_xll.ECONOMATICA(M50,\"pricediff\",,\"RealTime\",,,,)","v":-1.38},null,{"$f":"_xll.ECONOMATICA(M50,\"percentdiff\",,\"RealTime\",,,,)","v":-2.573},null,{"$f":"_xll.ECONOMATICA(M50,\"date\",,\"RealTime\")","v":45264.754861111112},null,null,null,"OUTROS"]
[{"$f":"CONCATENATE(B51,\"<XBSP>\")","v":"CSNA3<XBSP>"},"CSNA3",null,{"$f":"_xll.ECONOMATICA(A51,\"price\",,\"RealTime\")","v":17.010000000000002},null,{"$f":"_xll.ECONOMATICA(A51,\"pricediff\",,\"RealTime\",,,,)","v":-0.15},null,{"$f":"_xll.ECONOMATICA(A51,\"percentdiff\",,\"RealTime\",,,,)","v":-0.874},null,{"$f":"_xll.ECONOMATICA(A51,\"date\",,\"RealTime\")","v":45264.755208333336},null,null,{"$f":"CONCATENATE(N51,\"<XBSP>\")","v":"PSSA3<XBSP>"},"PSSA3",null,{"$f":"_xll.ECONOMATICA(M51,\"price\",,\"RealTime\")","v":28.7},null,{"$f":"_xll.ECONOMATICA(M51,\"pricediff\",,\"RealTime\",,,,)","v":0.21},null,{"$f":"_xll.ECONOMATICA(M51,\"percentdiff\",,\"RealTime\",,,,)","v":0.73699999999999999},null,{"$f":"_xll.ECONOMATICA(M51,\"date\",,\"RealTime\")","v":45264.754861111112},null,null,{"$f":"CONCATENATE(Z51,\"<XBSP>\")","v":"TOTS3<XBSP>"},"TOTS3",null,{"$f":"_xll.ECONOMATICA(Y51,\"price\",,\"RealTime\")","v":34.159999999999997},null,{"$f":"_xll.ECONOMATICA(Y51,\"pricediff\",,\"RealTime\",,,,)","v":0.32},null,{"$f":"_xll.ECONOMATICA(Y51,\"percentdiff\",,\"RealTime\",,,,)","v":0.94599999999999995},null,{"$f":"_xll.ECONOMATICA(Y51,\"date\",,\"RealTime\")","v":45264.754166666666}]
[{"$f":"CONCATENATE(B52,\"<XBSP>\")","v":"GGBR4<XBSP>"},"GGBR4",null,{"$f":"_xll.ECONOMATICA(A52,\"price\",,\"RealTime\")","v":22.09},null,{"$f":"_xll.ECONOMATICA(A52,\"pricediff\",,\"RealTime\",,,,)","v":-0.06},null,{"$f":"_xll.ECONOMATICA(A52,\"percentdiff\",,\"RealTime\",,,,)","v":-0.27100000000000002},null,{"$f":"_xll.ECONOMATICA(A52,\"date\",,\"RealTime\")","v":45264.754166666666},null,null,null,"AIR SECTOR / CAR RENTAL",null,null,null,null,null,null,null,null,null,null,{"$f":"CONCATENATE(Z52,\"<XBSP>\")","v":"ITSA4<XBSP>"},"ITSA4",null,{"$f":"_xll.ECONOMATICA(Y52,\"price\",,\"RealTime\")","v":9.74},null,{"$f":"_xll.ECONOMATICA(Y52,\"pricediff\",,\"RealTime\",,,,)","v":-0.01},null,{"$f":"_xll.ECONOMATICA(Y52,\"percentdiff\",,\"RealTime\",,,,)","v":-0.10299999999999999},null,{"$f":"_xll.ECONOMATICA(Y52,\"date\",,\"RealTime\")","v":45264.755277777775}]
[{"$f":"CONCATENATE(B53,\"<XBSP>\")","v":"GOAU4<XBSP>"},"GOAU4",null,{"$f":"_xll.ECONOMATICA(A53,\"price\",,\"RealTime\")","v":10.34},null,{"$f":"_xll.ECONOMATICA(A53,\"pricediff\",,\"RealTime\",,,,)","v":-0.06},null,{"$f":"_xll.ECONOMATICA(A53,\"percentdiff\",,\"RealTime\",,,,)","v":-0.57699999999999996},null,{"$f":"_xll.ECONOMATICA(A53,\"date\",,\"RealTime\")","v":45264.754166666666},null,null,{"$f":"CONCATENATE(N53,\"<XBSP>\")","v":"AZUL4<XBSP>"},"AZUL4",null,{"$f":"_xll.ECONOMATICA(M53,\"price\",,\"RealTime\")","v":16.02},null,{"$f":"_xll.ECONOMATICA(M53,\"pricediff\",,\"RealTime\",,,,)","v":-0.99},null,{"$f":"_xll.ECONOMATICA(M53,\"percentdiff\",,\"RealTime\",,,,)","v":-5.82},null,{"$f":"_xll.ECONOMATICA(M53,\"date\",,\"RealTime\")","v":45264.754861111112},null,null,{"$f":"CONCATENATE(Z53,\"<XBSP>\")","v":"GMAT3<XBSP>"},"GMAT3",null,{"$f":"_xll.ECONOMATICA(Y53,\"price\",,\"RealTime\")","v":6.37},null,{"$f":"_xll.ECONOMATICA(Y53,\"pricediff\",,\"RealTime\",,,,)","v":-0.13},null,{"$f":"_xll.ECONOMATICA(Y53,\"percentdiff\",,\"RealTime\",,,,)","v":-2},null,{"$f":"_xll.ECONOMATICA(Y53,\"date\",,\"RealTime\")","v":45264.754166666666}]
[{"$f":"CONCATENATE(B54,\"<XBSP>\")","v":"USIM5<XBSP>"},"USIM5",null,{"$f":"_xll.ECONOMATICA(A54,\"price\",,\"RealTime\")","v":8.2899999999999991},null,{"$f":"_xll.ECONOMATICA(A54,\"pricediff\",,\"RealTime\",,,,)","v":7.0000000000000007E-2},null,{"$f":"_xll.ECONOMATICA(A54,\"percentdiff\",,\"RealTime\",,,,)","v":0.85199999999999998},null,{"$f":"_xll.ECONOMATICA(A54,\"date\",,\"RealTime\")","v":45264.754166666666},null,null,{"$f":"CONCATENATE(N54,\"<XBSP>\")","v":"GOLL4<XBSP>"},"GOLL4",null,{"$f":"_xll.ECONOMATICA(M54,\"price\",,\"RealTime\")","v":8.3000000000000007},null,{"$f":"_xll.ECONOMATICA(M54,\"pricediff\",,\"RealTime\",,,,)","v":-0.84},null,{"$f":"_xll.ECONOMATICA(M54,\"percentdiff\",,\"RealTime\",,,,)","v":-9.19},null,{"$f":"_xll.ECONOMATICA(M54,\"date\",,\"RealTime\")","v":45264.754166666666},null,null,{"$f":"CONCATENATE(Z54,\"<XBSP>\")","v":"GOAU4<XBSP>"},"GOAU4",null,{"$f":"_xll.ECONOMATICA(Y54,\"price\",,\"RealTime\")","v":10.34},null,{"$f":"_xll.ECONOMATICA(Y54,\"pricediff\",,\"RealTime\",,,,)","v":-0.06},null,{"$f":"_xll.ECONOMATICA(Y54,\"percentdiff\",,\"RealTime\",,,,)","v":-0.57699999999999996},null,{"$f":"_xll.ECONOMATICA(Y54,\"date\",,\"RealTime\")","v":45264.754166666666}]
[{"$f":"CONCATENATE(B55,\"<XBSP>\")","v":"VALE3<XBSP>"},"VALE3",null,{"$f":"_xll.ECONOMATICA(A55,\"price\",,\"RealTime\")","v":73.53},null,{"$f":"_xll.ECONOMATICA(A55,\"pricediff\",,\"RealTime\",,,,)","v":-1.69},null,{"$f":"_xll.ECONOMATICA(A55,\"percentdiff\",,\"RealTime\",,,,)","v":-2.2469999999999999},null,{"$f":"_xll.ECONOMATICA(A55,\"date\",,\"RealTime\")","v":45264.755532407406},null,null,{"$f":"CONCATENATE(N55,\"<XBSP>\")","v":"MOVI3<XBSP>"},"MOVI3",null,{"$f":"_xll.ECONOMATICA(M55,\"price\",,\"RealTime\")","v":11.23},null,{"$f":"_xll.ECONOMATICA(M55,\"pricediff\",,\"RealTime\",,,,)","v":0.01},null,{"$f":"_xll.ECONOMATICA(M55,\"percentdiff\",,\"RealTime\",,,,)","v":8.8999999999999996E-2},null,{"$f":"_xll.ECONOMATICA(M55,\"date\",,\"RealTime\")","v":45264.754861111112},null,null,{"$f":"CONCATENATE(Z55,\"<XBSP>\")","v":"SMFT3<XBSP>"},"SMFT3",null,{"$f":"_xll.ECONOMATICA(Y55,\"price\",,\"RealTime\")","v":23.69},null,{"$f":"_xll.ECONOMATICA(Y55,\"pricediff\",,\"RealTime\",,,,)","v":-0.67},null,{"$f":"_xll.ECONOMATICA(Y55,\"percentdiff\",,\"RealTime\",,,,)","v":-2.75},null,{"$f":"_xll.ECONOMATICA(Y55,\"date\",,\"RealTime\")","v":45264.755231481482}]
[{"$f":"CONCATENATE(B56,\"<XBSP>\")","v":"CMIN3<XBSP>"},"CMIN3",null,{"$f":"_xll.ECONOMATICA(A56,\"price\",,\"RealTime\")","v":6.91},null,{"$f":"_xll.ECONOMATICA(A56,\"pricediff\",,\"RealTime\",,,,)","v":-0.19},null,{"$f":"_xll.ECONOMATICA(A56,\"percentdiff\",,\"RealTime\",,,,)","v":-2.6760000000000002},null,{"$f":"_xll.ECONOMATICA(A56,\"date\",,\"RealTime\")","v":45264.754861111112},null,null,{"$f":"CONCATENATE(N56,\"<XBSP>\")","v":"RENT3<XBSP>"},"RENT3",null,{"$f":"_xll.ECONOMATICA(M56,\"price\",,\"RealTime\")","v":60.65},null,{"$f":"_xll.ECONOMATICA(M56,\"pricediff\",,\"RealTime\",,,,)","v":-0.09},null,{"$f":"_xll.ECONOMATICA(M56,\"percentdiff\",,\"RealTime\",,,,)","v":-0.14799999999999999},null,{"$f":"_xll.ECONOMATICA(M56,\"date\",,\"RealTime\")","v":45264.755243055559},null,null,{"$f":"CONCATENATE(Z56,\"<XBSP>\")","v":"NTCO3<XBSP>"},"NTCO3",null,{"$f":"_xll.ECONOMATICA(Y56,\"price\",,\"RealTime\")","v":16.7},null,{"$f":"_xll.ECONOMATICA(Y56,\"pricediff\",,\"RealTime\",,,,)","v":-0.23},null,{"$f":"_xll.ECONOMATICA(Y56,\"percentdiff\",,\"RealTime\",,,,)","v":-1.359},null,{"$f":"_xll.ECONOMATICA(Y56,\"date\",,\"RealTime\")","v":45264.754861111112}]
[{"$f":"CONCATENATE(B57,\"<XBSP>\")","v":"AURA33<XBSP>"},"AURA33",null,{"$f":"_xll.ECONOMATICA(A57,\"price\",,\"RealTime\")","v":35.479999999999997},null,{"$f":"_xll.ECONOMATICA(A57,\"pricediff\",,\"RealTime\",,,,)","v":{"$error":"#VALUE!"}},null,{"$f":"_xll.ECONOMATICA(A57,\"percentdiff\",,\"RealTime\",,,,)","v":{"$error":"#VALUE!"}},null,{"$f":"_xll.ECONOMATICA(A57,\"date\",,\"RealTime\")","v":45264.753472222219},null,null,{"$f":"CONCATENATE(N57,\"<XBSP>\")","v":"VAMO3<XBSP>"},"VAMO3",null,{"$f":"_xll.ECONOMATICA(M57,\"price\",,\"RealTime\")","v":9.26},null,{"$f":"_xll.ECONOMATICA(M57,\"pricediff\",,\"RealTime\",,,,)","v":-0.14000000000000001},null,{"$f":"_xll.ECONOMATICA(M57,\"percentdiff\",,\"RealTime\",,,,)","v":-1.4890000000000001},null,{"$f":"_xll.ECONOMATICA(M57,\"date\",,\"RealTime\")","v":45264.755312499998},null,null,{"$f":"CONCATENATE(Z57,\"<XBSP>\")","v":"TUPY3<XBSP>"},"TUPY3",null,{"$f":"_xll.ECONOMATICA(Y57,\"price\",,\"RealTime\")","v":26.01},null,{"$f":"_xll.ECONOMATICA(Y57,\"pricediff\",,\"RealTime\",,,,)","v":-0.11},null,{"$f":"_xll.ECONOMATICA(Y57,\"percentdiff\",,\"RealTime\",,,,)","v":-0.42099999999999999},null,{"$f":"_xll.ECONOMATICA(Y57,\"date\",,\"RealTime\")","v":45264.754166666666}]

{"sheet":"base_curvas ","index":1,"n_rows":24,"n_cols":9,"rows_kept":24,"cut":false,"hidden":true,"merged":[]}
[]
[]
[null,null,null,null,null,null,{"$f":"#REF!","v":{"$error":"#REF!"}},{"$f":"#REF!","v":{"$error":"#REF!"}},{"$f":"#REF!","v":{"$error":"#REF!"}}]
[null,null,{"$f":"_xll.ECOSECURITIES(\"GOVERNMENTBOND\",\"ACTIVE\",,\"BRA\",\"BRANA\",\"TRUE\",\"Lista Bs\",\"name~NTN-B\")","v":{"$error":"#VALUE!"}},{"$f":"_xll.ECONOMATICA($C$5:$C$19,\"Name\",,,,,,,\"false\",\"true\")","v":{"$error":"#VALUE!"}},{"$f":"_xll.ECONOMATICA(_xll.EcoRange(1,-2,15,-2),\"Class\",,,,,,,\"false\",\"true\")","v":{"$error":"#VALUE!"}},{"$f":"_xll.ECONOMATICA($C$5:$C$19,\"Maturity date\",,,,,,,\"false\",\"true\")","v":{"$error":"#VALUE!"}},{"$f":"_xll.ECONOMATICA($C$5:$C$19,\"YTM\",,G3,,,,,\"false\",\"true\")","v":{"$error":"#VALUE!"}},{"$f":"_xll.ECONOMATICA($C$5:$C$19,\"YTM\",,H3,,,,,\"false\",\"true\")","v":{"$error":"#VALUE!"}},{"$f":"_xll.ECONOMATICA($C$5:$C$19,\"YTM\",,I3,,,,,\"false\",\"true\")","v":{"$error":"#VALUE!"}}]
[null,null,"BRSTNCNTB054<BraANB>"]
[null,null,"BRSTNCNTB4O9<BraANB>"]
[null,null,"BRSTNCNTB096<BraANB>"]
[null,null,"BRSTNCNTB633<BraANB>"]
[null,null,"BRSTNCNTB4U6<BraANB>"]
[null,null,"BRSTNCNTB682<BraANB>"]
[null,null,"BRSTNCNTB4X0<BraANB>"]
[null,null,"BRSTNCNTB3B8<BraANB>"]
[null,null,"BRSTNCNTB674<BraANB>"]
[null,null,"BRSTNCNTB0O7<BraANB>"]
[null,null,"BRSTNCNTB3C6<BraANB>"]
[null,null,"BRSTNCNTB0A6<BraANB>"]
[null,null,"BRSTNCNTB3D4<BraANB>"]
[null,null,"BRSTNCNTB4Q4<BraANB>"]
[null,null,"BRSTNCNTB690<BraANB>"]
[]
[]
[null,null,null,null,null,null,{"$f":"G3","v":{"$error":"#REF!"}},{"$f":"H3","v":{"$error":"#REF!"}},{"$f":"I3","v":{"$error":"#REF!"}}]
[{"$f":"\"name~DI DE 1 DIA\"","v":"name~DI DE 1 DIA"},null,{"$f":"_xll.ECOSECURITIES(\"FIXEDINCOMEINDEX\",\"ACTIVE\",,\"BRA\",,\"TRUE\",\"Lista Dis\",A23:A24)","v":{"$error":"#VALUE!"}},{"$f":"_xll.ECONOMATICA($C$24:$C$61,\"Name\",,,,,,,\"false\",\"true\")","v":{"$error":"#VALUE!"}},{"$f":"_xll.ECONOMATICA($C$24:$C$61,\"Class\",,,,,,,\"false\",\"true\")","v":{"$error":"#VALUE!"}},{"$f":"_xll.ECONOMATICA($C$24:$C$61,\"Maturity date\",,,,,,,\"false\",\"true\")","v":{"$error":"#VALUE!"}},{"$f":"_xll.ECONOMATICA($C$24:$C$61,\"Close\",,G22,,,\"ORIGINAL CURRENCY\",,\"false\",\"true\",\"Fechamento\")","v":{"$error":"#VALUE!"}},{"$f":"_xll.ECONOMATICA($C$24:$C$61,\"Close\",,H22,,,\"ORIGINAL CURRENCY\",,\"false\",\"true\",\"Fechamento\")","v":{"$error":"#VALUE!"}},{"$f":"_xll.ECONOMATICA($C$24:$C$61,\"Close\",,I22,,,\"ORIGINAL CURRENCY\",,\"false\",\"true\",\"Fechamento\")","v":{"$error":"#VALUE!"}}]
[{"$f":"\"close>0\"","v":"close>0"}]

{"sheet":"FIIs","index":2,"n_rows":34,"n_cols":22,"rows_kept":34,"cut":false,"hidden":true,"merged":[[33,18,33,20],[33,21,33,22],[30,18,30,20],[30,21,30,22],[31,18,31,20],[31,21,31,22],[32,18,32,20],[32,21,32,22],[27,18,27,20],[27,21,27,22],[28,18,28,20],[28,21,28,22],[29,18,29,20],[29,21,29,22],[24,18,24,20],[24,21,24,22],[25,18,25,20],[25,21,25,22],[26,18,26,20],[26,21,26,22],[21,18,21,20],[21,21,21,22],[22,18,22,20],[22,21,22,22],[23,18,23,20],[23,21,23,22],[18,18,18,20],[18,21,18,22],[19,18,19,20],[19,21,19,22],[20,18,20,20],[20,21,20,22],[12,7,12,14],[13,18,13,20],[13,21,13,22],[14,18,14,20],[14,21,14,22],[15,18,15,20],[15,21,15,22],[16,18,16,20],[16,21,16,22],[17,18,17,20],[17,21,17,22]]}
[]
[]
[]
[]
[]
[]
[]
[]
[]
[null,null,null,null,null,null,null,"Selecionar FII","BLMG11"]
[null,null,null,null,null,null,null,"Data Base",{"$f":"_xll.ECONOMATICA(\"ifix\",\"Date of Last Quote\")","v":{"$error":"#VALUE!"}}]
[]
[null,null,null,null,null,null,null,"Retorno"]
[null,null,null,null,null,null,null,null,null,null,null,null,null,null,null,null,null,null,"Itens",null,null,{"$f":"AP9","v":"00:00:00"}]
[null,null,null,null,null,null,null,null,"1M","3M","6M","12M","24M","MTD","YTD",null,null,null,"Preço (R$)",null,null,{"$f":"IFERROR(_xll.ECONOMATICA($B$4,\"close\",,V$7,,,,,,,,{\"tc.pers=3\"}),\"\")","v":""}]
[null,null,null,null,null,null,null,"FUNDO",{"$f":"IFERROR(_xll.ECONOMATICA($I$10,\"return\",I15,$I$11,,,,\"decimal\"),\"\")","v":""},{"$f":"IFERROR(_xll.ECONOMATICA($I$10,\"return\",J15,$I$11,,,,\"decimal\"),\"\")","v":""},{"$f":"IFERROR(_xll.ECONOMATICA($I$10,\"return\",K15,$I$11,,,,\"decimal\"),\"\")","v":""},{"$f":"IFERROR(_xll.ECONOMATICA($I$10,\"return\",L15,$I$11,,,,\"decimal\"),\"\")","v":""},{"$f":"IFERROR(_xll.ECONOMATICA($I$10,\"return\",M15,$I$11,,,,\"decimal\"),\"\")","v":""},{"$f":"IFERROR(_xll.ECONOMATICA($I$10,\"return\",N15,$I$11,,,,\"decimal\"),\"\")","v":""},{"$f":"IFERROR(_xll.ECONOMATICA($I$10,\"return\",O15,$I$11,,,,\"decimal\"),\"\")","v":""},null,null,null,"Máximo (R$)",null,null,{"$f":"IFERROR(_xll.ECONOMATICA($B$4,\"High\",\"in the year\",V$7),\"\")","v":""}]
[null,null,null,null,null,null,null,"IFIX",{"$f":"IFERROR(_xll.ECONOMATICA(\"IFIX\",\"return\",I15,$I$11,,,,\"decimal\"),\"\")","v":""},{"$f":"IFERROR(_xll.ECONOMATICA(\"IFIX\",\"return\",J15,$I$11,,,,\"decimal\"),\"\")","v":""},{"$f":"IFERROR(_xll.ECONOMATICA(\"IFIX\",\"return\",K15,$I$11,,,,\"decimal\"),\"\")","v":""},{"$f":"IFERROR(_xll.ECONOMATICA(\"IFIX\",\"return\",L15,$I$11,,,,\"decimal\"),\"\")","v":""},{"$f":"IFERROR(_xll.ECONOMATICA(\"IFIX\",\"return\",M15,$I$11,,,,\"decimal\"),\"\")","v":""},{"$f":"IFERROR(_xll.ECONOMATICA(\"IFIX\",\"return\",N15,$I$11,,,,\"decimal\"),\"\")","v":""},{"$f":"IFERROR(_xll.ECONOMATICA(\"IFIX\",\"return\",O15,$I$11,,,,\"decimal\"),\"\")","v":""},null,null,null,"Mínimo (R$)",null,null,{"$f":"IFERROR(_xll.ECONOMATICA($B$4,\"Low\",\"in the year\",V$7),\"\")","v":""}]
[null,null,null,null,null,null,null,"IBOV",{"$f":"IFERROR(_xll.ECONOMATICA(\"IBOV\",\"return\",I15,$I$11,,,,\"decimal\"),\"\")","v":""},{"$f":"IFERROR(_xll.ECONOMATICA(\"IBOV\",\"return\",J15,$I$11,,,,\"decimal\"),\"\")","v":""},{"$f":"IFERROR(_xll.ECONOMATICA(\"IBOV\",\"return\",K15,$I$11,,,,\"decimal\"),\"\")","v":""},{"$f":"IFERROR(_xll.ECONOMATICA(\"IBOV\",\"return\",L15,$I$11,,,,\"decimal\"),\"\")","v":""},{"$f":"IFERROR(_xll.ECONOMATICA(\"IBOV\",\"return\",M15,$I$11,,,,\"decimal\"),\"\")","v":""},{"$f":"IFERROR(_xll.ECONOMATICA(\"IBOV\",\"return\",N15,$I$11,,,,\"decimal\"),\"\")","v":""},{"$f":"IFERROR(_xll.ECONOMATICA(\"IBOV\",\"return\",O15,$I$11,,,,\"decimal\"),\"\")","v":""},null,null,null,"Retorno",null,null,{"$f":"IFERROR(_xll.ECONOMATICA($B$4,\"return\",\"in the year\",V$7,,,,\"decimal\"),\"\")","v":""}]
[null,null,null,null,null,null,null,"CDI",{"$f":"IFERROR(_xll.ECONOMATICA(\"CDI Acumulado\",\"return\",I15,$I$11,,,,\"decimal\"),\"\")","v":""},{"$f":"IFERROR(_xll.ECONOMATICA(\"CDI Acumulado\",\"return\",J15,$I$11,,,,\"decimal\"),\"\")","v":""},{"$f":"IFERROR(_xll.ECONOMATICA(\"CDI Acumulado\",\"return\",K15,$I$11,,,,\"decimal\"),\"\")","v":""},{"$f":"IFERROR(_xll.ECONOMATICA(\"CDI Acumulado\",\"return\",L15,$I$11,,,,\"decimal\"),\"\")","v":""},{"$f":"IFERROR(_xll.ECONOMATICA(\"CDI Acumulado\",\"return\",M15,$I$11,,,,\"decimal\"),\"\")","v":""},{"$f":"IFERROR(_xll.ECONOMATICA(\"CDI Acumulado\",\"return\",N15,$I$11,,,,\"decimal\"),\"\")","v":""},{"$f":"IFERROR(_xll.ECONOMATICA(\"CDI Acumulado\",\"return\",O15,$I$11,,,,\"decimal\"),\"\")","v":""},null,null,null,"Volume Méd. (R$)",null,null,{"$f":"IFERROR(_xll.ECONOMATICA($B$4,\"Hist Average\",\"in the year\",$E$7,,,,$I$6,,,,{\"std.tec.cals=7\"}),\"\")","v":""}]
[null,null,null,null,null,null,null,null,null,null,null,null,null,null,null,null,null,null,"Presença (%)",null,null,{"$f":"IFERROR(_xll.ECONOMATICA($B$4,\"Presence\",\"in the year\",V$7),\"\")","v":""}]
[null,null,null,null,null,null,null,null,null,null,null,null,null,null,null,null,null,null,"Market Cap (R$)",null,null,{"$f":"IFERROR(_xll.ECONOMATICA($B$4,\"MarketCapitaliz\",\"in the year\",V$7,,,,$I$6),\"\")","v":""}]
[null,null,null,null,null,null,null,null,null,null,null,null,null,null,null,null,null,null,"Patrimônio Líquido (Últ.)",null,null,{"$f":"IFERROR(_xll.ECONOMATICA($B$4,\"Stock Eq Par\",,EOMONTH(V14,-1),,,,$I$6),\"\")","v":""}]
[null,null,null,null,null,null,null,"base 100 com e sem divi",null,null,null,null,null,null,null,null,null,null,"P/VPA",null,null,{"$f":"IFERROR(_xll.ECONOMATICA($B$4,\"P/BV\",,V$7),\"\")","v":""}]
[null,null,null,null,null,null,null,null,null,null,null,null,null,null,null,null,null,null,"QT cotas",null,null,{"$f":"IFERROR(_xll.ECONOMATICA($B$4,\"Num of Shares\",,V$7),\"\")","v":""}]
[null,null,null,null,null,null,null,null,null,null,null,null,null,null,null,null,null,null,"Valor Patrimônio Cota R$",null,null,{"$f":"IFERROR(_xll.ECONOMATICA($B$4,\"BVperShare\",,EOMONTH(V14,-1)),\"\")","v":""}]
[null,null,null,null,null,null,null,null,null,null,null,null,null,null,null,null,null,null,"Divi. pagos por Cota 12M",null,null,{"$f":"IFERROR(_xll.ECONOMATICA($B$4,\"Divid per Share\",\"12M\",V$7),\"\")","v":""}]
[null,null,null,null,null,null,null,null,null,null,null,null,null,null,null,null,null,null,"Div. Yield Realizado 12M",null,null,{"$f":"IFERROR(_xll.ECONOMATICA($B$4,\"Div Yld (start)\",\"12M\",V$7,,,,\"decimal\"),\"\")","v":""}]
[null,null,null,null,null,null,null,null,null,null,null,null,null,null,null,null,null,null,"Div. Yield projetado 12M",null,null,{"$f":"IFERROR(_xll.ECONOMATICA($B$4,\"Div Yld (end)\",\"12M\",V$7,,,,\"decimal\"),\"\")","v":""}]
[]
[null,null,null,null,null,null,null,null,null,null,null,null,null,null,null,null,null,null,"Beta IFIX (diário)",null,null,{"$f":"IFERROR(_xll.ECONOMATICA($B$4,\"Beta\",\"YTD\",V$7,,,,,,,,{\"jtc.per=0\";\"std.tec.stt.bmk=0:58141,1:2284,2:3543,3:2552,4:8107,5:0,6:0,7:0,8:0,9:0,10:18238,11:8845,12:0,13:0,14:0,15:0,16:0,17:0,18:0,19:0,20:0,21:0,22:0,23:0,24:0,25:0,26:0,27:0,28:0,29:0,30:0,31:0,\";\"std.tec.stt.bmk=32:0,33:0,34:0,35:0,36:0,37:0,38:0,39:0,40:0,41:0,42:0,43:0,44:0,45:0,46:0,47:0,48:0,49:0,50:0,51:0,52:0,53:0,54:0,55:0,56:0,57:0,58:0,59:0,60:0,61:0,62:0,63:0,64:0,65:0,66:0,67:0,68:0,69:0,70:0,71:0,72:0,73:0,74:0,75:0,76:0,77:0,78:0,79:0\"}),\"\")","v":""}]
[null,null,null,null,null,null,null,null,null,null,null,null,null,null,null,null,null,null,"Correlaçao IFIX (diário)",null,null,{"$f":"IFERROR(_xll.ECONOMATICA($B$4,\"Correlation\",\"YTD\",V$7,,,,,,,,{\"jtc.per=0\";\"std.tec.stt.bmk=0:58141,1:2284,2:3543,3:2552,4:8107,5:0,6:0,7:0,8:0,9:0,10:18238,11:8845,12:0,13:0,14:0,15:0,16:0,17:0,18:0,19:0,20:0,21:0,22:0,23:0,24:0,25:0,26:0,27:0,28:0,29:0,30:0,31:0,\";\"std.tec.stt.bmk=32:0,33:0,34:0,35:0,36:0,37:0,38:0,39:0,40:0,41:0,42:0,43:0,44:0,45:0,46:0,47:0,48:0,49:0,50:0,51:0,52:0,53:0,54:0,55:0,56:0,57:0,58:0,59:0,60:0,61:0,62:0,63:0,64:0,65:0,66:0,67:0,68:0,69:0,70:0,71:0,72:0,73:0,74:0,75:0,76:0,77:0,78:0,79:0\"}),\"\")","v":""}]
[]
[null,null,null,null,null,null,null,null,null,null,null,null,null,null,null,null,null,null,"Drawdown",null,null,{"$f":"IFERROR(_xll.ECONOMATICA($B$4,\"MaxDrawdown\",\"in the year\",V$7,,,,\"decimal\"),\"\")","v":""}]
[null,null,null,null,null,null,null,null,null,null,null,null,null,null,null,null,null,null,"Perda Máxima",null,null,{"$f":"IFERROR(_xll.ECONOMATICA($B$4,\"MaxLoss\",\"in the year\",V$7,,,,\"decimal\"),\"\")","v":""}]

{"sheet":"AUX_FIIs","index":3,"n_rows":6,"n_cols":7,"rows_kept":6,"cut":false,"hidden":true,"merged":[]}
[{"$f":"\"Fund type (classific BM&FBovespa)=FII - Fundos de Investimento Imobiliário\"","v":"Fund type (classific BM&FBovespa)=FII - Fundos de Investimento Imobiliário"}]
[{"$f":"\"Partic in IFIX>0\"","v":"Partic in IFIX>0"}]
[]
[]
[]
[null,null,null,{"$f":"_xll.ECOSECURITIES(,\"active\",,\"BRA\",\"XBSP\",,\"Código B3\",$A$1:$A$2)","v":{"$error":"#VALUE!"}},{"$f":"_xll.ECONOMATICA($D$7:$D$150,\"ticker\")","v":{"$error":"#VALUE!"}},{"$f":"_xll.ECONOMATICA($D$7:$D$150,\"name\")","v":{"$error":"#VALUE!"}},{"$f":"_xll.ECONOMATICA($D$7:$D$150,\"name\")","v":{"$error":"#VALUE!"}}]

{"sheet":"base_graf_fundos","index":4,"n_rows":1,"n_cols":18,"rows_kept":1,"cut":false,"hidden":true,"merged":[]}
[null,{"$f":"_xll.ECONOMATICA(#REF!,\"NAME\")","v":{"$error":"#VALUE!"}},{"$f":"_xll.ECONOMATICA(#REF!,\"TICKER\")","v":{"$error":"#VALUE!"}},null,null,{"$f":"#REF!","v":{"$error":"#REF!"}},{"$f":"VLOOKUP(F1,$B:$C,2,0)","v":{"$error":"#REF!"}},null,{"$f":"_xll.ECONOMATICA($G$1,\"CLOSE\",,\"LATEST\",\"24M\",,\"REBASED TO 100\",,\"TRUE\",\"TRUE\",F1)","v":{"$error":"#VALUE!"}},null,{"$f":"_xll.ECONOMATICA(\"IBOV\",\"CLOSE\",,\"LATEST\",\"24M\",,\"REBASED TO 100\",,\"FALSE\",\"TRUE\",\"IBOV\")","v":{"$error":"#VALUE!"}},{"$f":"_xll.ECONOMATICA(\"CDI Acumulado\",\"CLOSE\",,\"LATEST\",\"24M\",,\"REBASED TO 100\",,\"FALSE\",\"TRUE\",\"CDI\")","v":{"$error":"#VALUE!"}},null,{"$f":"_xll.ECONOMATICA($G$1,\"Tot Invest\",,\"LATEST\",\"24M\",\"W\",,,\"TRUE\",\"TRUE\",\"QTD. COTISTAS\")","v":{"$error":"#VALUE!"}},null,{"$f":"_xll.ECONOMATICA($G$1,\"Net Assets\",,\"LATEST\",\"24M\",\"W\",,\"millions\",\"false\",\"TRUE\",\"Pat. Liq (Milhões)\")","v":{"$error":"#VALUE!"}},null,{"$f":"_xll.ECONOMATICA($G$1,\"Net Inflows\",,\"LATEST\",\"24M\",\"m\",,,\"TRUE\",\"TRUE\",\"Capt. Liq.\")","v":{"$error":"#VALUE!"}}]

{"sheet":"Drawdown","index":5,"n_rows":10303,"n_cols":5,"rows_kept":10303,"cut":false,"hidden":true,"merged":[]}
["Ativo",{"$f":"base_graf_fundos!G1","v":{"$error":"#REF!"}},"."]
["Data fim","latest"]
["Data Inicio","12M"]
[]
[{"$f":"_xll.ECONOMATICA($B$1,\"MaxDrawdown\",\"1Y\",$B$2,$B$3,\"D\",\"ORIGINAL CURRENCY\",,\"true\",\"true\",\"Max DrawDown\")","v":{"$error":"#VALUE!"}},null,{"$f":"_xll.ECONOMATICA($B$1,\"close\",,$B$2,$B$3,\"D\",,,\"false\",\"true\",\"Fechamento\")","v":{"$error":"#VALUE!"}},{"$f":"_xll.ECONOMATICA($B$1,\"close\",,$B$2,$B$3,\"D\",,,\"false\",\"true\",\"Base 100\",\"def.defdef=7\")","v":{"$error":"#VALUE!"}},"Max DrawDown / Calculo"]
[null,null,null,null,{"$f":"B6","v":0}]
[]
[null,null,null,null,{"$f":"IF(A8=\"\",\"\",IF(B8=\"\",E7,IF(D8=\"\",E7,D8/MAX($D$8:D8)-1)))","v":""}]
[null,null,null,null,{"$f":"IF(A9=\"\",\"\",IF(B9=\"\",E8,IF(D9=\"\",E8,D9/MAX($D$8:D9)-1)))","v":""}]
[null,null,null,null,{"$f":"IF(A10=\"\",\"\",IF(B10=\"\",E9,IF(D10=\"\",E9,D10/MAX($D$8:D10)-1)))","v":""}]
[null,null,null,null,{"$f":"IF(A11=\"\",\"\",IF(B11=\"\",E10,IF(D11=\"\",E10,D11/MAX($D$8:D11)-1)))","v":""}]
[null,null,null,null,{"$f":"IF(A12=\"\",\"\",IF(B12=\"\",E11,IF(D12=\"\",E11,D12/MAX($D$8:D12)-1)))","v":""}]
[null,null,null,null,{"$f":"IF(A13=\"\",\"\",IF(B13=\"\",E12,IF(D13=\"\",E12,D13/MAX($D$8:D13)-1)))","v":""}]
[null,null,null,null,{"$f":"IF(A14=\"\",\"\",IF(B14=\"\",E13,IF(D14=\"\",E13,D14/MAX($D$8:D14)-1)))","v":""}]
[null,null,null,null,{"$f":"IF(A15=\"\",\"\",IF(B15=\"\",E14,IF(D15=\"\",E14,D15/MAX($D$8:D15)-1)))","v":""}]
[null,null,null,null,{"$f":"IF(A16=\"\",\"\",IF(B16=\"\",E15,IF(D16=\"\",E15,D16/MAX($D$8:D16)-1)))","v":""}]
[null,null,null,null,{"$f":"IF(A17=\"\",\"\",IF(B17=\"\",E16,IF(D17=\"\",E16,D17/MAX($D$8:D17)-1)))","v":""}]
[null,null,null,null,{"$f":"IF(A18=\"\",\"\",IF(B18=\"\",E17,IF(D18=\"\",E17,D18/MAX($D$8:D18)-1)))","v":""}]
[null,null,null,null,{"$f":"IF(A19=\"\",\"\",IF(B19=\"\",E18,IF(D19=\"\",E18,D19/MAX($D$8:D19)-1)))","v":""}]
[null,null,null,null,{"$f":"IF(A20=\"\",\"\",IF(B20=\"\",E19,IF(D20=\"\",E19,D20/MAX($D$8:D20)-1)))","v":""}]
[null,null,null,null,{"$f":"IF(A21=\"\",\"\",IF(B21=\"\",E20,IF(D21=\"\",E20,D21/MAX($D$8:D21)-1)))","v":""}]
[null,null,null,null,{"$f":"IF(A22=\"\",\"\",IF(B22=\"\",E21,IF(D22=\"\",E21,D22/MAX($D$8:D22)-1)))","v":""}]
[null,null,null,null,{"$f":"IF(A23=\"\",\"\",IF(B23=\"\",E22,IF(D23=\"\",E22,D23/MAX($D$8:D23)-1)))","v":""}]
[null,null,null,null,{"$f":"IF(A24=\"\",\"\",IF(B24=\"\",E23,IF(D24=\"\",E23,D24/MAX($D$8:D24)-1)))","v":""}]
[null,null,null,null,{"$f":"IF(A25=\"\",\"\",IF(B25=\"\",E24,IF(D25=\"\",E24,D25/MAX($D$8:D25)-1)))","v":""}]
[null,null,null,null,{"$f":"IF(A26=\"\",\"\",IF(B26=\"\",E25,IF(D26=\"\",E25,D26/MAX($D$8:D26)-1)))","v":""}]
[null,null,null,null,{"$f":"IF(A27=\"\",\"\",IF(B27=\"\",E26,IF(D27=\"\",E26,D27/MAX($D$8:D27)-1)))","v":""}]
[null,null,null,null,{"$f":"IF(A28=\"\",\"\",IF(B28=\"\",E27,IF(D28=\"\",E27,D28/MAX($D$8:D28)-1)))","v":""}]
[null,null,null,null,{"$f":"IF(A29=\"\",\"\",IF(B29=\"\",E28,IF(D29=\"\",E28,D29/MAX($D$8:D29)-1)))","v":""}]
[null,null,null,null,{"$f":"IF(A30=\"\",\"\",IF(B30=\"\",E29,IF(D30=\"\",E29,D30/MAX($D$8:D30)-1)))","v":""}]
[null,null,null,null,{"$f":"IF(A31=\"\",\"\",IF(B31=\"\",E30,IF(D31=\"\",E30,D31/MAX($D$8:D31)-1)))","v":""}]
[null,null,null,null,{"$f":"IF(A32=\"\",\"\",IF(B32=\"\",E31,IF(D32=\"\",E31,D32/MAX($D$8:D32)-1)))","v":""}]
[null,null,null,null,{"$f":"IF(A33=\"\",\"\",IF(B33=\"\",E32,IF(D33=\"\",E32,D33/MAX($D$8:D33)-1)))","v":""}]
[null,null,null,null,{"$f":"IF(A34=\"\",\"\",IF(B34=\"\",E33,IF(D34=\"\",E33,D34/MAX($D$8:D34)-1)))","v":""}]
[null,null,null,null,{"$f":"IF(A35=\"\",\"\",IF(B35=\"\",E34,IF(D35=\"\",E34,D35/MAX($D$8:D35)-1)))","v":""}]
[null,null,null,null,{"$f":"IF(A36=\"\",\"\",IF(B36=\"\",E35,IF(D36=\"\",E35,D36/MAX($D$8:D36)-1)))","v":""}]
[null,null,null,null,{"$f":"IF(A37=\"\",\"\",IF(B37=\"\",E36,IF(D37=\"\",E36,D37/MAX($D$8:D37)-1)))","v":""}]
[null,null,null,null,{"$f":"IF(A38=\"\",\"\",IF(B38=\"\",E37,IF(D38=\"\",E37,D38/MAX($D$8:D38)-1)))","v":""}]
[null,null,null,null,{"$f":"IF(A39=\"\",\"\",IF(B39=\"\",E38,IF(D39=\"\",E38,D39/MAX($D$8:D39)-1)))","v":""}]
[null,null,null,null,{"$f":"IF(A40=\"\",\"\",IF(B40=\"\",E39,IF(D40=\"\",E39,D40/MAX($D$8:D40)-1)))","v":""}]
[null,null,null,null,{"$f":"IF(A41=\"\",\"\",IF(B41=\"\",E40,IF(D41=\"\",E40,D41/MAX($D$8:D41)-1)))","v":""}]
[null,null,null,null,{"$f":"IF(A42=\"\",\"\",IF(B42=\"\",E41,IF(D42=\"\",E41,D42/MAX($D$8:D42)-1)))","v":""}]
[null,null,null,null,{"$f":"IF(A43=\"\",\"\",IF(B43=\"\",E42,IF(D43=\"\",E42,D43/MAX($D$8:D43)-1)))","v":""}]
[null,null,null,null,{"$f":"IF(A44=\"\",\"\",IF(B44=\"\",E43,IF(D44=\"\",E43,D44/MAX($D$8:D44)-1)))","v":""}]
[null,null,null,null,{"$f":"IF(A45=\"\",\"\",IF(B45=\"\",E44,IF(D45=\"\",E44,D45/MAX($D$8:D45)-1)))","v":""}]
[null,null,null,null,{"$f":"IF(A46=\"\",\"\",IF(B46=\"\",E45,IF(D46=\"\",E45,D46/MAX($D$8:D46)-1)))","v":""}]
[null,null,null,null,{"$f":"IF(A47=\"\",\"\",IF(B47=\"\",E46,IF(D47=\"\",E46,D47/MAX($D$8:D47)-1)))","v":""}]
[null,null,null,null,{"$f":"IF(A48=\"\",\"\",IF(B48=\"\",E47,IF(D48=\"\",E47,D48/MAX($D$8:D48)-1)))","v":""}]
[null,null,null,null,{"$f":"IF(A49=\"\",\"\",IF(B49=\"\",E48,IF(D49=\"\",E48,D49/MAX($D$8:D49)-1)))","v":""}]
[null,null,null,null,{"$f":"IF(A50=\"\",\"\",IF(B50=\"\",E49,IF(D50=\"\",E49,D50/MAX($D$8:D50)-1)))","v":""}]
[null,null,null,null,{"$f":"IF(A51=\"\",\"\",IF(B51=\"\",E50,IF(D51=\"\",E50,D51/MAX($D$8:D51)-1)))","v":""}]
[null,null,null,null,{"$f":"IF(A52=\"\",\"\",IF(B52=\"\",E51,IF(D52=\"\",E51,D52/MAX($D$8:D52)-1)))","v":""}]
[null,null,null,null,{"$f":"IF(A53=\"\",\"\",IF(B53=\"\",E52,IF(D53=\"\",E52,D53/MAX($D$8:D53)-1)))","v":""}]
[null,null,null,null,{"$f":"IF(A54=\"\",\"\",IF(B54=\"\",E53,IF(D54=\"\",E53,D54/MAX($D$8:D54)-1)))","v":""}]
[null,null,null,null,{"$f":"IF(A55=\"\",\"\",IF(B55=\"\",E54,IF(D55=\"\",E54,D55/MAX($D$8:D55)-1)))","v":""}]
[null,null,null,null,{"$f":"IF(A56=\"\",\"\",IF(B56=\"\",E55,IF(D56=\"\",E55,D56/MAX($D$8:D56)-1)))","v":""}]
[null,null,null,null,{"$f":"IF(A57=\"\",\"\",IF(B57=\"\",E56,IF(D57=\"\",E56,D57/MAX($D$8:D57)-1)))","v":""}]
[null,null,null,null,{"$f":"IF(A58=\"\",\"\",IF(B58=\"\",E57,IF(D58=\"\",E57,D58/MAX($D$8:D58)-1)))","v":""}]
[null,null,null,null,{"$f":"IF(A59=\"\",\"\",IF(B59=\"\",E58,IF(D59=\"\",E58,D59/MAX($D$8:D59)-1)))","v":""}]
[null,null,null,null,{"$f":"IF(A60=\"\",\"\",IF(B60=\"\",E59,IF(D60=\"\",E59,D60/MAX($D$8:D60)-1)))","v":""}]
[null,null,null,null,{"$f":"IF(A61=\"\",\"\",IF(B61=\"\",E60,IF(D61=\"\",E60,D61/MAX($D$8:D61)-1)))","v":""}]
[null,null,null,null,{"$f":"IF(A62=\"\",\"\",IF(B62=\"\",E61,IF(D62=\"\",E61,D62/MAX($D$8:D62)-1)))","v":""}]
[null,null,null,null,{"$f":"IF(A63=\"\",\"\",IF(B63=\"\",E62,IF(D63=\"\",E62,D63/MAX($D$8:D63)-1)))","v":""}]
[null,null,null,null,{"$f":"IF(A64=\"\",\"\",IF(B64=\"\",E63,IF(D64=\"\",E63,D64/MAX($D$8:D64)-1)))","v":""}]
[null,null,null,null,{"$f":"IF(A65=\"\",\"\",IF(B65=\"\",E64,IF(D65=\"\",E64,D65/MAX($D$8:D65)-1)))","v":""}]
[null,null,null,null,{"$f":"IF(A66=\"\",\"\",IF(B66=\"\",E65,IF(D66=\"\",E65,D66/MAX($D$8:D66)-1)))","v":""}]
[null,null,null,null,{"$f":"IF(A67=\"\",\"\",IF(B67=\"\",E66,IF(D67=\"\",E66,D67/MAX($D$8:D67)-1)))","v":""}]
[null,null,null,null,{"$f":"IF(A68=\"\",\"\",IF(B68=\"\",E67,IF(D68=\"\",E67,D68/MAX($D$8:D68)-1)))","v":""}]
[null,null,null,null,{"$f":"IF(A69=\"\",\"\",IF(B69=\"\",E68,IF(D69=\"\",E68,D69/MAX($D$8:D69)-1)))","v":""}]
[null,null,null,null,{"$f":"IF(A70=\"\",\"\",IF(B70=\"\",E69,IF(D70=\"\",E69,D70/MAX($D$8:D70)-1)))","v":""}]
[null,null,null,null,{"$f":"IF(A71=\"\",\"\",IF(B71=\"\",E70,IF(D71=\"\",E70,D71/MAX($D$8:D71)-1)))","v":""}]
[null,null,null,null,{"$f":"IF(A72=\"\",\"\",IF(B72=\"\",E71,IF(D72=\"\",E71,D72/MAX($D$8:D72)-1)))","v":""}]
[null,null,null,null,{"$f":"IF(A73=\"\",\"\",IF(B73=\"\",E72,IF(D73=\"\",E72,D73/MAX($D$8:D73)-1)))","v":""}]
[null,null,null,null,{"$f":"IF(A74=\"\",\"\",IF(B74=\"\",E73,IF(D74=\"\",E73,D74/MAX($D$8:D74)-1)))","v":""}]
[null,null,null,null,{"$f":"IF(A75=\"\",\"\",IF(B75=\"\",E74,IF(D75=\"\",E74,D75/MAX($D$8:D75)-1)))","v":""}]
[null,null,null,null,{"$f":"IF(A76=\"\",\"\",IF(B76=\"\",E75,IF(D76=\"\",E75,D76/MAX($D$8:D76)-1)))","v":""}]
[null,null,null,null,{"$f":"IF(A77=\"\",\"\",IF(B77=\"\",E76,IF(D77=\"\",E76,D77/MAX($D$8:D77)-1)))","v":""}]
[null,null,null,null,{"$f":"IF(A78=\"\",\"\",IF(B78=\"\",E77,IF(D78=\"\",E77,D78/MAX($D$8:D78)-1)))","v":""}]
[null,null,null,null,{"$f":"IF(A79=\"\",\"\",IF(B79=\"\",E78,IF(D79=\"\",E78,D79/MAX($D$8:D79)-1)))","v":""}]
[null,null,null,null,{"$f":"IF(A80=\"\",\"\",IF(B80=\"\",E79,IF(D80=\"\",E79,D80/MAX($D$8:D80)-1)))","v":""}]
[null,null,null,null,{"$f":"IF(A81=\"\",\"\",IF(B81=\"\",E80,IF(D81=\"\",E80,D81/MAX($D$8:D81)-1)))","v":""}]
[null,null,null,null,{"$f":"IF(A82=\"\",\"\",IF(B82=\"\",E81,IF(D82=\"\",E81,D82/MAX($D$8:D82)-1)))","v":""}]
[null,null,null,null,{"$f":"IF(A83=\"\",\"\",IF(B83=\"\",E82,IF(D83=\"\",E82,D83/MAX($D$8:D83)-1)))","v":""}]
[null,null,null,null,{"$f":"IF(A84=\"\",\"\",IF(B84=\"\",E83,IF(D84=\"\",E83,D84/MAX($D$8:D84)-1)))","v":""}]
[null,null,null,null,{"$f":"IF(A85=\"\",\"\",IF(B85=\"\",E84,IF(D85=\"\",E84,D85/MAX($D$8:D85)-1)))","v":""}]
[null,null,null,null,{"$f":"IF(A86=\"\",\"\",IF(B86=\"\",E85,IF(D86=\"\",E85,D86/MAX($D$8:D86)-1)))","v":""}]
[null,null,null,null,{"$f":"IF(A87=\"\",\"\",IF(B87=\"\",E86,IF(D87=\"\",E86,D87/MAX($D$8:D87)-1)))","v":""}]
[null,null,null,null,{"$f":"IF(A88=\"\",\"\",IF(B88=\"\",E87,IF(D88=\"\",E87,D88/MAX($D$8:D88)-1)))","v":""}]
[null,null,null,null,{"$f":"IF(A89=\"\",\"\",IF(B89=\"\",E88,IF(D89=\"\",E88,D89/MAX($D$8:D89)-1)))","v":""}]
[null,null,null,null,{"$f":"IF(A90=\"\",\"\",IF(B90=\"\",E89,IF(D90=\"\",E89,D90/MAX($D$8:D90)-1)))","v":""}]
[null,null,null,null,{"$f":"IF(A91=\"\",\"\",IF(B91=\"\",E90,IF(D91=\"\",E90,D91/MAX($D$8:D91)-1)))","v":""}]
[null,null,null,null,{"$f":"IF(A92=\"\",\"\",IF(B92=\"\",E91,IF(D92=\"\",E91,D92/MAX($D$8:D92)-1)))","v":""}]
[null,null,null,null,{"$f":"IF(A93=\"\",\"\",IF(B93=\"\",E92,IF(D93=\"\",E92,D93/MAX($D$8:D93)-1)))","v":""}]
[null,null,null,null,{"$f":"IF(A94=\"\",\"\",IF(B94=\"\",E93,IF(D94=\"\",E93,D94/MAX($D$8:D94)-1)))","v":""}]
[null,null,null,null,{"$f":"IF(A95=\"\",\"\",IF(B95=\"\",E94,IF(D95=\"\",E94,D95/MAX($D$8:D95)-1)))","v":""}]
[null,null,null,null,{"$f":"IF(A96=\"\",\"\",IF(B96=\"\",E95,IF(D96=\"\",E95,D96/MAX($D$8:D96)-1)))","v":""}]
[null,null,null,null,{"$f":"IF(A97=\"\",\"\",IF(B97=\"\",E96,IF(D97=\"\",E96,D97/MAX($D$8:D97)-1)))","v":""}]
[null,null,null,null,{"$f":"IF(A98=\"\",\"\",IF(B98=\"\",E97,IF(D98=\"\",E97,D98/MAX($D$8:D98)-1)))","v":""}]
[null,null,null,null,{"$f":"IF(A99=\"\",\"\",IF(B99=\"\",E98,IF(D99=\"\",E98,D99/MAX($D$8:D99)-1)))","v":""}]
[null,null,null,null,{"$f":"IF(A100=\"\",\"\",IF(B100=\"\",E99,IF(D100=\"\",E99,D100/MAX($D$8:D100)-1)))","v":""}]
[null,null,null,null,{"$f":"IF(A101=\"\",\"\",IF(B101=\"\",E100,IF(D101=\"\",E100,D101/MAX($D$8:D101)-1)))","v":""}]
[null,null,null,null,{"$f":"IF(A102=\"\",\"\",IF(B102=\"\",E101,IF(D102=\"\",E101,D102/MAX($D$8:D102)-1)))","v":""}]
[null,null,null,null,{"$f":"IF(A103=\"\",\"\",IF(B103=\"\",E102,IF(D103=\"\",E102,D103/MAX($D$8:D103)-1)))","v":""}]
[null,null,null,null,{"$f":"IF(A104=\"\",\"\",IF(B104=\"\",E103,IF(D104=\"\",E103,D104/MAX($D$8:D104)-1)))","v":""}]
[null,null,null,null,{"$f":"IF(A105=\"\",\"\",IF(B105=\"\",E104,IF(D105=\"\",E104,D105/MAX($D$8:D105)-1)))","v":""}]
[null,null,null,null,{"$f":"IF(A106=\"\",\"\",IF(B106=\"\",E105,IF(D106=\"\",E105,D106/MAX($D$8:D106)-1)))","v":""}]
[null,null,null,null,{"$f":"IF(A107=\"\",\"\",IF(B107=\"\",E106,IF(D107=\"\",E106,D107/MAX($D$8:D107)-1)))","v":""}]
[null,null,null,null,{"$f":"IF(A108=\"\",\"\",IF(B108=\"\",E107,IF(D108=\"\",E107,D108/MAX($D$8:D108)-1)))","v":""}]
[null,null,null,null,{"$f":"IF(A109=\"\",\"\",IF(B109=\"\",E108,IF(D109=\"\",E108,D109/MAX($D$8:D109)-1)))","v":""}]
[null,null,null,null,{"$f":"IF(A110=\"\",\"\",IF(B110=\"\",E109,IF(D110=\"\",E109,D110/MAX($D$8:D110)-1)))","v":""}]
[null,null,null,null,{"$f":"IF(A111=\"\",\"\",IF(B111=\"\",E110,IF(D111=\"\",E110,D111/MAX($D$8:D111)-1)))","v":""}]
[null,null,null,null,{"$f":"IF(A112=\"\",\"\",IF(B112=\"\",E111,IF(D112=\"\",E111,D112/MAX($D$8:D112)-1)))","v":""}]
[null,null,null,null,{"$f":"IF(A113=\"\",\"\",IF(B113=\"\",E112,IF(D113=\"\",E112,D113/MAX($D$8:D113)-1)))","v":""}]
[null,null,null,null,{"$f":"IF(A114=\"\",\"\",IF(B114=\"\",E113,IF(D114=\"\",E113,D114/MAX($D$8:D114)-1)))","v":""}]
[null,null,null,null,{"$f":"IF(A115=\"\",\"\",IF(B115=\"\",E114,IF(D115=\"\",E114,D115/MAX($D$8:D115)-1)))","v":""}]
[null,null,null,null,{"$f":"IF(A116=\"\",\"\",IF(B116=\"\",E115,IF(D116=\"\",E115,D116/MAX($D$8:D116)-1)))","v":""}]
[null,null,null,null,{"$f":"IF(A117=\"\",\"\",IF(B117=\"\",E116,IF(D117=\"\",E116,D117/MAX($D$8:D117)-1)))","v":""}]
[null,null,null,null,{"$f":"IF(A118=\"\",\"\",IF(B118=\"\",E117,IF(D118=\"\",E117,D118/MAX($D$8:D118)-1)))","v":""}]
[null,null,null,null,{"$f":"IF(A119=\"\",\"\",IF(B119=\"\",E118,IF(D119=\"\",E118,D119/MAX($D$8:D119)-1)))","v":""}]
[null,null,null,null,{"$f":"IF(A120=\"\",\"\",IF(B120=\"\",E119,IF(D120=\"\",E119,D120/MAX($D$8:D120)-1)))","v":""}]
[null,null,null,null,{"$f":"IF(A121=\"\",\"\",IF(B121=\"\",E120,IF(D121=\"\",E120,D121/MAX($D$8:D121)-1)))","v":""}]
[null,null,null,null,{"$f":"IF(A122=\"\",\"\",IF(B122=\"\",E121,IF(D122=\"\",E121,D122/MAX($D$8:D122)-1)))","v":""}]
[null,null,null,null,{"$f":"IF(A123=\"\",\"\",IF(B123=\"\",E122,IF(D123=\"\",E122,D123/MAX($D$8:D123)-1)))","v":""}]
[null,null,null,null,{"$f":"IF(A124=\"\",\"\",IF(B124=\"\",E123,IF(D124=\"\",E123,D124/MAX($D$8:D124)-1)))","v":""}]
[null,null,null,null,{"$f":"IF(A125=\"\",\"\",IF(B125=\"\",E124,IF(D125=\"\",E124,D125/MAX($D$8:D125)-1)))","v":""}]
[null,null,null,null,{"$f":"IF(A126=\"\",\"\",IF(B126=\"\",E125,IF(D126=\"\",E125,D126/MAX($D$8:D126)-1)))","v":""}]
[null,null,null,null,{"$f":"IF(A127=\"\",\"\",IF(B127=\"\",E126,IF(D127=\"\",E126,D127/MAX($D$8:D127)-1)))","v":""}]
[null,null,null,null,{"$f":"IF(A128=\"\",\"\",IF(B128=\"\",E127,IF(D128=\"\",E127,D128/MAX($D$8:D128)-1)))","v":""}]
[null,null,null,null,{"$f":"IF(A129=\"\",\"\",IF(B129=\"\",E128,IF(D129=\"\",E128,D129/MAX($D$8:D129)-1)))","v":""}]
[null,null,null,null,{"$f":"IF(A130=\"\",\"\",IF(B130=\"\",E129,IF(D130=\"\",E129,D130/MAX($D$8:D130)-1)))","v":""}]
[null,null,null,null,{"$f":"IF(A131=\"\",\"\",IF(B131=\"\",E130,IF(D131=\"\",E130,D131/MAX($D$8:D131)-1)))","v":""}]
[null,null,null,null,{"$f":"IF(A132=\"\",\"\",IF(B132=\"\",E131,IF(D132=\"\",E131,D132/MAX($D$8:D132)-1)))","v":""}]
[null,null,null,null,{"$f":"IF(A133=\"\",\"\",IF(B133=\"\",E132,IF(D133=\"\",E132,D133/MAX($D$8:D133)-1)))","v":""}]
[null,null,null,null,{"$f":"IF(A134=\"\",\"\",IF(B134=\"\",E133,IF(D134=\"\",E133,D134/MAX($D$8:D134)-1)))","v":""}]
[null,null,null,null,{"$f":"IF(A135=\"\",\"\",IF(B135=\"\",E134,IF(D135=\"\",E134,D135/MAX($D$8:D135)-1)))","v":""}]
[null,null,null,null,{"$f":"IF(A136=\"\",\"\",IF(B136=\"\",E135,IF(D136=\"\",E135,D136/MAX($D$8:D136)-1)))","v":""}]
[null,null,null,null,{"$f":"IF(A137=\"\",\"\",IF(B137=\"\",E136,IF(D137=\"\",E136,D137/MAX($D$8:D137)-1)))","v":""}]
[null,null,null,null,{"$f":"IF(A138=\"\",\"\",IF(B138=\"\",E137,IF(D138=\"\",E137,D138/MAX($D$8:D138)-1)))","v":""}]
[null,null,null,null,{"$f":"IF(A139=\"\",\"\",IF(B139=\"\",E138,IF(D139=\"\",E138,D139/MAX($D$8:D139)-1)))","v":""}]
[null,null,null,null,{"$f":"IF(A140=\"\",\"\",IF(B140=\"\",E139,IF(D140=\"\",E139,D140/MAX($D$8:D140)-1)))","v":""}]
[null,null,null,null,{"$f":"IF(A141=\"\",\"\",IF(B141=\"\",E140,IF(D141=\"\",E140,D141/MAX($D$8:D141)-1)))","v":""}]
[null,null,null,null,{"$f":"IF(A142=\"\",\"\",IF(B142=\"\",E141,IF(D142=\"\",E141,D142/MAX($D$8:D142)-1)))","v":""}]
[null,null,null,null,{"$f":"IF(A143=\"\",\"\",IF(B143=\"\",E142,IF(D143=\"\",E142,D143/MAX($D$8:D143)-1)))","v":""}]
[null,null,null,null,{"$f":"IF(A144=\"\",\"\",IF(B144=\"\",E143,IF(D144=\"\",E143,D144/MAX($D$8:D144)-1)))","v":""}]
[null,null,null,null,{"$f":"IF(A145=\"\",\"\",IF(B145=\"\",E144,IF(D145=\"\",E144,D145/MAX($D$8:D145)-1)))","v":""}]
[null,null,null,null,{"$f":"IF(A146=\"\",\"\",IF(B146=\"\",E145,IF(D146=\"\",E145,D146/MAX($D$8:D146)-1)))","v":""}]
[null,null,null,null,{"$f":"IF(A147=\"\",\"\",IF(B147=\"\",E146,IF(D147=\"\",E146,D147/MAX($D$8:D147)-1)))","v":""}]
[null,null,null,null,{"$f":"IF(A148=\"\",\"\",IF(B148=\"\",E147,IF(D148=\"\",E147,D148/MAX($D$8:D148)-1)))","v":""}]
[null,null,null,null,{"$f":"IF(A149=\"\",\"\",IF(B149=\"\",E148,IF(D149=\"\",E148,D149/MAX($D$8:D149)-1)))","v":""}]
[null,null,null,null,{"$f":"IF(A150=\"\",\"\",IF(B150=\"\",E149,IF(D150=\"\",E149,D150/MAX($D$8:D150)-1)))","v":""}]
[null,null,null,null,{"$f":"IF(A151=\"\",\"\",IF(B151=\"\",E150,IF(D151=\"\",E150,D151/MAX($D$8:D151)-1)))","v":""}]
[null,null,null,null,{"$f":"IF(A152=\"\",\"\",IF(B152=\"\",E151,IF(D152=\"\",E151,D152/MAX($D$8:D152)-1)))","v":""}]
[null,null,null,null,{"$f":"IF(A153=\"\",\"\",IF(B153=\"\",E152,IF(D153=\"\",E152,D153/MAX($D$8:D153)-1)))","v":""}]
[null,null,null,null,{"$f":"IF(A154=\"\",\"\",IF(B154=\"\",E153,IF(D154=\"\",E153,D154/MAX($D$8:D154)-1)))","v":""}]
[null,null,null,null,{"$f":"IF(A155=\"\",\"\",IF(B155=\"\",E154,IF(D155=\"\",E154,D155/MAX($D$8:D155)-1)))","v":""}]
[null,null,null,null,{"$f":"IF(A156=\"\",\"\",IF(B156=\"\",E155,IF(D156=\"\",E155,D156/MAX($D$8:D156)-1)))","v":""}]
[null,null,null,null,{"$f":"IF(A157=\"\",\"\",IF(B157=\"\",E156,IF(D157=\"\",E156,D157/MAX($D$8:D157)-1)))","v":""}]
[null,null,null,null,{"$f":"IF(A158=\"\",\"\",IF(B158=\"\",E157,IF(D158=\"\",E157,D158/MAX($D$8:D158)-1)))","v":""}]
[null,null,null,null,{"$f":"IF(A159=\"\",\"\",IF(B159=\"\",E158,IF(D159=\"\",E158,D159/MAX($D$8:D159)-1)))","v":""}]
[null,null,null,null,{"$f":"IF(A160=\"\",\"\",IF(B160=\"\",E159,IF(D160=\"\",E159,D160/MAX($D$8:D160)-1)))","v":""}]
[null,null,null,null,{"$f":"IF(A161=\"\",\"\",IF(B161=\"\",E160,IF(D161=\"\",E160,D161/MAX($D$8:D161)-1)))","v":""}]
[null,null,null,null,{"$f":"IF(A162=\"\",\"\",IF(B162=\"\",E161,IF(D162=\"\",E161,D162/MAX($D$8:D162)-1)))","v":""}]
[null,null,null,null,{"$f":"IF(A163=\"\",\"\",IF(B163=\"\",E162,IF(D163=\"\",E162,D163/MAX($D$8:D163)-1)))","v":""}]
[null,null,null,null,{"$f":"IF(A164=\"\",\"\",IF(B164=\"\",E163,IF(D164=\"\",E163,D164/MAX($D$8:D164)-1)))","v":""}]
[null,null,null,null,{"$f":"IF(A165=\"\",\"\",IF(B165=\"\",E164,IF(D165=\"\",E164,D165/MAX($D$8:D165)-1)))","v":""}]
[null,null,null,null,{"$f":"IF(A166=\"\",\"\",IF(B166=\"\",E165,IF(D166=\"\",E165,D166/MAX($D$8:D166)-1)))","v":""}]
[null,null,null,null,{"$f":"IF(A167=\"\",\"\",IF(B167=\"\",E166,IF(D167=\"\",E166,D167/MAX($D$8:D167)-1)))","v":""}]
[null,null,null,null,{"$f":"IF(A168=\"\",\"\",IF(B168=\"\",E167,IF(D168=\"\",E167,D168/MAX($D$8:D168)-1)))","v":""}]
[null,null,null,null,{"$f":"IF(A169=\"\",\"\",IF(B169=\"\",E168,IF(D169=\"\",E168,D169/MAX($D$8:D169)-1)))","v":""}]
[null,null,null,null,{"$f":"IF(A170=\"\",\"\",IF(B170=\"\",E169,IF(D170=\"\",E169,D170/MAX($D$8:D170)-1)))","v":""}]
[null,null,null,null,{"$f":"IF(A171=\"\",\"\",IF(B171=\"\",E170,IF(D171=\"\",E170,D171/MAX($D$8:D171)-1)))","v":""}]
[null,null,null,null,{"$f":"IF(A172=\"\",\"\",IF(B172=\"\",E171,IF(D172=\"\",E171,D172/MAX($D$8:D172)-1)))","v":""}]
[null,null,null,null,{"$f":"IF(A173=\"\",\"\",IF(B173=\"\",E172,IF(D173=\"\",E172,D173/MAX($D$8:D173)-1)))","v":""}]
[null,null,null,null,{"$f":"IF(A174=\"\",\"\",IF(B174=\"\",E173,IF(D174=\"\",E173,D174/MAX($D$8:D174)-1)))","v":""}]
[null,null,null,null,{"$f":"IF(A175=\"\",\"\",IF(B175=\"\",E174,IF(D175=\"\",E174,D175/MAX($D$8:D175)-1)))","v":""}]
[null,null,null,null,{"$f":"IF(A176=\"\",\"\",IF(B176=\"\",E175,IF(D176=\"\",E175,D176/MAX($D$8:D176)-1)))","v":""}]
[null,null,null,null,{"$f":"IF(A177=\"\",\"\",IF(B177=\"\",E176,IF(D177=\"\",E176,D177/MAX($D$8:D177)-1)))","v":""}]
[null,null,null,null,{"$f":"IF(A178=\"\",\"\",IF(B178=\"\",E177,IF(D178=\"\",E177,D178/MAX($D$8:D178)-1)))","v":""}]
[null,null,null,null,{"$f":"IF(A179=\"\",\"\",IF(B179=\"\",E178,IF(D179=\"\",E178,D179/MAX($D$8:D179)-1)))","v":""}]
[null,null,null,null,{"$f":"IF(A180=\"\",\"\",IF(B180=\"\",E179,IF(D180=\"\",E179,D180/MAX($D$8:D180)-1)))","v":""}]
[null,null,null,null,{"$f":"IF(A181=\"\",\"\",IF(B181=\"\",E180,IF(D181=\"\",E180,D181/MAX($D$8:D181)-1)))","v":""}]
[null,null,null,null,{"$f":"IF(A182=\"\",\"\",IF(B182=\"\",E181,IF(D182=\"\",E181,D182/MAX($D$8:D182)-1)))","v":""}]
[null,null,null,null,{"$f":"IF(A183=\"\",\"\",IF(B183=\"\",E182,IF(D183=\"\",E182,D183/MAX($D$8:D183)-1)))","v":""}]
[null,null,null,null,{"$f":"IF(A184=\"\",\"\",IF(B184=\"\",E183,IF(D184=\"\",E183,D184/MAX($D$8:D184)-1)))","v":""}]
[null,null,null,null,{"$f":"IF(A185=\"\",\"\",IF(B185=\"\",E184,IF(D185=\"\",E184,D185/MAX($D$8:D185)-1)))","v":""}]
[null,null,null,null,{"$f":"IF(A186=\"\",\"\",IF(B186=\"\",E185,IF(D186=\"\",E185,D186/MAX($D$8:D186)-1)))","v":""}]
[null,null,null,null,{"$f":"IF(A187=\"\",\"\",IF(B187=\"\",E186,IF(D187=\"\",E186,D187/MAX($D$8:D187)-1)))","v":""}]
[null,null,null,null,{"$f":"IF(A188=\"\",\"\",IF(B188=\"\",E187,IF(D188=\"\",E187,D188/MAX($D$8:D188)-1)))","v":""}]
[null,null,null,null,{"$f":"IF(A189=\"\",\"\",IF(B189=\"\",E188,IF(D189=\"\",E188,D189/MAX($D$8:D189)-1)))","v":""}]
[null,null,null,null,{"$f":"IF(A190=\"\",\"\",IF(B190=\"\",E189,IF(D190=\"\",E189,D190/MAX($D$8:D190)-1)))","v":""}]
[null,null,null,null,{"$f":"IF(A191=\"\",\"\",IF(B191=\"\",E190,IF(D191=\"\",E190,D191/MAX($D$8:D191)-1)))","v":""}]
[null,null,null,null,{"$f":"IF(A192=\"\",\"\",IF(B192=\"\",E191,IF(D192=\"\",E191,D192/MAX($D$8:D192)-1)))","v":""}]
[null,null,null,null,{"$f":"IF(A193=\"\",\"\",IF(B193=\"\",E192,IF(D193=\"\",E192,D193/MAX($D$8:D193)-1)))","v":""}]
[null,null,null,null,{"$f":"IF(A194=\"\",\"\",IF(B194=\"\",E193,IF(D194=\"\",E193,D194/MAX($D$8:D194)-1)))","v":""}]
[null,null,null,null,{"$f":"IF(A195=\"\",\"\",IF(B195=\"\",E194,IF(D195=\"\",E194,D195/MAX($D$8:D195)-1)))","v":""}]
[null,null,null,null,{"$f":"IF(A196=\"\",\"\",IF(B196=\"\",E195,IF(D196=\"\",E195,D196/MAX($D$8:D196)-1)))","v":""}]
[null,null,null,null,{"$f":"IF(A197=\"\",\"\",IF(B197=\"\",E196,IF(D197=\"\",E196,D197/MAX($D$8:D197)-1)))","v":""}]
[null,null,null,null,{"$f":"IF(A198=\"\",\"\",IF(B198=\"\",E197,IF(D198=\"\",E197,D198/MAX($D$8:D198)-1)))","v":""}]
[null,null,null,null,{"$f":"IF(A199=\"\",\"\",IF(B199=\"\",E198,IF(D199=\"\",E198,D199/MAX($D$8:D199)-1)))","v":""}]
[null,null,null,null,{"$f":"IF(A200=\"\",\"\",IF(B200=\"\",E199,IF(D200=\"\",E199,D200/MAX($D$8:D200)-1)))","v":""}]
[null,null,null,null,{"$f":"IF(A201=\"\",\"\",IF(B201=\"\",E200,IF(D201=\"\",E200,D201/MAX($D$8:D201)-1)))","v":""}]
[null,null,null,null,{"$f":"IF(A202=\"\",\"\",IF(B202=\"\",E201,IF(D202=\"\",E201,D202/MAX($D$8:D202)-1)))","v":""}]
[null,null,null,null,{"$f":"IF(A203=\"\",\"\",IF(B203=\"\",E202,IF(D203=\"\",E202,D203/MAX($D$8:D203)-1)))","v":""}]
[null,null,null,null,{"$f":"IF(A204=\"\",\"\",IF(B204=\"\",E203,IF(D204=\"\",E203,D204/MAX($D$8:D204)-1)))","v":""}]
[null,null,null,null,{"$f":"IF(A205=\"\",\"\",IF(B205=\"\",E204,IF(D205=\"\",E204,D205/MAX($D$8:D205)-1)))","v":""}]
[null,null,null,null,{"$f":"IF(A206=\"\",\"\",IF(B206=\"\",E205,IF(D206=\"\",E205,D206/MAX($D$8:D206)-1)))","v":""}]
[null,null,null,null,{"$f":"IF(A207=\"\",\"\",IF(B207=\"\",E206,IF(D207=\"\",E206,D207/MAX($D$8:D207)-1)))","v":""}]
[null,null,null,null,{"$f":"IF(A208=\"\",\"\",IF(B208=\"\",E207,IF(D208=\"\",E207,D208/MAX($D$8:D208)-1)))","v":""}]
[null,null,null,null,{"$f":"IF(A209=\"\",\"\",IF(B209=\"\",E208,IF(D209=\"\",E208,D209/MAX($D$8:D209)-1)))","v":""}]
[null,null,null,null,{"$f":"IF(A210=\"\",\"\",IF(B210=\"\",E209,IF(D210=\"\",E209,D210/MAX($D$8:D210)-1)))","v":""}]
[null,null,null,null,{"$f":"IF(A211=\"\",\"\",IF(B211=\"\",E210,IF(D211=\"\",E210,D211/MAX($D$8:D211)-1)))","v":""}]
[null,null,null,null,{"$f":"IF(A212=\"\",\"\",IF(B212=\"\",E211,IF(D212=\"\",E211,D212/MAX($D$8:D212)-1)))","v":""}]
[null,null,null,null,{"$f":"IF(A213=\"\",\"\",IF(B213=\"\",E212,IF(D213=\"\",E212,D213/MAX($D$8:D213)-1)))","v":""}]
[null,null,null,null,{"$f":"IF(A214=\"\",\"\",IF(B214=\"\",E213,IF(D214=\"\",E213,D214/MAX($D$8:D214)-1)))","v":""}]
[null,null,null,null,{"$f":"IF(A215=\"\",\"\",IF(B215=\"\",E214,IF(D215=\"\",E214,D215/MAX($D$8:D215)-1)))","v":""}]
[null,null,null,null,{"$f":"IF(A216=\"\",\"\",IF(B216=\"\",E215,IF(D216=\"\",E215,D216/MAX($D$8:D216)-1)))","v":""}]
[null,null,null,null,{"$f":"IF(A217=\"\",\"\",IF(B217=\"\",E216,IF(D217=\"\",E216,D217/MAX($D$8:D217)-1)))","v":""}]
[null,null,null,null,{"$f":"IF(A218=\"\",\"\",IF(B218=\"\",E217,IF(D218=\"\",E217,D218/MAX($D$8:D218)-1)))","v":""}]
[null,null,null,null,{"$f":"IF(A219=\"\",\"\",IF(B219=\"\",E218,IF(D219=\"\",E218,D219/MAX($D$8:D219)-1)))","v":""}]
[null,null,null,null,{"$f":"IF(A220=\"\",\"\",IF(B220=\"\",E219,IF(D220=\"\",E219,D220/MAX($D$8:D220)-1)))","v":""}]
[null,null,null,null,{"$f":"IF(A221=\"\",\"\",IF(B221=\"\",E220,IF(D221=\"\",E220,D221/MAX($D$8:D221)-1)))","v":""}]
[null,null,null,null,{"$f":"IF(A222=\"\",\"\",IF(B222=\"\",E221,IF(D222=\"\",E221,D222/MAX($D$8:D222)-1)))","v":""}]
[null,null,null,null,{"$f":"IF(A223=\"\",\"\",IF(B223=\"\",E222,IF(D223=\"\",E222,D223/MAX($D$8:D223)-1)))","v":""}]
[null,null,null,null,{"$f":"IF(A224=\"\",\"\",IF(B224=\"\",E223,IF(D224=\"\",E223,D224/MAX($D$8:D224)-1)))","v":""}]
[null,null,null,null,{"$f":"IF(A225=\"\",\"\",IF(B225=\"\",E224,IF(D225=\"\",E224,D225/MAX($D$8:D225)-1)))","v":""}]
[null,null,null,null,{"$f":"IF(A226=\"\",\"\",IF(B226=\"\",E225,IF(D226=\"\",E225,D226/MAX($D$8:D226)-1)))","v":""}]
[null,null,null,null,{"$f":"IF(A227=\"\",\"\",IF(B227=\"\",E226,IF(D227=\"\",E226,D227/MAX($D$8:D227)-1)))","v":""}]
[null,null,null,null,{"$f":"IF(A228=\"\",\"\",IF(B228=\"\",E227,IF(D228=\"\",E227,D228/MAX($D$8:D228)-1)))","v":""}]
[null,null,null,null,{"$f":"IF(A229=\"\",\"\",IF(B229=\"\",E228,IF(D229=\"\",E228,D229/MAX($D$8:D229)-1)))","v":""}]
[null,null,null,null,{"$f":"IF(A230=\"\",\"\",IF(B230=\"\",E229,IF(D230=\"\",E229,D230/MAX($D$8:D230)-1)))","v":""}]
[null,null,null,null,{"$f":"IF(A231=\"\",\"\",IF(B231=\"\",E230,IF(D231=\"\",E230,D231/MAX($D$8:D231)-1)))","v":""}]
[null,null,null,null,{"$f":"IF(A232=\"\",\"\",IF(B232=\"\",E231,IF(D232=\"\",E231,D232/MAX($D$8:D232)-1)))","v":""}]
[null,null,null,null,{"$f":"IF(A233=\"\",\"\",IF(B233=\"\",E232,IF(D233=\"\",E232,D233/MAX($D$8:D233)-1)))","v":""}]
[null,null,null,null,{"$f":"IF(A234=\"\",\"\",IF(B234=\"\",E233,IF(D234=\"\",E233,D234/MAX($D$8:D234)-1)))","v":""}]
[null,null,null,null,{"$f":"IF(A235=\"\",\"\",IF(B235=\"\",E234,IF(D235=\"\",E234,D235/MAX($D$8:D235)-1)))","v":""}]
[null,null,null,null,{"$f":"IF(A236=\"\",\"\",IF(B236=\"\",E235,IF(D236=\"\",E235,D236/MAX($D$8:D236)-1)))","v":""}]
[null,null,null,null,{"$f":"IF(A237=\"\",\"\",IF(B237=\"\",E236,IF(D237=\"\",E236,D237/MAX($D$8:D237)-1)))","v":""}]
[null,null,null,null,{"$f":"IF(A238=\"\",\"\",IF(B238=\"\",E237,IF(D238=\"\",E237,D238/MAX($D$8:D238)-1)))","v":""}]
[null,null,null,null,{"$f":"IF(A239=\"\",\"\",IF(B239=\"\",E238,IF(D239=\"\",E238,D239/MAX($D$8:D239)-1)))","v":""}]
[null,null,null,null,{"$f":"IF(A240=\"\",\"\",IF(B240=\"\",E239,IF(D240=\"\",E239,D240/MAX($D$8:D240)-1)))","v":""}]
[null,null,null,null,{"$f":"IF(A241=\"\",\"\",IF(B241=\"\",E240,IF(D241=\"\",E240,D241/MAX($D$8:D241)-1)))","v":""}]
[null,null,null,null,{"$f":"IF(A242=\"\",\"\",IF(B242=\"\",E241,IF(D242=\"\",E241,D242/MAX($D$8:D242)-1)))","v":""}]
[null,null,null,null,{"$f":"IF(A243=\"\",\"\",IF(B243=\"\",E242,IF(D243=\"\",E242,D243/MAX($D$8:D243)-1)))","v":""}]
[null,null,null,null,{"$f":"IF(A244=\"\",\"\",IF(B244=\"\",E243,IF(D244=\"\",E243,D244/MAX($D$8:D244)-1)))","v":""}]
[null,null,null,null,{"$f":"IF(A245=\"\",\"\",IF(B245=\"\",E244,IF(D245=\"\",E244,D245/MAX($D$8:D245)-1)))","v":""}]
[null,null,null,null,{"$f":"IF(A246=\"\",\"\",IF(B246=\"\",E245,IF(D246=\"\",E245,D246/MAX($D$8:D246)-1)))","v":""}]
[null,null,null,null,{"$f":"IF(A247=\"\",\"\",IF(B247=\"\",E246,IF(D247=\"\",E246,D247/MAX($D$8:D247)-1)))","v":""}]
[null,null,null,null,{"$f":"IF(A248=\"\",\"\",IF(B248=\"\",E247,IF(D248=\"\",E247,D248/MAX($D$8:D248)-1)))","v":""}]
[null,null,null,null,{"$f":"IF(A249=\"\",\"\",IF(B249=\"\",E248,IF(D249=\"\",E248,D249/MAX($D$8:D249)-1)))","v":""}]
[null,null,null,null,{"$f":"IF(A250=\"\",\"\",IF(B250=\"\",E249,IF(D250=\"\",E249,D250/MAX($D$8:D250)-1)))","v":""}]
[null,null,null,null,{"$f":"IF(A251=\"\",\"\",IF(B251=\"\",E250,IF(D251=\"\",E250,D251/MAX($D$8:D251)-1)))","v":""}]
[null,null,null,null,{"$f":"IF(A252=\"\",\"\",IF(B252=\"\",E251,IF(D252=\"\",E251,D252/MAX($D$8:D252)-1)))","v":""}]
[null,null,null,null,{"$f":"IF(A253=\"\",\"\",IF(B253=\"\",E252,IF(D253=\"\",E252,D253/MAX($D$8:D253)-1)))","v":""}]
[null,null,null,null,{"$f":"IF(A254=\"\",\"\",IF(B254=\"\",E253,IF(D254=\"\",E253,D254/MAX($D$8:D254)-1)))","v":""}]
[null,null,null,null,{"$f":"IF(A255=\"\",\"\",IF(B255=\"\",E254,IF(D255=\"\",E254,D255/MAX($D$8:D255)-1)))","v":""}]
[null,null,null,null,{"$f":"IF(A256=\"\",\"\",IF(B256=\"\",E255,IF(D256=\"\",E255,D256/MAX($D$8:D256)-1)))","v":""}]
[null,null,null,null,{"$f":"IF(A257=\"\",\"\",IF(B257=\"\",E256,IF(D257=\"\",E256,D257/MAX($D$8:D257)-1)))","v":""}]
[null,null,null,null,{"$f":"IF(A258=\"\",\"\",IF(B258=\"\",E257,IF(D258=\"\",E257,D258/MAX($D$8:D258)-1)))","v":""}]
[null,null,null,null,{"$f":"IF(A259=\"\",\"\",IF(B259=\"\",E258,IF(D259=\"\",E258,D259/MAX($D$8:D259)-1)))","v":""}]
[null,null,null,null,{"$f":"IF(A260=\"\",\"\",IF(B260=\"\",E259,IF(D260=\"\",E259,D260/MAX($D$8:D260)-1)))","v":""}]
[null,null,null,null,{"$f":"IF(A261=\"\",\"\",IF(B261=\"\",E260,IF(D261=\"\",E260,D261/MAX($D$8:D261)-1)))","v":""}]
[null,null,null,null,{"$f":"IF(A262=\"\",\"\",IF(B262=\"\",E261,IF(D262=\"\",E261,D262/MAX($D$8:D262)-1)))","v":""}]
[null,null,null,null,{"$f":"IF(A263=\"\",\"\",IF(B263=\"\",E262,IF(D263=\"\",E262,D263/MAX($D$8:D263)-1)))","v":""}]
[null,null,null,null,{"$f":"IF(A264=\"\",\"\",IF(B264=\"\",E263,IF(D264=\"\",E263,D264/MAX($D$8:D264)-1)))","v":""}]
[null,null,null,null,{"$f":"IF(A265=\"\",\"\",IF(B265=\"\",E264,IF(D265=\"\",E264,D265/MAX($D$8:D265)-1)))","v":""}]
[null,null,null,null,{"$f":"IF(A266=\"\",\"\",IF(B266=\"\",E265,IF(D266=\"\",E265,D266/MAX($D$8:D266)-1)))","v":""}]
[null,null,null,null,{"$f":"IF(A267=\"\",\"\",IF(B267=\"\",E266,IF(D267=\"\",E266,D267/MAX($D$8:D267)-1)))","v":""}]
[null,null,null,null,{"$f":"IF(A268=\"\",\"\",IF(B268=\"\",E267,IF(D268=\"\",E267,D268/MAX($D$8:D268)-1)))","v":""}]
[null,null,null,null,{"$f":"IF(A269=\"\",\"\",IF(B269=\"\",E268,IF(D269=\"\",E268,D269/MAX($D$8:D269)-1)))","v":""}]
[null,null,null,null,{"$f":"IF(A270=\"\",\"\",IF(B270=\"\",E269,IF(D270=\"\",E269,D270/MAX($D$8:D270)-1)))","v":""}]
[null,null,null,null,{"$f":"IF(A271=\"\",\"\",IF(B271=\"\",E270,IF(D271=\"\",E270,D271/MAX($D$8:D271)-1)))","v":""}]
[null,null,null,null,{"$f":"IF(A272=\"\",\"\",IF(B272=\"\",E271,IF(D272=\"\",E271,D272/MAX($D$8:D272)-1)))","v":""}]
[null,null,null,null,{"$f":"IF(A273=\"\",\"\",IF(B273=\"\",E272,IF(D273=\"\",E272,D273/MAX($D$8:D273)-1)))","v":""}]
[null,null,null,null,{"$f":"IF(A274=\"\",\"\",IF(B274=\"\",E273,IF(D274=\"\",E273,D274/MAX($D$8:D274)-1)))","v":""}]
[null,null,null,null,{"$f":"IF(A275=\"\",\"\",IF(B275=\"\",E274,IF(D275=\"\",E274,D275/MAX($D$8:D275)-1)))","v":""}]
[null,null,null,null,{"$f":"IF(A276=\"\",\"\",IF(B276=\"\",E275,IF(D276=\"\",E275,D276/MAX($D$8:D276)-1)))","v":""}]
[null,null,null,null,{"$f":"IF(A277=\"\",\"\",IF(B277=\"\",E276,IF(D277=\"\",E276,D277/MAX($D$8:D277)-1)))","v":""}]
[null,null,null,null,{"$f":"IF(A278=\"\",\"\",IF(B278=\"\",E277,IF(D278=\"\",E277,D278/MAX($D$8:D278)-1)))","v":""}]
[null,null,null,null,{"$f":"IF(A279=\"\",\"\",IF(B279=\"\",E278,IF(D279=\"\",E278,D279/MAX($D$8:D279)-1)))","v":""}]
[null,null,null,null,{"$f":"IF(A280=\"\",\"\",IF(B280=\"\",E279,IF(D280=\"\",E279,D280/MAX($D$8:D280)-1)))","v":""}]
[null,null,null,null,{"$f":"IF(A281=\"\",\"\",IF(B281=\"\",E280,IF(D281=\"\",E280,D281/MAX($D$8:D281)-1)))","v":""}]
[null,null,null,null,{"$f":"IF(A282=\"\",\"\",IF(B282=\"\",E281,IF(D282=\"\",E281,D282/MAX($D$8:D282)-1)))","v":""}]
[null,null,null,null,{"$f":"IF(A283=\"\",\"\",IF(B283=\"\",E282,IF(D283=\"\",E282,D283/MAX($D$8:D283)-1)))","v":""}]
[null,null,null,null,{"$f":"IF(A284=\"\",\"\",IF(B284=\"\",E283,IF(D284=\"\",E283,D284/MAX($D$8:D284)-1)))","v":""}]
[null,null,null,null,{"$f":"IF(A285=\"\",\"\",IF(B285=\"\",E284,IF(D285=\"\",E284,D285/MAX($D$8:D285)-1)))","v":""}]
[null,null,null,null,{"$f":"IF(A286=\"\",\"\",IF(B286=\"\",E285,IF(D286=\"\",E285,D286/MAX($D$8:D286)-1)))","v":""}]
[null,null,null,null,{"$f":"IF(A287=\"\",\"\",IF(B287=\"\",E286,IF(D287=\"\",E286,D287/MAX($D$8:D287)-1)))","v":""}]
[null,null,null,null,{"$f":"IF(A288=\"\",\"\",IF(B288=\"\",E287,IF(D288=\"\",E287,D288/MAX($D$8:D288)-1)))","v":""}]
[null,null,null,null,{"$f":"IF(A289=\"\",\"\",IF(B289=\"\",E288,IF(D289=\"\",E288,D289/MAX($D$8:D289)-1)))","v":""}]
[null,null,null,null,{"$f":"IF(A290=\"\",\"\",IF(B290=\"\",E289,IF(D290=\"\",E289,D290/MAX($D$8:D290)-1)))","v":""}]
[null,null,null,null,{"$f":"IF(A291=\"\",\"\",IF(B291=\"\",E290,IF(D291=\"\",E290,D291/MAX($D$8:D291)-1)))","v":""}]
[null,null,null,null,{"$f":"IF(A292=\"\",\"\",IF(B292=\"\",E291,IF(D292=\"\",E291,D292/MAX($D$8:D292)-1)))","v":""}]
[null,null,null,null,{"$f":"IF(A293=\"\",\"\",IF(B293=\"\",E292,IF(D293=\"\",E292,D293/MAX($D$8:D293)-1)))","v":""}]
[null,null,null,null,{"$f":"IF(A294=\"\",\"\",IF(B294=\"\",E293,IF(D294=\"\",E293,D294/MAX($D$8:D294)-1)))","v":""}]
[null,null,null,null,{"$f":"IF(A295=\"\",\"\",IF(B295=\"\",E294,IF(D295=\"\",E294,D295/MAX($D$8:D295)-1)))","v":""}]
[null,null,null,null,{"$f":"IF(A296=\"\",\"\",IF(B296=\"\",E295,IF(D296=\"\",E295,D296/MAX($D$8:D296)-1)))","v":""}]
[null,null,null,null,{"$f":"IF(A297=\"\",\"\",IF(B297=\"\",E296,IF(D297=\"\",E296,D297/MAX($D$8:D297)-1)))","v":""}]
[null,null,null,null,{"$f":"IF(A298=\"\",\"\",IF(B298=\"\",E297,IF(D298=\"\",E297,D298/MAX($D$8:D298)-1)))","v":""}]
[null,null,null,null,{"$f":"IF(A299=\"\",\"\",IF(B299=\"\",E298,IF(D299=\"\",E298,D299/MAX($D$8:D299)-1)))","v":""}]
[null,null,null,null,{"$f":"IF(A300=\"\",\"\",IF(B300=\"\",E299,IF(D300=\"\",E299,D300/MAX($D$8:D300)-1)))","v":""}]
[null,null,null,null,{"$f":"IF(A301=\"\",\"\",IF(B301=\"\",E300,IF(D301=\"\",E300,D301/MAX($D$8:D301)-1)))","v":""}]
[null,null,null,null,{"$f":"IF(A302=\"\",\"\",IF(B302=\"\",E301,IF(D302=\"\",E301,D302/MAX($D$8:D302)-1)))","v":""}]
[null,null,null,null,{"$f":"IF(A303=\"\",\"\",IF(B303=\"\",E302,IF(D303=\"\",E302,D303/MAX($D$8:D303)-1)))","v":""}]
[null,null,null,null,{"$f":"IF(A304=\"\",\"\",IF(B304=\"\",E303,IF(D304=\"\",E303,D304/MAX($D$8:D304)-1)))","v":""}]
[null,null,null,null,{"$f":"IF(A305=\"\",\"\",IF(B305=\"\",E304,IF(D305=\"\",E304,D305/MAX($D$8:D305)-1)))","v":""}]
[null,null,null,null,{"$f":"IF(A306=\"\",\"\",IF(B306=\"\",E305,IF(D306=\"\",E305,D306/MAX($D$8:D306)-1)))","v":""}]
[null,null,null,null,{"$f":"IF(A307=\"\",\"\",IF(B307=\"\",E306,IF(D307=\"\",E306,D307/MAX($D$8:D307)-1)))","v":""}]
[null,null,null,null,{"$f":"IF(A308=\"\",\"\",IF(B308=\"\",E307,IF(D308=\"\",E307,D308/MAX($D$8:D308)-1)))","v":""}]
[null,null,null,null,{"$f":"IF(A309=\"\",\"\",IF(B309=\"\",E308,IF(D309=\"\",E308,D309/MAX($D$8:D309)-1)))","v":""}]
[null,null,null,null,{"$f":"IF(A310=\"\",\"\",IF(B310=\"\",E309,IF(D310=\"\",E309,D310/MAX($D$8:D310)-1)))","v":""}]
[null,null,null,null,{"$f":"IF(A311=\"\",\"\",IF(B311=\"\",E310,IF(D311=\"\",E310,D311/MAX($D$8:D311)-1)))","v":""}]
[null,null,null,null,{"$f":"IF(A312=\"\",\"\",IF(B312=\"\",E311,IF(D312=\"\",E311,D312/MAX($D$8:D312)-1)))","v":""}]
[null,null,null,null,{"$f":"IF(A313=\"\",\"\",IF(B313=\"\",E312,IF(D313=\"\",E312,D313/MAX($D$8:D313)-1)))","v":""}]
[null,null,null,null,{"$f":"IF(A314=\"\",\"\",IF(B314=\"\",E313,IF(D314=\"\",E313,D314/MAX($D$8:D314)-1)))","v":""}]
[null,null,null,null,{"$f":"IF(A315=\"\",\"\",IF(B315=\"\",E314,IF(D315=\"\",E314,D315/MAX($D$8:D315)-1)))","v":""}]
[null,null,null,null,{"$f":"IF(A316=\"\",\"\",IF(B316=\"\",E315,IF(D316=\"\",E315,D316/MAX($D$8:D316)-1)))","v":""}]
[null,null,null,null,{"$f":"IF(A317=\"\",\"\",IF(B317=\"\",E316,IF(D317=\"\",E316,D317/MAX($D$8:D317)-1)))","v":""}]
[null,null,null,null,{"$f":"IF(A318=\"\",\"\",IF(B318=\"\",E317,IF(D318=\"\",E317,D318/MAX($D$8:D318)-1)))","v":""}]
[null,null,null,null,{"$f":"IF(A319=\"\",\"\",IF(B319=\"\",E318,IF(D319=\"\",E318,D319/MAX($D$8:D319)-1)))","v":""}]
[null,null,null,null,{"$f":"IF(A320=\"\",\"\",IF(B320=\"\",E319,IF(D320=\"\",E319,D320/MAX($D$8:D320)-1)))","v":""}]
[null,null,null,null,{"$f":"IF(A321=\"\",\"\",IF(B321=\"\",E320,IF(D321=\"\",E320,D321/MAX($D$8:D321)-1)))","v":""}]
[null,null,null,null,{"$f":"IF(A322=\"\",\"\",IF(B322=\"\",E321,IF(D322=\"\",E321,D322/MAX($D$8:D322)-1)))","v":""}]
[null,null,null,null,{"$f":"IF(A323=\"\",\"\",IF(B323=\"\",E322,IF(D323=\"\",E322,D323/MAX($D$8:D323)-1)))","v":""}]
[null,null,null,null,{"$f":"IF(A324=\"\",\"\",IF(B324=\"\",E323,IF(D324=\"\",E323,D324/MAX($D$8:D324)-1)))","v":""}]
[null,null,null,null,{"$f":"IF(A325=\"\",\"\",IF(B325=\"\",E324,IF(D325=\"\",E324,D325/MAX($D$8:D325)-1)))","v":""}]
[null,null,null,null,{"$f":"IF(A326=\"\",\"\",IF(B326=\"\",E325,IF(D326=\"\",E325,D326/MAX($D$8:D326)-1)))","v":""}]
[null,null,null,null,{"$f":"IF(A327=\"\",\"\",IF(B327=\"\",E326,IF(D327=\"\",E326,D327/MAX($D$8:D327)-1)))","v":""}]
[null,null,null,null,{"$f":"IF(A328=\"\",\"\",IF(B328=\"\",E327,IF(D328=\"\",E327,D328/MAX($D$8:D328)-1)))","v":""}]
[null,null,null,null,{"$f":"IF(A329=\"\",\"\",IF(B329=\"\",E328,IF(D329=\"\",E328,D329/MAX($D$8:D329)-1)))","v":""}]
[null,null,null,null,{"$f":"IF(A330=\"\",\"\",IF(B330=\"\",E329,IF(D330=\"\",E329,D330/MAX($D$8:D330)-1)))","v":""}]
[null,null,null,null,{"$f":"IF(A331=\"\",\"\",IF(B331=\"\",E330,IF(D331=\"\",E330,D331/MAX($D$8:D331)-1)))","v":""}]
[null,null,null,null,{"$f":"IF(A332=\"\",\"\",IF(B332=\"\",E331,IF(D332=\"\",E331,D332/MAX($D$8:D332)-1)))","v":""}]
[null,null,null,null,{"$f":"IF(A333=\"\",\"\",IF(B333=\"\",E332,IF(D333=\"\",E332,D333/MAX($D$8:D333)-1)))","v":""}]
[null,null,null,null,{"$f":"IF(A334=\"\",\"\",IF(B334=\"\",E333,IF(D334=\"\",E333,D334/MAX($D$8:D334)-1)))","v":""}]
[null,null,null,null,{"$f":"IF(A335=\"\",\"\",IF(B335=\"\",E334,IF(D335=\"\",E334,D335/MAX($D$8:D335)-1)))","v":""}]
[null,null,null,null,{"$f":"IF(A336=\"\",\"\",IF(B336=\"\",E335,IF(D336=\"\",E335,D336/MAX($D$8:D336)-1)))","v":""}]
[null,null,null,null,{"$f":"IF(A337=\"\",\"\",IF(B337=\"\",E336,IF(D337=\"\",E336,D337/MAX($D$8:D337)-1)))","v":""}]
[null,null,null,null,{"$f":"IF(A338=\"\",\"\",IF(B338=\"\",E337,IF(D338=\"\",E337,D338/MAX($D$8:D338)-1)))","v":""}]
[null,null,null,null,{"$f":"IF(A339=\"\",\"\",IF(B339=\"\",E338,IF(D339=\"\",E338,D339/MAX($D$8:D339)-1)))","v":""}]
[null,null,null,null,{"$f":"IF(A340=\"\",\"\",IF(B340=\"\",E339,IF(D340=\"\",E339,D340/MAX($D$8:D340)-1)))","v":""}]
[null,null,null,null,{"$f":"IF(A341=\"\",\"\",IF(B341=\"\",E340,IF(D341=\"\",E340,D341/MAX($D$8:D341)-1)))","v":""}]
[null,null,null,null,{"$f":"IF(A342=\"\",\"\",IF(B342=\"\",E341,IF(D342=\"\",E341,D342/MAX($D$8:D342)-1)))","v":""}]
[null,null,null,null,{"$f":"IF(A343=\"\",\"\",IF(B343=\"\",E342,IF(D343=\"\",E342,D343/MAX($D$8:D343)-1)))","v":""}]
[null,null,null,null,{"$f":"IF(A344=\"\",\"\",IF(B344=\"\",E343,IF(D344=\"\",E343,D344/MAX($D$8:D344)-1)))","v":""}]
[null,null,null,null,{"$f":"IF(A345=\"\",\"\",IF(B345=\"\",E344,IF(D345=\"\",E344,D345/MAX($D$8:D345)-1)))","v":""}]
[null,null,null,null,{"$f":"IF(A346=\"\",\"\",IF(B346=\"\",E345,IF(D346=\"\",E345,D346/MAX($D$8:D346)-1)))","v":""}]
[null,null,null,null,{"$f":"IF(A347=\"\",\"\",IF(B347=\"\",E346,IF(D347=\"\",E346,D347/MAX($D$8:D347)-1)))","v":""}]
[null,null,null,null,{"$f":"IF(A348=\"\",\"\",IF(B348=\"\",E347,IF(D348=\"\",E347,D348/MAX($D$8:D348)-1)))","v":""}]
[null,null,null,null,{"$f":"IF(A349=\"\",\"\",IF(B349=\"\",E348,IF(D349=\"\",E348,D349/MAX($D$8:D349)-1)))","v":""}]
[null,null,null,null,{"$f":"IF(A350=\"\",\"\",IF(B350=\"\",E349,IF(D350=\"\",E349,D350/MAX($D$8:D350)-1)))","v":""}]
[null,null,null,null,{"$f":"IF(A351=\"\",\"\",IF(B351=\"\",E350,IF(D351=\"\",E350,D351/MAX($D$8:D351)-1)))","v":""}]
[null,null,null,null,{"$f":"IF(A352=\"\",\"\",IF(B352=\"\",E351,IF(D352=\"\",E351,D352/MAX($D$8:D352)-1)))","v":""}]
[null,null,null,null,{"$f":"IF(A353=\"\",\"\",IF(B353=\"\",E352,IF(D353=\"\",E352,D353/MAX($D$8:D353)-1)))","v":""}]
[null,null,null,null,{"$f":"IF(A354=\"\",\"\",IF(B354=\"\",E353,IF(D354=\"\",E353,D354/MAX($D$8:D354)-1)))","v":""}]
[null,null,null,null,{"$f":"IF(A355=\"\",\"\",IF(B355=\"\",E354,IF(D355=\"\",E354,D355/MAX($D$8:D355)-1)))","v":""}]
[null,null,null,null,{"$f":"IF(A356=\"\",\"\",IF(B356=\"\",E355,IF(D356=\"\",E355,D356/MAX($D$8:D356)-1)))","v":""}]
[null,null,null,null,{"$f":"IF(A357=\"\",\"\",IF(B357=\"\",E356,IF(D357=\"\",E356,D357/MAX($D$8:D357)-1)))","v":""}]
[null,null,null,null,{"$f":"IF(A358=\"\",\"\",IF(B358=\"\",E357,IF(D358=\"\",E357,D358/MAX($D$8:D358)-1)))","v":""}]
[null,null,null,null,{"$f":"IF(A359=\"\",\"\",IF(B359=\"\",E358,IF(D359=\"\",E358,D359/MAX($D$8:D359)-1)))","v":""}]
[null,null,null,null,{"$f":"IF(A360=\"\",\"\",IF(B360=\"\",E359,IF(D360=\"\",E359,D360/MAX($D$8:D360)-1)))","v":""}]
[null,null,null,null,{"$f":"IF(A361=\"\",\"\",IF(B361=\"\",E360,IF(D361=\"\",E360,D361/MAX($D$8:D361)-1)))","v":""}]
[null,null,null,null,{"$f":"IF(A362=\"\",\"\",IF(B362=\"\",E361,IF(D362=\"\",E361,D362/MAX($D$8:D362)-1)))","v":""}]
[null,null,null,null,{"$f":"IF(A363=\"\",\"\",IF(B363=\"\",E362,IF(D363=\"\",E362,D363/MAX($D$8:D363)-1)))","v":""}]
[null,null,null,null,{"$f":"IF(A364=\"\",\"\",IF(B364=\"\",E363,IF(D364=\"\",E363,D364/MAX($D$8:D364)-1)))","v":""}]
[null,null,null,null,{"$f":"IF(A365=\"\",\"\",IF(B365=\"\",E364,IF(D365=\"\",E364,D365/MAX($D$8:D365)-1)))","v":""}]
[null,null,null,null,{"$f":"IF(A366=\"\",\"\",IF(B366=\"\",E365,IF(D366=\"\",E365,D366/MAX($D$8:D366)-1)))","v":""}]
[null,null,null,null,{"$f":"IF(A367=\"\",\"\",IF(B367=\"\",E366,IF(D367=\"\",E366,D367/MAX($D$8:D367)-1)))","v":""}]
[null,null,null,null,{"$f":"IF(A368=\"\",\"\",IF(B368=\"\",E367,IF(D368=\"\",E367,D368/MAX($D$8:D368)-1)))","v":""}]
[null,null,null,null,{"$f":"IF(A369=\"\",\"\",IF(B369=\"\",E368,IF(D369=\"\",E368,D369/MAX($D$8:D369)-1)))","v":""}]
[null,null,null,null,{"$f":"IF(A370=\"\",\"\",IF(B370=\"\",E369,IF(D370=\"\",E369,D370/MAX($D$8:D370)-1)))","v":""}]
[null,null,null,null,{"$f":"IF(A371=\"\",\"\",IF(B371=\"\",E370,IF(D371=\"\",E370,D371/MAX($D$8:D371)-1)))","v":""}]
[null,null,null,null,{"$f":"IF(A372=\"\",\"\",IF(B372=\"\",E371,IF(D372=\"\",E371,D372/MAX($D$8:D372)-1)))","v":""}]
[null,null,null,null,{"$f":"IF(A373=\"\",\"\",IF(B373=\"\",E372,IF(D373=\"\",E372,D373/MAX($D$8:D373)-1)))","v":""}]
[null,null,null,null,{"$f":"IF(A374=\"\",\"\",IF(B374=\"\",E373,IF(D374=\"\",E373,D374/MAX($D$8:D374)-1)))","v":""}]
[null,null,null,null,{"$f":"IF(A375=\"\",\"\",IF(B375=\"\",E374,IF(D375=\"\",E374,D375/MAX($D$8:D375)-1)))","v":""}]
[null,null,null,null,{"$f":"IF(A376=\"\",\"\",IF(B376=\"\",E375,IF(D376=\"\",E375,D376/MAX($D$8:D376)-1)))","v":""}]
[null,null,null,null,{"$f":"IF(A377=\"\",\"\",IF(B377=\"\",E376,IF(D377=\"\",E376,D377/MAX($D$8:D377)-1)))","v":""}]
[null,null,null,null,{"$f":"IF(A378=\"\",\"\",IF(B378=\"\",E377,IF(D378=\"\",E377,D378/MAX($D$8:D378)-1)))","v":""}]
[null,null,null,null,{"$f":"IF(A379=\"\",\"\",IF(B379=\"\",E378,IF(D379=\"\",E378,D379/MAX($D$8:D379)-1)))","v":""}]
[null,null,null,null,{"$f":"IF(A380=\"\",\"\",IF(B380=\"\",E379,IF(D380=\"\",E379,D380/MAX($D$8:D380)-1)))","v":""}]
[null,null,null,null,{"$f":"IF(A381=\"\",\"\",IF(B381=\"\",E380,IF(D381=\"\",E380,D381/MAX($D$8:D381)-1)))","v":""}]
[null,null,null,null,{"$f":"IF(A382=\"\",\"\",IF(B382=\"\",E381,IF(D382=\"\",E381,D382/MAX($D$8:D382)-1)))","v":""}]
[null,null,null,null,{"$f":"IF(A383=\"\",\"\",IF(B383=\"\",E382,IF(D383=\"\",E382,D383/MAX($D$8:D383)-1)))","v":""}]
[null,null,null,null,{"$f":"IF(A384=\"\",\"\",IF(B384=\"\",E383,IF(D384=\"\",E383,D384/MAX($D$8:D384)-1)))","v":""}]
[null,null,null,null,{"$f":"IF(A385=\"\",\"\",IF(B385=\"\",E384,IF(D385=\"\",E384,D385/MAX($D$8:D385)-1)))","v":""}]
[null,null,null,null,{"$f":"IF(A386=\"\",\"\",IF(B386=\"\",E385,IF(D386=\"\",E385,D386/MAX($D$8:D386)-1)))","v":""}]
[null,null,null,null,{"$f":"IF(A387=\"\",\"\",IF(B387=\"\",E386,IF(D387=\"\",E386,D387/MAX($D$8:D387)-1)))","v":""}]
[null,null,null,null,{"$f":"IF(A388=\"\",\"\",IF(B388=\"\",E387,IF(D388=\"\",E387,D388/MAX($D$8:D388)-1)))","v":""}]
[null,null,null,null,{"$f":"IF(A389=\"\",\"\",IF(B389=\"\",E388,IF(D389=\"\",E388,D389/MAX($D$8:D389)-1)))","v":""}]
[null,null,null,null,{"$f":"IF(A390=\"\",\"\",IF(B390=\"\",E389,IF(D390=\"\",E389,D390/MAX($D$8:D390)-1)))","v":""}]
[null,null,null,null,{"$f":"IF(A391=\"\",\"\",IF(B391=\"\",E390,IF(D391=\"\",E390,D391/MAX($D$8:D391)-1)))","v":""}]
[null,null,null,null,{"$f":"IF(A392=\"\",\"\",IF(B392=\"\",E391,IF(D392=\"\",E391,D392/MAX($D$8:D392)-1)))","v":""}]
[null,null,null,null,{"$f":"IF(A393=\"\",\"\",IF(B393=\"\",E392,IF(D393=\"\",E392,D393/MAX($D$8:D393)-1)))","v":""}]
[null,null,null,null,{"$f":"IF(A394=\"\",\"\",IF(B394=\"\",E393,IF(D394=\"\",E393,D394/MAX($D$8:D394)-1)))","v":""}]
[null,null,null,null,{"$f":"IF(A395=\"\",\"\",IF(B395=\"\",E394,IF(D395=\"\",E394,D395/MAX($D$8:D395)-1)))","v":""}]
[null,null,null,null,{"$f":"IF(A396=\"\",\"\",IF(B396=\"\",E395,IF(D396=\"\",E395,D396/MAX($D$8:D396)-1)))","v":""}]
[null,null,null,null,{"$f":"IF(A397=\"\",\"\",IF(B397=\"\",E396,IF(D397=\"\",E396,D397/MAX($D$8:D397)-1)))","v":""}]
[null,null,null,null,{"$f":"IF(A398=\"\",\"\",IF(B398=\"\",E397,IF(D398=\"\",E397,D398/MAX($D$8:D398)-1)))","v":""}]
[null,null,null,null,{"$f":"IF(A399=\"\",\"\",IF(B399=\"\",E398,IF(D399=\"\",E398,D399/MAX($D$8:D399)-1)))","v":""}]
[null,null,null,null,{"$f":"IF(A400=\"\",\"\",IF(B400=\"\",E399,IF(D400=\"\",E399,D400/MAX($D$8:D400)-1)))","v":""}]
[null,null,null,null,{"$f":"IF(A401=\"\",\"\",IF(B401=\"\",E400,IF(D401=\"\",E400,D401/MAX($D$8:D401)-1)))","v":""}]
[null,null,null,null,{"$f":"IF(A402=\"\",\"\",IF(B402=\"\",E401,IF(D402=\"\",E401,D402/MAX($D$8:D402)-1)))","v":""}]
[null,null,null,null,{"$f":"IF(A403=\"\",\"\",IF(B403=\"\",E402,IF(D403=\"\",E402,D403/MAX($D$8:D403)-1)))","v":""}]
[null,null,null,null,{"$f":"IF(A404=\"\",\"\",IF(B404=\"\",E403,IF(D404=\"\",E403,D404/MAX($D$8:D404)-1)))","v":""}]
[null,null,null,null,{"$f":"IF(A405=\"\",\"\",IF(B405=\"\",E404,IF(D405=\"\",E404,D405/MAX($D$8:D405)-1)))","v":""}]
[null,null,null,null,{"$f":"IF(A406=\"\",\"\",IF(B406=\"\",E405,IF(D406=\"\",E405,D406/MAX($D$8:D406)-1)))","v":""}]
[null,null,null,null,{"$f":"IF(A407=\"\",\"\",IF(B407=\"\",E406,IF(D407=\"\",E406,D407/MAX($D$8:D407)-1)))","v":""}]
[null,null,null,null,{"$f":"IF(A408=\"\",\"\",IF(B408=\"\",E407,IF(D408=\"\",E407,D408/MAX($D$8:D408)-1)))","v":""}]
[null,null,null,null,{"$f":"IF(A409=\"\",\"\",IF(B409=\"\",E408,IF(D409=\"\",E408,D409/MAX($D$8:D409)-1)))","v":""}]
[null,null,null,null,{"$f":"IF(A410=\"\",\"\",IF(B410=\"\",E409,IF(D410=\"\",E409,D410/MAX($D$8:D410)-1)))","v":""}]
[null,null,null,null,{"$f":"IF(A411=\"\",\"\",IF(B411=\"\",E410,IF(D411=\"\",E410,D411/MAX($D$8:D411)-1)))","v":""}]
[null,null,null,null,{"$f":"IF(A412=\"\",\"\",IF(B412=\"\",E411,IF(D412=\"\",E411,D412/MAX($D$8:D412)-1)))","v":""}]
[null,null,null,null,{"$f":"IF(A413=\"\",\"\",IF(B413=\"\",E412,IF(D413=\"\",E412,D413/MAX($D$8:D413)-1)))","v":""}]
[null,null,null,null,{"$f":"IF(A414=\"\",\"\",IF(B414=\"\",E413,IF(D414=\"\",E413,D414/MAX($D$8:D414)-1)))","v":""}]
[null,null,null,null,{"$f":"IF(A415=\"\",\"\",IF(B415=\"\",E414,IF(D415=\"\",E414,D415/MAX($D$8:D415)-1)))","v":""}]
[null,null,null,null,{"$f":"IF(A416=\"\",\"\",IF(B416=\"\",E415,IF(D416=\"\",E415,D416/MAX($D$8:D416)-1)))","v":""}]
[null,null,null,null,{"$f":"IF(A417=\"\",\"\",IF(B417=\"\",E416,IF(D417=\"\",E416,D417/MAX($D$8:D417)-1)))","v":""}]
[null,null,null,null,{"$f":"IF(A418=\"\",\"\",IF(B418=\"\",E417,IF(D418=\"\",E417,D418/MAX($D$8:D418)-1)))","v":""}]
[null,null,null,null,{"$f":"IF(A419=\"\",\"\",IF(B419=\"\",E418,IF(D419=\"\",E418,D419/MAX($D$8:D419)-1)))","v":""}]
[null,null,null,null,{"$f":"IF(A420=\"\",\"\",IF(B420=\"\",E419,IF(D420=\"\",E419,D420/MAX($D$8:D420)-1)))","v":""}]
[null,null,null,null,{"$f":"IF(A421=\"\",\"\",IF(B421=\"\",E420,IF(D421=\"\",E420,D421/MAX($D$8:D421)-1)))","v":""}]
[null,null,null,null,{"$f":"IF(A422=\"\",\"\",IF(B422=\"\",E421,IF(D422=\"\",E421,D422/MAX($D$8:D422)-1)))","v":""}]
[null,null,null,null,{"$f":"IF(A423=\"\",\"\",IF(B423=\"\",E422,IF(D423=\"\",E422,D423/MAX($D$8:D423)-1)))","v":""}]
[null,null,null,null,{"$f":"IF(A424=\"\",\"\",IF(B424=\"\",E423,IF(D424=\"\",E423,D424/MAX($D$8:D424)-1)))","v":""}]
[null,null,null,null,{"$f":"IF(A425=\"\",\"\",IF(B425=\"\",E424,IF(D425=\"\",E424,D425/MAX($D$8:D425)-1)))","v":""}]
[null,null,null,null,{"$f":"IF(A426=\"\",\"\",IF(B426=\"\",E425,IF(D426=\"\",E425,D426/MAX($D$8:D426)-1)))","v":""}]
[null,null,null,null,{"$f":"IF(A427=\"\",\"\",IF(B427=\"\",E426,IF(D427=\"\",E426,D427/MAX($D$8:D427)-1)))","v":""}]
[null,null,null,null,{"$f":"IF(A428=\"\",\"\",IF(B428=\"\",E427,IF(D428=\"\",E427,D428/MAX($D$8:D428)-1)))","v":""}]
[null,null,null,null,{"$f":"IF(A429=\"\",\"\",IF(B429=\"\",E428,IF(D429=\"\",E428,D429/MAX($D$8:D429)-1)))","v":""}]
[null,null,null,null,{"$f":"IF(A430=\"\",\"\",IF(B430=\"\",E429,IF(D430=\"\",E429,D430/MAX($D$8:D430)-1)))","v":""}]
[null,null,null,null,{"$f":"IF(A431=\"\",\"\",IF(B431=\"\",E430,IF(D431=\"\",E430,D431/MAX($D$8:D431)-1)))","v":""}]
[null,null,null,null,{"$f":"IF(A432=\"\",\"\",IF(B432=\"\",E431,IF(D432=\"\",E431,D432/MAX($D$8:D432)-1)))","v":""}]
[null,null,null,null,{"$f":"IF(A433=\"\",\"\",IF(B433=\"\",E432,IF(D433=\"\",E432,D433/MAX($D$8:D433)-1)))","v":""}]
[null,null,null,null,{"$f":"IF(A434=\"\",\"\",IF(B434=\"\",E433,IF(D434=\"\",E433,D434/MAX($D$8:D434)-1)))","v":""}]
[null,null,null,null,{"$f":"IF(A435=\"\",\"\",IF(B435=\"\",E434,IF(D435=\"\",E434,D435/MAX($D$8:D435)-1)))","v":""}]
[null,null,null,null,{"$f":"IF(A436=\"\",\"\",IF(B436=\"\",E435,IF(D436=\"\",E435,D436/MAX($D$8:D436)-1)))","v":""}]
[null,null,null,null,{"$f":"IF(A437=\"\",\"\",IF(B437=\"\",E436,IF(D437=\"\",E436,D437/MAX($D$8:D437)-1)))","v":""}]
[null,null,null,null,{"$f":"IF(A438=\"\",\"\",IF(B438=\"\",E437,IF(D438=\"\",E437,D438/MAX($D$8:D438)-1)))","v":""}]
[null,null,null,null,{"$f":"IF(A439=\"\",\"\",IF(B439=\"\",E438,IF(D439=\"\",E438,D439/MAX($D$8:D439)-1)))","v":""}]
[null,null,null,null,{"$f":"IF(A440=\"\",\"\",IF(B440=\"\",E439,IF(D440=\"\",E439,D440/MAX($D$8:D440)-1)))","v":""}]
[null,null,null,null,{"$f":"IF(A441=\"\",\"\",IF(B441=\"\",E440,IF(D441=\"\",E440,D441/MAX($D$8:D441)-1)))","v":""}]
[null,null,null,null,{"$f":"IF(A442=\"\",\"\",IF(B442=\"\",E441,IF(D442=\"\",E441,D442/MAX($D$8:D442)-1)))","v":""}]
[null,null,null,null,{"$f":"IF(A443=\"\",\"\",IF(B443=\"\",E442,IF(D443=\"\",E442,D443/MAX($D$8:D443)-1)))","v":""}]
[null,null,null,null,{"$f":"IF(A444=\"\",\"\",IF(B444=\"\",E443,IF(D444=\"\",E443,D444/MAX($D$8:D444)-1)))","v":""}]
[null,null,null,null,{"$f":"IF(A445=\"\",\"\",IF(B445=\"\",E444,IF(D445=\"\",E444,D445/MAX($D$8:D445)-1)))","v":""}]
[null,null,null,null,{"$f":"IF(A446=\"\",\"\",IF(B446=\"\",E445,IF(D446=\"\",E445,D446/MAX($D$8:D446)-1)))","v":""}]
[null,null,null,null,{"$f":"IF(A447=\"\",\"\",IF(B447=\"\",E446,IF(D447=\"\",E446,D447/MAX($D$8:D447)-1)))","v":""}]
[null,null,null,null,{"$f":"IF(A448=\"\",\"\",IF(B448=\"\",E447,IF(D448=\"\",E447,D448/MAX($D$8:D448)-1)))","v":""}]
[null,null,null,null,{"$f":"IF(A449=\"\",\"\",IF(B449=\"\",E448,IF(D449=\"\",E448,D449/MAX($D$8:D449)-1)))","v":""}]
[null,null,null,null,{"$f":"IF(A450=\"\",\"\",IF(B450=\"\",E449,IF(D450=\"\",E449,D450/MAX($D$8:D450)-1)))","v":""}]
[null,null,null,null,{"$f":"IF(A451=\"\",\"\",IF(B451=\"\",E450,IF(D451=\"\",E450,D451/MAX($D$8:D451)-1)))","v":""}]
[null,null,null,null,{"$f":"IF(A452=\"\",\"\",IF(B452=\"\",E451,IF(D452=\"\",E451,D452/MAX($D$8:D452)-1)))","v":""}]
[null,null,null,null,{"$f":"IF(A453=\"\",\"\",IF(B453=\"\",E452,IF(D453=\"\",E452,D453/MAX($D$8:D453)-1)))","v":""}]
[null,null,null,null,{"$f":"IF(A454=\"\",\"\",IF(B454=\"\",E453,IF(D454=\"\",E453,D454/MAX($D$8:D454)-1)))","v":""}]
[null,null,null,null,{"$f":"IF(A455=\"\",\"\",IF(B455=\"\",E454,IF(D455=\"\",E454,D455/MAX($D$8:D455)-1)))","v":""}]
[null,null,null,null,{"$f":"IF(A456=\"\",\"\",IF(B456=\"\",E455,IF(D456=\"\",E455,D456/MAX($D$8:D456)-1)))","v":""}]
[null,null,null,null,{"$f":"IF(A457=\"\",\"\",IF(B457=\"\",E456,IF(D457=\"\",E456,D457/MAX($D$8:D457)-1)))","v":""}]
[null,null,null,null,{"$f":"IF(A458=\"\",\"\",IF(B458=\"\",E457,IF(D458=\"\",E457,D458/MAX($D$8:D458)-1)))","v":""}]
[null,null,null,null,{"$f":"IF(A459=\"\",\"\",IF(B459=\"\",E458,IF(D459=\"\",E458,D459/MAX($D$8:D459)-1)))","v":""}]
[null,null,null,null,{"$f":"IF(A460=\"\",\"\",IF(B460=\"\",E459,IF(D460=\"\",E459,D460/MAX($D$8:D460)-1)))","v":""}]
[null,null,null,null,{"$f":"IF(A461=\"\",\"\",IF(B461=\"\",E460,IF(D461=\"\",E460,D461/MAX($D$8:D461)-1)))","v":""}]
[null,null,null,null,{"$f":"IF(A462=\"\",\"\",IF(B462=\"\",E461,IF(D462=\"\",E461,D462/MAX($D$8:D462)-1)))","v":""}]
[null,null,null,null,{"$f":"IF(A463=\"\",\"\",IF(B463=\"\",E462,IF(D463=\"\",E462,D463/MAX($D$8:D463)-1)))","v":""}]
[null,null,null,null,{"$f":"IF(A464=\"\",\"\",IF(B464=\"\",E463,IF(D464=\"\",E463,D464/MAX($D$8:D464)-1)))","v":""}]
[null,null,null,null,{"$f":"IF(A465=\"\",\"\",IF(B465=\"\",E464,IF(D465=\"\",E464,D465/MAX($D$8:D465)-1)))","v":""}]
[null,null,null,null,{"$f":"IF(A466=\"\",\"\",IF(B466=\"\",E465,IF(D466=\"\",E465,D466/MAX($D$8:D466)-1)))","v":""}]
[null,null,null,null,{"$f":"IF(A467=\"\",\"\",IF(B467=\"\",E466,IF(D467=\"\",E466,D467/MAX($D$8:D467)-1)))","v":""}]
[null,null,null,null,{"$f":"IF(A468=\"\",\"\",IF(B468=\"\",E467,IF(D468=\"\",E467,D468/MAX($D$8:D468)-1)))","v":""}]
[null,null,null,null,{"$f":"IF(A469=\"\",\"\",IF(B469=\"\",E468,IF(D469=\"\",E468,D469/MAX($D$8:D469)-1)))","v":""}]
[null,null,null,null,{"$f":"IF(A470=\"\",\"\",IF(B470=\"\",E469,IF(D470=\"\",E469,D470/MAX($D$8:D470)-1)))","v":""}]
[null,null,null,null,{"$f":"IF(A471=\"\",\"\",IF(B471=\"\",E470,IF(D471=\"\",E470,D471/MAX($D$8:D471)-1)))","v":""}]
[null,null,null,null,{"$f":"IF(A472=\"\",\"\",IF(B472=\"\",E471,IF(D472=\"\",E471,D472/MAX($D$8:D472)-1)))","v":""}]
[null,null,null,null,{"$f":"IF(A473=\"\",\"\",IF(B473=\"\",E472,IF(D473=\"\",E472,D473/MAX($D$8:D473)-1)))","v":""}]
[null,null,null,null,{"$f":"IF(A474=\"\",\"\",IF(B474=\"\",E473,IF(D474=\"\",E473,D474/MAX($D$8:D474)-1)))","v":""}]
[null,null,null,null,{"$f":"IF(A475=\"\",\"\",IF(B475=\"\",E474,IF(D475=\"\",E474,D475/MAX($D$8:D475)-1)))","v":""}]
[null,null,null,null,{"$f":"IF(A476=\"\",\"\",IF(B476=\"\",E475,IF(D476=\"\",E475,D476/MAX($D$8:D476)-1)))","v":""}]
[null,null,null,null,{"$f":"IF(A477=\"\",\"\",IF(B477=\"\",E476,IF(D477=\"\",E476,D477/MAX($D$8:D477)-1)))","v":""}]
[null,null,null,null,{"$f":"IF(A478=\"\",\"\",IF(B478=\"\",E477,IF(D478=\"\",E477,D478/MAX($D$8:D478)-1)))","v":""}]
[null,null,null,null,{"$f":"IF(A479=\"\",\"\",IF(B479=\"\",E478,IF(D479=\"\",E478,D479/MAX($D$8:D479)-1)))","v":""}]
[null,null,null,null,{"$f":"IF(A480=\"\",\"\",IF(B480=\"\",E479,IF(D480=\"\",E479,D480/MAX($D$8:D480)-1)))","v":""}]
[null,null,null,null,{"$f":"IF(A481=\"\",\"\",IF(B481=\"\",E480,IF(D481=\"\",E480,D481/MAX($D$8:D481)-1)))","v":""}]
[null,null,null,null,{"$f":"IF(A482=\"\",\"\",IF(B482=\"\",E481,IF(D482=\"\",E481,D482/MAX($D$8:D482)-1)))","v":""}]
[null,null,null,null,{"$f":"IF(A483=\"\",\"\",IF(B483=\"\",E482,IF(D483=\"\",E482,D483/MAX($D$8:D483)-1)))","v":""}]
[null,null,null,null,{"$f":"IF(A484=\"\",\"\",IF(B484=\"\",E483,IF(D484=\"\",E483,D484/MAX($D$8:D484)-1)))","v":""}]
[null,null,null,null,{"$f":"IF(A485=\"\",\"\",IF(B485=\"\",E484,IF(D485=\"\",E484,D485/MAX($D$8:D485)-1)))","v":""}]
[null,null,null,null,{"$f":"IF(A486=\"\",\"\",IF(B486=\"\",E485,IF(D486=\"\",E485,D486/MAX($D$8:D486)-1)))","v":""}]
[null,null,null,null,{"$f":"IF(A487=\"\",\"\",IF(B487=\"\",E486,IF(D487=\"\",E486,D487/MAX($D$8:D487)-1)))","v":""}]
[null,null,null,null,{"$f":"IF(A488=\"\",\"\",IF(B488=\"\",E487,IF(D488=\"\",E487,D488/MAX($D$8:D488)-1)))","v":""}]
[null,null,null,null,{"$f":"IF(A489=\"\",\"\",IF(B489=\"\",E488,IF(D489=\"\",E488,D489/MAX($D$8:D489)-1)))","v":""}]
[null,null,null,null,{"$f":"IF(A490=\"\",\"\",IF(B490=\"\",E489,IF(D490=\"\",E489,D490/MAX($D$8:D490)-1)))","v":""}]
[null,null,null,null,{"$f":"IF(A491=\"\",\"\",IF(B491=\"\",E490,IF(D491=\"\",E490,D491/MAX($D$8:D491)-1)))","v":""}]
[null,null,null,null,{"$f":"IF(A492=\"\",\"\",IF(B492=\"\",E491,IF(D492=\"\",E491,D492/MAX($D$8:D492)-1)))","v":""}]
[null,null,null,null,{"$f":"IF(A493=\"\",\"\",IF(B493=\"\",E492,IF(D493=\"\",E492,D493/MAX($D$8:D493)-1)))","v":""}]
[null,null,null,null,{"$f":"IF(A494=\"\",\"\",IF(B494=\"\",E493,IF(D494=\"\",E493,D494/MAX($D$8:D494)-1)))","v":""}]
[null,null,null,null,{"$f":"IF(A495=\"\",\"\",IF(B495=\"\",E494,IF(D495=\"\",E494,D495/MAX($D$8:D495)-1)))","v":""}]
[null,null,null,null,{"$f":"IF(A496=\"\",\"\",IF(B496=\"\",E495,IF(D496=\"\",E495,D496/MAX($D$8:D496)-1)))","v":""}]
[null,null,null,null,{"$f":"IF(A497=\"\",\"\",IF(B497=\"\",E496,IF(D497=\"\",E496,D497/MAX($D$8:D497)-1)))","v":""}]
[null,null,null,null,{"$f":"IF(A498=\"\",\"\",IF(B498=\"\",E497,IF(D498=\"\",E497,D498/MAX($D$8:D498)-1)))","v":""}]
[null,null,null,null,{"$f":"IF(A499=\"\",\"\",IF(B499=\"\",E498,IF(D499=\"\",E498,D499/MAX($D$8:D499)-1)))","v":""}]
[null,null,null,null,{"$f":"IF(A500=\"\",\"\",IF(B500=\"\",E499,IF(D500=\"\",E499,D500/MAX($D$8:D500)-1)))","v":""}]
[null,null,null,null,{"$f":"IF(A501=\"\",\"\",IF(B501=\"\",E500,IF(D501=\"\",E500,D501/MAX($D$8:D501)-1)))","v":""}]
[null,null,null,null,{"$f":"IF(A502=\"\",\"\",IF(B502=\"\",E501,IF(D502=\"\",E501,D502/MAX($D$8:D502)-1)))","v":""}]
[null,null,null,null,{"$f":"IF(A503=\"\",\"\",IF(B503=\"\",E502,IF(D503=\"\",E502,D503/MAX($D$8:D503)-1)))","v":""}]
[null,null,null,null,{"$f":"IF(A504=\"\",\"\",IF(B504=\"\",E503,IF(D504=\"\",E503,D504/MAX($D$8:D504)-1)))","v":""}]
[null,null,null,null,{"$f":"IF(A505=\"\",\"\",IF(B505=\"\",E504,IF(D505=\"\",E504,D505/MAX($D$8:D505)-1)))","v":""}]
[null,null,null,null,{"$f":"IF(A506=\"\",\"\",IF(B506=\"\",E505,IF(D506=\"\",E505,D506/MAX($D$8:D506)-1)))","v":""}]
[null,null,null,null,{"$f":"IF(A507=\"\",\"\",IF(B507=\"\",E506,IF(D507=\"\",E506,D507/MAX($D$8:D507)-1)))","v":""}]
[null,null,null,null,{"$f":"IF(A508=\"\",\"\",IF(B508=\"\",E507,IF(D508=\"\",E507,D508/MAX($D$8:D508)-1)))","v":""}]
[null,null,null,null,{"$f":"IF(A509=\"\",\"\",IF(B509=\"\",E508,IF(D509=\"\",E508,D509/MAX($D$8:D509)-1)))","v":""}]
[null,null,null,null,{"$f":"IF(A510=\"\",\"\",IF(B510=\"\",E509,IF(D510=\"\",E509,D510/MAX($D$8:D510)-1)))","v":""}]
[null,null,null,null,{"$f":"IF(A511=\"\",\"\",IF(B511=\"\",E510,IF(D511=\"\",E510,D511/MAX($D$8:D511)-1)))","v":""}]
[null,null,null,null,{"$f":"IF(A512=\"\",\"\",IF(B512=\"\",E511,IF(D512=\"\",E511,D512/MAX($D$8:D512)-1)))","v":""}]
[null,null,null,null,{"$f":"IF(A513=\"\",\"\",IF(B513=\"\",E512,IF(D513=\"\",E512,D513/MAX($D$8:D513)-1)))","v":""}]
[null,null,null,null,{"$f":"IF(A514=\"\",\"\",IF(B514=\"\",E513,IF(D514=\"\",E513,D514/MAX($D$8:D514)-1)))","v":""}]
[null,null,null,null,{"$f":"IF(A515=\"\",\"\",IF(B515=\"\",E514,IF(D515=\"\",E514,D515/MAX($D$8:D515)-1)))","v":""}]
[null,null,null,null,{"$f":"IF(A516=\"\",\"\",IF(B516=\"\",E515,IF(D516=\"\",E515,D516/MAX($D$8:D516)-1)))","v":""}]
[null,null,null,null,{"$f":"IF(A517=\"\",\"\",IF(B517=\"\",E516,IF(D517=\"\",E516,D517/MAX($D$8:D517)-1)))","v":""}]
[null,null,null,null,{"$f":"IF(A518=\"\",\"\",IF(B518=\"\",E517,IF(D518=\"\",E517,D518/MAX($D$8:D518)-1)))","v":""}]
[null,null,null,null,{"$f":"IF(A519=\"\",\"\",IF(B519=\"\",E518,IF(D519=\"\",E518,D519/MAX($D$8:D519)-1)))","v":""}]
[null,null,null,null,{"$f":"IF(A520=\"\",\"\",IF(B520=\"\",E519,IF(D520=\"\",E519,D520/MAX($D$8:D520)-1)))","v":""}]
[null,null,null,null,{"$f":"IF(A521=\"\",\"\",IF(B521=\"\",E520,IF(D521=\"\",E520,D521/MAX($D$8:D521)-1)))","v":""}]
[null,null,null,null,{"$f":"IF(A522=\"\",\"\",IF(B522=\"\",E521,IF(D522=\"\",E521,D522/MAX($D$8:D522)-1)))","v":""}]
[null,null,null,null,{"$f":"IF(A523=\"\",\"\",IF(B523=\"\",E522,IF(D523=\"\",E522,D523/MAX($D$8:D523)-1)))","v":""}]
[null,null,null,null,{"$f":"IF(A524=\"\",\"\",IF(B524=\"\",E523,IF(D524=\"\",E523,D524/MAX($D$8:D524)-1)))","v":""}]
[null,null,null,null,{"$f":"IF(A525=\"\",\"\",IF(B525=\"\",E524,IF(D525=\"\",E524,D525/MAX($D$8:D525)-1)))","v":""}]
[null,null,null,null,{"$f":"IF(A526=\"\",\"\",IF(B526=\"\",E525,IF(D526=\"\",E525,D526/MAX($D$8:D526)-1)))","v":""}]
[null,null,null,null,{"$f":"IF(A527=\"\",\"\",IF(B527=\"\",E526,IF(D527=\"\",E526,D527/MAX($D$8:D527)-1)))","v":""}]
[null,null,null,null,{"$f":"IF(A528=\"\",\"\",IF(B528=\"\",E527,IF(D528=\"\",E527,D528/MAX($D$8:D528)-1)))","v":""}]
[null,null,null,null,{"$f":"IF(A529=\"\",\"\",IF(B529=\"\",E528,IF(D529=\"\",E528,D529/MAX($D$8:D529)-1)))","v":""}]
[null,null,null,null,{"$f":"IF(A530=\"\",\"\",IF(B530=\"\",E529,IF(D530=\"\",E529,D530/MAX($D$8:D530)-1)))","v":""}]
[null,null,null,null,{"$f":"IF(A531=\"\",\"\",IF(B531=\"\",E530,IF(D531=\"\",E530,D531/MAX($D$8:D531)-1)))","v":""}]
[null,null,null,null,{"$f":"IF(A532=\"\",\"\",IF(B532=\"\",E531,IF(D532=\"\",E531,D532/MAX($D$8:D532)-1)))","v":""}]
[null,null,null,null,{"$f":"IF(A533=\"\",\"\",IF(B533=\"\",E532,IF(D533=\"\",E532,D533/MAX($D$8:D533)-1)))","v":""}]
[null,null,null,null,{"$f":"IF(A534=\"\",\"\",IF(B534=\"\",E533,IF(D534=\"\",E533,D534/MAX($D$8:D534)-1)))","v":""}]
[null,null,null,null,{"$f":"IF(A535=\"\",\"\",IF(B535=\"\",E534,IF(D535=\"\",E534,D535/MAX($D$8:D535)-1)))","v":""}]
[null,null,null,null,{"$f":"IF(A536=\"\",\"\",IF(B536=\"\",E535,IF(D536=\"\",E535,D536/MAX($D$8:D536)-1)))","v":""}]
[null,null,null,null,{"$f":"IF(A537=\"\",\"\",IF(B537=\"\",E536,IF(D537=\"\",E536,D537/MAX($D$8:D537)-1)))","v":""}]
[null,null,null,null,{"$f":"IF(A538=\"\",\"\",IF(B538=\"\",E537,IF(D538=\"\",E537,D538/MAX($D$8:D538)-1)))","v":""}]
[null,null,null,null,{"$f":"IF(A539=\"\",\"\",IF(B539=\"\",E538,IF(D539=\"\",E538,D539/MAX($D$8:D539)-1)))","v":""}]
[null,null,null,null,{"$f":"IF(A540=\"\",\"\",IF(B540=\"\",E539,IF(D540=\"\",E539,D540/MAX($D$8:D540)-1)))","v":""}]
[null,null,null,null,{"$f":"IF(A541=\"\",\"\",IF(B541=\"\",E540,IF(D541=\"\",E540,D541/MAX($D$8:D541)-1)))","v":""}]
[null,null,null,null,{"$f":"IF(A542=\"\",\"\",IF(B542=\"\",E541,IF(D542=\"\",E541,D542/MAX($D$8:D542)-1)))","v":""}]
[null,null,null,null,{"$f":"IF(A543=\"\",\"\",IF(B543=\"\",E542,IF(D543=\"\",E542,D543/MAX($D$8:D543)-1)))","v":""}]
[null,null,null,null,{"$f":"IF(A544=\"\",\"\",IF(B544=\"\",E543,IF(D544=\"\",E543,D544/MAX($D$8:D544)-1)))","v":""}]
[null,null,null,null,{"$f":"IF(A545=\"\",\"\",IF(B545=\"\",E544,IF(D545=\"\",E544,D545/MAX($D$8:D545)-1)))","v":""}]
[null,null,null,null,{"$f":"IF(A546=\"\",\"\",IF(B546=\"\",E545,IF(D546=\"\",E545,D546/MAX($D$8:D546)-1)))","v":""}]
[null,null,null,null,{"$f":"IF(A547=\"\",\"\",IF(B547=\"\",E546,IF(D547=\"\",E546,D547/MAX($D$8:D547)-1)))","v":""}]
[null,null,null,null,{"$f":"IF(A548=\"\",\"\",IF(B548=\"\",E547,IF(D548=\"\",E547,D548/MAX($D$8:D548)-1)))","v":""}]
[null,null,null,null,{"$f":"IF(A549=\"\",\"\",IF(B549=\"\",E548,IF(D549=\"\",E548,D549/MAX($D$8:D549)-1)))","v":""}]
[null,null,null,null,{"$f":"IF(A550=\"\",\"\",IF(B550=\"\",E549,IF(D550=\"\",E549,D550/MAX($D$8:D550)-1)))","v":""}]
[null,null,null,null,{"$f":"IF(A551=\"\",\"\",IF(B551=\"\",E550,IF(D551=\"\",E550,D551/MAX($D$8:D551)-1)))","v":""}]
[null,null,null,null,{"$f":"IF(A552=\"\",\"\",IF(B552=\"\",E551,IF(D552=\"\",E551,D552/MAX($D$8:D552)-1)))","v":""}]
[null,null,null,null,{"$f":"IF(A553=\"\",\"\",IF(B553=\"\",E552,IF(D553=\"\",E552,D553/MAX($D$8:D553)-1)))","v":""}]
[null,null,null,null,{"$f":"IF(A554=\"\",\"\",IF(B554=\"\",E553,IF(D554=\"\",E553,D554/MAX($D$8:D554)-1)))","v":""}]
[null,null,null,null,{"$f":"IF(A555=\"\",\"\",IF(B555=\"\",E554,IF(D555=\"\",E554,D555/MAX($D$8:D555)-1)))","v":""}]
[null,null,null,null,{"$f":"IF(A556=\"\",\"\",IF(B556=\"\",E555,IF(D556=\"\",E555,D556/MAX($D$8:D556)-1)))","v":""}]
[null,null,null,null,{"$f":"IF(A557=\"\",\"\",IF(B557=\"\",E556,IF(D557=\"\",E556,D557/MAX($D$8:D557)-1)))","v":""}]
[null,null,null,null,{"$f":"IF(A558=\"\",\"\",IF(B558=\"\",E557,IF(D558=\"\",E557,D558/MAX($D$8:D558)-1)))","v":""}]
[null,null,null,null,{"$f":"IF(A559=\"\",\"\",IF(B559=\"\",E558,IF(D559=\"\",E558,D559/MAX($D$8:D559)-1)))","v":""}]
[null,null,null,null,{"$f":"IF(A560=\"\",\"\",IF(B560=\"\",E559,IF(D560=\"\",E559,D560/MAX($D$8:D560)-1)))","v":""}]
[null,null,null,null,{"$f":"IF(A561=\"\",\"\",IF(B561=\"\",E560,IF(D561=\"\",E560,D561/MAX($D$8:D561)-1)))","v":""}]
[null,null,null,null,{"$f":"IF(A562=\"\",\"\",IF(B562=\"\",E561,IF(D562=\"\",E561,D562/MAX($D$8:D562)-1)))","v":""}]
[null,null,null,null,{"$f":"IF(A563=\"\",\"\",IF(B563=\"\",E562,IF(D563=\"\",E562,D563/MAX($D$8:D563)-1)))","v":""}]
[null,null,null,null,{"$f":"IF(A564=\"\",\"\",IF(B564=\"\",E563,IF(D564=\"\",E563,D564/MAX($D$8:D564)-1)))","v":""}]
[null,null,null,null,{"$f":"IF(A565=\"\",\"\",IF(B565=\"\",E564,IF(D565=\"\",E564,D565/MAX($D$8:D565)-1)))","v":""}]
[null,null,null,null,{"$f":"IF(A566=\"\",\"\",IF(B566=\"\",E565,IF(D566=\"\",E565,D566/MAX($D$8:D566)-1)))","v":""}]
[null,null,null,null,{"$f":"IF(A567=\"\",\"\",IF(B567=\"\",E566,IF(D567=\"\",E566,D567/MAX($D$8:D567)-1)))","v":""}]
[null,null,null,null,{"$f":"IF(A568=\"\",\"\",IF(B568=\"\",E567,IF(D568=\"\",E567,D568/MAX($D$8:D568)-1)))","v":""}]
[null,null,null,null,{"$f":"IF(A569=\"\",\"\",IF(B569=\"\",E568,IF(D569=\"\",E568,D569/MAX($D$8:D569)-1)))","v":""}]
[null,null,null,null,{"$f":"IF(A570=\"\",\"\",IF(B570=\"\",E569,IF(D570=\"\",E569,D570/MAX($D$8:D570)-1)))","v":""}]
[null,null,null,null,{"$f":"IF(A571=\"\",\"\",IF(B571=\"\",E570,IF(D571=\"\",E570,D571/MAX($D$8:D571)-1)))","v":""}]
[null,null,null,null,{"$f":"IF(A572=\"\",\"\",IF(B572=\"\",E571,IF(D572=\"\",E571,D572/MAX($D$8:D572)-1)))","v":""}]
[null,null,null,null,{"$f":"IF(A573=\"\",\"\",IF(B573=\"\",E572,IF(D573=\"\",E572,D573/MAX($D$8:D573)-1)))","v":""}]
[null,null,null,null,{"$f":"IF(A574=\"\",\"\",IF(B574=\"\",E573,IF(D574=\"\",E573,D574/MAX($D$8:D574)-1)))","v":""}]
[null,null,null,null,{"$f":"IF(A575=\"\",\"\",IF(B575=\"\",E574,IF(D575=\"\",E574,D575/MAX($D$8:D575)-1)))","v":""}]
[null,null,null,null,{"$f":"IF(A576=\"\",\"\",IF(B576=\"\",E575,IF(D576=\"\",E575,D576/MAX($D$8:D576)-1)))","v":""}]
[null,null,null,null,{"$f":"IF(A577=\"\",\"\",IF(B577=\"\",E576,IF(D577=\"\",E576,D577/MAX($D$8:D577)-1)))","v":""}]
[null,null,null,null,{"$f":"IF(A578=\"\",\"\",IF(B578=\"\",E577,IF(D578=\"\",E577,D578/MAX($D$8:D578)-1)))","v":""}]
[null,null,null,null,{"$f":"IF(A579=\"\",\"\",IF(B579=\"\",E578,IF(D579=\"\",E578,D579/MAX($D$8:D579)-1)))","v":""}]
[null,null,null,null,{"$f":"IF(A580=\"\",\"\",IF(B580=\"\",E579,IF(D580=\"\",E579,D580/MAX($D$8:D580)-1)))","v":""}]
[null,null,null,null,{"$f":"IF(A581=\"\",\"\",IF(B581=\"\",E580,IF(D581=\"\",E580,D581/MAX($D$8:D581)-1)))","v":""}]
[null,null,null,null,{"$f":"IF(A582=\"\",\"\",IF(B582=\"\",E581,IF(D582=\"\",E581,D582/MAX($D$8:D582)-1)))","v":""}]
[null,null,null,null,{"$f":"IF(A583=\"\",\"\",IF(B583=\"\",E582,IF(D583=\"\",E582,D583/MAX($D$8:D583)-1)))","v":""}]
[null,null,null,null,{"$f":"IF(A584=\"\",\"\",IF(B584=\"\",E583,IF(D584=\"\",E583,D584/MAX($D$8:D584)-1)))","v":""}]
[null,null,null,null,{"$f":"IF(A585=\"\",\"\",IF(B585=\"\",E584,IF(D585=\"\",E584,D585/MAX($D$8:D585)-1)))","v":""}]
[null,null,null,null,{"$f":"IF(A586=\"\",\"\",IF(B586=\"\",E585,IF(D586=\"\",E585,D586/MAX($D$8:D586)-1)))","v":""}]
[null,null,null,null,{"$f":"IF(A587=\"\",\"\",IF(B587=\"\",E586,IF(D587=\"\",E586,D587/MAX($D$8:D587)-1)))","v":""}]
[null,null,null,null,{"$f":"IF(A588=\"\",\"\",IF(B588=\"\",E587,IF(D588=\"\",E587,D588/MAX($D$8:D588)-1)))","v":""}]
[null,null,null,null,{"$f":"IF(A589=\"\",\"\",IF(B589=\"\",E588,IF(D589=\"\",E588,D589/MAX($D$8:D589)-1)))","v":""}]
[null,null,null,null,{"$f":"IF(A590=\"\",\"\",IF(B590=\"\",E589,IF(D590=\"\",E589,D590/MAX($D$8:D590)-1)))","v":""}]
[null,null,null,null,{"$f":"IF(A591=\"\",\"\",IF(B591=\"\",E590,IF(D591=\"\",E590,D591/MAX($D$8:D591)-1)))","v":""}]
[null,null,null,null,{"$f":"IF(A592=\"\",\"\",IF(B592=\"\",E591,IF(D592=\"\",E591,D592/MAX($D$8:D592)-1)))","v":""}]
[null,null,null,null,{"$f":"IF(A593=\"\",\"\",IF(B593=\"\",E592,IF(D593=\"\",E592,D593/MAX($D$8:D593)-1)))","v":""}]
[null,null,null,null,{"$f":"IF(A594=\"\",\"\",IF(B594=\"\",E593,IF(D594=\"\",E593,D594/MAX($D$8:D594)-1)))","v":""}]
[null,null,null,null,{"$f":"IF(A595=\"\",\"\",IF(B595=\"\",E594,IF(D595=\"\",E594,D595/MAX($D$8:D595)-1)))","v":""}]
[null,null,null,null,{"$f":"IF(A596=\"\",\"\",IF(B596=\"\",E595,IF(D596=\"\",E595,D596/MAX($D$8:D596)-1)))","v":""}]
[null,null,null,null,{"$f":"IF(A597=\"\",\"\",IF(B597=\"\",E596,IF(D597=\"\",E596,D597/MAX($D$8:D597)-1)))","v":""}]
[null,null,null,null,{"$f":"IF(A598=\"\",\"\",IF(B598=\"\",E597,IF(D598=\"\",E597,D598/MAX($D$8:D598)-1)))","v":""}]
[null,null,null,null,{"$f":"IF(A599=\"\",\"\",IF(B599=\"\",E598,IF(D599=\"\",E598,D599/MAX($D$8:D599)-1)))","v":""}]
[null,null,null,null,{"$f":"IF(A600=\"\",\"\",IF(B600=\"\",E599,IF(D600=\"\",E599,D600/MAX($D$8:D600)-1)))","v":""}]
[null,null,null,null,{"$f":"IF(A601=\"\",\"\",IF(B601=\"\",E600,IF(D601=\"\",E600,D601/MAX($D$8:D601)-1)))","v":""}]
[null,null,null,null,{"$f":"IF(A602=\"\",\"\",IF(B602=\"\",E601,IF(D602=\"\",E601,D602/MAX($D$8:D602)-1)))","v":""}]
[null,null,null,null,{"$f":"IF(A603=\"\",\"\",IF(B603=\"\",E602,IF(D603=\"\",E602,D603/MAX($D$8:D603)-1)))","v":""}]
[null,null,null,null,{"$f":"IF(A604=\"\",\"\",IF(B604=\"\",E603,IF(D604=\"\",E603,D604/MAX($D$8:D604)-1)))","v":""}]
[null,null,null,null,{"$f":"IF(A605=\"\",\"\",IF(B605=\"\",E604,IF(D605=\"\",E604,D605/MAX($D$8:D605)-1)))","v":""}]
[null,null,null,null,{"$f":"IF(A606=\"\",\"\",IF(B606=\"\",E605,IF(D606=\"\",E605,D606/MAX($D$8:D606)-1)))","v":""}]
[null,null,null,null,{"$f":"IF(A607=\"\",\"\",IF(B607=\"\",E606,IF(D607=\"\",E606,D607/MAX($D$8:D607)-1)))","v":""}]
[null,null,null,null,{"$f":"IF(A608=\"\",\"\",IF(B608=\"\",E607,IF(D608=\"\",E607,D608/MAX($D$8:D608)-1)))","v":""}]
[null,null,null,null,{"$f":"IF(A609=\"\",\"\",IF(B609=\"\",E608,IF(D609=\"\",E608,D609/MAX($D$8:D609)-1)))","v":""}]
[null,null,null,null,{"$f":"IF(A610=\"\",\"\",IF(B610=\"\",E609,IF(D610=\"\",E609,D610/MAX($D$8:D610)-1)))","v":""}]
[null,null,null,null,{"$f":"IF(A611=\"\",\"\",IF(B611=\"\",E610,IF(D611=\"\",E610,D611/MAX($D$8:D611)-1)))","v":""}]
[null,null,null,null,{"$f":"IF(A612=\"\",\"\",IF(B612=\"\",E611,IF(D612=\"\",E611,D612/MAX($D$8:D612)-1)))","v":""}]
[null,null,null,null,{"$f":"IF(A613=\"\",\"\",IF(B613=\"\",E612,IF(D613=\"\",E612,D613/MAX($D$8:D613)-1)))","v":""}]
[null,null,null,null,{"$f":"IF(A614=\"\",\"\",IF(B614=\"\",E613,IF(D614=\"\",E613,D614/MAX($D$8:D614)-1)))","v":""}]
[null,null,null,null,{"$f":"IF(A615=\"\",\"\",IF(B615=\"\",E614,IF(D615=\"\",E614,D615/MAX($D$8:D615)-1)))","v":""}]
[null,null,null,null,{"$f":"IF(A616=\"\",\"\",IF(B616=\"\",E615,IF(D616=\"\",E615,D616/MAX($D$8:D616)-1)))","v":""}]
[null,null,null,null,{"$f":"IF(A617=\"\",\"\",IF(B617=\"\",E616,IF(D617=\"\",E616,D617/MAX($D$8:D617)-1)))","v":""}]
[null,null,null,null,{"$f":"IF(A618=\"\",\"\",IF(B618=\"\",E617,IF(D618=\"\",E617,D618/MAX($D$8:D618)-1)))","v":""}]
[null,null,null,null,{"$f":"IF(A619=\"\",\"\",IF(B619=\"\",E618,IF(D619=\"\",E618,D619/MAX($D$8:D619)-1)))","v":""}]
[null,null,null,null,{"$f":"IF(A620=\"\",\"\",IF(B620=\"\",E619,IF(D620=\"\",E619,D620/MAX($D$8:D620)-1)))","v":""}]
[null,null,null,null,{"$f":"IF(A621=\"\",\"\",IF(B621=\"\",E620,IF(D621=\"\",E620,D621/MAX($D$8:D621)-1)))","v":""}]
[null,null,null,null,{"$f":"IF(A622=\"\",\"\",IF(B622=\"\",E621,IF(D622=\"\",E621,D622/MAX($D$8:D622)-1)))","v":""}]
[null,null,null,null,{"$f":"IF(A623=\"\",\"\",IF(B623=\"\",E622,IF(D623=\"\",E622,D623/MAX($D$8:D623)-1)))","v":""}]
[null,null,null,null,{"$f":"IF(A624=\"\",\"\",IF(B624=\"\",E623,IF(D624=\"\",E623,D624/MAX($D$8:D624)-1)))","v":""}]
[null,null,null,null,{"$f":"IF(A625=\"\",\"\",IF(B625=\"\",E624,IF(D625=\"\",E624,D625/MAX($D$8:D625)-1)))","v":""}]
[null,null,null,null,{"$f":"IF(A626=\"\",\"\",IF(B626=\"\",E625,IF(D626=\"\",E625,D626/MAX($D$8:D626)-1)))","v":""}]
[null,null,null,null,{"$f":"IF(A627=\"\",\"\",IF(B627=\"\",E626,IF(D627=\"\",E626,D627/MAX($D$8:D627)-1)))","v":""}]
[null,null,null,null,{"$f":"IF(A628=\"\",\"\",IF(B628=\"\",E627,IF(D628=\"\",E627,D628/MAX($D$8:D628)-1)))","v":""}]
[null,null,null,null,{"$f":"IF(A629=\"\",\"\",IF(B629=\"\",E628,IF(D629=\"\",E628,D629/MAX($D$8:D629)-1)))","v":""}]
[null,null,null,null,{"$f":"IF(A630=\"\",\"\",IF(B630=\"\",E629,IF(D630=\"\",E629,D630/MAX($D$8:D630)-1)))","v":""}]
[null,null,null,null,{"$f":"IF(A631=\"\",\"\",IF(B631=\"\",E630,IF(D631=\"\",E630,D631/MAX($D$8:D631)-1)))","v":""}]
[null,null,null,null,{"$f":"IF(A632=\"\",\"\",IF(B632=\"\",E631,IF(D632=\"\",E631,D632/MAX($D$8:D632)-1)))","v":""}]
[null,null,null,null,{"$f":"IF(A633=\"\",\"\",IF(B633=\"\",E632,IF(D633=\"\",E632,D633/MAX($D$8:D633)-1)))","v":""}]
[null,null,null,null,{"$f":"IF(A634=\"\",\"\",IF(B634=\"\",E633,IF(D634=\"\",E633,D634/MAX($D$8:D634)-1)))","v":""}]
[null,null,null,null,{"$f":"IF(A635=\"\",\"\",IF(B635=\"\",E634,IF(D635=\"\",E634,D635/MAX($D$8:D635)-1)))","v":""}]
[null,null,null,null,{"$f":"IF(A636=\"\",\"\",IF(B636=\"\",E635,IF(D636=\"\",E635,D636/MAX($D$8:D636)-1)))","v":""}]
[null,null,null,null,{"$f":"IF(A637=\"\",\"\",IF(B637=\"\",E636,IF(D637=\"\",E636,D637/MAX($D$8:D637)-1)))","v":""}]
[null,null,null,null,{"$f":"IF(A638=\"\",\"\",IF(B638=\"\",E637,IF(D638=\"\",E637,D638/MAX($D$8:D638)-1)))","v":""}]
[null,null,null,null,{"$f":"IF(A639=\"\",\"\",IF(B639=\"\",E638,IF(D639=\"\",E638,D639/MAX($D$8:D639)-1)))","v":""}]
[null,null,null,null,{"$f":"IF(A640=\"\",\"\",IF(B640=\"\",E639,IF(D640=\"\",E639,D640/MAX($D$8:D640)-1)))","v":""}]
[null,null,null,null,{"$f":"IF(A641=\"\",\"\",IF(B641=\"\",E640,IF(D641=\"\",E640,D641/MAX($D$8:D641)-1)))","v":""}]
[null,null,null,null,{"$f":"IF(A642=\"\",\"\",IF(B642=\"\",E641,IF(D642=\"\",E641,D642/MAX($D$8:D642)-1)))","v":""}]
[null,null,null,null,{"$f":"IF(A643=\"\",\"\",IF(B643=\"\",E642,IF(D643=\"\",E642,D643/MAX($D$8:D643)-1)))","v":""}]
[null,null,null,null,{"$f":"IF(A644=\"\",\"\",IF(B644=\"\",E643,IF(D644=\"\",E643,D644/MAX($D$8:D644)-1)))","v":""}]
[null,null,null,null,{"$f":"IF(A645=\"\",\"\",IF(B645=\"\",E644,IF(D645=\"\",E644,D645/MAX($D$8:D645)-1)))","v":""}]
[null,null,null,null,{"$f":"IF(A646=\"\",\"\",IF(B646=\"\",E645,IF(D646=\"\",E645,D646/MAX($D$8:D646)-1)))","v":""}]
[null,null,null,null,{"$f":"IF(A647=\"\",\"\",IF(B647=\"\",E646,IF(D647=\"\",E646,D647/MAX($D$8:D647)-1)))","v":""}]
[null,null,null,null,{"$f":"IF(A648=\"\",\"\",IF(B648=\"\",E647,IF(D648=\"\",E647,D648/MAX($D$8:D648)-1)))","v":""}]
[null,null,null,null,{"$f":"IF(A649=\"\",\"\",IF(B649=\"\",E648,IF(D649=\"\",E648,D649/MAX($D$8:D649)-1)))","v":""}]
[null,null,null,null,{"$f":"IF(A650=\"\",\"\",IF(B650=\"\",E649,IF(D650=\"\",E649,D650/MAX($D$8:D650)-1)))","v":""}]
[null,null,null,null,{"$f":"IF(A651=\"\",\"\",IF(B651=\"\",E650,IF(D651=\"\",E650,D651/MAX($D$8:D651)-1)))","v":""}]
[null,null,null,null,{"$f":"IF(A652=\"\",\"\",IF(B652=\"\",E651,IF(D652=\"\",E651,D652/MAX($D$8:D652)-1)))","v":""}]
[null,null,null,null,{"$f":"IF(A653=\"\",\"\",IF(B653=\"\",E652,IF(D653=\"\",E652,D653/MAX($D$8:D653)-1)))","v":""}]
[null,null,null,null,{"$f":"IF(A654=\"\",\"\",IF(B654=\"\",E653,IF(D654=\"\",E653,D654/MAX($D$8:D654)-1)))","v":""}]
[null,null,null,null,{"$f":"IF(A655=\"\",\"\",IF(B655=\"\",E654,IF(D655=\"\",E654,D655/MAX($D$8:D655)-1)))","v":""}]
[null,null,null,null,{"$f":"IF(A656=\"\",\"\",IF(B656=\"\",E655,IF(D656=\"\",E655,D656/MAX($D$8:D656)-1)))","v":""}]
[null,null,null,null,{"$f":"IF(A657=\"\",\"\",IF(B657=\"\",E656,IF(D657=\"\",E656,D657/MAX($D$8:D657)-1)))","v":""}]
[null,null,null,null,{"$f":"IF(A658=\"\",\"\",IF(B658=\"\",E657,IF(D658=\"\",E657,D658/MAX($D$8:D658)-1)))","v":""}]
[null,null,null,null,{"$f":"IF(A659=\"\",\"\",IF(B659=\"\",E658,IF(D659=\"\",E658,D659/MAX($D$8:D659)-1)))","v":""}]
[null,null,null,null,{"$f":"IF(A660=\"\",\"\",IF(B660=\"\",E659,IF(D660=\"\",E659,D660/MAX($D$8:D660)-1)))","v":""}]
[null,null,null,null,{"$f":"IF(A661=\"\",\"\",IF(B661=\"\",E660,IF(D661=\"\",E660,D661/MAX($D$8:D661)-1)))","v":""}]
[null,null,null,null,{"$f":"IF(A662=\"\",\"\",IF(B662=\"\",E661,IF(D662=\"\",E661,D662/MAX($D$8:D662)-1)))","v":""}]
[null,null,null,null,{"$f":"IF(A663=\"\",\"\",IF(B663=\"\",E662,IF(D663=\"\",E662,D663/MAX($D$8:D663)-1)))","v":""}]
[null,null,null,null,{"$f":"IF(A664=\"\",\"\",IF(B664=\"\",E663,IF(D664=\"\",E663,D664/MAX($D$8:D664)-1)))","v":""}]
[null,null,null,null,{"$f":"IF(A665=\"\",\"\",IF(B665=\"\",E664,IF(D665=\"\",E664,D665/MAX($D$8:D665)-1)))","v":""}]
[null,null,null,null,{"$f":"IF(A666=\"\",\"\",IF(B666=\"\",E665,IF(D666=\"\",E665,D666/MAX($D$8:D666)-1)))","v":""}]
[null,null,null,null,{"$f":"IF(A667=\"\",\"\",IF(B667=\"\",E666,IF(D667=\"\",E666,D667/MAX($D$8:D667)-1)))","v":""}]
[null,null,null,null,{"$f":"IF(A668=\"\",\"\",IF(B668=\"\",E667,IF(D668=\"\",E667,D668/MAX($D$8:D668)-1)))","v":""}]
[null,null,null,null,{"$f":"IF(A669=\"\",\"\",IF(B669=\"\",E668,IF(D669=\"\",E668,D669/MAX($D$8:D669)-1)))","v":""}]
[null,null,null,null,{"$f":"IF(A670=\"\",\"\",IF(B670=\"\",E669,IF(D670=\"\",E669,D670/MAX($D$8:D670)-1)))","v":""}]
[null,null,null,null,{"$f":"IF(A671=\"\",\"\",IF(B671=\"\",E670,IF(D671=\"\",E670,D671/MAX($D$8:D671)-1)))","v":""}]
[null,null,null,null,{"$f":"IF(A672=\"\",\"\",IF(B672=\"\",E671,IF(D672=\"\",E671,D672/MAX($D$8:D672)-1)))","v":""}]
[null,null,null,null,{"$f":"IF(A673=\"\",\"\",IF(B673=\"\",E672,IF(D673=\"\",E672,D673/MAX($D$8:D673)-1)))","v":""}]
[null,null,null,null,{"$f":"IF(A674=\"\",\"\",IF(B674=\"\",E673,IF(D674=\"\",E673,D674/MAX($D$8:D674)-1)))","v":""}]
[null,null,null,null,{"$f":"IF(A675=\"\",\"\",IF(B675=\"\",E674,IF(D675=\"\",E674,D675/MAX($D$8:D675)-1)))","v":""}]
[null,null,null,null,{"$f":"IF(A676=\"\",\"\",IF(B676=\"\",E675,IF(D676=\"\",E675,D676/MAX($D$8:D676)-1)))","v":""}]
[null,null,null,null,{"$f":"IF(A677=\"\",\"\",IF(B677=\"\",E676,IF(D677=\"\",E676,D677/MAX($D$8:D677)-1)))","v":""}]
[null,null,null,null,{"$f":"IF(A678=\"\",\"\",IF(B678=\"\",E677,IF(D678=\"\",E677,D678/MAX($D$8:D678)-1)))","v":""}]
[null,null,null,null,{"$f":"IF(A679=\"\",\"\",IF(B679=\"\",E678,IF(D679=\"\",E678,D679/MAX($D$8:D679)-1)))","v":""}]
[null,null,null,null,{"$f":"IF(A680=\"\",\"\",IF(B680=\"\",E679,IF(D680=\"\",E679,D680/MAX($D$8:D680)-1)))","v":""}]
[null,null,null,null,{"$f":"IF(A681=\"\",\"\",IF(B681=\"\",E680,IF(D681=\"\",E680,D681/MAX($D$8:D681)-1)))","v":""}]
[null,null,null,null,{"$f":"IF(A682=\"\",\"\",IF(B682=\"\",E681,IF(D682=\"\",E681,D682/MAX($D$8:D682)-1)))","v":""}]
[null,null,null,null,{"$f":"IF(A683=\"\",\"\",IF(B683=\"\",E682,IF(D683=\"\",E682,D683/MAX($D$8:D683)-1)))","v":""}]
[null,null,null,null,{"$f":"IF(A684=\"\",\"\",IF(B684=\"\",E683,IF(D684=\"\",E683,D684/MAX($D$8:D684)-1)))","v":""}]
[null,null,null,null,{"$f":"IF(A685=\"\",\"\",IF(B685=\"\",E684,IF(D685=\"\",E684,D685/MAX($D$8:D685)-1)))","v":""}]
[null,null,null,null,{"$f":"IF(A686=\"\",\"\",IF(B686=\"\",E685,IF(D686=\"\",E685,D686/MAX($D$8:D686)-1)))","v":""}]
[null,null,null,null,{"$f":"IF(A687=\"\",\"\",IF(B687=\"\",E686,IF(D687=\"\",E686,D687/MAX($D$8:D687)-1)))","v":""}]
[null,null,null,null,{"$f":"IF(A688=\"\",\"\",IF(B688=\"\",E687,IF(D688=\"\",E687,D688/MAX($D$8:D688)-1)))","v":""}]
[null,null,null,null,{"$f":"IF(A689=\"\",\"\",IF(B689=\"\",E688,IF(D689=\"\",E688,D689/MAX($D$8:D689)-1)))","v":""}]
[null,null,null,null,{"$f":"IF(A690=\"\",\"\",IF(B690=\"\",E689,IF(D690=\"\",E689,D690/MAX($D$8:D690)-1)))","v":""}]
[null,null,null,null,{"$f":"IF(A691=\"\",\"\",IF(B691=\"\",E690,IF(D691=\"\",E690,D691/MAX($D$8:D691)-1)))","v":""}]
[null,null,null,null,{"$f":"IF(A692=\"\",\"\",IF(B692=\"\",E691,IF(D692=\"\",E691,D692/MAX($D$8:D692)-1)))","v":""}]
[null,null,null,null,{"$f":"IF(A693=\"\",\"\",IF(B693=\"\",E692,IF(D693=\"\",E692,D693/MAX($D$8:D693)-1)))","v":""}]
[null,null,null,null,{"$f":"IF(A694=\"\",\"\",IF(B694=\"\",E693,IF(D694=\"\",E693,D694/MAX($D$8:D694)-1)))","v":""}]
[null,null,null,null,{"$f":"IF(A695=\"\",\"\",IF(B695=\"\",E694,IF(D695=\"\",E694,D695/MAX($D$8:D695)-1)))","v":""}]
[null,null,null,null,{"$f":"IF(A696=\"\",\"\",IF(B696=\"\",E695,IF(D696=\"\",E695,D696/MAX($D$8:D696)-1)))","v":""}]
[null,null,null,null,{"$f":"IF(A697=\"\",\"\",IF(B697=\"\",E696,IF(D697=\"\",E696,D697/MAX($D$8:D697)-1)))","v":""}]
[null,null,null,null,{"$f":"IF(A698=\"\",\"\",IF(B698=\"\",E697,IF(D698=\"\",E697,D698/MAX($D$8:D698)-1)))","v":""}]
[null,null,null,null,{"$f":"IF(A699=\"\",\"\",IF(B699=\"\",E698,IF(D699=\"\",E698,D699/MAX($D$8:D699)-1)))","v":""}]
[null,null,null,null,{"$f":"IF(A700=\"\",\"\",IF(B700=\"\",E699,IF(D700=\"\",E699,D700/MAX($D$8:D700)-1)))","v":""}]
[null,null,null,null,{"$f":"IF(A701=\"\",\"\",IF(B701=\"\",E700,IF(D701=\"\",E700,D701/MAX($D$8:D701)-1)))","v":""}]
[null,null,null,null,{"$f":"IF(A702=\"\",\"\",IF(B702=\"\",E701,IF(D702=\"\",E701,D702/MAX($D$8:D702)-1)))","v":""}]
[null,null,null,null,{"$f":"IF(A703=\"\",\"\",IF(B703=\"\",E702,IF(D703=\"\",E702,D703/MAX($D$8:D703)-1)))","v":""}]
[null,null,null,null,{"$f":"IF(A704=\"\",\"\",IF(B704=\"\",E703,IF(D704=\"\",E703,D704/MAX($D$8:D704)-1)))","v":""}]
[null,null,null,null,{"$f":"IF(A705=\"\",\"\",IF(B705=\"\",E704,IF(D705=\"\",E704,D705/MAX($D$8:D705)-1)))","v":""}]
[null,null,null,null,{"$f":"IF(A706=\"\",\"\",IF(B706=\"\",E705,IF(D706=\"\",E705,D706/MAX($D$8:D706)-1)))","v":""}]
[null,null,null,null,{"$f":"IF(A707=\"\",\"\",IF(B707=\"\",E706,IF(D707=\"\",E706,D707/MAX($D$8:D707)-1)))","v":""}]
[null,null,null,null,{"$f":"IF(A708=\"\",\"\",IF(B708=\"\",E707,IF(D708=\"\",E707,D708/MAX($D$8:D708)-1)))","v":""}]
[null,null,null,null,{"$f":"IF(A709=\"\",\"\",IF(B709=\"\",E708,IF(D709=\"\",E708,D709/MAX($D$8:D709)-1)))","v":""}]
[null,null,null,null,{"$f":"IF(A710=\"\",\"\",IF(B710=\"\",E709,IF(D710=\"\",E709,D710/MAX($D$8:D710)-1)))","v":""}]
[null,null,null,null,{"$f":"IF(A711=\"\",\"\",IF(B711=\"\",E710,IF(D711=\"\",E710,D711/MAX($D$8:D711)-1)))","v":""}]
[null,null,null,null,{"$f":"IF(A712=\"\",\"\",IF(B712=\"\",E711,IF(D712=\"\",E711,D712/MAX($D$8:D712)-1)))","v":""}]
[null,null,null,null,{"$f":"IF(A713=\"\",\"\",IF(B713=\"\",E712,IF(D713=\"\",E712,D713/MAX($D$8:D713)-1)))","v":""}]
[null,null,null,null,{"$f":"IF(A714=\"\",\"\",IF(B714=\"\",E713,IF(D714=\"\",E713,D714/MAX($D$8:D714)-1)))","v":""}]
[null,null,null,null,{"$f":"IF(A715=\"\",\"\",IF(B715=\"\",E714,IF(D715=\"\",E714,D715/MAX($D$8:D715)-1)))","v":""}]
[null,null,null,null,{"$f":"IF(A716=\"\",\"\",IF(B716=\"\",E715,IF(D716=\"\",E715,D716/MAX($D$8:D716)-1)))","v":""}]
[null,null,null,null,{"$f":"IF(A717=\"\",\"\",IF(B717=\"\",E716,IF(D717=\"\",E716,D717/MAX($D$8:D717)-1)))","v":""}]
[null,null,null,null,{"$f":"IF(A718=\"\",\"\",IF(B718=\"\",E717,IF(D718=\"\",E717,D718/MAX($D$8:D718)-1)))","v":""}]
[null,null,null,null,{"$f":"IF(A719=\"\",\"\",IF(B719=\"\",E718,IF(D719=\"\",E718,D719/MAX($D$8:D719)-1)))","v":""}]
[null,null,null,null,{"$f":"IF(A720=\"\",\"\",IF(B720=\"\",E719,IF(D720=\"\",E719,D720/MAX($D$8:D720)-1)))","v":""}]
[null,null,null,null,{"$f":"IF(A721=\"\",\"\",IF(B721=\"\",E720,IF(D721=\"\",E720,D721/MAX($D$8:D721)-1)))","v":""}]
[null,null,null,null,{"$f":"IF(A722=\"\",\"\",IF(B722=\"\",E721,IF(D722=\"\",E721,D722/MAX($D$8:D722)-1)))","v":""}]
[null,null,null,null,{"$f":"IF(A723=\"\",\"\",IF(B723=\"\",E722,IF(D723=\"\",E722,D723/MAX($D$8:D723)-1)))","v":""}]
[null,null,null,null,{"$f":"IF(A724=\"\",\"\",IF(B724=\"\",E723,IF(D724=\"\",E723,D724/MAX($D$8:D724)-1)))","v":""}]
[null,null,null,null,{"$f":"IF(A725=\"\",\"\",IF(B725=\"\",E724,IF(D725=\"\",E724,D725/MAX($D$8:D725)-1)))","v":""}]
[null,null,null,null,{"$f":"IF(A726=\"\",\"\",IF(B726=\"\",E725,IF(D726=\"\",E725,D726/MAX($D$8:D726)-1)))","v":""}]
[null,null,null,null,{"$f":"IF(A727=\"\",\"\",IF(B727=\"\",E726,IF(D727=\"\",E726,D727/MAX($D$8:D727)-1)))","v":""}]
[null,null,null,null,{"$f":"IF(A728=\"\",\"\",IF(B728=\"\",E727,IF(D728=\"\",E727,D728/MAX($D$8:D728)-1)))","v":""}]
[null,null,null,null,{"$f":"IF(A729=\"\",\"\",IF(B729=\"\",E728,IF(D729=\"\",E728,D729/MAX($D$8:D729)-1)))","v":""}]
[null,null,null,null,{"$f":"IF(A730=\"\",\"\",IF(B730=\"\",E729,IF(D730=\"\",E729,D730/MAX($D$8:D730)-1)))","v":""}]
[null,null,null,null,{"$f":"IF(A731=\"\",\"\",IF(B731=\"\",E730,IF(D731=\"\",E730,D731/MAX($D$8:D731)-1)))","v":""}]
[null,null,null,null,{"$f":"IF(A732=\"\",\"\",IF(B732=\"\",E731,IF(D732=\"\",E731,D732/MAX($D$8:D732)-1)))","v":""}]
[null,null,null,null,{"$f":"IF(A733=\"\",\"\",IF(B733=\"\",E732,IF(D733=\"\",E732,D733/MAX($D$8:D733)-1)))","v":""}]
[null,null,null,null,{"$f":"IF(A734=\"\",\"\",IF(B734=\"\",E733,IF(D734=\"\",E733,D734/MAX($D$8:D734)-1)))","v":""}]
[null,null,null,null,{"$f":"IF(A735=\"\",\"\",IF(B735=\"\",E734,IF(D735=\"\",E734,D735/MAX($D$8:D735)-1)))","v":""}]
[null,null,null,null,{"$f":"IF(A736=\"\",\"\",IF(B736=\"\",E735,IF(D736=\"\",E735,D736/MAX($D$8:D736)-1)))","v":""}]
[null,null,null,null,{"$f":"IF(A737=\"\",\"\",IF(B737=\"\",E736,IF(D737=\"\",E736,D737/MAX($D$8:D737)-1)))","v":""}]
[null,null,null,null,{"$f":"IF(A738=\"\",\"\",IF(B738=\"\",E737,IF(D738=\"\",E737,D738/MAX($D$8:D738)-1)))","v":""}]
[null,null,null,null,{"$f":"IF(A739=\"\",\"\",IF(B739=\"\",E738,IF(D739=\"\",E738,D739/MAX($D$8:D739)-1)))","v":""}]
[null,null,null,null,{"$f":"IF(A740=\"\",\"\",IF(B740=\"\",E739,IF(D740=\"\",E739,D740/MAX($D$8:D740)-1)))","v":""}]
[null,null,null,null,{"$f":"IF(A741=\"\",\"\",IF(B741=\"\",E740,IF(D741=\"\",E740,D741/MAX($D$8:D741)-1)))","v":""}]
[null,null,null,null,{"$f":"IF(A742=\"\",\"\",IF(B742=\"\",E741,IF(D742=\"\",E741,D742/MAX($D$8:D742)-1)))","v":""}]
[null,null,null,null,{"$f":"IF(A743=\"\",\"\",IF(B743=\"\",E742,IF(D743=\"\",E742,D743/MAX($D$8:D743)-1)))","v":""}]
[null,null,null,null,{"$f":"IF(A744=\"\",\"\",IF(B744=\"\",E743,IF(D744=\"\",E743,D744/MAX($D$8:D744)-1)))","v":""}]
[null,null,null,null,{"$f":"IF(A745=\"\",\"\",IF(B745=\"\",E744,IF(D745=\"\",E744,D745/MAX($D$8:D745)-1)))","v":""}]
[null,null,null,null,{"$f":"IF(A746=\"\",\"\",IF(B746=\"\",E745,IF(D746=\"\",E745,D746/MAX($D$8:D746)-1)))","v":""}]
[null,null,null,null,{"$f":"IF(A747=\"\",\"\",IF(B747=\"\",E746,IF(D747=\"\",E746,D747/MAX($D$8:D747)-1)))","v":""}]
[null,null,null,null,{"$f":"IF(A748=\"\",\"\",IF(B748=\"\",E747,IF(D748=\"\",E747,D748/MAX($D$8:D748)-1)))","v":""}]
[null,null,null,null,{"$f":"IF(A749=\"\",\"\",IF(B749=\"\",E748,IF(D749=\"\",E748,D749/MAX($D$8:D749)-1)))","v":""}]
[null,null,null,null,{"$f":"IF(A750=\"\",\"\",IF(B750=\"\",E749,IF(D750=\"\",E749,D750/MAX($D$8:D750)-1)))","v":""}]
[null,null,null,null,{"$f":"IF(A751=\"\",\"\",IF(B751=\"\",E750,IF(D751=\"\",E750,D751/MAX($D$8:D751)-1)))","v":""}]
[null,null,null,null,{"$f":"IF(A752=\"\",\"\",IF(B752=\"\",E751,IF(D752=\"\",E751,D752/MAX($D$8:D752)-1)))","v":""}]
[null,null,null,null,{"$f":"IF(A753=\"\",\"\",IF(B753=\"\",E752,IF(D753=\"\",E752,D753/MAX($D$8:D753)-1)))","v":""}]
[null,null,null,null,{"$f":"IF(A754=\"\",\"\",IF(B754=\"\",E753,IF(D754=\"\",E753,D754/MAX($D$8:D754)-1)))","v":""}]
[null,null,null,null,{"$f":"IF(A755=\"\",\"\",IF(B755=\"\",E754,IF(D755=\"\",E754,D755/MAX($D$8:D755)-1)))","v":""}]
[null,null,null,null,{"$f":"IF(A756=\"\",\"\",IF(B756=\"\",E755,IF(D756=\"\",E755,D756/MAX($D$8:D756)-1)))","v":""}]
[null,null,null,null,{"$f":"IF(A757=\"\",\"\",IF(B757=\"\",E756,IF(D757=\"\",E756,D757/MAX($D$8:D757)-1)))","v":""}]
[null,null,null,null,{"$f":"IF(A758=\"\",\"\",IF(B758=\"\",E757,IF(D758=\"\",E757,D758/MAX($D$8:D758)-1)))","v":""}]
[null,null,null,null,{"$f":"IF(A759=\"\",\"\",IF(B759=\"\",E758,IF(D759=\"\",E758,D759/MAX($D$8:D759)-1)))","v":""}]
[null,null,null,null,{"$f":"IF(A760=\"\",\"\",IF(B760=\"\",E759,IF(D760=\"\",E759,D760/MAX($D$8:D760)-1)))","v":""}]
[null,null,null,null,{"$f":"IF(A761=\"\",\"\",IF(B761=\"\",E760,IF(D761=\"\",E760,D761/MAX($D$8:D761)-1)))","v":""}]
[null,null,null,null,{"$f":"IF(A762=\"\",\"\",IF(B762=\"\",E761,IF(D762=\"\",E761,D762/MAX($D$8:D762)-1)))","v":""}]
[null,null,null,null,{"$f":"IF(A763=\"\",\"\",IF(B763=\"\",E762,IF(D763=\"\",E762,D763/MAX($D$8:D763)-1)))","v":""}]
[null,null,null,null,{"$f":"IF(A764=\"\",\"\",IF(B764=\"\",E763,IF(D764=\"\",E763,D764/MAX($D$8:D764)-1)))","v":""}]
[null,null,null,null,{"$f":"IF(A765=\"\",\"\",IF(B765=\"\",E764,IF(D765=\"\",E764,D765/MAX($D$8:D765)-1)))","v":""}]
[null,null,null,null,{"$f":"IF(A766=\"\",\"\",IF(B766=\"\",E765,IF(D766=\"\",E765,D766/MAX($D$8:D766)-1)))","v":""}]
[null,null,null,null,{"$f":"IF(A767=\"\",\"\",IF(B767=\"\",E766,IF(D767=\"\",E766,D767/MAX($D$8:D767)-1)))","v":""}]
[null,null,null,null,{"$f":"IF(A768=\"\",\"\",IF(B768=\"\",E767,IF(D768=\"\",E767,D768/MAX($D$8:D768)-1)))","v":""}]
[null,null,null,null,{"$f":"IF(A769=\"\",\"\",IF(B769=\"\",E768,IF(D769=\"\",E768,D769/MAX($D$8:D769)-1)))","v":""}]
[null,null,null,null,{"$f":"IF(A770=\"\",\"\",IF(B770=\"\",E769,IF(D770=\"\",E769,D770/MAX($D$8:D770)-1)))","v":""}]
[null,null,null,null,{"$f":"IF(A771=\"\",\"\",IF(B771=\"\",E770,IF(D771=\"\",E770,D771/MAX($D$8:D771)-1)))","v":""}]
[null,null,null,null,{"$f":"IF(A772=\"\",\"\",IF(B772=\"\",E771,IF(D772=\"\",E771,D772/MAX($D$8:D772)-1)))","v":""}]
[null,null,null,null,{"$f":"IF(A773=\"\",\"\",IF(B773=\"\",E772,IF(D773=\"\",E772,D773/MAX($D$8:D773)-1)))","v":""}]
[null,null,null,null,{"$f":"IF(A774=\"\",\"\",IF(B774=\"\",E773,IF(D774=\"\",E773,D774/MAX($D$8:D774)-1)))","v":""}]
[null,null,null,null,{"$f":"IF(A775=\"\",\"\",IF(B775=\"\",E774,IF(D775=\"\",E774,D775/MAX($D$8:D775)-1)))","v":""}]
[null,null,null,null,{"$f":"IF(A776=\"\",\"\",IF(B776=\"\",E775,IF(D776=\"\",E775,D776/MAX($D$8:D776)-1)))","v":""}]
[null,null,null,null,{"$f":"IF(A777=\"\",\"\",IF(B777=\"\",E776,IF(D777=\"\",E776,D777/MAX($D$8:D777)-1)))","v":""}]
[null,null,null,null,{"$f":"IF(A778=\"\",\"\",IF(B778=\"\",E777,IF(D778=\"\",E777,D778/MAX($D$8:D778)-1)))","v":""}]
[null,null,null,null,{"$f":"IF(A779=\"\",\"\",IF(B779=\"\",E778,IF(D779=\"\",E778,D779/MAX($D$8:D779)-1)))","v":""}]
[null,null,null,null,{"$f":"IF(A780=\"\",\"\",IF(B780=\"\",E779,IF(D780=\"\",E779,D780/MAX($D$8:D780)-1)))","v":""}]
[null,null,null,null,{"$f":"IF(A781=\"\",\"\",IF(B781=\"\",E780,IF(D781=\"\",E780,D781/MAX($D$8:D781)-1)))","v":""}]
[null,null,null,null,{"$f":"IF(A782=\"\",\"\",IF(B782=\"\",E781,IF(D782=\"\",E781,D782/MAX($D$8:D782)-1)))","v":""}]
[null,null,null,null,{"$f":"IF(A783=\"\",\"\",IF(B783=\"\",E782,IF(D783=\"\",E782,D783/MAX($D$8:D783)-1)))","v":""}]
[null,null,null,null,{"$f":"IF(A784=\"\",\"\",IF(B784=\"\",E783,IF(D784=\"\",E783,D784/MAX($D$8:D784)-1)))","v":""}]
[null,null,null,null,{"$f":"IF(A785=\"\",\"\",IF(B785=\"\",E784,IF(D785=\"\",E784,D785/MAX($D$8:D785)-1)))","v":""}]
[null,null,null,null,{"$f":"IF(A786=\"\",\"\",IF(B786=\"\",E785,IF(D786=\"\",E785,D786/MAX($D$8:D786)-1)))","v":""}]
[null,null,null,null,{"$f":"IF(A787=\"\",\"\",IF(B787=\"\",E786,IF(D787=\"\",E786,D787/MAX($D$8:D787)-1)))","v":""}]
[null,null,null,null,{"$f":"IF(A788=\"\",\"\",IF(B788=\"\",E787,IF(D788=\"\",E787,D788/MAX($D$8:D788)-1)))","v":""}]
[null,null,null,null,{"$f":"IF(A789=\"\",\"\",IF(B789=\"\",E788,IF(D789=\"\",E788,D789/MAX($D$8:D789)-1)))","v":""}]
[null,null,null,null,{"$f":"IF(A790=\"\",\"\",IF(B790=\"\",E789,IF(D790=\"\",E789,D790/MAX($D$8:D790)-1)))","v":""}]
[null,null,null,null,{"$f":"IF(A791=\"\",\"\",IF(B791=\"\",E790,IF(D791=\"\",E790,D791/MAX($D$8:D791)-1)))","v":""}]
[null,null,null,null,{"$f":"IF(A792=\"\",\"\",IF(B792=\"\",E791,IF(D792=\"\",E791,D792/MAX($D$8:D792)-1)))","v":""}]
[null,null,null,null,{"$f":"IF(A793=\"\",\"\",IF(B793=\"\",E792,IF(D793=\"\",E792,D793/MAX($D$8:D793)-1)))","v":""}]
[null,null,null,null,{"$f":"IF(A794=\"\",\"\",IF(B794=\"\",E793,IF(D794=\"\",E793,D794/MAX($D$8:D794)-1)))","v":""}]
[null,null,null,null,{"$f":"IF(A795=\"\",\"\",IF(B795=\"\",E794,IF(D795=\"\",E794,D795/MAX($D$8:D795)-1)))","v":""}]
[null,null,null,null,{"$f":"IF(A796=\"\",\"\",IF(B796=\"\",E795,IF(D796=\"\",E795,D796/MAX($D$8:D796)-1)))","v":""}]
[null,null,null,null,{"$f":"IF(A797=\"\",\"\",IF(B797=\"\",E796,IF(D797=\"\",E796,D797/MAX($D$8:D797)-1)))","v":""}]
[null,null,null,null,{"$f":"IF(A798=\"\",\"\",IF(B798=\"\",E797,IF(D798=\"\",E797,D798/MAX($D$8:D798)-1)))","v":""}]
[null,null,null,null,{"$f":"IF(A799=\"\",\"\",IF(B799=\"\",E798,IF(D799=\"\",E798,D799/MAX($D$8:D799)-1)))","v":""}]
[null,null,null,null,{"$f":"IF(A800=\"\",\"\",IF(B800=\"\",E799,IF(D800=\"\",E799,D800/MAX($D$8:D800)-1)))","v":""}]
[null,null,null,null,{"$f":"IF(A801=\"\",\"\",IF(B801=\"\",E800,IF(D801=\"\",E800,D801/MAX($D$8:D801)-1)))","v":""}]
[null,null,null,null,{"$f":"IF(A802=\"\",\"\",IF(B802=\"\",E801,IF(D802=\"\",E801,D802/MAX($D$8:D802)-1)))","v":""}]
[null,null,null,null,{"$f":"IF(A803=\"\",\"\",IF(B803=\"\",E802,IF(D803=\"\",E802,D803/MAX($D$8:D803)-1)))","v":""}]
[null,null,null,null,{"$f":"IF(A804=\"\",\"\",IF(B804=\"\",E803,IF(D804=\"\",E803,D804/MAX($D$8:D804)-1)))","v":""}]
[null,null,null,null,{"$f":"IF(A805=\"\",\"\",IF(B805=\"\",E804,IF(D805=\"\",E804,D805/MAX($D$8:D805)-1)))","v":""}]
[null,null,null,null,{"$f":"IF(A806=\"\",\"\",IF(B806=\"\",E805,IF(D806=\"\",E805,D806/MAX($D$8:D806)-1)))","v":""}]
[null,null,null,null,{"$f":"IF(A807=\"\",\"\",IF(B807=\"\",E806,IF(D807=\"\",E806,D807/MAX($D$8:D807)-1)))","v":""}]
[null,null,null,null,{"$f":"IF(A808=\"\",\"\",IF(B808=\"\",E807,IF(D808=\"\",E807,D808/MAX($D$8:D808)-1)))","v":""}]
[null,null,null,null,{"$f":"IF(A809=\"\",\"\",IF(B809=\"\",E808,IF(D809=\"\",E808,D809/MAX($D$8:D809)-1)))","v":""}]
[null,null,null,null,{"$f":"IF(A810=\"\",\"\",IF(B810=\"\",E809,IF(D810=\"\",E809,D810/MAX($D$8:D810)-1)))","v":""}]
[null,null,null,null,{"$f":"IF(A811=\"\",\"\",IF(B811=\"\",E810,IF(D811=\"\",E810,D811/MAX($D$8:D811)-1)))","v":""}]
[null,null,null,null,{"$f":"IF(A812=\"\",\"\",IF(B812=\"\",E811,IF(D812=\"\",E811,D812/MAX($D$8:D812)-1)))","v":""}]
[null,null,null,null,{"$f":"IF(A813=\"\",\"\",IF(B813=\"\",E812,IF(D813=\"\",E812,D813/MAX($D$8:D813)-1)))","v":""}]
[null,null,null,null,{"$f":"IF(A814=\"\",\"\",IF(B814=\"\",E813,IF(D814=\"\",E813,D814/MAX($D$8:D814)-1)))","v":""}]
[null,null,null,null,{"$f":"IF(A815=\"\",\"\",IF(B815=\"\",E814,IF(D815=\"\",E814,D815/MAX($D$8:D815)-1)))","v":""}]
[null,null,null,null,{"$f":"IF(A816=\"\",\"\",IF(B816=\"\",E815,IF(D816=\"\",E815,D816/MAX($D$8:D816)-1)))","v":""}]
[null,null,null,null,{"$f":"IF(A817=\"\",\"\",IF(B817=\"\",E816,IF(D817=\"\",E816,D817/MAX($D$8:D817)-1)))","v":""}]
[null,null,null,null,{"$f":"IF(A818=\"\",\"\",IF(B818=\"\",E817,IF(D818=\"\",E817,D818/MAX($D$8:D818)-1)))","v":""}]
[null,null,null,null,{"$f":"IF(A819=\"\",\"\",IF(B819=\"\",E818,IF(D819=\"\",E818,D819/MAX($D$8:D819)-1)))","v":""}]
[null,null,null,null,{"$f":"IF(A820=\"\",\"\",IF(B820=\"\",E819,IF(D820=\"\",E819,D820/MAX($D$8:D820)-1)))","v":""}]
[null,null,null,null,{"$f":"IF(A821=\"\",\"\",IF(B821=\"\",E820,IF(D821=\"\",E820,D821/MAX($D$8:D821)-1)))","v":""}]
[null,null,null,null,{"$f":"IF(A822=\"\",\"\",IF(B822=\"\",E821,IF(D822=\"\",E821,D822/MAX($D$8:D822)-1)))","v":""}]
[null,null,null,null,{"$f":"IF(A823=\"\",\"\",IF(B823=\"\",E822,IF(D823=\"\",E822,D823/MAX($D$8:D823)-1)))","v":""}]
[null,null,null,null,{"$f":"IF(A824=\"\",\"\",IF(B824=\"\",E823,IF(D824=\"\",E823,D824/MAX($D$8:D824)-1)))","v":""}]
[null,null,null,null,{"$f":"IF(A825=\"\",\"\",IF(B825=\"\",E824,IF(D825=\"\",E824,D825/MAX($D$8:D825)-1)))","v":""}]
[null,null,null,null,{"$f":"IF(A826=\"\",\"\",IF(B826=\"\",E825,IF(D826=\"\",E825,D826/MAX($D$8:D826)-1)))","v":""}]
[null,null,null,null,{"$f":"IF(A827=\"\",\"\",IF(B827=\"\",E826,IF(D827=\"\",E826,D827/MAX($D$8:D827)-1)))","v":""}]
[null,null,null,null,{"$f":"IF(A828=\"\",\"\",IF(B828=\"\",E827,IF(D828=\"\",E827,D828/MAX($D$8:D828)-1)))","v":""}]
[null,null,null,null,{"$f":"IF(A829=\"\",\"\",IF(B829=\"\",E828,IF(D829=\"\",E828,D829/MAX($D$8:D829)-1)))","v":""}]
[null,null,null,null,{"$f":"IF(A830=\"\",\"\",IF(B830=\"\",E829,IF(D830=\"\",E829,D830/MAX($D$8:D830)-1)))","v":""}]
[null,null,null,null,{"$f":"IF(A831=\"\",\"\",IF(B831=\"\",E830,IF(D831=\"\",E830,D831/MAX($D$8:D831)-1)))","v":""}]
[null,null,null,null,{"$f":"IF(A832=\"\",\"\",IF(B832=\"\",E831,IF(D832=\"\",E831,D832/MAX($D$8:D832)-1)))","v":""}]
[null,null,null,null,{"$f":"IF(A833=\"\",\"\",IF(B833=\"\",E832,IF(D833=\"\",E832,D833/MAX($D$8:D833)-1)))","v":""}]
[null,null,null,null,{"$f":"IF(A834=\"\",\"\",IF(B834=\"\",E833,IF(D834=\"\",E833,D834/MAX($D$8:D834)-1)))","v":""}]
[null,null,null,null,{"$f":"IF(A835=\"\",\"\",IF(B835=\"\",E834,IF(D835=\"\",E834,D835/MAX($D$8:D835)-1)))","v":""}]
[null,null,null,null,{"$f":"IF(A836=\"\",\"\",IF(B836=\"\",E835,IF(D836=\"\",E835,D836/MAX($D$8:D836)-1)))","v":""}]
[null,null,null,null,{"$f":"IF(A837=\"\",\"\",IF(B837=\"\",E836,IF(D837=\"\",E836,D837/MAX($D$8:D837)-1)))","v":""}]
[null,null,null,null,{"$f":"IF(A838=\"\",\"\",IF(B838=\"\",E837,IF(D838=\"\",E837,D838/MAX($D$8:D838)-1)))","v":""}]
[null,null,null,null,{"$f":"IF(A839=\"\",\"\",IF(B839=\"\",E838,IF(D839=\"\",E838,D839/MAX($D$8:D839)-1)))","v":""}]
[null,null,null,null,{"$f":"IF(A840=\"\",\"\",IF(B840=\"\",E839,IF(D840=\"\",E839,D840/MAX($D$8:D840)-1)))","v":""}]
[null,null,null,null,{"$f":"IF(A841=\"\",\"\",IF(B841=\"\",E840,IF(D841=\"\",E840,D841/MAX($D$8:D841)-1)))","v":""}]
[null,null,null,null,{"$f":"IF(A842=\"\",\"\",IF(B842=\"\",E841,IF(D842=\"\",E841,D842/MAX($D$8:D842)-1)))","v":""}]
[null,null,null,null,{"$f":"IF(A843=\"\",\"\",IF(B843=\"\",E842,IF(D843=\"\",E842,D843/MAX($D$8:D843)-1)))","v":""}]
[null,null,null,null,{"$f":"IF(A844=\"\",\"\",IF(B844=\"\",E843,IF(D844=\"\",E843,D844/MAX($D$8:D844)-1)))","v":""}]
[null,null,null,null,{"$f":"IF(A845=\"\",\"\",IF(B845=\"\",E844,IF(D845=\"\",E844,D845/MAX($D$8:D845)-1)))","v":""}]
[null,null,null,null,{"$f":"IF(A846=\"\",\"\",IF(B846=\"\",E845,IF(D846=\"\",E845,D846/MAX($D$8:D846)-1)))","v":""}]
[null,null,null,null,{"$f":"IF(A847=\"\",\"\",IF(B847=\"\",E846,IF(D847=\"\",E846,D847/MAX($D$8:D847)-1)))","v":""}]
[null,null,null,null,{"$f":"IF(A848=\"\",\"\",IF(B848=\"\",E847,IF(D848=\"\",E847,D848/MAX($D$8:D848)-1)))","v":""}]
[null,null,null,null,{"$f":"IF(A849=\"\",\"\",IF(B849=\"\",E848,IF(D849=\"\",E848,D849/MAX($D$8:D849)-1)))","v":""}]
[null,null,null,null,{"$f":"IF(A850=\"\",\"\",IF(B850=\"\",E849,IF(D850=\"\",E849,D850/MAX($D$8:D850)-1)))","v":""}]
[null,null,null,null,{"$f":"IF(A851=\"\",\"\",IF(B851=\"\",E850,IF(D851=\"\",E850,D851/MAX($D$8:D851)-1)))","v":""}]
[null,null,null,null,{"$f":"IF(A852=\"\",\"\",IF(B852=\"\",E851,IF(D852=\"\",E851,D852/MAX($D$8:D852)-1)))","v":""}]
[null,null,null,null,{"$f":"IF(A853=\"\",\"\",IF(B853=\"\",E852,IF(D853=\"\",E852,D853/MAX($D$8:D853)-1)))","v":""}]
[null,null,null,null,{"$f":"IF(A854=\"\",\"\",IF(B854=\"\",E853,IF(D854=\"\",E853,D854/MAX($D$8:D854)-1)))","v":""}]
[null,null,null,null,{"$f":"IF(A855=\"\",\"\",IF(B855=\"\",E854,IF(D855=\"\",E854,D855/MAX($D$8:D855)-1)))","v":""}]
[null,null,null,null,{"$f":"IF(A856=\"\",\"\",IF(B856=\"\",E855,IF(D856=\"\",E855,D856/MAX($D$8:D856)-1)))","v":""}]
[null,null,null,null,{"$f":"IF(A857=\"\",\"\",IF(B857=\"\",E856,IF(D857=\"\",E856,D857/MAX($D$8:D857)-1)))","v":""}]
[null,null,null,null,{"$f":"IF(A858=\"\",\"\",IF(B858=\"\",E857,IF(D858=\"\",E857,D858/MAX($D$8:D858)-1)))","v":""}]
[null,null,null,null,{"$f":"IF(A859=\"\",\"\",IF(B859=\"\",E858,IF(D859=\"\",E858,D859/MAX($D$8:D859)-1)))","v":""}]
[null,null,null,null,{"$f":"IF(A860=\"\",\"\",IF(B860=\"\",E859,IF(D860=\"\",E859,D860/MAX($D$8:D860)-1)))","v":""}]
[null,null,null,null,{"$f":"IF(A861=\"\",\"\",IF(B861=\"\",E860,IF(D861=\"\",E860,D861/MAX($D$8:D861)-1)))","v":""}]
[null,null,null,null,{"$f":"IF(A862=\"\",\"\",IF(B862=\"\",E861,IF(D862=\"\",E861,D862/MAX($D$8:D862)-1)))","v":""}]
[null,null,null,null,{"$f":"IF(A863=\"\",\"\",IF(B863=\"\",E862,IF(D863=\"\",E862,D863/MAX($D$8:D863)-1)))","v":""}]
[null,null,null,null,{"$f":"IF(A864=\"\",\"\",IF(B864=\"\",E863,IF(D864=\"\",E863,D864/MAX($D$8:D864)-1)))","v":""}]
[null,null,null,null,{"$f":"IF(A865=\"\",\"\",IF(B865=\"\",E864,IF(D865=\"\",E864,D865/MAX($D$8:D865)-1)))","v":""}]
[null,null,null,null,{"$f":"IF(A866=\"\",\"\",IF(B866=\"\",E865,IF(D866=\"\",E865,D866/MAX($D$8:D866)-1)))","v":""}]
[null,null,null,null,{"$f":"IF(A867=\"\",\"\",IF(B867=\"\",E866,IF(D867=\"\",E866,D867/MAX($D$8:D867)-1)))","v":""}]
[null,null,null,null,{"$f":"IF(A868=\"\",\"\",IF(B868=\"\",E867,IF(D868=\"\",E867,D868/MAX($D$8:D868)-1)))","v":""}]
[null,null,null,null,{"$f":"IF(A869=\"\",\"\",IF(B869=\"\",E868,IF(D869=\"\",E868,D869/MAX($D$8:D869)-1)))","v":""}]
[null,null,null,null,{"$f":"IF(A870=\"\",\"\",IF(B870=\"\",E869,IF(D870=\"\",E869,D870/MAX($D$8:D870)-1)))","v":""}]
[null,null,null,null,{"$f":"IF(A871=\"\",\"\",IF(B871=\"\",E870,IF(D871=\"\",E870,D871/MAX($D$8:D871)-1)))","v":""}]
[null,null,null,null,{"$f":"IF(A872=\"\",\"\",IF(B872=\"\",E871,IF(D872=\"\",E871,D872/MAX($D$8:D872)-1)))","v":""}]
[null,null,null,null,{"$f":"IF(A873=\"\",\"\",IF(B873=\"\",E872,IF(D873=\"\",E872,D873/MAX($D$8:D873)-1)))","v":""}]
[null,null,null,null,{"$f":"IF(A874=\"\",\"\",IF(B874=\"\",E873,IF(D874=\"\",E873,D874/MAX($D$8:D874)-1)))","v":""}]
[null,null,null,null,{"$f":"IF(A875=\"\",\"\",IF(B875=\"\",E874,IF(D875=\"\",E874,D875/MAX($D$8:D875)-1)))","v":""}]
[null,null,null,null,{"$f":"IF(A876=\"\",\"\",IF(B876=\"\",E875,IF(D876=\"\",E875,D876/MAX($D$8:D876)-1)))","v":""}]
[null,null,null,null,{"$f":"IF(A877=\"\",\"\",IF(B877=\"\",E876,IF(D877=\"\",E876,D877/MAX($D$8:D877)-1)))","v":""}]
[null,null,null,null,{"$f":"IF(A878=\"\",\"\",IF(B878=\"\",E877,IF(D878=\"\",E877,D878/MAX($D$8:D878)-1)))","v":""}]
[null,null,null,null,{"$f":"IF(A879=\"\",\"\",IF(B879=\"\",E878,IF(D879=\"\",E878,D879/MAX($D$8:D879)-1)))","v":""}]
[null,null,null,null,{"$f":"IF(A880=\"\",\"\",IF(B880=\"\",E879,IF(D880=\"\",E879,D880/MAX($D$8:D880)-1)))","v":""}]
[null,null,null,null,{"$f":"IF(A881=\"\",\"\",IF(B881=\"\",E880,IF(D881=\"\",E880,D881/MAX($D$8:D881)-1)))","v":""}]
[null,null,null,null,{"$f":"IF(A882=\"\",\"\",IF(B882=\"\",E881,IF(D882=\"\",E881,D882/MAX($D$8:D882)-1)))","v":""}]
[null,null,null,null,{"$f":"IF(A883=\"\",\"\",IF(B883=\"\",E882,IF(D883=\"\",E882,D883/MAX($D$8:D883)-1)))","v":""}]
[null,null,null,null,{"$f":"IF(A884=\"\",\"\",IF(B884=\"\",E883,IF(D884=\"\",E883,D884/MAX($D$8:D884)-1)))","v":""}]
[null,null,null,null,{"$f":"IF(A885=\"\",\"\",IF(B885=\"\",E884,IF(D885=\"\",E884,D885/MAX($D$8:D885)-1)))","v":""}]
[null,null,null,null,{"$f":"IF(A886=\"\",\"\",IF(B886=\"\",E885,IF(D886=\"\",E885,D886/MAX($D$8:D886)-1)))","v":""}]
[null,null,null,null,{"$f":"IF(A887=\"\",\"\",IF(B887=\"\",E886,IF(D887=\"\",E886,D887/MAX($D$8:D887)-1)))","v":""}]
[null,null,null,null,{"$f":"IF(A888=\"\",\"\",IF(B888=\"\",E887,IF(D888=\"\",E887,D888/MAX($D$8:D888)-1)))","v":""}]
[null,null,null,null,{"$f":"IF(A889=\"\",\"\",IF(B889=\"\",E888,IF(D889=\"\",E888,D889/MAX($D$8:D889)-1)))","v":""}]
[null,null,null,null,{"$f":"IF(A890=\"\",\"\",IF(B890=\"\",E889,IF(D890=\"\",E889,D890/MAX($D$8:D890)-1)))","v":""}]
[null,null,null,null,{"$f":"IF(A891=\"\",\"\",IF(B891=\"\",E890,IF(D891=\"\",E890,D891/MAX($D$8:D891)-1)))","v":""}]
[null,null,null,null,{"$f":"IF(A892=\"\",\"\",IF(B892=\"\",E891,IF(D892=\"\",E891,D892/MAX($D$8:D892)-1)))","v":""}]
[null,null,null,null,{"$f":"IF(A893=\"\",\"\",IF(B893=\"\",E892,IF(D893=\"\",E892,D893/MAX($D$8:D893)-1)))","v":""}]
[null,null,null,null,{"$f":"IF(A894=\"\",\"\",IF(B894=\"\",E893,IF(D894=\"\",E893,D894/MAX($D$8:D894)-1)))","v":""}]
[null,null,null,null,{"$f":"IF(A895=\"\",\"\",IF(B895=\"\",E894,IF(D895=\"\",E894,D895/MAX($D$8:D895)-1)))","v":""}]
[null,null,null,null,{"$f":"IF(A896=\"\",\"\",IF(B896=\"\",E895,IF(D896=\"\",E895,D896/MAX($D$8:D896)-1)))","v":""}]
[null,null,null,null,{"$f":"IF(A897=\"\",\"\",IF(B897=\"\",E896,IF(D897=\"\",E896,D897/MAX($D$8:D897)-1)))","v":""}]
[null,null,null,null,{"$f":"IF(A898=\"\",\"\",IF(B898=\"\",E897,IF(D898=\"\",E897,D898/MAX($D$8:D898)-1)))","v":""}]
[null,null,null,null,{"$f":"IF(A899=\"\",\"\",IF(B899=\"\",E898,IF(D899=\"\",E898,D899/MAX($D$8:D899)-1)))","v":""}]
[null,null,null,null,{"$f":"IF(A900=\"\",\"\",IF(B900=\"\",E899,IF(D900=\"\",E899,D900/MAX($D$8:D900)-1)))","v":""}]
[null,null,null,null,{"$f":"IF(A901=\"\",\"\",IF(B901=\"\",E900,IF(D901=\"\",E900,D901/MAX($D$8:D901)-1)))","v":""}]
[null,null,null,null,{"$f":"IF(A902=\"\",\"\",IF(B902=\"\",E901,IF(D902=\"\",E901,D902/MAX($D$8:D902)-1)))","v":""}]
[null,null,null,null,{"$f":"IF(A903=\"\",\"\",IF(B903=\"\",E902,IF(D903=\"\",E902,D903/MAX($D$8:D903)-1)))","v":""}]
[null,null,null,null,{"$f":"IF(A904=\"\",\"\",IF(B904=\"\",E903,IF(D904=\"\",E903,D904/MAX($D$8:D904)-1)))","v":""}]
[null,null,null,null,{"$f":"IF(A905=\"\",\"\",IF(B905=\"\",E904,IF(D905=\"\",E904,D905/MAX($D$8:D905)-1)))","v":""}]
[null,null,null,null,{"$f":"IF(A906=\"\",\"\",IF(B906=\"\",E905,IF(D906=\"\",E905,D906/MAX($D$8:D906)-1)))","v":""}]
[null,null,null,null,{"$f":"IF(A907=\"\",\"\",IF(B907=\"\",E906,IF(D907=\"\",E906,D907/MAX($D$8:D907)-1)))","v":""}]
[null,null,null,null,{"$f":"IF(A908=\"\",\"\",IF(B908=\"\",E907,IF(D908=\"\",E907,D908/MAX($D$8:D908)-1)))","v":""}]
[null,null,null,null,{"$f":"IF(A909=\"\",\"\",IF(B909=\"\",E908,IF(D909=\"\",E908,D909/MAX($D$8:D909)-1)))","v":""}]
[null,null,null,null,{"$f":"IF(A910=\"\",\"\",IF(B910=\"\",E909,IF(D910=\"\",E909,D910/MAX($D$8:D910)-1)))","v":""}]
[null,null,null,null,{"$f":"IF(A911=\"\",\"\",IF(B911=\"\",E910,IF(D911=\"\",E910,D911/MAX($D$8:D911)-1)))","v":""}]
[null,null,null,null,{"$f":"IF(A912=\"\",\"\",IF(B912=\"\",E911,IF(D912=\"\",E911,D912/MAX($D$8:D912)-1)))","v":""}]
[null,null,null,null,{"$f":"IF(A913=\"\",\"\",IF(B913=\"\",E912,IF(D913=\"\",E912,D913/MAX($D$8:D913)-1)))","v":""}]
[null,null,null,null,{"$f":"IF(A914=\"\",\"\",IF(B914=\"\",E913,IF(D914=\"\",E913,D914/MAX($D$8:D914)-1)))","v":""}]
[null,null,null,null,{"$f":"IF(A915=\"\",\"\",IF(B915=\"\",E914,IF(D915=\"\",E914,D915/MAX($D$8:D915)-1)))","v":""}]
[null,null,null,null,{"$f":"IF(A916=\"\",\"\",IF(B916=\"\",E915,IF(D916=\"\",E915,D916/MAX($D$8:D916)-1)))","v":""}]
[null,null,null,null,{"$f":"IF(A917=\"\",\"\",IF(B917=\"\",E916,IF(D917=\"\",E916,D917/MAX($D$8:D917)-1)))","v":""}]
[null,null,null,null,{"$f":"IF(A918=\"\",\"\",IF(B918=\"\",E917,IF(D918=\"\",E917,D918/MAX($D$8:D918)-1)))","v":""}]
[null,null,null,null,{"$f":"IF(A919=\"\",\"\",IF(B919=\"\",E918,IF(D919=\"\",E918,D919/MAX($D$8:D919)-1)))","v":""}]
[null,null,null,null,{"$f":"IF(A920=\"\",\"\",IF(B920=\"\",E919,IF(D920=\"\",E919,D920/MAX($D$8:D920)-1)))","v":""}]
[null,null,null,null,{"$f":"IF(A921=\"\",\"\",IF(B921=\"\",E920,IF(D921=\"\",E920,D921/MAX($D$8:D921)-1)))","v":""}]
[null,null,null,null,{"$f":"IF(A922=\"\",\"\",IF(B922=\"\",E921,IF(D922=\"\",E921,D922/MAX($D$8:D922)-1)))","v":""}]
[null,null,null,null,{"$f":"IF(A923=\"\",\"\",IF(B923=\"\",E922,IF(D923=\"\",E922,D923/MAX($D$8:D923)-1)))","v":""}]
[null,null,null,null,{"$f":"IF(A924=\"\",\"\",IF(B924=\"\",E923,IF(D924=\"\",E923,D924/MAX($D$8:D924)-1)))","v":""}]
[null,null,null,null,{"$f":"IF(A925=\"\",\"\",IF(B925=\"\",E924,IF(D925=\"\",E924,D925/MAX($D$8:D925)-1)))","v":""}]
[null,null,null,null,{"$f":"IF(A926=\"\",\"\",IF(B926=\"\",E925,IF(D926=\"\",E925,D926/MAX($D$8:D926)-1)))","v":""}]
[null,null,null,null,{"$f":"IF(A927=\"\",\"\",IF(B927=\"\",E926,IF(D927=\"\",E926,D927/MAX($D$8:D927)-1)))","v":""}]
[null,null,null,null,{"$f":"IF(A928=\"\",\"\",IF(B928=\"\",E927,IF(D928=\"\",E927,D928/MAX($D$8:D928)-1)))","v":""}]
[null,null,null,null,{"$f":"IF(A929=\"\",\"\",IF(B929=\"\",E928,IF(D929=\"\",E928,D929/MAX($D$8:D929)-1)))","v":""}]
[null,null,null,null,{"$f":"IF(A930=\"\",\"\",IF(B930=\"\",E929,IF(D930=\"\",E929,D930/MAX($D$8:D930)-1)))","v":""}]
[null,null,null,null,{"$f":"IF(A931=\"\",\"\",IF(B931=\"\",E930,IF(D931=\"\",E930,D931/MAX($D$8:D931)-1)))","v":""}]
[null,null,null,null,{"$f":"IF(A932=\"\",\"\",IF(B932=\"\",E931,IF(D932=\"\",E931,D932/MAX($D$8:D932)-1)))","v":""}]
[null,null,null,null,{"$f":"IF(A933=\"\",\"\",IF(B933=\"\",E932,IF(D933=\"\",E932,D933/MAX($D$8:D933)-1)))","v":""}]
[null,null,null,null,{"$f":"IF(A934=\"\",\"\",IF(B934=\"\",E933,IF(D934=\"\",E933,D934/MAX($D$8:D934)-1)))","v":""}]
[null,null,null,null,{"$f":"IF(A935=\"\",\"\",IF(B935=\"\",E934,IF(D935=\"\",E934,D935/MAX($D$8:D935)-1)))","v":""}]
[null,null,null,null,{"$f":"IF(A936=\"\",\"\",IF(B936=\"\",E935,IF(D936=\"\",E935,D936/MAX($D$8:D936)-1)))","v":""}]
[null,null,null,null,{"$f":"IF(A937=\"\",\"\",IF(B937=\"\",E936,IF(D937=\"\",E936,D937/MAX($D$8:D937)-1)))","v":""}]
[null,null,null,null,{"$f":"IF(A938=\"\",\"\",IF(B938=\"\",E937,IF(D938=\"\",E937,D938/MAX($D$8:D938)-1)))","v":""}]
[null,null,null,null,{"$f":"IF(A939=\"\",\"\",IF(B939=\"\",E938,IF(D939=\"\",E938,D939/MAX($D$8:D939)-1)))","v":""}]
[null,null,null,null,{"$f":"IF(A940=\"\",\"\",IF(B940=\"\",E939,IF(D940=\"\",E939,D940/MAX($D$8:D940)-1)))","v":""}]
[null,null,null,null,{"$f":"IF(A941=\"\",\"\",IF(B941=\"\",E940,IF(D941=\"\",E940,D941/MAX($D$8:D941)-1)))","v":""}]
[null,null,null,null,{"$f":"IF(A942=\"\",\"\",IF(B942=\"\",E941,IF(D942=\"\",E941,D942/MAX($D$8:D942)-1)))","v":""}]
[null,null,null,null,{"$f":"IF(A943=\"\",\"\",IF(B943=\"\",E942,IF(D943=\"\",E942,D943/MAX($D$8:D943)-1)))","v":""}]
[null,null,null,null,{"$f":"IF(A944=\"\",\"\",IF(B944=\"\",E943,IF(D944=\"\",E943,D944/MAX($D$8:D944)-1)))","v":""}]
[null,null,null,null,{"$f":"IF(A945=\"\",\"\",IF(B945=\"\",E944,IF(D945=\"\",E944,D945/MAX($D$8:D945)-1)))","v":""}]
[null,null,null,null,{"$f":"IF(A946=\"\",\"\",IF(B946=\"\",E945,IF(D946=\"\",E945,D946/MAX($D$8:D946)-1)))","v":""}]
[null,null,null,null,{"$f":"IF(A947=\"\",\"\",IF(B947=\"\",E946,IF(D947=\"\",E946,D947/MAX($D$8:D947)-1)))","v":""}]
[null,null,null,null,{"$f":"IF(A948=\"\",\"\",IF(B948=\"\",E947,IF(D948=\"\",E947,D948/MAX($D$8:D948)-1)))","v":""}]
[null,null,null,null,{"$f":"IF(A949=\"\",\"\",IF(B949=\"\",E948,IF(D949=\"\",E948,D949/MAX($D$8:D949)-1)))","v":""}]
[null,null,null,null,{"$f":"IF(A950=\"\",\"\",IF(B950=\"\",E949,IF(D950=\"\",E949,D950/MAX($D$8:D950)-1)))","v":""}]
[null,null,null,null,{"$f":"IF(A951=\"\",\"\",IF(B951=\"\",E950,IF(D951=\"\",E950,D951/MAX($D$8:D951)-1)))","v":""}]
[null,null,null,null,{"$f":"IF(A952=\"\",\"\",IF(B952=\"\",E951,IF(D952=\"\",E951,D952/MAX($D$8:D952)-1)))","v":""}]
[null,null,null,null,{"$f":"IF(A953=\"\",\"\",IF(B953=\"\",E952,IF(D953=\"\",E952,D953/MAX($D$8:D953)-1)))","v":""}]
[null,null,null,null,{"$f":"IF(A954=\"\",\"\",IF(B954=\"\",E953,IF(D954=\"\",E953,D954/MAX($D$8:D954)-1)))","v":""}]
[null,null,null,null,{"$f":"IF(A955=\"\",\"\",IF(B955=\"\",E954,IF(D955=\"\",E954,D955/MAX($D$8:D955)-1)))","v":""}]
[null,null,null,null,{"$f":"IF(A956=\"\",\"\",IF(B956=\"\",E955,IF(D956=\"\",E955,D956/MAX($D$8:D956)-1)))","v":""}]
[null,null,null,null,{"$f":"IF(A957=\"\",\"\",IF(B957=\"\",E956,IF(D957=\"\",E956,D957/MAX($D$8:D957)-1)))","v":""}]
[null,null,null,null,{"$f":"IF(A958=\"\",\"\",IF(B958=\"\",E957,IF(D958=\"\",E957,D958/MAX($D$8:D958)-1)))","v":""}]
[null,null,null,null,{"$f":"IF(A959=\"\",\"\",IF(B959=\"\",E958,IF(D959=\"\",E958,D959/MAX($D$8:D959)-1)))","v":""}]
[null,null,null,null,{"$f":"IF(A960=\"\",\"\",IF(B960=\"\",E959,IF(D960=\"\",E959,D960/MAX($D$8:D960)-1)))","v":""}]
[null,null,null,null,{"$f":"IF(A961=\"\",\"\",IF(B961=\"\",E960,IF(D961=\"\",E960,D961/MAX($D$8:D961)-1)))","v":""}]
[null,null,null,null,{"$f":"IF(A962=\"\",\"\",IF(B962=\"\",E961,IF(D962=\"\",E961,D962/MAX($D$8:D962)-1)))","v":""}]
[null,null,null,null,{"$f":"IF(A963=\"\",\"\",IF(B963=\"\",E962,IF(D963=\"\",E962,D963/MAX($D$8:D963)-1)))","v":""}]
[null,null,null,null,{"$f":"IF(A964=\"\",\"\",IF(B964=\"\",E963,IF(D964=\"\",E963,D964/MAX($D$8:D964)-1)))","v":""}]
[null,null,null,null,{"$f":"IF(A965=\"\",\"\",IF(B965=\"\",E964,IF(D965=\"\",E964,D965/MAX($D$8:D965)-1)))","v":""}]
[null,null,null,null,{"$f":"IF(A966=\"\",\"\",IF(B966=\"\",E965,IF(D966=\"\",E965,D966/MAX($D$8:D966)-1)))","v":""}]
[null,null,null,null,{"$f":"IF(A967=\"\",\"\",IF(B967=\"\",E966,IF(D967=\"\",E966,D967/MAX($D$8:D967)-1)))","v":""}]
[null,null,null,null,{"$f":"IF(A968=\"\",\"\",IF(B968=\"\",E967,IF(D968=\"\",E967,D968/MAX($D$8:D968)-1)))","v":""}]
[null,null,null,null,{"$f":"IF(A969=\"\",\"\",IF(B969=\"\",E968,IF(D969=\"\",E968,D969/MAX($D$8:D969)-1)))","v":""}]
[null,null,null,null,{"$f":"IF(A970=\"\",\"\",IF(B970=\"\",E969,IF(D970=\"\",E969,D970/MAX($D$8:D970)-1)))","v":""}]
[null,null,null,null,{"$f":"IF(A971=\"\",\"\",IF(B971=\"\",E970,IF(D971=\"\",E970,D971/MAX($D$8:D971)-1)))","v":""}]
[null,null,null,null,{"$f":"IF(A972=\"\",\"\",IF(B972=\"\",E971,IF(D972=\"\",E971,D972/MAX($D$8:D972)-1)))","v":""}]
[null,null,null,null,{"$f":"IF(A973=\"\",\"\",IF(B973=\"\",E972,IF(D973=\"\",E972,D973/MAX($D$8:D973)-1)))","v":""}]
[null,null,null,null,{"$f":"IF(A974=\"\",\"\",IF(B974=\"\",E973,IF(D974=\"\",E973,D974/MAX($D$8:D974)-1)))","v":""}]
[null,null,null,null,{"$f":"IF(A975=\"\",\"\",IF(B975=\"\",E974,IF(D975=\"\",E974,D975/MAX($D$8:D975)-1)))","v":""}]
[null,null,null,null,{"$f":"IF(A976=\"\",\"\",IF(B976=\"\",E975,IF(D976=\"\",E975,D976/MAX($D$8:D976)-1)))","v":""}]
[null,null,null,null,{"$f":"IF(A977=\"\",\"\",IF(B977=\"\",E976,IF(D977=\"\",E976,D977/MAX($D$8:D977)-1)))","v":""}]
[null,null,null,null,{"$f":"IF(A978=\"\",\"\",IF(B978=\"\",E977,IF(D978=\"\",E977,D978/MAX($D$8:D978)-1)))","v":""}]
[null,null,null,null,{"$f":"IF(A979=\"\",\"\",IF(B979=\"\",E978,IF(D979=\"\",E978,D979/MAX($D$8:D979)-1)))","v":""}]
[null,null,null,null,{"$f":"IF(A980=\"\",\"\",IF(B980=\"\",E979,IF(D980=\"\",E979,D980/MAX($D$8:D980)-1)))","v":""}]
[null,null,null,null,{"$f":"IF(A981=\"\",\"\",IF(B981=\"\",E980,IF(D981=\"\",E980,D981/MAX($D$8:D981)-1)))","v":""}]
[null,null,null,null,{"$f":"IF(A982=\"\",\"\",IF(B982=\"\",E981,IF(D982=\"\",E981,D982/MAX($D$8:D982)-1)))","v":""}]
[null,null,null,null,{"$f":"IF(A983=\"\",\"\",IF(B983=\"\",E982,IF(D983=\"\",E982,D983/MAX($D$8:D983)-1)))","v":""}]
[null,null,null,null,{"$f":"IF(A984=\"\",\"\",IF(B984=\"\",E983,IF(D984=\"\",E983,D984/MAX($D$8:D984)-1)))","v":""}]
[null,null,null,null,{"$f":"IF(A985=\"\",\"\",IF(B985=\"\",E984,IF(D985=\"\",E984,D985/MAX($D$8:D985)-1)))","v":""}]
[null,null,null,null,{"$f":"IF(A986=\"\",\"\",IF(B986=\"\",E985,IF(D986=\"\",E985,D986/MAX($D$8:D986)-1)))","v":""}]
[null,null,null,null,{"$f":"IF(A987=\"\",\"\",IF(B987=\"\",E986,IF(D987=\"\",E986,D987/MAX($D$8:D987)-1)))","v":""}]
[null,null,null,null,{"$f":"IF(A988=\"\",\"\",IF(B988=\"\",E987,IF(D988=\"\",E987,D988/MAX($D$8:D988)-1)))","v":""}]
[null,null,null,null,{"$f":"IF(A989=\"\",\"\",IF(B989=\"\",E988,IF(D989=\"\",E988,D989/MAX($D$8:D989)-1)))","v":""}]
[null,null,null,null,{"$f":"IF(A990=\"\",\"\",IF(B990=\"\",E989,IF(D990=\"\",E989,D990/MAX($D$8:D990)-1)))","v":""}]
[null,null,null,null,{"$f":"IF(A991=\"\",\"\",IF(B991=\"\",E990,IF(D991=\"\",E990,D991/MAX($D$8:D991)-1)))","v":""}]
[null,null,null,null,{"$f":"IF(A992=\"\",\"\",IF(B992=\"\",E991,IF(D992=\"\",E991,D992/MAX($D$8:D992)-1)))","v":""}]
[null,null,null,null,{"$f":"IF(A993=\"\",\"\",IF(B993=\"\",E992,IF(D993=\"\",E992,D993/MAX($D$8:D993)-1)))","v":""}]
[null,null,null,null,{"$f":"IF(A994=\"\",\"\",IF(B994=\"\",E993,IF(D994=\"\",E993,D994/MAX($D$8:D994)-1)))","v":""}]
[null,null,null,null,{"$f":"IF(A995=\"\",\"\",IF(B995=\"\",E994,IF(D995=\"\",E994,D995/MAX($D$8:D995)-1)))","v":""}]
[null,null,null,null,{"$f":"IF(A996=\"\",\"\",IF(B996=\"\",E995,IF(D996=\"\",E995,D996/MAX($D$8:D996)-1)))","v":""}]
[null,null,null,null,{"$f":"IF(A997=\"\",\"\",IF(B997=\"\",E996,IF(D997=\"\",E996,D997/MAX($D$8:D997)-1)))","v":""}]
[null,null,null,null,{"$f":"IF(A998=\"\",\"\",IF(B998=\"\",E997,IF(D998=\"\",E997,D998/MAX($D$8:D998)-1)))","v":""}]
[null,null,null,null,{"$f":"IF(A999=\"\",\"\",IF(B999=\"\",E998,IF(D999=\"\",E998,D999/MAX($D$8:D999)-1)))","v":""}]
[null,null,null,null,{"$f":"IF(A1000=\"\",\"\",IF(B1000=\"\",E999,IF(D1000=\"\",E999,D1000/MAX($D$8:D1000)-1)))","v":""}]
[null,null,null,null,{"$f":"IF(A1001=\"\",\"\",IF(B1001=\"\",E1000,IF(D1001=\"\",E1000,D1001/MAX($D$8:D1001)-1)))","v":""}]
[null,null,null,null,{"$f":"IF(A1002=\"\",\"\",IF(B1002=\"\",E1001,IF(D1002=\"\",E1001,D1002/MAX($D$8:D1002)-1)))","v":""}]
[null,null,null,null,{"$f":"IF(A1003=\"\",\"\",IF(B1003=\"\",E1002,IF(D1003=\"\",E1002,D1003/MAX($D$8:D1003)-1)))","v":""}]
[null,null,null,null,{"$f":"IF(A1004=\"\",\"\",IF(B1004=\"\",E1003,IF(D1004=\"\",E1003,D1004/MAX($D$8:D1004)-1)))","v":""}]
[null,null,null,null,{"$f":"IF(A1005=\"\",\"\",IF(B1005=\"\",E1004,IF(D1005=\"\",E1004,D1005/MAX($D$8:D1005)-1)))","v":""}]
[null,null,null,null,{"$f":"IF(A1006=\"\",\"\",IF(B1006=\"\",E1005,IF(D1006=\"\",E1005,D1006/MAX($D$8:D1006)-1)))","v":""}]
[null,null,null,null,{"$f":"IF(A1007=\"\",\"\",IF(B1007=\"\",E1006,IF(D1007=\"\",E1006,D1007/MAX($D$8:D1007)-1)))","v":""}]
[null,null,null,null,{"$f":"IF(A1008=\"\",\"\",IF(B1008=\"\",E1007,IF(D1008=\"\",E1007,D1008/MAX($D$8:D1008)-1)))","v":""}]
[null,null,null,null,{"$f":"IF(A1009=\"\",\"\",IF(B1009=\"\",E1008,IF(D1009=\"\",E1008,D1009/MAX($D$8:D1009)-1)))","v":""}]
[null,null,null,null,{"$f":"IF(A1010=\"\",\"\",IF(B1010=\"\",E1009,IF(D1010=\"\",E1009,D1010/MAX($D$8:D1010)-1)))","v":""}]
[null,null,null,null,{"$f":"IF(A1011=\"\",\"\",IF(B1011=\"\",E1010,IF(D1011=\"\",E1010,D1011/MAX($D$8:D1011)-1)))","v":""}]
[null,null,null,null,{"$f":"IF(A1012=\"\",\"\",IF(B1012=\"\",E1011,IF(D1012=\"\",E1011,D1012/MAX($D$8:D1012)-1)))","v":""}]
[null,null,null,null,{"$f":"IF(A1013=\"\",\"\",IF(B1013=\"\",E1012,IF(D1013=\"\",E1012,D1013/MAX($D$8:D1013)-1)))","v":""}]
[null,null,null,null,{"$f":"IF(A1014=\"\",\"\",IF(B1014=\"\",E1013,IF(D1014=\"\",E1013,D1014/MAX($D$8:D1014)-1)))","v":""}]
[null,null,null,null,{"$f":"IF(A1015=\"\",\"\",IF(B1015=\"\",E1014,IF(D1015=\"\",E1014,D1015/MAX($D$8:D1015)-1)))","v":""}]
[null,null,null,null,{"$f":"IF(A1016=\"\",\"\",IF(B1016=\"\",E1015,IF(D1016=\"\",E1015,D1016/MAX($D$8:D1016)-1)))","v":""}]
[null,null,null,null,{"$f":"IF(A1017=\"\",\"\",IF(B1017=\"\",E1016,IF(D1017=\"\",E1016,D1017/MAX($D$8:D1017)-1)))","v":""}]
[null,null,null,null,{"$f":"IF(A1018=\"\",\"\",IF(B1018=\"\",E1017,IF(D1018=\"\",E1017,D1018/MAX($D$8:D1018)-1)))","v":""}]
[null,null,null,null,{"$f":"IF(A1019=\"\",\"\",IF(B1019=\"\",E1018,IF(D1019=\"\",E1018,D1019/MAX($D$8:D1019)-1)))","v":""}]
[null,null,null,null,{"$f":"IF(A1020=\"\",\"\",IF(B1020=\"\",E1019,IF(D1020=\"\",E1019,D1020/MAX($D$8:D1020)-1)))","v":""}]
[null,null,null,null,{"$f":"IF(A1021=\"\",\"\",IF(B1021=\"\",E1020,IF(D1021=\"\",E1020,D1021/MAX($D$8:D1021)-1)))","v":""}]
[null,null,null,null,{"$f":"IF(A1022=\"\",\"\",IF(B1022=\"\",E1021,IF(D1022=\"\",E1021,D1022/MAX($D$8:D1022)-1)))","v":""}]
[null,null,null,null,{"$f":"IF(A1023=\"\",\"\",IF(B1023=\"\",E1022,IF(D1023=\"\",E1022,D1023/MAX($D$8:D1023)-1)))","v":""}]
[null,null,null,null,{"$f":"IF(A1024=\"\",\"\",IF(B1024=\"\",E1023,IF(D1024=\"\",E1023,D1024/MAX($D$8:D1024)-1)))","v":""}]
[null,null,null,null,{"$f":"IF(A1025=\"\",\"\",IF(B1025=\"\",E1024,IF(D1025=\"\",E1024,D1025/MAX($D$8:D1025)-1)))","v":""}]
[null,null,null,null,{"$f":"IF(A1026=\"\",\"\",IF(B1026=\"\",E1025,IF(D1026=\"\",E1025,D1026/MAX($D$8:D1026)-1)))","v":""}]
[null,null,null,null,{"$f":"IF(A1027=\"\",\"\",IF(B1027=\"\",E1026,IF(D1027=\"\",E1026,D1027/MAX($D$8:D1027)-1)))","v":""}]
[null,null,null,null,{"$f":"IF(A1028=\"\",\"\",IF(B1028=\"\",E1027,IF(D1028=\"\",E1027,D1028/MAX($D$8:D1028)-1)))","v":""}]
[null,null,null,null,{"$f":"IF(A1029=\"\",\"\",IF(B1029=\"\",E1028,IF(D1029=\"\",E1028,D1029/MAX($D$8:D1029)-1)))","v":""}]
[null,null,null,null,{"$f":"IF(A1030=\"\",\"\",IF(B1030=\"\",E1029,IF(D1030=\"\",E1029,D1030/MAX($D$8:D1030)-1)))","v":""}]
[null,null,null,null,{"$f":"IF(A1031=\"\",\"\",IF(B1031=\"\",E1030,IF(D1031=\"\",E1030,D1031/MAX($D$8:D1031)-1)))","v":""}]
[null,null,null,null,{"$f":"IF(A1032=\"\",\"\",IF(B1032=\"\",E1031,IF(D1032=\"\",E1031,D1032/MAX($D$8:D1032)-1)))","v":""}]
[null,null,null,null,{"$f":"IF(A1033=\"\",\"\",IF(B1033=\"\",E1032,IF(D1033=\"\",E1032,D1033/MAX($D$8:D1033)-1)))","v":""}]
[null,null,null,null,{"$f":"IF(A1034=\"\",\"\",IF(B1034=\"\",E1033,IF(D1034=\"\",E1033,D1034/MAX($D$8:D1034)-1)))","v":""}]
[null,null,null,null,{"$f":"IF(A1035=\"\",\"\",IF(B1035=\"\",E1034,IF(D1035=\"\",E1034,D1035/MAX($D$8:D1035)-1)))","v":""}]
[null,null,null,null,{"$f":"IF(A1036=\"\",\"\",IF(B1036=\"\",E1035,IF(D1036=\"\",E1035,D1036/MAX($D$8:D1036)-1)))","v":""}]
[null,null,null,null,{"$f":"IF(A1037=\"\",\"\",IF(B1037=\"\",E1036,IF(D1037=\"\",E1036,D1037/MAX($D$8:D1037)-1)))","v":""}]
[null,null,null,null,{"$f":"IF(A1038=\"\",\"\",IF(B1038=\"\",E1037,IF(D1038=\"\",E1037,D1038/MAX($D$8:D1038)-1)))","v":""}]
[null,null,null,null,{"$f":"IF(A1039=\"\",\"\",IF(B1039=\"\",E1038,IF(D1039=\"\",E1038,D1039/MAX($D$8:D1039)-1)))","v":""}]
[null,null,null,null,{"$f":"IF(A1040=\"\",\"\",IF(B1040=\"\",E1039,IF(D1040=\"\",E1039,D1040/MAX($D$8:D1040)-1)))","v":""}]
[null,null,null,null,{"$f":"IF(A1041=\"\",\"\",IF(B1041=\"\",E1040,IF(D1041=\"\",E1040,D1041/MAX($D$8:D1041)-1)))","v":""}]
[null,null,null,null,{"$f":"IF(A1042=\"\",\"\",IF(B1042=\"\",E1041,IF(D1042=\"\",E1041,D1042/MAX($D$8:D1042)-1)))","v":""}]
[null,null,null,null,{"$f":"IF(A1043=\"\",\"\",IF(B1043=\"\",E1042,IF(D1043=\"\",E1042,D1043/MAX($D$8:D1043)-1)))","v":""}]
[null,null,null,null,{"$f":"IF(A1044=\"\",\"\",IF(B1044=\"\",E1043,IF(D1044=\"\",E1043,D1044/MAX($D$8:D1044)-1)))","v":""}]
[null,null,null,null,{"$f":"IF(A1045=\"\",\"\",IF(B1045=\"\",E1044,IF(D1045=\"\",E1044,D1045/MAX($D$8:D1045)-1)))","v":""}]
[null,null,null,null,{"$f":"IF(A1046=\"\",\"\",IF(B1046=\"\",E1045,IF(D1046=\"\",E1045,D1046/MAX($D$8:D1046)-1)))","v":""}]
[null,null,null,null,{"$f":"IF(A1047=\"\",\"\",IF(B1047=\"\",E1046,IF(D1047=\"\",E1046,D1047/MAX($D$8:D1047)-1)))","v":""}]
[null,null,null,null,{"$f":"IF(A1048=\"\",\"\",IF(B1048=\"\",E1047,IF(D1048=\"\",E1047,D1048/MAX($D$8:D1048)-1)))","v":""}]
[null,null,null,null,{"$f":"IF(A1049=\"\",\"\",IF(B1049=\"\",E1048,IF(D1049=\"\",E1048,D1049/MAX($D$8:D1049)-1)))","v":""}]
[null,null,null,null,{"$f":"IF(A1050=\"\",\"\",IF(B1050=\"\",E1049,IF(D1050=\"\",E1049,D1050/MAX($D$8:D1050)-1)))","v":""}]
[null,null,null,null,{"$f":"IF(A1051=\"\",\"\",IF(B1051=\"\",E1050,IF(D1051=\"\",E1050,D1051/MAX($D$8:D1051)-1)))","v":""}]
[null,null,null,null,{"$f":"IF(A1052=\"\",\"\",IF(B1052=\"\",E1051,IF(D1052=\"\",E1051,D1052/MAX($D$8:D1052)-1)))","v":""}]
[null,null,null,null,{"$f":"IF(A1053=\"\",\"\",IF(B1053=\"\",E1052,IF(D1053=\"\",E1052,D1053/MAX($D$8:D1053)-1)))","v":""}]
[null,null,null,null,{"$f":"IF(A1054=\"\",\"\",IF(B1054=\"\",E1053,IF(D1054=\"\",E1053,D1054/MAX($D$8:D1054)-1)))","v":""}]
[null,null,null,null,{"$f":"IF(A1055=\"\",\"\",IF(B1055=\"\",E1054,IF(D1055=\"\",E1054,D1055/MAX($D$8:D1055)-1)))","v":""}]
[null,null,null,null,{"$f":"IF(A1056=\"\",\"\",IF(B1056=\"\",E1055,IF(D1056=\"\",E1055,D1056/MAX($D$8:D1056)-1)))","v":""}]
[null,null,null,null,{"$f":"IF(A1057=\"\",\"\",IF(B1057=\"\",E1056,IF(D1057=\"\",E1056,D1057/MAX($D$8:D1057)-1)))","v":""}]
[null,null,null,null,{"$f":"IF(A1058=\"\",\"\",IF(B1058=\"\",E1057,IF(D1058=\"\",E1057,D1058/MAX($D$8:D1058)-1)))","v":""}]
[null,null,null,null,{"$f":"IF(A1059=\"\",\"\",IF(B1059=\"\",E1058,IF(D1059=\"\",E1058,D1059/MAX($D$8:D1059)-1)))","v":""}]
[null,null,null,null,{"$f":"IF(A1060=\"\",\"\",IF(B1060=\"\",E1059,IF(D1060=\"\",E1059,D1060/MAX($D$8:D1060)-1)))","v":""}]
[null,null,null,null,{"$f":"IF(A1061=\"\",\"\",IF(B1061=\"\",E1060,IF(D1061=\"\",E1060,D1061/MAX($D$8:D1061)-1)))","v":""}]
[null,null,null,null,{"$f":"IF(A1062=\"\",\"\",IF(B1062=\"\",E1061,IF(D1062=\"\",E1061,D1062/MAX($D$8:D1062)-1)))","v":""}]
[null,null,null,null,{"$f":"IF(A1063=\"\",\"\",IF(B1063=\"\",E1062,IF(D1063=\"\",E1062,D1063/MAX($D$8:D1063)-1)))","v":""}]
[null,null,null,null,{"$f":"IF(A1064=\"\",\"\",IF(B1064=\"\",E1063,IF(D1064=\"\",E1063,D1064/MAX($D$8:D1064)-1)))","v":""}]
[null,null,null,null,{"$f":"IF(A1065=\"\",\"\",IF(B1065=\"\",E1064,IF(D1065=\"\",E1064,D1065/MAX($D$8:D1065)-1)))","v":""}]
[null,null,null,null,{"$f":"IF(A1066=\"\",\"\",IF(B1066=\"\",E1065,IF(D1066=\"\",E1065,D1066/MAX($D$8:D1066)-1)))","v":""}]
[null,null,null,null,{"$f":"IF(A1067=\"\",\"\",IF(B1067=\"\",E1066,IF(D1067=\"\",E1066,D1067/MAX($D$8:D1067)-1)))","v":""}]
[null,null,null,null,{"$f":"IF(A1068=\"\",\"\",IF(B1068=\"\",E1067,IF(D1068=\"\",E1067,D1068/MAX($D$8:D1068)-1)))","v":""}]
[null,null,null,null,{"$f":"IF(A1069=\"\",\"\",IF(B1069=\"\",E1068,IF(D1069=\"\",E1068,D1069/MAX($D$8:D1069)-1)))","v":""}]
[null,null,null,null,{"$f":"IF(A1070=\"\",\"\",IF(B1070=\"\",E1069,IF(D1070=\"\",E1069,D1070/MAX($D$8:D1070)-1)))","v":""}]
[null,null,null,null,{"$f":"IF(A1071=\"\",\"\",IF(B1071=\"\",E1070,IF(D1071=\"\",E1070,D1071/MAX($D$8:D1071)-1)))","v":""}]
[null,null,null,null,{"$f":"IF(A1072=\"\",\"\",IF(B1072=\"\",E1071,IF(D1072=\"\",E1071,D1072/MAX($D$8:D1072)-1)))","v":""}]
[null,null,null,null,{"$f":"IF(A1073=\"\",\"\",IF(B1073=\"\",E1072,IF(D1073=\"\",E1072,D1073/MAX($D$8:D1073)-1)))","v":""}]
[null,null,null,null,{"$f":"IF(A1074=\"\",\"\",IF(B1074=\"\",E1073,IF(D1074=\"\",E1073,D1074/MAX($D$8:D1074)-1)))","v":""}]
[null,null,null,null,{"$f":"IF(A1075=\"\",\"\",IF(B1075=\"\",E1074,IF(D1075=\"\",E1074,D1075/MAX($D$8:D1075)-1)))","v":""}]
[null,null,null,null,{"$f":"IF(A1076=\"\",\"\",IF(B1076=\"\",E1075,IF(D1076=\"\",E1075,D1076/MAX($D$8:D1076)-1)))","v":""}]
[null,null,null,null,{"$f":"IF(A1077=\"\",\"\",IF(B1077=\"\",E1076,IF(D1077=\"\",E1076,D1077/MAX($D$8:D1077)-1)))","v":""}]
[null,null,null,null,{"$f":"IF(A1078=\"\",\"\",IF(B1078=\"\",E1077,IF(D1078=\"\",E1077,D1078/MAX($D$8:D1078)-1)))","v":""}]
[null,null,null,null,{"$f":"IF(A1079=\"\",\"\",IF(B1079=\"\",E1078,IF(D1079=\"\",E1078,D1079/MAX($D$8:D1079)-1)))","v":""}]
[null,null,null,null,{"$f":"IF(A1080=\"\",\"\",IF(B1080=\"\",E1079,IF(D1080=\"\",E1079,D1080/MAX($D$8:D1080)-1)))","v":""}]
[null,null,null,null,{"$f":"IF(A1081=\"\",\"\",IF(B1081=\"\",E1080,IF(D1081=\"\",E1080,D1081/MAX($D$8:D1081)-1)))","v":""}]
[null,null,null,null,{"$f":"IF(A1082=\"\",\"\",IF(B1082=\"\",E1081,IF(D1082=\"\",E1081,D1082/MAX($D$8:D1082)-1)))","v":""}]
[null,null,null,null,{"$f":"IF(A1083=\"\",\"\",IF(B1083=\"\",E1082,IF(D1083=\"\",E1082,D1083/MAX($D$8:D1083)-1)))","v":""}]
[null,null,null,null,{"$f":"IF(A1084=\"\",\"\",IF(B1084=\"\",E1083,IF(D1084=\"\",E1083,D1084/MAX($D$8:D1084)-1)))","v":""}]
[null,null,null,null,{"$f":"IF(A1085=\"\",\"\",IF(B1085=\"\",E1084,IF(D1085=\"\",E1084,D1085/MAX($D$8:D1085)-1)))","v":""}]
[null,null,null,null,{"$f":"IF(A1086=\"\",\"\",IF(B1086=\"\",E1085,IF(D1086=\"\",E1085,D1086/MAX($D$8:D1086)-1)))","v":""}]
[null,null,null,null,{"$f":"IF(A1087=\"\",\"\",IF(B1087=\"\",E1086,IF(D1087=\"\",E1086,D1087/MAX($D$8:D1087)-1)))","v":""}]
[null,null,null,null,{"$f":"IF(A1088=\"\",\"\",IF(B1088=\"\",E1087,IF(D1088=\"\",E1087,D1088/MAX($D$8:D1088)-1)))","v":""}]
[null,null,null,null,{"$f":"IF(A1089=\"\",\"\",IF(B1089=\"\",E1088,IF(D1089=\"\",E1088,D1089/MAX($D$8:D1089)-1)))","v":""}]
[null,null,null,null,{"$f":"IF(A1090=\"\",\"\",IF(B1090=\"\",E1089,IF(D1090=\"\",E1089,D1090/MAX($D$8:D1090)-1)))","v":""}]
[null,null,null,null,{"$f":"IF(A1091=\"\",\"\",IF(B1091=\"\",E1090,IF(D1091=\"\",E1090,D1091/MAX($D$8:D1091)-1)))","v":""}]
[null,null,null,null,{"$f":"IF(A1092=\"\",\"\",IF(B1092=\"\",E1091,IF(D1092=\"\",E1091,D1092/MAX($D$8:D1092)-1)))","v":""}]
[null,null,null,null,{"$f":"IF(A1093=\"\",\"\",IF(B1093=\"\",E1092,IF(D1093=\"\",E1092,D1093/MAX($D$8:D1093)-1)))","v":""}]
[null,null,null,null,{"$f":"IF(A1094=\"\",\"\",IF(B1094=\"\",E1093,IF(D1094=\"\",E1093,D1094/MAX($D$8:D1094)-1)))","v":""}]
[null,null,null,null,{"$f":"IF(A1095=\"\",\"\",IF(B1095=\"\",E1094,IF(D1095=\"\",E1094,D1095/MAX($D$8:D1095)-1)))","v":""}]
[null,null,null,null,{"$f":"IF(A1096=\"\",\"\",IF(B1096=\"\",E1095,IF(D1096=\"\",E1095,D1096/MAX($D$8:D1096)-1)))","v":""}]
[null,null,null,null,{"$f":"IF(A1097=\"\",\"\",IF(B1097=\"\",E1096,IF(D1097=\"\",E1096,D1097/MAX($D$8:D1097)-1)))","v":""}]
[null,null,null,null,{"$f":"IF(A1098=\"\",\"\",IF(B1098=\"\",E1097,IF(D1098=\"\",E1097,D1098/MAX($D$8:D1098)-1)))","v":""}]
[null,null,null,null,{"$f":"IF(A1099=\"\",\"\",IF(B1099=\"\",E1098,IF(D1099=\"\",E1098,D1099/MAX($D$8:D1099)-1)))","v":""}]
[null,null,null,null,{"$f":"IF(A1100=\"\",\"\",IF(B1100=\"\",E1099,IF(D1100=\"\",E1099,D1100/MAX($D$8:D1100)-1)))","v":""}]
[null,null,null,null,{"$f":"IF(A1101=\"\",\"\",IF(B1101=\"\",E1100,IF(D1101=\"\",E1100,D1101/MAX($D$8:D1101)-1)))","v":""}]
[null,null,null,null,{"$f":"IF(A1102=\"\",\"\",IF(B1102=\"\",E1101,IF(D1102=\"\",E1101,D1102/MAX($D$8:D1102)-1)))","v":""}]
[null,null,null,null,{"$f":"IF(A1103=\"\",\"\",IF(B1103=\"\",E1102,IF(D1103=\"\",E1102,D1103/MAX($D$8:D1103)-1)))","v":""}]
[null,null,null,null,{"$f":"IF(A1104=\"\",\"\",IF(B1104=\"\",E1103,IF(D1104=\"\",E1103,D1104/MAX($D$8:D1104)-1)))","v":""}]
[null,null,null,null,{"$f":"IF(A1105=\"\",\"\",IF(B1105=\"\",E1104,IF(D1105=\"\",E1104,D1105/MAX($D$8:D1105)-1)))","v":""}]
[null,null,null,null,{"$f":"IF(A1106=\"\",\"\",IF(B1106=\"\",E1105,IF(D1106=\"\",E1105,D1106/MAX($D$8:D1106)-1)))","v":""}]
[null,null,null,null,{"$f":"IF(A1107=\"\",\"\",IF(B1107=\"\",E1106,IF(D1107=\"\",E1106,D1107/MAX($D$8:D1107)-1)))","v":""}]
[null,null,null,null,{"$f":"IF(A1108=\"\",\"\",IF(B1108=\"\",E1107,IF(D1108=\"\",E1107,D1108/MAX($D$8:D1108)-1)))","v":""}]
[null,null,null,null,{"$f":"IF(A1109=\"\",\"\",IF(B1109=\"\",E1108,IF(D1109=\"\",E1108,D1109/MAX($D$8:D1109)-1)))","v":""}]
[null,null,null,null,{"$f":"IF(A1110=\"\",\"\",IF(B1110=\"\",E1109,IF(D1110=\"\",E1109,D1110/MAX($D$8:D1110)-1)))","v":""}]
[null,null,null,null,{"$f":"IF(A1111=\"\",\"\",IF(B1111=\"\",E1110,IF(D1111=\"\",E1110,D1111/MAX($D$8:D1111)-1)))","v":""}]
[null,null,null,null,{"$f":"IF(A1112=\"\",\"\",IF(B1112=\"\",E1111,IF(D1112=\"\",E1111,D1112/MAX($D$8:D1112)-1)))","v":""}]
[null,null,null,null,{"$f":"IF(A1113=\"\",\"\",IF(B1113=\"\",E1112,IF(D1113=\"\",E1112,D1113/MAX($D$8:D1113)-1)))","v":""}]
[null,null,null,null,{"$f":"IF(A1114=\"\",\"\",IF(B1114=\"\",E1113,IF(D1114=\"\",E1113,D1114/MAX($D$8:D1114)-1)))","v":""}]
[null,null,null,null,{"$f":"IF(A1115=\"\",\"\",IF(B1115=\"\",E1114,IF(D1115=\"\",E1114,D1115/MAX($D$8:D1115)-1)))","v":""}]
[null,null,null,null,{"$f":"IF(A1116=\"\",\"\",IF(B1116=\"\",E1115,IF(D1116=\"\",E1115,D1116/MAX($D$8:D1116)-1)))","v":""}]
[null,null,null,null,{"$f":"IF(A1117=\"\",\"\",IF(B1117=\"\",E1116,IF(D1117=\"\",E1116,D1117/MAX($D$8:D1117)-1)))","v":""}]
[null,null,null,null,{"$f":"IF(A1118=\"\",\"\",IF(B1118=\"\",E1117,IF(D1118=\"\",E1117,D1118/MAX($D$8:D1118)-1)))","v":""}]
[null,null,null,null,{"$f":"IF(A1119=\"\",\"\",IF(B1119=\"\",E1118,IF(D1119=\"\",E1118,D1119/MAX($D$8:D1119)-1)))","v":""}]
[null,null,null,null,{"$f":"IF(A1120=\"\",\"\",IF(B1120=\"\",E1119,IF(D1120=\"\",E1119,D1120/MAX($D$8:D1120)-1)))","v":""}]
[null,null,null,null,{"$f":"IF(A1121=\"\",\"\",IF(B1121=\"\",E1120,IF(D1121=\"\",E1120,D1121/MAX($D$8:D1121)-1)))","v":""}]
[null,null,null,null,{"$f":"IF(A1122=\"\",\"\",IF(B1122=\"\",E1121,IF(D1122=\"\",E1121,D1122/MAX($D$8:D1122)-1)))","v":""}]
[null,null,null,null,{"$f":"IF(A1123=\"\",\"\",IF(B1123=\"\",E1122,IF(D1123=\"\",E1122,D1123/MAX($D$8:D1123)-1)))","v":""}]
[null,null,null,null,{"$f":"IF(A1124=\"\",\"\",IF(B1124=\"\",E1123,IF(D1124=\"\",E1123,D1124/MAX($D$8:D1124)-1)))","v":""}]
[null,null,null,null,{"$f":"IF(A1125=\"\",\"\",IF(B1125=\"\",E1124,IF(D1125=\"\",E1124,D1125/MAX($D$8:D1125)-1)))","v":""}]
[null,null,null,null,{"$f":"IF(A1126=\"\",\"\",IF(B1126=\"\",E1125,IF(D1126=\"\",E1125,D1126/MAX($D$8:D1126)-1)))","v":""}]
[null,null,null,null,{"$f":"IF(A1127=\"\",\"\",IF(B1127=\"\",E1126,IF(D1127=\"\",E1126,D1127/MAX($D$8:D1127)-1)))","v":""}]
[null,null,null,null,{"$f":"IF(A1128=\"\",\"\",IF(B1128=\"\",E1127,IF(D1128=\"\",E1127,D1128/MAX($D$8:D1128)-1)))","v":""}]
[null,null,null,null,{"$f":"IF(A1129=\"\",\"\",IF(B1129=\"\",E1128,IF(D1129=\"\",E1128,D1129/MAX($D$8:D1129)-1)))","v":""}]
[null,null,null,null,{"$f":"IF(A1130=\"\",\"\",IF(B1130=\"\",E1129,IF(D1130=\"\",E1129,D1130/MAX($D$8:D1130)-1)))","v":""}]
[null,null,null,null,{"$f":"IF(A1131=\"\",\"\",IF(B1131=\"\",E1130,IF(D1131=\"\",E1130,D1131/MAX($D$8:D1131)-1)))","v":""}]
[null,null,null,null,{"$f":"IF(A1132=\"\",\"\",IF(B1132=\"\",E1131,IF(D1132=\"\",E1131,D1132/MAX($D$8:D1132)-1)))","v":""}]
[null,null,null,null,{"$f":"IF(A1133=\"\",\"\",IF(B1133=\"\",E1132,IF(D1133=\"\",E1132,D1133/MAX($D$8:D1133)-1)))","v":""}]
[null,null,null,null,{"$f":"IF(A1134=\"\",\"\",IF(B1134=\"\",E1133,IF(D1134=\"\",E1133,D1134/MAX($D$8:D1134)-1)))","v":""}]
[null,null,null,null,{"$f":"IF(A1135=\"\",\"\",IF(B1135=\"\",E1134,IF(D1135=\"\",E1134,D1135/MAX($D$8:D1135)-1)))","v":""}]
[null,null,null,null,{"$f":"IF(A1136=\"\",\"\",IF(B1136=\"\",E1135,IF(D1136=\"\",E1135,D1136/MAX($D$8:D1136)-1)))","v":""}]
[null,null,null,null,{"$f":"IF(A1137=\"\",\"\",IF(B1137=\"\",E1136,IF(D1137=\"\",E1136,D1137/MAX($D$8:D1137)-1)))","v":""}]
[null,null,null,null,{"$f":"IF(A1138=\"\",\"\",IF(B1138=\"\",E1137,IF(D1138=\"\",E1137,D1138/MAX($D$8:D1138)-1)))","v":""}]
[null,null,null,null,{"$f":"IF(A1139=\"\",\"\",IF(B1139=\"\",E1138,IF(D1139=\"\",E1138,D1139/MAX($D$8:D1139)-1)))","v":""}]
[null,null,null,null,{"$f":"IF(A1140=\"\",\"\",IF(B1140=\"\",E1139,IF(D1140=\"\",E1139,D1140/MAX($D$8:D1140)-1)))","v":""}]
[null,null,null,null,{"$f":"IF(A1141=\"\",\"\",IF(B1141=\"\",E1140,IF(D1141=\"\",E1140,D1141/MAX($D$8:D1141)-1)))","v":""}]
[null,null,null,null,{"$f":"IF(A1142=\"\",\"\",IF(B1142=\"\",E1141,IF(D1142=\"\",E1141,D1142/MAX($D$8:D1142)-1)))","v":""}]
[null,null,null,null,{"$f":"IF(A1143=\"\",\"\",IF(B1143=\"\",E1142,IF(D1143=\"\",E1142,D1143/MAX($D$8:D1143)-1)))","v":""}]
[null,null,null,null,{"$f":"IF(A1144=\"\",\"\",IF(B1144=\"\",E1143,IF(D1144=\"\",E1143,D1144/MAX($D$8:D1144)-1)))","v":""}]
[null,null,null,null,{"$f":"IF(A1145=\"\",\"\",IF(B1145=\"\",E1144,IF(D1145=\"\",E1144,D1145/MAX($D$8:D1145)-1)))","v":""}]
[null,null,null,null,{"$f":"IF(A1146=\"\",\"\",IF(B1146=\"\",E1145,IF(D1146=\"\",E1145,D1146/MAX($D$8:D1146)-1)))","v":""}]
[null,null,null,null,{"$f":"IF(A1147=\"\",\"\",IF(B1147=\"\",E1146,IF(D1147=\"\",E1146,D1147/MAX($D$8:D1147)-1)))","v":""}]
[null,null,null,null,{"$f":"IF(A1148=\"\",\"\",IF(B1148=\"\",E1147,IF(D1148=\"\",E1147,D1148/MAX($D$8:D1148)-1)))","v":""}]
[null,null,null,null,{"$f":"IF(A1149=\"\",\"\",IF(B1149=\"\",E1148,IF(D1149=\"\",E1148,D1149/MAX($D$8:D1149)-1)))","v":""}]
[null,null,null,null,{"$f":"IF(A1150=\"\",\"\",IF(B1150=\"\",E1149,IF(D1150=\"\",E1149,D1150/MAX($D$8:D1150)-1)))","v":""}]
[null,null,null,null,{"$f":"IF(A1151=\"\",\"\",IF(B1151=\"\",E1150,IF(D1151=\"\",E1150,D1151/MAX($D$8:D1151)-1)))","v":""}]
[null,null,null,null,{"$f":"IF(A1152=\"\",\"\",IF(B1152=\"\",E1151,IF(D1152=\"\",E1151,D1152/MAX($D$8:D1152)-1)))","v":""}]
[null,null,null,null,{"$f":"IF(A1153=\"\",\"\",IF(B1153=\"\",E1152,IF(D1153=\"\",E1152,D1153/MAX($D$8:D1153)-1)))","v":""}]
[null,null,null,null,{"$f":"IF(A1154=\"\",\"\",IF(B1154=\"\",E1153,IF(D1154=\"\",E1153,D1154/MAX($D$8:D1154)-1)))","v":""}]
[null,null,null,null,{"$f":"IF(A1155=\"\",\"\",IF(B1155=\"\",E1154,IF(D1155=\"\",E1154,D1155/MAX($D$8:D1155)-1)))","v":""}]
[null,null,null,null,{"$f":"IF(A1156=\"\",\"\",IF(B1156=\"\",E1155,IF(D1156=\"\",E1155,D1156/MAX($D$8:D1156)-1)))","v":""}]
[null,null,null,null,{"$f":"IF(A1157=\"\",\"\",IF(B1157=\"\",E1156,IF(D1157=\"\",E1156,D1157/MAX($D$8:D1157)-1)))","v":""}]
[null,null,null,null,{"$f":"IF(A1158=\"\",\"\",IF(B1158=\"\",E1157,IF(D1158=\"\",E1157,D1158/MAX($D$8:D1158)-1)))","v":""}]
[null,null,null,null,{"$f":"IF(A1159=\"\",\"\",IF(B1159=\"\",E1158,IF(D1159=\"\",E1158,D1159/MAX($D$8:D1159)-1)))","v":""}]
[null,null,null,null,{"$f":"IF(A1160=\"\",\"\",IF(B1160=\"\",E1159,IF(D1160=\"\",E1159,D1160/MAX($D$8:D1160)-1)))","v":""}]
[null,null,null,null,{"$f":"IF(A1161=\"\",\"\",IF(B1161=\"\",E1160,IF(D1161=\"\",E1160,D1161/MAX($D$8:D1161)-1)))","v":""}]
[null,null,null,null,{"$f":"IF(A1162=\"\",\"\",IF(B1162=\"\",E1161,IF(D1162=\"\",E1161,D1162/MAX($D$8:D1162)-1)))","v":""}]
[null,null,null,null,{"$f":"IF(A1163=\"\",\"\",IF(B1163=\"\",E1162,IF(D1163=\"\",E1162,D1163/MAX($D$8:D1163)-1)))","v":""}]
[null,null,null,null,{"$f":"IF(A1164=\"\",\"\",IF(B1164=\"\",E1163,IF(D1164=\"\",E1163,D1164/MAX($D$8:D1164)-1)))","v":""}]
[null,null,null,null,{"$f":"IF(A1165=\"\",\"\",IF(B1165=\"\",E1164,IF(D1165=\"\",E1164,D1165/MAX($D$8:D1165)-1)))","v":""}]
[null,null,null,null,{"$f":"IF(A1166=\"\",\"\",IF(B1166=\"\",E1165,IF(D1166=\"\",E1165,D1166/MAX($D$8:D1166)-1)))","v":""}]
[null,null,null,null,{"$f":"IF(A1167=\"\",\"\",IF(B1167=\"\",E1166,IF(D1167=\"\",E1166,D1167/MAX($D$8:D1167)-1)))","v":""}]
[null,null,null,null,{"$f":"IF(A1168=\"\",\"\",IF(B1168=\"\",E1167,IF(D1168=\"\",E1167,D1168/MAX($D$8:D1168)-1)))","v":""}]
[null,null,null,null,{"$f":"IF(A1169=\"\",\"\",IF(B1169=\"\",E1168,IF(D1169=\"\",E1168,D1169/MAX($D$8:D1169)-1)))","v":""}]
[null,null,null,null,{"$f":"IF(A1170=\"\",\"\",IF(B1170=\"\",E1169,IF(D1170=\"\",E1169,D1170/MAX($D$8:D1170)-1)))","v":""}]
[null,null,null,null,{"$f":"IF(A1171=\"\",\"\",IF(B1171=\"\",E1170,IF(D1171=\"\",E1170,D1171/MAX($D$8:D1171)-1)))","v":""}]
[null,null,null,null,{"$f":"IF(A1172=\"\",\"\",IF(B1172=\"\",E1171,IF(D1172=\"\",E1171,D1172/MAX($D$8:D1172)-1)))","v":""}]
[null,null,null,null,{"$f":"IF(A1173=\"\",\"\",IF(B1173=\"\",E1172,IF(D1173=\"\",E1172,D1173/MAX($D$8:D1173)-1)))","v":""}]
[null,null,null,null,{"$f":"IF(A1174=\"\",\"\",IF(B1174=\"\",E1173,IF(D1174=\"\",E1173,D1174/MAX($D$8:D1174)-1)))","v":""}]
[null,null,null,null,{"$f":"IF(A1175=\"\",\"\",IF(B1175=\"\",E1174,IF(D1175=\"\",E1174,D1175/MAX($D$8:D1175)-1)))","v":""}]
[null,null,null,null,{"$f":"IF(A1176=\"\",\"\",IF(B1176=\"\",E1175,IF(D1176=\"\",E1175,D1176/MAX($D$8:D1176)-1)))","v":""}]
[null,null,null,null,{"$f":"IF(A1177=\"\",\"\",IF(B1177=\"\",E1176,IF(D1177=\"\",E1176,D1177/MAX($D$8:D1177)-1)))","v":""}]
[null,null,null,null,{"$f":"IF(A1178=\"\",\"\",IF(B1178=\"\",E1177,IF(D1178=\"\",E1177,D1178/MAX($D$8:D1178)-1)))","v":""}]
[null,null,null,null,{"$f":"IF(A1179=\"\",\"\",IF(B1179=\"\",E1178,IF(D1179=\"\",E1178,D1179/MAX($D$8:D1179)-1)))","v":""}]
[null,null,null,null,{"$f":"IF(A1180=\"\",\"\",IF(B1180=\"\",E1179,IF(D1180=\"\",E1179,D1180/MAX($D$8:D1180)-1)))","v":""}]
[null,null,null,null,{"$f":"IF(A1181=\"\",\"\",IF(B1181=\"\",E1180,IF(D1181=\"\",E1180,D1181/MAX($D$8:D1181)-1)))","v":""}]
[null,null,null,null,{"$f":"IF(A1182=\"\",\"\",IF(B1182=\"\",E1181,IF(D1182=\"\",E1181,D1182/MAX($D$8:D1182)-1)))","v":""}]
[null,null,null,null,{"$f":"IF(A1183=\"\",\"\",IF(B1183=\"\",E1182,IF(D1183=\"\",E1182,D1183/MAX($D$8:D1183)-1)))","v":""}]
[null,null,null,null,{"$f":"IF(A1184=\"\",\"\",IF(B1184=\"\",E1183,IF(D1184=\"\",E1183,D1184/MAX($D$8:D1184)-1)))","v":""}]
[null,null,null,null,{"$f":"IF(A1185=\"\",\"\",IF(B1185=\"\",E1184,IF(D1185=\"\",E1184,D1185/MAX($D$8:D1185)-1)))","v":""}]
[null,null,null,null,{"$f":"IF(A1186=\"\",\"\",IF(B1186=\"\",E1185,IF(D1186=\"\",E1185,D1186/MAX($D$8:D1186)-1)))","v":""}]
[null,null,null,null,{"$f":"IF(A1187=\"\",\"\",IF(B1187=\"\",E1186,IF(D1187=\"\",E1186,D1187/MAX($D$8:D1187)-1)))","v":""}]
[null,null,null,null,{"$f":"IF(A1188=\"\",\"\",IF(B1188=\"\",E1187,IF(D1188=\"\",E1187,D1188/MAX($D$8:D1188)-1)))","v":""}]
[null,null,null,null,{"$f":"IF(A1189=\"\",\"\",IF(B1189=\"\",E1188,IF(D1189=\"\",E1188,D1189/MAX($D$8:D1189)-1)))","v":""}]
[null,null,null,null,{"$f":"IF(A1190=\"\",\"\",IF(B1190=\"\",E1189,IF(D1190=\"\",E1189,D1190/MAX($D$8:D1190)-1)))","v":""}]
[null,null,null,null,{"$f":"IF(A1191=\"\",\"\",IF(B1191=\"\",E1190,IF(D1191=\"\",E1190,D1191/MAX($D$8:D1191)-1)))","v":""}]
[null,null,null,null,{"$f":"IF(A1192=\"\",\"\",IF(B1192=\"\",E1191,IF(D1192=\"\",E1191,D1192/MAX($D$8:D1192)-1)))","v":""}]
[null,null,null,null,{"$f":"IF(A1193=\"\",\"\",IF(B1193=\"\",E1192,IF(D1193=\"\",E1192,D1193/MAX($D$8:D1193)-1)))","v":""}]
[null,null,null,null,{"$f":"IF(A1194=\"\",\"\",IF(B1194=\"\",E1193,IF(D1194=\"\",E1193,D1194/MAX($D$8:D1194)-1)))","v":""}]
[null,null,null,null,{"$f":"IF(A1195=\"\",\"\",IF(B1195=\"\",E1194,IF(D1195=\"\",E1194,D1195/MAX($D$8:D1195)-1)))","v":""}]
[null,null,null,null,{"$f":"IF(A1196=\"\",\"\",IF(B1196=\"\",E1195,IF(D1196=\"\",E1195,D1196/MAX($D$8:D1196)-1)))","v":""}]
[null,null,null,null,{"$f":"IF(A1197=\"\",\"\",IF(B1197=\"\",E1196,IF(D1197=\"\",E1196,D1197/MAX($D$8:D1197)-1)))","v":""}]
[null,null,null,null,{"$f":"IF(A1198=\"\",\"\",IF(B1198=\"\",E1197,IF(D1198=\"\",E1197,D1198/MAX($D$8:D1198)-1)))","v":""}]
[null,null,null,null,{"$f":"IF(A1199=\"\",\"\",IF(B1199=\"\",E1198,IF(D1199=\"\",E1198,D1199/MAX($D$8:D1199)-1)))","v":""}]
[null,null,null,null,{"$f":"IF(A1200=\"\",\"\",IF(B1200=\"\",E1199,IF(D1200=\"\",E1199,D1200/MAX($D$8:D1200)-1)))","v":""}]
[null,null,null,null,{"$f":"IF(A1201=\"\",\"\",IF(B1201=\"\",E1200,IF(D1201=\"\",E1200,D1201/MAX($D$8:D1201)-1)))","v":""}]
[null,null,null,null,{"$f":"IF(A1202=\"\",\"\",IF(B1202=\"\",E1201,IF(D1202=\"\",E1201,D1202/MAX($D$8:D1202)-1)))","v":""}]
[null,null,null,null,{"$f":"IF(A1203=\"\",\"\",IF(B1203=\"\",E1202,IF(D1203=\"\",E1202,D1203/MAX($D$8:D1203)-1)))","v":""}]
[null,null,null,null,{"$f":"IF(A1204=\"\",\"\",IF(B1204=\"\",E1203,IF(D1204=\"\",E1203,D1204/MAX($D$8:D1204)-1)))","v":""}]
[null,null,null,null,{"$f":"IF(A1205=\"\",\"\",IF(B1205=\"\",E1204,IF(D1205=\"\",E1204,D1205/MAX($D$8:D1205)-1)))","v":""}]
[null,null,null,null,{"$f":"IF(A1206=\"\",\"\",IF(B1206=\"\",E1205,IF(D1206=\"\",E1205,D1206/MAX($D$8:D1206)-1)))","v":""}]
[null,null,null,null,{"$f":"IF(A1207=\"\",\"\",IF(B1207=\"\",E1206,IF(D1207=\"\",E1206,D1207/MAX($D$8:D1207)-1)))","v":""}]
[null,null,null,null,{"$f":"IF(A1208=\"\",\"\",IF(B1208=\"\",E1207,IF(D1208=\"\",E1207,D1208/MAX($D$8:D1208)-1)))","v":""}]
[null,null,null,null,{"$f":"IF(A1209=\"\",\"\",IF(B1209=\"\",E1208,IF(D1209=\"\",E1208,D1209/MAX($D$8:D1209)-1)))","v":""}]
[null,null,null,null,{"$f":"IF(A1210=\"\",\"\",IF(B1210=\"\",E1209,IF(D1210=\"\",E1209,D1210/MAX($D$8:D1210)-1)))","v":""}]
[null,null,null,null,{"$f":"IF(A1211=\"\",\"\",IF(B1211=\"\",E1210,IF(D1211=\"\",E1210,D1211/MAX($D$8:D1211)-1)))","v":""}]
[null,null,null,null,{"$f":"IF(A1212=\"\",\"\",IF(B1212=\"\",E1211,IF(D1212=\"\",E1211,D1212/MAX($D$8:D1212)-1)))","v":""}]
[null,null,null,null,{"$f":"IF(A1213=\"\",\"\",IF(B1213=\"\",E1212,IF(D1213=\"\",E1212,D1213/MAX($D$8:D1213)-1)))","v":""}]
[null,null,null,null,{"$f":"IF(A1214=\"\",\"\",IF(B1214=\"\",E1213,IF(D1214=\"\",E1213,D1214/MAX($D$8:D1214)-1)))","v":""}]
[null,null,null,null,{"$f":"IF(A1215=\"\",\"\",IF(B1215=\"\",E1214,IF(D1215=\"\",E1214,D1215/MAX($D$8:D1215)-1)))","v":""}]
[null,null,null,null,{"$f":"IF(A1216=\"\",\"\",IF(B1216=\"\",E1215,IF(D1216=\"\",E1215,D1216/MAX($D$8:D1216)-1)))","v":""}]
[null,null,null,null,{"$f":"IF(A1217=\"\",\"\",IF(B1217=\"\",E1216,IF(D1217=\"\",E1216,D1217/MAX($D$8:D1217)-1)))","v":""}]
[null,null,null,null,{"$f":"IF(A1218=\"\",\"\",IF(B1218=\"\",E1217,IF(D1218=\"\",E1217,D1218/MAX($D$8:D1218)-1)))","v":""}]
[null,null,null,null,{"$f":"IF(A1219=\"\",\"\",IF(B1219=\"\",E1218,IF(D1219=\"\",E1218,D1219/MAX($D$8:D1219)-1)))","v":""}]
[null,null,null,null,{"$f":"IF(A1220=\"\",\"\",IF(B1220=\"\",E1219,IF(D1220=\"\",E1219,D1220/MAX($D$8:D1220)-1)))","v":""}]
[null,null,null,null,{"$f":"IF(A1221=\"\",\"\",IF(B1221=\"\",E1220,IF(D1221=\"\",E1220,D1221/MAX($D$8:D1221)-1)))","v":""}]
[null,null,null,null,{"$f":"IF(A1222=\"\",\"\",IF(B1222=\"\",E1221,IF(D1222=\"\",E1221,D1222/MAX($D$8:D1222)-1)))","v":""}]
[null,null,null,null,{"$f":"IF(A1223=\"\",\"\",IF(B1223=\"\",E1222,IF(D1223=\"\",E1222,D1223/MAX($D$8:D1223)-1)))","v":""}]
[null,null,null,null,{"$f":"IF(A1224=\"\",\"\",IF(B1224=\"\",E1223,IF(D1224=\"\",E1223,D1224/MAX($D$8:D1224)-1)))","v":""}]
[null,null,null,null,{"$f":"IF(A1225=\"\",\"\",IF(B1225=\"\",E1224,IF(D1225=\"\",E1224,D1225/MAX($D$8:D1225)-1)))","v":""}]
[null,null,null,null,{"$f":"IF(A1226=\"\",\"\",IF(B1226=\"\",E1225,IF(D1226=\"\",E1225,D1226/MAX($D$8:D1226)-1)))","v":""}]
[null,null,null,null,{"$f":"IF(A1227=\"\",\"\",IF(B1227=\"\",E1226,IF(D1227=\"\",E1226,D1227/MAX($D$8:D1227)-1)))","v":""}]
[null,null,null,null,{"$f":"IF(A1228=\"\",\"\",IF(B1228=\"\",E1227,IF(D1228=\"\",E1227,D1228/MAX($D$8:D1228)-1)))","v":""}]
[null,null,null,null,{"$f":"IF(A1229=\"\",\"\",IF(B1229=\"\",E1228,IF(D1229=\"\",E1228,D1229/MAX($D$8:D1229)-1)))","v":""}]
[null,null,null,null,{"$f":"IF(A1230=\"\",\"\",IF(B1230=\"\",E1229,IF(D1230=\"\",E1229,D1230/MAX($D$8:D1230)-1)))","v":""}]
[null,null,null,null,{"$f":"IF(A1231=\"\",\"\",IF(B1231=\"\",E1230,IF(D1231=\"\",E1230,D1231/MAX($D$8:D1231)-1)))","v":""}]
[null,null,null,null,{"$f":"IF(A1232=\"\",\"\",IF(B1232=\"\",E1231,IF(D1232=\"\",E1231,D1232/MAX($D$8:D1232)-1)))","v":""}]
[null,null,null,null,{"$f":"IF(A1233=\"\",\"\",IF(B1233=\"\",E1232,IF(D1233=\"\",E1232,D1233/MAX($D$8:D1233)-1)))","v":""}]
[null,null,null,null,{"$f":"IF(A1234=\"\",\"\",IF(B1234=\"\",E1233,IF(D1234=\"\",E1233,D1234/MAX($D$8:D1234)-1)))","v":""}]
[null,null,null,null,{"$f":"IF(A1235=\"\",\"\",IF(B1235=\"\",E1234,IF(D1235=\"\",E1234,D1235/MAX($D$8:D1235)-1)))","v":""}]
[null,null,null,null,{"$f":"IF(A1236=\"\",\"\",IF(B1236=\"\",E1235,IF(D1236=\"\",E1235,D1236/MAX($D$8:D1236)-1)))","v":""}]
[null,null,null,null,{"$f":"IF(A1237=\"\",\"\",IF(B1237=\"\",E1236,IF(D1237=\"\",E1236,D1237/MAX($D$8:D1237)-1)))","v":""}]
[null,null,null,null,{"$f":"IF(A1238=\"\",\"\",IF(B1238=\"\",E1237,IF(D1238=\"\",E1237,D1238/MAX($D$8:D1238)-1)))","v":""}]
[null,null,null,null,{"$f":"IF(A1239=\"\",\"\",IF(B1239=\"\",E1238,IF(D1239=\"\",E1238,D1239/MAX($D$8:D1239)-1)))","v":""}]
[null,null,null,null,{"$f":"IF(A1240=\"\",\"\",IF(B1240=\"\",E1239,IF(D1240=\"\",E1239,D1240/MAX($D$8:D1240)-1)))","v":""}]
[null,null,null,null,{"$f":"IF(A1241=\"\",\"\",IF(B1241=\"\",E1240,IF(D1241=\"\",E1240,D1241/MAX($D$8:D1241)-1)))","v":""}]
[null,null,null,null,{"$f":"IF(A1242=\"\",\"\",IF(B1242=\"\",E1241,IF(D1242=\"\",E1241,D1242/MAX($D$8:D1242)-1)))","v":""}]
[null,null,null,null,{"$f":"IF(A1243=\"\",\"\",IF(B1243=\"\",E1242,IF(D1243=\"\",E1242,D1243/MAX($D$8:D1243)-1)))","v":""}]
[null,null,null,null,{"$f":"IF(A1244=\"\",\"\",IF(B1244=\"\",E1243,IF(D1244=\"\",E1243,D1244/MAX($D$8:D1244)-1)))","v":""}]
[null,null,null,null,{"$f":"IF(A1245=\"\",\"\",IF(B1245=\"\",E1244,IF(D1245=\"\",E1244,D1245/MAX($D$8:D1245)-1)))","v":""}]
[null,null,null,null,{"$f":"IF(A1246=\"\",\"\",IF(B1246=\"\",E1245,IF(D1246=\"\",E1245,D1246/MAX($D$8:D1246)-1)))","v":""}]
[null,null,null,null,{"$f":"IF(A1247=\"\",\"\",IF(B1247=\"\",E1246,IF(D1247=\"\",E1246,D1247/MAX($D$8:D1247)-1)))","v":""}]
[null,null,null,null,{"$f":"IF(A1248=\"\",\"\",IF(B1248=\"\",E1247,IF(D1248=\"\",E1247,D1248/MAX($D$8:D1248)-1)))","v":""}]
[null,null,null,null,{"$f":"IF(A1249=\"\",\"\",IF(B1249=\"\",E1248,IF(D1249=\"\",E1248,D1249/MAX($D$8:D1249)-1)))","v":""}]
[null,null,null,null,{"$f":"IF(A1250=\"\",\"\",IF(B1250=\"\",E1249,IF(D1250=\"\",E1249,D1250/MAX($D$8:D1250)-1)))","v":""}]
[null,null,null,null,{"$f":"IF(A1251=\"\",\"\",IF(B1251=\"\",E1250,IF(D1251=\"\",E1250,D1251/MAX($D$8:D1251)-1)))","v":""}]
[null,null,null,null,{"$f":"IF(A1252=\"\",\"\",IF(B1252=\"\",E1251,IF(D1252=\"\",E1251,D1252/MAX($D$8:D1252)-1)))","v":""}]
[null,null,null,null,{"$f":"IF(A1253=\"\",\"\",IF(B1253=\"\",E1252,IF(D1253=\"\",E1252,D1253/MAX($D$8:D1253)-1)))","v":""}]
[null,null,null,null,{"$f":"IF(A1254=\"\",\"\",IF(B1254=\"\",E1253,IF(D1254=\"\",E1253,D1254/MAX($D$8:D1254)-1)))","v":""}]
[null,null,null,null,{"$f":"IF(A1255=\"\",\"\",IF(B1255=\"\",E1254,IF(D1255=\"\",E1254,D1255/MAX($D$8:D1255)-1)))","v":""}]
[null,null,null,null,{"$f":"IF(A1256=\"\",\"\",IF(B1256=\"\",E1255,IF(D1256=\"\",E1255,D1256/MAX($D$8:D1256)-1)))","v":""}]
[null,null,null,null,{"$f":"IF(A1257=\"\",\"\",IF(B1257=\"\",E1256,IF(D1257=\"\",E1256,D1257/MAX($D$8:D1257)-1)))","v":""}]
[null,null,null,null,{"$f":"IF(A1258=\"\",\"\",IF(B1258=\"\",E1257,IF(D1258=\"\",E1257,D1258/MAX($D$8:D1258)-1)))","v":""}]
[null,null,null,null,{"$f":"IF(A1259=\"\",\"\",IF(B1259=\"\",E1258,IF(D1259=\"\",E1258,D1259/MAX($D$8:D1259)-1)))","v":""}]
[null,null,null,null,{"$f":"IF(A1260=\"\",\"\",IF(B1260=\"\",E1259,IF(D1260=\"\",E1259,D1260/MAX($D$8:D1260)-1)))","v":""}]
[null,null,null,null,{"$f":"IF(A1261=\"\",\"\",IF(B1261=\"\",E1260,IF(D1261=\"\",E1260,D1261/MAX($D$8:D1261)-1)))","v":""}]
[null,null,null,null,{"$f":"IF(A1262=\"\",\"\",IF(B1262=\"\",E1261,IF(D1262=\"\",E1261,D1262/MAX($D$8:D1262)-1)))","v":""}]
[null,null,null,null,{"$f":"IF(A1263=\"\",\"\",IF(B1263=\"\",E1262,IF(D1263=\"\",E1262,D1263/MAX($D$8:D1263)-1)))","v":""}]
[null,null,null,null,{"$f":"IF(A1264=\"\",\"\",IF(B1264=\"\",E1263,IF(D1264=\"\",E1263,D1264/MAX($D$8:D1264)-1)))","v":""}]
[null,null,null,null,{"$f":"IF(A1265=\"\",\"\",IF(B1265=\"\",E1264,IF(D1265=\"\",E1264,D1265/MAX($D$8:D1265)-1)))","v":""}]
[null,null,null,null,{"$f":"IF(A1266=\"\",\"\",IF(B1266=\"\",E1265,IF(D1266=\"\",E1265,D1266/MAX($D$8:D1266)-1)))","v":""}]
[null,null,null,null,{"$f":"IF(A1267=\"\",\"\",IF(B1267=\"\",E1266,IF(D1267=\"\",E1266,D1267/MAX($D$8:D1267)-1)))","v":""}]
[null,null,null,null,{"$f":"IF(A1268=\"\",\"\",IF(B1268=\"\",E1267,IF(D1268=\"\",E1267,D1268/MAX($D$8:D1268)-1)))","v":""}]
[null,null,null,null,{"$f":"IF(A1269=\"\",\"\",IF(B1269=\"\",E1268,IF(D1269=\"\",E1268,D1269/MAX($D$8:D1269)-1)))","v":""}]
[null,null,null,null,{"$f":"IF(A1270=\"\",\"\",IF(B1270=\"\",E1269,IF(D1270=\"\",E1269,D1270/MAX($D$8:D1270)-1)))","v":""}]
[null,null,null,null,{"$f":"IF(A1271=\"\",\"\",IF(B1271=\"\",E1270,IF(D1271=\"\",E1270,D1271/MAX($D$8:D1271)-1)))","v":""}]
[null,null,null,null,{"$f":"IF(A1272=\"\",\"\",IF(B1272=\"\",E1271,IF(D1272=\"\",E1271,D1272/MAX($D$8:D1272)-1)))","v":""}]
[null,null,null,null,{"$f":"IF(A1273=\"\",\"\",IF(B1273=\"\",E1272,IF(D1273=\"\",E1272,D1273/MAX($D$8:D1273)-1)))","v":""}]
[null,null,null,null,{"$f":"IF(A1274=\"\",\"\",IF(B1274=\"\",E1273,IF(D1274=\"\",E1273,D1274/MAX($D$8:D1274)-1)))","v":""}]
[null,null,null,null,{"$f":"IF(A1275=\"\",\"\",IF(B1275=\"\",E1274,IF(D1275=\"\",E1274,D1275/MAX($D$8:D1275)-1)))","v":""}]
[null,null,null,null,{"$f":"IF(A1276=\"\",\"\",IF(B1276=\"\",E1275,IF(D1276=\"\",E1275,D1276/MAX($D$8:D1276)-1)))","v":""}]
[null,null,null,null,{"$f":"IF(A1277=\"\",\"\",IF(B1277=\"\",E1276,IF(D1277=\"\",E1276,D1277/MAX($D$8:D1277)-1)))","v":""}]
[null,null,null,null,{"$f":"IF(A1278=\"\",\"\",IF(B1278=\"\",E1277,IF(D1278=\"\",E1277,D1278/MAX($D$8:D1278)-1)))","v":""}]
[null,null,null,null,{"$f":"IF(A1279=\"\",\"\",IF(B1279=\"\",E1278,IF(D1279=\"\",E1278,D1279/MAX($D$8:D1279)-1)))","v":""}]
[null,null,null,null,{"$f":"IF(A1280=\"\",\"\",IF(B1280=\"\",E1279,IF(D1280=\"\",E1279,D1280/MAX($D$8:D1280)-1)))","v":""}]
[null,null,null,null,{"$f":"IF(A1281=\"\",\"\",IF(B1281=\"\",E1280,IF(D1281=\"\",E1280,D1281/MAX($D$8:D1281)-1)))","v":""}]
[null,null,null,null,{"$f":"IF(A1282=\"\",\"\",IF(B1282=\"\",E1281,IF(D1282=\"\",E1281,D1282/MAX($D$8:D1282)-1)))","v":""}]
[null,null,null,null,{"$f":"IF(A1283=\"\",\"\",IF(B1283=\"\",E1282,IF(D1283=\"\",E1282,D1283/MAX($D$8:D1283)-1)))","v":""}]
[null,null,null,null,{"$f":"IF(A1284=\"\",\"\",IF(B1284=\"\",E1283,IF(D1284=\"\",E1283,D1284/MAX($D$8:D1284)-1)))","v":""}]
[null,null,null,null,{"$f":"IF(A1285=\"\",\"\",IF(B1285=\"\",E1284,IF(D1285=\"\",E1284,D1285/MAX($D$8:D1285)-1)))","v":""}]
[null,null,null,null,{"$f":"IF(A1286=\"\",\"\",IF(B1286=\"\",E1285,IF(D1286=\"\",E1285,D1286/MAX($D$8:D1286)-1)))","v":""}]
[null,null,null,null,{"$f":"IF(A1287=\"\",\"\",IF(B1287=\"\",E1286,IF(D1287=\"\",E1286,D1287/MAX($D$8:D1287)-1)))","v":""}]
[null,null,null,null,{"$f":"IF(A1288=\"\",\"\",IF(B1288=\"\",E1287,IF(D1288=\"\",E1287,D1288/MAX($D$8:D1288)-1)))","v":""}]
[null,null,null,null,{"$f":"IF(A1289=\"\",\"\",IF(B1289=\"\",E1288,IF(D1289=\"\",E1288,D1289/MAX($D$8:D1289)-1)))","v":""}]
[null,null,null,null,{"$f":"IF(A1290=\"\",\"\",IF(B1290=\"\",E1289,IF(D1290=\"\",E1289,D1290/MAX($D$8:D1290)-1)))","v":""}]
[null,null,null,null,{"$f":"IF(A1291=\"\",\"\",IF(B1291=\"\",E1290,IF(D1291=\"\",E1290,D1291/MAX($D$8:D1291)-1)))","v":""}]
[null,null,null,null,{"$f":"IF(A1292=\"\",\"\",IF(B1292=\"\",E1291,IF(D1292=\"\",E1291,D1292/MAX($D$8:D1292)-1)))","v":""}]
[null,null,null,null,{"$f":"IF(A1293=\"\",\"\",IF(B1293=\"\",E1292,IF(D1293=\"\",E1292,D1293/MAX($D$8:D1293)-1)))","v":""}]
[null,null,null,null,{"$f":"IF(A1294=\"\",\"\",IF(B1294=\"\",E1293,IF(D1294=\"\",E1293,D1294/MAX($D$8:D1294)-1)))","v":""}]
[null,null,null,null,{"$f":"IF(A1295=\"\",\"\",IF(B1295=\"\",E1294,IF(D1295=\"\",E1294,D1295/MAX($D$8:D1295)-1)))","v":""}]
[null,null,null,null,{"$f":"IF(A1296=\"\",\"\",IF(B1296=\"\",E1295,IF(D1296=\"\",E1295,D1296/MAX($D$8:D1296)-1)))","v":""}]
[null,null,null,null,{"$f":"IF(A1297=\"\",\"\",IF(B1297=\"\",E1296,IF(D1297=\"\",E1296,D1297/MAX($D$8:D1297)-1)))","v":""}]
[null,null,null,null,{"$f":"IF(A1298=\"\",\"\",IF(B1298=\"\",E1297,IF(D1298=\"\",E1297,D1298/MAX($D$8:D1298)-1)))","v":""}]
[null,null,null,null,{"$f":"IF(A1299=\"\",\"\",IF(B1299=\"\",E1298,IF(D1299=\"\",E1298,D1299/MAX($D$8:D1299)-1)))","v":""}]
[null,null,null,null,{"$f":"IF(A1300=\"\",\"\",IF(B1300=\"\",E1299,IF(D1300=\"\",E1299,D1300/MAX($D$8:D1300)-1)))","v":""}]
[null,null,null,null,{"$f":"IF(A1301=\"\",\"\",IF(B1301=\"\",E1300,IF(D1301=\"\",E1300,D1301/MAX($D$8:D1301)-1)))","v":""}]
[null,null,null,null,{"$f":"IF(A1302=\"\",\"\",IF(B1302=\"\",E1301,IF(D1302=\"\",E1301,D1302/MAX($D$8:D1302)-1)))","v":""}]
[null,null,null,null,{"$f":"IF(A1303=\"\",\"\",IF(B1303=\"\",E1302,IF(D1303=\"\",E1302,D1303/MAX($D$8:D1303)-1)))","v":""}]
[null,null,null,null,{"$f":"IF(A1304=\"\",\"\",IF(B1304=\"\",E1303,IF(D1304=\"\",E1303,D1304/MAX($D$8:D1304)-1)))","v":""}]
[null,null,null,null,{"$f":"IF(A1305=\"\",\"\",IF(B1305=\"\",E1304,IF(D1305=\"\",E1304,D1305/MAX($D$8:D1305)-1)))","v":""}]
[null,null,null,null,{"$f":"IF(A1306=\"\",\"\",IF(B1306=\"\",E1305,IF(D1306=\"\",E1305,D1306/MAX($D$8:D1306)-1)))","v":""}]
[null,null,null,null,{"$f":"IF(A1307=\"\",\"\",IF(B1307=\"\",E1306,IF(D1307=\"\",E1306,D1307/MAX($D$8:D1307)-1)))","v":""}]
[null,null,null,null,{"$f":"IF(A1308=\"\",\"\",IF(B1308=\"\",E1307,IF(D1308=\"\",E1307,D1308/MAX($D$8:D1308)-1)))","v":""}]
[null,null,null,null,{"$f":"IF(A1309=\"\",\"\",IF(B1309=\"\",E1308,IF(D1309=\"\",E1308,D1309/MAX($D$8:D1309)-1)))","v":""}]
[null,null,null,null,{"$f":"IF(A1310=\"\",\"\",IF(B1310=\"\",E1309,IF(D1310=\"\",E1309,D1310/MAX($D$8:D1310)-1)))","v":""}]
[null,null,null,null,{"$f":"IF(A1311=\"\",\"\",IF(B1311=\"\",E1310,IF(D1311=\"\",E1310,D1311/MAX($D$8:D1311)-1)))","v":""}]
[null,null,null,null,{"$f":"IF(A1312=\"\",\"\",IF(B1312=\"\",E1311,IF(D1312=\"\",E1311,D1312/MAX($D$8:D1312)-1)))","v":""}]
[null,null,null,null,{"$f":"IF(A1313=\"\",\"\",IF(B1313=\"\",E1312,IF(D1313=\"\",E1312,D1313/MAX($D$8:D1313)-1)))","v":""}]
[null,null,null,null,{"$f":"IF(A1314=\"\",\"\",IF(B1314=\"\",E1313,IF(D1314=\"\",E1313,D1314/MAX($D$8:D1314)-1)))","v":""}]
[null,null,null,null,{"$f":"IF(A1315=\"\",\"\",IF(B1315=\"\",E1314,IF(D1315=\"\",E1314,D1315/MAX($D$8:D1315)-1)))","v":""}]
[null,null,null,null,{"$f":"IF(A1316=\"\",\"\",IF(B1316=\"\",E1315,IF(D1316=\"\",E1315,D1316/MAX($D$8:D1316)-1)))","v":""}]
[null,null,null,null,{"$f":"IF(A1317=\"\",\"\",IF(B1317=\"\",E1316,IF(D1317=\"\",E1316,D1317/MAX($D$8:D1317)-1)))","v":""}]
[null,null,null,null,{"$f":"IF(A1318=\"\",\"\",IF(B1318=\"\",E1317,IF(D1318=\"\",E1317,D1318/MAX($D$8:D1318)-1)))","v":""}]
[null,null,null,null,{"$f":"IF(A1319=\"\",\"\",IF(B1319=\"\",E1318,IF(D1319=\"\",E1318,D1319/MAX($D$8:D1319)-1)))","v":""}]
[null,null,null,null,{"$f":"IF(A1320=\"\",\"\",IF(B1320=\"\",E1319,IF(D1320=\"\",E1319,D1320/MAX($D$8:D1320)-1)))","v":""}]
[null,null,null,null,{"$f":"IF(A1321=\"\",\"\",IF(B1321=\"\",E1320,IF(D1321=\"\",E1320,D1321/MAX($D$8:D1321)-1)))","v":""}]
[null,null,null,null,{"$f":"IF(A1322=\"\",\"\",IF(B1322=\"\",E1321,IF(D1322=\"\",E1321,D1322/MAX($D$8:D1322)-1)))","v":""}]
[null,null,null,null,{"$f":"IF(A1323=\"\",\"\",IF(B1323=\"\",E1322,IF(D1323=\"\",E1322,D1323/MAX($D$8:D1323)-1)))","v":""}]
[null,null,null,null,{"$f":"IF(A1324=\"\",\"\",IF(B1324=\"\",E1323,IF(D1324=\"\",E1323,D1324/MAX($D$8:D1324)-1)))","v":""}]
[null,null,null,null,{"$f":"IF(A1325=\"\",\"\",IF(B1325=\"\",E1324,IF(D1325=\"\",E1324,D1325/MAX($D$8:D1325)-1)))","v":""}]
[null,null,null,null,{"$f":"IF(A1326=\"\",\"\",IF(B1326=\"\",E1325,IF(D1326=\"\",E1325,D1326/MAX($D$8:D1326)-1)))","v":""}]
[null,null,null,null,{"$f":"IF(A1327=\"\",\"\",IF(B1327=\"\",E1326,IF(D1327=\"\",E1326,D1327/MAX($D$8:D1327)-1)))","v":""}]
[null,null,null,null,{"$f":"IF(A1328=\"\",\"\",IF(B1328=\"\",E1327,IF(D1328=\"\",E1327,D1328/MAX($D$8:D1328)-1)))","v":""}]
[null,null,null,null,{"$f":"IF(A1329=\"\",\"\",IF(B1329=\"\",E1328,IF(D1329=\"\",E1328,D1329/MAX($D$8:D1329)-1)))","v":""}]
[null,null,null,null,{"$f":"IF(A1330=\"\",\"\",IF(B1330=\"\",E1329,IF(D1330=\"\",E1329,D1330/MAX($D$8:D1330)-1)))","v":""}]
[null,null,null,null,{"$f":"IF(A1331=\"\",\"\",IF(B1331=\"\",E1330,IF(D1331=\"\",E1330,D1331/MAX($D$8:D1331)-1)))","v":""}]
[null,null,null,null,{"$f":"IF(A1332=\"\",\"\",IF(B1332=\"\",E1331,IF(D1332=\"\",E1331,D1332/MAX($D$8:D1332)-1)))","v":""}]
[null,null,null,null,{"$f":"IF(A1333=\"\",\"\",IF(B1333=\"\",E1332,IF(D1333=\"\",E1332,D1333/MAX($D$8:D1333)-1)))","v":""}]
[null,null,null,null,{"$f":"IF(A1334=\"\",\"\",IF(B1334=\"\",E1333,IF(D1334=\"\",E1333,D1334/MAX($D$8:D1334)-1)))","v":""}]
[null,null,null,null,{"$f":"IF(A1335=\"\",\"\",IF(B1335=\"\",E1334,IF(D1335=\"\",E1334,D1335/MAX($D$8:D1335)-1)))","v":""}]
[null,null,null,null,{"$f":"IF(A1336=\"\",\"\",IF(B1336=\"\",E1335,IF(D1336=\"\",E1335,D1336/MAX($D$8:D1336)-1)))","v":""}]
[null,null,null,null,{"$f":"IF(A1337=\"\",\"\",IF(B1337=\"\",E1336,IF(D1337=\"\",E1336,D1337/MAX($D$8:D1337)-1)))","v":""}]
[null,null,null,null,{"$f":"IF(A1338=\"\",\"\",IF(B1338=\"\",E1337,IF(D1338=\"\",E1337,D1338/MAX($D$8:D1338)-1)))","v":""}]
[null,null,null,null,{"$f":"IF(A1339=\"\",\"\",IF(B1339=\"\",E1338,IF(D1339=\"\",E1338,D1339/MAX($D$8:D1339)-1)))","v":""}]
[null,null,null,null,{"$f":"IF(A1340=\"\",\"\",IF(B1340=\"\",E1339,IF(D1340=\"\",E1339,D1340/MAX($D$8:D1340)-1)))","v":""}]
[null,null,null,null,{"$f":"IF(A1341=\"\",\"\",IF(B1341=\"\",E1340,IF(D1341=\"\",E1340,D1341/MAX($D$8:D1341)-1)))","v":""}]
[null,null,null,null,{"$f":"IF(A1342=\"\",\"\",IF(B1342=\"\",E1341,IF(D1342=\"\",E1341,D1342/MAX($D$8:D1342)-1)))","v":""}]
[null,null,null,null,{"$f":"IF(A1343=\"\",\"\",IF(B1343=\"\",E1342,IF(D1343=\"\",E1342,D1343/MAX($D$8:D1343)-1)))","v":""}]
[null,null,null,null,{"$f":"IF(A1344=\"\",\"\",IF(B1344=\"\",E1343,IF(D1344=\"\",E1343,D1344/MAX($D$8:D1344)-1)))","v":""}]
[null,null,null,null,{"$f":"IF(A1345=\"\",\"\",IF(B1345=\"\",E1344,IF(D1345=\"\",E1344,D1345/MAX($D$8:D1345)-1)))","v":""}]
[null,null,null,null,{"$f":"IF(A1346=\"\",\"\",IF(B1346=\"\",E1345,IF(D1346=\"\",E1345,D1346/MAX($D$8:D1346)-1)))","v":""}]
[null,null,null,null,{"$f":"IF(A1347=\"\",\"\",IF(B1347=\"\",E1346,IF(D1347=\"\",E1346,D1347/MAX($D$8:D1347)-1)))","v":""}]
[null,null,null,null,{"$f":"IF(A1348=\"\",\"\",IF(B1348=\"\",E1347,IF(D1348=\"\",E1347,D1348/MAX($D$8:D1348)-1)))","v":""}]
[null,null,null,null,{"$f":"IF(A1349=\"\",\"\",IF(B1349=\"\",E1348,IF(D1349=\"\",E1348,D1349/MAX($D$8:D1349)-1)))","v":""}]
[null,null,null,null,{"$f":"IF(A1350=\"\",\"\",IF(B1350=\"\",E1349,IF(D1350=\"\",E1349,D1350/MAX($D$8:D1350)-1)))","v":""}]
[null,null,null,null,{"$f":"IF(A1351=\"\",\"\",IF(B1351=\"\",E1350,IF(D1351=\"\",E1350,D1351/MAX($D$8:D1351)-1)))","v":""}]
[null,null,null,null,{"$f":"IF(A1352=\"\",\"\",IF(B1352=\"\",E1351,IF(D1352=\"\",E1351,D1352/MAX($D$8:D1352)-1)))","v":""}]
[null,null,null,null,{"$f":"IF(A1353=\"\",\"\",IF(B1353=\"\",E1352,IF(D1353=\"\",E1352,D1353/MAX($D$8:D1353)-1)))","v":""}]
[null,null,null,null,{"$f":"IF(A1354=\"\",\"\",IF(B1354=\"\",E1353,IF(D1354=\"\",E1353,D1354/MAX($D$8:D1354)-1)))","v":""}]
[null,null,null,null,{"$f":"IF(A1355=\"\",\"\",IF(B1355=\"\",E1354,IF(D1355=\"\",E1354,D1355/MAX($D$8:D1355)-1)))","v":""}]
[null,null,null,null,{"$f":"IF(A1356=\"\",\"\",IF(B1356=\"\",E1355,IF(D1356=\"\",E1355,D1356/MAX($D$8:D1356)-1)))","v":""}]
[null,null,null,null,{"$f":"IF(A1357=\"\",\"\",IF(B1357=\"\",E1356,IF(D1357=\"\",E1356,D1357/MAX($D$8:D1357)-1)))","v":""}]
[null,null,null,null,{"$f":"IF(A1358=\"\",\"\",IF(B1358=\"\",E1357,IF(D1358=\"\",E1357,D1358/MAX($D$8:D1358)-1)))","v":""}]
[null,null,null,null,{"$f":"IF(A1359=\"\",\"\",IF(B1359=\"\",E1358,IF(D1359=\"\",E1358,D1359/MAX($D$8:D1359)-1)))","v":""}]
[null,null,null,null,{"$f":"IF(A1360=\"\",\"\",IF(B1360=\"\",E1359,IF(D1360=\"\",E1359,D1360/MAX($D$8:D1360)-1)))","v":""}]
[null,null,null,null,{"$f":"IF(A1361=\"\",\"\",IF(B1361=\"\",E1360,IF(D1361=\"\",E1360,D1361/MAX($D$8:D1361)-1)))","v":""}]
[null,null,null,null,{"$f":"IF(A1362=\"\",\"\",IF(B1362=\"\",E1361,IF(D1362=\"\",E1361,D1362/MAX($D$8:D1362)-1)))","v":""}]
[null,null,null,null,{"$f":"IF(A1363=\"\",\"\",IF(B1363=\"\",E1362,IF(D1363=\"\",E1362,D1363/MAX($D$8:D1363)-1)))","v":""}]
[null,null,null,null,{"$f":"IF(A1364=\"\",\"\",IF(B1364=\"\",E1363,IF(D1364=\"\",E1363,D1364/MAX($D$8:D1364)-1)))","v":""}]
[null,null,null,null,{"$f":"IF(A1365=\"\",\"\",IF(B1365=\"\",E1364,IF(D1365=\"\",E1364,D1365/MAX($D$8:D1365)-1)))","v":""}]
[null,null,null,null,{"$f":"IF(A1366=\"\",\"\",IF(B1366=\"\",E1365,IF(D1366=\"\",E1365,D1366/MAX($D$8:D1366)-1)))","v":""}]
[null,null,null,null,{"$f":"IF(A1367=\"\",\"\",IF(B1367=\"\",E1366,IF(D1367=\"\",E1366,D1367/MAX($D$8:D1367)-1)))","v":""}]
[null,null,null,null,{"$f":"IF(A1368=\"\",\"\",IF(B1368=\"\",E1367,IF(D1368=\"\",E1367,D1368/MAX($D$8:D1368)-1)))","v":""}]
[null,null,null,null,{"$f":"IF(A1369=\"\",\"\",IF(B1369=\"\",E1368,IF(D1369=\"\",E1368,D1369/MAX($D$8:D1369)-1)))","v":""}]
[null,null,null,null,{"$f":"IF(A1370=\"\",\"\",IF(B1370=\"\",E1369,IF(D1370=\"\",E1369,D1370/MAX($D$8:D1370)-1)))","v":""}]
[null,null,null,null,{"$f":"IF(A1371=\"\",\"\",IF(B1371=\"\",E1370,IF(D1371=\"\",E1370,D1371/MAX($D$8:D1371)-1)))","v":""}]
[null,null,null,null,{"$f":"IF(A1372=\"\",\"\",IF(B1372=\"\",E1371,IF(D1372=\"\",E1371,D1372/MAX($D$8:D1372)-1)))","v":""}]
[null,null,null,null,{"$f":"IF(A1373=\"\",\"\",IF(B1373=\"\",E1372,IF(D1373=\"\",E1372,D1373/MAX($D$8:D1373)-1)))","v":""}]
[null,null,null,null,{"$f":"IF(A1374=\"\",\"\",IF(B1374=\"\",E1373,IF(D1374=\"\",E1373,D1374/MAX($D$8:D1374)-1)))","v":""}]
[null,null,null,null,{"$f":"IF(A1375=\"\",\"\",IF(B1375=\"\",E1374,IF(D1375=\"\",E1374,D1375/MAX($D$8:D1375)-1)))","v":""}]
[null,null,null,null,{"$f":"IF(A1376=\"\",\"\",IF(B1376=\"\",E1375,IF(D1376=\"\",E1375,D1376/MAX($D$8:D1376)-1)))","v":""}]
[null,null,null,null,{"$f":"IF(A1377=\"\",\"\",IF(B1377=\"\",E1376,IF(D1377=\"\",E1376,D1377/MAX($D$8:D1377)-1)))","v":""}]
[null,null,null,null,{"$f":"IF(A1378=\"\",\"\",IF(B1378=\"\",E1377,IF(D1378=\"\",E1377,D1378/MAX($D$8:D1378)-1)))","v":""}]
[null,null,null,null,{"$f":"IF(A1379=\"\",\"\",IF(B1379=\"\",E1378,IF(D1379=\"\",E1378,D1379/MAX($D$8:D1379)-1)))","v":""}]
[null,null,null,null,{"$f":"IF(A1380=\"\",\"\",IF(B1380=\"\",E1379,IF(D1380=\"\",E1379,D1380/MAX($D$8:D1380)-1)))","v":""}]
[null,null,null,null,{"$f":"IF(A1381=\"\",\"\",IF(B1381=\"\",E1380,IF(D1381=\"\",E1380,D1381/MAX($D$8:D1381)-1)))","v":""}]
[null,null,null,null,{"$f":"IF(A1382=\"\",\"\",IF(B1382=\"\",E1381,IF(D1382=\"\",E1381,D1382/MAX($D$8:D1382)-1)))","v":""}]
[null,null,null,null,{"$f":"IF(A1383=\"\",\"\",IF(B1383=\"\",E1382,IF(D1383=\"\",E1382,D1383/MAX($D$8:D1383)-1)))","v":""}]
[null,null,null,null,{"$f":"IF(A1384=\"\",\"\",IF(B1384=\"\",E1383,IF(D1384=\"\",E1383,D1384/MAX($D$8:D1384)-1)))","v":""}]
[null,null,null,null,{"$f":"IF(A1385=\"\",\"\",IF(B1385=\"\",E1384,IF(D1385=\"\",E1384,D1385/MAX($D$8:D1385)-1)))","v":""}]
[null,null,null,null,{"$f":"IF(A1386=\"\",\"\",IF(B1386=\"\",E1385,IF(D1386=\"\",E1385,D1386/MAX($D$8:D1386)-1)))","v":""}]
[null,null,null,null,{"$f":"IF(A1387=\"\",\"\",IF(B1387=\"\",E1386,IF(D1387=\"\",E1386,D1387/MAX($D$8:D1387)-1)))","v":""}]
[null,null,null,null,{"$f":"IF(A1388=\"\",\"\",IF(B1388=\"\",E1387,IF(D1388=\"\",E1387,D1388/MAX($D$8:D1388)-1)))","v":""}]
[null,null,null,null,{"$f":"IF(A1389=\"\",\"\",IF(B1389=\"\",E1388,IF(D1389=\"\",E1388,D1389/MAX($D$8:D1389)-1)))","v":""}]
[null,null,null,null,{"$f":"IF(A1390=\"\",\"\",IF(B1390=\"\",E1389,IF(D1390=\"\",E1389,D1390/MAX($D$8:D1390)-1)))","v":""}]
[null,null,null,null,{"$f":"IF(A1391=\"\",\"\",IF(B1391=\"\",E1390,IF(D1391=\"\",E1390,D1391/MAX($D$8:D1391)-1)))","v":""}]
[null,null,null,null,{"$f":"IF(A1392=\"\",\"\",IF(B1392=\"\",E1391,IF(D1392=\"\",E1391,D1392/MAX($D$8:D1392)-1)))","v":""}]
[null,null,null,null,{"$f":"IF(A1393=\"\",\"\",IF(B1393=\"\",E1392,IF(D1393=\"\",E1392,D1393/MAX($D$8:D1393)-1)))","v":""}]
[null,null,null,null,{"$f":"IF(A1394=\"\",\"\",IF(B1394=\"\",E1393,IF(D1394=\"\",E1393,D1394/MAX($D$8:D1394)-1)))","v":""}]
[null,null,null,null,{"$f":"IF(A1395=\"\",\"\",IF(B1395=\"\",E1394,IF(D1395=\"\",E1394,D1395/MAX($D$8:D1395)-1)))","v":""}]
[null,null,null,null,{"$f":"IF(A1396=\"\",\"\",IF(B1396=\"\",E1395,IF(D1396=\"\",E1395,D1396/MAX($D$8:D1396)-1)))","v":""}]
[null,null,null,null,{"$f":"IF(A1397=\"\",\"\",IF(B1397=\"\",E1396,IF(D1397=\"\",E1396,D1397/MAX($D$8:D1397)-1)))","v":""}]
[null,null,null,null,{"$f":"IF(A1398=\"\",\"\",IF(B1398=\"\",E1397,IF(D1398=\"\",E1397,D1398/MAX($D$8:D1398)-1)))","v":""}]
[null,null,null,null,{"$f":"IF(A1399=\"\",\"\",IF(B1399=\"\",E1398,IF(D1399=\"\",E1398,D1399/MAX($D$8:D1399)-1)))","v":""}]
[null,null,null,null,{"$f":"IF(A1400=\"\",\"\",IF(B1400=\"\",E1399,IF(D1400=\"\",E1399,D1400/MAX($D$8:D1400)-1)))","v":""}]
[null,null,null,null,{"$f":"IF(A1401=\"\",\"\",IF(B1401=\"\",E1400,IF(D1401=\"\",E1400,D1401/MAX($D$8:D1401)-1)))","v":""}]
[null,null,null,null,{"$f":"IF(A1402=\"\",\"\",IF(B1402=\"\",E1401,IF(D1402=\"\",E1401,D1402/MAX($D$8:D1402)-1)))","v":""}]
[null,null,null,null,{"$f":"IF(A1403=\"\",\"\",IF(B1403=\"\",E1402,IF(D1403=\"\",E1402,D1403/MAX($D$8:D1403)-1)))","v":""}]
[null,null,null,null,{"$f":"IF(A1404=\"\",\"\",IF(B1404=\"\",E1403,IF(D1404=\"\",E1403,D1404/MAX($D$8:D1404)-1)))","v":""}]
[null,null,null,null,{"$f":"IF(A1405=\"\",\"\",IF(B1405=\"\",E1404,IF(D1405=\"\",E1404,D1405/MAX($D$8:D1405)-1)))","v":""}]
[null,null,null,null,{"$f":"IF(A1406=\"\",\"\",IF(B1406=\"\",E1405,IF(D1406=\"\",E1405,D1406/MAX($D$8:D1406)-1)))","v":""}]
[null,null,null,null,{"$f":"IF(A1407=\"\",\"\",IF(B1407=\"\",E1406,IF(D1407=\"\",E1406,D1407/MAX($D$8:D1407)-1)))","v":""}]
[null,null,null,null,{"$f":"IF(A1408=\"\",\"\",IF(B1408=\"\",E1407,IF(D1408=\"\",E1407,D1408/MAX($D$8:D1408)-1)))","v":""}]
[null,null,null,null,{"$f":"IF(A1409=\"\",\"\",IF(B1409=\"\",E1408,IF(D1409=\"\",E1408,D1409/MAX($D$8:D1409)-1)))","v":""}]
[null,null,null,null,{"$f":"IF(A1410=\"\",\"\",IF(B1410=\"\",E1409,IF(D1410=\"\",E1409,D1410/MAX($D$8:D1410)-1)))","v":""}]
[null,null,null,null,{"$f":"IF(A1411=\"\",\"\",IF(B1411=\"\",E1410,IF(D1411=\"\",E1410,D1411/MAX($D$8:D1411)-1)))","v":""}]
[null,null,null,null,{"$f":"IF(A1412=\"\",\"\",IF(B1412=\"\",E1411,IF(D1412=\"\",E1411,D1412/MAX($D$8:D1412)-1)))","v":""}]
[null,null,null,null,{"$f":"IF(A1413=\"\",\"\",IF(B1413=\"\",E1412,IF(D1413=\"\",E1412,D1413/MAX($D$8:D1413)-1)))","v":""}]
[null,null,null,null,{"$f":"IF(A1414=\"\",\"\",IF(B1414=\"\",E1413,IF(D1414=\"\",E1413,D1414/MAX($D$8:D1414)-1)))","v":""}]
[null,null,null,null,{"$f":"IF(A1415=\"\",\"\",IF(B1415=\"\",E1414,IF(D1415=\"\",E1414,D1415/MAX($D$8:D1415)-1)))","v":""}]
[null,null,null,null,{"$f":"IF(A1416=\"\",\"\",IF(B1416=\"\",E1415,IF(D1416=\"\",E1415,D1416/MAX($D$8:D1416)-1)))","v":""}]
[null,null,null,null,{"$f":"IF(A1417=\"\",\"\",IF(B1417=\"\",E1416,IF(D1417=\"\",E1416,D1417/MAX($D$8:D1417)-1)))","v":""}]
[null,null,null,null,{"$f":"IF(A1418=\"\",\"\",IF(B1418=\"\",E1417,IF(D1418=\"\",E1417,D1418/MAX($D$8:D1418)-1)))","v":""}]
[null,null,null,null,{"$f":"IF(A1419=\"\",\"\",IF(B1419=\"\",E1418,IF(D1419=\"\",E1418,D1419/MAX($D$8:D1419)-1)))","v":""}]
[null,null,null,null,{"$f":"IF(A1420=\"\",\"\",IF(B1420=\"\",E1419,IF(D1420=\"\",E1419,D1420/MAX($D$8:D1420)-1)))","v":""}]
[null,null,null,null,{"$f":"IF(A1421=\"\",\"\",IF(B1421=\"\",E1420,IF(D1421=\"\",E1420,D1421/MAX($D$8:D1421)-1)))","v":""}]
[null,null,null,null,{"$f":"IF(A1422=\"\",\"\",IF(B1422=\"\",E1421,IF(D1422=\"\",E1421,D1422/MAX($D$8:D1422)-1)))","v":""}]
[null,null,null,null,{"$f":"IF(A1423=\"\",\"\",IF(B1423=\"\",E1422,IF(D1423=\"\",E1422,D1423/MAX($D$8:D1423)-1)))","v":""}]
[null,null,null,null,{"$f":"IF(A1424=\"\",\"\",IF(B1424=\"\",E1423,IF(D1424=\"\",E1423,D1424/MAX($D$8:D1424)-1)))","v":""}]
[null,null,null,null,{"$f":"IF(A1425=\"\",\"\",IF(B1425=\"\",E1424,IF(D1425=\"\",E1424,D1425/MAX($D$8:D1425)-1)))","v":""}]
[null,null,null,null,{"$f":"IF(A1426=\"\",\"\",IF(B1426=\"\",E1425,IF(D1426=\"\",E1425,D1426/MAX($D$8:D1426)-1)))","v":""}]
[null,null,null,null,{"$f":"IF(A1427=\"\",\"\",IF(B1427=\"\",E1426,IF(D1427=\"\",E1426,D1427/MAX($D$8:D1427)-1)))","v":""}]
[null,null,null,null,{"$f":"IF(A1428=\"\",\"\",IF(B1428=\"\",E1427,IF(D1428=\"\",E1427,D1428/MAX($D$8:D1428)-1)))","v":""}]
[null,null,null,null,{"$f":"IF(A1429=\"\",\"\",IF(B1429=\"\",E1428,IF(D1429=\"\",E1428,D1429/MAX($D$8:D1429)-1)))","v":""}]
[null,null,null,null,{"$f":"IF(A1430=\"\",\"\",IF(B1430=\"\",E1429,IF(D1430=\"\",E1429,D1430/MAX($D$8:D1430)-1)))","v":""}]
[null,null,null,null,{"$f":"IF(A1431=\"\",\"\",IF(B1431=\"\",E1430,IF(D1431=\"\",E1430,D1431/MAX($D$8:D1431)-1)))","v":""}]
[null,null,null,null,{"$f":"IF(A1432=\"\",\"\",IF(B1432=\"\",E1431,IF(D1432=\"\",E1431,D1432/MAX($D$8:D1432)-1)))","v":""}]
[null,null,null,null,{"$f":"IF(A1433=\"\",\"\",IF(B1433=\"\",E1432,IF(D1433=\"\",E1432,D1433/MAX($D$8:D1433)-1)))","v":""}]
[null,null,null,null,{"$f":"IF(A1434=\"\",\"\",IF(B1434=\"\",E1433,IF(D1434=\"\",E1433,D1434/MAX($D$8:D1434)-1)))","v":""}]
[null,null,null,null,{"$f":"IF(A1435=\"\",\"\",IF(B1435=\"\",E1434,IF(D1435=\"\",E1434,D1435/MAX($D$8:D1435)-1)))","v":""}]
[null,null,null,null,{"$f":"IF(A1436=\"\",\"\",IF(B1436=\"\",E1435,IF(D1436=\"\",E1435,D1436/MAX($D$8:D1436)-1)))","v":""}]
[null,null,null,null,{"$f":"IF(A1437=\"\",\"\",IF(B1437=\"\",E1436,IF(D1437=\"\",E1436,D1437/MAX($D$8:D1437)-1)))","v":""}]
[null,null,null,null,{"$f":"IF(A1438=\"\",\"\",IF(B1438=\"\",E1437,IF(D1438=\"\",E1437,D1438/MAX($D$8:D1438)-1)))","v":""}]
[null,null,null,null,{"$f":"IF(A1439=\"\",\"\",IF(B1439=\"\",E1438,IF(D1439=\"\",E1438,D1439/MAX($D$8:D1439)-1)))","v":""}]
[null,null,null,null,{"$f":"IF(A1440=\"\",\"\",IF(B1440=\"\",E1439,IF(D1440=\"\",E1439,D1440/MAX($D$8:D1440)-1)))","v":""}]
[null,null,null,null,{"$f":"IF(A1441=\"\",\"\",IF(B1441=\"\",E1440,IF(D1441=\"\",E1440,D1441/MAX($D$8:D1441)-1)))","v":""}]
[null,null,null,null,{"$f":"IF(A1442=\"\",\"\",IF(B1442=\"\",E1441,IF(D1442=\"\",E1441,D1442/MAX($D$8:D1442)-1)))","v":""}]
[null,null,null,null,{"$f":"IF(A1443=\"\",\"\",IF(B1443=\"\",E1442,IF(D1443=\"\",E1442,D1443/MAX($D$8:D1443)-1)))","v":""}]
[null,null,null,null,{"$f":"IF(A1444=\"\",\"\",IF(B1444=\"\",E1443,IF(D1444=\"\",E1443,D1444/MAX($D$8:D1444)-1)))","v":""}]
[null,null,null,null,{"$f":"IF(A1445=\"\",\"\",IF(B1445=\"\",E1444,IF(D1445=\"\",E1444,D1445/MAX($D$8:D1445)-1)))","v":""}]
[null,null,null,null,{"$f":"IF(A1446=\"\",\"\",IF(B1446=\"\",E1445,IF(D1446=\"\",E1445,D1446/MAX($D$8:D1446)-1)))","v":""}]
[null,null,null,null,{"$f":"IF(A1447=\"\",\"\",IF(B1447=\"\",E1446,IF(D1447=\"\",E1446,D1447/MAX($D$8:D1447)-1)))","v":""}]
[null,null,null,null,{"$f":"IF(A1448=\"\",\"\",IF(B1448=\"\",E1447,IF(D1448=\"\",E1447,D1448/MAX($D$8:D1448)-1)))","v":""}]
[null,null,null,null,{"$f":"IF(A1449=\"\",\"\",IF(B1449=\"\",E1448,IF(D1449=\"\",E1448,D1449/MAX($D$8:D1449)-1)))","v":""}]
[null,null,null,null,{"$f":"IF(A1450=\"\",\"\",IF(B1450=\"\",E1449,IF(D1450=\"\",E1449,D1450/MAX($D$8:D1450)-1)))","v":""}]
[null,null,null,null,{"$f":"IF(A1451=\"\",\"\",IF(B1451=\"\",E1450,IF(D1451=\"\",E1450,D1451/MAX($D$8:D1451)-1)))","v":""}]
[null,null,null,null,{"$f":"IF(A1452=\"\",\"\",IF(B1452=\"\",E1451,IF(D1452=\"\",E1451,D1452/MAX($D$8:D1452)-1)))","v":""}]
[null,null,null,null,{"$f":"IF(A1453=\"\",\"\",IF(B1453=\"\",E1452,IF(D1453=\"\",E1452,D1453/MAX($D$8:D1453)-1)))","v":""}]
[null,null,null,null,{"$f":"IF(A1454=\"\",\"\",IF(B1454=\"\",E1453,IF(D1454=\"\",E1453,D1454/MAX($D$8:D1454)-1)))","v":""}]
[null,null,null,null,{"$f":"IF(A1455=\"\",\"\",IF(B1455=\"\",E1454,IF(D1455=\"\",E1454,D1455/MAX($D$8:D1455)-1)))","v":""}]
[null,null,null,null,{"$f":"IF(A1456=\"\",\"\",IF(B1456=\"\",E1455,IF(D1456=\"\",E1455,D1456/MAX($D$8:D1456)-1)))","v":""}]
[null,null,null,null,{"$f":"IF(A1457=\"\",\"\",IF(B1457=\"\",E1456,IF(D1457=\"\",E1456,D1457/MAX($D$8:D1457)-1)))","v":""}]
[null,null,null,null,{"$f":"IF(A1458=\"\",\"\",IF(B1458=\"\",E1457,IF(D1458=\"\",E1457,D1458/MAX($D$8:D1458)-1)))","v":""}]
[null,null,null,null,{"$f":"IF(A1459=\"\",\"\",IF(B1459=\"\",E1458,IF(D1459=\"\",E1458,D1459/MAX($D$8:D1459)-1)))","v":""}]
[null,null,null,null,{"$f":"IF(A1460=\"\",\"\",IF(B1460=\"\",E1459,IF(D1460=\"\",E1459,D1460/MAX($D$8:D1460)-1)))","v":""}]
[null,null,null,null,{"$f":"IF(A1461=\"\",\"\",IF(B1461=\"\",E1460,IF(D1461=\"\",E1460,D1461/MAX($D$8:D1461)-1)))","v":""}]
[null,null,null,null,{"$f":"IF(A1462=\"\",\"\",IF(B1462=\"\",E1461,IF(D1462=\"\",E1461,D1462/MAX($D$8:D1462)-1)))","v":""}]
[null,null,null,null,{"$f":"IF(A1463=\"\",\"\",IF(B1463=\"\",E1462,IF(D1463=\"\",E1462,D1463/MAX($D$8:D1463)-1)))","v":""}]
[null,null,null,null,{"$f":"IF(A1464=\"\",\"\",IF(B1464=\"\",E1463,IF(D1464=\"\",E1463,D1464/MAX($D$8:D1464)-1)))","v":""}]
[null,null,null,null,{"$f":"IF(A1465=\"\",\"\",IF(B1465=\"\",E1464,IF(D1465=\"\",E1464,D1465/MAX($D$8:D1465)-1)))","v":""}]
[null,null,null,null,{"$f":"IF(A1466=\"\",\"\",IF(B1466=\"\",E1465,IF(D1466=\"\",E1465,D1466/MAX($D$8:D1466)-1)))","v":""}]
[null,null,null,null,{"$f":"IF(A1467=\"\",\"\",IF(B1467=\"\",E1466,IF(D1467=\"\",E1466,D1467/MAX($D$8:D1467)-1)))","v":""}]
[null,null,null,null,{"$f":"IF(A1468=\"\",\"\",IF(B1468=\"\",E1467,IF(D1468=\"\",E1467,D1468/MAX($D$8:D1468)-1)))","v":""}]
[null,null,null,null,{"$f":"IF(A1469=\"\",\"\",IF(B1469=\"\",E1468,IF(D1469=\"\",E1468,D1469/MAX($D$8:D1469)-1)))","v":""}]
[null,null,null,null,{"$f":"IF(A1470=\"\",\"\",IF(B1470=\"\",E1469,IF(D1470=\"\",E1469,D1470/MAX($D$8:D1470)-1)))","v":""}]
[null,null,null,null,{"$f":"IF(A1471=\"\",\"\",IF(B1471=\"\",E1470,IF(D1471=\"\",E1470,D1471/MAX($D$8:D1471)-1)))","v":""}]
[null,null,null,null,{"$f":"IF(A1472=\"\",\"\",IF(B1472=\"\",E1471,IF(D1472=\"\",E1471,D1472/MAX($D$8:D1472)-1)))","v":""}]
[null,null,null,null,{"$f":"IF(A1473=\"\",\"\",IF(B1473=\"\",E1472,IF(D1473=\"\",E1472,D1473/MAX($D$8:D1473)-1)))","v":""}]
[null,null,null,null,{"$f":"IF(A1474=\"\",\"\",IF(B1474=\"\",E1473,IF(D1474=\"\",E1473,D1474/MAX($D$8:D1474)-1)))","v":""}]
[null,null,null,null,{"$f":"IF(A1475=\"\",\"\",IF(B1475=\"\",E1474,IF(D1475=\"\",E1474,D1475/MAX($D$8:D1475)-1)))","v":""}]
[null,null,null,null,{"$f":"IF(A1476=\"\",\"\",IF(B1476=\"\",E1475,IF(D1476=\"\",E1475,D1476/MAX($D$8:D1476)-1)))","v":""}]
[null,null,null,null,{"$f":"IF(A1477=\"\",\"\",IF(B1477=\"\",E1476,IF(D1477=\"\",E1476,D1477/MAX($D$8:D1477)-1)))","v":""}]
[null,null,null,null,{"$f":"IF(A1478=\"\",\"\",IF(B1478=\"\",E1477,IF(D1478=\"\",E1477,D1478/MAX($D$8:D1478)-1)))","v":""}]
[null,null,null,null,{"$f":"IF(A1479=\"\",\"\",IF(B1479=\"\",E1478,IF(D1479=\"\",E1478,D1479/MAX($D$8:D1479)-1)))","v":""}]
[null,null,null,null,{"$f":"IF(A1480=\"\",\"\",IF(B1480=\"\",E1479,IF(D1480=\"\",E1479,D1480/MAX($D$8:D1480)-1)))","v":""}]
[null,null,null,null,{"$f":"IF(A1481=\"\",\"\",IF(B1481=\"\",E1480,IF(D1481=\"\",E1480,D1481/MAX($D$8:D1481)-1)))","v":""}]
[null,null,null,null,{"$f":"IF(A1482=\"\",\"\",IF(B1482=\"\",E1481,IF(D1482=\"\",E1481,D1482/MAX($D$8:D1482)-1)))","v":""}]
[null,null,null,null,{"$f":"IF(A1483=\"\",\"\",IF(B1483=\"\",E1482,IF(D1483=\"\",E1482,D1483/MAX($D$8:D1483)-1)))","v":""}]
[null,null,null,null,{"$f":"IF(A1484=\"\",\"\",IF(B1484=\"\",E1483,IF(D1484=\"\",E1483,D1484/MAX($D$8:D1484)-1)))","v":""}]
[null,null,null,null,{"$f":"IF(A1485=\"\",\"\",IF(B1485=\"\",E1484,IF(D1485=\"\",E1484,D1485/MAX($D$8:D1485)-1)))","v":""}]
[null,null,null,null,{"$f":"IF(A1486=\"\",\"\",IF(B1486=\"\",E1485,IF(D1486=\"\",E1485,D1486/MAX($D$8:D1486)-1)))","v":""}]
[null,null,null,null,{"$f":"IF(A1487=\"\",\"\",IF(B1487=\"\",E1486,IF(D1487=\"\",E1486,D1487/MAX($D$8:D1487)-1)))","v":""}]
[null,null,null,null,{"$f":"IF(A1488=\"\",\"\",IF(B1488=\"\",E1487,IF(D1488=\"\",E1487,D1488/MAX($D$8:D1488)-1)))","v":""}]
[null,null,null,null,{"$f":"IF(A1489=\"\",\"\",IF(B1489=\"\",E1488,IF(D1489=\"\",E1488,D1489/MAX($D$8:D1489)-1)))","v":""}]
[null,null,null,null,{"$f":"IF(A1490=\"\",\"\",IF(B1490=\"\",E1489,IF(D1490=\"\",E1489,D1490/MAX($D$8:D1490)-1)))","v":""}]
[null,null,null,null,{"$f":"IF(A1491=\"\",\"\",IF(B1491=\"\",E1490,IF(D1491=\"\",E1490,D1491/MAX($D$8:D1491)-1)))","v":""}]
[null,null,null,null,{"$f":"IF(A1492=\"\",\"\",IF(B1492=\"\",E1491,IF(D1492=\"\",E1491,D1492/MAX($D$8:D1492)-1)))","v":""}]
[null,null,null,null,{"$f":"IF(A1493=\"\",\"\",IF(B1493=\"\",E1492,IF(D1493=\"\",E1492,D1493/MAX($D$8:D1493)-1)))","v":""}]
[null,null,null,null,{"$f":"IF(A1494=\"\",\"\",IF(B1494=\"\",E1493,IF(D1494=\"\",E1493,D1494/MAX($D$8:D1494)-1)))","v":""}]
[null,null,null,null,{"$f":"IF(A1495=\"\",\"\",IF(B1495=\"\",E1494,IF(D1495=\"\",E1494,D1495/MAX($D$8:D1495)-1)))","v":""}]
[null,null,null,null,{"$f":"IF(A1496=\"\",\"\",IF(B1496=\"\",E1495,IF(D1496=\"\",E1495,D1496/MAX($D$8:D1496)-1)))","v":""}]
[null,null,null,null,{"$f":"IF(A1497=\"\",\"\",IF(B1497=\"\",E1496,IF(D1497=\"\",E1496,D1497/MAX($D$8:D1497)-1)))","v":""}]
[null,null,null,null,{"$f":"IF(A1498=\"\",\"\",IF(B1498=\"\",E1497,IF(D1498=\"\",E1497,D1498/MAX($D$8:D1498)-1)))","v":""}]
[null,null,null,null,{"$f":"IF(A1499=\"\",\"\",IF(B1499=\"\",E1498,IF(D1499=\"\",E1498,D1499/MAX($D$8:D1499)-1)))","v":""}]
[null,null,null,null,{"$f":"IF(A1500=\"\",\"\",IF(B1500=\"\",E1499,IF(D1500=\"\",E1499,D1500/MAX($D$8:D1500)-1)))","v":""}]
[null,null,null,null,{"$f":"IF(A1501=\"\",\"\",IF(B1501=\"\",E1500,IF(D1501=\"\",E1500,D1501/MAX($D$8:D1501)-1)))","v":""}]
[null,null,null,null,{"$f":"IF(A1502=\"\",\"\",IF(B1502=\"\",E1501,IF(D1502=\"\",E1501,D1502/MAX($D$8:D1502)-1)))","v":""}]
[null,null,null,null,{"$f":"IF(A1503=\"\",\"\",IF(B1503=\"\",E1502,IF(D1503=\"\",E1502,D1503/MAX($D$8:D1503)-1)))","v":""}]
[null,null,null,null,{"$f":"IF(A1504=\"\",\"\",IF(B1504=\"\",E1503,IF(D1504=\"\",E1503,D1504/MAX($D$8:D1504)-1)))","v":""}]
[null,null,null,null,{"$f":"IF(A1505=\"\",\"\",IF(B1505=\"\",E1504,IF(D1505=\"\",E1504,D1505/MAX($D$8:D1505)-1)))","v":""}]
[null,null,null,null,{"$f":"IF(A1506=\"\",\"\",IF(B1506=\"\",E1505,IF(D1506=\"\",E1505,D1506/MAX($D$8:D1506)-1)))","v":""}]
[null,null,null,null,{"$f":"IF(A1507=\"\",\"\",IF(B1507=\"\",E1506,IF(D1507=\"\",E1506,D1507/MAX($D$8:D1507)-1)))","v":""}]
[null,null,null,null,{"$f":"IF(A1508=\"\",\"\",IF(B1508=\"\",E1507,IF(D1508=\"\",E1507,D1508/MAX($D$8:D1508)-1)))","v":""}]
[null,null,null,null,{"$f":"IF(A1509=\"\",\"\",IF(B1509=\"\",E1508,IF(D1509=\"\",E1508,D1509/MAX($D$8:D1509)-1)))","v":""}]
[null,null,null,null,{"$f":"IF(A1510=\"\",\"\",IF(B1510=\"\",E1509,IF(D1510=\"\",E1509,D1510/MAX($D$8:D1510)-1)))","v":""}]
[null,null,null,null,{"$f":"IF(A1511=\"\",\"\",IF(B1511=\"\",E1510,IF(D1511=\"\",E1510,D1511/MAX($D$8:D1511)-1)))","v":""}]
[null,null,null,null,{"$f":"IF(A1512=\"\",\"\",IF(B1512=\"\",E1511,IF(D1512=\"\",E1511,D1512/MAX($D$8:D1512)-1)))","v":""}]
[null,null,null,null,{"$f":"IF(A1513=\"\",\"\",IF(B1513=\"\",E1512,IF(D1513=\"\",E1512,D1513/MAX($D$8:D1513)-1)))","v":""}]
[null,null,null,null,{"$f":"IF(A1514=\"\",\"\",IF(B1514=\"\",E1513,IF(D1514=\"\",E1513,D1514/MAX($D$8:D1514)-1)))","v":""}]
[null,null,null,null,{"$f":"IF(A1515=\"\",\"\",IF(B1515=\"\",E1514,IF(D1515=\"\",E1514,D1515/MAX($D$8:D1515)-1)))","v":""}]
[null,null,null,null,{"$f":"IF(A1516=\"\",\"\",IF(B1516=\"\",E1515,IF(D1516=\"\",E1515,D1516/MAX($D$8:D1516)-1)))","v":""}]
[null,null,null,null,{"$f":"IF(A1517=\"\",\"\",IF(B1517=\"\",E1516,IF(D1517=\"\",E1516,D1517/MAX($D$8:D1517)-1)))","v":""}]
[null,null,null,null,{"$f":"IF(A1518=\"\",\"\",IF(B1518=\"\",E1517,IF(D1518=\"\",E1517,D1518/MAX($D$8:D1518)-1)))","v":""}]
[null,null,null,null,{"$f":"IF(A1519=\"\",\"\",IF(B1519=\"\",E1518,IF(D1519=\"\",E1518,D1519/MAX($D$8:D1519)-1)))","v":""}]
[null,null,null,null,{"$f":"IF(A1520=\"\",\"\",IF(B1520=\"\",E1519,IF(D1520=\"\",E1519,D1520/MAX($D$8:D1520)-1)))","v":""}]
[null,null,null,null,{"$f":"IF(A1521=\"\",\"\",IF(B1521=\"\",E1520,IF(D1521=\"\",E1520,D1521/MAX($D$8:D1521)-1)))","v":""}]
[null,null,null,null,{"$f":"IF(A1522=\"\",\"\",IF(B1522=\"\",E1521,IF(D1522=\"\",E1521,D1522/MAX($D$8:D1522)-1)))","v":""}]
[null,null,null,null,{"$f":"IF(A1523=\"\",\"\",IF(B1523=\"\",E1522,IF(D1523=\"\",E1522,D1523/MAX($D$8:D1523)-1)))","v":""}]
[null,null,null,null,{"$f":"IF(A1524=\"\",\"\",IF(B1524=\"\",E1523,IF(D1524=\"\",E1523,D1524/MAX($D$8:D1524)-1)))","v":""}]
[null,null,null,null,{"$f":"IF(A1525=\"\",\"\",IF(B1525=\"\",E1524,IF(D1525=\"\",E1524,D1525/MAX($D$8:D1525)-1)))","v":""}]
[null,null,null,null,{"$f":"IF(A1526=\"\",\"\",IF(B1526=\"\",E1525,IF(D1526=\"\",E1525,D1526/MAX($D$8:D1526)-1)))","v":""}]
[null,null,null,null,{"$f":"IF(A1527=\"\",\"\",IF(B1527=\"\",E1526,IF(D1527=\"\",E1526,D1527/MAX($D$8:D1527)-1)))","v":""}]
[null,null,null,null,{"$f":"IF(A1528=\"\",\"\",IF(B1528=\"\",E1527,IF(D1528=\"\",E1527,D1528/MAX($D$8:D1528)-1)))","v":""}]
[null,null,null,null,{"$f":"IF(A1529=\"\",\"\",IF(B1529=\"\",E1528,IF(D1529=\"\",E1528,D1529/MAX($D$8:D1529)-1)))","v":""}]
[null,null,null,null,{"$f":"IF(A1530=\"\",\"\",IF(B1530=\"\",E1529,IF(D1530=\"\",E1529,D1530/MAX($D$8:D1530)-1)))","v":""}]
[null,null,null,null,{"$f":"IF(A1531=\"\",\"\",IF(B1531=\"\",E1530,IF(D1531=\"\",E1530,D1531/MAX($D$8:D1531)-1)))","v":""}]
[null,null,null,null,{"$f":"IF(A1532=\"\",\"\",IF(B1532=\"\",E1531,IF(D1532=\"\",E1531,D1532/MAX($D$8:D1532)-1)))","v":""}]
[null,null,null,null,{"$f":"IF(A1533=\"\",\"\",IF(B1533=\"\",E1532,IF(D1533=\"\",E1532,D1533/MAX($D$8:D1533)-1)))","v":""}]
[null,null,null,null,{"$f":"IF(A1534=\"\",\"\",IF(B1534=\"\",E1533,IF(D1534=\"\",E1533,D1534/MAX($D$8:D1534)-1)))","v":""}]
[null,null,null,null,{"$f":"IF(A1535=\"\",\"\",IF(B1535=\"\",E1534,IF(D1535=\"\",E1534,D1535/MAX($D$8:D1535)-1)))","v":""}]
[null,null,null,null,{"$f":"IF(A1536=\"\",\"\",IF(B1536=\"\",E1535,IF(D1536=\"\",E1535,D1536/MAX($D$8:D1536)-1)))","v":""}]
[null,null,null,null,{"$f":"IF(A1537=\"\",\"\",IF(B1537=\"\",E1536,IF(D1537=\"\",E1536,D1537/MAX($D$8:D1537)-1)))","v":""}]
[null,null,null,null,{"$f":"IF(A1538=\"\",\"\",IF(B1538=\"\",E1537,IF(D1538=\"\",E1537,D1538/MAX($D$8:D1538)-1)))","v":""}]
[null,null,null,null,{"$f":"IF(A1539=\"\",\"\",IF(B1539=\"\",E1538,IF(D1539=\"\",E1538,D1539/MAX($D$8:D1539)-1)))","v":""}]
[null,null,null,null,{"$f":"IF(A1540=\"\",\"\",IF(B1540=\"\",E1539,IF(D1540=\"\",E1539,D1540/MAX($D$8:D1540)-1)))","v":""}]
[null,null,null,null,{"$f":"IF(A1541=\"\",\"\",IF(B1541=\"\",E1540,IF(D1541=\"\",E1540,D1541/MAX($D$8:D1541)-1)))","v":""}]
[null,null,null,null,{"$f":"IF(A1542=\"\",\"\",IF(B1542=\"\",E1541,IF(D1542=\"\",E1541,D1542/MAX($D$8:D1542)-1)))","v":""}]
[null,null,null,null,{"$f":"IF(A1543=\"\",\"\",IF(B1543=\"\",E1542,IF(D1543=\"\",E1542,D1543/MAX($D$8:D1543)-1)))","v":""}]
[null,null,null,null,{"$f":"IF(A1544=\"\",\"\",IF(B1544=\"\",E1543,IF(D1544=\"\",E1543,D1544/MAX($D$8:D1544)-1)))","v":""}]
[null,null,null,null,{"$f":"IF(A1545=\"\",\"\",IF(B1545=\"\",E1544,IF(D1545=\"\",E1544,D1545/MAX($D$8:D1545)-1)))","v":""}]
[null,null,null,null,{"$f":"IF(A1546=\"\",\"\",IF(B1546=\"\",E1545,IF(D1546=\"\",E1545,D1546/MAX($D$8:D1546)-1)))","v":""}]
[null,null,null,null,{"$f":"IF(A1547=\"\",\"\",IF(B1547=\"\",E1546,IF(D1547=\"\",E1546,D1547/MAX($D$8:D1547)-1)))","v":""}]
[null,null,null,null,{"$f":"IF(A1548=\"\",\"\",IF(B1548=\"\",E1547,IF(D1548=\"\",E1547,D1548/MAX($D$8:D1548)-1)))","v":""}]
[null,null,null,null,{"$f":"IF(A1549=\"\",\"\",IF(B1549=\"\",E1548,IF(D1549=\"\",E1548,D1549/MAX($D$8:D1549)-1)))","v":""}]
[null,null,null,null,{"$f":"IF(A1550=\"\",\"\",IF(B1550=\"\",E1549,IF(D1550=\"\",E1549,D1550/MAX($D$8:D1550)-1)))","v":""}]
[null,null,null,null,{"$f":"IF(A1551=\"\",\"\",IF(B1551=\"\",E1550,IF(D1551=\"\",E1550,D1551/MAX($D$8:D1551)-1)))","v":""}]
[null,null,null,null,{"$f":"IF(A1552=\"\",\"\",IF(B1552=\"\",E1551,IF(D1552=\"\",E1551,D1552/MAX($D$8:D1552)-1)))","v":""}]
[null,null,null,null,{"$f":"IF(A1553=\"\",\"\",IF(B1553=\"\",E1552,IF(D1553=\"\",E1552,D1553/MAX($D$8:D1553)-1)))","v":""}]
[null,null,null,null,{"$f":"IF(A1554=\"\",\"\",IF(B1554=\"\",E1553,IF(D1554=\"\",E1553,D1554/MAX($D$8:D1554)-1)))","v":""}]
[null,null,null,null,{"$f":"IF(A1555=\"\",\"\",IF(B1555=\"\",E1554,IF(D1555=\"\",E1554,D1555/MAX($D$8:D1555)-1)))","v":""}]
[null,null,null,null,{"$f":"IF(A1556=\"\",\"\",IF(B1556=\"\",E1555,IF(D1556=\"\",E1555,D1556/MAX($D$8:D1556)-1)))","v":""}]
[null,null,null,null,{"$f":"IF(A1557=\"\",\"\",IF(B1557=\"\",E1556,IF(D1557=\"\",E1556,D1557/MAX($D$8:D1557)-1)))","v":""}]
[null,null,null,null,{"$f":"IF(A1558=\"\",\"\",IF(B1558=\"\",E1557,IF(D1558=\"\",E1557,D1558/MAX($D$8:D1558)-1)))","v":""}]
[null,null,null,null,{"$f":"IF(A1559=\"\",\"\",IF(B1559=\"\",E1558,IF(D1559=\"\",E1558,D1559/MAX($D$8:D1559)-1)))","v":""}]
[null,null,null,null,{"$f":"IF(A1560=\"\",\"\",IF(B1560=\"\",E1559,IF(D1560=\"\",E1559,D1560/MAX($D$8:D1560)-1)))","v":""}]
[null,null,null,null,{"$f":"IF(A1561=\"\",\"\",IF(B1561=\"\",E1560,IF(D1561=\"\",E1560,D1561/MAX($D$8:D1561)-1)))","v":""}]
[null,null,null,null,{"$f":"IF(A1562=\"\",\"\",IF(B1562=\"\",E1561,IF(D1562=\"\",E1561,D1562/MAX($D$8:D1562)-1)))","v":""}]
[null,null,null,null,{"$f":"IF(A1563=\"\",\"\",IF(B1563=\"\",E1562,IF(D1563=\"\",E1562,D1563/MAX($D$8:D1563)-1)))","v":""}]
[null,null,null,null,{"$f":"IF(A1564=\"\",\"\",IF(B1564=\"\",E1563,IF(D1564=\"\",E1563,D1564/MAX($D$8:D1564)-1)))","v":""}]
[null,null,null,null,{"$f":"IF(A1565=\"\",\"\",IF(B1565=\"\",E1564,IF(D1565=\"\",E1564,D1565/MAX($D$8:D1565)-1)))","v":""}]
[null,null,null,null,{"$f":"IF(A1566=\"\",\"\",IF(B1566=\"\",E1565,IF(D1566=\"\",E1565,D1566/MAX($D$8:D1566)-1)))","v":""}]
[null,null,null,null,{"$f":"IF(A1567=\"\",\"\",IF(B1567=\"\",E1566,IF(D1567=\"\",E1566,D1567/MAX($D$8:D1567)-1)))","v":""}]
[null,null,null,null,{"$f":"IF(A1568=\"\",\"\",IF(B1568=\"\",E1567,IF(D1568=\"\",E1567,D1568/MAX($D$8:D1568)-1)))","v":""}]
[null,null,null,null,{"$f":"IF(A1569=\"\",\"\",IF(B1569=\"\",E1568,IF(D1569=\"\",E1568,D1569/MAX($D$8:D1569)-1)))","v":""}]
[null,null,null,null,{"$f":"IF(A1570=\"\",\"\",IF(B1570=\"\",E1569,IF(D1570=\"\",E1569,D1570/MAX($D$8:D1570)-1)))","v":""}]
[null,null,null,null,{"$f":"IF(A1571=\"\",\"\",IF(B1571=\"\",E1570,IF(D1571=\"\",E1570,D1571/MAX($D$8:D1571)-1)))","v":""}]
[null,null,null,null,{"$f":"IF(A1572=\"\",\"\",IF(B1572=\"\",E1571,IF(D1572=\"\",E1571,D1572/MAX($D$8:D1572)-1)))","v":""}]
[null,null,null,null,{"$f":"IF(A1573=\"\",\"\",IF(B1573=\"\",E1572,IF(D1573=\"\",E1572,D1573/MAX($D$8:D1573)-1)))","v":""}]
[null,null,null,null,{"$f":"IF(A1574=\"\",\"\",IF(B1574=\"\",E1573,IF(D1574=\"\",E1573,D1574/MAX($D$8:D1574)-1)))","v":""}]
[null,null,null,null,{"$f":"IF(A1575=\"\",\"\",IF(B1575=\"\",E1574,IF(D1575=\"\",E1574,D1575/MAX($D$8:D1575)-1)))","v":""}]
[null,null,null,null,{"$f":"IF(A1576=\"\",\"\",IF(B1576=\"\",E1575,IF(D1576=\"\",E1575,D1576/MAX($D$8:D1576)-1)))","v":""}]
[null,null,null,null,{"$f":"IF(A1577=\"\",\"\",IF(B1577=\"\",E1576,IF(D1577=\"\",E1576,D1577/MAX($D$8:D1577)-1)))","v":""}]
[null,null,null,null,{"$f":"IF(A1578=\"\",\"\",IF(B1578=\"\",E1577,IF(D1578=\"\",E1577,D1578/MAX($D$8:D1578)-1)))","v":""}]
[null,null,null,null,{"$f":"IF(A1579=\"\",\"\",IF(B1579=\"\",E1578,IF(D1579=\"\",E1578,D1579/MAX($D$8:D1579)-1)))","v":""}]
[null,null,null,null,{"$f":"IF(A1580=\"\",\"\",IF(B1580=\"\",E1579,IF(D1580=\"\",E1579,D1580/MAX($D$8:D1580)-1)))","v":""}]
[null,null,null,null,{"$f":"IF(A1581=\"\",\"\",IF(B1581=\"\",E1580,IF(D1581=\"\",E1580,D1581/MAX($D$8:D1581)-1)))","v":""}]
[null,null,null,null,{"$f":"IF(A1582=\"\",\"\",IF(B1582=\"\",E1581,IF(D1582=\"\",E1581,D1582/MAX($D$8:D1582)-1)))","v":""}]
[null,null,null,null,{"$f":"IF(A1583=\"\",\"\",IF(B1583=\"\",E1582,IF(D1583=\"\",E1582,D1583/MAX($D$8:D1583)-1)))","v":""}]
[null,null,null,null,{"$f":"IF(A1584=\"\",\"\",IF(B1584=\"\",E1583,IF(D1584=\"\",E1583,D1584/MAX($D$8:D1584)-1)))","v":""}]
[null,null,null,null,{"$f":"IF(A1585=\"\",\"\",IF(B1585=\"\",E1584,IF(D1585=\"\",E1584,D1585/MAX($D$8:D1585)-1)))","v":""}]
[null,null,null,null,{"$f":"IF(A1586=\"\",\"\",IF(B1586=\"\",E1585,IF(D1586=\"\",E1585,D1586/MAX($D$8:D1586)-1)))","v":""}]
[null,null,null,null,{"$f":"IF(A1587=\"\",\"\",IF(B1587=\"\",E1586,IF(D1587=\"\",E1586,D1587/MAX($D$8:D1587)-1)))","v":""}]
[null,null,null,null,{"$f":"IF(A1588=\"\",\"\",IF(B1588=\"\",E1587,IF(D1588=\"\",E1587,D1588/MAX($D$8:D1588)-1)))","v":""}]
[null,null,null,null,{"$f":"IF(A1589=\"\",\"\",IF(B1589=\"\",E1588,IF(D1589=\"\",E1588,D1589/MAX($D$8:D1589)-1)))","v":""}]
[null,null,null,null,{"$f":"IF(A1590=\"\",\"\",IF(B1590=\"\",E1589,IF(D1590=\"\",E1589,D1590/MAX($D$8:D1590)-1)))","v":""}]
[null,null,null,null,{"$f":"IF(A1591=\"\",\"\",IF(B1591=\"\",E1590,IF(D1591=\"\",E1590,D1591/MAX($D$8:D1591)-1)))","v":""}]
[null,null,null,null,{"$f":"IF(A1592=\"\",\"\",IF(B1592=\"\",E1591,IF(D1592=\"\",E1591,D1592/MAX($D$8:D1592)-1)))","v":""}]
[null,null,null,null,{"$f":"IF(A1593=\"\",\"\",IF(B1593=\"\",E1592,IF(D1593=\"\",E1592,D1593/MAX($D$8:D1593)-1)))","v":""}]
[null,null,null,null,{"$f":"IF(A1594=\"\",\"\",IF(B1594=\"\",E1593,IF(D1594=\"\",E1593,D1594/MAX($D$8:D1594)-1)))","v":""}]
[null,null,null,null,{"$f":"IF(A1595=\"\",\"\",IF(B1595=\"\",E1594,IF(D1595=\"\",E1594,D1595/MAX($D$8:D1595)-1)))","v":""}]
[null,null,null,null,{"$f":"IF(A1596=\"\",\"\",IF(B1596=\"\",E1595,IF(D1596=\"\",E1595,D1596/MAX($D$8:D1596)-1)))","v":""}]
[null,null,null,null,{"$f":"IF(A1597=\"\",\"\",IF(B1597=\"\",E1596,IF(D1597=\"\",E1596,D1597/MAX($D$8:D1597)-1)))","v":""}]
[null,null,null,null,{"$f":"IF(A1598=\"\",\"\",IF(B1598=\"\",E1597,IF(D1598=\"\",E1597,D1598/MAX($D$8:D1598)-1)))","v":""}]
[null,null,null,null,{"$f":"IF(A1599=\"\",\"\",IF(B1599=\"\",E1598,IF(D1599=\"\",E1598,D1599/MAX($D$8:D1599)-1)))","v":""}]
[null,null,null,null,{"$f":"IF(A1600=\"\",\"\",IF(B1600=\"\",E1599,IF(D1600=\"\",E1599,D1600/MAX($D$8:D1600)-1)))","v":""}]
[null,null,null,null,{"$f":"IF(A1601=\"\",\"\",IF(B1601=\"\",E1600,IF(D1601=\"\",E1600,D1601/MAX($D$8:D1601)-1)))","v":""}]
[null,null,null,null,{"$f":"IF(A1602=\"\",\"\",IF(B1602=\"\",E1601,IF(D1602=\"\",E1601,D1602/MAX($D$8:D1602)-1)))","v":""}]
[null,null,null,null,{"$f":"IF(A1603=\"\",\"\",IF(B1603=\"\",E1602,IF(D1603=\"\",E1602,D1603/MAX($D$8:D1603)-1)))","v":""}]
[null,null,null,null,{"$f":"IF(A1604=\"\",\"\",IF(B1604=\"\",E1603,IF(D1604=\"\",E1603,D1604/MAX($D$8:D1604)-1)))","v":""}]
[null,null,null,null,{"$f":"IF(A1605=\"\",\"\",IF(B1605=\"\",E1604,IF(D1605=\"\",E1604,D1605/MAX($D$8:D1605)-1)))","v":""}]
[null,null,null,null,{"$f":"IF(A1606=\"\",\"\",IF(B1606=\"\",E1605,IF(D1606=\"\",E1605,D1606/MAX($D$8:D1606)-1)))","v":""}]
[null,null,null,null,{"$f":"IF(A1607=\"\",\"\",IF(B1607=\"\",E1606,IF(D1607=\"\",E1606,D1607/MAX($D$8:D1607)-1)))","v":""}]
[null,null,null,null,{"$f":"IF(A1608=\"\",\"\",IF(B1608=\"\",E1607,IF(D1608=\"\",E1607,D1608/MAX($D$8:D1608)-1)))","v":""}]
[null,null,null,null,{"$f":"IF(A1609=\"\",\"\",IF(B1609=\"\",E1608,IF(D1609=\"\",E1608,D1609/MAX($D$8:D1609)-1)))","v":""}]
[null,null,null,null,{"$f":"IF(A1610=\"\",\"\",IF(B1610=\"\",E1609,IF(D1610=\"\",E1609,D1610/MAX($D$8:D1610)-1)))","v":""}]
[null,null,null,null,{"$f":"IF(A1611=\"\",\"\",IF(B1611=\"\",E1610,IF(D1611=\"\",E1610,D1611/MAX($D$8:D1611)-1)))","v":""}]
[null,null,null,null,{"$f":"IF(A1612=\"\",\"\",IF(B1612=\"\",E1611,IF(D1612=\"\",E1611,D1612/MAX($D$8:D1612)-1)))","v":""}]
[null,null,null,null,{"$f":"IF(A1613=\"\",\"\",IF(B1613=\"\",E1612,IF(D1613=\"\",E1612,D1613/MAX($D$8:D1613)-1)))","v":""}]
[null,null,null,null,{"$f":"IF(A1614=\"\",\"\",IF(B1614=\"\",E1613,IF(D1614=\"\",E1613,D1614/MAX($D$8:D1614)-1)))","v":""}]
[null,null,null,null,{"$f":"IF(A1615=\"\",\"\",IF(B1615=\"\",E1614,IF(D1615=\"\",E1614,D1615/MAX($D$8:D1615)-1)))","v":""}]
[null,null,null,null,{"$f":"IF(A1616=\"\",\"\",IF(B1616=\"\",E1615,IF(D1616=\"\",E1615,D1616/MAX($D$8:D1616)-1)))","v":""}]
[null,null,null,null,{"$f":"IF(A1617=\"\",\"\",IF(B1617=\"\",E1616,IF(D1617=\"\",E1616,D1617/MAX($D$8:D1617)-1)))","v":""}]
[null,null,null,null,{"$f":"IF(A1618=\"\",\"\",IF(B1618=\"\",E1617,IF(D1618=\"\",E1617,D1618/MAX($D$8:D1618)-1)))","v":""}]
[null,null,null,null,{"$f":"IF(A1619=\"\",\"\",IF(B1619=\"\",E1618,IF(D1619=\"\",E1618,D1619/MAX($D$8:D1619)-1)))","v":""}]
[null,null,null,null,{"$f":"IF(A1620=\"\",\"\",IF(B1620=\"\",E1619,IF(D1620=\"\",E1619,D1620/MAX($D$8:D1620)-1)))","v":""}]
[null,null,null,null,{"$f":"IF(A1621=\"\",\"\",IF(B1621=\"\",E1620,IF(D1621=\"\",E1620,D1621/MAX($D$8:D1621)-1)))","v":""}]
[null,null,null,null,{"$f":"IF(A1622=\"\",\"\",IF(B1622=\"\",E1621,IF(D1622=\"\",E1621,D1622/MAX($D$8:D1622)-1)))","v":""}]
[null,null,null,null,{"$f":"IF(A1623=\"\",\"\",IF(B1623=\"\",E1622,IF(D1623=\"\",E1622,D1623/MAX($D$8:D1623)-1)))","v":""}]
[null,null,null,null,{"$f":"IF(A1624=\"\",\"\",IF(B1624=\"\",E1623,IF(D1624=\"\",E1623,D1624/MAX($D$8:D1624)-1)))","v":""}]
[null,null,null,null,{"$f":"IF(A1625=\"\",\"\",IF(B1625=\"\",E1624,IF(D1625=\"\",E1624,D1625/MAX($D$8:D1625)-1)))","v":""}]
[null,null,null,null,{"$f":"IF(A1626=\"\",\"\",IF(B1626=\"\",E1625,IF(D1626=\"\",E1625,D1626/MAX($D$8:D1626)-1)))","v":""}]
[null,null,null,null,{"$f":"IF(A1627=\"\",\"\",IF(B1627=\"\",E1626,IF(D1627=\"\",E1626,D1627/MAX($D$8:D1627)-1)))","v":""}]
[null,null,null,null,{"$f":"IF(A1628=\"\",\"\",IF(B1628=\"\",E1627,IF(D1628=\"\",E1627,D1628/MAX($D$8:D1628)-1)))","v":""}]
[null,null,null,null,{"$f":"IF(A1629=\"\",\"\",IF(B1629=\"\",E1628,IF(D1629=\"\",E1628,D1629/MAX($D$8:D1629)-1)))","v":""}]
[null,null,null,null,{"$f":"IF(A1630=\"\",\"\",IF(B1630=\"\",E1629,IF(D1630=\"\",E1629,D1630/MAX($D$8:D1630)-1)))","v":""}]
[null,null,null,null,{"$f":"IF(A1631=\"\",\"\",IF(B1631=\"\",E1630,IF(D1631=\"\",E1630,D1631/MAX($D$8:D1631)-1)))","v":""}]
[null,null,null,null,{"$f":"IF(A1632=\"\",\"\",IF(B1632=\"\",E1631,IF(D1632=\"\",E1631,D1632/MAX($D$8:D1632)-1)))","v":""}]
[null,null,null,null,{"$f":"IF(A1633=\"\",\"\",IF(B1633=\"\",E1632,IF(D1633=\"\",E1632,D1633/MAX($D$8:D1633)-1)))","v":""}]
[null,null,null,null,{"$f":"IF(A1634=\"\",\"\",IF(B1634=\"\",E1633,IF(D1634=\"\",E1633,D1634/MAX($D$8:D1634)-1)))","v":""}]
[null,null,null,null,{"$f":"IF(A1635=\"\",\"\",IF(B1635=\"\",E1634,IF(D1635=\"\",E1634,D1635/MAX($D$8:D1635)-1)))","v":""}]
[null,null,null,null,{"$f":"IF(A1636=\"\",\"\",IF(B1636=\"\",E1635,IF(D1636=\"\",E1635,D1636/MAX($D$8:D1636)-1)))","v":""}]
[null,null,null,null,{"$f":"IF(A1637=\"\",\"\",IF(B1637=\"\",E1636,IF(D1637=\"\",E1636,D1637/MAX($D$8:D1637)-1)))","v":""}]
[null,null,null,null,{"$f":"IF(A1638=\"\",\"\",IF(B1638=\"\",E1637,IF(D1638=\"\",E1637,D1638/MAX($D$8:D1638)-1)))","v":""}]
[null,null,null,null,{"$f":"IF(A1639=\"\",\"\",IF(B1639=\"\",E1638,IF(D1639=\"\",E1638,D1639/MAX($D$8:D1639)-1)))","v":""}]
[null,null,null,null,{"$f":"IF(A1640=\"\",\"\",IF(B1640=\"\",E1639,IF(D1640=\"\",E1639,D1640/MAX($D$8:D1640)-1)))","v":""}]
[null,null,null,null,{"$f":"IF(A1641=\"\",\"\",IF(B1641=\"\",E1640,IF(D1641=\"\",E1640,D1641/MAX($D$8:D1641)-1)))","v":""}]
[null,null,null,null,{"$f":"IF(A1642=\"\",\"\",IF(B1642=\"\",E1641,IF(D1642=\"\",E1641,D1642/MAX($D$8:D1642)-1)))","v":""}]
[null,null,null,null,{"$f":"IF(A1643=\"\",\"\",IF(B1643=\"\",E1642,IF(D1643=\"\",E1642,D1643/MAX($D$8:D1643)-1)))","v":""}]
[null,null,null,null,{"$f":"IF(A1644=\"\",\"\",IF(B1644=\"\",E1643,IF(D1644=\"\",E1643,D1644/MAX($D$8:D1644)-1)))","v":""}]
[null,null,null,null,{"$f":"IF(A1645=\"\",\"\",IF(B1645=\"\",E1644,IF(D1645=\"\",E1644,D1645/MAX($D$8:D1645)-1)))","v":""}]
[null,null,null,null,{"$f":"IF(A1646=\"\",\"\",IF(B1646=\"\",E1645,IF(D1646=\"\",E1645,D1646/MAX($D$8:D1646)-1)))","v":""}]
[null,null,null,null,{"$f":"IF(A1647=\"\",\"\",IF(B1647=\"\",E1646,IF(D1647=\"\",E1646,D1647/MAX($D$8:D1647)-1)))","v":""}]
[null,null,null,null,{"$f":"IF(A1648=\"\",\"\",IF(B1648=\"\",E1647,IF(D1648=\"\",E1647,D1648/MAX($D$8:D1648)-1)))","v":""}]
[null,null,null,null,{"$f":"IF(A1649=\"\",\"\",IF(B1649=\"\",E1648,IF(D1649=\"\",E1648,D1649/MAX($D$8:D1649)-1)))","v":""}]
[null,null,null,null,{"$f":"IF(A1650=\"\",\"\",IF(B1650=\"\",E1649,IF(D1650=\"\",E1649,D1650/MAX($D$8:D1650)-1)))","v":""}]
[null,null,null,null,{"$f":"IF(A1651=\"\",\"\",IF(B1651=\"\",E1650,IF(D1651=\"\",E1650,D1651/MAX($D$8:D1651)-1)))","v":""}]
[null,null,null,null,{"$f":"IF(A1652=\"\",\"\",IF(B1652=\"\",E1651,IF(D1652=\"\",E1651,D1652/MAX($D$8:D1652)-1)))","v":""}]
[null,null,null,null,{"$f":"IF(A1653=\"\",\"\",IF(B1653=\"\",E1652,IF(D1653=\"\",E1652,D1653/MAX($D$8:D1653)-1)))","v":""}]
[null,null,null,null,{"$f":"IF(A1654=\"\",\"\",IF(B1654=\"\",E1653,IF(D1654=\"\",E1653,D1654/MAX($D$8:D1654)-1)))","v":""}]
[null,null,null,null,{"$f":"IF(A1655=\"\",\"\",IF(B1655=\"\",E1654,IF(D1655=\"\",E1654,D1655/MAX($D$8:D1655)-1)))","v":""}]
[null,null,null,null,{"$f":"IF(A1656=\"\",\"\",IF(B1656=\"\",E1655,IF(D1656=\"\",E1655,D1656/MAX($D$8:D1656)-1)))","v":""}]
[null,null,null,null,{"$f":"IF(A1657=\"\",\"\",IF(B1657=\"\",E1656,IF(D1657=\"\",E1656,D1657/MAX($D$8:D1657)-1)))","v":""}]
[null,null,null,null,{"$f":"IF(A1658=\"\",\"\",IF(B1658=\"\",E1657,IF(D1658=\"\",E1657,D1658/MAX($D$8:D1658)-1)))","v":""}]
[null,null,null,null,{"$f":"IF(A1659=\"\",\"\",IF(B1659=\"\",E1658,IF(D1659=\"\",E1658,D1659/MAX($D$8:D1659)-1)))","v":""}]
[null,null,null,null,{"$f":"IF(A1660=\"\",\"\",IF(B1660=\"\",E1659,IF(D1660=\"\",E1659,D1660/MAX($D$8:D1660)-1)))","v":""}]
[null,null,null,null,{"$f":"IF(A1661=\"\",\"\",IF(B1661=\"\",E1660,IF(D1661=\"\",E1660,D1661/MAX($D$8:D1661)-1)))","v":""}]
[null,null,null,null,{"$f":"IF(A1662=\"\",\"\",IF(B1662=\"\",E1661,IF(D1662=\"\",E1661,D1662/MAX($D$8:D1662)-1)))","v":""}]
[null,null,null,null,{"$f":"IF(A1663=\"\",\"\",IF(B1663=\"\",E1662,IF(D1663=\"\",E1662,D1663/MAX($D$8:D1663)-1)))","v":""}]
[null,null,null,null,{"$f":"IF(A1664=\"\",\"\",IF(B1664=\"\",E1663,IF(D1664=\"\",E1663,D1664/MAX($D$8:D1664)-1)))","v":""}]
[null,null,null,null,{"$f":"IF(A1665=\"\",\"\",IF(B1665=\"\",E1664,IF(D1665=\"\",E1664,D1665/MAX($D$8:D1665)-1)))","v":""}]
[null,null,null,null,{"$f":"IF(A1666=\"\",\"\",IF(B1666=\"\",E1665,IF(D1666=\"\",E1665,D1666/MAX($D$8:D1666)-1)))","v":""}]
[null,null,null,null,{"$f":"IF(A1667=\"\",\"\",IF(B1667=\"\",E1666,IF(D1667=\"\",E1666,D1667/MAX($D$8:D1667)-1)))","v":""}]
[null,null,null,null,{"$f":"IF(A1668=\"\",\"\",IF(B1668=\"\",E1667,IF(D1668=\"\",E1667,D1668/MAX($D$8:D1668)-1)))","v":""}]
[null,null,null,null,{"$f":"IF(A1669=\"\",\"\",IF(B1669=\"\",E1668,IF(D1669=\"\",E1668,D1669/MAX($D$8:D1669)-1)))","v":""}]
[null,null,null,null,{"$f":"IF(A1670=\"\",\"\",IF(B1670=\"\",E1669,IF(D1670=\"\",E1669,D1670/MAX($D$8:D1670)-1)))","v":""}]
[null,null,null,null,{"$f":"IF(A1671=\"\",\"\",IF(B1671=\"\",E1670,IF(D1671=\"\",E1670,D1671/MAX($D$8:D1671)-1)))","v":""}]
[null,null,null,null,{"$f":"IF(A1672=\"\",\"\",IF(B1672=\"\",E1671,IF(D1672=\"\",E1671,D1672/MAX($D$8:D1672)-1)))","v":""}]
[null,null,null,null,{"$f":"IF(A1673=\"\",\"\",IF(B1673=\"\",E1672,IF(D1673=\"\",E1672,D1673/MAX($D$8:D1673)-1)))","v":""}]
[null,null,null,null,{"$f":"IF(A1674=\"\",\"\",IF(B1674=\"\",E1673,IF(D1674=\"\",E1673,D1674/MAX($D$8:D1674)-1)))","v":""}]
[null,null,null,null,{"$f":"IF(A1675=\"\",\"\",IF(B1675=\"\",E1674,IF(D1675=\"\",E1674,D1675/MAX($D$8:D1675)-1)))","v":""}]
[null,null,null,null,{"$f":"IF(A1676=\"\",\"\",IF(B1676=\"\",E1675,IF(D1676=\"\",E1675,D1676/MAX($D$8:D1676)-1)))","v":""}]
[null,null,null,null,{"$f":"IF(A1677=\"\",\"\",IF(B1677=\"\",E1676,IF(D1677=\"\",E1676,D1677/MAX($D$8:D1677)-1)))","v":""}]
[null,null,null,null,{"$f":"IF(A1678=\"\",\"\",IF(B1678=\"\",E1677,IF(D1678=\"\",E1677,D1678/MAX($D$8:D1678)-1)))","v":""}]
[null,null,null,null,{"$f":"IF(A1679=\"\",\"\",IF(B1679=\"\",E1678,IF(D1679=\"\",E1678,D1679/MAX($D$8:D1679)-1)))","v":""}]
[null,null,null,null,{"$f":"IF(A1680=\"\",\"\",IF(B1680=\"\",E1679,IF(D1680=\"\",E1679,D1680/MAX($D$8:D1680)-1)))","v":""}]
[null,null,null,null,{"$f":"IF(A1681=\"\",\"\",IF(B1681=\"\",E1680,IF(D1681=\"\",E1680,D1681/MAX($D$8:D1681)-1)))","v":""}]
[null,null,null,null,{"$f":"IF(A1682=\"\",\"\",IF(B1682=\"\",E1681,IF(D1682=\"\",E1681,D1682/MAX($D$8:D1682)-1)))","v":""}]
[null,null,null,null,{"$f":"IF(A1683=\"\",\"\",IF(B1683=\"\",E1682,IF(D1683=\"\",E1682,D1683/MAX($D$8:D1683)-1)))","v":""}]
[null,null,null,null,{"$f":"IF(A1684=\"\",\"\",IF(B1684=\"\",E1683,IF(D1684=\"\",E1683,D1684/MAX($D$8:D1684)-1)))","v":""}]
[null,null,null,null,{"$f":"IF(A1685=\"\",\"\",IF(B1685=\"\",E1684,IF(D1685=\"\",E1684,D1685/MAX($D$8:D1685)-1)))","v":""}]
[null,null,null,null,{"$f":"IF(A1686=\"\",\"\",IF(B1686=\"\",E1685,IF(D1686=\"\",E1685,D1686/MAX($D$8:D1686)-1)))","v":""}]
[null,null,null,null,{"$f":"IF(A1687=\"\",\"\",IF(B1687=\"\",E1686,IF(D1687=\"\",E1686,D1687/MAX($D$8:D1687)-1)))","v":""}]
[null,null,null,null,{"$f":"IF(A1688=\"\",\"\",IF(B1688=\"\",E1687,IF(D1688=\"\",E1687,D1688/MAX($D$8:D1688)-1)))","v":""}]
[null,null,null,null,{"$f":"IF(A1689=\"\",\"\",IF(B1689=\"\",E1688,IF(D1689=\"\",E1688,D1689/MAX($D$8:D1689)-1)))","v":""}]
[null,null,null,null,{"$f":"IF(A1690=\"\",\"\",IF(B1690=\"\",E1689,IF(D1690=\"\",E1689,D1690/MAX($D$8:D1690)-1)))","v":""}]
[null,null,null,null,{"$f":"IF(A1691=\"\",\"\",IF(B1691=\"\",E1690,IF(D1691=\"\",E1690,D1691/MAX($D$8:D1691)-1)))","v":""}]
[null,null,null,null,{"$f":"IF(A1692=\"\",\"\",IF(B1692=\"\",E1691,IF(D1692=\"\",E1691,D1692/MAX($D$8:D1692)-1)))","v":""}]
[null,null,null,null,{"$f":"IF(A1693=\"\",\"\",IF(B1693=\"\",E1692,IF(D1693=\"\",E1692,D1693/MAX($D$8:D1693)-1)))","v":""}]
[null,null,null,null,{"$f":"IF(A1694=\"\",\"\",IF(B1694=\"\",E1693,IF(D1694=\"\",E1693,D1694/MAX($D$8:D1694)-1)))","v":""}]
[null,null,null,null,{"$f":"IF(A1695=\"\",\"\",IF(B1695=\"\",E1694,IF(D1695=\"\",E1694,D1695/MAX($D$8:D1695)-1)))","v":""}]
[null,null,null,null,{"$f":"IF(A1696=\"\",\"\",IF(B1696=\"\",E1695,IF(D1696=\"\",E1695,D1696/MAX($D$8:D1696)-1)))","v":""}]
[null,null,null,null,{"$f":"IF(A1697=\"\",\"\",IF(B1697=\"\",E1696,IF(D1697=\"\",E1696,D1697/MAX($D$8:D1697)-1)))","v":""}]
[null,null,null,null,{"$f":"IF(A1698=\"\",\"\",IF(B1698=\"\",E1697,IF(D1698=\"\",E1697,D1698/MAX($D$8:D1698)-1)))","v":""}]
[null,null,null,null,{"$f":"IF(A1699=\"\",\"\",IF(B1699=\"\",E1698,IF(D1699=\"\",E1698,D1699/MAX($D$8:D1699)-1)))","v":""}]
[null,null,null,null,{"$f":"IF(A1700=\"\",\"\",IF(B1700=\"\",E1699,IF(D1700=\"\",E1699,D1700/MAX($D$8:D1700)-1)))","v":""}]
[null,null,null,null,{"$f":"IF(A1701=\"\",\"\",IF(B1701=\"\",E1700,IF(D1701=\"\",E1700,D1701/MAX($D$8:D1701)-1)))","v":""}]
[null,null,null,null,{"$f":"IF(A1702=\"\",\"\",IF(B1702=\"\",E1701,IF(D1702=\"\",E1701,D1702/MAX($D$8:D1702)-1)))","v":""}]
[null,null,null,null,{"$f":"IF(A1703=\"\",\"\",IF(B1703=\"\",E1702,IF(D1703=\"\",E1702,D1703/MAX($D$8:D1703)-1)))","v":""}]
[null,null,null,null,{"$f":"IF(A1704=\"\",\"\",IF(B1704=\"\",E1703,IF(D1704=\"\",E1703,D1704/MAX($D$8:D1704)-1)))","v":""}]
[null,null,null,null,{"$f":"IF(A1705=\"\",\"\",IF(B1705=\"\",E1704,IF(D1705=\"\",E1704,D1705/MAX($D$8:D1705)-1)))","v":""}]
[null,null,null,null,{"$f":"IF(A1706=\"\",\"\",IF(B1706=\"\",E1705,IF(D1706=\"\",E1705,D1706/MAX($D$8:D1706)-1)))","v":""}]
[null,null,null,null,{"$f":"IF(A1707=\"\",\"\",IF(B1707=\"\",E1706,IF(D1707=\"\",E1706,D1707/MAX($D$8:D1707)-1)))","v":""}]
[null,null,null,null,{"$f":"IF(A1708=\"\",\"\",IF(B1708=\"\",E1707,IF(D1708=\"\",E1707,D1708/MAX($D$8:D1708)-1)))","v":""}]
[null,null,null,null,{"$f":"IF(A1709=\"\",\"\",IF(B1709=\"\",E1708,IF(D1709=\"\",E1708,D1709/MAX($D$8:D1709)-1)))","v":""}]
[null,null,null,null,{"$f":"IF(A1710=\"\",\"\",IF(B1710=\"\",E1709,IF(D1710=\"\",E1709,D1710/MAX($D$8:D1710)-1)))","v":""}]
[null,null,null,null,{"$f":"IF(A1711=\"\",\"\",IF(B1711=\"\",E1710,IF(D1711=\"\",E1710,D1711/MAX($D$8:D1711)-1)))","v":""}]
[null,null,null,null,{"$f":"IF(A1712=\"\",\"\",IF(B1712=\"\",E1711,IF(D1712=\"\",E1711,D1712/MAX($D$8:D1712)-1)))","v":""}]
[null,null,null,null,{"$f":"IF(A1713=\"\",\"\",IF(B1713=\"\",E1712,IF(D1713=\"\",E1712,D1713/MAX($D$8:D1713)-1)))","v":""}]
[null,null,null,null,{"$f":"IF(A1714=\"\",\"\",IF(B1714=\"\",E1713,IF(D1714=\"\",E1713,D1714/MAX($D$8:D1714)-1)))","v":""}]
[null,null,null,null,{"$f":"IF(A1715=\"\",\"\",IF(B1715=\"\",E1714,IF(D1715=\"\",E1714,D1715/MAX($D$8:D1715)-1)))","v":""}]
[null,null,null,null,{"$f":"IF(A1716=\"\",\"\",IF(B1716=\"\",E1715,IF(D1716=\"\",E1715,D1716/MAX($D$8:D1716)-1)))","v":""}]
[null,null,null,null,{"$f":"IF(A1717=\"\",\"\",IF(B1717=\"\",E1716,IF(D1717=\"\",E1716,D1717/MAX($D$8:D1717)-1)))","v":""}]
[null,null,null,null,{"$f":"IF(A1718=\"\",\"\",IF(B1718=\"\",E1717,IF(D1718=\"\",E1717,D1718/MAX($D$8:D1718)-1)))","v":""}]
[null,null,null,null,{"$f":"IF(A1719=\"\",\"\",IF(B1719=\"\",E1718,IF(D1719=\"\",E1718,D1719/MAX($D$8:D1719)-1)))","v":""}]
[null,null,null,null,{"$f":"IF(A1720=\"\",\"\",IF(B1720=\"\",E1719,IF(D1720=\"\",E1719,D1720/MAX($D$8:D1720)-1)))","v":""}]
[null,null,null,null,{"$f":"IF(A1721=\"\",\"\",IF(B1721=\"\",E1720,IF(D1721=\"\",E1720,D1721/MAX($D$8:D1721)-1)))","v":""}]
[null,null,null,null,{"$f":"IF(A1722=\"\",\"\",IF(B1722=\"\",E1721,IF(D1722=\"\",E1721,D1722/MAX($D$8:D1722)-1)))","v":""}]
[null,null,null,null,{"$f":"IF(A1723=\"\",\"\",IF(B1723=\"\",E1722,IF(D1723=\"\",E1722,D1723/MAX($D$8:D1723)-1)))","v":""}]
[null,null,null,null,{"$f":"IF(A1724=\"\",\"\",IF(B1724=\"\",E1723,IF(D1724=\"\",E1723,D1724/MAX($D$8:D1724)-1)))","v":""}]
[null,null,null,null,{"$f":"IF(A1725=\"\",\"\",IF(B1725=\"\",E1724,IF(D1725=\"\",E1724,D1725/MAX($D$8:D1725)-1)))","v":""}]
[null,null,null,null,{"$f":"IF(A1726=\"\",\"\",IF(B1726=\"\",E1725,IF(D1726=\"\",E1725,D1726/MAX($D$8:D1726)-1)))","v":""}]
[null,null,null,null,{"$f":"IF(A1727=\"\",\"\",IF(B1727=\"\",E1726,IF(D1727=\"\",E1726,D1727/MAX($D$8:D1727)-1)))","v":""}]
[null,null,null,null,{"$f":"IF(A1728=\"\",\"\",IF(B1728=\"\",E1727,IF(D1728=\"\",E1727,D1728/MAX($D$8:D1728)-1)))","v":""}]
[null,null,null,null,{"$f":"IF(A1729=\"\",\"\",IF(B1729=\"\",E1728,IF(D1729=\"\",E1728,D1729/MAX($D$8:D1729)-1)))","v":""}]
[null,null,null,null,{"$f":"IF(A1730=\"\",\"\",IF(B1730=\"\",E1729,IF(D1730=\"\",E1729,D1730/MAX($D$8:D1730)-1)))","v":""}]
[null,null,null,null,{"$f":"IF(A1731=\"\",\"\",IF(B1731=\"\",E1730,IF(D1731=\"\",E1730,D1731/MAX($D$8:D1731)-1)))","v":""}]
[null,null,null,null,{"$f":"IF(A1732=\"\",\"\",IF(B1732=\"\",E1731,IF(D1732=\"\",E1731,D1732/MAX($D$8:D1732)-1)))","v":""}]
[null,null,null,null,{"$f":"IF(A1733=\"\",\"\",IF(B1733=\"\",E1732,IF(D1733=\"\",E1732,D1733/MAX($D$8:D1733)-1)))","v":""}]
[null,null,null,null,{"$f":"IF(A1734=\"\",\"\",IF(B1734=\"\",E1733,IF(D1734=\"\",E1733,D1734/MAX($D$8:D1734)-1)))","v":""}]
[null,null,null,null,{"$f":"IF(A1735=\"\",\"\",IF(B1735=\"\",E1734,IF(D1735=\"\",E1734,D1735/MAX($D$8:D1735)-1)))","v":""}]
[null,null,null,null,{"$f":"IF(A1736=\"\",\"\",IF(B1736=\"\",E1735,IF(D1736=\"\",E1735,D1736/MAX($D$8:D1736)-1)))","v":""}]
[null,null,null,null,{"$f":"IF(A1737=\"\",\"\",IF(B1737=\"\",E1736,IF(D1737=\"\",E1736,D1737/MAX($D$8:D1737)-1)))","v":""}]
[null,null,null,null,{"$f":"IF(A1738=\"\",\"\",IF(B1738=\"\",E1737,IF(D1738=\"\",E1737,D1738/MAX($D$8:D1738)-1)))","v":""}]
[null,null,null,null,{"$f":"IF(A1739=\"\",\"\",IF(B1739=\"\",E1738,IF(D1739=\"\",E1738,D1739/MAX($D$8:D1739)-1)))","v":""}]
[null,null,null,null,{"$f":"IF(A1740=\"\",\"\",IF(B1740=\"\",E1739,IF(D1740=\"\",E1739,D1740/MAX($D$8:D1740)-1)))","v":""}]
[null,null,null,null,{"$f":"IF(A1741=\"\",\"\",IF(B1741=\"\",E1740,IF(D1741=\"\",E1740,D1741/MAX($D$8:D1741)-1)))","v":""}]
[null,null,null,null,{"$f":"IF(A1742=\"\",\"\",IF(B1742=\"\",E1741,IF(D1742=\"\",E1741,D1742/MAX($D$8:D1742)-1)))","v":""}]
[null,null,null,null,{"$f":"IF(A1743=\"\",\"\",IF(B1743=\"\",E1742,IF(D1743=\"\",E1742,D1743/MAX($D$8:D1743)-1)))","v":""}]
[null,null,null,null,{"$f":"IF(A1744=\"\",\"\",IF(B1744=\"\",E1743,IF(D1744=\"\",E1743,D1744/MAX($D$8:D1744)-1)))","v":""}]
[null,null,null,null,{"$f":"IF(A1745=\"\",\"\",IF(B1745=\"\",E1744,IF(D1745=\"\",E1744,D1745/MAX($D$8:D1745)-1)))","v":""}]
[null,null,null,null,{"$f":"IF(A1746=\"\",\"\",IF(B1746=\"\",E1745,IF(D1746=\"\",E1745,D1746/MAX($D$8:D1746)-1)))","v":""}]
[null,null,null,null,{"$f":"IF(A1747=\"\",\"\",IF(B1747=\"\",E1746,IF(D1747=\"\",E1746,D1747/MAX($D$8:D1747)-1)))","v":""}]
[null,null,null,null,{"$f":"IF(A1748=\"\",\"\",IF(B1748=\"\",E1747,IF(D1748=\"\",E1747,D1748/MAX($D$8:D1748)-1)))","v":""}]
[null,null,null,null,{"$f":"IF(A1749=\"\",\"\",IF(B1749=\"\",E1748,IF(D1749=\"\",E1748,D1749/MAX($D$8:D1749)-1)))","v":""}]
[null,null,null,null,{"$f":"IF(A1750=\"\",\"\",IF(B1750=\"\",E1749,IF(D1750=\"\",E1749,D1750/MAX($D$8:D1750)-1)))","v":""}]
[null,null,null,null,{"$f":"IF(A1751=\"\",\"\",IF(B1751=\"\",E1750,IF(D1751=\"\",E1750,D1751/MAX($D$8:D1751)-1)))","v":""}]
[null,null,null,null,{"$f":"IF(A1752=\"\",\"\",IF(B1752=\"\",E1751,IF(D1752=\"\",E1751,D1752/MAX($D$8:D1752)-1)))","v":""}]
[null,null,null,null,{"$f":"IF(A1753=\"\",\"\",IF(B1753=\"\",E1752,IF(D1753=\"\",E1752,D1753/MAX($D$8:D1753)-1)))","v":""}]
[null,null,null,null,{"$f":"IF(A1754=\"\",\"\",IF(B1754=\"\",E1753,IF(D1754=\"\",E1753,D1754/MAX($D$8:D1754)-1)))","v":""}]
[null,null,null,null,{"$f":"IF(A1755=\"\",\"\",IF(B1755=\"\",E1754,IF(D1755=\"\",E1754,D1755/MAX($D$8:D1755)-1)))","v":""}]
[null,null,null,null,{"$f":"IF(A1756=\"\",\"\",IF(B1756=\"\",E1755,IF(D1756=\"\",E1755,D1756/MAX($D$8:D1756)-1)))","v":""}]
[null,null,null,null,{"$f":"IF(A1757=\"\",\"\",IF(B1757=\"\",E1756,IF(D1757=\"\",E1756,D1757/MAX($D$8:D1757)-1)))","v":""}]
[null,null,null,null,{"$f":"IF(A1758=\"\",\"\",IF(B1758=\"\",E1757,IF(D1758=\"\",E1757,D1758/MAX($D$8:D1758)-1)))","v":""}]
[null,null,null,null,{"$f":"IF(A1759=\"\",\"\",IF(B1759=\"\",E1758,IF(D1759=\"\",E1758,D1759/MAX($D$8:D1759)-1)))","v":""}]
[null,null,null,null,{"$f":"IF(A1760=\"\",\"\",IF(B1760=\"\",E1759,IF(D1760=\"\",E1759,D1760/MAX($D$8:D1760)-1)))","v":""}]
[null,null,null,null,{"$f":"IF(A1761=\"\",\"\",IF(B1761=\"\",E1760,IF(D1761=\"\",E1760,D1761/MAX($D$8:D1761)-1)))","v":""}]
[null,null,null,null,{"$f":"IF(A1762=\"\",\"\",IF(B1762=\"\",E1761,IF(D1762=\"\",E1761,D1762/MAX($D$8:D1762)-1)))","v":""}]
[null,null,null,null,{"$f":"IF(A1763=\"\",\"\",IF(B1763=\"\",E1762,IF(D1763=\"\",E1762,D1763/MAX($D$8:D1763)-1)))","v":""}]
[null,null,null,null,{"$f":"IF(A1764=\"\",\"\",IF(B1764=\"\",E1763,IF(D1764=\"\",E1763,D1764/MAX($D$8:D1764)-1)))","v":""}]
[null,null,null,null,{"$f":"IF(A1765=\"\",\"\",IF(B1765=\"\",E1764,IF(D1765=\"\",E1764,D1765/MAX($D$8:D1765)-1)))","v":""}]
[null,null,null,null,{"$f":"IF(A1766=\"\",\"\",IF(B1766=\"\",E1765,IF(D1766=\"\",E1765,D1766/MAX($D$8:D1766)-1)))","v":""}]
[null,null,null,null,{"$f":"IF(A1767=\"\",\"\",IF(B1767=\"\",E1766,IF(D1767=\"\",E1766,D1767/MAX($D$8:D1767)-1)))","v":""}]
[null,null,null,null,{"$f":"IF(A1768=\"\",\"\",IF(B1768=\"\",E1767,IF(D1768=\"\",E1767,D1768/MAX($D$8:D1768)-1)))","v":""}]
[null,null,null,null,{"$f":"IF(A1769=\"\",\"\",IF(B1769=\"\",E1768,IF(D1769=\"\",E1768,D1769/MAX($D$8:D1769)-1)))","v":""}]
[null,null,null,null,{"$f":"IF(A1770=\"\",\"\",IF(B1770=\"\",E1769,IF(D1770=\"\",E1769,D1770/MAX($D$8:D1770)-1)))","v":""}]
[null,null,null,null,{"$f":"IF(A1771=\"\",\"\",IF(B1771=\"\",E1770,IF(D1771=\"\",E1770,D1771/MAX($D$8:D1771)-1)))","v":""}]
[null,null,null,null,{"$f":"IF(A1772=\"\",\"\",IF(B1772=\"\",E1771,IF(D1772=\"\",E1771,D1772/MAX($D$8:D1772)-1)))","v":""}]
[null,null,null,null,{"$f":"IF(A1773=\"\",\"\",IF(B1773=\"\",E1772,IF(D1773=\"\",E1772,D1773/MAX($D$8:D1773)-1)))","v":""}]
[null,null,null,null,{"$f":"IF(A1774=\"\",\"\",IF(B1774=\"\",E1773,IF(D1774=\"\",E1773,D1774/MAX($D$8:D1774)-1)))","v":""}]
[null,null,null,null,{"$f":"IF(A1775=\"\",\"\",IF(B1775=\"\",E1774,IF(D1775=\"\",E1774,D1775/MAX($D$8:D1775)-1)))","v":""}]
[null,null,null,null,{"$f":"IF(A1776=\"\",\"\",IF(B1776=\"\",E1775,IF(D1776=\"\",E1775,D1776/MAX($D$8:D1776)-1)))","v":""}]
[null,null,null,null,{"$f":"IF(A1777=\"\",\"\",IF(B1777=\"\",E1776,IF(D1777=\"\",E1776,D1777/MAX($D$8:D1777)-1)))","v":""}]
[null,null,null,null,{"$f":"IF(A1778=\"\",\"\",IF(B1778=\"\",E1777,IF(D1778=\"\",E1777,D1778/MAX($D$8:D1778)-1)))","v":""}]
[null,null,null,null,{"$f":"IF(A1779=\"\",\"\",IF(B1779=\"\",E1778,IF(D1779=\"\",E1778,D1779/MAX($D$8:D1779)-1)))","v":""}]
[null,null,null,null,{"$f":"IF(A1780=\"\",\"\",IF(B1780=\"\",E1779,IF(D1780=\"\",E1779,D1780/MAX($D$8:D1780)-1)))","v":""}]
[null,null,null,null,{"$f":"IF(A1781=\"\",\"\",IF(B1781=\"\",E1780,IF(D1781=\"\",E1780,D1781/MAX($D$8:D1781)-1)))","v":""}]
[null,null,null,null,{"$f":"IF(A1782=\"\",\"\",IF(B1782=\"\",E1781,IF(D1782=\"\",E1781,D1782/MAX($D$8:D1782)-1)))","v":""}]
[null,null,null,null,{"$f":"IF(A1783=\"\",\"\",IF(B1783=\"\",E1782,IF(D1783=\"\",E1782,D1783/MAX($D$8:D1783)-1)))","v":""}]
[null,null,null,null,{"$f":"IF(A1784=\"\",\"\",IF(B1784=\"\",E1783,IF(D1784=\"\",E1783,D1784/MAX($D$8:D1784)-1)))","v":""}]
[null,null,null,null,{"$f":"IF(A1785=\"\",\"\",IF(B1785=\"\",E1784,IF(D1785=\"\",E1784,D1785/MAX($D$8:D1785)-1)))","v":""}]
[null,null,null,null,{"$f":"IF(A1786=\"\",\"\",IF(B1786=\"\",E1785,IF(D1786=\"\",E1785,D1786/MAX($D$8:D1786)-1)))","v":""}]
[null,null,null,null,{"$f":"IF(A1787=\"\",\"\",IF(B1787=\"\",E1786,IF(D1787=\"\",E1786,D1787/MAX($D$8:D1787)-1)))","v":""}]
[null,null,null,null,{"$f":"IF(A1788=\"\",\"\",IF(B1788=\"\",E1787,IF(D1788=\"\",E1787,D1788/MAX($D$8:D1788)-1)))","v":""}]
[null,null,null,null,{"$f":"IF(A1789=\"\",\"\",IF(B1789=\"\",E1788,IF(D1789=\"\",E1788,D1789/MAX($D$8:D1789)-1)))","v":""}]
[null,null,null,null,{"$f":"IF(A1790=\"\",\"\",IF(B1790=\"\",E1789,IF(D1790=\"\",E1789,D1790/MAX($D$8:D1790)-1)))","v":""}]
[null,null,null,null,{"$f":"IF(A1791=\"\",\"\",IF(B1791=\"\",E1790,IF(D1791=\"\",E1790,D1791/MAX($D$8:D1791)-1)))","v":""}]
[null,null,null,null,{"$f":"IF(A1792=\"\",\"\",IF(B1792=\"\",E1791,IF(D1792=\"\",E1791,D1792/MAX($D$8:D1792)-1)))","v":""}]
[null,null,null,null,{"$f":"IF(A1793=\"\",\"\",IF(B1793=\"\",E1792,IF(D1793=\"\",E1792,D1793/MAX($D$8:D1793)-1)))","v":""}]
[null,null,null,null,{"$f":"IF(A1794=\"\",\"\",IF(B1794=\"\",E1793,IF(D1794=\"\",E1793,D1794/MAX($D$8:D1794)-1)))","v":""}]
[null,null,null,null,{"$f":"IF(A1795=\"\",\"\",IF(B1795=\"\",E1794,IF(D1795=\"\",E1794,D1795/MAX($D$8:D1795)-1)))","v":""}]
[null,null,null,null,{"$f":"IF(A1796=\"\",\"\",IF(B1796=\"\",E1795,IF(D1796=\"\",E1795,D1796/MAX($D$8:D1796)-1)))","v":""}]
[null,null,null,null,{"$f":"IF(A1797=\"\",\"\",IF(B1797=\"\",E1796,IF(D1797=\"\",E1796,D1797/MAX($D$8:D1797)-1)))","v":""}]
[null,null,null,null,{"$f":"IF(A1798=\"\",\"\",IF(B1798=\"\",E1797,IF(D1798=\"\",E1797,D1798/MAX($D$8:D1798)-1)))","v":""}]
[null,null,null,null,{"$f":"IF(A1799=\"\",\"\",IF(B1799=\"\",E1798,IF(D1799=\"\",E1798,D1799/MAX($D$8:D1799)-1)))","v":""}]
[null,null,null,null,{"$f":"IF(A1800=\"\",\"\",IF(B1800=\"\",E1799,IF(D1800=\"\",E1799,D1800/MAX($D$8:D1800)-1)))","v":""}]
[null,null,null,null,{"$f":"IF(A1801=\"\",\"\",IF(B1801=\"\",E1800,IF(D1801=\"\",E1800,D1801/MAX($D$8:D1801)-1)))","v":""}]
[null,null,null,null,{"$f":"IF(A1802=\"\",\"\",IF(B1802=\"\",E1801,IF(D1802=\"\",E1801,D1802/MAX($D$8:D1802)-1)))","v":""}]
[null,null,null,null,{"$f":"IF(A1803=\"\",\"\",IF(B1803=\"\",E1802,IF(D1803=\"\",E1802,D1803/MAX($D$8:D1803)-1)))","v":""}]
[null,null,null,null,{"$f":"IF(A1804=\"\",\"\",IF(B1804=\"\",E1803,IF(D1804=\"\",E1803,D1804/MAX($D$8:D1804)-1)))","v":""}]
[null,null,null,null,{"$f":"IF(A1805=\"\",\"\",IF(B1805=\"\",E1804,IF(D1805=\"\",E1804,D1805/MAX($D$8:D1805)-1)))","v":""}]
[null,null,null,null,{"$f":"IF(A1806=\"\",\"\",IF(B1806=\"\",E1805,IF(D1806=\"\",E1805,D1806/MAX($D$8:D1806)-1)))","v":""}]
[null,null,null,null,{"$f":"IF(A1807=\"\",\"\",IF(B1807=\"\",E1806,IF(D1807=\"\",E1806,D1807/MAX($D$8:D1807)-1)))","v":""}]
[null,null,null,null,{"$f":"IF(A1808=\"\",\"\",IF(B1808=\"\",E1807,IF(D1808=\"\",E1807,D1808/MAX($D$8:D1808)-1)))","v":""}]
[null,null,null,null,{"$f":"IF(A1809=\"\",\"\",IF(B1809=\"\",E1808,IF(D1809=\"\",E1808,D1809/MAX($D$8:D1809)-1)))","v":""}]
[null,null,null,null,{"$f":"IF(A1810=\"\",\"\",IF(B1810=\"\",E1809,IF(D1810=\"\",E1809,D1810/MAX($D$8:D1810)-1)))","v":""}]
[null,null,null,null,{"$f":"IF(A1811=\"\",\"\",IF(B1811=\"\",E1810,IF(D1811=\"\",E1810,D1811/MAX($D$8:D1811)-1)))","v":""}]
[null,null,null,null,{"$f":"IF(A1812=\"\",\"\",IF(B1812=\"\",E1811,IF(D1812=\"\",E1811,D1812/MAX($D$8:D1812)-1)))","v":""}]
[null,null,null,null,{"$f":"IF(A1813=\"\",\"\",IF(B1813=\"\",E1812,IF(D1813=\"\",E1812,D1813/MAX($D$8:D1813)-1)))","v":""}]
[null,null,null,null,{"$f":"IF(A1814=\"\",\"\",IF(B1814=\"\",E1813,IF(D1814=\"\",E1813,D1814/MAX($D$8:D1814)-1)))","v":""}]
[null,null,null,null,{"$f":"IF(A1815=\"\",\"\",IF(B1815=\"\",E1814,IF(D1815=\"\",E1814,D1815/MAX($D$8:D1815)-1)))","v":""}]
[null,null,null,null,{"$f":"IF(A1816=\"\",\"\",IF(B1816=\"\",E1815,IF(D1816=\"\",E1815,D1816/MAX($D$8:D1816)-1)))","v":""}]
[null,null,null,null,{"$f":"IF(A1817=\"\",\"\",IF(B1817=\"\",E1816,IF(D1817=\"\",E1816,D1817/MAX($D$8:D1817)-1)))","v":""}]
[null,null,null,null,{"$f":"IF(A1818=\"\",\"\",IF(B1818=\"\",E1817,IF(D1818=\"\",E1817,D1818/MAX($D$8:D1818)-1)))","v":""}]
[null,null,null,null,{"$f":"IF(A1819=\"\",\"\",IF(B1819=\"\",E1818,IF(D1819=\"\",E1818,D1819/MAX($D$8:D1819)-1)))","v":""}]
[null,null,null,null,{"$f":"IF(A1820=\"\",\"\",IF(B1820=\"\",E1819,IF(D1820=\"\",E1819,D1820/MAX($D$8:D1820)-1)))","v":""}]
[null,null,null,null,{"$f":"IF(A1821=\"\",\"\",IF(B1821=\"\",E1820,IF(D1821=\"\",E1820,D1821/MAX($D$8:D1821)-1)))","v":""}]
[null,null,null,null,{"$f":"IF(A1822=\"\",\"\",IF(B1822=\"\",E1821,IF(D1822=\"\",E1821,D1822/MAX($D$8:D1822)-1)))","v":""}]
[null,null,null,null,{"$f":"IF(A1823=\"\",\"\",IF(B1823=\"\",E1822,IF(D1823=\"\",E1822,D1823/MAX($D$8:D1823)-1)))","v":""}]
[null,null,null,null,{"$f":"IF(A1824=\"\",\"\",IF(B1824=\"\",E1823,IF(D1824=\"\",E1823,D1824/MAX($D$8:D1824)-1)))","v":""}]
[null,null,null,null,{"$f":"IF(A1825=\"\",\"\",IF(B1825=\"\",E1824,IF(D1825=\"\",E1824,D1825/MAX($D$8:D1825)-1)))","v":""}]
[null,null,null,null,{"$f":"IF(A1826=\"\",\"\",IF(B1826=\"\",E1825,IF(D1826=\"\",E1825,D1826/MAX($D$8:D1826)-1)))","v":""}]
[null,null,null,null,{"$f":"IF(A1827=\"\",\"\",IF(B1827=\"\",E1826,IF(D1827=\"\",E1826,D1827/MAX($D$8:D1827)-1)))","v":""}]
[null,null,null,null,{"$f":"IF(A1828=\"\",\"\",IF(B1828=\"\",E1827,IF(D1828=\"\",E1827,D1828/MAX($D$8:D1828)-1)))","v":""}]
[null,null,null,null,{"$f":"IF(A1829=\"\",\"\",IF(B1829=\"\",E1828,IF(D1829=\"\",E1828,D1829/MAX($D$8:D1829)-1)))","v":""}]
[null,null,null,null,{"$f":"IF(A1830=\"\",\"\",IF(B1830=\"\",E1829,IF(D1830=\"\",E1829,D1830/MAX($D$8:D1830)-1)))","v":""}]
[null,null,null,null,{"$f":"IF(A1831=\"\",\"\",IF(B1831=\"\",E1830,IF(D1831=\"\",E1830,D1831/MAX($D$8:D1831)-1)))","v":""}]
[null,null,null,null,{"$f":"IF(A1832=\"\",\"\",IF(B1832=\"\",E1831,IF(D1832=\"\",E1831,D1832/MAX($D$8:D1832)-1)))","v":""}]
[null,null,null,null,{"$f":"IF(A1833=\"\",\"\",IF(B1833=\"\",E1832,IF(D1833=\"\",E1832,D1833/MAX($D$8:D1833)-1)))","v":""}]
[null,null,null,null,{"$f":"IF(A1834=\"\",\"\",IF(B1834=\"\",E1833,IF(D1834=\"\",E1833,D1834/MAX($D$8:D1834)-1)))","v":""}]
[null,null,null,null,{"$f":"IF(A1835=\"\",\"\",IF(B1835=\"\",E1834,IF(D1835=\"\",E1834,D1835/MAX($D$8:D1835)-1)))","v":""}]
[null,null,null,null,{"$f":"IF(A1836=\"\",\"\",IF(B1836=\"\",E1835,IF(D1836=\"\",E1835,D1836/MAX($D$8:D1836)-1)))","v":""}]
[null,null,null,null,{"$f":"IF(A1837=\"\",\"\",IF(B1837=\"\",E1836,IF(D1837=\"\",E1836,D1837/MAX($D$8:D1837)-1)))","v":""}]
[null,null,null,null,{"$f":"IF(A1838=\"\",\"\",IF(B1838=\"\",E1837,IF(D1838=\"\",E1837,D1838/MAX($D$8:D1838)-1)))","v":""}]
[null,null,null,null,{"$f":"IF(A1839=\"\",\"\",IF(B1839=\"\",E1838,IF(D1839=\"\",E1838,D1839/MAX($D$8:D1839)-1)))","v":""}]
[null,null,null,null,{"$f":"IF(A1840=\"\",\"\",IF(B1840=\"\",E1839,IF(D1840=\"\",E1839,D1840/MAX($D$8:D1840)-1)))","v":""}]
[null,null,null,null,{"$f":"IF(A1841=\"\",\"\",IF(B1841=\"\",E1840,IF(D1841=\"\",E1840,D1841/MAX($D$8:D1841)-1)))","v":""}]
[null,null,null,null,{"$f":"IF(A1842=\"\",\"\",IF(B1842=\"\",E1841,IF(D1842=\"\",E1841,D1842/MAX($D$8:D1842)-1)))","v":""}]
[null,null,null,null,{"$f":"IF(A1843=\"\",\"\",IF(B1843=\"\",E1842,IF(D1843=\"\",E1842,D1843/MAX($D$8:D1843)-1)))","v":""}]
[null,null,null,null,{"$f":"IF(A1844=\"\",\"\",IF(B1844=\"\",E1843,IF(D1844=\"\",E1843,D1844/MAX($D$8:D1844)-1)))","v":""}]
[null,null,null,null,{"$f":"IF(A1845=\"\",\"\",IF(B1845=\"\",E1844,IF(D1845=\"\",E1844,D1845/MAX($D$8:D1845)-1)))","v":""}]
[null,null,null,null,{"$f":"IF(A1846=\"\",\"\",IF(B1846=\"\",E1845,IF(D1846=\"\",E1845,D1846/MAX($D$8:D1846)-1)))","v":""}]
[null,null,null,null,{"$f":"IF(A1847=\"\",\"\",IF(B1847=\"\",E1846,IF(D1847=\"\",E1846,D1847/MAX($D$8:D1847)-1)))","v":""}]
[null,null,null,null,{"$f":"IF(A1848=\"\",\"\",IF(B1848=\"\",E1847,IF(D1848=\"\",E1847,D1848/MAX($D$8:D1848)-1)))","v":""}]
[null,null,null,null,{"$f":"IF(A1849=\"\",\"\",IF(B1849=\"\",E1848,IF(D1849=\"\",E1848,D1849/MAX($D$8:D1849)-1)))","v":""}]
[null,null,null,null,{"$f":"IF(A1850=\"\",\"\",IF(B1850=\"\",E1849,IF(D1850=\"\",E1849,D1850/MAX($D$8:D1850)-1)))","v":""}]
[null,null,null,null,{"$f":"IF(A1851=\"\",\"\",IF(B1851=\"\",E1850,IF(D1851=\"\",E1850,D1851/MAX($D$8:D1851)-1)))","v":""}]
[null,null,null,null,{"$f":"IF(A1852=\"\",\"\",IF(B1852=\"\",E1851,IF(D1852=\"\",E1851,D1852/MAX($D$8:D1852)-1)))","v":""}]
[null,null,null,null,{"$f":"IF(A1853=\"\",\"\",IF(B1853=\"\",E1852,IF(D1853=\"\",E1852,D1853/MAX($D$8:D1853)-1)))","v":""}]
[null,null,null,null,{"$f":"IF(A1854=\"\",\"\",IF(B1854=\"\",E1853,IF(D1854=\"\",E1853,D1854/MAX($D$8:D1854)-1)))","v":""}]
[null,null,null,null,{"$f":"IF(A1855=\"\",\"\",IF(B1855=\"\",E1854,IF(D1855=\"\",E1854,D1855/MAX($D$8:D1855)-1)))","v":""}]
[null,null,null,null,{"$f":"IF(A1856=\"\",\"\",IF(B1856=\"\",E1855,IF(D1856=\"\",E1855,D1856/MAX($D$8:D1856)-1)))","v":""}]
[null,null,null,null,{"$f":"IF(A1857=\"\",\"\",IF(B1857=\"\",E1856,IF(D1857=\"\",E1856,D1857/MAX($D$8:D1857)-1)))","v":""}]
[null,null,null,null,{"$f":"IF(A1858=\"\",\"\",IF(B1858=\"\",E1857,IF(D1858=\"\",E1857,D1858/MAX($D$8:D1858)-1)))","v":""}]
[null,null,null,null,{"$f":"IF(A1859=\"\",\"\",IF(B1859=\"\",E1858,IF(D1859=\"\",E1858,D1859/MAX($D$8:D1859)-1)))","v":""}]
[null,null,null,null,{"$f":"IF(A1860=\"\",\"\",IF(B1860=\"\",E1859,IF(D1860=\"\",E1859,D1860/MAX($D$8:D1860)-1)))","v":""}]
[null,null,null,null,{"$f":"IF(A1861=\"\",\"\",IF(B1861=\"\",E1860,IF(D1861=\"\",E1860,D1861/MAX($D$8:D1861)-1)))","v":""}]
[null,null,null,null,{"$f":"IF(A1862=\"\",\"\",IF(B1862=\"\",E1861,IF(D1862=\"\",E1861,D1862/MAX($D$8:D1862)-1)))","v":""}]
[null,null,null,null,{"$f":"IF(A1863=\"\",\"\",IF(B1863=\"\",E1862,IF(D1863=\"\",E1862,D1863/MAX($D$8:D1863)-1)))","v":""}]
[null,null,null,null,{"$f":"IF(A1864=\"\",\"\",IF(B1864=\"\",E1863,IF(D1864=\"\",E1863,D1864/MAX($D$8:D1864)-1)))","v":""}]
[null,null,null,null,{"$f":"IF(A1865=\"\",\"\",IF(B1865=\"\",E1864,IF(D1865=\"\",E1864,D1865/MAX($D$8:D1865)-1)))","v":""}]
[null,null,null,null,{"$f":"IF(A1866=\"\",\"\",IF(B1866=\"\",E1865,IF(D1866=\"\",E1865,D1866/MAX($D$8:D1866)-1)))","v":""}]
[null,null,null,null,{"$f":"IF(A1867=\"\",\"\",IF(B1867=\"\",E1866,IF(D1867=\"\",E1866,D1867/MAX($D$8:D1867)-1)))","v":""}]
[null,null,null,null,{"$f":"IF(A1868=\"\",\"\",IF(B1868=\"\",E1867,IF(D1868=\"\",E1867,D1868/MAX($D$8:D1868)-1)))","v":""}]
[null,null,null,null,{"$f":"IF(A1869=\"\",\"\",IF(B1869=\"\",E1868,IF(D1869=\"\",E1868,D1869/MAX($D$8:D1869)-1)))","v":""}]
[null,null,null,null,{"$f":"IF(A1870=\"\",\"\",IF(B1870=\"\",E1869,IF(D1870=\"\",E1869,D1870/MAX($D$8:D1870)-1)))","v":""}]
[null,null,null,null,{"$f":"IF(A1871=\"\",\"\",IF(B1871=\"\",E1870,IF(D1871=\"\",E1870,D1871/MAX($D$8:D1871)-1)))","v":""}]
[null,null,null,null,{"$f":"IF(A1872=\"\",\"\",IF(B1872=\"\",E1871,IF(D1872=\"\",E1871,D1872/MAX($D$8:D1872)-1)))","v":""}]
[null,null,null,null,{"$f":"IF(A1873=\"\",\"\",IF(B1873=\"\",E1872,IF(D1873=\"\",E1872,D1873/MAX($D$8:D1873)-1)))","v":""}]
[null,null,null,null,{"$f":"IF(A1874=\"\",\"\",IF(B1874=\"\",E1873,IF(D1874=\"\",E1873,D1874/MAX($D$8:D1874)-1)))","v":""}]
[null,null,null,null,{"$f":"IF(A1875=\"\",\"\",IF(B1875=\"\",E1874,IF(D1875=\"\",E1874,D1875/MAX($D$8:D1875)-1)))","v":""}]
[null,null,null,null,{"$f":"IF(A1876=\"\",\"\",IF(B1876=\"\",E1875,IF(D1876=\"\",E1875,D1876/MAX($D$8:D1876)-1)))","v":""}]
[null,null,null,null,{"$f":"IF(A1877=\"\",\"\",IF(B1877=\"\",E1876,IF(D1877=\"\",E1876,D1877/MAX($D$8:D1877)-1)))","v":""}]
[null,null,null,null,{"$f":"IF(A1878=\"\",\"\",IF(B1878=\"\",E1877,IF(D1878=\"\",E1877,D1878/MAX($D$8:D1878)-1)))","v":""}]
[null,null,null,null,{"$f":"IF(A1879=\"\",\"\",IF(B1879=\"\",E1878,IF(D1879=\"\",E1878,D1879/MAX($D$8:D1879)-1)))","v":""}]
[null,null,null,null,{"$f":"IF(A1880=\"\",\"\",IF(B1880=\"\",E1879,IF(D1880=\"\",E1879,D1880/MAX($D$8:D1880)-1)))","v":""}]
[null,null,null,null,{"$f":"IF(A1881=\"\",\"\",IF(B1881=\"\",E1880,IF(D1881=\"\",E1880,D1881/MAX($D$8:D1881)-1)))","v":""}]
[null,null,null,null,{"$f":"IF(A1882=\"\",\"\",IF(B1882=\"\",E1881,IF(D1882=\"\",E1881,D1882/MAX($D$8:D1882)-1)))","v":""}]
[null,null,null,null,{"$f":"IF(A1883=\"\",\"\",IF(B1883=\"\",E1882,IF(D1883=\"\",E1882,D1883/MAX($D$8:D1883)-1)))","v":""}]
[null,null,null,null,{"$f":"IF(A1884=\"\",\"\",IF(B1884=\"\",E1883,IF(D1884=\"\",E1883,D1884/MAX($D$8:D1884)-1)))","v":""}]
[null,null,null,null,{"$f":"IF(A1885=\"\",\"\",IF(B1885=\"\",E1884,IF(D1885=\"\",E1884,D1885/MAX($D$8:D1885)-1)))","v":""}]
[null,null,null,null,{"$f":"IF(A1886=\"\",\"\",IF(B1886=\"\",E1885,IF(D1886=\"\",E1885,D1886/MAX($D$8:D1886)-1)))","v":""}]
[null,null,null,null,{"$f":"IF(A1887=\"\",\"\",IF(B1887=\"\",E1886,IF(D1887=\"\",E1886,D1887/MAX($D$8:D1887)-1)))","v":""}]
[null,null,null,null,{"$f":"IF(A1888=\"\",\"\",IF(B1888=\"\",E1887,IF(D1888=\"\",E1887,D1888/MAX($D$8:D1888)-1)))","v":""}]
[null,null,null,null,{"$f":"IF(A1889=\"\",\"\",IF(B1889=\"\",E1888,IF(D1889=\"\",E1888,D1889/MAX($D$8:D1889)-1)))","v":""}]
[null,null,null,null,{"$f":"IF(A1890=\"\",\"\",IF(B1890=\"\",E1889,IF(D1890=\"\",E1889,D1890/MAX($D$8:D1890)-1)))","v":""}]
[null,null,null,null,{"$f":"IF(A1891=\"\",\"\",IF(B1891=\"\",E1890,IF(D1891=\"\",E1890,D1891/MAX($D$8:D1891)-1)))","v":""}]
[null,null,null,null,{"$f":"IF(A1892=\"\",\"\",IF(B1892=\"\",E1891,IF(D1892=\"\",E1891,D1892/MAX($D$8:D1892)-1)))","v":""}]
[null,null,null,null,{"$f":"IF(A1893=\"\",\"\",IF(B1893=\"\",E1892,IF(D1893=\"\",E1892,D1893/MAX($D$8:D1893)-1)))","v":""}]
[null,null,null,null,{"$f":"IF(A1894=\"\",\"\",IF(B1894=\"\",E1893,IF(D1894=\"\",E1893,D1894/MAX($D$8:D1894)-1)))","v":""}]
[null,null,null,null,{"$f":"IF(A1895=\"\",\"\",IF(B1895=\"\",E1894,IF(D1895=\"\",E1894,D1895/MAX($D$8:D1895)-1)))","v":""}]
[null,null,null,null,{"$f":"IF(A1896=\"\",\"\",IF(B1896=\"\",E1895,IF(D1896=\"\",E1895,D1896/MAX($D$8:D1896)-1)))","v":""}]
[null,null,null,null,{"$f":"IF(A1897=\"\",\"\",IF(B1897=\"\",E1896,IF(D1897=\"\",E1896,D1897/MAX($D$8:D1897)-1)))","v":""}]
[null,null,null,null,{"$f":"IF(A1898=\"\",\"\",IF(B1898=\"\",E1897,IF(D1898=\"\",E1897,D1898/MAX($D$8:D1898)-1)))","v":""}]
[null,null,null,null,{"$f":"IF(A1899=\"\",\"\",IF(B1899=\"\",E1898,IF(D1899=\"\",E1898,D1899/MAX($D$8:D1899)-1)))","v":""}]
[null,null,null,null,{"$f":"IF(A1900=\"\",\"\",IF(B1900=\"\",E1899,IF(D1900=\"\",E1899,D1900/MAX($D$8:D1900)-1)))","v":""}]
[null,null,null,null,{"$f":"IF(A1901=\"\",\"\",IF(B1901=\"\",E1900,IF(D1901=\"\",E1900,D1901/MAX($D$8:D1901)-1)))","v":""}]
[null,null,null,null,{"$f":"IF(A1902=\"\",\"\",IF(B1902=\"\",E1901,IF(D1902=\"\",E1901,D1902/MAX($D$8:D1902)-1)))","v":""}]
[null,null,null,null,{"$f":"IF(A1903=\"\",\"\",IF(B1903=\"\",E1902,IF(D1903=\"\",E1902,D1903/MAX($D$8:D1903)-1)))","v":""}]
[null,null,null,null,{"$f":"IF(A1904=\"\",\"\",IF(B1904=\"\",E1903,IF(D1904=\"\",E1903,D1904/MAX($D$8:D1904)-1)))","v":""}]
[null,null,null,null,{"$f":"IF(A1905=\"\",\"\",IF(B1905=\"\",E1904,IF(D1905=\"\",E1904,D1905/MAX($D$8:D1905)-1)))","v":""}]
[null,null,null,null,{"$f":"IF(A1906=\"\",\"\",IF(B1906=\"\",E1905,IF(D1906=\"\",E1905,D1906/MAX($D$8:D1906)-1)))","v":""}]
[null,null,null,null,{"$f":"IF(A1907=\"\",\"\",IF(B1907=\"\",E1906,IF(D1907=\"\",E1906,D1907/MAX($D$8:D1907)-1)))","v":""}]
[null,null,null,null,{"$f":"IF(A1908=\"\",\"\",IF(B1908=\"\",E1907,IF(D1908=\"\",E1907,D1908/MAX($D$8:D1908)-1)))","v":""}]
[null,null,null,null,{"$f":"IF(A1909=\"\",\"\",IF(B1909=\"\",E1908,IF(D1909=\"\",E1908,D1909/MAX($D$8:D1909)-1)))","v":""}]
[null,null,null,null,{"$f":"IF(A1910=\"\",\"\",IF(B1910=\"\",E1909,IF(D1910=\"\",E1909,D1910/MAX($D$8:D1910)-1)))","v":""}]
[null,null,null,null,{"$f":"IF(A1911=\"\",\"\",IF(B1911=\"\",E1910,IF(D1911=\"\",E1910,D1911/MAX($D$8:D1911)-1)))","v":""}]
[null,null,null,null,{"$f":"IF(A1912=\"\",\"\",IF(B1912=\"\",E1911,IF(D1912=\"\",E1911,D1912/MAX($D$8:D1912)-1)))","v":""}]
[null,null,null,null,{"$f":"IF(A1913=\"\",\"\",IF(B1913=\"\",E1912,IF(D1913=\"\",E1912,D1913/MAX($D$8:D1913)-1)))","v":""}]
[null,null,null,null,{"$f":"IF(A1914=\"\",\"\",IF(B1914=\"\",E1913,IF(D1914=\"\",E1913,D1914/MAX($D$8:D1914)-1)))","v":""}]
[null,null,null,null,{"$f":"IF(A1915=\"\",\"\",IF(B1915=\"\",E1914,IF(D1915=\"\",E1914,D1915/MAX($D$8:D1915)-1)))","v":""}]
[null,null,null,null,{"$f":"IF(A1916=\"\",\"\",IF(B1916=\"\",E1915,IF(D1916=\"\",E1915,D1916/MAX($D$8:D1916)-1)))","v":""}]
[null,null,null,null,{"$f":"IF(A1917=\"\",\"\",IF(B1917=\"\",E1916,IF(D1917=\"\",E1916,D1917/MAX($D$8:D1917)-1)))","v":""}]
[null,null,null,null,{"$f":"IF(A1918=\"\",\"\",IF(B1918=\"\",E1917,IF(D1918=\"\",E1917,D1918/MAX($D$8:D1918)-1)))","v":""}]
[null,null,null,null,{"$f":"IF(A1919=\"\",\"\",IF(B1919=\"\",E1918,IF(D1919=\"\",E1918,D1919/MAX($D$8:D1919)-1)))","v":""}]
[null,null,null,null,{"$f":"IF(A1920=\"\",\"\",IF(B1920=\"\",E1919,IF(D1920=\"\",E1919,D1920/MAX($D$8:D1920)-1)))","v":""}]
[null,null,null,null,{"$f":"IF(A1921=\"\",\"\",IF(B1921=\"\",E1920,IF(D1921=\"\",E1920,D1921/MAX($D$8:D1921)-1)))","v":""}]
[null,null,null,null,{"$f":"IF(A1922=\"\",\"\",IF(B1922=\"\",E1921,IF(D1922=\"\",E1921,D1922/MAX($D$8:D1922)-1)))","v":""}]
[null,null,null,null,{"$f":"IF(A1923=\"\",\"\",IF(B1923=\"\",E1922,IF(D1923=\"\",E1922,D1923/MAX($D$8:D1923)-1)))","v":""}]
[null,null,null,null,{"$f":"IF(A1924=\"\",\"\",IF(B1924=\"\",E1923,IF(D1924=\"\",E1923,D1924/MAX($D$8:D1924)-1)))","v":""}]
[null,null,null,null,{"$f":"IF(A1925=\"\",\"\",IF(B1925=\"\",E1924,IF(D1925=\"\",E1924,D1925/MAX($D$8:D1925)-1)))","v":""}]
[null,null,null,null,{"$f":"IF(A1926=\"\",\"\",IF(B1926=\"\",E1925,IF(D1926=\"\",E1925,D1926/MAX($D$8:D1926)-1)))","v":""}]
[null,null,null,null,{"$f":"IF(A1927=\"\",\"\",IF(B1927=\"\",E1926,IF(D1927=\"\",E1926,D1927/MAX($D$8:D1927)-1)))","v":""}]
[null,null,null,null,{"$f":"IF(A1928=\"\",\"\",IF(B1928=\"\",E1927,IF(D1928=\"\",E1927,D1928/MAX($D$8:D1928)-1)))","v":""}]
[null,null,null,null,{"$f":"IF(A1929=\"\",\"\",IF(B1929=\"\",E1928,IF(D1929=\"\",E1928,D1929/MAX($D$8:D1929)-1)))","v":""}]
[null,null,null,null,{"$f":"IF(A1930=\"\",\"\",IF(B1930=\"\",E1929,IF(D1930=\"\",E1929,D1930/MAX($D$8:D1930)-1)))","v":""}]
[null,null,null,null,{"$f":"IF(A1931=\"\",\"\",IF(B1931=\"\",E1930,IF(D1931=\"\",E1930,D1931/MAX($D$8:D1931)-1)))","v":""}]
[null,null,null,null,{"$f":"IF(A1932=\"\",\"\",IF(B1932=\"\",E1931,IF(D1932=\"\",E1931,D1932/MAX($D$8:D1932)-1)))","v":""}]
[null,null,null,null,{"$f":"IF(A1933=\"\",\"\",IF(B1933=\"\",E1932,IF(D1933=\"\",E1932,D1933/MAX($D$8:D1933)-1)))","v":""}]
[null,null,null,null,{"$f":"IF(A1934=\"\",\"\",IF(B1934=\"\",E1933,IF(D1934=\"\",E1933,D1934/MAX($D$8:D1934)-1)))","v":""}]
[null,null,null,null,{"$f":"IF(A1935=\"\",\"\",IF(B1935=\"\",E1934,IF(D1935=\"\",E1934,D1935/MAX($D$8:D1935)-1)))","v":""}]
[null,null,null,null,{"$f":"IF(A1936=\"\",\"\",IF(B1936=\"\",E1935,IF(D1936=\"\",E1935,D1936/MAX($D$8:D1936)-1)))","v":""}]
[null,null,null,null,{"$f":"IF(A1937=\"\",\"\",IF(B1937=\"\",E1936,IF(D1937=\"\",E1936,D1937/MAX($D$8:D1937)-1)))","v":""}]
[null,null,null,null,{"$f":"IF(A1938=\"\",\"\",IF(B1938=\"\",E1937,IF(D1938=\"\",E1937,D1938/MAX($D$8:D1938)-1)))","v":""}]
[null,null,null,null,{"$f":"IF(A1939=\"\",\"\",IF(B1939=\"\",E1938,IF(D1939=\"\",E1938,D1939/MAX($D$8:D1939)-1)))","v":""}]
[null,null,null,null,{"$f":"IF(A1940=\"\",\"\",IF(B1940=\"\",E1939,IF(D1940=\"\",E1939,D1940/MAX($D$8:D1940)-1)))","v":""}]
[null,null,null,null,{"$f":"IF(A1941=\"\",\"\",IF(B1941=\"\",E1940,IF(D1941=\"\",E1940,D1941/MAX($D$8:D1941)-1)))","v":""}]
[null,null,null,null,{"$f":"IF(A1942=\"\",\"\",IF(B1942=\"\",E1941,IF(D1942=\"\",E1941,D1942/MAX($D$8:D1942)-1)))","v":""}]
[null,null,null,null,{"$f":"IF(A1943=\"\",\"\",IF(B1943=\"\",E1942,IF(D1943=\"\",E1942,D1943/MAX($D$8:D1943)-1)))","v":""}]
[null,null,null,null,{"$f":"IF(A1944=\"\",\"\",IF(B1944=\"\",E1943,IF(D1944=\"\",E1943,D1944/MAX($D$8:D1944)-1)))","v":""}]
[null,null,null,null,{"$f":"IF(A1945=\"\",\"\",IF(B1945=\"\",E1944,IF(D1945=\"\",E1944,D1945/MAX($D$8:D1945)-1)))","v":""}]
[null,null,null,null,{"$f":"IF(A1946=\"\",\"\",IF(B1946=\"\",E1945,IF(D1946=\"\",E1945,D1946/MAX($D$8:D1946)-1)))","v":""}]
[null,null,null,null,{"$f":"IF(A1947=\"\",\"\",IF(B1947=\"\",E1946,IF(D1947=\"\",E1946,D1947/MAX($D$8:D1947)-1)))","v":""}]
[null,null,null,null,{"$f":"IF(A1948=\"\",\"\",IF(B1948=\"\",E1947,IF(D1948=\"\",E1947,D1948/MAX($D$8:D1948)-1)))","v":""}]
[null,null,null,null,{"$f":"IF(A1949=\"\",\"\",IF(B1949=\"\",E1948,IF(D1949=\"\",E1948,D1949/MAX($D$8:D1949)-1)))","v":""}]
[null,null,null,null,{"$f":"IF(A1950=\"\",\"\",IF(B1950=\"\",E1949,IF(D1950=\"\",E1949,D1950/MAX($D$8:D1950)-1)))","v":""}]
[null,null,null,null,{"$f":"IF(A1951=\"\",\"\",IF(B1951=\"\",E1950,IF(D1951=\"\",E1950,D1951/MAX($D$8:D1951)-1)))","v":""}]
[null,null,null,null,{"$f":"IF(A1952=\"\",\"\",IF(B1952=\"\",E1951,IF(D1952=\"\",E1951,D1952/MAX($D$8:D1952)-1)))","v":""}]
[null,null,null,null,{"$f":"IF(A1953=\"\",\"\",IF(B1953=\"\",E1952,IF(D1953=\"\",E1952,D1953/MAX($D$8:D1953)-1)))","v":""}]
[null,null,null,null,{"$f":"IF(A1954=\"\",\"\",IF(B1954=\"\",E1953,IF(D1954=\"\",E1953,D1954/MAX($D$8:D1954)-1)))","v":""}]
[null,null,null,null,{"$f":"IF(A1955=\"\",\"\",IF(B1955=\"\",E1954,IF(D1955=\"\",E1954,D1955/MAX($D$8:D1955)-1)))","v":""}]
[null,null,null,null,{"$f":"IF(A1956=\"\",\"\",IF(B1956=\"\",E1955,IF(D1956=\"\",E1955,D1956/MAX($D$8:D1956)-1)))","v":""}]
[null,null,null,null,{"$f":"IF(A1957=\"\",\"\",IF(B1957=\"\",E1956,IF(D1957=\"\",E1956,D1957/MAX($D$8:D1957)-1)))","v":""}]
[null,null,null,null,{"$f":"IF(A1958=\"\",\"\",IF(B1958=\"\",E1957,IF(D1958=\"\",E1957,D1958/MAX($D$8:D1958)-1)))","v":""}]
[null,null,null,null,{"$f":"IF(A1959=\"\",\"\",IF(B1959=\"\",E1958,IF(D1959=\"\",E1958,D1959/MAX($D$8:D1959)-1)))","v":""}]
[null,null,null,null,{"$f":"IF(A1960=\"\",\"\",IF(B1960=\"\",E1959,IF(D1960=\"\",E1959,D1960/MAX($D$8:D1960)-1)))","v":""}]
[null,null,null,null,{"$f":"IF(A1961=\"\",\"\",IF(B1961=\"\",E1960,IF(D1961=\"\",E1960,D1961/MAX($D$8:D1961)-1)))","v":""}]
[null,null,null,null,{"$f":"IF(A1962=\"\",\"\",IF(B1962=\"\",E1961,IF(D1962=\"\",E1961,D1962/MAX($D$8:D1962)-1)))","v":""}]
[null,null,null,null,{"$f":"IF(A1963=\"\",\"\",IF(B1963=\"\",E1962,IF(D1963=\"\",E1962,D1963/MAX($D$8:D1963)-1)))","v":""}]
[null,null,null,null,{"$f":"IF(A1964=\"\",\"\",IF(B1964=\"\",E1963,IF(D1964=\"\",E1963,D1964/MAX($D$8:D1964)-1)))","v":""}]
[null,null,null,null,{"$f":"IF(A1965=\"\",\"\",IF(B1965=\"\",E1964,IF(D1965=\"\",E1964,D1965/MAX($D$8:D1965)-1)))","v":""}]
[null,null,null,null,{"$f":"IF(A1966=\"\",\"\",IF(B1966=\"\",E1965,IF(D1966=\"\",E1965,D1966/MAX($D$8:D1966)-1)))","v":""}]
[null,null,null,null,{"$f":"IF(A1967=\"\",\"\",IF(B1967=\"\",E1966,IF(D1967=\"\",E1966,D1967/MAX($D$8:D1967)-1)))","v":""}]
[null,null,null,null,{"$f":"IF(A1968=\"\",\"\",IF(B1968=\"\",E1967,IF(D1968=\"\",E1967,D1968/MAX($D$8:D1968)-1)))","v":""}]
[null,null,null,null,{"$f":"IF(A1969=\"\",\"\",IF(B1969=\"\",E1968,IF(D1969=\"\",E1968,D1969/MAX($D$8:D1969)-1)))","v":""}]
[null,null,null,null,{"$f":"IF(A1970=\"\",\"\",IF(B1970=\"\",E1969,IF(D1970=\"\",E1969,D1970/MAX($D$8:D1970)-1)))","v":""}]
[null,null,null,null,{"$f":"IF(A1971=\"\",\"\",IF(B1971=\"\",E1970,IF(D1971=\"\",E1970,D1971/MAX($D$8:D1971)-1)))","v":""}]
[null,null,null,null,{"$f":"IF(A1972=\"\",\"\",IF(B1972=\"\",E1971,IF(D1972=\"\",E1971,D1972/MAX($D$8:D1972)-1)))","v":""}]
[null,null,null,null,{"$f":"IF(A1973=\"\",\"\",IF(B1973=\"\",E1972,IF(D1973=\"\",E1972,D1973/MAX($D$8:D1973)-1)))","v":""}]
[null,null,null,null,{"$f":"IF(A1974=\"\",\"\",IF(B1974=\"\",E1973,IF(D1974=\"\",E1973,D1974/MAX($D$8:D1974)-1)))","v":""}]
[null,null,null,null,{"$f":"IF(A1975=\"\",\"\",IF(B1975=\"\",E1974,IF(D1975=\"\",E1974,D1975/MAX($D$8:D1975)-1)))","v":""}]
[null,null,null,null,{"$f":"IF(A1976=\"\",\"\",IF(B1976=\"\",E1975,IF(D1976=\"\",E1975,D1976/MAX($D$8:D1976)-1)))","v":""}]
[null,null,null,null,{"$f":"IF(A1977=\"\",\"\",IF(B1977=\"\",E1976,IF(D1977=\"\",E1976,D1977/MAX($D$8:D1977)-1)))","v":""}]
[null,null,null,null,{"$f":"IF(A1978=\"\",\"\",IF(B1978=\"\",E1977,IF(D1978=\"\",E1977,D1978/MAX($D$8:D1978)-1)))","v":""}]
[null,null,null,null,{"$f":"IF(A1979=\"\",\"\",IF(B1979=\"\",E1978,IF(D1979=\"\",E1978,D1979/MAX($D$8:D1979)-1)))","v":""}]
[null,null,null,null,{"$f":"IF(A1980=\"\",\"\",IF(B1980=\"\",E1979,IF(D1980=\"\",E1979,D1980/MAX($D$8:D1980)-1)))","v":""}]
[null,null,null,null,{"$f":"IF(A1981=\"\",\"\",IF(B1981=\"\",E1980,IF(D1981=\"\",E1980,D1981/MAX($D$8:D1981)-1)))","v":""}]
[null,null,null,null,{"$f":"IF(A1982=\"\",\"\",IF(B1982=\"\",E1981,IF(D1982=\"\",E1981,D1982/MAX($D$8:D1982)-1)))","v":""}]
[null,null,null,null,{"$f":"IF(A1983=\"\",\"\",IF(B1983=\"\",E1982,IF(D1983=\"\",E1982,D1983/MAX($D$8:D1983)-1)))","v":""}]
[null,null,null,null,{"$f":"IF(A1984=\"\",\"\",IF(B1984=\"\",E1983,IF(D1984=\"\",E1983,D1984/MAX($D$8:D1984)-1)))","v":""}]
[null,null,null,null,{"$f":"IF(A1985=\"\",\"\",IF(B1985=\"\",E1984,IF(D1985=\"\",E1984,D1985/MAX($D$8:D1985)-1)))","v":""}]
[null,null,null,null,{"$f":"IF(A1986=\"\",\"\",IF(B1986=\"\",E1985,IF(D1986=\"\",E1985,D1986/MAX($D$8:D1986)-1)))","v":""}]
[null,null,null,null,{"$f":"IF(A1987=\"\",\"\",IF(B1987=\"\",E1986,IF(D1987=\"\",E1986,D1987/MAX($D$8:D1987)-1)))","v":""}]
[null,null,null,null,{"$f":"IF(A1988=\"\",\"\",IF(B1988=\"\",E1987,IF(D1988=\"\",E1987,D1988/MAX($D$8:D1988)-1)))","v":""}]
[null,null,null,null,{"$f":"IF(A1989=\"\",\"\",IF(B1989=\"\",E1988,IF(D1989=\"\",E1988,D1989/MAX($D$8:D1989)-1)))","v":""}]
[null,null,null,null,{"$f":"IF(A1990=\"\",\"\",IF(B1990=\"\",E1989,IF(D1990=\"\",E1989,D1990/MAX($D$8:D1990)-1)))","v":""}]
[null,null,null,null,{"$f":"IF(A1991=\"\",\"\",IF(B1991=\"\",E1990,IF(D1991=\"\",E1990,D1991/MAX($D$8:D1991)-1)))","v":""}]
[null,null,null,null,{"$f":"IF(A1992=\"\",\"\",IF(B1992=\"\",E1991,IF(D1992=\"\",E1991,D1992/MAX($D$8:D1992)-1)))","v":""}]
[null,null,null,null,{"$f":"IF(A1993=\"\",\"\",IF(B1993=\"\",E1992,IF(D1993=\"\",E1992,D1993/MAX($D$8:D1993)-1)))","v":""}]
[null,null,null,null,{"$f":"IF(A1994=\"\",\"\",IF(B1994=\"\",E1993,IF(D1994=\"\",E1993,D1994/MAX($D$8:D1994)-1)))","v":""}]
[null,null,null,null,{"$f":"IF(A1995=\"\",\"\",IF(B1995=\"\",E1994,IF(D1995=\"\",E1994,D1995/MAX($D$8:D1995)-1)))","v":""}]
[null,null,null,null,{"$f":"IF(A1996=\"\",\"\",IF(B1996=\"\",E1995,IF(D1996=\"\",E1995,D1996/MAX($D$8:D1996)-1)))","v":""}]
[null,null,null,null,{"$f":"IF(A1997=\"\",\"\",IF(B1997=\"\",E1996,IF(D1997=\"\",E1996,D1997/MAX($D$8:D1997)-1)))","v":""}]
[null,null,null,null,{"$f":"IF(A1998=\"\",\"\",IF(B1998=\"\",E1997,IF(D1998=\"\",E1997,D1998/MAX($D$8:D1998)-1)))","v":""}]
[null,null,null,null,{"$f":"IF(A1999=\"\",\"\",IF(B1999=\"\",E1998,IF(D1999=\"\",E1998,D1999/MAX($D$8:D1999)-1)))","v":""}]
[null,null,null,null,{"$f":"IF(A2000=\"\",\"\",IF(B2000=\"\",E1999,IF(D2000=\"\",E1999,D2000/MAX($D$8:D2000)-1)))","v":""}]
[null,null,null,null,{"$f":"IF(A2001=\"\",\"\",IF(B2001=\"\",E2000,IF(D2001=\"\",E2000,D2001/MAX($D$8:D2001)-1)))","v":""}]
[null,null,null,null,{"$f":"IF(A2002=\"\",\"\",IF(B2002=\"\",E2001,IF(D2002=\"\",E2001,D2002/MAX($D$8:D2002)-1)))","v":""}]
[null,null,null,null,{"$f":"IF(A2003=\"\",\"\",IF(B2003=\"\",E2002,IF(D2003=\"\",E2002,D2003/MAX($D$8:D2003)-1)))","v":""}]
[null,null,null,null,{"$f":"IF(A2004=\"\",\"\",IF(B2004=\"\",E2003,IF(D2004=\"\",E2003,D2004/MAX($D$8:D2004)-1)))","v":""}]
[null,null,null,null,{"$f":"IF(A2005=\"\",\"\",IF(B2005=\"\",E2004,IF(D2005=\"\",E2004,D2005/MAX($D$8:D2005)-1)))","v":""}]
[null,null,null,null,{"$f":"IF(A2006=\"\",\"\",IF(B2006=\"\",E2005,IF(D2006=\"\",E2005,D2006/MAX($D$8:D2006)-1)))","v":""}]
[null,null,null,null,{"$f":"IF(A2007=\"\",\"\",IF(B2007=\"\",E2006,IF(D2007=\"\",E2006,D2007/MAX($D$8:D2007)-1)))","v":""}]
[null,null,null,null,{"$f":"IF(A2008=\"\",\"\",IF(B2008=\"\",E2007,IF(D2008=\"\",E2007,D2008/MAX($D$8:D2008)-1)))","v":""}]
[null,null,null,null,{"$f":"IF(A2009=\"\",\"\",IF(B2009=\"\",E2008,IF(D2009=\"\",E2008,D2009/MAX($D$8:D2009)-1)))","v":""}]
[null,null,null,null,{"$f":"IF(A2010=\"\",\"\",IF(B2010=\"\",E2009,IF(D2010=\"\",E2009,D2010/MAX($D$8:D2010)-1)))","v":""}]
[null,null,null,null,{"$f":"IF(A2011=\"\",\"\",IF(B2011=\"\",E2010,IF(D2011=\"\",E2010,D2011/MAX($D$8:D2011)-1)))","v":""}]
[null,null,null,null,{"$f":"IF(A2012=\"\",\"\",IF(B2012=\"\",E2011,IF(D2012=\"\",E2011,D2012/MAX($D$8:D2012)-1)))","v":""}]
[null,null,null,null,{"$f":"IF(A2013=\"\",\"\",IF(B2013=\"\",E2012,IF(D2013=\"\",E2012,D2013/MAX($D$8:D2013)-1)))","v":""}]
[null,null,null,null,{"$f":"IF(A2014=\"\",\"\",IF(B2014=\"\",E2013,IF(D2014=\"\",E2013,D2014/MAX($D$8:D2014)-1)))","v":""}]
[null,null,null,null,{"$f":"IF(A2015=\"\",\"\",IF(B2015=\"\",E2014,IF(D2015=\"\",E2014,D2015/MAX($D$8:D2015)-1)))","v":""}]
[null,null,null,null,{"$f":"IF(A2016=\"\",\"\",IF(B2016=\"\",E2015,IF(D2016=\"\",E2015,D2016/MAX($D$8:D2016)-1)))","v":""}]
[null,null,null,null,{"$f":"IF(A2017=\"\",\"\",IF(B2017=\"\",E2016,IF(D2017=\"\",E2016,D2017/MAX($D$8:D2017)-1)))","v":""}]
[null,null,null,null,{"$f":"IF(A2018=\"\",\"\",IF(B2018=\"\",E2017,IF(D2018=\"\",E2017,D2018/MAX($D$8:D2018)-1)))","v":""}]
[null,null,null,null,{"$f":"IF(A2019=\"\",\"\",IF(B2019=\"\",E2018,IF(D2019=\"\",E2018,D2019/MAX($D$8:D2019)-1)))","v":""}]
[null,null,null,null,{"$f":"IF(A2020=\"\",\"\",IF(B2020=\"\",E2019,IF(D2020=\"\",E2019,D2020/MAX($D$8:D2020)-1)))","v":""}]
[null,null,null,null,{"$f":"IF(A2021=\"\",\"\",IF(B2021=\"\",E2020,IF(D2021=\"\",E2020,D2021/MAX($D$8:D2021)-1)))","v":""}]
[null,null,null,null,{"$f":"IF(A2022=\"\",\"\",IF(B2022=\"\",E2021,IF(D2022=\"\",E2021,D2022/MAX($D$8:D2022)-1)))","v":""}]
[null,null,null,null,{"$f":"IF(A2023=\"\",\"\",IF(B2023=\"\",E2022,IF(D2023=\"\",E2022,D2023/MAX($D$8:D2023)-1)))","v":""}]
[null,null,null,null,{"$f":"IF(A2024=\"\",\"\",IF(B2024=\"\",E2023,IF(D2024=\"\",E2023,D2024/MAX($D$8:D2024)-1)))","v":""}]
[null,null,null,null,{"$f":"IF(A2025=\"\",\"\",IF(B2025=\"\",E2024,IF(D2025=\"\",E2024,D2025/MAX($D$8:D2025)-1)))","v":""}]
[null,null,null,null,{"$f":"IF(A2026=\"\",\"\",IF(B2026=\"\",E2025,IF(D2026=\"\",E2025,D2026/MAX($D$8:D2026)-1)))","v":""}]
[null,null,null,null,{"$f":"IF(A2027=\"\",\"\",IF(B2027=\"\",E2026,IF(D2027=\"\",E2026,D2027/MAX($D$8:D2027)-1)))","v":""}]
[null,null,null,null,{"$f":"IF(A2028=\"\",\"\",IF(B2028=\"\",E2027,IF(D2028=\"\",E2027,D2028/MAX($D$8:D2028)-1)))","v":""}]
[null,null,null,null,{"$f":"IF(A2029=\"\",\"\",IF(B2029=\"\",E2028,IF(D2029=\"\",E2028,D2029/MAX($D$8:D2029)-1)))","v":""}]
[null,null,null,null,{"$f":"IF(A2030=\"\",\"\",IF(B2030=\"\",E2029,IF(D2030=\"\",E2029,D2030/MAX($D$8:D2030)-1)))","v":""}]
[null,null,null,null,{"$f":"IF(A2031=\"\",\"\",IF(B2031=\"\",E2030,IF(D2031=\"\",E2030,D2031/MAX($D$8:D2031)-1)))","v":""}]
[null,null,null,null,{"$f":"IF(A2032=\"\",\"\",IF(B2032=\"\",E2031,IF(D2032=\"\",E2031,D2032/MAX($D$8:D2032)-1)))","v":""}]
[null,null,null,null,{"$f":"IF(A2033=\"\",\"\",IF(B2033=\"\",E2032,IF(D2033=\"\",E2032,D2033/MAX($D$8:D2033)-1)))","v":""}]
[null,null,null,null,{"$f":"IF(A2034=\"\",\"\",IF(B2034=\"\",E2033,IF(D2034=\"\",E2033,D2034/MAX($D$8:D2034)-1)))","v":""}]
[null,null,null,null,{"$f":"IF(A2035=\"\",\"\",IF(B2035=\"\",E2034,IF(D2035=\"\",E2034,D2035/MAX($D$8:D2035)-1)))","v":""}]
[null,null,null,null,{"$f":"IF(A2036=\"\",\"\",IF(B2036=\"\",E2035,IF(D2036=\"\",E2035,D2036/MAX($D$8:D2036)-1)))","v":""}]
[null,null,null,null,{"$f":"IF(A2037=\"\",\"\",IF(B2037=\"\",E2036,IF(D2037=\"\",E2036,D2037/MAX($D$8:D2037)-1)))","v":""}]
[null,null,null,null,{"$f":"IF(A2038=\"\",\"\",IF(B2038=\"\",E2037,IF(D2038=\"\",E2037,D2038/MAX($D$8:D2038)-1)))","v":""}]
[null,null,null,null,{"$f":"IF(A2039=\"\",\"\",IF(B2039=\"\",E2038,IF(D2039=\"\",E2038,D2039/MAX($D$8:D2039)-1)))","v":""}]
[null,null,null,null,{"$f":"IF(A2040=\"\",\"\",IF(B2040=\"\",E2039,IF(D2040=\"\",E2039,D2040/MAX($D$8:D2040)-1)))","v":""}]
[null,null,null,null,{"$f":"IF(A2041=\"\",\"\",IF(B2041=\"\",E2040,IF(D2041=\"\",E2040,D2041/MAX($D$8:D2041)-1)))","v":""}]
[null,null,null,null,{"$f":"IF(A2042=\"\",\"\",IF(B2042=\"\",E2041,IF(D2042=\"\",E2041,D2042/MAX($D$8:D2042)-1)))","v":""}]
[null,null,null,null,{"$f":"IF(A2043=\"\",\"\",IF(B2043=\"\",E2042,IF(D2043=\"\",E2042,D2043/MAX($D$8:D2043)-1)))","v":""}]
[null,null,null,null,{"$f":"IF(A2044=\"\",\"\",IF(B2044=\"\",E2043,IF(D2044=\"\",E2043,D2044/MAX($D$8:D2044)-1)))","v":""}]
[null,null,null,null,{"$f":"IF(A2045=\"\",\"\",IF(B2045=\"\",E2044,IF(D2045=\"\",E2044,D2045/MAX($D$8:D2045)-1)))","v":""}]
[null,null,null,null,{"$f":"IF(A2046=\"\",\"\",IF(B2046=\"\",E2045,IF(D2046=\"\",E2045,D2046/MAX($D$8:D2046)-1)))","v":""}]
[null,null,null,null,{"$f":"IF(A2047=\"\",\"\",IF(B2047=\"\",E2046,IF(D2047=\"\",E2046,D2047/MAX($D$8:D2047)-1)))","v":""}]
[null,null,null,null,{"$f":"IF(A2048=\"\",\"\",IF(B2048=\"\",E2047,IF(D2048=\"\",E2047,D2048/MAX($D$8:D2048)-1)))","v":""}]
[null,null,null,null,{"$f":"IF(A2049=\"\",\"\",IF(B2049=\"\",E2048,IF(D2049=\"\",E2048,D2049/MAX($D$8:D2049)-1)))","v":""}]
[null,null,null,null,{"$f":"IF(A2050=\"\",\"\",IF(B2050=\"\",E2049,IF(D2050=\"\",E2049,D2050/MAX($D$8:D2050)-1)))","v":""}]
[null,null,null,null,{"$f":"IF(A2051=\"\",\"\",IF(B2051=\"\",E2050,IF(D2051=\"\",E2050,D2051/MAX($D$8:D2051)-1)))","v":""}]
[null,null,null,null,{"$f":"IF(A2052=\"\",\"\",IF(B2052=\"\",E2051,IF(D2052=\"\",E2051,D2052/MAX($D$8:D2052)-1)))","v":""}]
[null,null,null,null,{"$f":"IF(A2053=\"\",\"\",IF(B2053=\"\",E2052,IF(D2053=\"\",E2052,D2053/MAX($D$8:D2053)-1)))","v":""}]
[null,null,null,null,{"$f":"IF(A2054=\"\",\"\",IF(B2054=\"\",E2053,IF(D2054=\"\",E2053,D2054/MAX($D$8:D2054)-1)))","v":""}]
[null,null,null,null,{"$f":"IF(A2055=\"\",\"\",IF(B2055=\"\",E2054,IF(D2055=\"\",E2054,D2055/MAX($D$8:D2055)-1)))","v":""}]
[null,null,null,null,{"$f":"IF(A2056=\"\",\"\",IF(B2056=\"\",E2055,IF(D2056=\"\",E2055,D2056/MAX($D$8:D2056)-1)))","v":""}]
[null,null,null,null,{"$f":"IF(A2057=\"\",\"\",IF(B2057=\"\",E2056,IF(D2057=\"\",E2056,D2057/MAX($D$8:D2057)-1)))","v":""}]
[null,null,null,null,{"$f":"IF(A2058=\"\",\"\",IF(B2058=\"\",E2057,IF(D2058=\"\",E2057,D2058/MAX($D$8:D2058)-1)))","v":""}]
[null,null,null,null,{"$f":"IF(A2059=\"\",\"\",IF(B2059=\"\",E2058,IF(D2059=\"\",E2058,D2059/MAX($D$8:D2059)-1)))","v":""}]
[null,null,null,null,{"$f":"IF(A2060=\"\",\"\",IF(B2060=\"\",E2059,IF(D2060=\"\",E2059,D2060/MAX($D$8:D2060)-1)))","v":""}]
[null,null,null,null,{"$f":"IF(A2061=\"\",\"\",IF(B2061=\"\",E2060,IF(D2061=\"\",E2060,D2061/MAX($D$8:D2061)-1)))","v":""}]
[null,null,null,null,{"$f":"IF(A2062=\"\",\"\",IF(B2062=\"\",E2061,IF(D2062=\"\",E2061,D2062/MAX($D$8:D2062)-1)))","v":""}]
[null,null,null,null,{"$f":"IF(A2063=\"\",\"\",IF(B2063=\"\",E2062,IF(D2063=\"\",E2062,D2063/MAX($D$8:D2063)-1)))","v":""}]
[null,null,null,null,{"$f":"IF(A2064=\"\",\"\",IF(B2064=\"\",E2063,IF(D2064=\"\",E2063,D2064/MAX($D$8:D2064)-1)))","v":""}]
[null,null,null,null,{"$f":"IF(A2065=\"\",\"\",IF(B2065=\"\",E2064,IF(D2065=\"\",E2064,D2065/MAX($D$8:D2065)-1)))","v":""}]
[null,null,null,null,{"$f":"IF(A2066=\"\",\"\",IF(B2066=\"\",E2065,IF(D2066=\"\",E2065,D2066/MAX($D$8:D2066)-1)))","v":""}]
[null,null,null,null,{"$f":"IF(A2067=\"\",\"\",IF(B2067=\"\",E2066,IF(D2067=\"\",E2066,D2067/MAX($D$8:D2067)-1)))","v":""}]
[null,null,null,null,{"$f":"IF(A2068=\"\",\"\",IF(B2068=\"\",E2067,IF(D2068=\"\",E2067,D2068/MAX($D$8:D2068)-1)))","v":""}]
[null,null,null,null,{"$f":"IF(A2069=\"\",\"\",IF(B2069=\"\",E2068,IF(D2069=\"\",E2068,D2069/MAX($D$8:D2069)-1)))","v":""}]
[null,null,null,null,{"$f":"IF(A2070=\"\",\"\",IF(B2070=\"\",E2069,IF(D2070=\"\",E2069,D2070/MAX($D$8:D2070)-1)))","v":""}]
[null,null,null,null,{"$f":"IF(A2071=\"\",\"\",IF(B2071=\"\",E2070,IF(D2071=\"\",E2070,D2071/MAX($D$8:D2071)-1)))","v":""}]
[null,null,null,null,{"$f":"IF(A2072=\"\",\"\",IF(B2072=\"\",E2071,IF(D2072=\"\",E2071,D2072/MAX($D$8:D2072)-1)))","v":""}]
[null,null,null,null,{"$f":"IF(A2073=\"\",\"\",IF(B2073=\"\",E2072,IF(D2073=\"\",E2072,D2073/MAX($D$8:D2073)-1)))","v":""}]
[null,null,null,null,{"$f":"IF(A2074=\"\",\"\",IF(B2074=\"\",E2073,IF(D2074=\"\",E2073,D2074/MAX($D$8:D2074)-1)))","v":""}]
[null,null,null,null,{"$f":"IF(A2075=\"\",\"\",IF(B2075=\"\",E2074,IF(D2075=\"\",E2074,D2075/MAX($D$8:D2075)-1)))","v":""}]
[null,null,null,null,{"$f":"IF(A2076=\"\",\"\",IF(B2076=\"\",E2075,IF(D2076=\"\",E2075,D2076/MAX($D$8:D2076)-1)))","v":""}]
[null,null,null,null,{"$f":"IF(A2077=\"\",\"\",IF(B2077=\"\",E2076,IF(D2077=\"\",E2076,D2077/MAX($D$8:D2077)-1)))","v":""}]
[null,null,null,null,{"$f":"IF(A2078=\"\",\"\",IF(B2078=\"\",E2077,IF(D2078=\"\",E2077,D2078/MAX($D$8:D2078)-1)))","v":""}]
[null,null,null,null,{"$f":"IF(A2079=\"\",\"\",IF(B2079=\"\",E2078,IF(D2079=\"\",E2078,D2079/MAX($D$8:D2079)-1)))","v":""}]
[null,null,null,null,{"$f":"IF(A2080=\"\",\"\",IF(B2080=\"\",E2079,IF(D2080=\"\",E2079,D2080/MAX($D$8:D2080)-1)))","v":""}]
[null,null,null,null,{"$f":"IF(A2081=\"\",\"\",IF(B2081=\"\",E2080,IF(D2081=\"\",E2080,D2081/MAX($D$8:D2081)-1)))","v":""}]
[null,null,null,null,{"$f":"IF(A2082=\"\",\"\",IF(B2082=\"\",E2081,IF(D2082=\"\",E2081,D2082/MAX($D$8:D2082)-1)))","v":""}]
[null,null,null,null,{"$f":"IF(A2083=\"\",\"\",IF(B2083=\"\",E2082,IF(D2083=\"\",E2082,D2083/MAX($D$8:D2083)-1)))","v":""}]
[null,null,null,null,{"$f":"IF(A2084=\"\",\"\",IF(B2084=\"\",E2083,IF(D2084=\"\",E2083,D2084/MAX($D$8:D2084)-1)))","v":""}]
[null,null,null,null,{"$f":"IF(A2085=\"\",\"\",IF(B2085=\"\",E2084,IF(D2085=\"\",E2084,D2085/MAX($D$8:D2085)-1)))","v":""}]
[null,null,null,null,{"$f":"IF(A2086=\"\",\"\",IF(B2086=\"\",E2085,IF(D2086=\"\",E2085,D2086/MAX($D$8:D2086)-1)))","v":""}]
[null,null,null,null,{"$f":"IF(A2087=\"\",\"\",IF(B2087=\"\",E2086,IF(D2087=\"\",E2086,D2087/MAX($D$8:D2087)-1)))","v":""}]
[null,null,null,null,{"$f":"IF(A2088=\"\",\"\",IF(B2088=\"\",E2087,IF(D2088=\"\",E2087,D2088/MAX($D$8:D2088)-1)))","v":""}]
[null,null,null,null,{"$f":"IF(A2089=\"\",\"\",IF(B2089=\"\",E2088,IF(D2089=\"\",E2088,D2089/MAX($D$8:D2089)-1)))","v":""}]
[null,null,null,null,{"$f":"IF(A2090=\"\",\"\",IF(B2090=\"\",E2089,IF(D2090=\"\",E2089,D2090/MAX($D$8:D2090)-1)))","v":""}]
[null,null,null,null,{"$f":"IF(A2091=\"\",\"\",IF(B2091=\"\",E2090,IF(D2091=\"\",E2090,D2091/MAX($D$8:D2091)-1)))","v":""}]
[null,null,null,null,{"$f":"IF(A2092=\"\",\"\",IF(B2092=\"\",E2091,IF(D2092=\"\",E2091,D2092/MAX($D$8:D2092)-1)))","v":""}]
[null,null,null,null,{"$f":"IF(A2093=\"\",\"\",IF(B2093=\"\",E2092,IF(D2093=\"\",E2092,D2093/MAX($D$8:D2093)-1)))","v":""}]
[null,null,null,null,{"$f":"IF(A2094=\"\",\"\",IF(B2094=\"\",E2093,IF(D2094=\"\",E2093,D2094/MAX($D$8:D2094)-1)))","v":""}]
[null,null,null,null,{"$f":"IF(A2095=\"\",\"\",IF(B2095=\"\",E2094,IF(D2095=\"\",E2094,D2095/MAX($D$8:D2095)-1)))","v":""}]
[null,null,null,null,{"$f":"IF(A2096=\"\",\"\",IF(B2096=\"\",E2095,IF(D2096=\"\",E2095,D2096/MAX($D$8:D2096)-1)))","v":""}]
[null,null,null,null,{"$f":"IF(A2097=\"\",\"\",IF(B2097=\"\",E2096,IF(D2097=\"\",E2096,D2097/MAX($D$8:D2097)-1)))","v":""}]
[null,null,null,null,{"$f":"IF(A2098=\"\",\"\",IF(B2098=\"\",E2097,IF(D2098=\"\",E2097,D2098/MAX($D$8:D2098)-1)))","v":""}]
[null,null,null,null,{"$f":"IF(A2099=\"\",\"\",IF(B2099=\"\",E2098,IF(D2099=\"\",E2098,D2099/MAX($D$8:D2099)-1)))","v":""}]
[null,null,null,null,{"$f":"IF(A2100=\"\",\"\",IF(B2100=\"\",E2099,IF(D2100=\"\",E2099,D2100/MAX($D$8:D2100)-1)))","v":""}]
[null,null,null,null,{"$f":"IF(A2101=\"\",\"\",IF(B2101=\"\",E2100,IF(D2101=\"\",E2100,D2101/MAX($D$8:D2101)-1)))","v":""}]
[null,null,null,null,{"$f":"IF(A2102=\"\",\"\",IF(B2102=\"\",E2101,IF(D2102=\"\",E2101,D2102/MAX($D$8:D2102)-1)))","v":""}]
[null,null,null,null,{"$f":"IF(A2103=\"\",\"\",IF(B2103=\"\",E2102,IF(D2103=\"\",E2102,D2103/MAX($D$8:D2103)-1)))","v":""}]
[null,null,null,null,{"$f":"IF(A2104=\"\",\"\",IF(B2104=\"\",E2103,IF(D2104=\"\",E2103,D2104/MAX($D$8:D2104)-1)))","v":""}]
[null,null,null,null,{"$f":"IF(A2105=\"\",\"\",IF(B2105=\"\",E2104,IF(D2105=\"\",E2104,D2105/MAX($D$8:D2105)-1)))","v":""}]
[null,null,null,null,{"$f":"IF(A2106=\"\",\"\",IF(B2106=\"\",E2105,IF(D2106=\"\",E2105,D2106/MAX($D$8:D2106)-1)))","v":""}]
[null,null,null,null,{"$f":"IF(A2107=\"\",\"\",IF(B2107=\"\",E2106,IF(D2107=\"\",E2106,D2107/MAX($D$8:D2107)-1)))","v":""}]
[null,null,null,null,{"$f":"IF(A2108=\"\",\"\",IF(B2108=\"\",E2107,IF(D2108=\"\",E2107,D2108/MAX($D$8:D2108)-1)))","v":""}]
[null,null,null,null,{"$f":"IF(A2109=\"\",\"\",IF(B2109=\"\",E2108,IF(D2109=\"\",E2108,D2109/MAX($D$8:D2109)-1)))","v":""}]
[null,null,null,null,{"$f":"IF(A2110=\"\",\"\",IF(B2110=\"\",E2109,IF(D2110=\"\",E2109,D2110/MAX($D$8:D2110)-1)))","v":""}]
[null,null,null,null,{"$f":"IF(A2111=\"\",\"\",IF(B2111=\"\",E2110,IF(D2111=\"\",E2110,D2111/MAX($D$8:D2111)-1)))","v":""}]
[null,null,null,null,{"$f":"IF(A2112=\"\",\"\",IF(B2112=\"\",E2111,IF(D2112=\"\",E2111,D2112/MAX($D$8:D2112)-1)))","v":""}]
[null,null,null,null,{"$f":"IF(A2113=\"\",\"\",IF(B2113=\"\",E2112,IF(D2113=\"\",E2112,D2113/MAX($D$8:D2113)-1)))","v":""}]
[null,null,null,null,{"$f":"IF(A2114=\"\",\"\",IF(B2114=\"\",E2113,IF(D2114=\"\",E2113,D2114/MAX($D$8:D2114)-1)))","v":""}]
[null,null,null,null,{"$f":"IF(A2115=\"\",\"\",IF(B2115=\"\",E2114,IF(D2115=\"\",E2114,D2115/MAX($D$8:D2115)-1)))","v":""}]
[null,null,null,null,{"$f":"IF(A2116=\"\",\"\",IF(B2116=\"\",E2115,IF(D2116=\"\",E2115,D2116/MAX($D$8:D2116)-1)))","v":""}]
[null,null,null,null,{"$f":"IF(A2117=\"\",\"\",IF(B2117=\"\",E2116,IF(D2117=\"\",E2116,D2117/MAX($D$8:D2117)-1)))","v":""}]
[null,null,null,null,{"$f":"IF(A2118=\"\",\"\",IF(B2118=\"\",E2117,IF(D2118=\"\",E2117,D2118/MAX($D$8:D2118)-1)))","v":""}]
[null,null,null,null,{"$f":"IF(A2119=\"\",\"\",IF(B2119=\"\",E2118,IF(D2119=\"\",E2118,D2119/MAX($D$8:D2119)-1)))","v":""}]
[null,null,null,null,{"$f":"IF(A2120=\"\",\"\",IF(B2120=\"\",E2119,IF(D2120=\"\",E2119,D2120/MAX($D$8:D2120)-1)))","v":""}]
[null,null,null,null,{"$f":"IF(A2121=\"\",\"\",IF(B2121=\"\",E2120,IF(D2121=\"\",E2120,D2121/MAX($D$8:D2121)-1)))","v":""}]
[null,null,null,null,{"$f":"IF(A2122=\"\",\"\",IF(B2122=\"\",E2121,IF(D2122=\"\",E2121,D2122/MAX($D$8:D2122)-1)))","v":""}]
[null,null,null,null,{"$f":"IF(A2123=\"\",\"\",IF(B2123=\"\",E2122,IF(D2123=\"\",E2122,D2123/MAX($D$8:D2123)-1)))","v":""}]
[null,null,null,null,{"$f":"IF(A2124=\"\",\"\",IF(B2124=\"\",E2123,IF(D2124=\"\",E2123,D2124/MAX($D$8:D2124)-1)))","v":""}]
[null,null,null,null,{"$f":"IF(A2125=\"\",\"\",IF(B2125=\"\",E2124,IF(D2125=\"\",E2124,D2125/MAX($D$8:D2125)-1)))","v":""}]
[null,null,null,null,{"$f":"IF(A2126=\"\",\"\",IF(B2126=\"\",E2125,IF(D2126=\"\",E2125,D2126/MAX($D$8:D2126)-1)))","v":""}]
[null,null,null,null,{"$f":"IF(A2127=\"\",\"\",IF(B2127=\"\",E2126,IF(D2127=\"\",E2126,D2127/MAX($D$8:D2127)-1)))","v":""}]
[null,null,null,null,{"$f":"IF(A2128=\"\",\"\",IF(B2128=\"\",E2127,IF(D2128=\"\",E2127,D2128/MAX($D$8:D2128)-1)))","v":""}]
[null,null,null,null,{"$f":"IF(A2129=\"\",\"\",IF(B2129=\"\",E2128,IF(D2129=\"\",E2128,D2129/MAX($D$8:D2129)-1)))","v":""}]
[null,null,null,null,{"$f":"IF(A2130=\"\",\"\",IF(B2130=\"\",E2129,IF(D2130=\"\",E2129,D2130/MAX($D$8:D2130)-1)))","v":""}]
[null,null,null,null,{"$f":"IF(A2131=\"\",\"\",IF(B2131=\"\",E2130,IF(D2131=\"\",E2130,D2131/MAX($D$8:D2131)-1)))","v":""}]
[null,null,null,null,{"$f":"IF(A2132=\"\",\"\",IF(B2132=\"\",E2131,IF(D2132=\"\",E2131,D2132/MAX($D$8:D2132)-1)))","v":""}]
[null,null,null,null,{"$f":"IF(A2133=\"\",\"\",IF(B2133=\"\",E2132,IF(D2133=\"\",E2132,D2133/MAX($D$8:D2133)-1)))","v":""}]
[null,null,null,null,{"$f":"IF(A2134=\"\",\"\",IF(B2134=\"\",E2133,IF(D2134=\"\",E2133,D2134/MAX($D$8:D2134)-1)))","v":""}]
[null,null,null,null,{"$f":"IF(A2135=\"\",\"\",IF(B2135=\"\",E2134,IF(D2135=\"\",E2134,D2135/MAX($D$8:D2135)-1)))","v":""}]
[null,null,null,null,{"$f":"IF(A2136=\"\",\"\",IF(B2136=\"\",E2135,IF(D2136=\"\",E2135,D2136/MAX($D$8:D2136)-1)))","v":""}]
[null,null,null,null,{"$f":"IF(A2137=\"\",\"\",IF(B2137=\"\",E2136,IF(D2137=\"\",E2136,D2137/MAX($D$8:D2137)-1)))","v":""}]
[null,null,null,null,{"$f":"IF(A2138=\"\",\"\",IF(B2138=\"\",E2137,IF(D2138=\"\",E2137,D2138/MAX($D$8:D2138)-1)))","v":""}]
[null,null,null,null,{"$f":"IF(A2139=\"\",\"\",IF(B2139=\"\",E2138,IF(D2139=\"\",E2138,D2139/MAX($D$8:D2139)-1)))","v":""}]
[null,null,null,null,{"$f":"IF(A2140=\"\",\"\",IF(B2140=\"\",E2139,IF(D2140=\"\",E2139,D2140/MAX($D$8:D2140)-1)))","v":""}]
[null,null,null,null,{"$f":"IF(A2141=\"\",\"\",IF(B2141=\"\",E2140,IF(D2141=\"\",E2140,D2141/MAX($D$8:D2141)-1)))","v":""}]
[null,null,null,null,{"$f":"IF(A2142=\"\",\"\",IF(B2142=\"\",E2141,IF(D2142=\"\",E2141,D2142/MAX($D$8:D2142)-1)))","v":""}]
[null,null,null,null,{"$f":"IF(A2143=\"\",\"\",IF(B2143=\"\",E2142,IF(D2143=\"\",E2142,D2143/MAX($D$8:D2143)-1)))","v":""}]
[null,null,null,null,{"$f":"IF(A2144=\"\",\"\",IF(B2144=\"\",E2143,IF(D2144=\"\",E2143,D2144/MAX($D$8:D2144)-1)))","v":""}]
[null,null,null,null,{"$f":"IF(A2145=\"\",\"\",IF(B2145=\"\",E2144,IF(D2145=\"\",E2144,D2145/MAX($D$8:D2145)-1)))","v":""}]
[null,null,null,null,{"$f":"IF(A2146=\"\",\"\",IF(B2146=\"\",E2145,IF(D2146=\"\",E2145,D2146/MAX($D$8:D2146)-1)))","v":""}]
[null,null,null,null,{"$f":"IF(A2147=\"\",\"\",IF(B2147=\"\",E2146,IF(D2147=\"\",E2146,D2147/MAX($D$8:D2147)-1)))","v":""}]
[null,null,null,null,{"$f":"IF(A2148=\"\",\"\",IF(B2148=\"\",E2147,IF(D2148=\"\",E2147,D2148/MAX($D$8:D2148)-1)))","v":""}]
[null,null,null,null,{"$f":"IF(A2149=\"\",\"\",IF(B2149=\"\",E2148,IF(D2149=\"\",E2148,D2149/MAX($D$8:D2149)-1)))","v":""}]
[null,null,null,null,{"$f":"IF(A2150=\"\",\"\",IF(B2150=\"\",E2149,IF(D2150=\"\",E2149,D2150/MAX($D$8:D2150)-1)))","v":""}]
[null,null,null,null,{"$f":"IF(A2151=\"\",\"\",IF(B2151=\"\",E2150,IF(D2151=\"\",E2150,D2151/MAX($D$8:D2151)-1)))","v":""}]
[null,null,null,null,{"$f":"IF(A2152=\"\",\"\",IF(B2152=\"\",E2151,IF(D2152=\"\",E2151,D2152/MAX($D$8:D2152)-1)))","v":""}]
[null,null,null,null,{"$f":"IF(A2153=\"\",\"\",IF(B2153=\"\",E2152,IF(D2153=\"\",E2152,D2153/MAX($D$8:D2153)-1)))","v":""}]
[null,null,null,null,{"$f":"IF(A2154=\"\",\"\",IF(B2154=\"\",E2153,IF(D2154=\"\",E2153,D2154/MAX($D$8:D2154)-1)))","v":""}]
[null,null,null,null,{"$f":"IF(A2155=\"\",\"\",IF(B2155=\"\",E2154,IF(D2155=\"\",E2154,D2155/MAX($D$8:D2155)-1)))","v":""}]
[null,null,null,null,{"$f":"IF(A2156=\"\",\"\",IF(B2156=\"\",E2155,IF(D2156=\"\",E2155,D2156/MAX($D$8:D2156)-1)))","v":""}]
[null,null,null,null,{"$f":"IF(A2157=\"\",\"\",IF(B2157=\"\",E2156,IF(D2157=\"\",E2156,D2157/MAX($D$8:D2157)-1)))","v":""}]
[null,null,null,null,{"$f":"IF(A2158=\"\",\"\",IF(B2158=\"\",E2157,IF(D2158=\"\",E2157,D2158/MAX($D$8:D2158)-1)))","v":""}]
[null,null,null,null,{"$f":"IF(A2159=\"\",\"\",IF(B2159=\"\",E2158,IF(D2159=\"\",E2158,D2159/MAX($D$8:D2159)-1)))","v":""}]
[null,null,null,null,{"$f":"IF(A2160=\"\",\"\",IF(B2160=\"\",E2159,IF(D2160=\"\",E2159,D2160/MAX($D$8:D2160)-1)))","v":""}]
[null,null,null,null,{"$f":"IF(A2161=\"\",\"\",IF(B2161=\"\",E2160,IF(D2161=\"\",E2160,D2161/MAX($D$8:D2161)-1)))","v":""}]
[null,null,null,null,{"$f":"IF(A2162=\"\",\"\",IF(B2162=\"\",E2161,IF(D2162=\"\",E2161,D2162/MAX($D$8:D2162)-1)))","v":""}]
[null,null,null,null,{"$f":"IF(A2163=\"\",\"\",IF(B2163=\"\",E2162,IF(D2163=\"\",E2162,D2163/MAX($D$8:D2163)-1)))","v":""}]
[null,null,null,null,{"$f":"IF(A2164=\"\",\"\",IF(B2164=\"\",E2163,IF(D2164=\"\",E2163,D2164/MAX($D$8:D2164)-1)))","v":""}]
[null,null,null,null,{"$f":"IF(A2165=\"\",\"\",IF(B2165=\"\",E2164,IF(D2165=\"\",E2164,D2165/MAX($D$8:D2165)-1)))","v":""}]
[null,null,null,null,{"$f":"IF(A2166=\"\",\"\",IF(B2166=\"\",E2165,IF(D2166=\"\",E2165,D2166/MAX($D$8:D2166)-1)))","v":""}]
[null,null,null,null,{"$f":"IF(A2167=\"\",\"\",IF(B2167=\"\",E2166,IF(D2167=\"\",E2166,D2167/MAX($D$8:D2167)-1)))","v":""}]
[null,null,null,null,{"$f":"IF(A2168=\"\",\"\",IF(B2168=\"\",E2167,IF(D2168=\"\",E2167,D2168/MAX($D$8:D2168)-1)))","v":""}]
[null,null,null,null,{"$f":"IF(A2169=\"\",\"\",IF(B2169=\"\",E2168,IF(D2169=\"\",E2168,D2169/MAX($D$8:D2169)-1)))","v":""}]
[null,null,null,null,{"$f":"IF(A2170=\"\",\"\",IF(B2170=\"\",E2169,IF(D2170=\"\",E2169,D2170/MAX($D$8:D2170)-1)))","v":""}]
[null,null,null,null,{"$f":"IF(A2171=\"\",\"\",IF(B2171=\"\",E2170,IF(D2171=\"\",E2170,D2171/MAX($D$8:D2171)-1)))","v":""}]
[null,null,null,null,{"$f":"IF(A2172=\"\",\"\",IF(B2172=\"\",E2171,IF(D2172=\"\",E2171,D2172/MAX($D$8:D2172)-1)))","v":""}]
[null,null,null,null,{"$f":"IF(A2173=\"\",\"\",IF(B2173=\"\",E2172,IF(D2173=\"\",E2172,D2173/MAX($D$8:D2173)-1)))","v":""}]
[null,null,null,null,{"$f":"IF(A2174=\"\",\"\",IF(B2174=\"\",E2173,IF(D2174=\"\",E2173,D2174/MAX($D$8:D2174)-1)))","v":""}]
[null,null,null,null,{"$f":"IF(A2175=\"\",\"\",IF(B2175=\"\",E2174,IF(D2175=\"\",E2174,D2175/MAX($D$8:D2175)-1)))","v":""}]
[null,null,null,null,{"$f":"IF(A2176=\"\",\"\",IF(B2176=\"\",E2175,IF(D2176=\"\",E2175,D2176/MAX($D$8:D2176)-1)))","v":""}]
[null,null,null,null,{"$f":"IF(A2177=\"\",\"\",IF(B2177=\"\",E2176,IF(D2177=\"\",E2176,D2177/MAX($D$8:D2177)-1)))","v":""}]
[null,null,null,null,{"$f":"IF(A2178=\"\",\"\",IF(B2178=\"\",E2177,IF(D2178=\"\",E2177,D2178/MAX($D$8:D2178)-1)))","v":""}]
[null,null,null,null,{"$f":"IF(A2179=\"\",\"\",IF(B2179=\"\",E2178,IF(D2179=\"\",E2178,D2179/MAX($D$8:D2179)-1)))","v":""}]
[null,null,null,null,{"$f":"IF(A2180=\"\",\"\",IF(B2180=\"\",E2179,IF(D2180=\"\",E2179,D2180/MAX($D$8:D2180)-1)))","v":""}]
[null,null,null,null,{"$f":"IF(A2181=\"\",\"\",IF(B2181=\"\",E2180,IF(D2181=\"\",E2180,D2181/MAX($D$8:D2181)-1)))","v":""}]
[null,null,null,null,{"$f":"IF(A2182=\"\",\"\",IF(B2182=\"\",E2181,IF(D2182=\"\",E2181,D2182/MAX($D$8:D2182)-1)))","v":""}]
[null,null,null,null,{"$f":"IF(A2183=\"\",\"\",IF(B2183=\"\",E2182,IF(D2183=\"\",E2182,D2183/MAX($D$8:D2183)-1)))","v":""}]
[null,null,null,null,{"$f":"IF(A2184=\"\",\"\",IF(B2184=\"\",E2183,IF(D2184=\"\",E2183,D2184/MAX($D$8:D2184)-1)))","v":""}]
[null,null,null,null,{"$f":"IF(A2185=\"\",\"\",IF(B2185=\"\",E2184,IF(D2185=\"\",E2184,D2185/MAX($D$8:D2185)-1)))","v":""}]
[null,null,null,null,{"$f":"IF(A2186=\"\",\"\",IF(B2186=\"\",E2185,IF(D2186=\"\",E2185,D2186/MAX($D$8:D2186)-1)))","v":""}]
[null,null,null,null,{"$f":"IF(A2187=\"\",\"\",IF(B2187=\"\",E2186,IF(D2187=\"\",E2186,D2187/MAX($D$8:D2187)-1)))","v":""}]
[null,null,null,null,{"$f":"IF(A2188=\"\",\"\",IF(B2188=\"\",E2187,IF(D2188=\"\",E2187,D2188/MAX($D$8:D2188)-1)))","v":""}]
[null,null,null,null,{"$f":"IF(A2189=\"\",\"\",IF(B2189=\"\",E2188,IF(D2189=\"\",E2188,D2189/MAX($D$8:D2189)-1)))","v":""}]
[null,null,null,null,{"$f":"IF(A2190=\"\",\"\",IF(B2190=\"\",E2189,IF(D2190=\"\",E2189,D2190/MAX($D$8:D2190)-1)))","v":""}]
[null,null,null,null,{"$f":"IF(A2191=\"\",\"\",IF(B2191=\"\",E2190,IF(D2191=\"\",E2190,D2191/MAX($D$8:D2191)-1)))","v":""}]
[null,null,null,null,{"$f":"IF(A2192=\"\",\"\",IF(B2192=\"\",E2191,IF(D2192=\"\",E2191,D2192/MAX($D$8:D2192)-1)))","v":""}]
[null,null,null,null,{"$f":"IF(A2193=\"\",\"\",IF(B2193=\"\",E2192,IF(D2193=\"\",E2192,D2193/MAX($D$8:D2193)-1)))","v":""}]
[null,null,null,null,{"$f":"IF(A2194=\"\",\"\",IF(B2194=\"\",E2193,IF(D2194=\"\",E2193,D2194/MAX($D$8:D2194)-1)))","v":""}]
[null,null,null,null,{"$f":"IF(A2195=\"\",\"\",IF(B2195=\"\",E2194,IF(D2195=\"\",E2194,D2195/MAX($D$8:D2195)-1)))","v":""}]
[null,null,null,null,{"$f":"IF(A2196=\"\",\"\",IF(B2196=\"\",E2195,IF(D2196=\"\",E2195,D2196/MAX($D$8:D2196)-1)))","v":""}]
[null,null,null,null,{"$f":"IF(A2197=\"\",\"\",IF(B2197=\"\",E2196,IF(D2197=\"\",E2196,D2197/MAX($D$8:D2197)-1)))","v":""}]
[null,null,null,null,{"$f":"IF(A2198=\"\",\"\",IF(B2198=\"\",E2197,IF(D2198=\"\",E2197,D2198/MAX($D$8:D2198)-1)))","v":""}]
[null,null,null,null,{"$f":"IF(A2199=\"\",\"\",IF(B2199=\"\",E2198,IF(D2199=\"\",E2198,D2199/MAX($D$8:D2199)-1)))","v":""}]
[null,null,null,null,{"$f":"IF(A2200=\"\",\"\",IF(B2200=\"\",E2199,IF(D2200=\"\",E2199,D2200/MAX($D$8:D2200)-1)))","v":""}]
[null,null,null,null,{"$f":"IF(A2201=\"\",\"\",IF(B2201=\"\",E2200,IF(D2201=\"\",E2200,D2201/MAX($D$8:D2201)-1)))","v":""}]
[null,null,null,null,{"$f":"IF(A2202=\"\",\"\",IF(B2202=\"\",E2201,IF(D2202=\"\",E2201,D2202/MAX($D$8:D2202)-1)))","v":""}]
[null,null,null,null,{"$f":"IF(A2203=\"\",\"\",IF(B2203=\"\",E2202,IF(D2203=\"\",E2202,D2203/MAX($D$8:D2203)-1)))","v":""}]
[null,null,null,null,{"$f":"IF(A2204=\"\",\"\",IF(B2204=\"\",E2203,IF(D2204=\"\",E2203,D2204/MAX($D$8:D2204)-1)))","v":""}]
[null,null,null,null,{"$f":"IF(A2205=\"\",\"\",IF(B2205=\"\",E2204,IF(D2205=\"\",E2204,D2205/MAX($D$8:D2205)-1)))","v":""}]
[null,null,null,null,{"$f":"IF(A2206=\"\",\"\",IF(B2206=\"\",E2205,IF(D2206=\"\",E2205,D2206/MAX($D$8:D2206)-1)))","v":""}]
[null,null,null,null,{"$f":"IF(A2207=\"\",\"\",IF(B2207=\"\",E2206,IF(D2207=\"\",E2206,D2207/MAX($D$8:D2207)-1)))","v":""}]
[null,null,null,null,{"$f":"IF(A2208=\"\",\"\",IF(B2208=\"\",E2207,IF(D2208=\"\",E2207,D2208/MAX($D$8:D2208)-1)))","v":""}]
[null,null,null,null,{"$f":"IF(A2209=\"\",\"\",IF(B2209=\"\",E2208,IF(D2209=\"\",E2208,D2209/MAX($D$8:D2209)-1)))","v":""}]
[null,null,null,null,{"$f":"IF(A2210=\"\",\"\",IF(B2210=\"\",E2209,IF(D2210=\"\",E2209,D2210/MAX($D$8:D2210)-1)))","v":""}]
[null,null,null,null,{"$f":"IF(A2211=\"\",\"\",IF(B2211=\"\",E2210,IF(D2211=\"\",E2210,D2211/MAX($D$8:D2211)-1)))","v":""}]
[null,null,null,null,{"$f":"IF(A2212=\"\",\"\",IF(B2212=\"\",E2211,IF(D2212=\"\",E2211,D2212/MAX($D$8:D2212)-1)))","v":""}]
[null,null,null,null,{"$f":"IF(A2213=\"\",\"\",IF(B2213=\"\",E2212,IF(D2213=\"\",E2212,D2213/MAX($D$8:D2213)-1)))","v":""}]
[null,null,null,null,{"$f":"IF(A2214=\"\",\"\",IF(B2214=\"\",E2213,IF(D2214=\"\",E2213,D2214/MAX($D$8:D2214)-1)))","v":""}]
[null,null,null,null,{"$f":"IF(A2215=\"\",\"\",IF(B2215=\"\",E2214,IF(D2215=\"\",E2214,D2215/MAX($D$8:D2215)-1)))","v":""}]
[null,null,null,null,{"$f":"IF(A2216=\"\",\"\",IF(B2216=\"\",E2215,IF(D2216=\"\",E2215,D2216/MAX($D$8:D2216)-1)))","v":""}]
[null,null,null,null,{"$f":"IF(A2217=\"\",\"\",IF(B2217=\"\",E2216,IF(D2217=\"\",E2216,D2217/MAX($D$8:D2217)-1)))","v":""}]
[null,null,null,null,{"$f":"IF(A2218=\"\",\"\",IF(B2218=\"\",E2217,IF(D2218=\"\",E2217,D2218/MAX($D$8:D2218)-1)))","v":""}]
[null,null,null,null,{"$f":"IF(A2219=\"\",\"\",IF(B2219=\"\",E2218,IF(D2219=\"\",E2218,D2219/MAX($D$8:D2219)-1)))","v":""}]
[null,null,null,null,{"$f":"IF(A2220=\"\",\"\",IF(B2220=\"\",E2219,IF(D2220=\"\",E2219,D2220/MAX($D$8:D2220)-1)))","v":""}]
[null,null,null,null,{"$f":"IF(A2221=\"\",\"\",IF(B2221=\"\",E2220,IF(D2221=\"\",E2220,D2221/MAX($D$8:D2221)-1)))","v":""}]
[null,null,null,null,{"$f":"IF(A2222=\"\",\"\",IF(B2222=\"\",E2221,IF(D2222=\"\",E2221,D2222/MAX($D$8:D2222)-1)))","v":""}]
[null,null,null,null,{"$f":"IF(A2223=\"\",\"\",IF(B2223=\"\",E2222,IF(D2223=\"\",E2222,D2223/MAX($D$8:D2223)-1)))","v":""}]
[null,null,null,null,{"$f":"IF(A2224=\"\",\"\",IF(B2224=\"\",E2223,IF(D2224=\"\",E2223,D2224/MAX($D$8:D2224)-1)))","v":""}]
[null,null,null,null,{"$f":"IF(A2225=\"\",\"\",IF(B2225=\"\",E2224,IF(D2225=\"\",E2224,D2225/MAX($D$8:D2225)-1)))","v":""}]
[null,null,null,null,{"$f":"IF(A2226=\"\",\"\",IF(B2226=\"\",E2225,IF(D2226=\"\",E2225,D2226/MAX($D$8:D2226)-1)))","v":""}]
[null,null,null,null,{"$f":"IF(A2227=\"\",\"\",IF(B2227=\"\",E2226,IF(D2227=\"\",E2226,D2227/MAX($D$8:D2227)-1)))","v":""}]
[null,null,null,null,{"$f":"IF(A2228=\"\",\"\",IF(B2228=\"\",E2227,IF(D2228=\"\",E2227,D2228/MAX($D$8:D2228)-1)))","v":""}]
[null,null,null,null,{"$f":"IF(A2229=\"\",\"\",IF(B2229=\"\",E2228,IF(D2229=\"\",E2228,D2229/MAX($D$8:D2229)-1)))","v":""}]
[null,null,null,null,{"$f":"IF(A2230=\"\",\"\",IF(B2230=\"\",E2229,IF(D2230=\"\",E2229,D2230/MAX($D$8:D2230)-1)))","v":""}]
[null,null,null,null,{"$f":"IF(A2231=\"\",\"\",IF(B2231=\"\",E2230,IF(D2231=\"\",E2230,D2231/MAX($D$8:D2231)-1)))","v":""}]
[null,null,null,null,{"$f":"IF(A2232=\"\",\"\",IF(B2232=\"\",E2231,IF(D2232=\"\",E2231,D2232/MAX($D$8:D2232)-1)))","v":""}]
[null,null,null,null,{"$f":"IF(A2233=\"\",\"\",IF(B2233=\"\",E2232,IF(D2233=\"\",E2232,D2233/MAX($D$8:D2233)-1)))","v":""}]
[null,null,null,null,{"$f":"IF(A2234=\"\",\"\",IF(B2234=\"\",E2233,IF(D2234=\"\",E2233,D2234/MAX($D$8:D2234)-1)))","v":""}]
[null,null,null,null,{"$f":"IF(A2235=\"\",\"\",IF(B2235=\"\",E2234,IF(D2235=\"\",E2234,D2235/MAX($D$8:D2235)-1)))","v":""}]
[null,null,null,null,{"$f":"IF(A2236=\"\",\"\",IF(B2236=\"\",E2235,IF(D2236=\"\",E2235,D2236/MAX($D$8:D2236)-1)))","v":""}]
[null,null,null,null,{"$f":"IF(A2237=\"\",\"\",IF(B2237=\"\",E2236,IF(D2237=\"\",E2236,D2237/MAX($D$8:D2237)-1)))","v":""}]
[null,null,null,null,{"$f":"IF(A2238=\"\",\"\",IF(B2238=\"\",E2237,IF(D2238=\"\",E2237,D2238/MAX($D$8:D2238)-1)))","v":""}]
[null,null,null,null,{"$f":"IF(A2239=\"\",\"\",IF(B2239=\"\",E2238,IF(D2239=\"\",E2238,D2239/MAX($D$8:D2239)-1)))","v":""}]
[null,null,null,null,{"$f":"IF(A2240=\"\",\"\",IF(B2240=\"\",E2239,IF(D2240=\"\",E2239,D2240/MAX($D$8:D2240)-1)))","v":""}]
[null,null,null,null,{"$f":"IF(A2241=\"\",\"\",IF(B2241=\"\",E2240,IF(D2241=\"\",E2240,D2241/MAX($D$8:D2241)-1)))","v":""}]
[null,null,null,null,{"$f":"IF(A2242=\"\",\"\",IF(B2242=\"\",E2241,IF(D2242=\"\",E2241,D2242/MAX($D$8:D2242)-1)))","v":""}]
[null,null,null,null,{"$f":"IF(A2243=\"\",\"\",IF(B2243=\"\",E2242,IF(D2243=\"\",E2242,D2243/MAX($D$8:D2243)-1)))","v":""}]
[null,null,null,null,{"$f":"IF(A2244=\"\",\"\",IF(B2244=\"\",E2243,IF(D2244=\"\",E2243,D2244/MAX($D$8:D2244)-1)))","v":""}]
[null,null,null,null,{"$f":"IF(A2245=\"\",\"\",IF(B2245=\"\",E2244,IF(D2245=\"\",E2244,D2245/MAX($D$8:D2245)-1)))","v":""}]
[null,null,null,null,{"$f":"IF(A2246=\"\",\"\",IF(B2246=\"\",E2245,IF(D2246=\"\",E2245,D2246/MAX($D$8:D2246)-1)))","v":""}]
[null,null,null,null,{"$f":"IF(A2247=\"\",\"\",IF(B2247=\"\",E2246,IF(D2247=\"\",E2246,D2247/MAX($D$8:D2247)-1)))","v":""}]
[null,null,null,null,{"$f":"IF(A2248=\"\",\"\",IF(B2248=\"\",E2247,IF(D2248=\"\",E2247,D2248/MAX($D$8:D2248)-1)))","v":""}]
[null,null,null,null,{"$f":"IF(A2249=\"\",\"\",IF(B2249=\"\",E2248,IF(D2249=\"\",E2248,D2249/MAX($D$8:D2249)-1)))","v":""}]
[null,null,null,null,{"$f":"IF(A2250=\"\",\"\",IF(B2250=\"\",E2249,IF(D2250=\"\",E2249,D2250/MAX($D$8:D2250)-1)))","v":""}]
[null,null,null,null,{"$f":"IF(A2251=\"\",\"\",IF(B2251=\"\",E2250,IF(D2251=\"\",E2250,D2251/MAX($D$8:D2251)-1)))","v":""}]
[null,null,null,null,{"$f":"IF(A2252=\"\",\"\",IF(B2252=\"\",E2251,IF(D2252=\"\",E2251,D2252/MAX($D$8:D2252)-1)))","v":""}]
[null,null,null,null,{"$f":"IF(A2253=\"\",\"\",IF(B2253=\"\",E2252,IF(D2253=\"\",E2252,D2253/MAX($D$8:D2253)-1)))","v":""}]
[null,null,null,null,{"$f":"IF(A2254=\"\",\"\",IF(B2254=\"\",E2253,IF(D2254=\"\",E2253,D2254/MAX($D$8:D2254)-1)))","v":""}]
[null,null,null,null,{"$f":"IF(A2255=\"\",\"\",IF(B2255=\"\",E2254,IF(D2255=\"\",E2254,D2255/MAX($D$8:D2255)-1)))","v":""}]
[null,null,null,null,{"$f":"IF(A2256=\"\",\"\",IF(B2256=\"\",E2255,IF(D2256=\"\",E2255,D2256/MAX($D$8:D2256)-1)))","v":""}]
[null,null,null,null,{"$f":"IF(A2257=\"\",\"\",IF(B2257=\"\",E2256,IF(D2257=\"\",E2256,D2257/MAX($D$8:D2257)-1)))","v":""}]
[null,null,null,null,{"$f":"IF(A2258=\"\",\"\",IF(B2258=\"\",E2257,IF(D2258=\"\",E2257,D2258/MAX($D$8:D2258)-1)))","v":""}]
[null,null,null,null,{"$f":"IF(A2259=\"\",\"\",IF(B2259=\"\",E2258,IF(D2259=\"\",E2258,D2259/MAX($D$8:D2259)-1)))","v":""}]
[null,null,null,null,{"$f":"IF(A2260=\"\",\"\",IF(B2260=\"\",E2259,IF(D2260=\"\",E2259,D2260/MAX($D$8:D2260)-1)))","v":""}]
[null,null,null,null,{"$f":"IF(A2261=\"\",\"\",IF(B2261=\"\",E2260,IF(D2261=\"\",E2260,D2261/MAX($D$8:D2261)-1)))","v":""}]
[null,null,null,null,{"$f":"IF(A2262=\"\",\"\",IF(B2262=\"\",E2261,IF(D2262=\"\",E2261,D2262/MAX($D$8:D2262)-1)))","v":""}]
[null,null,null,null,{"$f":"IF(A2263=\"\",\"\",IF(B2263=\"\",E2262,IF(D2263=\"\",E2262,D2263/MAX($D$8:D2263)-1)))","v":""}]
[null,null,null,null,{"$f":"IF(A2264=\"\",\"\",IF(B2264=\"\",E2263,IF(D2264=\"\",E2263,D2264/MAX($D$8:D2264)-1)))","v":""}]
[null,null,null,null,{"$f":"IF(A2265=\"\",\"\",IF(B2265=\"\",E2264,IF(D2265=\"\",E2264,D2265/MAX($D$8:D2265)-1)))","v":""}]
[null,null,null,null,{"$f":"IF(A2266=\"\",\"\",IF(B2266=\"\",E2265,IF(D2266=\"\",E2265,D2266/MAX($D$8:D2266)-1)))","v":""}]
[null,null,null,null,{"$f":"IF(A2267=\"\",\"\",IF(B2267=\"\",E2266,IF(D2267=\"\",E2266,D2267/MAX($D$8:D2267)-1)))","v":""}]
[null,null,null,null,{"$f":"IF(A2268=\"\",\"\",IF(B2268=\"\",E2267,IF(D2268=\"\",E2267,D2268/MAX($D$8:D2268)-1)))","v":""}]
[null,null,null,null,{"$f":"IF(A2269=\"\",\"\",IF(B2269=\"\",E2268,IF(D2269=\"\",E2268,D2269/MAX($D$8:D2269)-1)))","v":""}]
[null,null,null,null,{"$f":"IF(A2270=\"\",\"\",IF(B2270=\"\",E2269,IF(D2270=\"\",E2269,D2270/MAX($D$8:D2270)-1)))","v":""}]
[null,null,null,null,{"$f":"IF(A2271=\"\",\"\",IF(B2271=\"\",E2270,IF(D2271=\"\",E2270,D2271/MAX($D$8:D2271)-1)))","v":""}]
[null,null,null,null,{"$f":"IF(A2272=\"\",\"\",IF(B2272=\"\",E2271,IF(D2272=\"\",E2271,D2272/MAX($D$8:D2272)-1)))","v":""}]
[null,null,null,null,{"$f":"IF(A2273=\"\",\"\",IF(B2273=\"\",E2272,IF(D2273=\"\",E2272,D2273/MAX($D$8:D2273)-1)))","v":""}]
[null,null,null,null,{"$f":"IF(A2274=\"\",\"\",IF(B2274=\"\",E2273,IF(D2274=\"\",E2273,D2274/MAX($D$8:D2274)-1)))","v":""}]
[null,null,null,null,{"$f":"IF(A2275=\"\",\"\",IF(B2275=\"\",E2274,IF(D2275=\"\",E2274,D2275/MAX($D$8:D2275)-1)))","v":""}]
[null,null,null,null,{"$f":"IF(A2276=\"\",\"\",IF(B2276=\"\",E2275,IF(D2276=\"\",E2275,D2276/MAX($D$8:D2276)-1)))","v":""}]
[null,null,null,null,{"$f":"IF(A2277=\"\",\"\",IF(B2277=\"\",E2276,IF(D2277=\"\",E2276,D2277/MAX($D$8:D2277)-1)))","v":""}]
[null,null,null,null,{"$f":"IF(A2278=\"\",\"\",IF(B2278=\"\",E2277,IF(D2278=\"\",E2277,D2278/MAX($D$8:D2278)-1)))","v":""}]
[null,null,null,null,{"$f":"IF(A2279=\"\",\"\",IF(B2279=\"\",E2278,IF(D2279=\"\",E2278,D2279/MAX($D$8:D2279)-1)))","v":""}]
[null,null,null,null,{"$f":"IF(A2280=\"\",\"\",IF(B2280=\"\",E2279,IF(D2280=\"\",E2279,D2280/MAX($D$8:D2280)-1)))","v":""}]
[null,null,null,null,{"$f":"IF(A2281=\"\",\"\",IF(B2281=\"\",E2280,IF(D2281=\"\",E2280,D2281/MAX($D$8:D2281)-1)))","v":""}]
[null,null,null,null,{"$f":"IF(A2282=\"\",\"\",IF(B2282=\"\",E2281,IF(D2282=\"\",E2281,D2282/MAX($D$8:D2282)-1)))","v":""}]
[null,null,null,null,{"$f":"IF(A2283=\"\",\"\",IF(B2283=\"\",E2282,IF(D2283=\"\",E2282,D2283/MAX($D$8:D2283)-1)))","v":""}]
[null,null,null,null,{"$f":"IF(A2284=\"\",\"\",IF(B2284=\"\",E2283,IF(D2284=\"\",E2283,D2284/MAX($D$8:D2284)-1)))","v":""}]
[null,null,null,null,{"$f":"IF(A2285=\"\",\"\",IF(B2285=\"\",E2284,IF(D2285=\"\",E2284,D2285/MAX($D$8:D2285)-1)))","v":""}]
[null,null,null,null,{"$f":"IF(A2286=\"\",\"\",IF(B2286=\"\",E2285,IF(D2286=\"\",E2285,D2286/MAX($D$8:D2286)-1)))","v":""}]
[null,null,null,null,{"$f":"IF(A2287=\"\",\"\",IF(B2287=\"\",E2286,IF(D2287=\"\",E2286,D2287/MAX($D$8:D2287)-1)))","v":""}]
[null,null,null,null,{"$f":"IF(A2288=\"\",\"\",IF(B2288=\"\",E2287,IF(D2288=\"\",E2287,D2288/MAX($D$8:D2288)-1)))","v":""}]
[null,null,null,null,{"$f":"IF(A2289=\"\",\"\",IF(B2289=\"\",E2288,IF(D2289=\"\",E2288,D2289/MAX($D$8:D2289)-1)))","v":""}]
[null,null,null,null,{"$f":"IF(A2290=\"\",\"\",IF(B2290=\"\",E2289,IF(D2290=\"\",E2289,D2290/MAX($D$8:D2290)-1)))","v":""}]
[null,null,null,null,{"$f":"IF(A2291=\"\",\"\",IF(B2291=\"\",E2290,IF(D2291=\"\",E2290,D2291/MAX($D$8:D2291)-1)))","v":""}]
[null,null,null,null,{"$f":"IF(A2292=\"\",\"\",IF(B2292=\"\",E2291,IF(D2292=\"\",E2291,D2292/MAX($D$8:D2292)-1)))","v":""}]
[null,null,null,null,{"$f":"IF(A2293=\"\",\"\",IF(B2293=\"\",E2292,IF(D2293=\"\",E2292,D2293/MAX($D$8:D2293)-1)))","v":""}]
[null,null,null,null,{"$f":"IF(A2294=\"\",\"\",IF(B2294=\"\",E2293,IF(D2294=\"\",E2293,D2294/MAX($D$8:D2294)-1)))","v":""}]
[null,null,null,null,{"$f":"IF(A2295=\"\",\"\",IF(B2295=\"\",E2294,IF(D2295=\"\",E2294,D2295/MAX($D$8:D2295)-1)))","v":""}]
[null,null,null,null,{"$f":"IF(A2296=\"\",\"\",IF(B2296=\"\",E2295,IF(D2296=\"\",E2295,D2296/MAX($D$8:D2296)-1)))","v":""}]
[null,null,null,null,{"$f":"IF(A2297=\"\",\"\",IF(B2297=\"\",E2296,IF(D2297=\"\",E2296,D2297/MAX($D$8:D2297)-1)))","v":""}]
[null,null,null,null,{"$f":"IF(A2298=\"\",\"\",IF(B2298=\"\",E2297,IF(D2298=\"\",E2297,D2298/MAX($D$8:D2298)-1)))","v":""}]
[null,null,null,null,{"$f":"IF(A2299=\"\",\"\",IF(B2299=\"\",E2298,IF(D2299=\"\",E2298,D2299/MAX($D$8:D2299)-1)))","v":""}]
[null,null,null,null,{"$f":"IF(A2300=\"\",\"\",IF(B2300=\"\",E2299,IF(D2300=\"\",E2299,D2300/MAX($D$8:D2300)-1)))","v":""}]
[null,null,null,null,{"$f":"IF(A2301=\"\",\"\",IF(B2301=\"\",E2300,IF(D2301=\"\",E2300,D2301/MAX($D$8:D2301)-1)))","v":""}]
[null,null,null,null,{"$f":"IF(A2302=\"\",\"\",IF(B2302=\"\",E2301,IF(D2302=\"\",E2301,D2302/MAX($D$8:D2302)-1)))","v":""}]
[null,null,null,null,{"$f":"IF(A2303=\"\",\"\",IF(B2303=\"\",E2302,IF(D2303=\"\",E2302,D2303/MAX($D$8:D2303)-1)))","v":""}]
[null,null,null,null,{"$f":"IF(A2304=\"\",\"\",IF(B2304=\"\",E2303,IF(D2304=\"\",E2303,D2304/MAX($D$8:D2304)-1)))","v":""}]
[null,null,null,null,{"$f":"IF(A2305=\"\",\"\",IF(B2305=\"\",E2304,IF(D2305=\"\",E2304,D2305/MAX($D$8:D2305)-1)))","v":""}]
[null,null,null,null,{"$f":"IF(A2306=\"\",\"\",IF(B2306=\"\",E2305,IF(D2306=\"\",E2305,D2306/MAX($D$8:D2306)-1)))","v":""}]
[null,null,null,null,{"$f":"IF(A2307=\"\",\"\",IF(B2307=\"\",E2306,IF(D2307=\"\",E2306,D2307/MAX($D$8:D2307)-1)))","v":""}]
[null,null,null,null,{"$f":"IF(A2308=\"\",\"\",IF(B2308=\"\",E2307,IF(D2308=\"\",E2307,D2308/MAX($D$8:D2308)-1)))","v":""}]
[null,null,null,null,{"$f":"IF(A2309=\"\",\"\",IF(B2309=\"\",E2308,IF(D2309=\"\",E2308,D2309/MAX($D$8:D2309)-1)))","v":""}]
[null,null,null,null,{"$f":"IF(A2310=\"\",\"\",IF(B2310=\"\",E2309,IF(D2310=\"\",E2309,D2310/MAX($D$8:D2310)-1)))","v":""}]
[null,null,null,null,{"$f":"IF(A2311=\"\",\"\",IF(B2311=\"\",E2310,IF(D2311=\"\",E2310,D2311/MAX($D$8:D2311)-1)))","v":""}]
[null,null,null,null,{"$f":"IF(A2312=\"\",\"\",IF(B2312=\"\",E2311,IF(D2312=\"\",E2311,D2312/MAX($D$8:D2312)-1)))","v":""}]
[null,null,null,null,{"$f":"IF(A2313=\"\",\"\",IF(B2313=\"\",E2312,IF(D2313=\"\",E2312,D2313/MAX($D$8:D2313)-1)))","v":""}]
[null,null,null,null,{"$f":"IF(A2314=\"\",\"\",IF(B2314=\"\",E2313,IF(D2314=\"\",E2313,D2314/MAX($D$8:D2314)-1)))","v":""}]
[null,null,null,null,{"$f":"IF(A2315=\"\",\"\",IF(B2315=\"\",E2314,IF(D2315=\"\",E2314,D2315/MAX($D$8:D2315)-1)))","v":""}]
[null,null,null,null,{"$f":"IF(A2316=\"\",\"\",IF(B2316=\"\",E2315,IF(D2316=\"\",E2315,D2316/MAX($D$8:D2316)-1)))","v":""}]
[null,null,null,null,{"$f":"IF(A2317=\"\",\"\",IF(B2317=\"\",E2316,IF(D2317=\"\",E2316,D2317/MAX($D$8:D2317)-1)))","v":""}]
[null,null,null,null,{"$f":"IF(A2318=\"\",\"\",IF(B2318=\"\",E2317,IF(D2318=\"\",E2317,D2318/MAX($D$8:D2318)-1)))","v":""}]
[null,null,null,null,{"$f":"IF(A2319=\"\",\"\",IF(B2319=\"\",E2318,IF(D2319=\"\",E2318,D2319/MAX($D$8:D2319)-1)))","v":""}]
[null,null,null,null,{"$f":"IF(A2320=\"\",\"\",IF(B2320=\"\",E2319,IF(D2320=\"\",E2319,D2320/MAX($D$8:D2320)-1)))","v":""}]
[null,null,null,null,{"$f":"IF(A2321=\"\",\"\",IF(B2321=\"\",E2320,IF(D2321=\"\",E2320,D2321/MAX($D$8:D2321)-1)))","v":""}]
[null,null,null,null,{"$f":"IF(A2322=\"\",\"\",IF(B2322=\"\",E2321,IF(D2322=\"\",E2321,D2322/MAX($D$8:D2322)-1)))","v":""}]
[null,null,null,null,{"$f":"IF(A2323=\"\",\"\",IF(B2323=\"\",E2322,IF(D2323=\"\",E2322,D2323/MAX($D$8:D2323)-1)))","v":""}]
[null,null,null,null,{"$f":"IF(A2324=\"\",\"\",IF(B2324=\"\",E2323,IF(D2324=\"\",E2323,D2324/MAX($D$8:D2324)-1)))","v":""}]
[null,null,null,null,{"$f":"IF(A2325=\"\",\"\",IF(B2325=\"\",E2324,IF(D2325=\"\",E2324,D2325/MAX($D$8:D2325)-1)))","v":""}]
[null,null,null,null,{"$f":"IF(A2326=\"\",\"\",IF(B2326=\"\",E2325,IF(D2326=\"\",E2325,D2326/MAX($D$8:D2326)-1)))","v":""}]
[null,null,null,null,{"$f":"IF(A2327=\"\",\"\",IF(B2327=\"\",E2326,IF(D2327=\"\",E2326,D2327/MAX($D$8:D2327)-1)))","v":""}]
[null,null,null,null,{"$f":"IF(A2328=\"\",\"\",IF(B2328=\"\",E2327,IF(D2328=\"\",E2327,D2328/MAX($D$8:D2328)-1)))","v":""}]
[null,null,null,null,{"$f":"IF(A2329=\"\",\"\",IF(B2329=\"\",E2328,IF(D2329=\"\",E2328,D2329/MAX($D$8:D2329)-1)))","v":""}]
[null,null,null,null,{"$f":"IF(A2330=\"\",\"\",IF(B2330=\"\",E2329,IF(D2330=\"\",E2329,D2330/MAX($D$8:D2330)-1)))","v":""}]
[null,null,null,null,{"$f":"IF(A2331=\"\",\"\",IF(B2331=\"\",E2330,IF(D2331=\"\",E2330,D2331/MAX($D$8:D2331)-1)))","v":""}]
[null,null,null,null,{"$f":"IF(A2332=\"\",\"\",IF(B2332=\"\",E2331,IF(D2332=\"\",E2331,D2332/MAX($D$8:D2332)-1)))","v":""}]
[null,null,null,null,{"$f":"IF(A2333=\"\",\"\",IF(B2333=\"\",E2332,IF(D2333=\"\",E2332,D2333/MAX($D$8:D2333)-1)))","v":""}]
[null,null,null,null,{"$f":"IF(A2334=\"\",\"\",IF(B2334=\"\",E2333,IF(D2334=\"\",E2333,D2334/MAX($D$8:D2334)-1)))","v":""}]
[null,null,null,null,{"$f":"IF(A2335=\"\",\"\",IF(B2335=\"\",E2334,IF(D2335=\"\",E2334,D2335/MAX($D$8:D2335)-1)))","v":""}]
[null,null,null,null,{"$f":"IF(A2336=\"\",\"\",IF(B2336=\"\",E2335,IF(D2336=\"\",E2335,D2336/MAX($D$8:D2336)-1)))","v":""}]
[null,null,null,null,{"$f":"IF(A2337=\"\",\"\",IF(B2337=\"\",E2336,IF(D2337=\"\",E2336,D2337/MAX($D$8:D2337)-1)))","v":""}]
[null,null,null,null,{"$f":"IF(A2338=\"\",\"\",IF(B2338=\"\",E2337,IF(D2338=\"\",E2337,D2338/MAX($D$8:D2338)-1)))","v":""}]
[null,null,null,null,{"$f":"IF(A2339=\"\",\"\",IF(B2339=\"\",E2338,IF(D2339=\"\",E2338,D2339/MAX($D$8:D2339)-1)))","v":""}]
[null,null,null,null,{"$f":"IF(A2340=\"\",\"\",IF(B2340=\"\",E2339,IF(D2340=\"\",E2339,D2340/MAX($D$8:D2340)-1)))","v":""}]
[null,null,null,null,{"$f":"IF(A2341=\"\",\"\",IF(B2341=\"\",E2340,IF(D2341=\"\",E2340,D2341/MAX($D$8:D2341)-1)))","v":""}]
[null,null,null,null,{"$f":"IF(A2342=\"\",\"\",IF(B2342=\"\",E2341,IF(D2342=\"\",E2341,D2342/MAX($D$8:D2342)-1)))","v":""}]
[null,null,null,null,{"$f":"IF(A2343=\"\",\"\",IF(B2343=\"\",E2342,IF(D2343=\"\",E2342,D2343/MAX($D$8:D2343)-1)))","v":""}]
[null,null,null,null,{"$f":"IF(A2344=\"\",\"\",IF(B2344=\"\",E2343,IF(D2344=\"\",E2343,D2344/MAX($D$8:D2344)-1)))","v":""}]
[null,null,null,null,{"$f":"IF(A2345=\"\",\"\",IF(B2345=\"\",E2344,IF(D2345=\"\",E2344,D2345/MAX($D$8:D2345)-1)))","v":""}]
[null,null,null,null,{"$f":"IF(A2346=\"\",\"\",IF(B2346=\"\",E2345,IF(D2346=\"\",E2345,D2346/MAX($D$8:D2346)-1)))","v":""}]
[null,null,null,null,{"$f":"IF(A2347=\"\",\"\",IF(B2347=\"\",E2346,IF(D2347=\"\",E2346,D2347/MAX($D$8:D2347)-1)))","v":""}]
[null,null,null,null,{"$f":"IF(A2348=\"\",\"\",IF(B2348=\"\",E2347,IF(D2348=\"\",E2347,D2348/MAX($D$8:D2348)-1)))","v":""}]
[null,null,null,null,{"$f":"IF(A2349=\"\",\"\",IF(B2349=\"\",E2348,IF(D2349=\"\",E2348,D2349/MAX($D$8:D2349)-1)))","v":""}]
[null,null,null,null,{"$f":"IF(A2350=\"\",\"\",IF(B2350=\"\",E2349,IF(D2350=\"\",E2349,D2350/MAX($D$8:D2350)-1)))","v":""}]
[null,null,null,null,{"$f":"IF(A2351=\"\",\"\",IF(B2351=\"\",E2350,IF(D2351=\"\",E2350,D2351/MAX($D$8:D2351)-1)))","v":""}]
[null,null,null,null,{"$f":"IF(A2352=\"\",\"\",IF(B2352=\"\",E2351,IF(D2352=\"\",E2351,D2352/MAX($D$8:D2352)-1)))","v":""}]
[null,null,null,null,{"$f":"IF(A2353=\"\",\"\",IF(B2353=\"\",E2352,IF(D2353=\"\",E2352,D2353/MAX($D$8:D2353)-1)))","v":""}]
[null,null,null,null,{"$f":"IF(A2354=\"\",\"\",IF(B2354=\"\",E2353,IF(D2354=\"\",E2353,D2354/MAX($D$8:D2354)-1)))","v":""}]
[null,null,null,null,{"$f":"IF(A2355=\"\",\"\",IF(B2355=\"\",E2354,IF(D2355=\"\",E2354,D2355/MAX($D$8:D2355)-1)))","v":""}]
[null,null,null,null,{"$f":"IF(A2356=\"\",\"\",IF(B2356=\"\",E2355,IF(D2356=\"\",E2355,D2356/MAX($D$8:D2356)-1)))","v":""}]
[null,null,null,null,{"$f":"IF(A2357=\"\",\"\",IF(B2357=\"\",E2356,IF(D2357=\"\",E2356,D2357/MAX($D$8:D2357)-1)))","v":""}]
[null,null,null,null,{"$f":"IF(A2358=\"\",\"\",IF(B2358=\"\",E2357,IF(D2358=\"\",E2357,D2358/MAX($D$8:D2358)-1)))","v":""}]
[null,null,null,null,{"$f":"IF(A2359=\"\",\"\",IF(B2359=\"\",E2358,IF(D2359=\"\",E2358,D2359/MAX($D$8:D2359)-1)))","v":""}]
[null,null,null,null,{"$f":"IF(A2360=\"\",\"\",IF(B2360=\"\",E2359,IF(D2360=\"\",E2359,D2360/MAX($D$8:D2360)-1)))","v":""}]
[null,null,null,null,{"$f":"IF(A2361=\"\",\"\",IF(B2361=\"\",E2360,IF(D2361=\"\",E2360,D2361/MAX($D$8:D2361)-1)))","v":""}]
[null,null,null,null,{"$f":"IF(A2362=\"\",\"\",IF(B2362=\"\",E2361,IF(D2362=\"\",E2361,D2362/MAX($D$8:D2362)-1)))","v":""}]
[null,null,null,null,{"$f":"IF(A2363=\"\",\"\",IF(B2363=\"\",E2362,IF(D2363=\"\",E2362,D2363/MAX($D$8:D2363)-1)))","v":""}]
[null,null,null,null,{"$f":"IF(A2364=\"\",\"\",IF(B2364=\"\",E2363,IF(D2364=\"\",E2363,D2364/MAX($D$8:D2364)-1)))","v":""}]
[null,null,null,null,{"$f":"IF(A2365=\"\",\"\",IF(B2365=\"\",E2364,IF(D2365=\"\",E2364,D2365/MAX($D$8:D2365)-1)))","v":""}]
[null,null,null,null,{"$f":"IF(A2366=\"\",\"\",IF(B2366=\"\",E2365,IF(D2366=\"\",E2365,D2366/MAX($D$8:D2366)-1)))","v":""}]
[null,null,null,null,{"$f":"IF(A2367=\"\",\"\",IF(B2367=\"\",E2366,IF(D2367=\"\",E2366,D2367/MAX($D$8:D2367)-1)))","v":""}]
[null,null,null,null,{"$f":"IF(A2368=\"\",\"\",IF(B2368=\"\",E2367,IF(D2368=\"\",E2367,D2368/MAX($D$8:D2368)-1)))","v":""}]
[null,null,null,null,{"$f":"IF(A2369=\"\",\"\",IF(B2369=\"\",E2368,IF(D2369=\"\",E2368,D2369/MAX($D$8:D2369)-1)))","v":""}]
[null,null,null,null,{"$f":"IF(A2370=\"\",\"\",IF(B2370=\"\",E2369,IF(D2370=\"\",E2369,D2370/MAX($D$8:D2370)-1)))","v":""}]
[null,null,null,null,{"$f":"IF(A2371=\"\",\"\",IF(B2371=\"\",E2370,IF(D2371=\"\",E2370,D2371/MAX($D$8:D2371)-1)))","v":""}]
[null,null,null,null,{"$f":"IF(A2372=\"\",\"\",IF(B2372=\"\",E2371,IF(D2372=\"\",E2371,D2372/MAX($D$8:D2372)-1)))","v":""}]
[null,null,null,null,{"$f":"IF(A2373=\"\",\"\",IF(B2373=\"\",E2372,IF(D2373=\"\",E2372,D2373/MAX($D$8:D2373)-1)))","v":""}]
[null,null,null,null,{"$f":"IF(A2374=\"\",\"\",IF(B2374=\"\",E2373,IF(D2374=\"\",E2373,D2374/MAX($D$8:D2374)-1)))","v":""}]
[null,null,null,null,{"$f":"IF(A2375=\"\",\"\",IF(B2375=\"\",E2374,IF(D2375=\"\",E2374,D2375/MAX($D$8:D2375)-1)))","v":""}]
[null,null,null,null,{"$f":"IF(A2376=\"\",\"\",IF(B2376=\"\",E2375,IF(D2376=\"\",E2375,D2376/MAX($D$8:D2376)-1)))","v":""}]
[null,null,null,null,{"$f":"IF(A2377=\"\",\"\",IF(B2377=\"\",E2376,IF(D2377=\"\",E2376,D2377/MAX($D$8:D2377)-1)))","v":""}]
[null,null,null,null,{"$f":"IF(A2378=\"\",\"\",IF(B2378=\"\",E2377,IF(D2378=\"\",E2377,D2378/MAX($D$8:D2378)-1)))","v":""}]
[null,null,null,null,{"$f":"IF(A2379=\"\",\"\",IF(B2379=\"\",E2378,IF(D2379=\"\",E2378,D2379/MAX($D$8:D2379)-1)))","v":""}]
[null,null,null,null,{"$f":"IF(A2380=\"\",\"\",IF(B2380=\"\",E2379,IF(D2380=\"\",E2379,D2380/MAX($D$8:D2380)-1)))","v":""}]
[null,null,null,null,{"$f":"IF(A2381=\"\",\"\",IF(B2381=\"\",E2380,IF(D2381=\"\",E2380,D2381/MAX($D$8:D2381)-1)))","v":""}]
[null,null,null,null,{"$f":"IF(A2382=\"\",\"\",IF(B2382=\"\",E2381,IF(D2382=\"\",E2381,D2382/MAX($D$8:D2382)-1)))","v":""}]
[null,null,null,null,{"$f":"IF(A2383=\"\",\"\",IF(B2383=\"\",E2382,IF(D2383=\"\",E2382,D2383/MAX($D$8:D2383)-1)))","v":""}]
[null,null,null,null,{"$f":"IF(A2384=\"\",\"\",IF(B2384=\"\",E2383,IF(D2384=\"\",E2383,D2384/MAX($D$8:D2384)-1)))","v":""}]
[null,null,null,null,{"$f":"IF(A2385=\"\",\"\",IF(B2385=\"\",E2384,IF(D2385=\"\",E2384,D2385/MAX($D$8:D2385)-1)))","v":""}]
[null,null,null,null,{"$f":"IF(A2386=\"\",\"\",IF(B2386=\"\",E2385,IF(D2386=\"\",E2385,D2386/MAX($D$8:D2386)-1)))","v":""}]
[null,null,null,null,{"$f":"IF(A2387=\"\",\"\",IF(B2387=\"\",E2386,IF(D2387=\"\",E2386,D2387/MAX($D$8:D2387)-1)))","v":""}]
[null,null,null,null,{"$f":"IF(A2388=\"\",\"\",IF(B2388=\"\",E2387,IF(D2388=\"\",E2387,D2388/MAX($D$8:D2388)-1)))","v":""}]
[null,null,null,null,{"$f":"IF(A2389=\"\",\"\",IF(B2389=\"\",E2388,IF(D2389=\"\",E2388,D2389/MAX($D$8:D2389)-1)))","v":""}]
[null,null,null,null,{"$f":"IF(A2390=\"\",\"\",IF(B2390=\"\",E2389,IF(D2390=\"\",E2389,D2390/MAX($D$8:D2390)-1)))","v":""}]
[null,null,null,null,{"$f":"IF(A2391=\"\",\"\",IF(B2391=\"\",E2390,IF(D2391=\"\",E2390,D2391/MAX($D$8:D2391)-1)))","v":""}]
[null,null,null,null,{"$f":"IF(A2392=\"\",\"\",IF(B2392=\"\",E2391,IF(D2392=\"\",E2391,D2392/MAX($D$8:D2392)-1)))","v":""}]
[null,null,null,null,{"$f":"IF(A2393=\"\",\"\",IF(B2393=\"\",E2392,IF(D2393=\"\",E2392,D2393/MAX($D$8:D2393)-1)))","v":""}]
[null,null,null,null,{"$f":"IF(A2394=\"\",\"\",IF(B2394=\"\",E2393,IF(D2394=\"\",E2393,D2394/MAX($D$8:D2394)-1)))","v":""}]
[null,null,null,null,{"$f":"IF(A2395=\"\",\"\",IF(B2395=\"\",E2394,IF(D2395=\"\",E2394,D2395/MAX($D$8:D2395)-1)))","v":""}]
[null,null,null,null,{"$f":"IF(A2396=\"\",\"\",IF(B2396=\"\",E2395,IF(D2396=\"\",E2395,D2396/MAX($D$8:D2396)-1)))","v":""}]
[null,null,null,null,{"$f":"IF(A2397=\"\",\"\",IF(B2397=\"\",E2396,IF(D2397=\"\",E2396,D2397/MAX($D$8:D2397)-1)))","v":""}]
[null,null,null,null,{"$f":"IF(A2398=\"\",\"\",IF(B2398=\"\",E2397,IF(D2398=\"\",E2397,D2398/MAX($D$8:D2398)-1)))","v":""}]
[null,null,null,null,{"$f":"IF(A2399=\"\",\"\",IF(B2399=\"\",E2398,IF(D2399=\"\",E2398,D2399/MAX($D$8:D2399)-1)))","v":""}]
[null,null,null,null,{"$f":"IF(A2400=\"\",\"\",IF(B2400=\"\",E2399,IF(D2400=\"\",E2399,D2400/MAX($D$8:D2400)-1)))","v":""}]
[null,null,null,null,{"$f":"IF(A2401=\"\",\"\",IF(B2401=\"\",E2400,IF(D2401=\"\",E2400,D2401/MAX($D$8:D2401)-1)))","v":""}]
[null,null,null,null,{"$f":"IF(A2402=\"\",\"\",IF(B2402=\"\",E2401,IF(D2402=\"\",E2401,D2402/MAX($D$8:D2402)-1)))","v":""}]
[null,null,null,null,{"$f":"IF(A2403=\"\",\"\",IF(B2403=\"\",E2402,IF(D2403=\"\",E2402,D2403/MAX($D$8:D2403)-1)))","v":""}]
[null,null,null,null,{"$f":"IF(A2404=\"\",\"\",IF(B2404=\"\",E2403,IF(D2404=\"\",E2403,D2404/MAX($D$8:D2404)-1)))","v":""}]
[null,null,null,null,{"$f":"IF(A2405=\"\",\"\",IF(B2405=\"\",E2404,IF(D2405=\"\",E2404,D2405/MAX($D$8:D2405)-1)))","v":""}]
[null,null,null,null,{"$f":"IF(A2406=\"\",\"\",IF(B2406=\"\",E2405,IF(D2406=\"\",E2405,D2406/MAX($D$8:D2406)-1)))","v":""}]
[null,null,null,null,{"$f":"IF(A2407=\"\",\"\",IF(B2407=\"\",E2406,IF(D2407=\"\",E2406,D2407/MAX($D$8:D2407)-1)))","v":""}]
[null,null,null,null,{"$f":"IF(A2408=\"\",\"\",IF(B2408=\"\",E2407,IF(D2408=\"\",E2407,D2408/MAX($D$8:D2408)-1)))","v":""}]
[null,null,null,null,{"$f":"IF(A2409=\"\",\"\",IF(B2409=\"\",E2408,IF(D2409=\"\",E2408,D2409/MAX($D$8:D2409)-1)))","v":""}]
[null,null,null,null,{"$f":"IF(A2410=\"\",\"\",IF(B2410=\"\",E2409,IF(D2410=\"\",E2409,D2410/MAX($D$8:D2410)-1)))","v":""}]
[null,null,null,null,{"$f":"IF(A2411=\"\",\"\",IF(B2411=\"\",E2410,IF(D2411=\"\",E2410,D2411/MAX($D$8:D2411)-1)))","v":""}]
[null,null,null,null,{"$f":"IF(A2412=\"\",\"\",IF(B2412=\"\",E2411,IF(D2412=\"\",E2411,D2412/MAX($D$8:D2412)-1)))","v":""}]
[null,null,null,null,{"$f":"IF(A2413=\"\",\"\",IF(B2413=\"\",E2412,IF(D2413=\"\",E2412,D2413/MAX($D$8:D2413)-1)))","v":""}]
[null,null,null,null,{"$f":"IF(A2414=\"\",\"\",IF(B2414=\"\",E2413,IF(D2414=\"\",E2413,D2414/MAX($D$8:D2414)-1)))","v":""}]
[null,null,null,null,{"$f":"IF(A2415=\"\",\"\",IF(B2415=\"\",E2414,IF(D2415=\"\",E2414,D2415/MAX($D$8:D2415)-1)))","v":""}]
[null,null,null,null,{"$f":"IF(A2416=\"\",\"\",IF(B2416=\"\",E2415,IF(D2416=\"\",E2415,D2416/MAX($D$8:D2416)-1)))","v":""}]
[null,null,null,null,{"$f":"IF(A2417=\"\",\"\",IF(B2417=\"\",E2416,IF(D2417=\"\",E2416,D2417/MAX($D$8:D2417)-1)))","v":""}]
[null,null,null,null,{"$f":"IF(A2418=\"\",\"\",IF(B2418=\"\",E2417,IF(D2418=\"\",E2417,D2418/MAX($D$8:D2418)-1)))","v":""}]
[null,null,null,null,{"$f":"IF(A2419=\"\",\"\",IF(B2419=\"\",E2418,IF(D2419=\"\",E2418,D2419/MAX($D$8:D2419)-1)))","v":""}]
[null,null,null,null,{"$f":"IF(A2420=\"\",\"\",IF(B2420=\"\",E2419,IF(D2420=\"\",E2419,D2420/MAX($D$8:D2420)-1)))","v":""}]
[null,null,null,null,{"$f":"IF(A2421=\"\",\"\",IF(B2421=\"\",E2420,IF(D2421=\"\",E2420,D2421/MAX($D$8:D2421)-1)))","v":""}]
[null,null,null,null,{"$f":"IF(A2422=\"\",\"\",IF(B2422=\"\",E2421,IF(D2422=\"\",E2421,D2422/MAX($D$8:D2422)-1)))","v":""}]
[null,null,null,null,{"$f":"IF(A2423=\"\",\"\",IF(B2423=\"\",E2422,IF(D2423=\"\",E2422,D2423/MAX($D$8:D2423)-1)))","v":""}]
[null,null,null,null,{"$f":"IF(A2424=\"\",\"\",IF(B2424=\"\",E2423,IF(D2424=\"\",E2423,D2424/MAX($D$8:D2424)-1)))","v":""}]
[null,null,null,null,{"$f":"IF(A2425=\"\",\"\",IF(B2425=\"\",E2424,IF(D2425=\"\",E2424,D2425/MAX($D$8:D2425)-1)))","v":""}]
[null,null,null,null,{"$f":"IF(A2426=\"\",\"\",IF(B2426=\"\",E2425,IF(D2426=\"\",E2425,D2426/MAX($D$8:D2426)-1)))","v":""}]
[null,null,null,null,{"$f":"IF(A2427=\"\",\"\",IF(B2427=\"\",E2426,IF(D2427=\"\",E2426,D2427/MAX($D$8:D2427)-1)))","v":""}]
[null,null,null,null,{"$f":"IF(A2428=\"\",\"\",IF(B2428=\"\",E2427,IF(D2428=\"\",E2427,D2428/MAX($D$8:D2428)-1)))","v":""}]
[null,null,null,null,{"$f":"IF(A2429=\"\",\"\",IF(B2429=\"\",E2428,IF(D2429=\"\",E2428,D2429/MAX($D$8:D2429)-1)))","v":""}]
[null,null,null,null,{"$f":"IF(A2430=\"\",\"\",IF(B2430=\"\",E2429,IF(D2430=\"\",E2429,D2430/MAX($D$8:D2430)-1)))","v":""}]
[null,null,null,null,{"$f":"IF(A2431=\"\",\"\",IF(B2431=\"\",E2430,IF(D2431=\"\",E2430,D2431/MAX($D$8:D2431)-1)))","v":""}]
[null,null,null,null,{"$f":"IF(A2432=\"\",\"\",IF(B2432=\"\",E2431,IF(D2432=\"\",E2431,D2432/MAX($D$8:D2432)-1)))","v":""}]
[null,null,null,null,{"$f":"IF(A2433=\"\",\"\",IF(B2433=\"\",E2432,IF(D2433=\"\",E2432,D2433/MAX($D$8:D2433)-1)))","v":""}]
[null,null,null,null,{"$f":"IF(A2434=\"\",\"\",IF(B2434=\"\",E2433,IF(D2434=\"\",E2433,D2434/MAX($D$8:D2434)-1)))","v":""}]
[null,null,null,null,{"$f":"IF(A2435=\"\",\"\",IF(B2435=\"\",E2434,IF(D2435=\"\",E2434,D2435/MAX($D$8:D2435)-1)))","v":""}]
[null,null,null,null,{"$f":"IF(A2436=\"\",\"\",IF(B2436=\"\",E2435,IF(D2436=\"\",E2435,D2436/MAX($D$8:D2436)-1)))","v":""}]
[null,null,null,null,{"$f":"IF(A2437=\"\",\"\",IF(B2437=\"\",E2436,IF(D2437=\"\",E2436,D2437/MAX($D$8:D2437)-1)))","v":""}]
[null,null,null,null,{"$f":"IF(A2438=\"\",\"\",IF(B2438=\"\",E2437,IF(D2438=\"\",E2437,D2438/MAX($D$8:D2438)-1)))","v":""}]
[null,null,null,null,{"$f":"IF(A2439=\"\",\"\",IF(B2439=\"\",E2438,IF(D2439=\"\",E2438,D2439/MAX($D$8:D2439)-1)))","v":""}]
[null,null,null,null,{"$f":"IF(A2440=\"\",\"\",IF(B2440=\"\",E2439,IF(D2440=\"\",E2439,D2440/MAX($D$8:D2440)-1)))","v":""}]
[null,null,null,null,{"$f":"IF(A2441=\"\",\"\",IF(B2441=\"\",E2440,IF(D2441=\"\",E2440,D2441/MAX($D$8:D2441)-1)))","v":""}]
[null,null,null,null,{"$f":"IF(A2442=\"\",\"\",IF(B2442=\"\",E2441,IF(D2442=\"\",E2441,D2442/MAX($D$8:D2442)-1)))","v":""}]
[null,null,null,null,{"$f":"IF(A2443=\"\",\"\",IF(B2443=\"\",E2442,IF(D2443=\"\",E2442,D2443/MAX($D$8:D2443)-1)))","v":""}]
[null,null,null,null,{"$f":"IF(A2444=\"\",\"\",IF(B2444=\"\",E2443,IF(D2444=\"\",E2443,D2444/MAX($D$8:D2444)-1)))","v":""}]
[null,null,null,null,{"$f":"IF(A2445=\"\",\"\",IF(B2445=\"\",E2444,IF(D2445=\"\",E2444,D2445/MAX($D$8:D2445)-1)))","v":""}]
[null,null,null,null,{"$f":"IF(A2446=\"\",\"\",IF(B2446=\"\",E2445,IF(D2446=\"\",E2445,D2446/MAX($D$8:D2446)-1)))","v":""}]
[null,null,null,null,{"$f":"IF(A2447=\"\",\"\",IF(B2447=\"\",E2446,IF(D2447=\"\",E2446,D2447/MAX($D$8:D2447)-1)))","v":""}]
[null,null,null,null,{"$f":"IF(A2448=\"\",\"\",IF(B2448=\"\",E2447,IF(D2448=\"\",E2447,D2448/MAX($D$8:D2448)-1)))","v":""}]
[null,null,null,null,{"$f":"IF(A2449=\"\",\"\",IF(B2449=\"\",E2448,IF(D2449=\"\",E2448,D2449/MAX($D$8:D2449)-1)))","v":""}]
[null,null,null,null,{"$f":"IF(A2450=\"\",\"\",IF(B2450=\"\",E2449,IF(D2450=\"\",E2449,D2450/MAX($D$8:D2450)-1)))","v":""}]
[null,null,null,null,{"$f":"IF(A2451=\"\",\"\",IF(B2451=\"\",E2450,IF(D2451=\"\",E2450,D2451/MAX($D$8:D2451)-1)))","v":""}]
[null,null,null,null,{"$f":"IF(A2452=\"\",\"\",IF(B2452=\"\",E2451,IF(D2452=\"\",E2451,D2452/MAX($D$8:D2452)-1)))","v":""}]
[null,null,null,null,{"$f":"IF(A2453=\"\",\"\",IF(B2453=\"\",E2452,IF(D2453=\"\",E2452,D2453/MAX($D$8:D2453)-1)))","v":""}]
[null,null,null,null,{"$f":"IF(A2454=\"\",\"\",IF(B2454=\"\",E2453,IF(D2454=\"\",E2453,D2454/MAX($D$8:D2454)-1)))","v":""}]
[null,null,null,null,{"$f":"IF(A2455=\"\",\"\",IF(B2455=\"\",E2454,IF(D2455=\"\",E2454,D2455/MAX($D$8:D2455)-1)))","v":""}]
[null,null,null,null,{"$f":"IF(A2456=\"\",\"\",IF(B2456=\"\",E2455,IF(D2456=\"\",E2455,D2456/MAX($D$8:D2456)-1)))","v":""}]
[null,null,null,null,{"$f":"IF(A2457=\"\",\"\",IF(B2457=\"\",E2456,IF(D2457=\"\",E2456,D2457/MAX($D$8:D2457)-1)))","v":""}]
[null,null,null,null,{"$f":"IF(A2458=\"\",\"\",IF(B2458=\"\",E2457,IF(D2458=\"\",E2457,D2458/MAX($D$8:D2458)-1)))","v":""}]
[null,null,null,null,{"$f":"IF(A2459=\"\",\"\",IF(B2459=\"\",E2458,IF(D2459=\"\",E2458,D2459/MAX($D$8:D2459)-1)))","v":""}]
[null,null,null,null,{"$f":"IF(A2460=\"\",\"\",IF(B2460=\"\",E2459,IF(D2460=\"\",E2459,D2460/MAX($D$8:D2460)-1)))","v":""}]
[null,null,null,null,{"$f":"IF(A2461=\"\",\"\",IF(B2461=\"\",E2460,IF(D2461=\"\",E2460,D2461/MAX($D$8:D2461)-1)))","v":""}]
[null,null,null,null,{"$f":"IF(A2462=\"\",\"\",IF(B2462=\"\",E2461,IF(D2462=\"\",E2461,D2462/MAX($D$8:D2462)-1)))","v":""}]
[null,null,null,null,{"$f":"IF(A2463=\"\",\"\",IF(B2463=\"\",E2462,IF(D2463=\"\",E2462,D2463/MAX($D$8:D2463)-1)))","v":""}]
[null,null,null,null,{"$f":"IF(A2464=\"\",\"\",IF(B2464=\"\",E2463,IF(D2464=\"\",E2463,D2464/MAX($D$8:D2464)-1)))","v":""}]
[null,null,null,null,{"$f":"IF(A2465=\"\",\"\",IF(B2465=\"\",E2464,IF(D2465=\"\",E2464,D2465/MAX($D$8:D2465)-1)))","v":""}]
[null,null,null,null,{"$f":"IF(A2466=\"\",\"\",IF(B2466=\"\",E2465,IF(D2466=\"\",E2465,D2466/MAX($D$8:D2466)-1)))","v":""}]
[null,null,null,null,{"$f":"IF(A2467=\"\",\"\",IF(B2467=\"\",E2466,IF(D2467=\"\",E2466,D2467/MAX($D$8:D2467)-1)))","v":""}]
[null,null,null,null,{"$f":"IF(A2468=\"\",\"\",IF(B2468=\"\",E2467,IF(D2468=\"\",E2467,D2468/MAX($D$8:D2468)-1)))","v":""}]
[null,null,null,null,{"$f":"IF(A2469=\"\",\"\",IF(B2469=\"\",E2468,IF(D2469=\"\",E2468,D2469/MAX($D$8:D2469)-1)))","v":""}]
[null,null,null,null,{"$f":"IF(A2470=\"\",\"\",IF(B2470=\"\",E2469,IF(D2470=\"\",E2469,D2470/MAX($D$8:D2470)-1)))","v":""}]
[null,null,null,null,{"$f":"IF(A2471=\"\",\"\",IF(B2471=\"\",E2470,IF(D2471=\"\",E2470,D2471/MAX($D$8:D2471)-1)))","v":""}]
[null,null,null,null,{"$f":"IF(A2472=\"\",\"\",IF(B2472=\"\",E2471,IF(D2472=\"\",E2471,D2472/MAX($D$8:D2472)-1)))","v":""}]
[null,null,null,null,{"$f":"IF(A2473=\"\",\"\",IF(B2473=\"\",E2472,IF(D2473=\"\",E2472,D2473/MAX($D$8:D2473)-1)))","v":""}]
[null,null,null,null,{"$f":"IF(A2474=\"\",\"\",IF(B2474=\"\",E2473,IF(D2474=\"\",E2473,D2474/MAX($D$8:D2474)-1)))","v":""}]
[null,null,null,null,{"$f":"IF(A2475=\"\",\"\",IF(B2475=\"\",E2474,IF(D2475=\"\",E2474,D2475/MAX($D$8:D2475)-1)))","v":""}]
[null,null,null,null,{"$f":"IF(A2476=\"\",\"\",IF(B2476=\"\",E2475,IF(D2476=\"\",E2475,D2476/MAX($D$8:D2476)-1)))","v":""}]
[null,null,null,null,{"$f":"IF(A2477=\"\",\"\",IF(B2477=\"\",E2476,IF(D2477=\"\",E2476,D2477/MAX($D$8:D2477)-1)))","v":""}]
[null,null,null,null,{"$f":"IF(A2478=\"\",\"\",IF(B2478=\"\",E2477,IF(D2478=\"\",E2477,D2478/MAX($D$8:D2478)-1)))","v":""}]
[null,null,null,null,{"$f":"IF(A2479=\"\",\"\",IF(B2479=\"\",E2478,IF(D2479=\"\",E2478,D2479/MAX($D$8:D2479)-1)))","v":""}]
[null,null,null,null,{"$f":"IF(A2480=\"\",\"\",IF(B2480=\"\",E2479,IF(D2480=\"\",E2479,D2480/MAX($D$8:D2480)-1)))","v":""}]
[null,null,null,null,{"$f":"IF(A2481=\"\",\"\",IF(B2481=\"\",E2480,IF(D2481=\"\",E2480,D2481/MAX($D$8:D2481)-1)))","v":""}]
[null,null,null,null,{"$f":"IF(A2482=\"\",\"\",IF(B2482=\"\",E2481,IF(D2482=\"\",E2481,D2482/MAX($D$8:D2482)-1)))","v":""}]
[null,null,null,null,{"$f":"IF(A2483=\"\",\"\",IF(B2483=\"\",E2482,IF(D2483=\"\",E2482,D2483/MAX($D$8:D2483)-1)))","v":""}]
[null,null,null,null,{"$f":"IF(A2484=\"\",\"\",IF(B2484=\"\",E2483,IF(D2484=\"\",E2483,D2484/MAX($D$8:D2484)-1)))","v":""}]
[null,null,null,null,{"$f":"IF(A2485=\"\",\"\",IF(B2485=\"\",E2484,IF(D2485=\"\",E2484,D2485/MAX($D$8:D2485)-1)))","v":""}]
[null,null,null,null,{"$f":"IF(A2486=\"\",\"\",IF(B2486=\"\",E2485,IF(D2486=\"\",E2485,D2486/MAX($D$8:D2486)-1)))","v":""}]
[null,null,null,null,{"$f":"IF(A2487=\"\",\"\",IF(B2487=\"\",E2486,IF(D2487=\"\",E2486,D2487/MAX($D$8:D2487)-1)))","v":""}]
[null,null,null,null,{"$f":"IF(A2488=\"\",\"\",IF(B2488=\"\",E2487,IF(D2488=\"\",E2487,D2488/MAX($D$8:D2488)-1)))","v":""}]
[null,null,null,null,{"$f":"IF(A2489=\"\",\"\",IF(B2489=\"\",E2488,IF(D2489=\"\",E2488,D2489/MAX($D$8:D2489)-1)))","v":""}]
[null,null,null,null,{"$f":"IF(A2490=\"\",\"\",IF(B2490=\"\",E2489,IF(D2490=\"\",E2489,D2490/MAX($D$8:D2490)-1)))","v":""}]
[null,null,null,null,{"$f":"IF(A2491=\"\",\"\",IF(B2491=\"\",E2490,IF(D2491=\"\",E2490,D2491/MAX($D$8:D2491)-1)))","v":""}]
[null,null,null,null,{"$f":"IF(A2492=\"\",\"\",IF(B2492=\"\",E2491,IF(D2492=\"\",E2491,D2492/MAX($D$8:D2492)-1)))","v":""}]
[null,null,null,null,{"$f":"IF(A2493=\"\",\"\",IF(B2493=\"\",E2492,IF(D2493=\"\",E2492,D2493/MAX($D$8:D2493)-1)))","v":""}]
[null,null,null,null,{"$f":"IF(A2494=\"\",\"\",IF(B2494=\"\",E2493,IF(D2494=\"\",E2493,D2494/MAX($D$8:D2494)-1)))","v":""}]
[null,null,null,null,{"$f":"IF(A2495=\"\",\"\",IF(B2495=\"\",E2494,IF(D2495=\"\",E2494,D2495/MAX($D$8:D2495)-1)))","v":""}]
[null,null,null,null,{"$f":"IF(A2496=\"\",\"\",IF(B2496=\"\",E2495,IF(D2496=\"\",E2495,D2496/MAX($D$8:D2496)-1)))","v":""}]
[null,null,null,null,{"$f":"IF(A2497=\"\",\"\",IF(B2497=\"\",E2496,IF(D2497=\"\",E2496,D2497/MAX($D$8:D2497)-1)))","v":""}]
[null,null,null,null,{"$f":"IF(A2498=\"\",\"\",IF(B2498=\"\",E2497,IF(D2498=\"\",E2497,D2498/MAX($D$8:D2498)-1)))","v":""}]
[null,null,null,null,{"$f":"IF(A2499=\"\",\"\",IF(B2499=\"\",E2498,IF(D2499=\"\",E2498,D2499/MAX($D$8:D2499)-1)))","v":""}]
[null,null,null,null,{"$f":"IF(A2500=\"\",\"\",IF(B2500=\"\",E2499,IF(D2500=\"\",E2499,D2500/MAX($D$8:D2500)-1)))","v":""}]
[null,null,null,null,{"$f":"IF(A2501=\"\",\"\",IF(B2501=\"\",E2500,IF(D2501=\"\",E2500,D2501/MAX($D$8:D2501)-1)))","v":""}]
[null,null,null,null,{"$f":"IF(A2502=\"\",\"\",IF(B2502=\"\",E2501,IF(D2502=\"\",E2501,D2502/MAX($D$8:D2502)-1)))","v":""}]
[null,null,null,null,{"$f":"IF(A2503=\"\",\"\",IF(B2503=\"\",E2502,IF(D2503=\"\",E2502,D2503/MAX($D$8:D2503)-1)))","v":""}]
[null,null,null,null,{"$f":"IF(A2504=\"\",\"\",IF(B2504=\"\",E2503,IF(D2504=\"\",E2503,D2504/MAX($D$8:D2504)-1)))","v":""}]
[null,null,null,null,{"$f":"IF(A2505=\"\",\"\",IF(B2505=\"\",E2504,IF(D2505=\"\",E2504,D2505/MAX($D$8:D2505)-1)))","v":""}]
[null,null,null,null,{"$f":"IF(A2506=\"\",\"\",IF(B2506=\"\",E2505,IF(D2506=\"\",E2505,D2506/MAX($D$8:D2506)-1)))","v":""}]
[null,null,null,null,{"$f":"IF(A2507=\"\",\"\",IF(B2507=\"\",E2506,IF(D2507=\"\",E2506,D2507/MAX($D$8:D2507)-1)))","v":""}]
[null,null,null,null,{"$f":"IF(A2508=\"\",\"\",IF(B2508=\"\",E2507,IF(D2508=\"\",E2507,D2508/MAX($D$8:D2508)-1)))","v":""}]
[null,null,null,null,{"$f":"IF(A2509=\"\",\"\",IF(B2509=\"\",E2508,IF(D2509=\"\",E2508,D2509/MAX($D$8:D2509)-1)))","v":""}]
[null,null,null,null,{"$f":"IF(A2510=\"\",\"\",IF(B2510=\"\",E2509,IF(D2510=\"\",E2509,D2510/MAX($D$8:D2510)-1)))","v":""}]
[null,null,null,null,{"$f":"IF(A2511=\"\",\"\",IF(B2511=\"\",E2510,IF(D2511=\"\",E2510,D2511/MAX($D$8:D2511)-1)))","v":""}]
[null,null,null,null,{"$f":"IF(A2512=\"\",\"\",IF(B2512=\"\",E2511,IF(D2512=\"\",E2511,D2512/MAX($D$8:D2512)-1)))","v":""}]
[null,null,null,null,{"$f":"IF(A2513=\"\",\"\",IF(B2513=\"\",E2512,IF(D2513=\"\",E2512,D2513/MAX($D$8:D2513)-1)))","v":""}]
[null,null,null,null,{"$f":"IF(A2514=\"\",\"\",IF(B2514=\"\",E2513,IF(D2514=\"\",E2513,D2514/MAX($D$8:D2514)-1)))","v":""}]
[null,null,null,null,{"$f":"IF(A2515=\"\",\"\",IF(B2515=\"\",E2514,IF(D2515=\"\",E2514,D2515/MAX($D$8:D2515)-1)))","v":""}]
[null,null,null,null,{"$f":"IF(A2516=\"\",\"\",IF(B2516=\"\",E2515,IF(D2516=\"\",E2515,D2516/MAX($D$8:D2516)-1)))","v":""}]
[null,null,null,null,{"$f":"IF(A2517=\"\",\"\",IF(B2517=\"\",E2516,IF(D2517=\"\",E2516,D2517/MAX($D$8:D2517)-1)))","v":""}]
[null,null,null,null,{"$f":"IF(A2518=\"\",\"\",IF(B2518=\"\",E2517,IF(D2518=\"\",E2517,D2518/MAX($D$8:D2518)-1)))","v":""}]
[null,null,null,null,{"$f":"IF(A2519=\"\",\"\",IF(B2519=\"\",E2518,IF(D2519=\"\",E2518,D2519/MAX($D$8:D2519)-1)))","v":""}]
[null,null,null,null,{"$f":"IF(A2520=\"\",\"\",IF(B2520=\"\",E2519,IF(D2520=\"\",E2519,D2520/MAX($D$8:D2520)-1)))","v":""}]
[null,null,null,null,{"$f":"IF(A2521=\"\",\"\",IF(B2521=\"\",E2520,IF(D2521=\"\",E2520,D2521/MAX($D$8:D2521)-1)))","v":""}]
[null,null,null,null,{"$f":"IF(A2522=\"\",\"\",IF(B2522=\"\",E2521,IF(D2522=\"\",E2521,D2522/MAX($D$8:D2522)-1)))","v":""}]
[null,null,null,null,{"$f":"IF(A2523=\"\",\"\",IF(B2523=\"\",E2522,IF(D2523=\"\",E2522,D2523/MAX($D$8:D2523)-1)))","v":""}]
[null,null,null,null,{"$f":"IF(A2524=\"\",\"\",IF(B2524=\"\",E2523,IF(D2524=\"\",E2523,D2524/MAX($D$8:D2524)-1)))","v":""}]
[null,null,null,null,{"$f":"IF(A2525=\"\",\"\",IF(B2525=\"\",E2524,IF(D2525=\"\",E2524,D2525/MAX($D$8:D2525)-1)))","v":""}]
[null,null,null,null,{"$f":"IF(A2526=\"\",\"\",IF(B2526=\"\",E2525,IF(D2526=\"\",E2525,D2526/MAX($D$8:D2526)-1)))","v":""}]
[null,null,null,null,{"$f":"IF(A2527=\"\",\"\",IF(B2527=\"\",E2526,IF(D2527=\"\",E2526,D2527/MAX($D$8:D2527)-1)))","v":""}]
[null,null,null,null,{"$f":"IF(A2528=\"\",\"\",IF(B2528=\"\",E2527,IF(D2528=\"\",E2527,D2528/MAX($D$8:D2528)-1)))","v":""}]
[null,null,null,null,{"$f":"IF(A2529=\"\",\"\",IF(B2529=\"\",E2528,IF(D2529=\"\",E2528,D2529/MAX($D$8:D2529)-1)))","v":""}]
[null,null,null,null,{"$f":"IF(A2530=\"\",\"\",IF(B2530=\"\",E2529,IF(D2530=\"\",E2529,D2530/MAX($D$8:D2530)-1)))","v":""}]
[null,null,null,null,{"$f":"IF(A2531=\"\",\"\",IF(B2531=\"\",E2530,IF(D2531=\"\",E2530,D2531/MAX($D$8:D2531)-1)))","v":""}]
[null,null,null,null,{"$f":"IF(A2532=\"\",\"\",IF(B2532=\"\",E2531,IF(D2532=\"\",E2531,D2532/MAX($D$8:D2532)-1)))","v":""}]
[null,null,null,null,{"$f":"IF(A2533=\"\",\"\",IF(B2533=\"\",E2532,IF(D2533=\"\",E2532,D2533/MAX($D$8:D2533)-1)))","v":""}]
[null,null,null,null,{"$f":"IF(A2534=\"\",\"\",IF(B2534=\"\",E2533,IF(D2534=\"\",E2533,D2534/MAX($D$8:D2534)-1)))","v":""}]
[null,null,null,null,{"$f":"IF(A2535=\"\",\"\",IF(B2535=\"\",E2534,IF(D2535=\"\",E2534,D2535/MAX($D$8:D2535)-1)))","v":""}]
[null,null,null,null,{"$f":"IF(A2536=\"\",\"\",IF(B2536=\"\",E2535,IF(D2536=\"\",E2535,D2536/MAX($D$8:D2536)-1)))","v":""}]
[null,null,null,null,{"$f":"IF(A2537=\"\",\"\",IF(B2537=\"\",E2536,IF(D2537=\"\",E2536,D2537/MAX($D$8:D2537)-1)))","v":""}]
[null,null,null,null,{"$f":"IF(A2538=\"\",\"\",IF(B2538=\"\",E2537,IF(D2538=\"\",E2537,D2538/MAX($D$8:D2538)-1)))","v":""}]
[null,null,null,null,{"$f":"IF(A2539=\"\",\"\",IF(B2539=\"\",E2538,IF(D2539=\"\",E2538,D2539/MAX($D$8:D2539)-1)))","v":""}]
[null,null,null,null,{"$f":"IF(A2540=\"\",\"\",IF(B2540=\"\",E2539,IF(D2540=\"\",E2539,D2540/MAX($D$8:D2540)-1)))","v":""}]
[null,null,null,null,{"$f":"IF(A2541=\"\",\"\",IF(B2541=\"\",E2540,IF(D2541=\"\",E2540,D2541/MAX($D$8:D2541)-1)))","v":""}]
[null,null,null,null,{"$f":"IF(A2542=\"\",\"\",IF(B2542=\"\",E2541,IF(D2542=\"\",E2541,D2542/MAX($D$8:D2542)-1)))","v":""}]
[null,null,null,null,{"$f":"IF(A2543=\"\",\"\",IF(B2543=\"\",E2542,IF(D2543=\"\",E2542,D2543/MAX($D$8:D2543)-1)))","v":""}]
[null,null,null,null,{"$f":"IF(A2544=\"\",\"\",IF(B2544=\"\",E2543,IF(D2544=\"\",E2543,D2544/MAX($D$8:D2544)-1)))","v":""}]
[null,null,null,null,{"$f":"IF(A2545=\"\",\"\",IF(B2545=\"\",E2544,IF(D2545=\"\",E2544,D2545/MAX($D$8:D2545)-1)))","v":""}]
[null,null,null,null,{"$f":"IF(A2546=\"\",\"\",IF(B2546=\"\",E2545,IF(D2546=\"\",E2545,D2546/MAX($D$8:D2546)-1)))","v":""}]
[null,null,null,null,{"$f":"IF(A2547=\"\",\"\",IF(B2547=\"\",E2546,IF(D2547=\"\",E2546,D2547/MAX($D$8:D2547)-1)))","v":""}]
[null,null,null,null,{"$f":"IF(A2548=\"\",\"\",IF(B2548=\"\",E2547,IF(D2548=\"\",E2547,D2548/MAX($D$8:D2548)-1)))","v":""}]
[null,null,null,null,{"$f":"IF(A2549=\"\",\"\",IF(B2549=\"\",E2548,IF(D2549=\"\",E2548,D2549/MAX($D$8:D2549)-1)))","v":""}]
[null,null,null,null,{"$f":"IF(A2550=\"\",\"\",IF(B2550=\"\",E2549,IF(D2550=\"\",E2549,D2550/MAX($D$8:D2550)-1)))","v":""}]
[null,null,null,null,{"$f":"IF(A2551=\"\",\"\",IF(B2551=\"\",E2550,IF(D2551=\"\",E2550,D2551/MAX($D$8:D2551)-1)))","v":""}]
[null,null,null,null,{"$f":"IF(A2552=\"\",\"\",IF(B2552=\"\",E2551,IF(D2552=\"\",E2551,D2552/MAX($D$8:D2552)-1)))","v":""}]
[null,null,null,null,{"$f":"IF(A2553=\"\",\"\",IF(B2553=\"\",E2552,IF(D2553=\"\",E2552,D2553/MAX($D$8:D2553)-1)))","v":""}]
[null,null,null,null,{"$f":"IF(A2554=\"\",\"\",IF(B2554=\"\",E2553,IF(D2554=\"\",E2553,D2554/MAX($D$8:D2554)-1)))","v":""}]
[null,null,null,null,{"$f":"IF(A2555=\"\",\"\",IF(B2555=\"\",E2554,IF(D2555=\"\",E2554,D2555/MAX($D$8:D2555)-1)))","v":""}]
[null,null,null,null,{"$f":"IF(A2556=\"\",\"\",IF(B2556=\"\",E2555,IF(D2556=\"\",E2555,D2556/MAX($D$8:D2556)-1)))","v":""}]
[null,null,null,null,{"$f":"IF(A2557=\"\",\"\",IF(B2557=\"\",E2556,IF(D2557=\"\",E2556,D2557/MAX($D$8:D2557)-1)))","v":""}]
[null,null,null,null,{"$f":"IF(A2558=\"\",\"\",IF(B2558=\"\",E2557,IF(D2558=\"\",E2557,D2558/MAX($D$8:D2558)-1)))","v":""}]
[null,null,null,null,{"$f":"IF(A2559=\"\",\"\",IF(B2559=\"\",E2558,IF(D2559=\"\",E2558,D2559/MAX($D$8:D2559)-1)))","v":""}]
[null,null,null,null,{"$f":"IF(A2560=\"\",\"\",IF(B2560=\"\",E2559,IF(D2560=\"\",E2559,D2560/MAX($D$8:D2560)-1)))","v":""}]
[null,null,null,null,{"$f":"IF(A2561=\"\",\"\",IF(B2561=\"\",E2560,IF(D2561=\"\",E2560,D2561/MAX($D$8:D2561)-1)))","v":""}]
[null,null,null,null,{"$f":"IF(A2562=\"\",\"\",IF(B2562=\"\",E2561,IF(D2562=\"\",E2561,D2562/MAX($D$8:D2562)-1)))","v":""}]
[null,null,null,null,{"$f":"IF(A2563=\"\",\"\",IF(B2563=\"\",E2562,IF(D2563=\"\",E2562,D2563/MAX($D$8:D2563)-1)))","v":""}]
[null,null,null,null,{"$f":"IF(A2564=\"\",\"\",IF(B2564=\"\",E2563,IF(D2564=\"\",E2563,D2564/MAX($D$8:D2564)-1)))","v":""}]
[null,null,null,null,{"$f":"IF(A2565=\"\",\"\",IF(B2565=\"\",E2564,IF(D2565=\"\",E2564,D2565/MAX($D$8:D2565)-1)))","v":""}]
[null,null,null,null,{"$f":"IF(A2566=\"\",\"\",IF(B2566=\"\",E2565,IF(D2566=\"\",E2565,D2566/MAX($D$8:D2566)-1)))","v":""}]
[null,null,null,null,{"$f":"IF(A2567=\"\",\"\",IF(B2567=\"\",E2566,IF(D2567=\"\",E2566,D2567/MAX($D$8:D2567)-1)))","v":""}]
[null,null,null,null,{"$f":"IF(A2568=\"\",\"\",IF(B2568=\"\",E2567,IF(D2568=\"\",E2567,D2568/MAX($D$8:D2568)-1)))","v":""}]
[null,null,null,null,{"$f":"IF(A2569=\"\",\"\",IF(B2569=\"\",E2568,IF(D2569=\"\",E2568,D2569/MAX($D$8:D2569)-1)))","v":""}]
[null,null,null,null,{"$f":"IF(A2570=\"\",\"\",IF(B2570=\"\",E2569,IF(D2570=\"\",E2569,D2570/MAX($D$8:D2570)-1)))","v":""}]
[null,null,null,null,{"$f":"IF(A2571=\"\",\"\",IF(B2571=\"\",E2570,IF(D2571=\"\",E2570,D2571/MAX($D$8:D2571)-1)))","v":""}]
[null,null,null,null,{"$f":"IF(A2572=\"\",\"\",IF(B2572=\"\",E2571,IF(D2572=\"\",E2571,D2572/MAX($D$8:D2572)-1)))","v":""}]
[null,null,null,null,{"$f":"IF(A2573=\"\",\"\",IF(B2573=\"\",E2572,IF(D2573=\"\",E2572,D2573/MAX($D$8:D2573)-1)))","v":""}]
[null,null,null,null,{"$f":"IF(A2574=\"\",\"\",IF(B2574=\"\",E2573,IF(D2574=\"\",E2573,D2574/MAX($D$8:D2574)-1)))","v":""}]
[null,null,null,null,{"$f":"IF(A2575=\"\",\"\",IF(B2575=\"\",E2574,IF(D2575=\"\",E2574,D2575/MAX($D$8:D2575)-1)))","v":""}]
[null,null,null,null,{"$f":"IF(A2576=\"\",\"\",IF(B2576=\"\",E2575,IF(D2576=\"\",E2575,D2576/MAX($D$8:D2576)-1)))","v":""}]
[null,null,null,null,{"$f":"IF(A2577=\"\",\"\",IF(B2577=\"\",E2576,IF(D2577=\"\",E2576,D2577/MAX($D$8:D2577)-1)))","v":""}]
[null,null,null,null,{"$f":"IF(A2578=\"\",\"\",IF(B2578=\"\",E2577,IF(D2578=\"\",E2577,D2578/MAX($D$8:D2578)-1)))","v":""}]
[null,null,null,null,{"$f":"IF(A2579=\"\",\"\",IF(B2579=\"\",E2578,IF(D2579=\"\",E2578,D2579/MAX($D$8:D2579)-1)))","v":""}]
[null,null,null,null,{"$f":"IF(A2580=\"\",\"\",IF(B2580=\"\",E2579,IF(D2580=\"\",E2579,D2580/MAX($D$8:D2580)-1)))","v":""}]
[null,null,null,null,{"$f":"IF(A2581=\"\",\"\",IF(B2581=\"\",E2580,IF(D2581=\"\",E2580,D2581/MAX($D$8:D2581)-1)))","v":""}]
[null,null,null,null,{"$f":"IF(A2582=\"\",\"\",IF(B2582=\"\",E2581,IF(D2582=\"\",E2581,D2582/MAX($D$8:D2582)-1)))","v":""}]
[null,null,null,null,{"$f":"IF(A2583=\"\",\"\",IF(B2583=\"\",E2582,IF(D2583=\"\",E2582,D2583/MAX($D$8:D2583)-1)))","v":""}]
[null,null,null,null,{"$f":"IF(A2584=\"\",\"\",IF(B2584=\"\",E2583,IF(D2584=\"\",E2583,D2584/MAX($D$8:D2584)-1)))","v":""}]
[null,null,null,null,{"$f":"IF(A2585=\"\",\"\",IF(B2585=\"\",E2584,IF(D2585=\"\",E2584,D2585/MAX($D$8:D2585)-1)))","v":""}]
[null,null,null,null,{"$f":"IF(A2586=\"\",\"\",IF(B2586=\"\",E2585,IF(D2586=\"\",E2585,D2586/MAX($D$8:D2586)-1)))","v":""}]
[null,null,null,null,{"$f":"IF(A2587=\"\",\"\",IF(B2587=\"\",E2586,IF(D2587=\"\",E2586,D2587/MAX($D$8:D2587)-1)))","v":""}]
[null,null,null,null,{"$f":"IF(A2588=\"\",\"\",IF(B2588=\"\",E2587,IF(D2588=\"\",E2587,D2588/MAX($D$8:D2588)-1)))","v":""}]
[null,null,null,null,{"$f":"IF(A2589=\"\",\"\",IF(B2589=\"\",E2588,IF(D2589=\"\",E2588,D2589/MAX($D$8:D2589)-1)))","v":""}]
[null,null,null,null,{"$f":"IF(A2590=\"\",\"\",IF(B2590=\"\",E2589,IF(D2590=\"\",E2589,D2590/MAX($D$8:D2590)-1)))","v":""}]
[null,null,null,null,{"$f":"IF(A2591=\"\",\"\",IF(B2591=\"\",E2590,IF(D2591=\"\",E2590,D2591/MAX($D$8:D2591)-1)))","v":""}]
[null,null,null,null,{"$f":"IF(A2592=\"\",\"\",IF(B2592=\"\",E2591,IF(D2592=\"\",E2591,D2592/MAX($D$8:D2592)-1)))","v":""}]
[null,null,null,null,{"$f":"IF(A2593=\"\",\"\",IF(B2593=\"\",E2592,IF(D2593=\"\",E2592,D2593/MAX($D$8:D2593)-1)))","v":""}]
[null,null,null,null,{"$f":"IF(A2594=\"\",\"\",IF(B2594=\"\",E2593,IF(D2594=\"\",E2593,D2594/MAX($D$8:D2594)-1)))","v":""}]
[null,null,null,null,{"$f":"IF(A2595=\"\",\"\",IF(B2595=\"\",E2594,IF(D2595=\"\",E2594,D2595/MAX($D$8:D2595)-1)))","v":""}]
[null,null,null,null,{"$f":"IF(A2596=\"\",\"\",IF(B2596=\"\",E2595,IF(D2596=\"\",E2595,D2596/MAX($D$8:D2596)-1)))","v":""}]
[null,null,null,null,{"$f":"IF(A2597=\"\",\"\",IF(B2597=\"\",E2596,IF(D2597=\"\",E2596,D2597/MAX($D$8:D2597)-1)))","v":""}]
[null,null,null,null,{"$f":"IF(A2598=\"\",\"\",IF(B2598=\"\",E2597,IF(D2598=\"\",E2597,D2598/MAX($D$8:D2598)-1)))","v":""}]
[null,null,null,null,{"$f":"IF(A2599=\"\",\"\",IF(B2599=\"\",E2598,IF(D2599=\"\",E2598,D2599/MAX($D$8:D2599)-1)))","v":""}]
[null,null,null,null,{"$f":"IF(A2600=\"\",\"\",IF(B2600=\"\",E2599,IF(D2600=\"\",E2599,D2600/MAX($D$8:D2600)-1)))","v":""}]
[null,null,null,null,{"$f":"IF(A2601=\"\",\"\",IF(B2601=\"\",E2600,IF(D2601=\"\",E2600,D2601/MAX($D$8:D2601)-1)))","v":""}]
[null,null,null,null,{"$f":"IF(A2602=\"\",\"\",IF(B2602=\"\",E2601,IF(D2602=\"\",E2601,D2602/MAX($D$8:D2602)-1)))","v":""}]
[null,null,null,null,{"$f":"IF(A2603=\"\",\"\",IF(B2603=\"\",E2602,IF(D2603=\"\",E2602,D2603/MAX($D$8:D2603)-1)))","v":""}]
[null,null,null,null,{"$f":"IF(A2604=\"\",\"\",IF(B2604=\"\",E2603,IF(D2604=\"\",E2603,D2604/MAX($D$8:D2604)-1)))","v":""}]
[null,null,null,null,{"$f":"IF(A2605=\"\",\"\",IF(B2605=\"\",E2604,IF(D2605=\"\",E2604,D2605/MAX($D$8:D2605)-1)))","v":""}]
[null,null,null,null,{"$f":"IF(A2606=\"\",\"\",IF(B2606=\"\",E2605,IF(D2606=\"\",E2605,D2606/MAX($D$8:D2606)-1)))","v":""}]
[null,null,null,null,{"$f":"IF(A2607=\"\",\"\",IF(B2607=\"\",E2606,IF(D2607=\"\",E2606,D2607/MAX($D$8:D2607)-1)))","v":""}]
[null,null,null,null,{"$f":"IF(A2608=\"\",\"\",IF(B2608=\"\",E2607,IF(D2608=\"\",E2607,D2608/MAX($D$8:D2608)-1)))","v":""}]
[null,null,null,null,{"$f":"IF(A2609=\"\",\"\",IF(B2609=\"\",E2608,IF(D2609=\"\",E2608,D2609/MAX($D$8:D2609)-1)))","v":""}]
[null,null,null,null,{"$f":"IF(A2610=\"\",\"\",IF(B2610=\"\",E2609,IF(D2610=\"\",E2609,D2610/MAX($D$8:D2610)-1)))","v":""}]
[null,null,null,null,{"$f":"IF(A2611=\"\",\"\",IF(B2611=\"\",E2610,IF(D2611=\"\",E2610,D2611/MAX($D$8:D2611)-1)))","v":""}]
[null,null,null,null,{"$f":"IF(A2612=\"\",\"\",IF(B2612=\"\",E2611,IF(D2612=\"\",E2611,D2612/MAX($D$8:D2612)-1)))","v":""}]
[null,null,null,null,{"$f":"IF(A2613=\"\",\"\",IF(B2613=\"\",E2612,IF(D2613=\"\",E2612,D2613/MAX($D$8:D2613)-1)))","v":""}]
[null,null,null,null,{"$f":"IF(A2614=\"\",\"\",IF(B2614=\"\",E2613,IF(D2614=\"\",E2613,D2614/MAX($D$8:D2614)-1)))","v":""}]
[null,null,null,null,{"$f":"IF(A2615=\"\",\"\",IF(B2615=\"\",E2614,IF(D2615=\"\",E2614,D2615/MAX($D$8:D2615)-1)))","v":""}]
[null,null,null,null,{"$f":"IF(A2616=\"\",\"\",IF(B2616=\"\",E2615,IF(D2616=\"\",E2615,D2616/MAX($D$8:D2616)-1)))","v":""}]
[null,null,null,null,{"$f":"IF(A2617=\"\",\"\",IF(B2617=\"\",E2616,IF(D2617=\"\",E2616,D2617/MAX($D$8:D2617)-1)))","v":""}]
[null,null,null,null,{"$f":"IF(A2618=\"\",\"\",IF(B2618=\"\",E2617,IF(D2618=\"\",E2617,D2618/MAX($D$8:D2618)-1)))","v":""}]
[null,null,null,null,{"$f":"IF(A2619=\"\",\"\",IF(B2619=\"\",E2618,IF(D2619=\"\",E2618,D2619/MAX($D$8:D2619)-1)))","v":""}]
[null,null,null,null,{"$f":"IF(A2620=\"\",\"\",IF(B2620=\"\",E2619,IF(D2620=\"\",E2619,D2620/MAX($D$8:D2620)-1)))","v":""}]
[null,null,null,null,{"$f":"IF(A2621=\"\",\"\",IF(B2621=\"\",E2620,IF(D2621=\"\",E2620,D2621/MAX($D$8:D2621)-1)))","v":""}]
[null,null,null,null,{"$f":"IF(A2622=\"\",\"\",IF(B2622=\"\",E2621,IF(D2622=\"\",E2621,D2622/MAX($D$8:D2622)-1)))","v":""}]
[null,null,null,null,{"$f":"IF(A2623=\"\",\"\",IF(B2623=\"\",E2622,IF(D2623=\"\",E2622,D2623/MAX($D$8:D2623)-1)))","v":""}]
[null,null,null,null,{"$f":"IF(A2624=\"\",\"\",IF(B2624=\"\",E2623,IF(D2624=\"\",E2623,D2624/MAX($D$8:D2624)-1)))","v":""}]
[null,null,null,null,{"$f":"IF(A2625=\"\",\"\",IF(B2625=\"\",E2624,IF(D2625=\"\",E2624,D2625/MAX($D$8:D2625)-1)))","v":""}]
[null,null,null,null,{"$f":"IF(A2626=\"\",\"\",IF(B2626=\"\",E2625,IF(D2626=\"\",E2625,D2626/MAX($D$8:D2626)-1)))","v":""}]
[null,null,null,null,{"$f":"IF(A2627=\"\",\"\",IF(B2627=\"\",E2626,IF(D2627=\"\",E2626,D2627/MAX($D$8:D2627)-1)))","v":""}]
[null,null,null,null,{"$f":"IF(A2628=\"\",\"\",IF(B2628=\"\",E2627,IF(D2628=\"\",E2627,D2628/MAX($D$8:D2628)-1)))","v":""}]
[null,null,null,null,{"$f":"IF(A2629=\"\",\"\",IF(B2629=\"\",E2628,IF(D2629=\"\",E2628,D2629/MAX($D$8:D2629)-1)))","v":""}]
[null,null,null,null,{"$f":"IF(A2630=\"\",\"\",IF(B2630=\"\",E2629,IF(D2630=\"\",E2629,D2630/MAX($D$8:D2630)-1)))","v":""}]
[null,null,null,null,{"$f":"IF(A2631=\"\",\"\",IF(B2631=\"\",E2630,IF(D2631=\"\",E2630,D2631/MAX($D$8:D2631)-1)))","v":""}]
[null,null,null,null,{"$f":"IF(A2632=\"\",\"\",IF(B2632=\"\",E2631,IF(D2632=\"\",E2631,D2632/MAX($D$8:D2632)-1)))","v":""}]
[null,null,null,null,{"$f":"IF(A2633=\"\",\"\",IF(B2633=\"\",E2632,IF(D2633=\"\",E2632,D2633/MAX($D$8:D2633)-1)))","v":""}]
[null,null,null,null,{"$f":"IF(A2634=\"\",\"\",IF(B2634=\"\",E2633,IF(D2634=\"\",E2633,D2634/MAX($D$8:D2634)-1)))","v":""}]
[null,null,null,null,{"$f":"IF(A2635=\"\",\"\",IF(B2635=\"\",E2634,IF(D2635=\"\",E2634,D2635/MAX($D$8:D2635)-1)))","v":""}]
[null,null,null,null,{"$f":"IF(A2636=\"\",\"\",IF(B2636=\"\",E2635,IF(D2636=\"\",E2635,D2636/MAX($D$8:D2636)-1)))","v":""}]
[null,null,null,null,{"$f":"IF(A2637=\"\",\"\",IF(B2637=\"\",E2636,IF(D2637=\"\",E2636,D2637/MAX($D$8:D2637)-1)))","v":""}]
[null,null,null,null,{"$f":"IF(A2638=\"\",\"\",IF(B2638=\"\",E2637,IF(D2638=\"\",E2637,D2638/MAX($D$8:D2638)-1)))","v":""}]
[null,null,null,null,{"$f":"IF(A2639=\"\",\"\",IF(B2639=\"\",E2638,IF(D2639=\"\",E2638,D2639/MAX($D$8:D2639)-1)))","v":""}]
[null,null,null,null,{"$f":"IF(A2640=\"\",\"\",IF(B2640=\"\",E2639,IF(D2640=\"\",E2639,D2640/MAX($D$8:D2640)-1)))","v":""}]
[null,null,null,null,{"$f":"IF(A2641=\"\",\"\",IF(B2641=\"\",E2640,IF(D2641=\"\",E2640,D2641/MAX($D$8:D2641)-1)))","v":""}]
[null,null,null,null,{"$f":"IF(A2642=\"\",\"\",IF(B2642=\"\",E2641,IF(D2642=\"\",E2641,D2642/MAX($D$8:D2642)-1)))","v":""}]
[null,null,null,null,{"$f":"IF(A2643=\"\",\"\",IF(B2643=\"\",E2642,IF(D2643=\"\",E2642,D2643/MAX($D$8:D2643)-1)))","v":""}]
[null,null,null,null,{"$f":"IF(A2644=\"\",\"\",IF(B2644=\"\",E2643,IF(D2644=\"\",E2643,D2644/MAX($D$8:D2644)-1)))","v":""}]
[null,null,null,null,{"$f":"IF(A2645=\"\",\"\",IF(B2645=\"\",E2644,IF(D2645=\"\",E2644,D2645/MAX($D$8:D2645)-1)))","v":""}]
[null,null,null,null,{"$f":"IF(A2646=\"\",\"\",IF(B2646=\"\",E2645,IF(D2646=\"\",E2645,D2646/MAX($D$8:D2646)-1)))","v":""}]
[null,null,null,null,{"$f":"IF(A2647=\"\",\"\",IF(B2647=\"\",E2646,IF(D2647=\"\",E2646,D2647/MAX($D$8:D2647)-1)))","v":""}]
[null,null,null,null,{"$f":"IF(A2648=\"\",\"\",IF(B2648=\"\",E2647,IF(D2648=\"\",E2647,D2648/MAX($D$8:D2648)-1)))","v":""}]
[null,null,null,null,{"$f":"IF(A2649=\"\",\"\",IF(B2649=\"\",E2648,IF(D2649=\"\",E2648,D2649/MAX($D$8:D2649)-1)))","v":""}]
[null,null,null,null,{"$f":"IF(A2650=\"\",\"\",IF(B2650=\"\",E2649,IF(D2650=\"\",E2649,D2650/MAX($D$8:D2650)-1)))","v":""}]
[null,null,null,null,{"$f":"IF(A2651=\"\",\"\",IF(B2651=\"\",E2650,IF(D2651=\"\",E2650,D2651/MAX($D$8:D2651)-1)))","v":""}]
[null,null,null,null,{"$f":"IF(A2652=\"\",\"\",IF(B2652=\"\",E2651,IF(D2652=\"\",E2651,D2652/MAX($D$8:D2652)-1)))","v":""}]
[null,null,null,null,{"$f":"IF(A2653=\"\",\"\",IF(B2653=\"\",E2652,IF(D2653=\"\",E2652,D2653/MAX($D$8:D2653)-1)))","v":""}]
[null,null,null,null,{"$f":"IF(A2654=\"\",\"\",IF(B2654=\"\",E2653,IF(D2654=\"\",E2653,D2654/MAX($D$8:D2654)-1)))","v":""}]
[null,null,null,null,{"$f":"IF(A2655=\"\",\"\",IF(B2655=\"\",E2654,IF(D2655=\"\",E2654,D2655/MAX($D$8:D2655)-1)))","v":""}]
[null,null,null,null,{"$f":"IF(A2656=\"\",\"\",IF(B2656=\"\",E2655,IF(D2656=\"\",E2655,D2656/MAX($D$8:D2656)-1)))","v":""}]
[null,null,null,null,{"$f":"IF(A2657=\"\",\"\",IF(B2657=\"\",E2656,IF(D2657=\"\",E2656,D2657/MAX($D$8:D2657)-1)))","v":""}]
[null,null,null,null,{"$f":"IF(A2658=\"\",\"\",IF(B2658=\"\",E2657,IF(D2658=\"\",E2657,D2658/MAX($D$8:D2658)-1)))","v":""}]
[null,null,null,null,{"$f":"IF(A2659=\"\",\"\",IF(B2659=\"\",E2658,IF(D2659=\"\",E2658,D2659/MAX($D$8:D2659)-1)))","v":""}]
[null,null,null,null,{"$f":"IF(A2660=\"\",\"\",IF(B2660=\"\",E2659,IF(D2660=\"\",E2659,D2660/MAX($D$8:D2660)-1)))","v":""}]
[null,null,null,null,{"$f":"IF(A2661=\"\",\"\",IF(B2661=\"\",E2660,IF(D2661=\"\",E2660,D2661/MAX($D$8:D2661)-1)))","v":""}]
[null,null,null,null,{"$f":"IF(A2662=\"\",\"\",IF(B2662=\"\",E2661,IF(D2662=\"\",E2661,D2662/MAX($D$8:D2662)-1)))","v":""}]
[null,null,null,null,{"$f":"IF(A2663=\"\",\"\",IF(B2663=\"\",E2662,IF(D2663=\"\",E2662,D2663/MAX($D$8:D2663)-1)))","v":""}]
[null,null,null,null,{"$f":"IF(A2664=\"\",\"\",IF(B2664=\"\",E2663,IF(D2664=\"\",E2663,D2664/MAX($D$8:D2664)-1)))","v":""}]
[null,null,null,null,{"$f":"IF(A2665=\"\",\"\",IF(B2665=\"\",E2664,IF(D2665=\"\",E2664,D2665/MAX($D$8:D2665)-1)))","v":""}]
[null,null,null,null,{"$f":"IF(A2666=\"\",\"\",IF(B2666=\"\",E2665,IF(D2666=\"\",E2665,D2666/MAX($D$8:D2666)-1)))","v":""}]
[null,null,null,null,{"$f":"IF(A2667=\"\",\"\",IF(B2667=\"\",E2666,IF(D2667=\"\",E2666,D2667/MAX($D$8:D2667)-1)))","v":""}]
[null,null,null,null,{"$f":"IF(A2668=\"\",\"\",IF(B2668=\"\",E2667,IF(D2668=\"\",E2667,D2668/MAX($D$8:D2668)-1)))","v":""}]
[null,null,null,null,{"$f":"IF(A2669=\"\",\"\",IF(B2669=\"\",E2668,IF(D2669=\"\",E2668,D2669/MAX($D$8:D2669)-1)))","v":""}]
[null,null,null,null,{"$f":"IF(A2670=\"\",\"\",IF(B2670=\"\",E2669,IF(D2670=\"\",E2669,D2670/MAX($D$8:D2670)-1)))","v":""}]
[null,null,null,null,{"$f":"IF(A2671=\"\",\"\",IF(B2671=\"\",E2670,IF(D2671=\"\",E2670,D2671/MAX($D$8:D2671)-1)))","v":""}]
[null,null,null,null,{"$f":"IF(A2672=\"\",\"\",IF(B2672=\"\",E2671,IF(D2672=\"\",E2671,D2672/MAX($D$8:D2672)-1)))","v":""}]
[null,null,null,null,{"$f":"IF(A2673=\"\",\"\",IF(B2673=\"\",E2672,IF(D2673=\"\",E2672,D2673/MAX($D$8:D2673)-1)))","v":""}]
[null,null,null,null,{"$f":"IF(A2674=\"\",\"\",IF(B2674=\"\",E2673,IF(D2674=\"\",E2673,D2674/MAX($D$8:D2674)-1)))","v":""}]
[null,null,null,null,{"$f":"IF(A2675=\"\",\"\",IF(B2675=\"\",E2674,IF(D2675=\"\",E2674,D2675/MAX($D$8:D2675)-1)))","v":""}]
[null,null,null,null,{"$f":"IF(A2676=\"\",\"\",IF(B2676=\"\",E2675,IF(D2676=\"\",E2675,D2676/MAX($D$8:D2676)-1)))","v":""}]
[null,null,null,null,{"$f":"IF(A2677=\"\",\"\",IF(B2677=\"\",E2676,IF(D2677=\"\",E2676,D2677/MAX($D$8:D2677)-1)))","v":""}]
[null,null,null,null,{"$f":"IF(A2678=\"\",\"\",IF(B2678=\"\",E2677,IF(D2678=\"\",E2677,D2678/MAX($D$8:D2678)-1)))","v":""}]
[null,null,null,null,{"$f":"IF(A2679=\"\",\"\",IF(B2679=\"\",E2678,IF(D2679=\"\",E2678,D2679/MAX($D$8:D2679)-1)))","v":""}]
[null,null,null,null,{"$f":"IF(A2680=\"\",\"\",IF(B2680=\"\",E2679,IF(D2680=\"\",E2679,D2680/MAX($D$8:D2680)-1)))","v":""}]
[null,null,null,null,{"$f":"IF(A2681=\"\",\"\",IF(B2681=\"\",E2680,IF(D2681=\"\",E2680,D2681/MAX($D$8:D2681)-1)))","v":""}]
[null,null,null,null,{"$f":"IF(A2682=\"\",\"\",IF(B2682=\"\",E2681,IF(D2682=\"\",E2681,D2682/MAX($D$8:D2682)-1)))","v":""}]
[null,null,null,null,{"$f":"IF(A2683=\"\",\"\",IF(B2683=\"\",E2682,IF(D2683=\"\",E2682,D2683/MAX($D$8:D2683)-1)))","v":""}]
[null,null,null,null,{"$f":"IF(A2684=\"\",\"\",IF(B2684=\"\",E2683,IF(D2684=\"\",E2683,D2684/MAX($D$8:D2684)-1)))","v":""}]
[null,null,null,null,{"$f":"IF(A2685=\"\",\"\",IF(B2685=\"\",E2684,IF(D2685=\"\",E2684,D2685/MAX($D$8:D2685)-1)))","v":""}]
[null,null,null,null,{"$f":"IF(A2686=\"\",\"\",IF(B2686=\"\",E2685,IF(D2686=\"\",E2685,D2686/MAX($D$8:D2686)-1)))","v":""}]
[null,null,null,null,{"$f":"IF(A2687=\"\",\"\",IF(B2687=\"\",E2686,IF(D2687=\"\",E2686,D2687/MAX($D$8:D2687)-1)))","v":""}]
[null,null,null,null,{"$f":"IF(A2688=\"\",\"\",IF(B2688=\"\",E2687,IF(D2688=\"\",E2687,D2688/MAX($D$8:D2688)-1)))","v":""}]
[null,null,null,null,{"$f":"IF(A2689=\"\",\"\",IF(B2689=\"\",E2688,IF(D2689=\"\",E2688,D2689/MAX($D$8:D2689)-1)))","v":""}]
[null,null,null,null,{"$f":"IF(A2690=\"\",\"\",IF(B2690=\"\",E2689,IF(D2690=\"\",E2689,D2690/MAX($D$8:D2690)-1)))","v":""}]
[null,null,null,null,{"$f":"IF(A2691=\"\",\"\",IF(B2691=\"\",E2690,IF(D2691=\"\",E2690,D2691/MAX($D$8:D2691)-1)))","v":""}]
[null,null,null,null,{"$f":"IF(A2692=\"\",\"\",IF(B2692=\"\",E2691,IF(D2692=\"\",E2691,D2692/MAX($D$8:D2692)-1)))","v":""}]
[null,null,null,null,{"$f":"IF(A2693=\"\",\"\",IF(B2693=\"\",E2692,IF(D2693=\"\",E2692,D2693/MAX($D$8:D2693)-1)))","v":""}]
[null,null,null,null,{"$f":"IF(A2694=\"\",\"\",IF(B2694=\"\",E2693,IF(D2694=\"\",E2693,D2694/MAX($D$8:D2694)-1)))","v":""}]
[null,null,null,null,{"$f":"IF(A2695=\"\",\"\",IF(B2695=\"\",E2694,IF(D2695=\"\",E2694,D2695/MAX($D$8:D2695)-1)))","v":""}]
[null,null,null,null,{"$f":"IF(A2696=\"\",\"\",IF(B2696=\"\",E2695,IF(D2696=\"\",E2695,D2696/MAX($D$8:D2696)-1)))","v":""}]
[null,null,null,null,{"$f":"IF(A2697=\"\",\"\",IF(B2697=\"\",E2696,IF(D2697=\"\",E2696,D2697/MAX($D$8:D2697)-1)))","v":""}]
[null,null,null,null,{"$f":"IF(A2698=\"\",\"\",IF(B2698=\"\",E2697,IF(D2698=\"\",E2697,D2698/MAX($D$8:D2698)-1)))","v":""}]
[null,null,null,null,{"$f":"IF(A2699=\"\",\"\",IF(B2699=\"\",E2698,IF(D2699=\"\",E2698,D2699/MAX($D$8:D2699)-1)))","v":""}]
[null,null,null,null,{"$f":"IF(A2700=\"\",\"\",IF(B2700=\"\",E2699,IF(D2700=\"\",E2699,D2700/MAX($D$8:D2700)-1)))","v":""}]
[null,null,null,null,{"$f":"IF(A2701=\"\",\"\",IF(B2701=\"\",E2700,IF(D2701=\"\",E2700,D2701/MAX($D$8:D2701)-1)))","v":""}]
[null,null,null,null,{"$f":"IF(A2702=\"\",\"\",IF(B2702=\"\",E2701,IF(D2702=\"\",E2701,D2702/MAX($D$8:D2702)-1)))","v":""}]
[null,null,null,null,{"$f":"IF(A2703=\"\",\"\",IF(B2703=\"\",E2702,IF(D2703=\"\",E2702,D2703/MAX($D$8:D2703)-1)))","v":""}]
[null,null,null,null,{"$f":"IF(A2704=\"\",\"\",IF(B2704=\"\",E2703,IF(D2704=\"\",E2703,D2704/MAX($D$8:D2704)-1)))","v":""}]
[null,null,null,null,{"$f":"IF(A2705=\"\",\"\",IF(B2705=\"\",E2704,IF(D2705=\"\",E2704,D2705/MAX($D$8:D2705)-1)))","v":""}]
[null,null,null,null,{"$f":"IF(A2706=\"\",\"\",IF(B2706=\"\",E2705,IF(D2706=\"\",E2705,D2706/MAX($D$8:D2706)-1)))","v":""}]
[null,null,null,null,{"$f":"IF(A2707=\"\",\"\",IF(B2707=\"\",E2706,IF(D2707=\"\",E2706,D2707/MAX($D$8:D2707)-1)))","v":""}]
[null,null,null,null,{"$f":"IF(A2708=\"\",\"\",IF(B2708=\"\",E2707,IF(D2708=\"\",E2707,D2708/MAX($D$8:D2708)-1)))","v":""}]
[null,null,null,null,{"$f":"IF(A2709=\"\",\"\",IF(B2709=\"\",E2708,IF(D2709=\"\",E2708,D2709/MAX($D$8:D2709)-1)))","v":""}]
[null,null,null,null,{"$f":"IF(A2710=\"\",\"\",IF(B2710=\"\",E2709,IF(D2710=\"\",E2709,D2710/MAX($D$8:D2710)-1)))","v":""}]
[null,null,null,null,{"$f":"IF(A2711=\"\",\"\",IF(B2711=\"\",E2710,IF(D2711=\"\",E2710,D2711/MAX($D$8:D2711)-1)))","v":""}]
[null,null,null,null,{"$f":"IF(A2712=\"\",\"\",IF(B2712=\"\",E2711,IF(D2712=\"\",E2711,D2712/MAX($D$8:D2712)-1)))","v":""}]
[null,null,null,null,{"$f":"IF(A2713=\"\",\"\",IF(B2713=\"\",E2712,IF(D2713=\"\",E2712,D2713/MAX($D$8:D2713)-1)))","v":""}]
[null,null,null,null,{"$f":"IF(A2714=\"\",\"\",IF(B2714=\"\",E2713,IF(D2714=\"\",E2713,D2714/MAX($D$8:D2714)-1)))","v":""}]
[null,null,null,null,{"$f":"IF(A2715=\"\",\"\",IF(B2715=\"\",E2714,IF(D2715=\"\",E2714,D2715/MAX($D$8:D2715)-1)))","v":""}]
[null,null,null,null,{"$f":"IF(A2716=\"\",\"\",IF(B2716=\"\",E2715,IF(D2716=\"\",E2715,D2716/MAX($D$8:D2716)-1)))","v":""}]
[null,null,null,null,{"$f":"IF(A2717=\"\",\"\",IF(B2717=\"\",E2716,IF(D2717=\"\",E2716,D2717/MAX($D$8:D2717)-1)))","v":""}]
[null,null,null,null,{"$f":"IF(A2718=\"\",\"\",IF(B2718=\"\",E2717,IF(D2718=\"\",E2717,D2718/MAX($D$8:D2718)-1)))","v":""}]
[null,null,null,null,{"$f":"IF(A2719=\"\",\"\",IF(B2719=\"\",E2718,IF(D2719=\"\",E2718,D2719/MAX($D$8:D2719)-1)))","v":""}]
[null,null,null,null,{"$f":"IF(A2720=\"\",\"\",IF(B2720=\"\",E2719,IF(D2720=\"\",E2719,D2720/MAX($D$8:D2720)-1)))","v":""}]
[null,null,null,null,{"$f":"IF(A2721=\"\",\"\",IF(B2721=\"\",E2720,IF(D2721=\"\",E2720,D2721/MAX($D$8:D2721)-1)))","v":""}]
[null,null,null,null,{"$f":"IF(A2722=\"\",\"\",IF(B2722=\"\",E2721,IF(D2722=\"\",E2721,D2722/MAX($D$8:D2722)-1)))","v":""}]
[null,null,null,null,{"$f":"IF(A2723=\"\",\"\",IF(B2723=\"\",E2722,IF(D2723=\"\",E2722,D2723/MAX($D$8:D2723)-1)))","v":""}]
[null,null,null,null,{"$f":"IF(A2724=\"\",\"\",IF(B2724=\"\",E2723,IF(D2724=\"\",E2723,D2724/MAX($D$8:D2724)-1)))","v":""}]
[null,null,null,null,{"$f":"IF(A2725=\"\",\"\",IF(B2725=\"\",E2724,IF(D2725=\"\",E2724,D2725/MAX($D$8:D2725)-1)))","v":""}]
[null,null,null,null,{"$f":"IF(A2726=\"\",\"\",IF(B2726=\"\",E2725,IF(D2726=\"\",E2725,D2726/MAX($D$8:D2726)-1)))","v":""}]
[null,null,null,null,{"$f":"IF(A2727=\"\",\"\",IF(B2727=\"\",E2726,IF(D2727=\"\",E2726,D2727/MAX($D$8:D2727)-1)))","v":""}]
[null,null,null,null,{"$f":"IF(A2728=\"\",\"\",IF(B2728=\"\",E2727,IF(D2728=\"\",E2727,D2728/MAX($D$8:D2728)-1)))","v":""}]
[null,null,null,null,{"$f":"IF(A2729=\"\",\"\",IF(B2729=\"\",E2728,IF(D2729=\"\",E2728,D2729/MAX($D$8:D2729)-1)))","v":""}]
[null,null,null,null,{"$f":"IF(A2730=\"\",\"\",IF(B2730=\"\",E2729,IF(D2730=\"\",E2729,D2730/MAX($D$8:D2730)-1)))","v":""}]
[null,null,null,null,{"$f":"IF(A2731=\"\",\"\",IF(B2731=\"\",E2730,IF(D2731=\"\",E2730,D2731/MAX($D$8:D2731)-1)))","v":""}]
[null,null,null,null,{"$f":"IF(A2732=\"\",\"\",IF(B2732=\"\",E2731,IF(D2732=\"\",E2731,D2732/MAX($D$8:D2732)-1)))","v":""}]
[null,null,null,null,{"$f":"IF(A2733=\"\",\"\",IF(B2733=\"\",E2732,IF(D2733=\"\",E2732,D2733/MAX($D$8:D2733)-1)))","v":""}]
[null,null,null,null,{"$f":"IF(A2734=\"\",\"\",IF(B2734=\"\",E2733,IF(D2734=\"\",E2733,D2734/MAX($D$8:D2734)-1)))","v":""}]
[null,null,null,null,{"$f":"IF(A2735=\"\",\"\",IF(B2735=\"\",E2734,IF(D2735=\"\",E2734,D2735/MAX($D$8:D2735)-1)))","v":""}]
[null,null,null,null,{"$f":"IF(A2736=\"\",\"\",IF(B2736=\"\",E2735,IF(D2736=\"\",E2735,D2736/MAX($D$8:D2736)-1)))","v":""}]
[null,null,null,null,{"$f":"IF(A2737=\"\",\"\",IF(B2737=\"\",E2736,IF(D2737=\"\",E2736,D2737/MAX($D$8:D2737)-1)))","v":""}]
[null,null,null,null,{"$f":"IF(A2738=\"\",\"\",IF(B2738=\"\",E2737,IF(D2738=\"\",E2737,D2738/MAX($D$8:D2738)-1)))","v":""}]
[null,null,null,null,{"$f":"IF(A2739=\"\",\"\",IF(B2739=\"\",E2738,IF(D2739=\"\",E2738,D2739/MAX($D$8:D2739)-1)))","v":""}]
[null,null,null,null,{"$f":"IF(A2740=\"\",\"\",IF(B2740=\"\",E2739,IF(D2740=\"\",E2739,D2740/MAX($D$8:D2740)-1)))","v":""}]
[null,null,null,null,{"$f":"IF(A2741=\"\",\"\",IF(B2741=\"\",E2740,IF(D2741=\"\",E2740,D2741/MAX($D$8:D2741)-1)))","v":""}]
[null,null,null,null,{"$f":"IF(A2742=\"\",\"\",IF(B2742=\"\",E2741,IF(D2742=\"\",E2741,D2742/MAX($D$8:D2742)-1)))","v":""}]
[null,null,null,null,{"$f":"IF(A2743=\"\",\"\",IF(B2743=\"\",E2742,IF(D2743=\"\",E2742,D2743/MAX($D$8:D2743)-1)))","v":""}]
[null,null,null,null,{"$f":"IF(A2744=\"\",\"\",IF(B2744=\"\",E2743,IF(D2744=\"\",E2743,D2744/MAX($D$8:D2744)-1)))","v":""}]
[null,null,null,null,{"$f":"IF(A2745=\"\",\"\",IF(B2745=\"\",E2744,IF(D2745=\"\",E2744,D2745/MAX($D$8:D2745)-1)))","v":""}]
[null,null,null,null,{"$f":"IF(A2746=\"\",\"\",IF(B2746=\"\",E2745,IF(D2746=\"\",E2745,D2746/MAX($D$8:D2746)-1)))","v":""}]
[null,null,null,null,{"$f":"IF(A2747=\"\",\"\",IF(B2747=\"\",E2746,IF(D2747=\"\",E2746,D2747/MAX($D$8:D2747)-1)))","v":""}]
[null,null,null,null,{"$f":"IF(A2748=\"\",\"\",IF(B2748=\"\",E2747,IF(D2748=\"\",E2747,D2748/MAX($D$8:D2748)-1)))","v":""}]
[null,null,null,null,{"$f":"IF(A2749=\"\",\"\",IF(B2749=\"\",E2748,IF(D2749=\"\",E2748,D2749/MAX($D$8:D2749)-1)))","v":""}]
[null,null,null,null,{"$f":"IF(A2750=\"\",\"\",IF(B2750=\"\",E2749,IF(D2750=\"\",E2749,D2750/MAX($D$8:D2750)-1)))","v":""}]
[null,null,null,null,{"$f":"IF(A2751=\"\",\"\",IF(B2751=\"\",E2750,IF(D2751=\"\",E2750,D2751/MAX($D$8:D2751)-1)))","v":""}]
[null,null,null,null,{"$f":"IF(A2752=\"\",\"\",IF(B2752=\"\",E2751,IF(D2752=\"\",E2751,D2752/MAX($D$8:D2752)-1)))","v":""}]
[null,null,null,null,{"$f":"IF(A2753=\"\",\"\",IF(B2753=\"\",E2752,IF(D2753=\"\",E2752,D2753/MAX($D$8:D2753)-1)))","v":""}]
[null,null,null,null,{"$f":"IF(A2754=\"\",\"\",IF(B2754=\"\",E2753,IF(D2754=\"\",E2753,D2754/MAX($D$8:D2754)-1)))","v":""}]
[null,null,null,null,{"$f":"IF(A2755=\"\",\"\",IF(B2755=\"\",E2754,IF(D2755=\"\",E2754,D2755/MAX($D$8:D2755)-1)))","v":""}]
[null,null,null,null,{"$f":"IF(A2756=\"\",\"\",IF(B2756=\"\",E2755,IF(D2756=\"\",E2755,D2756/MAX($D$8:D2756)-1)))","v":""}]
[null,null,null,null,{"$f":"IF(A2757=\"\",\"\",IF(B2757=\"\",E2756,IF(D2757=\"\",E2756,D2757/MAX($D$8:D2757)-1)))","v":""}]
[null,null,null,null,{"$f":"IF(A2758=\"\",\"\",IF(B2758=\"\",E2757,IF(D2758=\"\",E2757,D2758/MAX($D$8:D2758)-1)))","v":""}]
[null,null,null,null,{"$f":"IF(A2759=\"\",\"\",IF(B2759=\"\",E2758,IF(D2759=\"\",E2758,D2759/MAX($D$8:D2759)-1)))","v":""}]
[null,null,null,null,{"$f":"IF(A2760=\"\",\"\",IF(B2760=\"\",E2759,IF(D2760=\"\",E2759,D2760/MAX($D$8:D2760)-1)))","v":""}]
[null,null,null,null,{"$f":"IF(A2761=\"\",\"\",IF(B2761=\"\",E2760,IF(D2761=\"\",E2760,D2761/MAX($D$8:D2761)-1)))","v":""}]
[null,null,null,null,{"$f":"IF(A2762=\"\",\"\",IF(B2762=\"\",E2761,IF(D2762=\"\",E2761,D2762/MAX($D$8:D2762)-1)))","v":""}]
[null,null,null,null,{"$f":"IF(A2763=\"\",\"\",IF(B2763=\"\",E2762,IF(D2763=\"\",E2762,D2763/MAX($D$8:D2763)-1)))","v":""}]
[null,null,null,null,{"$f":"IF(A2764=\"\",\"\",IF(B2764=\"\",E2763,IF(D2764=\"\",E2763,D2764/MAX($D$8:D2764)-1)))","v":""}]
[null,null,null,null,{"$f":"IF(A2765=\"\",\"\",IF(B2765=\"\",E2764,IF(D2765=\"\",E2764,D2765/MAX($D$8:D2765)-1)))","v":""}]
[null,null,null,null,{"$f":"IF(A2766=\"\",\"\",IF(B2766=\"\",E2765,IF(D2766=\"\",E2765,D2766/MAX($D$8:D2766)-1)))","v":""}]
[null,null,null,null,{"$f":"IF(A2767=\"\",\"\",IF(B2767=\"\",E2766,IF(D2767=\"\",E2766,D2767/MAX($D$8:D2767)-1)))","v":""}]
[null,null,null,null,{"$f":"IF(A2768=\"\",\"\",IF(B2768=\"\",E2767,IF(D2768=\"\",E2767,D2768/MAX($D$8:D2768)-1)))","v":""}]
[null,null,null,null,{"$f":"IF(A2769=\"\",\"\",IF(B2769=\"\",E2768,IF(D2769=\"\",E2768,D2769/MAX($D$8:D2769)-1)))","v":""}]
[null,null,null,null,{"$f":"IF(A2770=\"\",\"\",IF(B2770=\"\",E2769,IF(D2770=\"\",E2769,D2770/MAX($D$8:D2770)-1)))","v":""}]
[null,null,null,null,{"$f":"IF(A2771=\"\",\"\",IF(B2771=\"\",E2770,IF(D2771=\"\",E2770,D2771/MAX($D$8:D2771)-1)))","v":""}]
[null,null,null,null,{"$f":"IF(A2772=\"\",\"\",IF(B2772=\"\",E2771,IF(D2772=\"\",E2771,D2772/MAX($D$8:D2772)-1)))","v":""}]
[null,null,null,null,{"$f":"IF(A2773=\"\",\"\",IF(B2773=\"\",E2772,IF(D2773=\"\",E2772,D2773/MAX($D$8:D2773)-1)))","v":""}]
[null,null,null,null,{"$f":"IF(A2774=\"\",\"\",IF(B2774=\"\",E2773,IF(D2774=\"\",E2773,D2774/MAX($D$8:D2774)-1)))","v":""}]
[null,null,null,null,{"$f":"IF(A2775=\"\",\"\",IF(B2775=\"\",E2774,IF(D2775=\"\",E2774,D2775/MAX($D$8:D2775)-1)))","v":""}]
[null,null,null,null,{"$f":"IF(A2776=\"\",\"\",IF(B2776=\"\",E2775,IF(D2776=\"\",E2775,D2776/MAX($D$8:D2776)-1)))","v":""}]
[null,null,null,null,{"$f":"IF(A2777=\"\",\"\",IF(B2777=\"\",E2776,IF(D2777=\"\",E2776,D2777/MAX($D$8:D2777)-1)))","v":""}]
[null,null,null,null,{"$f":"IF(A2778=\"\",\"\",IF(B2778=\"\",E2777,IF(D2778=\"\",E2777,D2778/MAX($D$8:D2778)-1)))","v":""}]
[null,null,null,null,{"$f":"IF(A2779=\"\",\"\",IF(B2779=\"\",E2778,IF(D2779=\"\",E2778,D2779/MAX($D$8:D2779)-1)))","v":""}]
[null,null,null,null,{"$f":"IF(A2780=\"\",\"\",IF(B2780=\"\",E2779,IF(D2780=\"\",E2779,D2780/MAX($D$8:D2780)-1)))","v":""}]
[null,null,null,null,{"$f":"IF(A2781=\"\",\"\",IF(B2781=\"\",E2780,IF(D2781=\"\",E2780,D2781/MAX($D$8:D2781)-1)))","v":""}]
[null,null,null,null,{"$f":"IF(A2782=\"\",\"\",IF(B2782=\"\",E2781,IF(D2782=\"\",E2781,D2782/MAX($D$8:D2782)-1)))","v":""}]
[null,null,null,null,{"$f":"IF(A2783=\"\",\"\",IF(B2783=\"\",E2782,IF(D2783=\"\",E2782,D2783/MAX($D$8:D2783)-1)))","v":""}]
[null,null,null,null,{"$f":"IF(A2784=\"\",\"\",IF(B2784=\"\",E2783,IF(D2784=\"\",E2783,D2784/MAX($D$8:D2784)-1)))","v":""}]
[null,null,null,null,{"$f":"IF(A2785=\"\",\"\",IF(B2785=\"\",E2784,IF(D2785=\"\",E2784,D2785/MAX($D$8:D2785)-1)))","v":""}]
[null,null,null,null,{"$f":"IF(A2786=\"\",\"\",IF(B2786=\"\",E2785,IF(D2786=\"\",E2785,D2786/MAX($D$8:D2786)-1)))","v":""}]
[null,null,null,null,{"$f":"IF(A2787=\"\",\"\",IF(B2787=\"\",E2786,IF(D2787=\"\",E2786,D2787/MAX($D$8:D2787)-1)))","v":""}]
[null,null,null,null,{"$f":"IF(A2788=\"\",\"\",IF(B2788=\"\",E2787,IF(D2788=\"\",E2787,D2788/MAX($D$8:D2788)-1)))","v":""}]
[null,null,null,null,{"$f":"IF(A2789=\"\",\"\",IF(B2789=\"\",E2788,IF(D2789=\"\",E2788,D2789/MAX($D$8:D2789)-1)))","v":""}]
[null,null,null,null,{"$f":"IF(A2790=\"\",\"\",IF(B2790=\"\",E2789,IF(D2790=\"\",E2789,D2790/MAX($D$8:D2790)-1)))","v":""}]
[null,null,null,null,{"$f":"IF(A2791=\"\",\"\",IF(B2791=\"\",E2790,IF(D2791=\"\",E2790,D2791/MAX($D$8:D2791)-1)))","v":""}]
[null,null,null,null,{"$f":"IF(A2792=\"\",\"\",IF(B2792=\"\",E2791,IF(D2792=\"\",E2791,D2792/MAX($D$8:D2792)-1)))","v":""}]
[null,null,null,null,{"$f":"IF(A2793=\"\",\"\",IF(B2793=\"\",E2792,IF(D2793=\"\",E2792,D2793/MAX($D$8:D2793)-1)))","v":""}]
[null,null,null,null,{"$f":"IF(A2794=\"\",\"\",IF(B2794=\"\",E2793,IF(D2794=\"\",E2793,D2794/MAX($D$8:D2794)-1)))","v":""}]
[null,null,null,null,{"$f":"IF(A2795=\"\",\"\",IF(B2795=\"\",E2794,IF(D2795=\"\",E2794,D2795/MAX($D$8:D2795)-1)))","v":""}]
[null,null,null,null,{"$f":"IF(A2796=\"\",\"\",IF(B2796=\"\",E2795,IF(D2796=\"\",E2795,D2796/MAX($D$8:D2796)-1)))","v":""}]
[null,null,null,null,{"$f":"IF(A2797=\"\",\"\",IF(B2797=\"\",E2796,IF(D2797=\"\",E2796,D2797/MAX($D$8:D2797)-1)))","v":""}]
[null,null,null,null,{"$f":"IF(A2798=\"\",\"\",IF(B2798=\"\",E2797,IF(D2798=\"\",E2797,D2798/MAX($D$8:D2798)-1)))","v":""}]
[null,null,null,null,{"$f":"IF(A2799=\"\",\"\",IF(B2799=\"\",E2798,IF(D2799=\"\",E2798,D2799/MAX($D$8:D2799)-1)))","v":""}]
[null,null,null,null,{"$f":"IF(A2800=\"\",\"\",IF(B2800=\"\",E2799,IF(D2800=\"\",E2799,D2800/MAX($D$8:D2800)-1)))","v":""}]
[null,null,null,null,{"$f":"IF(A2801=\"\",\"\",IF(B2801=\"\",E2800,IF(D2801=\"\",E2800,D2801/MAX($D$8:D2801)-1)))","v":""}]
[null,null,null,null,{"$f":"IF(A2802=\"\",\"\",IF(B2802=\"\",E2801,IF(D2802=\"\",E2801,D2802/MAX($D$8:D2802)-1)))","v":""}]
[null,null,null,null,{"$f":"IF(A2803=\"\",\"\",IF(B2803=\"\",E2802,IF(D2803=\"\",E2802,D2803/MAX($D$8:D2803)-1)))","v":""}]
[null,null,null,null,{"$f":"IF(A2804=\"\",\"\",IF(B2804=\"\",E2803,IF(D2804=\"\",E2803,D2804/MAX($D$8:D2804)-1)))","v":""}]
[null,null,null,null,{"$f":"IF(A2805=\"\",\"\",IF(B2805=\"\",E2804,IF(D2805=\"\",E2804,D2805/MAX($D$8:D2805)-1)))","v":""}]
[null,null,null,null,{"$f":"IF(A2806=\"\",\"\",IF(B2806=\"\",E2805,IF(D2806=\"\",E2805,D2806/MAX($D$8:D2806)-1)))","v":""}]
[null,null,null,null,{"$f":"IF(A2807=\"\",\"\",IF(B2807=\"\",E2806,IF(D2807=\"\",E2806,D2807/MAX($D$8:D2807)-1)))","v":""}]
[null,null,null,null,{"$f":"IF(A2808=\"\",\"\",IF(B2808=\"\",E2807,IF(D2808=\"\",E2807,D2808/MAX($D$8:D2808)-1)))","v":""}]
[null,null,null,null,{"$f":"IF(A2809=\"\",\"\",IF(B2809=\"\",E2808,IF(D2809=\"\",E2808,D2809/MAX($D$8:D2809)-1)))","v":""}]
[null,null,null,null,{"$f":"IF(A2810=\"\",\"\",IF(B2810=\"\",E2809,IF(D2810=\"\",E2809,D2810/MAX($D$8:D2810)-1)))","v":""}]
[null,null,null,null,{"$f":"IF(A2811=\"\",\"\",IF(B2811=\"\",E2810,IF(D2811=\"\",E2810,D2811/MAX($D$8:D2811)-1)))","v":""}]
[null,null,null,null,{"$f":"IF(A2812=\"\",\"\",IF(B2812=\"\",E2811,IF(D2812=\"\",E2811,D2812/MAX($D$8:D2812)-1)))","v":""}]
[null,null,null,null,{"$f":"IF(A2813=\"\",\"\",IF(B2813=\"\",E2812,IF(D2813=\"\",E2812,D2813/MAX($D$8:D2813)-1)))","v":""}]
[null,null,null,null,{"$f":"IF(A2814=\"\",\"\",IF(B2814=\"\",E2813,IF(D2814=\"\",E2813,D2814/MAX($D$8:D2814)-1)))","v":""}]
[null,null,null,null,{"$f":"IF(A2815=\"\",\"\",IF(B2815=\"\",E2814,IF(D2815=\"\",E2814,D2815/MAX($D$8:D2815)-1)))","v":""}]
[null,null,null,null,{"$f":"IF(A2816=\"\",\"\",IF(B2816=\"\",E2815,IF(D2816=\"\",E2815,D2816/MAX($D$8:D2816)-1)))","v":""}]
[null,null,null,null,{"$f":"IF(A2817=\"\",\"\",IF(B2817=\"\",E2816,IF(D2817=\"\",E2816,D2817/MAX($D$8:D2817)-1)))","v":""}]
[null,null,null,null,{"$f":"IF(A2818=\"\",\"\",IF(B2818=\"\",E2817,IF(D2818=\"\",E2817,D2818/MAX($D$8:D2818)-1)))","v":""}]
[null,null,null,null,{"$f":"IF(A2819=\"\",\"\",IF(B2819=\"\",E2818,IF(D2819=\"\",E2818,D2819/MAX($D$8:D2819)-1)))","v":""}]
[null,null,null,null,{"$f":"IF(A2820=\"\",\"\",IF(B2820=\"\",E2819,IF(D2820=\"\",E2819,D2820/MAX($D$8:D2820)-1)))","v":""}]
[null,null,null,null,{"$f":"IF(A2821=\"\",\"\",IF(B2821=\"\",E2820,IF(D2821=\"\",E2820,D2821/MAX($D$8:D2821)-1)))","v":""}]
[null,null,null,null,{"$f":"IF(A2822=\"\",\"\",IF(B2822=\"\",E2821,IF(D2822=\"\",E2821,D2822/MAX($D$8:D2822)-1)))","v":""}]
[null,null,null,null,{"$f":"IF(A2823=\"\",\"\",IF(B2823=\"\",E2822,IF(D2823=\"\",E2822,D2823/MAX($D$8:D2823)-1)))","v":""}]
[null,null,null,null,{"$f":"IF(A2824=\"\",\"\",IF(B2824=\"\",E2823,IF(D2824=\"\",E2823,D2824/MAX($D$8:D2824)-1)))","v":""}]
[null,null,null,null,{"$f":"IF(A2825=\"\",\"\",IF(B2825=\"\",E2824,IF(D2825=\"\",E2824,D2825/MAX($D$8:D2825)-1)))","v":""}]
[null,null,null,null,{"$f":"IF(A2826=\"\",\"\",IF(B2826=\"\",E2825,IF(D2826=\"\",E2825,D2826/MAX($D$8:D2826)-1)))","v":""}]
[null,null,null,null,{"$f":"IF(A2827=\"\",\"\",IF(B2827=\"\",E2826,IF(D2827=\"\",E2826,D2827/MAX($D$8:D2827)-1)))","v":""}]
[null,null,null,null,{"$f":"IF(A2828=\"\",\"\",IF(B2828=\"\",E2827,IF(D2828=\"\",E2827,D2828/MAX($D$8:D2828)-1)))","v":""}]
[null,null,null,null,{"$f":"IF(A2829=\"\",\"\",IF(B2829=\"\",E2828,IF(D2829=\"\",E2828,D2829/MAX($D$8:D2829)-1)))","v":""}]
[null,null,null,null,{"$f":"IF(A2830=\"\",\"\",IF(B2830=\"\",E2829,IF(D2830=\"\",E2829,D2830/MAX($D$8:D2830)-1)))","v":""}]
[null,null,null,null,{"$f":"IF(A2831=\"\",\"\",IF(B2831=\"\",E2830,IF(D2831=\"\",E2830,D2831/MAX($D$8:D2831)-1)))","v":""}]
[null,null,null,null,{"$f":"IF(A2832=\"\",\"\",IF(B2832=\"\",E2831,IF(D2832=\"\",E2831,D2832/MAX($D$8:D2832)-1)))","v":""}]
[null,null,null,null,{"$f":"IF(A2833=\"\",\"\",IF(B2833=\"\",E2832,IF(D2833=\"\",E2832,D2833/MAX($D$8:D2833)-1)))","v":""}]
[null,null,null,null,{"$f":"IF(A2834=\"\",\"\",IF(B2834=\"\",E2833,IF(D2834=\"\",E2833,D2834/MAX($D$8:D2834)-1)))","v":""}]
[null,null,null,null,{"$f":"IF(A2835=\"\",\"\",IF(B2835=\"\",E2834,IF(D2835=\"\",E2834,D2835/MAX($D$8:D2835)-1)))","v":""}]
[null,null,null,null,{"$f":"IF(A2836=\"\",\"\",IF(B2836=\"\",E2835,IF(D2836=\"\",E2835,D2836/MAX($D$8:D2836)-1)))","v":""}]
[null,null,null,null,{"$f":"IF(A2837=\"\",\"\",IF(B2837=\"\",E2836,IF(D2837=\"\",E2836,D2837/MAX($D$8:D2837)-1)))","v":""}]
[null,null,null,null,{"$f":"IF(A2838=\"\",\"\",IF(B2838=\"\",E2837,IF(D2838=\"\",E2837,D2838/MAX($D$8:D2838)-1)))","v":""}]
[null,null,null,null,{"$f":"IF(A2839=\"\",\"\",IF(B2839=\"\",E2838,IF(D2839=\"\",E2838,D2839/MAX($D$8:D2839)-1)))","v":""}]
[null,null,null,null,{"$f":"IF(A2840=\"\",\"\",IF(B2840=\"\",E2839,IF(D2840=\"\",E2839,D2840/MAX($D$8:D2840)-1)))","v":""}]
[null,null,null,null,{"$f":"IF(A2841=\"\",\"\",IF(B2841=\"\",E2840,IF(D2841=\"\",E2840,D2841/MAX($D$8:D2841)-1)))","v":""}]
[null,null,null,null,{"$f":"IF(A2842=\"\",\"\",IF(B2842=\"\",E2841,IF(D2842=\"\",E2841,D2842/MAX($D$8:D2842)-1)))","v":""}]
[null,null,null,null,{"$f":"IF(A2843=\"\",\"\",IF(B2843=\"\",E2842,IF(D2843=\"\",E2842,D2843/MAX($D$8:D2843)-1)))","v":""}]
[null,null,null,null,{"$f":"IF(A2844=\"\",\"\",IF(B2844=\"\",E2843,IF(D2844=\"\",E2843,D2844/MAX($D$8:D2844)-1)))","v":""}]
[null,null,null,null,{"$f":"IF(A2845=\"\",\"\",IF(B2845=\"\",E2844,IF(D2845=\"\",E2844,D2845/MAX($D$8:D2845)-1)))","v":""}]
[null,null,null,null,{"$f":"IF(A2846=\"\",\"\",IF(B2846=\"\",E2845,IF(D2846=\"\",E2845,D2846/MAX($D$8:D2846)-1)))","v":""}]
[null,null,null,null,{"$f":"IF(A2847=\"\",\"\",IF(B2847=\"\",E2846,IF(D2847=\"\",E2846,D2847/MAX($D$8:D2847)-1)))","v":""}]
[null,null,null,null,{"$f":"IF(A2848=\"\",\"\",IF(B2848=\"\",E2847,IF(D2848=\"\",E2847,D2848/MAX($D$8:D2848)-1)))","v":""}]
[null,null,null,null,{"$f":"IF(A2849=\"\",\"\",IF(B2849=\"\",E2848,IF(D2849=\"\",E2848,D2849/MAX($D$8:D2849)-1)))","v":""}]
[null,null,null,null,{"$f":"IF(A2850=\"\",\"\",IF(B2850=\"\",E2849,IF(D2850=\"\",E2849,D2850/MAX($D$8:D2850)-1)))","v":""}]
[null,null,null,null,{"$f":"IF(A2851=\"\",\"\",IF(B2851=\"\",E2850,IF(D2851=\"\",E2850,D2851/MAX($D$8:D2851)-1)))","v":""}]
[null,null,null,null,{"$f":"IF(A2852=\"\",\"\",IF(B2852=\"\",E2851,IF(D2852=\"\",E2851,D2852/MAX($D$8:D2852)-1)))","v":""}]
[null,null,null,null,{"$f":"IF(A2853=\"\",\"\",IF(B2853=\"\",E2852,IF(D2853=\"\",E2852,D2853/MAX($D$8:D2853)-1)))","v":""}]
[null,null,null,null,{"$f":"IF(A2854=\"\",\"\",IF(B2854=\"\",E2853,IF(D2854=\"\",E2853,D2854/MAX($D$8:D2854)-1)))","v":""}]
[null,null,null,null,{"$f":"IF(A2855=\"\",\"\",IF(B2855=\"\",E2854,IF(D2855=\"\",E2854,D2855/MAX($D$8:D2855)-1)))","v":""}]
[null,null,null,null,{"$f":"IF(A2856=\"\",\"\",IF(B2856=\"\",E2855,IF(D2856=\"\",E2855,D2856/MAX($D$8:D2856)-1)))","v":""}]
[null,null,null,null,{"$f":"IF(A2857=\"\",\"\",IF(B2857=\"\",E2856,IF(D2857=\"\",E2856,D2857/MAX($D$8:D2857)-1)))","v":""}]
[null,null,null,null,{"$f":"IF(A2858=\"\",\"\",IF(B2858=\"\",E2857,IF(D2858=\"\",E2857,D2858/MAX($D$8:D2858)-1)))","v":""}]
[null,null,null,null,{"$f":"IF(A2859=\"\",\"\",IF(B2859=\"\",E2858,IF(D2859=\"\",E2858,D2859/MAX($D$8:D2859)-1)))","v":""}]
[null,null,null,null,{"$f":"IF(A2860=\"\",\"\",IF(B2860=\"\",E2859,IF(D2860=\"\",E2859,D2860/MAX($D$8:D2860)-1)))","v":""}]
[null,null,null,null,{"$f":"IF(A2861=\"\",\"\",IF(B2861=\"\",E2860,IF(D2861=\"\",E2860,D2861/MAX($D$8:D2861)-1)))","v":""}]
[null,null,null,null,{"$f":"IF(A2862=\"\",\"\",IF(B2862=\"\",E2861,IF(D2862=\"\",E2861,D2862/MAX($D$8:D2862)-1)))","v":""}]
[null,null,null,null,{"$f":"IF(A2863=\"\",\"\",IF(B2863=\"\",E2862,IF(D2863=\"\",E2862,D2863/MAX($D$8:D2863)-1)))","v":""}]
[null,null,null,null,{"$f":"IF(A2864=\"\",\"\",IF(B2864=\"\",E2863,IF(D2864=\"\",E2863,D2864/MAX($D$8:D2864)-1)))","v":""}]
[null,null,null,null,{"$f":"IF(A2865=\"\",\"\",IF(B2865=\"\",E2864,IF(D2865=\"\",E2864,D2865/MAX($D$8:D2865)-1)))","v":""}]
[null,null,null,null,{"$f":"IF(A2866=\"\",\"\",IF(B2866=\"\",E2865,IF(D2866=\"\",E2865,D2866/MAX($D$8:D2866)-1)))","v":""}]
[null,null,null,null,{"$f":"IF(A2867=\"\",\"\",IF(B2867=\"\",E2866,IF(D2867=\"\",E2866,D2867/MAX($D$8:D2867)-1)))","v":""}]
[null,null,null,null,{"$f":"IF(A2868=\"\",\"\",IF(B2868=\"\",E2867,IF(D2868=\"\",E2867,D2868/MAX($D$8:D2868)-1)))","v":""}]
[null,null,null,null,{"$f":"IF(A2869=\"\",\"\",IF(B2869=\"\",E2868,IF(D2869=\"\",E2868,D2869/MAX($D$8:D2869)-1)))","v":""}]
[null,null,null,null,{"$f":"IF(A2870=\"\",\"\",IF(B2870=\"\",E2869,IF(D2870=\"\",E2869,D2870/MAX($D$8:D2870)-1)))","v":""}]
[null,null,null,null,{"$f":"IF(A2871=\"\",\"\",IF(B2871=\"\",E2870,IF(D2871=\"\",E2870,D2871/MAX($D$8:D2871)-1)))","v":""}]
[null,null,null,null,{"$f":"IF(A2872=\"\",\"\",IF(B2872=\"\",E2871,IF(D2872=\"\",E2871,D2872/MAX($D$8:D2872)-1)))","v":""}]
[null,null,null,null,{"$f":"IF(A2873=\"\",\"\",IF(B2873=\"\",E2872,IF(D2873=\"\",E2872,D2873/MAX($D$8:D2873)-1)))","v":""}]
[null,null,null,null,{"$f":"IF(A2874=\"\",\"\",IF(B2874=\"\",E2873,IF(D2874=\"\",E2873,D2874/MAX($D$8:D2874)-1)))","v":""}]
[null,null,null,null,{"$f":"IF(A2875=\"\",\"\",IF(B2875=\"\",E2874,IF(D2875=\"\",E2874,D2875/MAX($D$8:D2875)-1)))","v":""}]
[null,null,null,null,{"$f":"IF(A2876=\"\",\"\",IF(B2876=\"\",E2875,IF(D2876=\"\",E2875,D2876/MAX($D$8:D2876)-1)))","v":""}]
[null,null,null,null,{"$f":"IF(A2877=\"\",\"\",IF(B2877=\"\",E2876,IF(D2877=\"\",E2876,D2877/MAX($D$8:D2877)-1)))","v":""}]
[null,null,null,null,{"$f":"IF(A2878=\"\",\"\",IF(B2878=\"\",E2877,IF(D2878=\"\",E2877,D2878/MAX($D$8:D2878)-1)))","v":""}]
[null,null,null,null,{"$f":"IF(A2879=\"\",\"\",IF(B2879=\"\",E2878,IF(D2879=\"\",E2878,D2879/MAX($D$8:D2879)-1)))","v":""}]
[null,null,null,null,{"$f":"IF(A2880=\"\",\"\",IF(B2880=\"\",E2879,IF(D2880=\"\",E2879,D2880/MAX($D$8:D2880)-1)))","v":""}]
[null,null,null,null,{"$f":"IF(A2881=\"\",\"\",IF(B2881=\"\",E2880,IF(D2881=\"\",E2880,D2881/MAX($D$8:D2881)-1)))","v":""}]
[null,null,null,null,{"$f":"IF(A2882=\"\",\"\",IF(B2882=\"\",E2881,IF(D2882=\"\",E2881,D2882/MAX($D$8:D2882)-1)))","v":""}]
[null,null,null,null,{"$f":"IF(A2883=\"\",\"\",IF(B2883=\"\",E2882,IF(D2883=\"\",E2882,D2883/MAX($D$8:D2883)-1)))","v":""}]
[null,null,null,null,{"$f":"IF(A2884=\"\",\"\",IF(B2884=\"\",E2883,IF(D2884=\"\",E2883,D2884/MAX($D$8:D2884)-1)))","v":""}]
[null,null,null,null,{"$f":"IF(A2885=\"\",\"\",IF(B2885=\"\",E2884,IF(D2885=\"\",E2884,D2885/MAX($D$8:D2885)-1)))","v":""}]
[null,null,null,null,{"$f":"IF(A2886=\"\",\"\",IF(B2886=\"\",E2885,IF(D2886=\"\",E2885,D2886/MAX($D$8:D2886)-1)))","v":""}]
[null,null,null,null,{"$f":"IF(A2887=\"\",\"\",IF(B2887=\"\",E2886,IF(D2887=\"\",E2886,D2887/MAX($D$8:D2887)-1)))","v":""}]
[null,null,null,null,{"$f":"IF(A2888=\"\",\"\",IF(B2888=\"\",E2887,IF(D2888=\"\",E2887,D2888/MAX($D$8:D2888)-1)))","v":""}]
[null,null,null,null,{"$f":"IF(A2889=\"\",\"\",IF(B2889=\"\",E2888,IF(D2889=\"\",E2888,D2889/MAX($D$8:D2889)-1)))","v":""}]
[null,null,null,null,{"$f":"IF(A2890=\"\",\"\",IF(B2890=\"\",E2889,IF(D2890=\"\",E2889,D2890/MAX($D$8:D2890)-1)))","v":""}]
[null,null,null,null,{"$f":"IF(A2891=\"\",\"\",IF(B2891=\"\",E2890,IF(D2891=\"\",E2890,D2891/MAX($D$8:D2891)-1)))","v":""}]
[null,null,null,null,{"$f":"IF(A2892=\"\",\"\",IF(B2892=\"\",E2891,IF(D2892=\"\",E2891,D2892/MAX($D$8:D2892)-1)))","v":""}]
[null,null,null,null,{"$f":"IF(A2893=\"\",\"\",IF(B2893=\"\",E2892,IF(D2893=\"\",E2892,D2893/MAX($D$8:D2893)-1)))","v":""}]
[null,null,null,null,{"$f":"IF(A2894=\"\",\"\",IF(B2894=\"\",E2893,IF(D2894=\"\",E2893,D2894/MAX($D$8:D2894)-1)))","v":""}]
[null,null,null,null,{"$f":"IF(A2895=\"\",\"\",IF(B2895=\"\",E2894,IF(D2895=\"\",E2894,D2895/MAX($D$8:D2895)-1)))","v":""}]
[null,null,null,null,{"$f":"IF(A2896=\"\",\"\",IF(B2896=\"\",E2895,IF(D2896=\"\",E2895,D2896/MAX($D$8:D2896)-1)))","v":""}]
[null,null,null,null,{"$f":"IF(A2897=\"\",\"\",IF(B2897=\"\",E2896,IF(D2897=\"\",E2896,D2897/MAX($D$8:D2897)-1)))","v":""}]
[null,null,null,null,{"$f":"IF(A2898=\"\",\"\",IF(B2898=\"\",E2897,IF(D2898=\"\",E2897,D2898/MAX($D$8:D2898)-1)))","v":""}]
[null,null,null,null,{"$f":"IF(A2899=\"\",\"\",IF(B2899=\"\",E2898,IF(D2899=\"\",E2898,D2899/MAX($D$8:D2899)-1)))","v":""}]
[null,null,null,null,{"$f":"IF(A2900=\"\",\"\",IF(B2900=\"\",E2899,IF(D2900=\"\",E2899,D2900/MAX($D$8:D2900)-1)))","v":""}]
[null,null,null,null,{"$f":"IF(A2901=\"\",\"\",IF(B2901=\"\",E2900,IF(D2901=\"\",E2900,D2901/MAX($D$8:D2901)-1)))","v":""}]
[null,null,null,null,{"$f":"IF(A2902=\"\",\"\",IF(B2902=\"\",E2901,IF(D2902=\"\",E2901,D2902/MAX($D$8:D2902)-1)))","v":""}]
[null,null,null,null,{"$f":"IF(A2903=\"\",\"\",IF(B2903=\"\",E2902,IF(D2903=\"\",E2902,D2903/MAX($D$8:D2903)-1)))","v":""}]
[null,null,null,null,{"$f":"IF(A2904=\"\",\"\",IF(B2904=\"\",E2903,IF(D2904=\"\",E2903,D2904/MAX($D$8:D2904)-1)))","v":""}]
[null,null,null,null,{"$f":"IF(A2905=\"\",\"\",IF(B2905=\"\",E2904,IF(D2905=\"\",E2904,D2905/MAX($D$8:D2905)-1)))","v":""}]
[null,null,null,null,{"$f":"IF(A2906=\"\",\"\",IF(B2906=\"\",E2905,IF(D2906=\"\",E2905,D2906/MAX($D$8:D2906)-1)))","v":""}]
[null,null,null,null,{"$f":"IF(A2907=\"\",\"\",IF(B2907=\"\",E2906,IF(D2907=\"\",E2906,D2907/MAX($D$8:D2907)-1)))","v":""}]
[null,null,null,null,{"$f":"IF(A2908=\"\",\"\",IF(B2908=\"\",E2907,IF(D2908=\"\",E2907,D2908/MAX($D$8:D2908)-1)))","v":""}]
[null,null,null,null,{"$f":"IF(A2909=\"\",\"\",IF(B2909=\"\",E2908,IF(D2909=\"\",E2908,D2909/MAX($D$8:D2909)-1)))","v":""}]
[null,null,null,null,{"$f":"IF(A2910=\"\",\"\",IF(B2910=\"\",E2909,IF(D2910=\"\",E2909,D2910/MAX($D$8:D2910)-1)))","v":""}]
[null,null,null,null,{"$f":"IF(A2911=\"\",\"\",IF(B2911=\"\",E2910,IF(D2911=\"\",E2910,D2911/MAX($D$8:D2911)-1)))","v":""}]
[null,null,null,null,{"$f":"IF(A2912=\"\",\"\",IF(B2912=\"\",E2911,IF(D2912=\"\",E2911,D2912/MAX($D$8:D2912)-1)))","v":""}]
[null,null,null,null,{"$f":"IF(A2913=\"\",\"\",IF(B2913=\"\",E2912,IF(D2913=\"\",E2912,D2913/MAX($D$8:D2913)-1)))","v":""}]
[null,null,null,null,{"$f":"IF(A2914=\"\",\"\",IF(B2914=\"\",E2913,IF(D2914=\"\",E2913,D2914/MAX($D$8:D2914)-1)))","v":""}]
[null,null,null,null,{"$f":"IF(A2915=\"\",\"\",IF(B2915=\"\",E2914,IF(D2915=\"\",E2914,D2915/MAX($D$8:D2915)-1)))","v":""}]
[null,null,null,null,{"$f":"IF(A2916=\"\",\"\",IF(B2916=\"\",E2915,IF(D2916=\"\",E2915,D2916/MAX($D$8:D2916)-1)))","v":""}]
[null,null,null,null,{"$f":"IF(A2917=\"\",\"\",IF(B2917=\"\",E2916,IF(D2917=\"\",E2916,D2917/MAX($D$8:D2917)-1)))","v":""}]
[null,null,null,null,{"$f":"IF(A2918=\"\",\"\",IF(B2918=\"\",E2917,IF(D2918=\"\",E2917,D2918/MAX($D$8:D2918)-1)))","v":""}]
[null,null,null,null,{"$f":"IF(A2919=\"\",\"\",IF(B2919=\"\",E2918,IF(D2919=\"\",E2918,D2919/MAX($D$8:D2919)-1)))","v":""}]
[null,null,null,null,{"$f":"IF(A2920=\"\",\"\",IF(B2920=\"\",E2919,IF(D2920=\"\",E2919,D2920/MAX($D$8:D2920)-1)))","v":""}]
[null,null,null,null,{"$f":"IF(A2921=\"\",\"\",IF(B2921=\"\",E2920,IF(D2921=\"\",E2920,D2921/MAX($D$8:D2921)-1)))","v":""}]
[null,null,null,null,{"$f":"IF(A2922=\"\",\"\",IF(B2922=\"\",E2921,IF(D2922=\"\",E2921,D2922/MAX($D$8:D2922)-1)))","v":""}]
[null,null,null,null,{"$f":"IF(A2923=\"\",\"\",IF(B2923=\"\",E2922,IF(D2923=\"\",E2922,D2923/MAX($D$8:D2923)-1)))","v":""}]
[null,null,null,null,{"$f":"IF(A2924=\"\",\"\",IF(B2924=\"\",E2923,IF(D2924=\"\",E2923,D2924/MAX($D$8:D2924)-1)))","v":""}]
[null,null,null,null,{"$f":"IF(A2925=\"\",\"\",IF(B2925=\"\",E2924,IF(D2925=\"\",E2924,D2925/MAX($D$8:D2925)-1)))","v":""}]
[null,null,null,null,{"$f":"IF(A2926=\"\",\"\",IF(B2926=\"\",E2925,IF(D2926=\"\",E2925,D2926/MAX($D$8:D2926)-1)))","v":""}]
[null,null,null,null,{"$f":"IF(A2927=\"\",\"\",IF(B2927=\"\",E2926,IF(D2927=\"\",E2926,D2927/MAX($D$8:D2927)-1)))","v":""}]
[null,null,null,null,{"$f":"IF(A2928=\"\",\"\",IF(B2928=\"\",E2927,IF(D2928=\"\",E2927,D2928/MAX($D$8:D2928)-1)))","v":""}]
[null,null,null,null,{"$f":"IF(A2929=\"\",\"\",IF(B2929=\"\",E2928,IF(D2929=\"\",E2928,D2929/MAX($D$8:D2929)-1)))","v":""}]
[null,null,null,null,{"$f":"IF(A2930=\"\",\"\",IF(B2930=\"\",E2929,IF(D2930=\"\",E2929,D2930/MAX($D$8:D2930)-1)))","v":""}]
[null,null,null,null,{"$f":"IF(A2931=\"\",\"\",IF(B2931=\"\",E2930,IF(D2931=\"\",E2930,D2931/MAX($D$8:D2931)-1)))","v":""}]
[null,null,null,null,{"$f":"IF(A2932=\"\",\"\",IF(B2932=\"\",E2931,IF(D2932=\"\",E2931,D2932/MAX($D$8:D2932)-1)))","v":""}]
[null,null,null,null,{"$f":"IF(A2933=\"\",\"\",IF(B2933=\"\",E2932,IF(D2933=\"\",E2932,D2933/MAX($D$8:D2933)-1)))","v":""}]
[null,null,null,null,{"$f":"IF(A2934=\"\",\"\",IF(B2934=\"\",E2933,IF(D2934=\"\",E2933,D2934/MAX($D$8:D2934)-1)))","v":""}]
[null,null,null,null,{"$f":"IF(A2935=\"\",\"\",IF(B2935=\"\",E2934,IF(D2935=\"\",E2934,D2935/MAX($D$8:D2935)-1)))","v":""}]
[null,null,null,null,{"$f":"IF(A2936=\"\",\"\",IF(B2936=\"\",E2935,IF(D2936=\"\",E2935,D2936/MAX($D$8:D2936)-1)))","v":""}]
[null,null,null,null,{"$f":"IF(A2937=\"\",\"\",IF(B2937=\"\",E2936,IF(D2937=\"\",E2936,D2937/MAX($D$8:D2937)-1)))","v":""}]
[null,null,null,null,{"$f":"IF(A2938=\"\",\"\",IF(B2938=\"\",E2937,IF(D2938=\"\",E2937,D2938/MAX($D$8:D2938)-1)))","v":""}]
[null,null,null,null,{"$f":"IF(A2939=\"\",\"\",IF(B2939=\"\",E2938,IF(D2939=\"\",E2938,D2939/MAX($D$8:D2939)-1)))","v":""}]
[null,null,null,null,{"$f":"IF(A2940=\"\",\"\",IF(B2940=\"\",E2939,IF(D2940=\"\",E2939,D2940/MAX($D$8:D2940)-1)))","v":""}]
[null,null,null,null,{"$f":"IF(A2941=\"\",\"\",IF(B2941=\"\",E2940,IF(D2941=\"\",E2940,D2941/MAX($D$8:D2941)-1)))","v":""}]
[null,null,null,null,{"$f":"IF(A2942=\"\",\"\",IF(B2942=\"\",E2941,IF(D2942=\"\",E2941,D2942/MAX($D$8:D2942)-1)))","v":""}]
[null,null,null,null,{"$f":"IF(A2943=\"\",\"\",IF(B2943=\"\",E2942,IF(D2943=\"\",E2942,D2943/MAX($D$8:D2943)-1)))","v":""}]
[null,null,null,null,{"$f":"IF(A2944=\"\",\"\",IF(B2944=\"\",E2943,IF(D2944=\"\",E2943,D2944/MAX($D$8:D2944)-1)))","v":""}]
[null,null,null,null,{"$f":"IF(A2945=\"\",\"\",IF(B2945=\"\",E2944,IF(D2945=\"\",E2944,D2945/MAX($D$8:D2945)-1)))","v":""}]
[null,null,null,null,{"$f":"IF(A2946=\"\",\"\",IF(B2946=\"\",E2945,IF(D2946=\"\",E2945,D2946/MAX($D$8:D2946)-1)))","v":""}]
[null,null,null,null,{"$f":"IF(A2947=\"\",\"\",IF(B2947=\"\",E2946,IF(D2947=\"\",E2946,D2947/MAX($D$8:D2947)-1)))","v":""}]
[null,null,null,null,{"$f":"IF(A2948=\"\",\"\",IF(B2948=\"\",E2947,IF(D2948=\"\",E2947,D2948/MAX($D$8:D2948)-1)))","v":""}]
[null,null,null,null,{"$f":"IF(A2949=\"\",\"\",IF(B2949=\"\",E2948,IF(D2949=\"\",E2948,D2949/MAX($D$8:D2949)-1)))","v":""}]
[null,null,null,null,{"$f":"IF(A2950=\"\",\"\",IF(B2950=\"\",E2949,IF(D2950=\"\",E2949,D2950/MAX($D$8:D2950)-1)))","v":""}]
[null,null,null,null,{"$f":"IF(A2951=\"\",\"\",IF(B2951=\"\",E2950,IF(D2951=\"\",E2950,D2951/MAX($D$8:D2951)-1)))","v":""}]
[null,null,null,null,{"$f":"IF(A2952=\"\",\"\",IF(B2952=\"\",E2951,IF(D2952=\"\",E2951,D2952/MAX($D$8:D2952)-1)))","v":""}]
[null,null,null,null,{"$f":"IF(A2953=\"\",\"\",IF(B2953=\"\",E2952,IF(D2953=\"\",E2952,D2953/MAX($D$8:D2953)-1)))","v":""}]
[null,null,null,null,{"$f":"IF(A2954=\"\",\"\",IF(B2954=\"\",E2953,IF(D2954=\"\",E2953,D2954/MAX($D$8:D2954)-1)))","v":""}]
[null,null,null,null,{"$f":"IF(A2955=\"\",\"\",IF(B2955=\"\",E2954,IF(D2955=\"\",E2954,D2955/MAX($D$8:D2955)-1)))","v":""}]
[null,null,null,null,{"$f":"IF(A2956=\"\",\"\",IF(B2956=\"\",E2955,IF(D2956=\"\",E2955,D2956/MAX($D$8:D2956)-1)))","v":""}]
[null,null,null,null,{"$f":"IF(A2957=\"\",\"\",IF(B2957=\"\",E2956,IF(D2957=\"\",E2956,D2957/MAX($D$8:D2957)-1)))","v":""}]
[null,null,null,null,{"$f":"IF(A2958=\"\",\"\",IF(B2958=\"\",E2957,IF(D2958=\"\",E2957,D2958/MAX($D$8:D2958)-1)))","v":""}]
[null,null,null,null,{"$f":"IF(A2959=\"\",\"\",IF(B2959=\"\",E2958,IF(D2959=\"\",E2958,D2959/MAX($D$8:D2959)-1)))","v":""}]
[null,null,null,null,{"$f":"IF(A2960=\"\",\"\",IF(B2960=\"\",E2959,IF(D2960=\"\",E2959,D2960/MAX($D$8:D2960)-1)))","v":""}]
[null,null,null,null,{"$f":"IF(A2961=\"\",\"\",IF(B2961=\"\",E2960,IF(D2961=\"\",E2960,D2961/MAX($D$8:D2961)-1)))","v":""}]
[null,null,null,null,{"$f":"IF(A2962=\"\",\"\",IF(B2962=\"\",E2961,IF(D2962=\"\",E2961,D2962/MAX($D$8:D2962)-1)))","v":""}]
[null,null,null,null,{"$f":"IF(A2963=\"\",\"\",IF(B2963=\"\",E2962,IF(D2963=\"\",E2962,D2963/MAX($D$8:D2963)-1)))","v":""}]
[null,null,null,null,{"$f":"IF(A2964=\"\",\"\",IF(B2964=\"\",E2963,IF(D2964=\"\",E2963,D2964/MAX($D$8:D2964)-1)))","v":""}]
[null,null,null,null,{"$f":"IF(A2965=\"\",\"\",IF(B2965=\"\",E2964,IF(D2965=\"\",E2964,D2965/MAX($D$8:D2965)-1)))","v":""}]
[null,null,null,null,{"$f":"IF(A2966=\"\",\"\",IF(B2966=\"\",E2965,IF(D2966=\"\",E2965,D2966/MAX($D$8:D2966)-1)))","v":""}]
[null,null,null,null,{"$f":"IF(A2967=\"\",\"\",IF(B2967=\"\",E2966,IF(D2967=\"\",E2966,D2967/MAX($D$8:D2967)-1)))","v":""}]
[null,null,null,null,{"$f":"IF(A2968=\"\",\"\",IF(B2968=\"\",E2967,IF(D2968=\"\",E2967,D2968/MAX($D$8:D2968)-1)))","v":""}]
[null,null,null,null,{"$f":"IF(A2969=\"\",\"\",IF(B2969=\"\",E2968,IF(D2969=\"\",E2968,D2969/MAX($D$8:D2969)-1)))","v":""}]
[null,null,null,null,{"$f":"IF(A2970=\"\",\"\",IF(B2970=\"\",E2969,IF(D2970=\"\",E2969,D2970/MAX($D$8:D2970)-1)))","v":""}]
[null,null,null,null,{"$f":"IF(A2971=\"\",\"\",IF(B2971=\"\",E2970,IF(D2971=\"\",E2970,D2971/MAX($D$8:D2971)-1)))","v":""}]
[null,null,null,null,{"$f":"IF(A2972=\"\",\"\",IF(B2972=\"\",E2971,IF(D2972=\"\",E2971,D2972/MAX($D$8:D2972)-1)))","v":""}]
[null,null,null,null,{"$f":"IF(A2973=\"\",\"\",IF(B2973=\"\",E2972,IF(D2973=\"\",E2972,D2973/MAX($D$8:D2973)-1)))","v":""}]
[null,null,null,null,{"$f":"IF(A2974=\"\",\"\",IF(B2974=\"\",E2973,IF(D2974=\"\",E2973,D2974/MAX($D$8:D2974)-1)))","v":""}]
[null,null,null,null,{"$f":"IF(A2975=\"\",\"\",IF(B2975=\"\",E2974,IF(D2975=\"\",E2974,D2975/MAX($D$8:D2975)-1)))","v":""}]
[null,null,null,null,{"$f":"IF(A2976=\"\",\"\",IF(B2976=\"\",E2975,IF(D2976=\"\",E2975,D2976/MAX($D$8:D2976)-1)))","v":""}]
[null,null,null,null,{"$f":"IF(A2977=\"\",\"\",IF(B2977=\"\",E2976,IF(D2977=\"\",E2976,D2977/MAX($D$8:D2977)-1)))","v":""}]
[null,null,null,null,{"$f":"IF(A2978=\"\",\"\",IF(B2978=\"\",E2977,IF(D2978=\"\",E2977,D2978/MAX($D$8:D2978)-1)))","v":""}]
[null,null,null,null,{"$f":"IF(A2979=\"\",\"\",IF(B2979=\"\",E2978,IF(D2979=\"\",E2978,D2979/MAX($D$8:D2979)-1)))","v":""}]
[null,null,null,null,{"$f":"IF(A2980=\"\",\"\",IF(B2980=\"\",E2979,IF(D2980=\"\",E2979,D2980/MAX($D$8:D2980)-1)))","v":""}]
[null,null,null,null,{"$f":"IF(A2981=\"\",\"\",IF(B2981=\"\",E2980,IF(D2981=\"\",E2980,D2981/MAX($D$8:D2981)-1)))","v":""}]
[null,null,null,null,{"$f":"IF(A2982=\"\",\"\",IF(B2982=\"\",E2981,IF(D2982=\"\",E2981,D2982/MAX($D$8:D2982)-1)))","v":""}]
[null,null,null,null,{"$f":"IF(A2983=\"\",\"\",IF(B2983=\"\",E2982,IF(D2983=\"\",E2982,D2983/MAX($D$8:D2983)-1)))","v":""}]
[null,null,null,null,{"$f":"IF(A2984=\"\",\"\",IF(B2984=\"\",E2983,IF(D2984=\"\",E2983,D2984/MAX($D$8:D2984)-1)))","v":""}]
[null,null,null,null,{"$f":"IF(A2985=\"\",\"\",IF(B2985=\"\",E2984,IF(D2985=\"\",E2984,D2985/MAX($D$8:D2985)-1)))","v":""}]
[null,null,null,null,{"$f":"IF(A2986=\"\",\"\",IF(B2986=\"\",E2985,IF(D2986=\"\",E2985,D2986/MAX($D$8:D2986)-1)))","v":""}]
[null,null,null,null,{"$f":"IF(A2987=\"\",\"\",IF(B2987=\"\",E2986,IF(D2987=\"\",E2986,D2987/MAX($D$8:D2987)-1)))","v":""}]
[null,null,null,null,{"$f":"IF(A2988=\"\",\"\",IF(B2988=\"\",E2987,IF(D2988=\"\",E2987,D2988/MAX($D$8:D2988)-1)))","v":""}]
[null,null,null,null,{"$f":"IF(A2989=\"\",\"\",IF(B2989=\"\",E2988,IF(D2989=\"\",E2988,D2989/MAX($D$8:D2989)-1)))","v":""}]
[null,null,null,null,{"$f":"IF(A2990=\"\",\"\",IF(B2990=\"\",E2989,IF(D2990=\"\",E2989,D2990/MAX($D$8:D2990)-1)))","v":""}]
[null,null,null,null,{"$f":"IF(A2991=\"\",\"\",IF(B2991=\"\",E2990,IF(D2991=\"\",E2990,D2991/MAX($D$8:D2991)-1)))","v":""}]
[null,null,null,null,{"$f":"IF(A2992=\"\",\"\",IF(B2992=\"\",E2991,IF(D2992=\"\",E2991,D2992/MAX($D$8:D2992)-1)))","v":""}]
[null,null,null,null,{"$f":"IF(A2993=\"\",\"\",IF(B2993=\"\",E2992,IF(D2993=\"\",E2992,D2993/MAX($D$8:D2993)-1)))","v":""}]
[null,null,null,null,{"$f":"IF(A2994=\"\",\"\",IF(B2994=\"\",E2993,IF(D2994=\"\",E2993,D2994/MAX($D$8:D2994)-1)))","v":""}]
[null,null,null,null,{"$f":"IF(A2995=\"\",\"\",IF(B2995=\"\",E2994,IF(D2995=\"\",E2994,D2995/MAX($D$8:D2995)-1)))","v":""}]
[null,null,null,null,{"$f":"IF(A2996=\"\",\"\",IF(B2996=\"\",E2995,IF(D2996=\"\",E2995,D2996/MAX($D$8:D2996)-1)))","v":""}]
[null,null,null,null,{"$f":"IF(A2997=\"\",\"\",IF(B2997=\"\",E2996,IF(D2997=\"\",E2996,D2997/MAX($D$8:D2997)-1)))","v":""}]
[null,null,null,null,{"$f":"IF(A2998=\"\",\"\",IF(B2998=\"\",E2997,IF(D2998=\"\",E2997,D2998/MAX($D$8:D2998)-1)))","v":""}]
[null,null,null,null,{"$f":"IF(A2999=\"\",\"\",IF(B2999=\"\",E2998,IF(D2999=\"\",E2998,D2999/MAX($D$8:D2999)-1)))","v":""}]
[null,null,null,null,{"$f":"IF(A3000=\"\",\"\",IF(B3000=\"\",E2999,IF(D3000=\"\",E2999,D3000/MAX($D$8:D3000)-1)))","v":""}]
[null,null,null,null,{"$f":"IF(A3001=\"\",\"\",IF(B3001=\"\",E3000,IF(D3001=\"\",E3000,D3001/MAX($D$8:D3001)-1)))","v":""}]
[null,null,null,null,{"$f":"IF(A3002=\"\",\"\",IF(B3002=\"\",E3001,IF(D3002=\"\",E3001,D3002/MAX($D$8:D3002)-1)))","v":""}]
[null,null,null,null,{"$f":"IF(A3003=\"\",\"\",IF(B3003=\"\",E3002,IF(D3003=\"\",E3002,D3003/MAX($D$8:D3003)-1)))","v":""}]
[null,null,null,null,{"$f":"IF(A3004=\"\",\"\",IF(B3004=\"\",E3003,IF(D3004=\"\",E3003,D3004/MAX($D$8:D3004)-1)))","v":""}]
[null,null,null,null,{"$f":"IF(A3005=\"\",\"\",IF(B3005=\"\",E3004,IF(D3005=\"\",E3004,D3005/MAX($D$8:D3005)-1)))","v":""}]
[null,null,null,null,{"$f":"IF(A3006=\"\",\"\",IF(B3006=\"\",E3005,IF(D3006=\"\",E3005,D3006/MAX($D$8:D3006)-1)))","v":""}]
[null,null,null,null,{"$f":"IF(A3007=\"\",\"\",IF(B3007=\"\",E3006,IF(D3007=\"\",E3006,D3007/MAX($D$8:D3007)-1)))","v":""}]
[null,null,null,null,{"$f":"IF(A3008=\"\",\"\",IF(B3008=\"\",E3007,IF(D3008=\"\",E3007,D3008/MAX($D$8:D3008)-1)))","v":""}]
[null,null,null,null,{"$f":"IF(A3009=\"\",\"\",IF(B3009=\"\",E3008,IF(D3009=\"\",E3008,D3009/MAX($D$8:D3009)-1)))","v":""}]
[null,null,null,null,{"$f":"IF(A3010=\"\",\"\",IF(B3010=\"\",E3009,IF(D3010=\"\",E3009,D3010/MAX($D$8:D3010)-1)))","v":""}]
[null,null,null,null,{"$f":"IF(A3011=\"\",\"\",IF(B3011=\"\",E3010,IF(D3011=\"\",E3010,D3011/MAX($D$8:D3011)-1)))","v":""}]
[null,null,null,null,{"$f":"IF(A3012=\"\",\"\",IF(B3012=\"\",E3011,IF(D3012=\"\",E3011,D3012/MAX($D$8:D3012)-1)))","v":""}]
[null,null,null,null,{"$f":"IF(A3013=\"\",\"\",IF(B3013=\"\",E3012,IF(D3013=\"\",E3012,D3013/MAX($D$8:D3013)-1)))","v":""}]
[null,null,null,null,{"$f":"IF(A3014=\"\",\"\",IF(B3014=\"\",E3013,IF(D3014=\"\",E3013,D3014/MAX($D$8:D3014)-1)))","v":""}]
[null,null,null,null,{"$f":"IF(A3015=\"\",\"\",IF(B3015=\"\",E3014,IF(D3015=\"\",E3014,D3015/MAX($D$8:D3015)-1)))","v":""}]
[null,null,null,null,{"$f":"IF(A3016=\"\",\"\",IF(B3016=\"\",E3015,IF(D3016=\"\",E3015,D3016/MAX($D$8:D3016)-1)))","v":""}]
[null,null,null,null,{"$f":"IF(A3017=\"\",\"\",IF(B3017=\"\",E3016,IF(D3017=\"\",E3016,D3017/MAX($D$8:D3017)-1)))","v":""}]
[null,null,null,null,{"$f":"IF(A3018=\"\",\"\",IF(B3018=\"\",E3017,IF(D3018=\"\",E3017,D3018/MAX($D$8:D3018)-1)))","v":""}]
[null,null,null,null,{"$f":"IF(A3019=\"\",\"\",IF(B3019=\"\",E3018,IF(D3019=\"\",E3018,D3019/MAX($D$8:D3019)-1)))","v":""}]
[null,null,null,null,{"$f":"IF(A3020=\"\",\"\",IF(B3020=\"\",E3019,IF(D3020=\"\",E3019,D3020/MAX($D$8:D3020)-1)))","v":""}]
[null,null,null,null,{"$f":"IF(A3021=\"\",\"\",IF(B3021=\"\",E3020,IF(D3021=\"\",E3020,D3021/MAX($D$8:D3021)-1)))","v":""}]
[null,null,null,null,{"$f":"IF(A3022=\"\",\"\",IF(B3022=\"\",E3021,IF(D3022=\"\",E3021,D3022/MAX($D$8:D3022)-1)))","v":""}]
[null,null,null,null,{"$f":"IF(A3023=\"\",\"\",IF(B3023=\"\",E3022,IF(D3023=\"\",E3022,D3023/MAX($D$8:D3023)-1)))","v":""}]
[null,null,null,null,{"$f":"IF(A3024=\"\",\"\",IF(B3024=\"\",E3023,IF(D3024=\"\",E3023,D3024/MAX($D$8:D3024)-1)))","v":""}]
[null,null,null,null,{"$f":"IF(A3025=\"\",\"\",IF(B3025=\"\",E3024,IF(D3025=\"\",E3024,D3025/MAX($D$8:D3025)-1)))","v":""}]
[null,null,null,null,{"$f":"IF(A3026=\"\",\"\",IF(B3026=\"\",E3025,IF(D3026=\"\",E3025,D3026/MAX($D$8:D3026)-1)))","v":""}]
[null,null,null,null,{"$f":"IF(A3027=\"\",\"\",IF(B3027=\"\",E3026,IF(D3027=\"\",E3026,D3027/MAX($D$8:D3027)-1)))","v":""}]
[null,null,null,null,{"$f":"IF(A3028=\"\",\"\",IF(B3028=\"\",E3027,IF(D3028=\"\",E3027,D3028/MAX($D$8:D3028)-1)))","v":""}]
[null,null,null,null,{"$f":"IF(A3029=\"\",\"\",IF(B3029=\"\",E3028,IF(D3029=\"\",E3028,D3029/MAX($D$8:D3029)-1)))","v":""}]
[null,null,null,null,{"$f":"IF(A3030=\"\",\"\",IF(B3030=\"\",E3029,IF(D3030=\"\",E3029,D3030/MAX($D$8:D3030)-1)))","v":""}]
[null,null,null,null,{"$f":"IF(A3031=\"\",\"\",IF(B3031=\"\",E3030,IF(D3031=\"\",E3030,D3031/MAX($D$8:D3031)-1)))","v":""}]
[null,null,null,null,{"$f":"IF(A3032=\"\",\"\",IF(B3032=\"\",E3031,IF(D3032=\"\",E3031,D3032/MAX($D$8:D3032)-1)))","v":""}]
[null,null,null,null,{"$f":"IF(A3033=\"\",\"\",IF(B3033=\"\",E3032,IF(D3033=\"\",E3032,D3033/MAX($D$8:D3033)-1)))","v":""}]
[null,null,null,null,{"$f":"IF(A3034=\"\",\"\",IF(B3034=\"\",E3033,IF(D3034=\"\",E3033,D3034/MAX($D$8:D3034)-1)))","v":""}]
[null,null,null,null,{"$f":"IF(A3035=\"\",\"\",IF(B3035=\"\",E3034,IF(D3035=\"\",E3034,D3035/MAX($D$8:D3035)-1)))","v":""}]
[null,null,null,null,{"$f":"IF(A3036=\"\",\"\",IF(B3036=\"\",E3035,IF(D3036=\"\",E3035,D3036/MAX($D$8:D3036)-1)))","v":""}]
[null,null,null,null,{"$f":"IF(A3037=\"\",\"\",IF(B3037=\"\",E3036,IF(D3037=\"\",E3036,D3037/MAX($D$8:D3037)-1)))","v":""}]
[null,null,null,null,{"$f":"IF(A3038=\"\",\"\",IF(B3038=\"\",E3037,IF(D3038=\"\",E3037,D3038/MAX($D$8:D3038)-1)))","v":""}]
[null,null,null,null,{"$f":"IF(A3039=\"\",\"\",IF(B3039=\"\",E3038,IF(D3039=\"\",E3038,D3039/MAX($D$8:D3039)-1)))","v":""}]
[null,null,null,null,{"$f":"IF(A3040=\"\",\"\",IF(B3040=\"\",E3039,IF(D3040=\"\",E3039,D3040/MAX($D$8:D3040)-1)))","v":""}]
[null,null,null,null,{"$f":"IF(A3041=\"\",\"\",IF(B3041=\"\",E3040,IF(D3041=\"\",E3040,D3041/MAX($D$8:D3041)-1)))","v":""}]
[null,null,null,null,{"$f":"IF(A3042=\"\",\"\",IF(B3042=\"\",E3041,IF(D3042=\"\",E3041,D3042/MAX($D$8:D3042)-1)))","v":""}]
[null,null,null,null,{"$f":"IF(A3043=\"\",\"\",IF(B3043=\"\",E3042,IF(D3043=\"\",E3042,D3043/MAX($D$8:D3043)-1)))","v":""}]
[null,null,null,null,{"$f":"IF(A3044=\"\",\"\",IF(B3044=\"\",E3043,IF(D3044=\"\",E3043,D3044/MAX($D$8:D3044)-1)))","v":""}]
[null,null,null,null,{"$f":"IF(A3045=\"\",\"\",IF(B3045=\"\",E3044,IF(D3045=\"\",E3044,D3045/MAX($D$8:D3045)-1)))","v":""}]
[null,null,null,null,{"$f":"IF(A3046=\"\",\"\",IF(B3046=\"\",E3045,IF(D3046=\"\",E3045,D3046/MAX($D$8:D3046)-1)))","v":""}]
[null,null,null,null,{"$f":"IF(A3047=\"\",\"\",IF(B3047=\"\",E3046,IF(D3047=\"\",E3046,D3047/MAX($D$8:D3047)-1)))","v":""}]
[null,null,null,null,{"$f":"IF(A3048=\"\",\"\",IF(B3048=\"\",E3047,IF(D3048=\"\",E3047,D3048/MAX($D$8:D3048)-1)))","v":""}]
[null,null,null,null,{"$f":"IF(A3049=\"\",\"\",IF(B3049=\"\",E3048,IF(D3049=\"\",E3048,D3049/MAX($D$8:D3049)-1)))","v":""}]
[null,null,null,null,{"$f":"IF(A3050=\"\",\"\",IF(B3050=\"\",E3049,IF(D3050=\"\",E3049,D3050/MAX($D$8:D3050)-1)))","v":""}]
[null,null,null,null,{"$f":"IF(A3051=\"\",\"\",IF(B3051=\"\",E3050,IF(D3051=\"\",E3050,D3051/MAX($D$8:D3051)-1)))","v":""}]
[null,null,null,null,{"$f":"IF(A3052=\"\",\"\",IF(B3052=\"\",E3051,IF(D3052=\"\",E3051,D3052/MAX($D$8:D3052)-1)))","v":""}]
[null,null,null,null,{"$f":"IF(A3053=\"\",\"\",IF(B3053=\"\",E3052,IF(D3053=\"\",E3052,D3053/MAX($D$8:D3053)-1)))","v":""}]
[null,null,null,null,{"$f":"IF(A3054=\"\",\"\",IF(B3054=\"\",E3053,IF(D3054=\"\",E3053,D3054/MAX($D$8:D3054)-1)))","v":""}]
[null,null,null,null,{"$f":"IF(A3055=\"\",\"\",IF(B3055=\"\",E3054,IF(D3055=\"\",E3054,D3055/MAX($D$8:D3055)-1)))","v":""}]
[null,null,null,null,{"$f":"IF(A3056=\"\",\"\",IF(B3056=\"\",E3055,IF(D3056=\"\",E3055,D3056/MAX($D$8:D3056)-1)))","v":""}]
[null,null,null,null,{"$f":"IF(A3057=\"\",\"\",IF(B3057=\"\",E3056,IF(D3057=\"\",E3056,D3057/MAX($D$8:D3057)-1)))","v":""}]
[null,null,null,null,{"$f":"IF(A3058=\"\",\"\",IF(B3058=\"\",E3057,IF(D3058=\"\",E3057,D3058/MAX($D$8:D3058)-1)))","v":""}]
[null,null,null,null,{"$f":"IF(A3059=\"\",\"\",IF(B3059=\"\",E3058,IF(D3059=\"\",E3058,D3059/MAX($D$8:D3059)-1)))","v":""}]
[null,null,null,null,{"$f":"IF(A3060=\"\",\"\",IF(B3060=\"\",E3059,IF(D3060=\"\",E3059,D3060/MAX($D$8:D3060)-1)))","v":""}]
[null,null,null,null,{"$f":"IF(A3061=\"\",\"\",IF(B3061=\"\",E3060,IF(D3061=\"\",E3060,D3061/MAX($D$8:D3061)-1)))","v":""}]
[null,null,null,null,{"$f":"IF(A3062=\"\",\"\",IF(B3062=\"\",E3061,IF(D3062=\"\",E3061,D3062/MAX($D$8:D3062)-1)))","v":""}]
[null,null,null,null,{"$f":"IF(A3063=\"\",\"\",IF(B3063=\"\",E3062,IF(D3063=\"\",E3062,D3063/MAX($D$8:D3063)-1)))","v":""}]
[null,null,null,null,{"$f":"IF(A3064=\"\",\"\",IF(B3064=\"\",E3063,IF(D3064=\"\",E3063,D3064/MAX($D$8:D3064)-1)))","v":""}]
[null,null,null,null,{"$f":"IF(A3065=\"\",\"\",IF(B3065=\"\",E3064,IF(D3065=\"\",E3064,D3065/MAX($D$8:D3065)-1)))","v":""}]
[null,null,null,null,{"$f":"IF(A3066=\"\",\"\",IF(B3066=\"\",E3065,IF(D3066=\"\",E3065,D3066/MAX($D$8:D3066)-1)))","v":""}]
[null,null,null,null,{"$f":"IF(A3067=\"\",\"\",IF(B3067=\"\",E3066,IF(D3067=\"\",E3066,D3067/MAX($D$8:D3067)-1)))","v":""}]
[null,null,null,null,{"$f":"IF(A3068=\"\",\"\",IF(B3068=\"\",E3067,IF(D3068=\"\",E3067,D3068/MAX($D$8:D3068)-1)))","v":""}]
[null,null,null,null,{"$f":"IF(A3069=\"\",\"\",IF(B3069=\"\",E3068,IF(D3069=\"\",E3068,D3069/MAX($D$8:D3069)-1)))","v":""}]
[null,null,null,null,{"$f":"IF(A3070=\"\",\"\",IF(B3070=\"\",E3069,IF(D3070=\"\",E3069,D3070/MAX($D$8:D3070)-1)))","v":""}]
[null,null,null,null,{"$f":"IF(A3071=\"\",\"\",IF(B3071=\"\",E3070,IF(D3071=\"\",E3070,D3071/MAX($D$8:D3071)-1)))","v":""}]
[null,null,null,null,{"$f":"IF(A3072=\"\",\"\",IF(B3072=\"\",E3071,IF(D3072=\"\",E3071,D3072/MAX($D$8:D3072)-1)))","v":""}]
[null,null,null,null,{"$f":"IF(A3073=\"\",\"\",IF(B3073=\"\",E3072,IF(D3073=\"\",E3072,D3073/MAX($D$8:D3073)-1)))","v":""}]
[null,null,null,null,{"$f":"IF(A3074=\"\",\"\",IF(B3074=\"\",E3073,IF(D3074=\"\",E3073,D3074/MAX($D$8:D3074)-1)))","v":""}]
[null,null,null,null,{"$f":"IF(A3075=\"\",\"\",IF(B3075=\"\",E3074,IF(D3075=\"\",E3074,D3075/MAX($D$8:D3075)-1)))","v":""}]
[null,null,null,null,{"$f":"IF(A3076=\"\",\"\",IF(B3076=\"\",E3075,IF(D3076=\"\",E3075,D3076/MAX($D$8:D3076)-1)))","v":""}]
[null,null,null,null,{"$f":"IF(A3077=\"\",\"\",IF(B3077=\"\",E3076,IF(D3077=\"\",E3076,D3077/MAX($D$8:D3077)-1)))","v":""}]
[null,null,null,null,{"$f":"IF(A3078=\"\",\"\",IF(B3078=\"\",E3077,IF(D3078=\"\",E3077,D3078/MAX($D$8:D3078)-1)))","v":""}]
[null,null,null,null,{"$f":"IF(A3079=\"\",\"\",IF(B3079=\"\",E3078,IF(D3079=\"\",E3078,D3079/MAX($D$8:D3079)-1)))","v":""}]
[null,null,null,null,{"$f":"IF(A3080=\"\",\"\",IF(B3080=\"\",E3079,IF(D3080=\"\",E3079,D3080/MAX($D$8:D3080)-1)))","v":""}]
[null,null,null,null,{"$f":"IF(A3081=\"\",\"\",IF(B3081=\"\",E3080,IF(D3081=\"\",E3080,D3081/MAX($D$8:D3081)-1)))","v":""}]
[null,null,null,null,{"$f":"IF(A3082=\"\",\"\",IF(B3082=\"\",E3081,IF(D3082=\"\",E3081,D3082/MAX($D$8:D3082)-1)))","v":""}]
[null,null,null,null,{"$f":"IF(A3083=\"\",\"\",IF(B3083=\"\",E3082,IF(D3083=\"\",E3082,D3083/MAX($D$8:D3083)-1)))","v":""}]
[null,null,null,null,{"$f":"IF(A3084=\"\",\"\",IF(B3084=\"\",E3083,IF(D3084=\"\",E3083,D3084/MAX($D$8:D3084)-1)))","v":""}]
[null,null,null,null,{"$f":"IF(A3085=\"\",\"\",IF(B3085=\"\",E3084,IF(D3085=\"\",E3084,D3085/MAX($D$8:D3085)-1)))","v":""}]
[null,null,null,null,{"$f":"IF(A3086=\"\",\"\",IF(B3086=\"\",E3085,IF(D3086=\"\",E3085,D3086/MAX($D$8:D3086)-1)))","v":""}]
[null,null,null,null,{"$f":"IF(A3087=\"\",\"\",IF(B3087=\"\",E3086,IF(D3087=\"\",E3086,D3087/MAX($D$8:D3087)-1)))","v":""}]
[null,null,null,null,{"$f":"IF(A3088=\"\",\"\",IF(B3088=\"\",E3087,IF(D3088=\"\",E3087,D3088/MAX($D$8:D3088)-1)))","v":""}]
[null,null,null,null,{"$f":"IF(A3089=\"\",\"\",IF(B3089=\"\",E3088,IF(D3089=\"\",E3088,D3089/MAX($D$8:D3089)-1)))","v":""}]
[null,null,null,null,{"$f":"IF(A3090=\"\",\"\",IF(B3090=\"\",E3089,IF(D3090=\"\",E3089,D3090/MAX($D$8:D3090)-1)))","v":""}]
[null,null,null,null,{"$f":"IF(A3091=\"\",\"\",IF(B3091=\"\",E3090,IF(D3091=\"\",E3090,D3091/MAX($D$8:D3091)-1)))","v":""}]
[null,null,null,null,{"$f":"IF(A3092=\"\",\"\",IF(B3092=\"\",E3091,IF(D3092=\"\",E3091,D3092/MAX($D$8:D3092)-1)))","v":""}]
[null,null,null,null,{"$f":"IF(A3093=\"\",\"\",IF(B3093=\"\",E3092,IF(D3093=\"\",E3092,D3093/MAX($D$8:D3093)-1)))","v":""}]
[null,null,null,null,{"$f":"IF(A3094=\"\",\"\",IF(B3094=\"\",E3093,IF(D3094=\"\",E3093,D3094/MAX($D$8:D3094)-1)))","v":""}]
[null,null,null,null,{"$f":"IF(A3095=\"\",\"\",IF(B3095=\"\",E3094,IF(D3095=\"\",E3094,D3095/MAX($D$8:D3095)-1)))","v":""}]
[null,null,null,null,{"$f":"IF(A3096=\"\",\"\",IF(B3096=\"\",E3095,IF(D3096=\"\",E3095,D3096/MAX($D$8:D3096)-1)))","v":""}]
[null,null,null,null,{"$f":"IF(A3097=\"\",\"\",IF(B3097=\"\",E3096,IF(D3097=\"\",E3096,D3097/MAX($D$8:D3097)-1)))","v":""}]
[null,null,null,null,{"$f":"IF(A3098=\"\",\"\",IF(B3098=\"\",E3097,IF(D3098=\"\",E3097,D3098/MAX($D$8:D3098)-1)))","v":""}]
[null,null,null,null,{"$f":"IF(A3099=\"\",\"\",IF(B3099=\"\",E3098,IF(D3099=\"\",E3098,D3099/MAX($D$8:D3099)-1)))","v":""}]
[null,null,null,null,{"$f":"IF(A3100=\"\",\"\",IF(B3100=\"\",E3099,IF(D3100=\"\",E3099,D3100/MAX($D$8:D3100)-1)))","v":""}]
[null,null,null,null,{"$f":"IF(A3101=\"\",\"\",IF(B3101=\"\",E3100,IF(D3101=\"\",E3100,D3101/MAX($D$8:D3101)-1)))","v":""}]
[null,null,null,null,{"$f":"IF(A3102=\"\",\"\",IF(B3102=\"\",E3101,IF(D3102=\"\",E3101,D3102/MAX($D$8:D3102)-1)))","v":""}]
[null,null,null,null,{"$f":"IF(A3103=\"\",\"\",IF(B3103=\"\",E3102,IF(D3103=\"\",E3102,D3103/MAX($D$8:D3103)-1)))","v":""}]
[null,null,null,null,{"$f":"IF(A3104=\"\",\"\",IF(B3104=\"\",E3103,IF(D3104=\"\",E3103,D3104/MAX($D$8:D3104)-1)))","v":""}]
[null,null,null,null,{"$f":"IF(A3105=\"\",\"\",IF(B3105=\"\",E3104,IF(D3105=\"\",E3104,D3105/MAX($D$8:D3105)-1)))","v":""}]
[null,null,null,null,{"$f":"IF(A3106=\"\",\"\",IF(B3106=\"\",E3105,IF(D3106=\"\",E3105,D3106/MAX($D$8:D3106)-1)))","v":""}]
[null,null,null,null,{"$f":"IF(A3107=\"\",\"\",IF(B3107=\"\",E3106,IF(D3107=\"\",E3106,D3107/MAX($D$8:D3107)-1)))","v":""}]
[null,null,null,null,{"$f":"IF(A3108=\"\",\"\",IF(B3108=\"\",E3107,IF(D3108=\"\",E3107,D3108/MAX($D$8:D3108)-1)))","v":""}]
[null,null,null,null,{"$f":"IF(A3109=\"\",\"\",IF(B3109=\"\",E3108,IF(D3109=\"\",E3108,D3109/MAX($D$8:D3109)-1)))","v":""}]
[null,null,null,null,{"$f":"IF(A3110=\"\",\"\",IF(B3110=\"\",E3109,IF(D3110=\"\",E3109,D3110/MAX($D$8:D3110)-1)))","v":""}]
[null,null,null,null,{"$f":"IF(A3111=\"\",\"\",IF(B3111=\"\",E3110,IF(D3111=\"\",E3110,D3111/MAX($D$8:D3111)-1)))","v":""}]
[null,null,null,null,{"$f":"IF(A3112=\"\",\"\",IF(B3112=\"\",E3111,IF(D3112=\"\",E3111,D3112/MAX($D$8:D3112)-1)))","v":""}]
[null,null,null,null,{"$f":"IF(A3113=\"\",\"\",IF(B3113=\"\",E3112,IF(D3113=\"\",E3112,D3113/MAX($D$8:D3113)-1)))","v":""}]
[null,null,null,null,{"$f":"IF(A3114=\"\",\"\",IF(B3114=\"\",E3113,IF(D3114=\"\",E3113,D3114/MAX($D$8:D3114)-1)))","v":""}]
[null,null,null,null,{"$f":"IF(A3115=\"\",\"\",IF(B3115=\"\",E3114,IF(D3115=\"\",E3114,D3115/MAX($D$8:D3115)-1)))","v":""}]
[null,null,null,null,{"$f":"IF(A3116=\"\",\"\",IF(B3116=\"\",E3115,IF(D3116=\"\",E3115,D3116/MAX($D$8:D3116)-1)))","v":""}]
[null,null,null,null,{"$f":"IF(A3117=\"\",\"\",IF(B3117=\"\",E3116,IF(D3117=\"\",E3116,D3117/MAX($D$8:D3117)-1)))","v":""}]
[null,null,null,null,{"$f":"IF(A3118=\"\",\"\",IF(B3118=\"\",E3117,IF(D3118=\"\",E3117,D3118/MAX($D$8:D3118)-1)))","v":""}]
[null,null,null,null,{"$f":"IF(A3119=\"\",\"\",IF(B3119=\"\",E3118,IF(D3119=\"\",E3118,D3119/MAX($D$8:D3119)-1)))","v":""}]
[null,null,null,null,{"$f":"IF(A3120=\"\",\"\",IF(B3120=\"\",E3119,IF(D3120=\"\",E3119,D3120/MAX($D$8:D3120)-1)))","v":""}]
[null,null,null,null,{"$f":"IF(A3121=\"\",\"\",IF(B3121=\"\",E3120,IF(D3121=\"\",E3120,D3121/MAX($D$8:D3121)-1)))","v":""}]
[null,null,null,null,{"$f":"IF(A3122=\"\",\"\",IF(B3122=\"\",E3121,IF(D3122=\"\",E3121,D3122/MAX($D$8:D3122)-1)))","v":""}]
[null,null,null,null,{"$f":"IF(A3123=\"\",\"\",IF(B3123=\"\",E3122,IF(D3123=\"\",E3122,D3123/MAX($D$8:D3123)-1)))","v":""}]
[null,null,null,null,{"$f":"IF(A3124=\"\",\"\",IF(B3124=\"\",E3123,IF(D3124=\"\",E3123,D3124/MAX($D$8:D3124)-1)))","v":""}]
[null,null,null,null,{"$f":"IF(A3125=\"\",\"\",IF(B3125=\"\",E3124,IF(D3125=\"\",E3124,D3125/MAX($D$8:D3125)-1)))","v":""}]
[null,null,null,null,{"$f":"IF(A3126=\"\",\"\",IF(B3126=\"\",E3125,IF(D3126=\"\",E3125,D3126/MAX($D$8:D3126)-1)))","v":""}]
[null,null,null,null,{"$f":"IF(A3127=\"\",\"\",IF(B3127=\"\",E3126,IF(D3127=\"\",E3126,D3127/MAX($D$8:D3127)-1)))","v":""}]
[null,null,null,null,{"$f":"IF(A3128=\"\",\"\",IF(B3128=\"\",E3127,IF(D3128=\"\",E3127,D3128/MAX($D$8:D3128)-1)))","v":""}]
[null,null,null,null,{"$f":"IF(A3129=\"\",\"\",IF(B3129=\"\",E3128,IF(D3129=\"\",E3128,D3129/MAX($D$8:D3129)-1)))","v":""}]
[null,null,null,null,{"$f":"IF(A3130=\"\",\"\",IF(B3130=\"\",E3129,IF(D3130=\"\",E3129,D3130/MAX($D$8:D3130)-1)))","v":""}]
[null,null,null,null,{"$f":"IF(A3131=\"\",\"\",IF(B3131=\"\",E3130,IF(D3131=\"\",E3130,D3131/MAX($D$8:D3131)-1)))","v":""}]
[null,null,null,null,{"$f":"IF(A3132=\"\",\"\",IF(B3132=\"\",E3131,IF(D3132=\"\",E3131,D3132/MAX($D$8:D3132)-1)))","v":""}]
[null,null,null,null,{"$f":"IF(A3133=\"\",\"\",IF(B3133=\"\",E3132,IF(D3133=\"\",E3132,D3133/MAX($D$8:D3133)-1)))","v":""}]
[null,null,null,null,{"$f":"IF(A3134=\"\",\"\",IF(B3134=\"\",E3133,IF(D3134=\"\",E3133,D3134/MAX($D$8:D3134)-1)))","v":""}]
[null,null,null,null,{"$f":"IF(A3135=\"\",\"\",IF(B3135=\"\",E3134,IF(D3135=\"\",E3134,D3135/MAX($D$8:D3135)-1)))","v":""}]
[null,null,null,null,{"$f":"IF(A3136=\"\",\"\",IF(B3136=\"\",E3135,IF(D3136=\"\",E3135,D3136/MAX($D$8:D3136)-1)))","v":""}]
[null,null,null,null,{"$f":"IF(A3137=\"\",\"\",IF(B3137=\"\",E3136,IF(D3137=\"\",E3136,D3137/MAX($D$8:D3137)-1)))","v":""}]
[null,null,null,null,{"$f":"IF(A3138=\"\",\"\",IF(B3138=\"\",E3137,IF(D3138=\"\",E3137,D3138/MAX($D$8:D3138)-1)))","v":""}]
[null,null,null,null,{"$f":"IF(A3139=\"\",\"\",IF(B3139=\"\",E3138,IF(D3139=\"\",E3138,D3139/MAX($D$8:D3139)-1)))","v":""}]
[null,null,null,null,{"$f":"IF(A3140=\"\",\"\",IF(B3140=\"\",E3139,IF(D3140=\"\",E3139,D3140/MAX($D$8:D3140)-1)))","v":""}]
[null,null,null,null,{"$f":"IF(A3141=\"\",\"\",IF(B3141=\"\",E3140,IF(D3141=\"\",E3140,D3141/MAX($D$8:D3141)-1)))","v":""}]
[null,null,null,null,{"$f":"IF(A3142=\"\",\"\",IF(B3142=\"\",E3141,IF(D3142=\"\",E3141,D3142/MAX($D$8:D3142)-1)))","v":""}]
[null,null,null,null,{"$f":"IF(A3143=\"\",\"\",IF(B3143=\"\",E3142,IF(D3143=\"\",E3142,D3143/MAX($D$8:D3143)-1)))","v":""}]
[null,null,null,null,{"$f":"IF(A3144=\"\",\"\",IF(B3144=\"\",E3143,IF(D3144=\"\",E3143,D3144/MAX($D$8:D3144)-1)))","v":""}]
[null,null,null,null,{"$f":"IF(A3145=\"\",\"\",IF(B3145=\"\",E3144,IF(D3145=\"\",E3144,D3145/MAX($D$8:D3145)-1)))","v":""}]
[null,null,null,null,{"$f":"IF(A3146=\"\",\"\",IF(B3146=\"\",E3145,IF(D3146=\"\",E3145,D3146/MAX($D$8:D3146)-1)))","v":""}]
[null,null,null,null,{"$f":"IF(A3147=\"\",\"\",IF(B3147=\"\",E3146,IF(D3147=\"\",E3146,D3147/MAX($D$8:D3147)-1)))","v":""}]
[null,null,null,null,{"$f":"IF(A3148=\"\",\"\",IF(B3148=\"\",E3147,IF(D3148=\"\",E3147,D3148/MAX($D$8:D3148)-1)))","v":""}]
[null,null,null,null,{"$f":"IF(A3149=\"\",\"\",IF(B3149=\"\",E3148,IF(D3149=\"\",E3148,D3149/MAX($D$8:D3149)-1)))","v":""}]
[null,null,null,null,{"$f":"IF(A3150=\"\",\"\",IF(B3150=\"\",E3149,IF(D3150=\"\",E3149,D3150/MAX($D$8:D3150)-1)))","v":""}]
[null,null,null,null,{"$f":"IF(A3151=\"\",\"\",IF(B3151=\"\",E3150,IF(D3151=\"\",E3150,D3151/MAX($D$8:D3151)-1)))","v":""}]
[null,null,null,null,{"$f":"IF(A3152=\"\",\"\",IF(B3152=\"\",E3151,IF(D3152=\"\",E3151,D3152/MAX($D$8:D3152)-1)))","v":""}]
[null,null,null,null,{"$f":"IF(A3153=\"\",\"\",IF(B3153=\"\",E3152,IF(D3153=\"\",E3152,D3153/MAX($D$8:D3153)-1)))","v":""}]
[null,null,null,null,{"$f":"IF(A3154=\"\",\"\",IF(B3154=\"\",E3153,IF(D3154=\"\",E3153,D3154/MAX($D$8:D3154)-1)))","v":""}]
[null,null,null,null,{"$f":"IF(A3155=\"\",\"\",IF(B3155=\"\",E3154,IF(D3155=\"\",E3154,D3155/MAX($D$8:D3155)-1)))","v":""}]
[null,null,null,null,{"$f":"IF(A3156=\"\",\"\",IF(B3156=\"\",E3155,IF(D3156=\"\",E3155,D3156/MAX($D$8:D3156)-1)))","v":""}]
[null,null,null,null,{"$f":"IF(A3157=\"\",\"\",IF(B3157=\"\",E3156,IF(D3157=\"\",E3156,D3157/MAX($D$8:D3157)-1)))","v":""}]
[null,null,null,null,{"$f":"IF(A3158=\"\",\"\",IF(B3158=\"\",E3157,IF(D3158=\"\",E3157,D3158/MAX($D$8:D3158)-1)))","v":""}]
[null,null,null,null,{"$f":"IF(A3159=\"\",\"\",IF(B3159=\"\",E3158,IF(D3159=\"\",E3158,D3159/MAX($D$8:D3159)-1)))","v":""}]
[null,null,null,null,{"$f":"IF(A3160=\"\",\"\",IF(B3160=\"\",E3159,IF(D3160=\"\",E3159,D3160/MAX($D$8:D3160)-1)))","v":""}]
[null,null,null,null,{"$f":"IF(A3161=\"\",\"\",IF(B3161=\"\",E3160,IF(D3161=\"\",E3160,D3161/MAX($D$8:D3161)-1)))","v":""}]
[null,null,null,null,{"$f":"IF(A3162=\"\",\"\",IF(B3162=\"\",E3161,IF(D3162=\"\",E3161,D3162/MAX($D$8:D3162)-1)))","v":""}]
[null,null,null,null,{"$f":"IF(A3163=\"\",\"\",IF(B3163=\"\",E3162,IF(D3163=\"\",E3162,D3163/MAX($D$8:D3163)-1)))","v":""}]
[null,null,null,null,{"$f":"IF(A3164=\"\",\"\",IF(B3164=\"\",E3163,IF(D3164=\"\",E3163,D3164/MAX($D$8:D3164)-1)))","v":""}]
[null,null,null,null,{"$f":"IF(A3165=\"\",\"\",IF(B3165=\"\",E3164,IF(D3165=\"\",E3164,D3165/MAX($D$8:D3165)-1)))","v":""}]
[null,null,null,null,{"$f":"IF(A3166=\"\",\"\",IF(B3166=\"\",E3165,IF(D3166=\"\",E3165,D3166/MAX($D$8:D3166)-1)))","v":""}]
[null,null,null,null,{"$f":"IF(A3167=\"\",\"\",IF(B3167=\"\",E3166,IF(D3167=\"\",E3166,D3167/MAX($D$8:D3167)-1)))","v":""}]
[null,null,null,null,{"$f":"IF(A3168=\"\",\"\",IF(B3168=\"\",E3167,IF(D3168=\"\",E3167,D3168/MAX($D$8:D3168)-1)))","v":""}]
[null,null,null,null,{"$f":"IF(A3169=\"\",\"\",IF(B3169=\"\",E3168,IF(D3169=\"\",E3168,D3169/MAX($D$8:D3169)-1)))","v":""}]
[null,null,null,null,{"$f":"IF(A3170=\"\",\"\",IF(B3170=\"\",E3169,IF(D3170=\"\",E3169,D3170/MAX($D$8:D3170)-1)))","v":""}]
[null,null,null,null,{"$f":"IF(A3171=\"\",\"\",IF(B3171=\"\",E3170,IF(D3171=\"\",E3170,D3171/MAX($D$8:D3171)-1)))","v":""}]
[null,null,null,null,{"$f":"IF(A3172=\"\",\"\",IF(B3172=\"\",E3171,IF(D3172=\"\",E3171,D3172/MAX($D$8:D3172)-1)))","v":""}]
[null,null,null,null,{"$f":"IF(A3173=\"\",\"\",IF(B3173=\"\",E3172,IF(D3173=\"\",E3172,D3173/MAX($D$8:D3173)-1)))","v":""}]
[null,null,null,null,{"$f":"IF(A3174=\"\",\"\",IF(B3174=\"\",E3173,IF(D3174=\"\",E3173,D3174/MAX($D$8:D3174)-1)))","v":""}]
[null,null,null,null,{"$f":"IF(A3175=\"\",\"\",IF(B3175=\"\",E3174,IF(D3175=\"\",E3174,D3175/MAX($D$8:D3175)-1)))","v":""}]
[null,null,null,null,{"$f":"IF(A3176=\"\",\"\",IF(B3176=\"\",E3175,IF(D3176=\"\",E3175,D3176/MAX($D$8:D3176)-1)))","v":""}]
[null,null,null,null,{"$f":"IF(A3177=\"\",\"\",IF(B3177=\"\",E3176,IF(D3177=\"\",E3176,D3177/MAX($D$8:D3177)-1)))","v":""}]
[null,null,null,null,{"$f":"IF(A3178=\"\",\"\",IF(B3178=\"\",E3177,IF(D3178=\"\",E3177,D3178/MAX($D$8:D3178)-1)))","v":""}]
[null,null,null,null,{"$f":"IF(A3179=\"\",\"\",IF(B3179=\"\",E3178,IF(D3179=\"\",E3178,D3179/MAX($D$8:D3179)-1)))","v":""}]
[null,null,null,null,{"$f":"IF(A3180=\"\",\"\",IF(B3180=\"\",E3179,IF(D3180=\"\",E3179,D3180/MAX($D$8:D3180)-1)))","v":""}]
[null,null,null,null,{"$f":"IF(A3181=\"\",\"\",IF(B3181=\"\",E3180,IF(D3181=\"\",E3180,D3181/MAX($D$8:D3181)-1)))","v":""}]
[null,null,null,null,{"$f":"IF(A3182=\"\",\"\",IF(B3182=\"\",E3181,IF(D3182=\"\",E3181,D3182/MAX($D$8:D3182)-1)))","v":""}]
[null,null,null,null,{"$f":"IF(A3183=\"\",\"\",IF(B3183=\"\",E3182,IF(D3183=\"\",E3182,D3183/MAX($D$8:D3183)-1)))","v":""}]
[null,null,null,null,{"$f":"IF(A3184=\"\",\"\",IF(B3184=\"\",E3183,IF(D3184=\"\",E3183,D3184/MAX($D$8:D3184)-1)))","v":""}]
[null,null,null,null,{"$f":"IF(A3185=\"\",\"\",IF(B3185=\"\",E3184,IF(D3185=\"\",E3184,D3185/MAX($D$8:D3185)-1)))","v":""}]
[null,null,null,null,{"$f":"IF(A3186=\"\",\"\",IF(B3186=\"\",E3185,IF(D3186=\"\",E3185,D3186/MAX($D$8:D3186)-1)))","v":""}]
[null,null,null,null,{"$f":"IF(A3187=\"\",\"\",IF(B3187=\"\",E3186,IF(D3187=\"\",E3186,D3187/MAX($D$8:D3187)-1)))","v":""}]
[null,null,null,null,{"$f":"IF(A3188=\"\",\"\",IF(B3188=\"\",E3187,IF(D3188=\"\",E3187,D3188/MAX($D$8:D3188)-1)))","v":""}]
[null,null,null,null,{"$f":"IF(A3189=\"\",\"\",IF(B3189=\"\",E3188,IF(D3189=\"\",E3188,D3189/MAX($D$8:D3189)-1)))","v":""}]
[null,null,null,null,{"$f":"IF(A3190=\"\",\"\",IF(B3190=\"\",E3189,IF(D3190=\"\",E3189,D3190/MAX($D$8:D3190)-1)))","v":""}]
[null,null,null,null,{"$f":"IF(A3191=\"\",\"\",IF(B3191=\"\",E3190,IF(D3191=\"\",E3190,D3191/MAX($D$8:D3191)-1)))","v":""}]
[null,null,null,null,{"$f":"IF(A3192=\"\",\"\",IF(B3192=\"\",E3191,IF(D3192=\"\",E3191,D3192/MAX($D$8:D3192)-1)))","v":""}]
[null,null,null,null,{"$f":"IF(A3193=\"\",\"\",IF(B3193=\"\",E3192,IF(D3193=\"\",E3192,D3193/MAX($D$8:D3193)-1)))","v":""}]
[null,null,null,null,{"$f":"IF(A3194=\"\",\"\",IF(B3194=\"\",E3193,IF(D3194=\"\",E3193,D3194/MAX($D$8:D3194)-1)))","v":""}]
[null,null,null,null,{"$f":"IF(A3195=\"\",\"\",IF(B3195=\"\",E3194,IF(D3195=\"\",E3194,D3195/MAX($D$8:D3195)-1)))","v":""}]
[null,null,null,null,{"$f":"IF(A3196=\"\",\"\",IF(B3196=\"\",E3195,IF(D3196=\"\",E3195,D3196/MAX($D$8:D3196)-1)))","v":""}]
[null,null,null,null,{"$f":"IF(A3197=\"\",\"\",IF(B3197=\"\",E3196,IF(D3197=\"\",E3196,D3197/MAX($D$8:D3197)-1)))","v":""}]
[null,null,null,null,{"$f":"IF(A3198=\"\",\"\",IF(B3198=\"\",E3197,IF(D3198=\"\",E3197,D3198/MAX($D$8:D3198)-1)))","v":""}]
[null,null,null,null,{"$f":"IF(A3199=\"\",\"\",IF(B3199=\"\",E3198,IF(D3199=\"\",E3198,D3199/MAX($D$8:D3199)-1)))","v":""}]
[null,null,null,null,{"$f":"IF(A3200=\"\",\"\",IF(B3200=\"\",E3199,IF(D3200=\"\",E3199,D3200/MAX($D$8:D3200)-1)))","v":""}]
[null,null,null,null,{"$f":"IF(A3201=\"\",\"\",IF(B3201=\"\",E3200,IF(D3201=\"\",E3200,D3201/MAX($D$8:D3201)-1)))","v":""}]
[null,null,null,null,{"$f":"IF(A3202=\"\",\"\",IF(B3202=\"\",E3201,IF(D3202=\"\",E3201,D3202/MAX($D$8:D3202)-1)))","v":""}]
[null,null,null,null,{"$f":"IF(A3203=\"\",\"\",IF(B3203=\"\",E3202,IF(D3203=\"\",E3202,D3203/MAX($D$8:D3203)-1)))","v":""}]
[null,null,null,null,{"$f":"IF(A3204=\"\",\"\",IF(B3204=\"\",E3203,IF(D3204=\"\",E3203,D3204/MAX($D$8:D3204)-1)))","v":""}]
[null,null,null,null,{"$f":"IF(A3205=\"\",\"\",IF(B3205=\"\",E3204,IF(D3205=\"\",E3204,D3205/MAX($D$8:D3205)-1)))","v":""}]
[null,null,null,null,{"$f":"IF(A3206=\"\",\"\",IF(B3206=\"\",E3205,IF(D3206=\"\",E3205,D3206/MAX($D$8:D3206)-1)))","v":""}]
[null,null,null,null,{"$f":"IF(A3207=\"\",\"\",IF(B3207=\"\",E3206,IF(D3207=\"\",E3206,D3207/MAX($D$8:D3207)-1)))","v":""}]
[null,null,null,null,{"$f":"IF(A3208=\"\",\"\",IF(B3208=\"\",E3207,IF(D3208=\"\",E3207,D3208/MAX($D$8:D3208)-1)))","v":""}]
[null,null,null,null,{"$f":"IF(A3209=\"\",\"\",IF(B3209=\"\",E3208,IF(D3209=\"\",E3208,D3209/MAX($D$8:D3209)-1)))","v":""}]
[null,null,null,null,{"$f":"IF(A3210=\"\",\"\",IF(B3210=\"\",E3209,IF(D3210=\"\",E3209,D3210/MAX($D$8:D3210)-1)))","v":""}]
[null,null,null,null,{"$f":"IF(A3211=\"\",\"\",IF(B3211=\"\",E3210,IF(D3211=\"\",E3210,D3211/MAX($D$8:D3211)-1)))","v":""}]
[null,null,null,null,{"$f":"IF(A3212=\"\",\"\",IF(B3212=\"\",E3211,IF(D3212=\"\",E3211,D3212/MAX($D$8:D3212)-1)))","v":""}]
[null,null,null,null,{"$f":"IF(A3213=\"\",\"\",IF(B3213=\"\",E3212,IF(D3213=\"\",E3212,D3213/MAX($D$8:D3213)-1)))","v":""}]
[null,null,null,null,{"$f":"IF(A3214=\"\",\"\",IF(B3214=\"\",E3213,IF(D3214=\"\",E3213,D3214/MAX($D$8:D3214)-1)))","v":""}]
[null,null,null,null,{"$f":"IF(A3215=\"\",\"\",IF(B3215=\"\",E3214,IF(D3215=\"\",E3214,D3215/MAX($D$8:D3215)-1)))","v":""}]
[null,null,null,null,{"$f":"IF(A3216=\"\",\"\",IF(B3216=\"\",E3215,IF(D3216=\"\",E3215,D3216/MAX($D$8:D3216)-1)))","v":""}]
[null,null,null,null,{"$f":"IF(A3217=\"\",\"\",IF(B3217=\"\",E3216,IF(D3217=\"\",E3216,D3217/MAX($D$8:D3217)-1)))","v":""}]
[null,null,null,null,{"$f":"IF(A3218=\"\",\"\",IF(B3218=\"\",E3217,IF(D3218=\"\",E3217,D3218/MAX($D$8:D3218)-1)))","v":""}]
[null,null,null,null,{"$f":"IF(A3219=\"\",\"\",IF(B3219=\"\",E3218,IF(D3219=\"\",E3218,D3219/MAX($D$8:D3219)-1)))","v":""}]
[null,null,null,null,{"$f":"IF(A3220=\"\",\"\",IF(B3220=\"\",E3219,IF(D3220=\"\",E3219,D3220/MAX($D$8:D3220)-1)))","v":""}]
[null,null,null,null,{"$f":"IF(A3221=\"\",\"\",IF(B3221=\"\",E3220,IF(D3221=\"\",E3220,D3221/MAX($D$8:D3221)-1)))","v":""}]
[null,null,null,null,{"$f":"IF(A3222=\"\",\"\",IF(B3222=\"\",E3221,IF(D3222=\"\",E3221,D3222/MAX($D$8:D3222)-1)))","v":""}]
[null,null,null,null,{"$f":"IF(A3223=\"\",\"\",IF(B3223=\"\",E3222,IF(D3223=\"\",E3222,D3223/MAX($D$8:D3223)-1)))","v":""}]
[null,null,null,null,{"$f":"IF(A3224=\"\",\"\",IF(B3224=\"\",E3223,IF(D3224=\"\",E3223,D3224/MAX($D$8:D3224)-1)))","v":""}]
[null,null,null,null,{"$f":"IF(A3225=\"\",\"\",IF(B3225=\"\",E3224,IF(D3225=\"\",E3224,D3225/MAX($D$8:D3225)-1)))","v":""}]
[null,null,null,null,{"$f":"IF(A3226=\"\",\"\",IF(B3226=\"\",E3225,IF(D3226=\"\",E3225,D3226/MAX($D$8:D3226)-1)))","v":""}]
[null,null,null,null,{"$f":"IF(A3227=\"\",\"\",IF(B3227=\"\",E3226,IF(D3227=\"\",E3226,D3227/MAX($D$8:D3227)-1)))","v":""}]
[null,null,null,null,{"$f":"IF(A3228=\"\",\"\",IF(B3228=\"\",E3227,IF(D3228=\"\",E3227,D3228/MAX($D$8:D3228)-1)))","v":""}]
[null,null,null,null,{"$f":"IF(A3229=\"\",\"\",IF(B3229=\"\",E3228,IF(D3229=\"\",E3228,D3229/MAX($D$8:D3229)-1)))","v":""}]
[null,null,null,null,{"$f":"IF(A3230=\"\",\"\",IF(B3230=\"\",E3229,IF(D3230=\"\",E3229,D3230/MAX($D$8:D3230)-1)))","v":""}]
[null,null,null,null,{"$f":"IF(A3231=\"\",\"\",IF(B3231=\"\",E3230,IF(D3231=\"\",E3230,D3231/MAX($D$8:D3231)-1)))","v":""}]
[null,null,null,null,{"$f":"IF(A3232=\"\",\"\",IF(B3232=\"\",E3231,IF(D3232=\"\",E3231,D3232/MAX($D$8:D3232)-1)))","v":""}]
[null,null,null,null,{"$f":"IF(A3233=\"\",\"\",IF(B3233=\"\",E3232,IF(D3233=\"\",E3232,D3233/MAX($D$8:D3233)-1)))","v":""}]
[null,null,null,null,{"$f":"IF(A3234=\"\",\"\",IF(B3234=\"\",E3233,IF(D3234=\"\",E3233,D3234/MAX($D$8:D3234)-1)))","v":""}]
[null,null,null,null,{"$f":"IF(A3235=\"\",\"\",IF(B3235=\"\",E3234,IF(D3235=\"\",E3234,D3235/MAX($D$8:D3235)-1)))","v":""}]
[null,null,null,null,{"$f":"IF(A3236=\"\",\"\",IF(B3236=\"\",E3235,IF(D3236=\"\",E3235,D3236/MAX($D$8:D3236)-1)))","v":""}]
[null,null,null,null,{"$f":"IF(A3237=\"\",\"\",IF(B3237=\"\",E3236,IF(D3237=\"\",E3236,D3237/MAX($D$8:D3237)-1)))","v":""}]
[null,null,null,null,{"$f":"IF(A3238=\"\",\"\",IF(B3238=\"\",E3237,IF(D3238=\"\",E3237,D3238/MAX($D$8:D3238)-1)))","v":""}]
[null,null,null,null,{"$f":"IF(A3239=\"\",\"\",IF(B3239=\"\",E3238,IF(D3239=\"\",E3238,D3239/MAX($D$8:D3239)-1)))","v":""}]
[null,null,null,null,{"$f":"IF(A3240=\"\",\"\",IF(B3240=\"\",E3239,IF(D3240=\"\",E3239,D3240/MAX($D$8:D3240)-1)))","v":""}]
[null,null,null,null,{"$f":"IF(A3241=\"\",\"\",IF(B3241=\"\",E3240,IF(D3241=\"\",E3240,D3241/MAX($D$8:D3241)-1)))","v":""}]
[null,null,null,null,{"$f":"IF(A3242=\"\",\"\",IF(B3242=\"\",E3241,IF(D3242=\"\",E3241,D3242/MAX($D$8:D3242)-1)))","v":""}]
[null,null,null,null,{"$f":"IF(A3243=\"\",\"\",IF(B3243=\"\",E3242,IF(D3243=\"\",E3242,D3243/MAX($D$8:D3243)-1)))","v":""}]
[null,null,null,null,{"$f":"IF(A3244=\"\",\"\",IF(B3244=\"\",E3243,IF(D3244=\"\",E3243,D3244/MAX($D$8:D3244)-1)))","v":""}]
[null,null,null,null,{"$f":"IF(A3245=\"\",\"\",IF(B3245=\"\",E3244,IF(D3245=\"\",E3244,D3245/MAX($D$8:D3245)-1)))","v":""}]
[null,null,null,null,{"$f":"IF(A3246=\"\",\"\",IF(B3246=\"\",E3245,IF(D3246=\"\",E3245,D3246/MAX($D$8:D3246)-1)))","v":""}]
[null,null,null,null,{"$f":"IF(A3247=\"\",\"\",IF(B3247=\"\",E3246,IF(D3247=\"\",E3246,D3247/MAX($D$8:D3247)-1)))","v":""}]
[null,null,null,null,{"$f":"IF(A3248=\"\",\"\",IF(B3248=\"\",E3247,IF(D3248=\"\",E3247,D3248/MAX($D$8:D3248)-1)))","v":""}]
[null,null,null,null,{"$f":"IF(A3249=\"\",\"\",IF(B3249=\"\",E3248,IF(D3249=\"\",E3248,D3249/MAX($D$8:D3249)-1)))","v":""}]
[null,null,null,null,{"$f":"IF(A3250=\"\",\"\",IF(B3250=\"\",E3249,IF(D3250=\"\",E3249,D3250/MAX($D$8:D3250)-1)))","v":""}]
[null,null,null,null,{"$f":"IF(A3251=\"\",\"\",IF(B3251=\"\",E3250,IF(D3251=\"\",E3250,D3251/MAX($D$8:D3251)-1)))","v":""}]
[null,null,null,null,{"$f":"IF(A3252=\"\",\"\",IF(B3252=\"\",E3251,IF(D3252=\"\",E3251,D3252/MAX($D$8:D3252)-1)))","v":""}]
[null,null,null,null,{"$f":"IF(A3253=\"\",\"\",IF(B3253=\"\",E3252,IF(D3253=\"\",E3252,D3253/MAX($D$8:D3253)-1)))","v":""}]
[null,null,null,null,{"$f":"IF(A3254=\"\",\"\",IF(B3254=\"\",E3253,IF(D3254=\"\",E3253,D3254/MAX($D$8:D3254)-1)))","v":""}]
[null,null,null,null,{"$f":"IF(A3255=\"\",\"\",IF(B3255=\"\",E3254,IF(D3255=\"\",E3254,D3255/MAX($D$8:D3255)-1)))","v":""}]
[null,null,null,null,{"$f":"IF(A3256=\"\",\"\",IF(B3256=\"\",E3255,IF(D3256=\"\",E3255,D3256/MAX($D$8:D3256)-1)))","v":""}]
[null,null,null,null,{"$f":"IF(A3257=\"\",\"\",IF(B3257=\"\",E3256,IF(D3257=\"\",E3256,D3257/MAX($D$8:D3257)-1)))","v":""}]
[null,null,null,null,{"$f":"IF(A3258=\"\",\"\",IF(B3258=\"\",E3257,IF(D3258=\"\",E3257,D3258/MAX($D$8:D3258)-1)))","v":""}]
[null,null,null,null,{"$f":"IF(A3259=\"\",\"\",IF(B3259=\"\",E3258,IF(D3259=\"\",E3258,D3259/MAX($D$8:D3259)-1)))","v":""}]
[null,null,null,null,{"$f":"IF(A3260=\"\",\"\",IF(B3260=\"\",E3259,IF(D3260=\"\",E3259,D3260/MAX($D$8:D3260)-1)))","v":""}]
[null,null,null,null,{"$f":"IF(A3261=\"\",\"\",IF(B3261=\"\",E3260,IF(D3261=\"\",E3260,D3261/MAX($D$8:D3261)-1)))","v":""}]
[null,null,null,null,{"$f":"IF(A3262=\"\",\"\",IF(B3262=\"\",E3261,IF(D3262=\"\",E3261,D3262/MAX($D$8:D3262)-1)))","v":""}]
[null,null,null,null,{"$f":"IF(A3263=\"\",\"\",IF(B3263=\"\",E3262,IF(D3263=\"\",E3262,D3263/MAX($D$8:D3263)-1)))","v":""}]
[null,null,null,null,{"$f":"IF(A3264=\"\",\"\",IF(B3264=\"\",E3263,IF(D3264=\"\",E3263,D3264/MAX($D$8:D3264)-1)))","v":""}]
[null,null,null,null,{"$f":"IF(A3265=\"\",\"\",IF(B3265=\"\",E3264,IF(D3265=\"\",E3264,D3265/MAX($D$8:D3265)-1)))","v":""}]
[null,null,null,null,{"$f":"IF(A3266=\"\",\"\",IF(B3266=\"\",E3265,IF(D3266=\"\",E3265,D3266/MAX($D$8:D3266)-1)))","v":""}]
[null,null,null,null,{"$f":"IF(A3267=\"\",\"\",IF(B3267=\"\",E3266,IF(D3267=\"\",E3266,D3267/MAX($D$8:D3267)-1)))","v":""}]
[null,null,null,null,{"$f":"IF(A3268=\"\",\"\",IF(B3268=\"\",E3267,IF(D3268=\"\",E3267,D3268/MAX($D$8:D3268)-1)))","v":""}]
[null,null,null,null,{"$f":"IF(A3269=\"\",\"\",IF(B3269=\"\",E3268,IF(D3269=\"\",E3268,D3269/MAX($D$8:D3269)-1)))","v":""}]
[null,null,null,null,{"$f":"IF(A3270=\"\",\"\",IF(B3270=\"\",E3269,IF(D3270=\"\",E3269,D3270/MAX($D$8:D3270)-1)))","v":""}]
[null,null,null,null,{"$f":"IF(A3271=\"\",\"\",IF(B3271=\"\",E3270,IF(D3271=\"\",E3270,D3271/MAX($D$8:D3271)-1)))","v":""}]
[null,null,null,null,{"$f":"IF(A3272=\"\",\"\",IF(B3272=\"\",E3271,IF(D3272=\"\",E3271,D3272/MAX($D$8:D3272)-1)))","v":""}]
[null,null,null,null,{"$f":"IF(A3273=\"\",\"\",IF(B3273=\"\",E3272,IF(D3273=\"\",E3272,D3273/MAX($D$8:D3273)-1)))","v":""}]
[null,null,null,null,{"$f":"IF(A3274=\"\",\"\",IF(B3274=\"\",E3273,IF(D3274=\"\",E3273,D3274/MAX($D$8:D3274)-1)))","v":""}]
[null,null,null,null,{"$f":"IF(A3275=\"\",\"\",IF(B3275=\"\",E3274,IF(D3275=\"\",E3274,D3275/MAX($D$8:D3275)-1)))","v":""}]
[null,null,null,null,{"$f":"IF(A3276=\"\",\"\",IF(B3276=\"\",E3275,IF(D3276=\"\",E3275,D3276/MAX($D$8:D3276)-1)))","v":""}]
[null,null,null,null,{"$f":"IF(A3277=\"\",\"\",IF(B3277=\"\",E3276,IF(D3277=\"\",E3276,D3277/MAX($D$8:D3277)-1)))","v":""}]
[null,null,null,null,{"$f":"IF(A3278=\"\",\"\",IF(B3278=\"\",E3277,IF(D3278=\"\",E3277,D3278/MAX($D$8:D3278)-1)))","v":""}]
[null,null,null,null,{"$f":"IF(A3279=\"\",\"\",IF(B3279=\"\",E3278,IF(D3279=\"\",E3278,D3279/MAX($D$8:D3279)-1)))","v":""}]
[null,null,null,null,{"$f":"IF(A3280=\"\",\"\",IF(B3280=\"\",E3279,IF(D3280=\"\",E3279,D3280/MAX($D$8:D3280)-1)))","v":""}]
[null,null,null,null,{"$f":"IF(A3281=\"\",\"\",IF(B3281=\"\",E3280,IF(D3281=\"\",E3280,D3281/MAX($D$8:D3281)-1)))","v":""}]
[null,null,null,null,{"$f":"IF(A3282=\"\",\"\",IF(B3282=\"\",E3281,IF(D3282=\"\",E3281,D3282/MAX($D$8:D3282)-1)))","v":""}]
[null,null,null,null,{"$f":"IF(A3283=\"\",\"\",IF(B3283=\"\",E3282,IF(D3283=\"\",E3282,D3283/MAX($D$8:D3283)-1)))","v":""}]
[null,null,null,null,{"$f":"IF(A3284=\"\",\"\",IF(B3284=\"\",E3283,IF(D3284=\"\",E3283,D3284/MAX($D$8:D3284)-1)))","v":""}]
[null,null,null,null,{"$f":"IF(A3285=\"\",\"\",IF(B3285=\"\",E3284,IF(D3285=\"\",E3284,D3285/MAX($D$8:D3285)-1)))","v":""}]
[null,null,null,null,{"$f":"IF(A3286=\"\",\"\",IF(B3286=\"\",E3285,IF(D3286=\"\",E3285,D3286/MAX($D$8:D3286)-1)))","v":""}]
[null,null,null,null,{"$f":"IF(A3287=\"\",\"\",IF(B3287=\"\",E3286,IF(D3287=\"\",E3286,D3287/MAX($D$8:D3287)-1)))","v":""}]
[null,null,null,null,{"$f":"IF(A3288=\"\",\"\",IF(B3288=\"\",E3287,IF(D3288=\"\",E3287,D3288/MAX($D$8:D3288)-1)))","v":""}]
[null,null,null,null,{"$f":"IF(A3289=\"\",\"\",IF(B3289=\"\",E3288,IF(D3289=\"\",E3288,D3289/MAX($D$8:D3289)-1)))","v":""}]
[null,null,null,null,{"$f":"IF(A3290=\"\",\"\",IF(B3290=\"\",E3289,IF(D3290=\"\",E3289,D3290/MAX($D$8:D3290)-1)))","v":""}]
[null,null,null,null,{"$f":"IF(A3291=\"\",\"\",IF(B3291=\"\",E3290,IF(D3291=\"\",E3290,D3291/MAX($D$8:D3291)-1)))","v":""}]
[null,null,null,null,{"$f":"IF(A3292=\"\",\"\",IF(B3292=\"\",E3291,IF(D3292=\"\",E3291,D3292/MAX($D$8:D3292)-1)))","v":""}]
[null,null,null,null,{"$f":"IF(A3293=\"\",\"\",IF(B3293=\"\",E3292,IF(D3293=\"\",E3292,D3293/MAX($D$8:D3293)-1)))","v":""}]
[null,null,null,null,{"$f":"IF(A3294=\"\",\"\",IF(B3294=\"\",E3293,IF(D3294=\"\",E3293,D3294/MAX($D$8:D3294)-1)))","v":""}]
[null,null,null,null,{"$f":"IF(A3295=\"\",\"\",IF(B3295=\"\",E3294,IF(D3295=\"\",E3294,D3295/MAX($D$8:D3295)-1)))","v":""}]
[null,null,null,null,{"$f":"IF(A3296=\"\",\"\",IF(B3296=\"\",E3295,IF(D3296=\"\",E3295,D3296/MAX($D$8:D3296)-1)))","v":""}]
[null,null,null,null,{"$f":"IF(A3297=\"\",\"\",IF(B3297=\"\",E3296,IF(D3297=\"\",E3296,D3297/MAX($D$8:D3297)-1)))","v":""}]
[null,null,null,null,{"$f":"IF(A3298=\"\",\"\",IF(B3298=\"\",E3297,IF(D3298=\"\",E3297,D3298/MAX($D$8:D3298)-1)))","v":""}]
[null,null,null,null,{"$f":"IF(A3299=\"\",\"\",IF(B3299=\"\",E3298,IF(D3299=\"\",E3298,D3299/MAX($D$8:D3299)-1)))","v":""}]
[null,null,null,null,{"$f":"IF(A3300=\"\",\"\",IF(B3300=\"\",E3299,IF(D3300=\"\",E3299,D3300/MAX($D$8:D3300)-1)))","v":""}]
[null,null,null,null,{"$f":"IF(A3301=\"\",\"\",IF(B3301=\"\",E3300,IF(D3301=\"\",E3300,D3301/MAX($D$8:D3301)-1)))","v":""}]
[null,null,null,null,{"$f":"IF(A3302=\"\",\"\",IF(B3302=\"\",E3301,IF(D3302=\"\",E3301,D3302/MAX($D$8:D3302)-1)))","v":""}]
[null,null,null,null,{"$f":"IF(A3303=\"\",\"\",IF(B3303=\"\",E3302,IF(D3303=\"\",E3302,D3303/MAX($D$8:D3303)-1)))","v":""}]
[null,null,null,null,{"$f":"IF(A3304=\"\",\"\",IF(B3304=\"\",E3303,IF(D3304=\"\",E3303,D3304/MAX($D$8:D3304)-1)))","v":""}]
[null,null,null,null,{"$f":"IF(A3305=\"\",\"\",IF(B3305=\"\",E3304,IF(D3305=\"\",E3304,D3305/MAX($D$8:D3305)-1)))","v":""}]
[null,null,null,null,{"$f":"IF(A3306=\"\",\"\",IF(B3306=\"\",E3305,IF(D3306=\"\",E3305,D3306/MAX($D$8:D3306)-1)))","v":""}]
[null,null,null,null,{"$f":"IF(A3307=\"\",\"\",IF(B3307=\"\",E3306,IF(D3307=\"\",E3306,D3307/MAX($D$8:D3307)-1)))","v":""}]
[null,null,null,null,{"$f":"IF(A3308=\"\",\"\",IF(B3308=\"\",E3307,IF(D3308=\"\",E3307,D3308/MAX($D$8:D3308)-1)))","v":""}]
[null,null,null,null,{"$f":"IF(A3309=\"\",\"\",IF(B3309=\"\",E3308,IF(D3309=\"\",E3308,D3309/MAX($D$8:D3309)-1)))","v":""}]
[null,null,null,null,{"$f":"IF(A3310=\"\",\"\",IF(B3310=\"\",E3309,IF(D3310=\"\",E3309,D3310/MAX($D$8:D3310)-1)))","v":""}]
[null,null,null,null,{"$f":"IF(A3311=\"\",\"\",IF(B3311=\"\",E3310,IF(D3311=\"\",E3310,D3311/MAX($D$8:D3311)-1)))","v":""}]
[null,null,null,null,{"$f":"IF(A3312=\"\",\"\",IF(B3312=\"\",E3311,IF(D3312=\"\",E3311,D3312/MAX($D$8:D3312)-1)))","v":""}]
[null,null,null,null,{"$f":"IF(A3313=\"\",\"\",IF(B3313=\"\",E3312,IF(D3313=\"\",E3312,D3313/MAX($D$8:D3313)-1)))","v":""}]
[null,null,null,null,{"$f":"IF(A3314=\"\",\"\",IF(B3314=\"\",E3313,IF(D3314=\"\",E3313,D3314/MAX($D$8:D3314)-1)))","v":""}]
[null,null,null,null,{"$f":"IF(A3315=\"\",\"\",IF(B3315=\"\",E3314,IF(D3315=\"\",E3314,D3315/MAX($D$8:D3315)-1)))","v":""}]
[null,null,null,null,{"$f":"IF(A3316=\"\",\"\",IF(B3316=\"\",E3315,IF(D3316=\"\",E3315,D3316/MAX($D$8:D3316)-1)))","v":""}]
[null,null,null,null,{"$f":"IF(A3317=\"\",\"\",IF(B3317=\"\",E3316,IF(D3317=\"\",E3316,D3317/MAX($D$8:D3317)-1)))","v":""}]
[null,null,null,null,{"$f":"IF(A3318=\"\",\"\",IF(B3318=\"\",E3317,IF(D3318=\"\",E3317,D3318/MAX($D$8:D3318)-1)))","v":""}]
[null,null,null,null,{"$f":"IF(A3319=\"\",\"\",IF(B3319=\"\",E3318,IF(D3319=\"\",E3318,D3319/MAX($D$8:D3319)-1)))","v":""}]
[null,null,null,null,{"$f":"IF(A3320=\"\",\"\",IF(B3320=\"\",E3319,IF(D3320=\"\",E3319,D3320/MAX($D$8:D3320)-1)))","v":""}]
[null,null,null,null,{"$f":"IF(A3321=\"\",\"\",IF(B3321=\"\",E3320,IF(D3321=\"\",E3320,D3321/MAX($D$8:D3321)-1)))","v":""}]
[null,null,null,null,{"$f":"IF(A3322=\"\",\"\",IF(B3322=\"\",E3321,IF(D3322=\"\",E3321,D3322/MAX($D$8:D3322)-1)))","v":""}]
[null,null,null,null,{"$f":"IF(A3323=\"\",\"\",IF(B3323=\"\",E3322,IF(D3323=\"\",E3322,D3323/MAX($D$8:D3323)-1)))","v":""}]
[null,null,null,null,{"$f":"IF(A3324=\"\",\"\",IF(B3324=\"\",E3323,IF(D3324=\"\",E3323,D3324/MAX($D$8:D3324)-1)))","v":""}]
[null,null,null,null,{"$f":"IF(A3325=\"\",\"\",IF(B3325=\"\",E3324,IF(D3325=\"\",E3324,D3325/MAX($D$8:D3325)-1)))","v":""}]
[null,null,null,null,{"$f":"IF(A3326=\"\",\"\",IF(B3326=\"\",E3325,IF(D3326=\"\",E3325,D3326/MAX($D$8:D3326)-1)))","v":""}]
[null,null,null,null,{"$f":"IF(A3327=\"\",\"\",IF(B3327=\"\",E3326,IF(D3327=\"\",E3326,D3327/MAX($D$8:D3327)-1)))","v":""}]
[null,null,null,null,{"$f":"IF(A3328=\"\",\"\",IF(B3328=\"\",E3327,IF(D3328=\"\",E3327,D3328/MAX($D$8:D3328)-1)))","v":""}]
[null,null,null,null,{"$f":"IF(A3329=\"\",\"\",IF(B3329=\"\",E3328,IF(D3329=\"\",E3328,D3329/MAX($D$8:D3329)-1)))","v":""}]
[null,null,null,null,{"$f":"IF(A3330=\"\",\"\",IF(B3330=\"\",E3329,IF(D3330=\"\",E3329,D3330/MAX($D$8:D3330)-1)))","v":""}]
[null,null,null,null,{"$f":"IF(A3331=\"\",\"\",IF(B3331=\"\",E3330,IF(D3331=\"\",E3330,D3331/MAX($D$8:D3331)-1)))","v":""}]
[null,null,null,null,{"$f":"IF(A3332=\"\",\"\",IF(B3332=\"\",E3331,IF(D3332=\"\",E3331,D3332/MAX($D$8:D3332)-1)))","v":""}]
[null,null,null,null,{"$f":"IF(A3333=\"\",\"\",IF(B3333=\"\",E3332,IF(D3333=\"\",E3332,D3333/MAX($D$8:D3333)-1)))","v":""}]
[null,null,null,null,{"$f":"IF(A3334=\"\",\"\",IF(B3334=\"\",E3333,IF(D3334=\"\",E3333,D3334/MAX($D$8:D3334)-1)))","v":""}]
[null,null,null,null,{"$f":"IF(A3335=\"\",\"\",IF(B3335=\"\",E3334,IF(D3335=\"\",E3334,D3335/MAX($D$8:D3335)-1)))","v":""}]
[null,null,null,null,{"$f":"IF(A3336=\"\",\"\",IF(B3336=\"\",E3335,IF(D3336=\"\",E3335,D3336/MAX($D$8:D3336)-1)))","v":""}]
[null,null,null,null,{"$f":"IF(A3337=\"\",\"\",IF(B3337=\"\",E3336,IF(D3337=\"\",E3336,D3337/MAX($D$8:D3337)-1)))","v":""}]
[null,null,null,null,{"$f":"IF(A3338=\"\",\"\",IF(B3338=\"\",E3337,IF(D3338=\"\",E3337,D3338/MAX($D$8:D3338)-1)))","v":""}]
[null,null,null,null,{"$f":"IF(A3339=\"\",\"\",IF(B3339=\"\",E3338,IF(D3339=\"\",E3338,D3339/MAX($D$8:D3339)-1)))","v":""}]
[null,null,null,null,{"$f":"IF(A3340=\"\",\"\",IF(B3340=\"\",E3339,IF(D3340=\"\",E3339,D3340/MAX($D$8:D3340)-1)))","v":""}]
[null,null,null,null,{"$f":"IF(A3341=\"\",\"\",IF(B3341=\"\",E3340,IF(D3341=\"\",E3340,D3341/MAX($D$8:D3341)-1)))","v":""}]
[null,null,null,null,{"$f":"IF(A3342=\"\",\"\",IF(B3342=\"\",E3341,IF(D3342=\"\",E3341,D3342/MAX($D$8:D3342)-1)))","v":""}]
[null,null,null,null,{"$f":"IF(A3343=\"\",\"\",IF(B3343=\"\",E3342,IF(D3343=\"\",E3342,D3343/MAX($D$8:D3343)-1)))","v":""}]
[null,null,null,null,{"$f":"IF(A3344=\"\",\"\",IF(B3344=\"\",E3343,IF(D3344=\"\",E3343,D3344/MAX($D$8:D3344)-1)))","v":""}]
[null,null,null,null,{"$f":"IF(A3345=\"\",\"\",IF(B3345=\"\",E3344,IF(D3345=\"\",E3344,D3345/MAX($D$8:D3345)-1)))","v":""}]
[null,null,null,null,{"$f":"IF(A3346=\"\",\"\",IF(B3346=\"\",E3345,IF(D3346=\"\",E3345,D3346/MAX($D$8:D3346)-1)))","v":""}]
[null,null,null,null,{"$f":"IF(A3347=\"\",\"\",IF(B3347=\"\",E3346,IF(D3347=\"\",E3346,D3347/MAX($D$8:D3347)-1)))","v":""}]
[null,null,null,null,{"$f":"IF(A3348=\"\",\"\",IF(B3348=\"\",E3347,IF(D3348=\"\",E3347,D3348/MAX($D$8:D3348)-1)))","v":""}]
[null,null,null,null,{"$f":"IF(A3349=\"\",\"\",IF(B3349=\"\",E3348,IF(D3349=\"\",E3348,D3349/MAX($D$8:D3349)-1)))","v":""}]
[null,null,null,null,{"$f":"IF(A3350=\"\",\"\",IF(B3350=\"\",E3349,IF(D3350=\"\",E3349,D3350/MAX($D$8:D3350)-1)))","v":""}]
[null,null,null,null,{"$f":"IF(A3351=\"\",\"\",IF(B3351=\"\",E3350,IF(D3351=\"\",E3350,D3351/MAX($D$8:D3351)-1)))","v":""}]
[null,null,null,null,{"$f":"IF(A3352=\"\",\"\",IF(B3352=\"\",E3351,IF(D3352=\"\",E3351,D3352/MAX($D$8:D3352)-1)))","v":""}]
[null,null,null,null,{"$f":"IF(A3353=\"\",\"\",IF(B3353=\"\",E3352,IF(D3353=\"\",E3352,D3353/MAX($D$8:D3353)-1)))","v":""}]
[null,null,null,null,{"$f":"IF(A3354=\"\",\"\",IF(B3354=\"\",E3353,IF(D3354=\"\",E3353,D3354/MAX($D$8:D3354)-1)))","v":""}]
[null,null,null,null,{"$f":"IF(A3355=\"\",\"\",IF(B3355=\"\",E3354,IF(D3355=\"\",E3354,D3355/MAX($D$8:D3355)-1)))","v":""}]
[null,null,null,null,{"$f":"IF(A3356=\"\",\"\",IF(B3356=\"\",E3355,IF(D3356=\"\",E3355,D3356/MAX($D$8:D3356)-1)))","v":""}]
[null,null,null,null,{"$f":"IF(A3357=\"\",\"\",IF(B3357=\"\",E3356,IF(D3357=\"\",E3356,D3357/MAX($D$8:D3357)-1)))","v":""}]
[null,null,null,null,{"$f":"IF(A3358=\"\",\"\",IF(B3358=\"\",E3357,IF(D3358=\"\",E3357,D3358/MAX($D$8:D3358)-1)))","v":""}]
[null,null,null,null,{"$f":"IF(A3359=\"\",\"\",IF(B3359=\"\",E3358,IF(D3359=\"\",E3358,D3359/MAX($D$8:D3359)-1)))","v":""}]
[null,null,null,null,{"$f":"IF(A3360=\"\",\"\",IF(B3360=\"\",E3359,IF(D3360=\"\",E3359,D3360/MAX($D$8:D3360)-1)))","v":""}]
[null,null,null,null,{"$f":"IF(A3361=\"\",\"\",IF(B3361=\"\",E3360,IF(D3361=\"\",E3360,D3361/MAX($D$8:D3361)-1)))","v":""}]
[null,null,null,null,{"$f":"IF(A3362=\"\",\"\",IF(B3362=\"\",E3361,IF(D3362=\"\",E3361,D3362/MAX($D$8:D3362)-1)))","v":""}]
[null,null,null,null,{"$f":"IF(A3363=\"\",\"\",IF(B3363=\"\",E3362,IF(D3363=\"\",E3362,D3363/MAX($D$8:D3363)-1)))","v":""}]
[null,null,null,null,{"$f":"IF(A3364=\"\",\"\",IF(B3364=\"\",E3363,IF(D3364=\"\",E3363,D3364/MAX($D$8:D3364)-1)))","v":""}]
[null,null,null,null,{"$f":"IF(A3365=\"\",\"\",IF(B3365=\"\",E3364,IF(D3365=\"\",E3364,D3365/MAX($D$8:D3365)-1)))","v":""}]
[null,null,null,null,{"$f":"IF(A3366=\"\",\"\",IF(B3366=\"\",E3365,IF(D3366=\"\",E3365,D3366/MAX($D$8:D3366)-1)))","v":""}]
[null,null,null,null,{"$f":"IF(A3367=\"\",\"\",IF(B3367=\"\",E3366,IF(D3367=\"\",E3366,D3367/MAX($D$8:D3367)-1)))","v":""}]
[null,null,null,null,{"$f":"IF(A3368=\"\",\"\",IF(B3368=\"\",E3367,IF(D3368=\"\",E3367,D3368/MAX($D$8:D3368)-1)))","v":""}]
[null,null,null,null,{"$f":"IF(A3369=\"\",\"\",IF(B3369=\"\",E3368,IF(D3369=\"\",E3368,D3369/MAX($D$8:D3369)-1)))","v":""}]
[null,null,null,null,{"$f":"IF(A3370=\"\",\"\",IF(B3370=\"\",E3369,IF(D3370=\"\",E3369,D3370/MAX($D$8:D3370)-1)))","v":""}]
[null,null,null,null,{"$f":"IF(A3371=\"\",\"\",IF(B3371=\"\",E3370,IF(D3371=\"\",E3370,D3371/MAX($D$8:D3371)-1)))","v":""}]
[null,null,null,null,{"$f":"IF(A3372=\"\",\"\",IF(B3372=\"\",E3371,IF(D3372=\"\",E3371,D3372/MAX($D$8:D3372)-1)))","v":""}]
[null,null,null,null,{"$f":"IF(A3373=\"\",\"\",IF(B3373=\"\",E3372,IF(D3373=\"\",E3372,D3373/MAX($D$8:D3373)-1)))","v":""}]
[null,null,null,null,{"$f":"IF(A3374=\"\",\"\",IF(B3374=\"\",E3373,IF(D3374=\"\",E3373,D3374/MAX($D$8:D3374)-1)))","v":""}]
[null,null,null,null,{"$f":"IF(A3375=\"\",\"\",IF(B3375=\"\",E3374,IF(D3375=\"\",E3374,D3375/MAX($D$8:D3375)-1)))","v":""}]
[null,null,null,null,{"$f":"IF(A3376=\"\",\"\",IF(B3376=\"\",E3375,IF(D3376=\"\",E3375,D3376/MAX($D$8:D3376)-1)))","v":""}]
[null,null,null,null,{"$f":"IF(A3377=\"\",\"\",IF(B3377=\"\",E3376,IF(D3377=\"\",E3376,D3377/MAX($D$8:D3377)-1)))","v":""}]
[null,null,null,null,{"$f":"IF(A3378=\"\",\"\",IF(B3378=\"\",E3377,IF(D3378=\"\",E3377,D3378/MAX($D$8:D3378)-1)))","v":""}]
[null,null,null,null,{"$f":"IF(A3379=\"\",\"\",IF(B3379=\"\",E3378,IF(D3379=\"\",E3378,D3379/MAX($D$8:D3379)-1)))","v":""}]
[null,null,null,null,{"$f":"IF(A3380=\"\",\"\",IF(B3380=\"\",E3379,IF(D3380=\"\",E3379,D3380/MAX($D$8:D3380)-1)))","v":""}]
[null,null,null,null,{"$f":"IF(A3381=\"\",\"\",IF(B3381=\"\",E3380,IF(D3381=\"\",E3380,D3381/MAX($D$8:D3381)-1)))","v":""}]
[null,null,null,null,{"$f":"IF(A3382=\"\",\"\",IF(B3382=\"\",E3381,IF(D3382=\"\",E3381,D3382/MAX($D$8:D3382)-1)))","v":""}]
[null,null,null,null,{"$f":"IF(A3383=\"\",\"\",IF(B3383=\"\",E3382,IF(D3383=\"\",E3382,D3383/MAX($D$8:D3383)-1)))","v":""}]
[null,null,null,null,{"$f":"IF(A3384=\"\",\"\",IF(B3384=\"\",E3383,IF(D3384=\"\",E3383,D3384/MAX($D$8:D3384)-1)))","v":""}]
[null,null,null,null,{"$f":"IF(A3385=\"\",\"\",IF(B3385=\"\",E3384,IF(D3385=\"\",E3384,D3385/MAX($D$8:D3385)-1)))","v":""}]
[null,null,null,null,{"$f":"IF(A3386=\"\",\"\",IF(B3386=\"\",E3385,IF(D3386=\"\",E3385,D3386/MAX($D$8:D3386)-1)))","v":""}]
[null,null,null,null,{"$f":"IF(A3387=\"\",\"\",IF(B3387=\"\",E3386,IF(D3387=\"\",E3386,D3387/MAX($D$8:D3387)-1)))","v":""}]
[null,null,null,null,{"$f":"IF(A3388=\"\",\"\",IF(B3388=\"\",E3387,IF(D3388=\"\",E3387,D3388/MAX($D$8:D3388)-1)))","v":""}]
[null,null,null,null,{"$f":"IF(A3389=\"\",\"\",IF(B3389=\"\",E3388,IF(D3389=\"\",E3388,D3389/MAX($D$8:D3389)-1)))","v":""}]
[null,null,null,null,{"$f":"IF(A3390=\"\",\"\",IF(B3390=\"\",E3389,IF(D3390=\"\",E3389,D3390/MAX($D$8:D3390)-1)))","v":""}]
[null,null,null,null,{"$f":"IF(A3391=\"\",\"\",IF(B3391=\"\",E3390,IF(D3391=\"\",E3390,D3391/MAX($D$8:D3391)-1)))","v":""}]
[null,null,null,null,{"$f":"IF(A3392=\"\",\"\",IF(B3392=\"\",E3391,IF(D3392=\"\",E3391,D3392/MAX($D$8:D3392)-1)))","v":""}]
[null,null,null,null,{"$f":"IF(A3393=\"\",\"\",IF(B3393=\"\",E3392,IF(D3393=\"\",E3392,D3393/MAX($D$8:D3393)-1)))","v":""}]
[null,null,null,null,{"$f":"IF(A3394=\"\",\"\",IF(B3394=\"\",E3393,IF(D3394=\"\",E3393,D3394/MAX($D$8:D3394)-1)))","v":""}]
[null,null,null,null,{"$f":"IF(A3395=\"\",\"\",IF(B3395=\"\",E3394,IF(D3395=\"\",E3394,D3395/MAX($D$8:D3395)-1)))","v":""}]
[null,null,null,null,{"$f":"IF(A3396=\"\",\"\",IF(B3396=\"\",E3395,IF(D3396=\"\",E3395,D3396/MAX($D$8:D3396)-1)))","v":""}]
[null,null,null,null,{"$f":"IF(A3397=\"\",\"\",IF(B3397=\"\",E3396,IF(D3397=\"\",E3396,D3397/MAX($D$8:D3397)-1)))","v":""}]
[null,null,null,null,{"$f":"IF(A3398=\"\",\"\",IF(B3398=\"\",E3397,IF(D3398=\"\",E3397,D3398/MAX($D$8:D3398)-1)))","v":""}]
[null,null,null,null,{"$f":"IF(A3399=\"\",\"\",IF(B3399=\"\",E3398,IF(D3399=\"\",E3398,D3399/MAX($D$8:D3399)-1)))","v":""}]
[null,null,null,null,{"$f":"IF(A3400=\"\",\"\",IF(B3400=\"\",E3399,IF(D3400=\"\",E3399,D3400/MAX($D$8:D3400)-1)))","v":""}]
[null,null,null,null,{"$f":"IF(A3401=\"\",\"\",IF(B3401=\"\",E3400,IF(D3401=\"\",E3400,D3401/MAX($D$8:D3401)-1)))","v":""}]
[null,null,null,null,{"$f":"IF(A3402=\"\",\"\",IF(B3402=\"\",E3401,IF(D3402=\"\",E3401,D3402/MAX($D$8:D3402)-1)))","v":""}]
[null,null,null,null,{"$f":"IF(A3403=\"\",\"\",IF(B3403=\"\",E3402,IF(D3403=\"\",E3402,D3403/MAX($D$8:D3403)-1)))","v":""}]
[null,null,null,null,{"$f":"IF(A3404=\"\",\"\",IF(B3404=\"\",E3403,IF(D3404=\"\",E3403,D3404/MAX($D$8:D3404)-1)))","v":""}]
[null,null,null,null,{"$f":"IF(A3405=\"\",\"\",IF(B3405=\"\",E3404,IF(D3405=\"\",E3404,D3405/MAX($D$8:D3405)-1)))","v":""}]
[null,null,null,null,{"$f":"IF(A3406=\"\",\"\",IF(B3406=\"\",E3405,IF(D3406=\"\",E3405,D3406/MAX($D$8:D3406)-1)))","v":""}]
[null,null,null,null,{"$f":"IF(A3407=\"\",\"\",IF(B3407=\"\",E3406,IF(D3407=\"\",E3406,D3407/MAX($D$8:D3407)-1)))","v":""}]
[null,null,null,null,{"$f":"IF(A3408=\"\",\"\",IF(B3408=\"\",E3407,IF(D3408=\"\",E3407,D3408/MAX($D$8:D3408)-1)))","v":""}]
[null,null,null,null,{"$f":"IF(A3409=\"\",\"\",IF(B3409=\"\",E3408,IF(D3409=\"\",E3408,D3409/MAX($D$8:D3409)-1)))","v":""}]
[null,null,null,null,{"$f":"IF(A3410=\"\",\"\",IF(B3410=\"\",E3409,IF(D3410=\"\",E3409,D3410/MAX($D$8:D3410)-1)))","v":""}]
[null,null,null,null,{"$f":"IF(A3411=\"\",\"\",IF(B3411=\"\",E3410,IF(D3411=\"\",E3410,D3411/MAX($D$8:D3411)-1)))","v":""}]
[null,null,null,null,{"$f":"IF(A3412=\"\",\"\",IF(B3412=\"\",E3411,IF(D3412=\"\",E3411,D3412/MAX($D$8:D3412)-1)))","v":""}]
[null,null,null,null,{"$f":"IF(A3413=\"\",\"\",IF(B3413=\"\",E3412,IF(D3413=\"\",E3412,D3413/MAX($D$8:D3413)-1)))","v":""}]
[null,null,null,null,{"$f":"IF(A3414=\"\",\"\",IF(B3414=\"\",E3413,IF(D3414=\"\",E3413,D3414/MAX($D$8:D3414)-1)))","v":""}]
[null,null,null,null,{"$f":"IF(A3415=\"\",\"\",IF(B3415=\"\",E3414,IF(D3415=\"\",E3414,D3415/MAX($D$8:D3415)-1)))","v":""}]
[null,null,null,null,{"$f":"IF(A3416=\"\",\"\",IF(B3416=\"\",E3415,IF(D3416=\"\",E3415,D3416/MAX($D$8:D3416)-1)))","v":""}]
[null,null,null,null,{"$f":"IF(A3417=\"\",\"\",IF(B3417=\"\",E3416,IF(D3417=\"\",E3416,D3417/MAX($D$8:D3417)-1)))","v":""}]
[null,null,null,null,{"$f":"IF(A3418=\"\",\"\",IF(B3418=\"\",E3417,IF(D3418=\"\",E3417,D3418/MAX($D$8:D3418)-1)))","v":""}]
[null,null,null,null,{"$f":"IF(A3419=\"\",\"\",IF(B3419=\"\",E3418,IF(D3419=\"\",E3418,D3419/MAX($D$8:D3419)-1)))","v":""}]
[null,null,null,null,{"$f":"IF(A3420=\"\",\"\",IF(B3420=\"\",E3419,IF(D3420=\"\",E3419,D3420/MAX($D$8:D3420)-1)))","v":""}]
[null,null,null,null,{"$f":"IF(A3421=\"\",\"\",IF(B3421=\"\",E3420,IF(D3421=\"\",E3420,D3421/MAX($D$8:D3421)-1)))","v":""}]
[null,null,null,null,{"$f":"IF(A3422=\"\",\"\",IF(B3422=\"\",E3421,IF(D3422=\"\",E3421,D3422/MAX($D$8:D3422)-1)))","v":""}]
[null,null,null,null,{"$f":"IF(A3423=\"\",\"\",IF(B3423=\"\",E3422,IF(D3423=\"\",E3422,D3423/MAX($D$8:D3423)-1)))","v":""}]
[null,null,null,null,{"$f":"IF(A3424=\"\",\"\",IF(B3424=\"\",E3423,IF(D3424=\"\",E3423,D3424/MAX($D$8:D3424)-1)))","v":""}]
[null,null,null,null,{"$f":"IF(A3425=\"\",\"\",IF(B3425=\"\",E3424,IF(D3425=\"\",E3424,D3425/MAX($D$8:D3425)-1)))","v":""}]
[null,null,null,null,{"$f":"IF(A3426=\"\",\"\",IF(B3426=\"\",E3425,IF(D3426=\"\",E3425,D3426/MAX($D$8:D3426)-1)))","v":""}]
[null,null,null,null,{"$f":"IF(A3427=\"\",\"\",IF(B3427=\"\",E3426,IF(D3427=\"\",E3426,D3427/MAX($D$8:D3427)-1)))","v":""}]
[null,null,null,null,{"$f":"IF(A3428=\"\",\"\",IF(B3428=\"\",E3427,IF(D3428=\"\",E3427,D3428/MAX($D$8:D3428)-1)))","v":""}]
[null,null,null,null,{"$f":"IF(A3429=\"\",\"\",IF(B3429=\"\",E3428,IF(D3429=\"\",E3428,D3429/MAX($D$8:D3429)-1)))","v":""}]
[null,null,null,null,{"$f":"IF(A3430=\"\",\"\",IF(B3430=\"\",E3429,IF(D3430=\"\",E3429,D3430/MAX($D$8:D3430)-1)))","v":""}]
[null,null,null,null,{"$f":"IF(A3431=\"\",\"\",IF(B3431=\"\",E3430,IF(D3431=\"\",E3430,D3431/MAX($D$8:D3431)-1)))","v":""}]
[null,null,null,null,{"$f":"IF(A3432=\"\",\"\",IF(B3432=\"\",E3431,IF(D3432=\"\",E3431,D3432/MAX($D$8:D3432)-1)))","v":""}]
[null,null,null,null,{"$f":"IF(A3433=\"\",\"\",IF(B3433=\"\",E3432,IF(D3433=\"\",E3432,D3433/MAX($D$8:D3433)-1)))","v":""}]
[null,null,null,null,{"$f":"IF(A3434=\"\",\"\",IF(B3434=\"\",E3433,IF(D3434=\"\",E3433,D3434/MAX($D$8:D3434)-1)))","v":""}]
[null,null,null,null,{"$f":"IF(A3435=\"\",\"\",IF(B3435=\"\",E3434,IF(D3435=\"\",E3434,D3435/MAX($D$8:D3435)-1)))","v":""}]
[null,null,null,null,{"$f":"IF(A3436=\"\",\"\",IF(B3436=\"\",E3435,IF(D3436=\"\",E3435,D3436/MAX($D$8:D3436)-1)))","v":""}]
[null,null,null,null,{"$f":"IF(A3437=\"\",\"\",IF(B3437=\"\",E3436,IF(D3437=\"\",E3436,D3437/MAX($D$8:D3437)-1)))","v":""}]
[null,null,null,null,{"$f":"IF(A3438=\"\",\"\",IF(B3438=\"\",E3437,IF(D3438=\"\",E3437,D3438/MAX($D$8:D3438)-1)))","v":""}]
[null,null,null,null,{"$f":"IF(A3439=\"\",\"\",IF(B3439=\"\",E3438,IF(D3439=\"\",E3438,D3439/MAX($D$8:D3439)-1)))","v":""}]
[null,null,null,null,{"$f":"IF(A3440=\"\",\"\",IF(B3440=\"\",E3439,IF(D3440=\"\",E3439,D3440/MAX($D$8:D3440)-1)))","v":""}]
[null,null,null,null,{"$f":"IF(A3441=\"\",\"\",IF(B3441=\"\",E3440,IF(D3441=\"\",E3440,D3441/MAX($D$8:D3441)-1)))","v":""}]
[null,null,null,null,{"$f":"IF(A3442=\"\",\"\",IF(B3442=\"\",E3441,IF(D3442=\"\",E3441,D3442/MAX($D$8:D3442)-1)))","v":""}]
[null,null,null,null,{"$f":"IF(A3443=\"\",\"\",IF(B3443=\"\",E3442,IF(D3443=\"\",E3442,D3443/MAX($D$8:D3443)-1)))","v":""}]
[null,null,null,null,{"$f":"IF(A3444=\"\",\"\",IF(B3444=\"\",E3443,IF(D3444=\"\",E3443,D3444/MAX($D$8:D3444)-1)))","v":""}]
[null,null,null,null,{"$f":"IF(A3445=\"\",\"\",IF(B3445=\"\",E3444,IF(D3445=\"\",E3444,D3445/MAX($D$8:D3445)-1)))","v":""}]
[null,null,null,null,{"$f":"IF(A3446=\"\",\"\",IF(B3446=\"\",E3445,IF(D3446=\"\",E3445,D3446/MAX($D$8:D3446)-1)))","v":""}]
[null,null,null,null,{"$f":"IF(A3447=\"\",\"\",IF(B3447=\"\",E3446,IF(D3447=\"\",E3446,D3447/MAX($D$8:D3447)-1)))","v":""}]
[null,null,null,null,{"$f":"IF(A3448=\"\",\"\",IF(B3448=\"\",E3447,IF(D3448=\"\",E3447,D3448/MAX($D$8:D3448)-1)))","v":""}]
[null,null,null,null,{"$f":"IF(A3449=\"\",\"\",IF(B3449=\"\",E3448,IF(D3449=\"\",E3448,D3449/MAX($D$8:D3449)-1)))","v":""}]
[null,null,null,null,{"$f":"IF(A3450=\"\",\"\",IF(B3450=\"\",E3449,IF(D3450=\"\",E3449,D3450/MAX($D$8:D3450)-1)))","v":""}]
[null,null,null,null,{"$f":"IF(A3451=\"\",\"\",IF(B3451=\"\",E3450,IF(D3451=\"\",E3450,D3451/MAX($D$8:D3451)-1)))","v":""}]
[null,null,null,null,{"$f":"IF(A3452=\"\",\"\",IF(B3452=\"\",E3451,IF(D3452=\"\",E3451,D3452/MAX($D$8:D3452)-1)))","v":""}]
[null,null,null,null,{"$f":"IF(A3453=\"\",\"\",IF(B3453=\"\",E3452,IF(D3453=\"\",E3452,D3453/MAX($D$8:D3453)-1)))","v":""}]
[null,null,null,null,{"$f":"IF(A3454=\"\",\"\",IF(B3454=\"\",E3453,IF(D3454=\"\",E3453,D3454/MAX($D$8:D3454)-1)))","v":""}]
[null,null,null,null,{"$f":"IF(A3455=\"\",\"\",IF(B3455=\"\",E3454,IF(D3455=\"\",E3454,D3455/MAX($D$8:D3455)-1)))","v":""}]
[null,null,null,null,{"$f":"IF(A3456=\"\",\"\",IF(B3456=\"\",E3455,IF(D3456=\"\",E3455,D3456/MAX($D$8:D3456)-1)))","v":""}]
[null,null,null,null,{"$f":"IF(A3457=\"\",\"\",IF(B3457=\"\",E3456,IF(D3457=\"\",E3456,D3457/MAX($D$8:D3457)-1)))","v":""}]
[null,null,null,null,{"$f":"IF(A3458=\"\",\"\",IF(B3458=\"\",E3457,IF(D3458=\"\",E3457,D3458/MAX($D$8:D3458)-1)))","v":""}]
[null,null,null,null,{"$f":"IF(A3459=\"\",\"\",IF(B3459=\"\",E3458,IF(D3459=\"\",E3458,D3459/MAX($D$8:D3459)-1)))","v":""}]
[null,null,null,null,{"$f":"IF(A3460=\"\",\"\",IF(B3460=\"\",E3459,IF(D3460=\"\",E3459,D3460/MAX($D$8:D3460)-1)))","v":""}]
[null,null,null,null,{"$f":"IF(A3461=\"\",\"\",IF(B3461=\"\",E3460,IF(D3461=\"\",E3460,D3461/MAX($D$8:D3461)-1)))","v":""}]
[null,null,null,null,{"$f":"IF(A3462=\"\",\"\",IF(B3462=\"\",E3461,IF(D3462=\"\",E3461,D3462/MAX($D$8:D3462)-1)))","v":""}]
[null,null,null,null,{"$f":"IF(A3463=\"\",\"\",IF(B3463=\"\",E3462,IF(D3463=\"\",E3462,D3463/MAX($D$8:D3463)-1)))","v":""}]
[null,null,null,null,{"$f":"IF(A3464=\"\",\"\",IF(B3464=\"\",E3463,IF(D3464=\"\",E3463,D3464/MAX($D$8:D3464)-1)))","v":""}]
[null,null,null,null,{"$f":"IF(A3465=\"\",\"\",IF(B3465=\"\",E3464,IF(D3465=\"\",E3464,D3465/MAX($D$8:D3465)-1)))","v":""}]
[null,null,null,null,{"$f":"IF(A3466=\"\",\"\",IF(B3466=\"\",E3465,IF(D3466=\"\",E3465,D3466/MAX($D$8:D3466)-1)))","v":""}]
[null,null,null,null,{"$f":"IF(A3467=\"\",\"\",IF(B3467=\"\",E3466,IF(D3467=\"\",E3466,D3467/MAX($D$8:D3467)-1)))","v":""}]
[null,null,null,null,{"$f":"IF(A3468=\"\",\"\",IF(B3468=\"\",E3467,IF(D3468=\"\",E3467,D3468/MAX($D$8:D3468)-1)))","v":""}]
[null,null,null,null,{"$f":"IF(A3469=\"\",\"\",IF(B3469=\"\",E3468,IF(D3469=\"\",E3468,D3469/MAX($D$8:D3469)-1)))","v":""}]
[null,null,null,null,{"$f":"IF(A3470=\"\",\"\",IF(B3470=\"\",E3469,IF(D3470=\"\",E3469,D3470/MAX($D$8:D3470)-1)))","v":""}]
[null,null,null,null,{"$f":"IF(A3471=\"\",\"\",IF(B3471=\"\",E3470,IF(D3471=\"\",E3470,D3471/MAX($D$8:D3471)-1)))","v":""}]
[null,null,null,null,{"$f":"IF(A3472=\"\",\"\",IF(B3472=\"\",E3471,IF(D3472=\"\",E3471,D3472/MAX($D$8:D3472)-1)))","v":""}]
[null,null,null,null,{"$f":"IF(A3473=\"\",\"\",IF(B3473=\"\",E3472,IF(D3473=\"\",E3472,D3473/MAX($D$8:D3473)-1)))","v":""}]
[null,null,null,null,{"$f":"IF(A3474=\"\",\"\",IF(B3474=\"\",E3473,IF(D3474=\"\",E3473,D3474/MAX($D$8:D3474)-1)))","v":""}]
[null,null,null,null,{"$f":"IF(A3475=\"\",\"\",IF(B3475=\"\",E3474,IF(D3475=\"\",E3474,D3475/MAX($D$8:D3475)-1)))","v":""}]
[null,null,null,null,{"$f":"IF(A3476=\"\",\"\",IF(B3476=\"\",E3475,IF(D3476=\"\",E3475,D3476/MAX($D$8:D3476)-1)))","v":""}]
[null,null,null,null,{"$f":"IF(A3477=\"\",\"\",IF(B3477=\"\",E3476,IF(D3477=\"\",E3476,D3477/MAX($D$8:D3477)-1)))","v":""}]
[null,null,null,null,{"$f":"IF(A3478=\"\",\"\",IF(B3478=\"\",E3477,IF(D3478=\"\",E3477,D3478/MAX($D$8:D3478)-1)))","v":""}]
[null,null,null,null,{"$f":"IF(A3479=\"\",\"\",IF(B3479=\"\",E3478,IF(D3479=\"\",E3478,D3479/MAX($D$8:D3479)-1)))","v":""}]
[null,null,null,null,{"$f":"IF(A3480=\"\",\"\",IF(B3480=\"\",E3479,IF(D3480=\"\",E3479,D3480/MAX($D$8:D3480)-1)))","v":""}]
[null,null,null,null,{"$f":"IF(A3481=\"\",\"\",IF(B3481=\"\",E3480,IF(D3481=\"\",E3480,D3481/MAX($D$8:D3481)-1)))","v":""}]
[null,null,null,null,{"$f":"IF(A3482=\"\",\"\",IF(B3482=\"\",E3481,IF(D3482=\"\",E3481,D3482/MAX($D$8:D3482)-1)))","v":""}]
[null,null,null,null,{"$f":"IF(A3483=\"\",\"\",IF(B3483=\"\",E3482,IF(D3483=\"\",E3482,D3483/MAX($D$8:D3483)-1)))","v":""}]
[null,null,null,null,{"$f":"IF(A3484=\"\",\"\",IF(B3484=\"\",E3483,IF(D3484=\"\",E3483,D3484/MAX($D$8:D3484)-1)))","v":""}]
[null,null,null,null,{"$f":"IF(A3485=\"\",\"\",IF(B3485=\"\",E3484,IF(D3485=\"\",E3484,D3485/MAX($D$8:D3485)-1)))","v":""}]
[null,null,null,null,{"$f":"IF(A3486=\"\",\"\",IF(B3486=\"\",E3485,IF(D3486=\"\",E3485,D3486/MAX($D$8:D3486)-1)))","v":""}]
[null,null,null,null,{"$f":"IF(A3487=\"\",\"\",IF(B3487=\"\",E3486,IF(D3487=\"\",E3486,D3487/MAX($D$8:D3487)-1)))","v":""}]
[null,null,null,null,{"$f":"IF(A3488=\"\",\"\",IF(B3488=\"\",E3487,IF(D3488=\"\",E3487,D3488/MAX($D$8:D3488)-1)))","v":""}]
[null,null,null,null,{"$f":"IF(A3489=\"\",\"\",IF(B3489=\"\",E3488,IF(D3489=\"\",E3488,D3489/MAX($D$8:D3489)-1)))","v":""}]
[null,null,null,null,{"$f":"IF(A3490=\"\",\"\",IF(B3490=\"\",E3489,IF(D3490=\"\",E3489,D3490/MAX($D$8:D3490)-1)))","v":""}]
[null,null,null,null,{"$f":"IF(A3491=\"\",\"\",IF(B3491=\"\",E3490,IF(D3491=\"\",E3490,D3491/MAX($D$8:D3491)-1)))","v":""}]
[null,null,null,null,{"$f":"IF(A3492=\"\",\"\",IF(B3492=\"\",E3491,IF(D3492=\"\",E3491,D3492/MAX($D$8:D3492)-1)))","v":""}]
[null,null,null,null,{"$f":"IF(A3493=\"\",\"\",IF(B3493=\"\",E3492,IF(D3493=\"\",E3492,D3493/MAX($D$8:D3493)-1)))","v":""}]
[null,null,null,null,{"$f":"IF(A3494=\"\",\"\",IF(B3494=\"\",E3493,IF(D3494=\"\",E3493,D3494/MAX($D$8:D3494)-1)))","v":""}]
[null,null,null,null,{"$f":"IF(A3495=\"\",\"\",IF(B3495=\"\",E3494,IF(D3495=\"\",E3494,D3495/MAX($D$8:D3495)-1)))","v":""}]
[null,null,null,null,{"$f":"IF(A3496=\"\",\"\",IF(B3496=\"\",E3495,IF(D3496=\"\",E3495,D3496/MAX($D$8:D3496)-1)))","v":""}]
[null,null,null,null,{"$f":"IF(A3497=\"\",\"\",IF(B3497=\"\",E3496,IF(D3497=\"\",E3496,D3497/MAX($D$8:D3497)-1)))","v":""}]
[null,null,null,null,{"$f":"IF(A3498=\"\",\"\",IF(B3498=\"\",E3497,IF(D3498=\"\",E3497,D3498/MAX($D$8:D3498)-1)))","v":""}]
[null,null,null,null,{"$f":"IF(A3499=\"\",\"\",IF(B3499=\"\",E3498,IF(D3499=\"\",E3498,D3499/MAX($D$8:D3499)-1)))","v":""}]
[null,null,null,null,{"$f":"IF(A3500=\"\",\"\",IF(B3500=\"\",E3499,IF(D3500=\"\",E3499,D3500/MAX($D$8:D3500)-1)))","v":""}]
[null,null,null,null,{"$f":"IF(A3501=\"\",\"\",IF(B3501=\"\",E3500,IF(D3501=\"\",E3500,D3501/MAX($D$8:D3501)-1)))","v":""}]
[null,null,null,null,{"$f":"IF(A3502=\"\",\"\",IF(B3502=\"\",E3501,IF(D3502=\"\",E3501,D3502/MAX($D$8:D3502)-1)))","v":""}]
[null,null,null,null,{"$f":"IF(A3503=\"\",\"\",IF(B3503=\"\",E3502,IF(D3503=\"\",E3502,D3503/MAX($D$8:D3503)-1)))","v":""}]
[null,null,null,null,{"$f":"IF(A3504=\"\",\"\",IF(B3504=\"\",E3503,IF(D3504=\"\",E3503,D3504/MAX($D$8:D3504)-1)))","v":""}]
[null,null,null,null,{"$f":"IF(A3505=\"\",\"\",IF(B3505=\"\",E3504,IF(D3505=\"\",E3504,D3505/MAX($D$8:D3505)-1)))","v":""}]
[null,null,null,null,{"$f":"IF(A3506=\"\",\"\",IF(B3506=\"\",E3505,IF(D3506=\"\",E3505,D3506/MAX($D$8:D3506)-1)))","v":""}]
[null,null,null,null,{"$f":"IF(A3507=\"\",\"\",IF(B3507=\"\",E3506,IF(D3507=\"\",E3506,D3507/MAX($D$8:D3507)-1)))","v":""}]
[null,null,null,null,{"$f":"IF(A3508=\"\",\"\",IF(B3508=\"\",E3507,IF(D3508=\"\",E3507,D3508/MAX($D$8:D3508)-1)))","v":""}]
[null,null,null,null,{"$f":"IF(A3509=\"\",\"\",IF(B3509=\"\",E3508,IF(D3509=\"\",E3508,D3509/MAX($D$8:D3509)-1)))","v":""}]
[null,null,null,null,{"$f":"IF(A3510=\"\",\"\",IF(B3510=\"\",E3509,IF(D3510=\"\",E3509,D3510/MAX($D$8:D3510)-1)))","v":""}]
[null,null,null,null,{"$f":"IF(A3511=\"\",\"\",IF(B3511=\"\",E3510,IF(D3511=\"\",E3510,D3511/MAX($D$8:D3511)-1)))","v":""}]
[null,null,null,null,{"$f":"IF(A3512=\"\",\"\",IF(B3512=\"\",E3511,IF(D3512=\"\",E3511,D3512/MAX($D$8:D3512)-1)))","v":""}]
[null,null,null,null,{"$f":"IF(A3513=\"\",\"\",IF(B3513=\"\",E3512,IF(D3513=\"\",E3512,D3513/MAX($D$8:D3513)-1)))","v":""}]
[null,null,null,null,{"$f":"IF(A3514=\"\",\"\",IF(B3514=\"\",E3513,IF(D3514=\"\",E3513,D3514/MAX($D$8:D3514)-1)))","v":""}]
[null,null,null,null,{"$f":"IF(A3515=\"\",\"\",IF(B3515=\"\",E3514,IF(D3515=\"\",E3514,D3515/MAX($D$8:D3515)-1)))","v":""}]
[null,null,null,null,{"$f":"IF(A3516=\"\",\"\",IF(B3516=\"\",E3515,IF(D3516=\"\",E3515,D3516/MAX($D$8:D3516)-1)))","v":""}]
[null,null,null,null,{"$f":"IF(A3517=\"\",\"\",IF(B3517=\"\",E3516,IF(D3517=\"\",E3516,D3517/MAX($D$8:D3517)-1)))","v":""}]
[null,null,null,null,{"$f":"IF(A3518=\"\",\"\",IF(B3518=\"\",E3517,IF(D3518=\"\",E3517,D3518/MAX($D$8:D3518)-1)))","v":""}]
[null,null,null,null,{"$f":"IF(A3519=\"\",\"\",IF(B3519=\"\",E3518,IF(D3519=\"\",E3518,D3519/MAX($D$8:D3519)-1)))","v":""}]
[null,null,null,null,{"$f":"IF(A3520=\"\",\"\",IF(B3520=\"\",E3519,IF(D3520=\"\",E3519,D3520/MAX($D$8:D3520)-1)))","v":""}]
[null,null,null,null,{"$f":"IF(A3521=\"\",\"\",IF(B3521=\"\",E3520,IF(D3521=\"\",E3520,D3521/MAX($D$8:D3521)-1)))","v":""}]
[null,null,null,null,{"$f":"IF(A3522=\"\",\"\",IF(B3522=\"\",E3521,IF(D3522=\"\",E3521,D3522/MAX($D$8:D3522)-1)))","v":""}]
[null,null,null,null,{"$f":"IF(A3523=\"\",\"\",IF(B3523=\"\",E3522,IF(D3523=\"\",E3522,D3523/MAX($D$8:D3523)-1)))","v":""}]
[null,null,null,null,{"$f":"IF(A3524=\"\",\"\",IF(B3524=\"\",E3523,IF(D3524=\"\",E3523,D3524/MAX($D$8:D3524)-1)))","v":""}]
[null,null,null,null,{"$f":"IF(A3525=\"\",\"\",IF(B3525=\"\",E3524,IF(D3525=\"\",E3524,D3525/MAX($D$8:D3525)-1)))","v":""}]
[null,null,null,null,{"$f":"IF(A3526=\"\",\"\",IF(B3526=\"\",E3525,IF(D3526=\"\",E3525,D3526/MAX($D$8:D3526)-1)))","v":""}]
[null,null,null,null,{"$f":"IF(A3527=\"\",\"\",IF(B3527=\"\",E3526,IF(D3527=\"\",E3526,D3527/MAX($D$8:D3527)-1)))","v":""}]
[null,null,null,null,{"$f":"IF(A3528=\"\",\"\",IF(B3528=\"\",E3527,IF(D3528=\"\",E3527,D3528/MAX($D$8:D3528)-1)))","v":""}]
[null,null,null,null,{"$f":"IF(A3529=\"\",\"\",IF(B3529=\"\",E3528,IF(D3529=\"\",E3528,D3529/MAX($D$8:D3529)-1)))","v":""}]
[null,null,null,null,{"$f":"IF(A3530=\"\",\"\",IF(B3530=\"\",E3529,IF(D3530=\"\",E3529,D3530/MAX($D$8:D3530)-1)))","v":""}]
[null,null,null,null,{"$f":"IF(A3531=\"\",\"\",IF(B3531=\"\",E3530,IF(D3531=\"\",E3530,D3531/MAX($D$8:D3531)-1)))","v":""}]
[null,null,null,null,{"$f":"IF(A3532=\"\",\"\",IF(B3532=\"\",E3531,IF(D3532=\"\",E3531,D3532/MAX($D$8:D3532)-1)))","v":""}]
[null,null,null,null,{"$f":"IF(A3533=\"\",\"\",IF(B3533=\"\",E3532,IF(D3533=\"\",E3532,D3533/MAX($D$8:D3533)-1)))","v":""}]
[null,null,null,null,{"$f":"IF(A3534=\"\",\"\",IF(B3534=\"\",E3533,IF(D3534=\"\",E3533,D3534/MAX($D$8:D3534)-1)))","v":""}]
[null,null,null,null,{"$f":"IF(A3535=\"\",\"\",IF(B3535=\"\",E3534,IF(D3535=\"\",E3534,D3535/MAX($D$8:D3535)-1)))","v":""}]
[null,null,null,null,{"$f":"IF(A3536=\"\",\"\",IF(B3536=\"\",E3535,IF(D3536=\"\",E3535,D3536/MAX($D$8:D3536)-1)))","v":""}]
[null,null,null,null,{"$f":"IF(A3537=\"\",\"\",IF(B3537=\"\",E3536,IF(D3537=\"\",E3536,D3537/MAX($D$8:D3537)-1)))","v":""}]
[null,null,null,null,{"$f":"IF(A3538=\"\",\"\",IF(B3538=\"\",E3537,IF(D3538=\"\",E3537,D3538/MAX($D$8:D3538)-1)))","v":""}]
[null,null,null,null,{"$f":"IF(A3539=\"\",\"\",IF(B3539=\"\",E3538,IF(D3539=\"\",E3538,D3539/MAX($D$8:D3539)-1)))","v":""}]
[null,null,null,null,{"$f":"IF(A3540=\"\",\"\",IF(B3540=\"\",E3539,IF(D3540=\"\",E3539,D3540/MAX($D$8:D3540)-1)))","v":""}]
[null,null,null,null,{"$f":"IF(A3541=\"\",\"\",IF(B3541=\"\",E3540,IF(D3541=\"\",E3540,D3541/MAX($D$8:D3541)-1)))","v":""}]
[null,null,null,null,{"$f":"IF(A3542=\"\",\"\",IF(B3542=\"\",E3541,IF(D3542=\"\",E3541,D3542/MAX($D$8:D3542)-1)))","v":""}]
[null,null,null,null,{"$f":"IF(A3543=\"\",\"\",IF(B3543=\"\",E3542,IF(D3543=\"\",E3542,D3543/MAX($D$8:D3543)-1)))","v":""}]
[null,null,null,null,{"$f":"IF(A3544=\"\",\"\",IF(B3544=\"\",E3543,IF(D3544=\"\",E3543,D3544/MAX($D$8:D3544)-1)))","v":""}]
[null,null,null,null,{"$f":"IF(A3545=\"\",\"\",IF(B3545=\"\",E3544,IF(D3545=\"\",E3544,D3545/MAX($D$8:D3545)-1)))","v":""}]
[null,null,null,null,{"$f":"IF(A3546=\"\",\"\",IF(B3546=\"\",E3545,IF(D3546=\"\",E3545,D3546/MAX($D$8:D3546)-1)))","v":""}]
[null,null,null,null,{"$f":"IF(A3547=\"\",\"\",IF(B3547=\"\",E3546,IF(D3547=\"\",E3546,D3547/MAX($D$8:D3547)-1)))","v":""}]
[null,null,null,null,{"$f":"IF(A3548=\"\",\"\",IF(B3548=\"\",E3547,IF(D3548=\"\",E3547,D3548/MAX($D$8:D3548)-1)))","v":""}]
[null,null,null,null,{"$f":"IF(A3549=\"\",\"\",IF(B3549=\"\",E3548,IF(D3549=\"\",E3548,D3549/MAX($D$8:D3549)-1)))","v":""}]
[null,null,null,null,{"$f":"IF(A3550=\"\",\"\",IF(B3550=\"\",E3549,IF(D3550=\"\",E3549,D3550/MAX($D$8:D3550)-1)))","v":""}]
[null,null,null,null,{"$f":"IF(A3551=\"\",\"\",IF(B3551=\"\",E3550,IF(D3551=\"\",E3550,D3551/MAX($D$8:D3551)-1)))","v":""}]
[null,null,null,null,{"$f":"IF(A3552=\"\",\"\",IF(B3552=\"\",E3551,IF(D3552=\"\",E3551,D3552/MAX($D$8:D3552)-1)))","v":""}]
[null,null,null,null,{"$f":"IF(A3553=\"\",\"\",IF(B3553=\"\",E3552,IF(D3553=\"\",E3552,D3553/MAX($D$8:D3553)-1)))","v":""}]
[null,null,null,null,{"$f":"IF(A3554=\"\",\"\",IF(B3554=\"\",E3553,IF(D3554=\"\",E3553,D3554/MAX($D$8:D3554)-1)))","v":""}]
[null,null,null,null,{"$f":"IF(A3555=\"\",\"\",IF(B3555=\"\",E3554,IF(D3555=\"\",E3554,D3555/MAX($D$8:D3555)-1)))","v":""}]
[null,null,null,null,{"$f":"IF(A3556=\"\",\"\",IF(B3556=\"\",E3555,IF(D3556=\"\",E3555,D3556/MAX($D$8:D3556)-1)))","v":""}]
[null,null,null,null,{"$f":"IF(A3557=\"\",\"\",IF(B3557=\"\",E3556,IF(D3557=\"\",E3556,D3557/MAX($D$8:D3557)-1)))","v":""}]
[null,null,null,null,{"$f":"IF(A3558=\"\",\"\",IF(B3558=\"\",E3557,IF(D3558=\"\",E3557,D3558/MAX($D$8:D3558)-1)))","v":""}]
[null,null,null,null,{"$f":"IF(A3559=\"\",\"\",IF(B3559=\"\",E3558,IF(D3559=\"\",E3558,D3559/MAX($D$8:D3559)-1)))","v":""}]
[null,null,null,null,{"$f":"IF(A3560=\"\",\"\",IF(B3560=\"\",E3559,IF(D3560=\"\",E3559,D3560/MAX($D$8:D3560)-1)))","v":""}]
[null,null,null,null,{"$f":"IF(A3561=\"\",\"\",IF(B3561=\"\",E3560,IF(D3561=\"\",E3560,D3561/MAX($D$8:D3561)-1)))","v":""}]
[null,null,null,null,{"$f":"IF(A3562=\"\",\"\",IF(B3562=\"\",E3561,IF(D3562=\"\",E3561,D3562/MAX($D$8:D3562)-1)))","v":""}]
[null,null,null,null,{"$f":"IF(A3563=\"\",\"\",IF(B3563=\"\",E3562,IF(D3563=\"\",E3562,D3563/MAX($D$8:D3563)-1)))","v":""}]
[null,null,null,null,{"$f":"IF(A3564=\"\",\"\",IF(B3564=\"\",E3563,IF(D3564=\"\",E3563,D3564/MAX($D$8:D3564)-1)))","v":""}]
[null,null,null,null,{"$f":"IF(A3565=\"\",\"\",IF(B3565=\"\",E3564,IF(D3565=\"\",E3564,D3565/MAX($D$8:D3565)-1)))","v":""}]
[null,null,null,null,{"$f":"IF(A3566=\"\",\"\",IF(B3566=\"\",E3565,IF(D3566=\"\",E3565,D3566/MAX($D$8:D3566)-1)))","v":""}]
[null,null,null,null,{"$f":"IF(A3567=\"\",\"\",IF(B3567=\"\",E3566,IF(D3567=\"\",E3566,D3567/MAX($D$8:D3567)-1)))","v":""}]
[null,null,null,null,{"$f":"IF(A3568=\"\",\"\",IF(B3568=\"\",E3567,IF(D3568=\"\",E3567,D3568/MAX($D$8:D3568)-1)))","v":""}]
[null,null,null,null,{"$f":"IF(A3569=\"\",\"\",IF(B3569=\"\",E3568,IF(D3569=\"\",E3568,D3569/MAX($D$8:D3569)-1)))","v":""}]
[null,null,null,null,{"$f":"IF(A3570=\"\",\"\",IF(B3570=\"\",E3569,IF(D3570=\"\",E3569,D3570/MAX($D$8:D3570)-1)))","v":""}]
[null,null,null,null,{"$f":"IF(A3571=\"\",\"\",IF(B3571=\"\",E3570,IF(D3571=\"\",E3570,D3571/MAX($D$8:D3571)-1)))","v":""}]
[null,null,null,null,{"$f":"IF(A3572=\"\",\"\",IF(B3572=\"\",E3571,IF(D3572=\"\",E3571,D3572/MAX($D$8:D3572)-1)))","v":""}]
[null,null,null,null,{"$f":"IF(A3573=\"\",\"\",IF(B3573=\"\",E3572,IF(D3573=\"\",E3572,D3573/MAX($D$8:D3573)-1)))","v":""}]
[null,null,null,null,{"$f":"IF(A3574=\"\",\"\",IF(B3574=\"\",E3573,IF(D3574=\"\",E3573,D3574/MAX($D$8:D3574)-1)))","v":""}]
[null,null,null,null,{"$f":"IF(A3575=\"\",\"\",IF(B3575=\"\",E3574,IF(D3575=\"\",E3574,D3575/MAX($D$8:D3575)-1)))","v":""}]
[null,null,null,null,{"$f":"IF(A3576=\"\",\"\",IF(B3576=\"\",E3575,IF(D3576=\"\",E3575,D3576/MAX($D$8:D3576)-1)))","v":""}]
[null,null,null,null,{"$f":"IF(A3577=\"\",\"\",IF(B3577=\"\",E3576,IF(D3577=\"\",E3576,D3577/MAX($D$8:D3577)-1)))","v":""}]
[null,null,null,null,{"$f":"IF(A3578=\"\",\"\",IF(B3578=\"\",E3577,IF(D3578=\"\",E3577,D3578/MAX($D$8:D3578)-1)))","v":""}]
[null,null,null,null,{"$f":"IF(A3579=\"\",\"\",IF(B3579=\"\",E3578,IF(D3579=\"\",E3578,D3579/MAX($D$8:D3579)-1)))","v":""}]
[null,null,null,null,{"$f":"IF(A3580=\"\",\"\",IF(B3580=\"\",E3579,IF(D3580=\"\",E3579,D3580/MAX($D$8:D3580)-1)))","v":""}]
[null,null,null,null,{"$f":"IF(A3581=\"\",\"\",IF(B3581=\"\",E3580,IF(D3581=\"\",E3580,D3581/MAX($D$8:D3581)-1)))","v":""}]
[null,null,null,null,{"$f":"IF(A3582=\"\",\"\",IF(B3582=\"\",E3581,IF(D3582=\"\",E3581,D3582/MAX($D$8:D3582)-1)))","v":""}]
[null,null,null,null,{"$f":"IF(A3583=\"\",\"\",IF(B3583=\"\",E3582,IF(D3583=\"\",E3582,D3583/MAX($D$8:D3583)-1)))","v":""}]
[null,null,null,null,{"$f":"IF(A3584=\"\",\"\",IF(B3584=\"\",E3583,IF(D3584=\"\",E3583,D3584/MAX($D$8:D3584)-1)))","v":""}]
[null,null,null,null,{"$f":"IF(A3585=\"\",\"\",IF(B3585=\"\",E3584,IF(D3585=\"\",E3584,D3585/MAX($D$8:D3585)-1)))","v":""}]
[null,null,null,null,{"$f":"IF(A3586=\"\",\"\",IF(B3586=\"\",E3585,IF(D3586=\"\",E3585,D3586/MAX($D$8:D3586)-1)))","v":""}]
[null,null,null,null,{"$f":"IF(A3587=\"\",\"\",IF(B3587=\"\",E3586,IF(D3587=\"\",E3586,D3587/MAX($D$8:D3587)-1)))","v":""}]
[null,null,null,null,{"$f":"IF(A3588=\"\",\"\",IF(B3588=\"\",E3587,IF(D3588=\"\",E3587,D3588/MAX($D$8:D3588)-1)))","v":""}]
[null,null,null,null,{"$f":"IF(A3589=\"\",\"\",IF(B3589=\"\",E3588,IF(D3589=\"\",E3588,D3589/MAX($D$8:D3589)-1)))","v":""}]
[null,null,null,null,{"$f":"IF(A3590=\"\",\"\",IF(B3590=\"\",E3589,IF(D3590=\"\",E3589,D3590/MAX($D$8:D3590)-1)))","v":""}]
[null,null,null,null,{"$f":"IF(A3591=\"\",\"\",IF(B3591=\"\",E3590,IF(D3591=\"\",E3590,D3591/MAX($D$8:D3591)-1)))","v":""}]
[null,null,null,null,{"$f":"IF(A3592=\"\",\"\",IF(B3592=\"\",E3591,IF(D3592=\"\",E3591,D3592/MAX($D$8:D3592)-1)))","v":""}]
[null,null,null,null,{"$f":"IF(A3593=\"\",\"\",IF(B3593=\"\",E3592,IF(D3593=\"\",E3592,D3593/MAX($D$8:D3593)-1)))","v":""}]
[null,null,null,null,{"$f":"IF(A3594=\"\",\"\",IF(B3594=\"\",E3593,IF(D3594=\"\",E3593,D3594/MAX($D$8:D3594)-1)))","v":""}]
[null,null,null,null,{"$f":"IF(A3595=\"\",\"\",IF(B3595=\"\",E3594,IF(D3595=\"\",E3594,D3595/MAX($D$8:D3595)-1)))","v":""}]
[null,null,null,null,{"$f":"IF(A3596=\"\",\"\",IF(B3596=\"\",E3595,IF(D3596=\"\",E3595,D3596/MAX($D$8:D3596)-1)))","v":""}]
[null,null,null,null,{"$f":"IF(A3597=\"\",\"\",IF(B3597=\"\",E3596,IF(D3597=\"\",E3596,D3597/MAX($D$8:D3597)-1)))","v":""}]
[null,null,null,null,{"$f":"IF(A3598=\"\",\"\",IF(B3598=\"\",E3597,IF(D3598=\"\",E3597,D3598/MAX($D$8:D3598)-1)))","v":""}]
[null,null,null,null,{"$f":"IF(A3599=\"\",\"\",IF(B3599=\"\",E3598,IF(D3599=\"\",E3598,D3599/MAX($D$8:D3599)-1)))","v":""}]
[null,null,null,null,{"$f":"IF(A3600=\"\",\"\",IF(B3600=\"\",E3599,IF(D3600=\"\",E3599,D3600/MAX($D$8:D3600)-1)))","v":""}]
[null,null,null,null,{"$f":"IF(A3601=\"\",\"\",IF(B3601=\"\",E3600,IF(D3601=\"\",E3600,D3601/MAX($D$8:D3601)-1)))","v":""}]
[null,null,null,null,{"$f":"IF(A3602=\"\",\"\",IF(B3602=\"\",E3601,IF(D3602=\"\",E3601,D3602/MAX($D$8:D3602)-1)))","v":""}]
[null,null,null,null,{"$f":"IF(A3603=\"\",\"\",IF(B3603=\"\",E3602,IF(D3603=\"\",E3602,D3603/MAX($D$8:D3603)-1)))","v":""}]
[null,null,null,null,{"$f":"IF(A3604=\"\",\"\",IF(B3604=\"\",E3603,IF(D3604=\"\",E3603,D3604/MAX($D$8:D3604)-1)))","v":""}]
[null,null,null,null,{"$f":"IF(A3605=\"\",\"\",IF(B3605=\"\",E3604,IF(D3605=\"\",E3604,D3605/MAX($D$8:D3605)-1)))","v":""}]
[null,null,null,null,{"$f":"IF(A3606=\"\",\"\",IF(B3606=\"\",E3605,IF(D3606=\"\",E3605,D3606/MAX($D$8:D3606)-1)))","v":""}]
[null,null,null,null,{"$f":"IF(A3607=\"\",\"\",IF(B3607=\"\",E3606,IF(D3607=\"\",E3606,D3607/MAX($D$8:D3607)-1)))","v":""}]
[null,null,null,null,{"$f":"IF(A3608=\"\",\"\",IF(B3608=\"\",E3607,IF(D3608=\"\",E3607,D3608/MAX($D$8:D3608)-1)))","v":""}]
[null,null,null,null,{"$f":"IF(A3609=\"\",\"\",IF(B3609=\"\",E3608,IF(D3609=\"\",E3608,D3609/MAX($D$8:D3609)-1)))","v":""}]
[null,null,null,null,{"$f":"IF(A3610=\"\",\"\",IF(B3610=\"\",E3609,IF(D3610=\"\",E3609,D3610/MAX($D$8:D3610)-1)))","v":""}]
[null,null,null,null,{"$f":"IF(A3611=\"\",\"\",IF(B3611=\"\",E3610,IF(D3611=\"\",E3610,D3611/MAX($D$8:D3611)-1)))","v":""}]
[null,null,null,null,{"$f":"IF(A3612=\"\",\"\",IF(B3612=\"\",E3611,IF(D3612=\"\",E3611,D3612/MAX($D$8:D3612)-1)))","v":""}]
[null,null,null,null,{"$f":"IF(A3613=\"\",\"\",IF(B3613=\"\",E3612,IF(D3613=\"\",E3612,D3613/MAX($D$8:D3613)-1)))","v":""}]
[null,null,null,null,{"$f":"IF(A3614=\"\",\"\",IF(B3614=\"\",E3613,IF(D3614=\"\",E3613,D3614/MAX($D$8:D3614)-1)))","v":""}]
[null,null,null,null,{"$f":"IF(A3615=\"\",\"\",IF(B3615=\"\",E3614,IF(D3615=\"\",E3614,D3615/MAX($D$8:D3615)-1)))","v":""}]
[null,null,null,null,{"$f":"IF(A3616=\"\",\"\",IF(B3616=\"\",E3615,IF(D3616=\"\",E3615,D3616/MAX($D$8:D3616)-1)))","v":""}]
[null,null,null,null,{"$f":"IF(A3617=\"\",\"\",IF(B3617=\"\",E3616,IF(D3617=\"\",E3616,D3617/MAX($D$8:D3617)-1)))","v":""}]
[null,null,null,null,{"$f":"IF(A3618=\"\",\"\",IF(B3618=\"\",E3617,IF(D3618=\"\",E3617,D3618/MAX($D$8:D3618)-1)))","v":""}]
[null,null,null,null,{"$f":"IF(A3619=\"\",\"\",IF(B3619=\"\",E3618,IF(D3619=\"\",E3618,D3619/MAX($D$8:D3619)-1)))","v":""}]
[null,null,null,null,{"$f":"IF(A3620=\"\",\"\",IF(B3620=\"\",E3619,IF(D3620=\"\",E3619,D3620/MAX($D$8:D3620)-1)))","v":""}]
[null,null,null,null,{"$f":"IF(A3621=\"\",\"\",IF(B3621=\"\",E3620,IF(D3621=\"\",E3620,D3621/MAX($D$8:D3621)-1)))","v":""}]
[null,null,null,null,{"$f":"IF(A3622=\"\",\"\",IF(B3622=\"\",E3621,IF(D3622=\"\",E3621,D3622/MAX($D$8:D3622)-1)))","v":""}]
[null,null,null,null,{"$f":"IF(A3623=\"\",\"\",IF(B3623=\"\",E3622,IF(D3623=\"\",E3622,D3623/MAX($D$8:D3623)-1)))","v":""}]
[null,null,null,null,{"$f":"IF(A3624=\"\",\"\",IF(B3624=\"\",E3623,IF(D3624=\"\",E3623,D3624/MAX($D$8:D3624)-1)))","v":""}]
[null,null,null,null,{"$f":"IF(A3625=\"\",\"\",IF(B3625=\"\",E3624,IF(D3625=\"\",E3624,D3625/MAX($D$8:D3625)-1)))","v":""}]
[null,null,null,null,{"$f":"IF(A3626=\"\",\"\",IF(B3626=\"\",E3625,IF(D3626=\"\",E3625,D3626/MAX($D$8:D3626)-1)))","v":""}]
[null,null,null,null,{"$f":"IF(A3627=\"\",\"\",IF(B3627=\"\",E3626,IF(D3627=\"\",E3626,D3627/MAX($D$8:D3627)-1)))","v":""}]
[null,null,null,null,{"$f":"IF(A3628=\"\",\"\",IF(B3628=\"\",E3627,IF(D3628=\"\",E3627,D3628/MAX($D$8:D3628)-1)))","v":""}]
[null,null,null,null,{"$f":"IF(A3629=\"\",\"\",IF(B3629=\"\",E3628,IF(D3629=\"\",E3628,D3629/MAX($D$8:D3629)-1)))","v":""}]
[null,null,null,null,{"$f":"IF(A3630=\"\",\"\",IF(B3630=\"\",E3629,IF(D3630=\"\",E3629,D3630/MAX($D$8:D3630)-1)))","v":""}]
[null,null,null,null,{"$f":"IF(A3631=\"\",\"\",IF(B3631=\"\",E3630,IF(D3631=\"\",E3630,D3631/MAX($D$8:D3631)-1)))","v":""}]
[null,null,null,null,{"$f":"IF(A3632=\"\",\"\",IF(B3632=\"\",E3631,IF(D3632=\"\",E3631,D3632/MAX($D$8:D3632)-1)))","v":""}]
[null,null,null,null,{"$f":"IF(A3633=\"\",\"\",IF(B3633=\"\",E3632,IF(D3633=\"\",E3632,D3633/MAX($D$8:D3633)-1)))","v":""}]
[null,null,null,null,{"$f":"IF(A3634=\"\",\"\",IF(B3634=\"\",E3633,IF(D3634=\"\",E3633,D3634/MAX($D$8:D3634)-1)))","v":""}]
[null,null,null,null,{"$f":"IF(A3635=\"\",\"\",IF(B3635=\"\",E3634,IF(D3635=\"\",E3634,D3635/MAX($D$8:D3635)-1)))","v":""}]
[null,null,null,null,{"$f":"IF(A3636=\"\",\"\",IF(B3636=\"\",E3635,IF(D3636=\"\",E3635,D3636/MAX($D$8:D3636)-1)))","v":""}]
[null,null,null,null,{"$f":"IF(A3637=\"\",\"\",IF(B3637=\"\",E3636,IF(D3637=\"\",E3636,D3637/MAX($D$8:D3637)-1)))","v":""}]
[null,null,null,null,{"$f":"IF(A3638=\"\",\"\",IF(B3638=\"\",E3637,IF(D3638=\"\",E3637,D3638/MAX($D$8:D3638)-1)))","v":""}]
[null,null,null,null,{"$f":"IF(A3639=\"\",\"\",IF(B3639=\"\",E3638,IF(D3639=\"\",E3638,D3639/MAX($D$8:D3639)-1)))","v":""}]
[null,null,null,null,{"$f":"IF(A3640=\"\",\"\",IF(B3640=\"\",E3639,IF(D3640=\"\",E3639,D3640/MAX($D$8:D3640)-1)))","v":""}]
[null,null,null,null,{"$f":"IF(A3641=\"\",\"\",IF(B3641=\"\",E3640,IF(D3641=\"\",E3640,D3641/MAX($D$8:D3641)-1)))","v":""}]
[null,null,null,null,{"$f":"IF(A3642=\"\",\"\",IF(B3642=\"\",E3641,IF(D3642=\"\",E3641,D3642/MAX($D$8:D3642)-1)))","v":""}]
[null,null,null,null,{"$f":"IF(A3643=\"\",\"\",IF(B3643=\"\",E3642,IF(D3643=\"\",E3642,D3643/MAX($D$8:D3643)-1)))","v":""}]
[null,null,null,null,{"$f":"IF(A3644=\"\",\"\",IF(B3644=\"\",E3643,IF(D3644=\"\",E3643,D3644/MAX($D$8:D3644)-1)))","v":""}]
[null,null,null,null,{"$f":"IF(A3645=\"\",\"\",IF(B3645=\"\",E3644,IF(D3645=\"\",E3644,D3645/MAX($D$8:D3645)-1)))","v":""}]
[null,null,null,null,{"$f":"IF(A3646=\"\",\"\",IF(B3646=\"\",E3645,IF(D3646=\"\",E3645,D3646/MAX($D$8:D3646)-1)))","v":""}]
[null,null,null,null,{"$f":"IF(A3647=\"\",\"\",IF(B3647=\"\",E3646,IF(D3647=\"\",E3646,D3647/MAX($D$8:D3647)-1)))","v":""}]
[null,null,null,null,{"$f":"IF(A3648=\"\",\"\",IF(B3648=\"\",E3647,IF(D3648=\"\",E3647,D3648/MAX($D$8:D3648)-1)))","v":""}]
[null,null,null,null,{"$f":"IF(A3649=\"\",\"\",IF(B3649=\"\",E3648,IF(D3649=\"\",E3648,D3649/MAX($D$8:D3649)-1)))","v":""}]
[null,null,null,null,{"$f":"IF(A3650=\"\",\"\",IF(B3650=\"\",E3649,IF(D3650=\"\",E3649,D3650/MAX($D$8:D3650)-1)))","v":""}]
[null,null,null,null,{"$f":"IF(A3651=\"\",\"\",IF(B3651=\"\",E3650,IF(D3651=\"\",E3650,D3651/MAX($D$8:D3651)-1)))","v":""}]
[null,null,null,null,{"$f":"IF(A3652=\"\",\"\",IF(B3652=\"\",E3651,IF(D3652=\"\",E3651,D3652/MAX($D$8:D3652)-1)))","v":""}]
[null,null,null,null,{"$f":"IF(A3653=\"\",\"\",IF(B3653=\"\",E3652,IF(D3653=\"\",E3652,D3653/MAX($D$8:D3653)-1)))","v":""}]
[null,null,null,null,{"$f":"IF(A3654=\"\",\"\",IF(B3654=\"\",E3653,IF(D3654=\"\",E3653,D3654/MAX($D$8:D3654)-1)))","v":""}]
[null,null,null,null,{"$f":"IF(A3655=\"\",\"\",IF(B3655=\"\",E3654,IF(D3655=\"\",E3654,D3655/MAX($D$8:D3655)-1)))","v":""}]
[null,null,null,null,{"$f":"IF(A3656=\"\",\"\",IF(B3656=\"\",E3655,IF(D3656=\"\",E3655,D3656/MAX($D$8:D3656)-1)))","v":""}]
[null,null,null,null,{"$f":"IF(A3657=\"\",\"\",IF(B3657=\"\",E3656,IF(D3657=\"\",E3656,D3657/MAX($D$8:D3657)-1)))","v":""}]
[null,null,null,null,{"$f":"IF(A3658=\"\",\"\",IF(B3658=\"\",E3657,IF(D3658=\"\",E3657,D3658/MAX($D$8:D3658)-1)))","v":""}]
[null,null,null,null,{"$f":"IF(A3659=\"\",\"\",IF(B3659=\"\",E3658,IF(D3659=\"\",E3658,D3659/MAX($D$8:D3659)-1)))","v":""}]
[null,null,null,null,{"$f":"IF(A3660=\"\",\"\",IF(B3660=\"\",E3659,IF(D3660=\"\",E3659,D3660/MAX($D$8:D3660)-1)))","v":""}]
[null,null,null,null,{"$f":"IF(A3661=\"\",\"\",IF(B3661=\"\",E3660,IF(D3661=\"\",E3660,D3661/MAX($D$8:D3661)-1)))","v":""}]
[null,null,null,null,{"$f":"IF(A3662=\"\",\"\",IF(B3662=\"\",E3661,IF(D3662=\"\",E3661,D3662/MAX($D$8:D3662)-1)))","v":""}]
[null,null,null,null,{"$f":"IF(A3663=\"\",\"\",IF(B3663=\"\",E3662,IF(D3663=\"\",E3662,D3663/MAX($D$8:D3663)-1)))","v":""}]
[null,null,null,null,{"$f":"IF(A3664=\"\",\"\",IF(B3664=\"\",E3663,IF(D3664=\"\",E3663,D3664/MAX($D$8:D3664)-1)))","v":""}]
[null,null,null,null,{"$f":"IF(A3665=\"\",\"\",IF(B3665=\"\",E3664,IF(D3665=\"\",E3664,D3665/MAX($D$8:D3665)-1)))","v":""}]
[null,null,null,null,{"$f":"IF(A3666=\"\",\"\",IF(B3666=\"\",E3665,IF(D3666=\"\",E3665,D3666/MAX($D$8:D3666)-1)))","v":""}]
[null,null,null,null,{"$f":"IF(A3667=\"\",\"\",IF(B3667=\"\",E3666,IF(D3667=\"\",E3666,D3667/MAX($D$8:D3667)-1)))","v":""}]
[null,null,null,null,{"$f":"IF(A3668=\"\",\"\",IF(B3668=\"\",E3667,IF(D3668=\"\",E3667,D3668/MAX($D$8:D3668)-1)))","v":""}]
[null,null,null,null,{"$f":"IF(A3669=\"\",\"\",IF(B3669=\"\",E3668,IF(D3669=\"\",E3668,D3669/MAX($D$8:D3669)-1)))","v":""}]
[null,null,null,null,{"$f":"IF(A3670=\"\",\"\",IF(B3670=\"\",E3669,IF(D3670=\"\",E3669,D3670/MAX($D$8:D3670)-1)))","v":""}]
[null,null,null,null,{"$f":"IF(A3671=\"\",\"\",IF(B3671=\"\",E3670,IF(D3671=\"\",E3670,D3671/MAX($D$8:D3671)-1)))","v":""}]
[null,null,null,null,{"$f":"IF(A3672=\"\",\"\",IF(B3672=\"\",E3671,IF(D3672=\"\",E3671,D3672/MAX($D$8:D3672)-1)))","v":""}]
[null,null,null,null,{"$f":"IF(A3673=\"\",\"\",IF(B3673=\"\",E3672,IF(D3673=\"\",E3672,D3673/MAX($D$8:D3673)-1)))","v":""}]
[null,null,null,null,{"$f":"IF(A3674=\"\",\"\",IF(B3674=\"\",E3673,IF(D3674=\"\",E3673,D3674/MAX($D$8:D3674)-1)))","v":""}]
[null,null,null,null,{"$f":"IF(A3675=\"\",\"\",IF(B3675=\"\",E3674,IF(D3675=\"\",E3674,D3675/MAX($D$8:D3675)-1)))","v":""}]
[null,null,null,null,{"$f":"IF(A3676=\"\",\"\",IF(B3676=\"\",E3675,IF(D3676=\"\",E3675,D3676/MAX($D$8:D3676)-1)))","v":""}]
[null,null,null,null,{"$f":"IF(A3677=\"\",\"\",IF(B3677=\"\",E3676,IF(D3677=\"\",E3676,D3677/MAX($D$8:D3677)-1)))","v":""}]
[null,null,null,null,{"$f":"IF(A3678=\"\",\"\",IF(B3678=\"\",E3677,IF(D3678=\"\",E3677,D3678/MAX($D$8:D3678)-1)))","v":""}]
[null,null,null,null,{"$f":"IF(A3679=\"\",\"\",IF(B3679=\"\",E3678,IF(D3679=\"\",E3678,D3679/MAX($D$8:D3679)-1)))","v":""}]
[null,null,null,null,{"$f":"IF(A3680=\"\",\"\",IF(B3680=\"\",E3679,IF(D3680=\"\",E3679,D3680/MAX($D$8:D3680)-1)))","v":""}]
[null,null,null,null,{"$f":"IF(A3681=\"\",\"\",IF(B3681=\"\",E3680,IF(D3681=\"\",E3680,D3681/MAX($D$8:D3681)-1)))","v":""}]
[null,null,null,null,{"$f":"IF(A3682=\"\",\"\",IF(B3682=\"\",E3681,IF(D3682=\"\",E3681,D3682/MAX($D$8:D3682)-1)))","v":""}]
[null,null,null,null,{"$f":"IF(A3683=\"\",\"\",IF(B3683=\"\",E3682,IF(D3683=\"\",E3682,D3683/MAX($D$8:D3683)-1)))","v":""}]
[null,null,null,null,{"$f":"IF(A3684=\"\",\"\",IF(B3684=\"\",E3683,IF(D3684=\"\",E3683,D3684/MAX($D$8:D3684)-1)))","v":""}]
[null,null,null,null,{"$f":"IF(A3685=\"\",\"\",IF(B3685=\"\",E3684,IF(D3685=\"\",E3684,D3685/MAX($D$8:D3685)-1)))","v":""}]
[null,null,null,null,{"$f":"IF(A3686=\"\",\"\",IF(B3686=\"\",E3685,IF(D3686=\"\",E3685,D3686/MAX($D$8:D3686)-1)))","v":""}]
[null,null,null,null,{"$f":"IF(A3687=\"\",\"\",IF(B3687=\"\",E3686,IF(D3687=\"\",E3686,D3687/MAX($D$8:D3687)-1)))","v":""}]
[null,null,null,null,{"$f":"IF(A3688=\"\",\"\",IF(B3688=\"\",E3687,IF(D3688=\"\",E3687,D3688/MAX($D$8:D3688)-1)))","v":""}]
[null,null,null,null,{"$f":"IF(A3689=\"\",\"\",IF(B3689=\"\",E3688,IF(D3689=\"\",E3688,D3689/MAX($D$8:D3689)-1)))","v":""}]
[null,null,null,null,{"$f":"IF(A3690=\"\",\"\",IF(B3690=\"\",E3689,IF(D3690=\"\",E3689,D3690/MAX($D$8:D3690)-1)))","v":""}]
[null,null,null,null,{"$f":"IF(A3691=\"\",\"\",IF(B3691=\"\",E3690,IF(D3691=\"\",E3690,D3691/MAX($D$8:D3691)-1)))","v":""}]
[null,null,null,null,{"$f":"IF(A3692=\"\",\"\",IF(B3692=\"\",E3691,IF(D3692=\"\",E3691,D3692/MAX($D$8:D3692)-1)))","v":""}]
[null,null,null,null,{"$f":"IF(A3693=\"\",\"\",IF(B3693=\"\",E3692,IF(D3693=\"\",E3692,D3693/MAX($D$8:D3693)-1)))","v":""}]
[null,null,null,null,{"$f":"IF(A3694=\"\",\"\",IF(B3694=\"\",E3693,IF(D3694=\"\",E3693,D3694/MAX($D$8:D3694)-1)))","v":""}]
[null,null,null,null,{"$f":"IF(A3695=\"\",\"\",IF(B3695=\"\",E3694,IF(D3695=\"\",E3694,D3695/MAX($D$8:D3695)-1)))","v":""}]
[null,null,null,null,{"$f":"IF(A3696=\"\",\"\",IF(B3696=\"\",E3695,IF(D3696=\"\",E3695,D3696/MAX($D$8:D3696)-1)))","v":""}]
[null,null,null,null,{"$f":"IF(A3697=\"\",\"\",IF(B3697=\"\",E3696,IF(D3697=\"\",E3696,D3697/MAX($D$8:D3697)-1)))","v":""}]
[null,null,null,null,{"$f":"IF(A3698=\"\",\"\",IF(B3698=\"\",E3697,IF(D3698=\"\",E3697,D3698/MAX($D$8:D3698)-1)))","v":""}]
[null,null,null,null,{"$f":"IF(A3699=\"\",\"\",IF(B3699=\"\",E3698,IF(D3699=\"\",E3698,D3699/MAX($D$8:D3699)-1)))","v":""}]
[null,null,null,null,{"$f":"IF(A3700=\"\",\"\",IF(B3700=\"\",E3699,IF(D3700=\"\",E3699,D3700/MAX($D$8:D3700)-1)))","v":""}]
[null,null,null,null,{"$f":"IF(A3701=\"\",\"\",IF(B3701=\"\",E3700,IF(D3701=\"\",E3700,D3701/MAX($D$8:D3701)-1)))","v":""}]
[null,null,null,null,{"$f":"IF(A3702=\"\",\"\",IF(B3702=\"\",E3701,IF(D3702=\"\",E3701,D3702/MAX($D$8:D3702)-1)))","v":""}]
[null,null,null,null,{"$f":"IF(A3703=\"\",\"\",IF(B3703=\"\",E3702,IF(D3703=\"\",E3702,D3703/MAX($D$8:D3703)-1)))","v":""}]
[null,null,null,null,{"$f":"IF(A3704=\"\",\"\",IF(B3704=\"\",E3703,IF(D3704=\"\",E3703,D3704/MAX($D$8:D3704)-1)))","v":""}]
[null,null,null,null,{"$f":"IF(A3705=\"\",\"\",IF(B3705=\"\",E3704,IF(D3705=\"\",E3704,D3705/MAX($D$8:D3705)-1)))","v":""}]
[null,null,null,null,{"$f":"IF(A3706=\"\",\"\",IF(B3706=\"\",E3705,IF(D3706=\"\",E3705,D3706/MAX($D$8:D3706)-1)))","v":""}]
[null,null,null,null,{"$f":"IF(A3707=\"\",\"\",IF(B3707=\"\",E3706,IF(D3707=\"\",E3706,D3707/MAX($D$8:D3707)-1)))","v":""}]
[null,null,null,null,{"$f":"IF(A3708=\"\",\"\",IF(B3708=\"\",E3707,IF(D3708=\"\",E3707,D3708/MAX($D$8:D3708)-1)))","v":""}]
[null,null,null,null,{"$f":"IF(A3709=\"\",\"\",IF(B3709=\"\",E3708,IF(D3709=\"\",E3708,D3709/MAX($D$8:D3709)-1)))","v":""}]
[null,null,null,null,{"$f":"IF(A3710=\"\",\"\",IF(B3710=\"\",E3709,IF(D3710=\"\",E3709,D3710/MAX($D$8:D3710)-1)))","v":""}]
[null,null,null,null,{"$f":"IF(A3711=\"\",\"\",IF(B3711=\"\",E3710,IF(D3711=\"\",E3710,D3711/MAX($D$8:D3711)-1)))","v":""}]
[null,null,null,null,{"$f":"IF(A3712=\"\",\"\",IF(B3712=\"\",E3711,IF(D3712=\"\",E3711,D3712/MAX($D$8:D3712)-1)))","v":""}]
[null,null,null,null,{"$f":"IF(A3713=\"\",\"\",IF(B3713=\"\",E3712,IF(D3713=\"\",E3712,D3713/MAX($D$8:D3713)-1)))","v":""}]
[null,null,null,null,{"$f":"IF(A3714=\"\",\"\",IF(B3714=\"\",E3713,IF(D3714=\"\",E3713,D3714/MAX($D$8:D3714)-1)))","v":""}]
[null,null,null,null,{"$f":"IF(A3715=\"\",\"\",IF(B3715=\"\",E3714,IF(D3715=\"\",E3714,D3715/MAX($D$8:D3715)-1)))","v":""}]
[null,null,null,null,{"$f":"IF(A3716=\"\",\"\",IF(B3716=\"\",E3715,IF(D3716=\"\",E3715,D3716/MAX($D$8:D3716)-1)))","v":""}]
[null,null,null,null,{"$f":"IF(A3717=\"\",\"\",IF(B3717=\"\",E3716,IF(D3717=\"\",E3716,D3717/MAX($D$8:D3717)-1)))","v":""}]
[null,null,null,null,{"$f":"IF(A3718=\"\",\"\",IF(B3718=\"\",E3717,IF(D3718=\"\",E3717,D3718/MAX($D$8:D3718)-1)))","v":""}]
[null,null,null,null,{"$f":"IF(A3719=\"\",\"\",IF(B3719=\"\",E3718,IF(D3719=\"\",E3718,D3719/MAX($D$8:D3719)-1)))","v":""}]
[null,null,null,null,{"$f":"IF(A3720=\"\",\"\",IF(B3720=\"\",E3719,IF(D3720=\"\",E3719,D3720/MAX($D$8:D3720)-1)))","v":""}]
[null,null,null,null,{"$f":"IF(A3721=\"\",\"\",IF(B3721=\"\",E3720,IF(D3721=\"\",E3720,D3721/MAX($D$8:D3721)-1)))","v":""}]
[null,null,null,null,{"$f":"IF(A3722=\"\",\"\",IF(B3722=\"\",E3721,IF(D3722=\"\",E3721,D3722/MAX($D$8:D3722)-1)))","v":""}]
[null,null,null,null,{"$f":"IF(A3723=\"\",\"\",IF(B3723=\"\",E3722,IF(D3723=\"\",E3722,D3723/MAX($D$8:D3723)-1)))","v":""}]
[null,null,null,null,{"$f":"IF(A3724=\"\",\"\",IF(B3724=\"\",E3723,IF(D3724=\"\",E3723,D3724/MAX($D$8:D3724)-1)))","v":""}]
[null,null,null,null,{"$f":"IF(A3725=\"\",\"\",IF(B3725=\"\",E3724,IF(D3725=\"\",E3724,D3725/MAX($D$8:D3725)-1)))","v":""}]
[null,null,null,null,{"$f":"IF(A3726=\"\",\"\",IF(B3726=\"\",E3725,IF(D3726=\"\",E3725,D3726/MAX($D$8:D3726)-1)))","v":""}]
[null,null,null,null,{"$f":"IF(A3727=\"\",\"\",IF(B3727=\"\",E3726,IF(D3727=\"\",E3726,D3727/MAX($D$8:D3727)-1)))","v":""}]
[null,null,null,null,{"$f":"IF(A3728=\"\",\"\",IF(B3728=\"\",E3727,IF(D3728=\"\",E3727,D3728/MAX($D$8:D3728)-1)))","v":""}]
[null,null,null,null,{"$f":"IF(A3729=\"\",\"\",IF(B3729=\"\",E3728,IF(D3729=\"\",E3728,D3729/MAX($D$8:D3729)-1)))","v":""}]
[null,null,null,null,{"$f":"IF(A3730=\"\",\"\",IF(B3730=\"\",E3729,IF(D3730=\"\",E3729,D3730/MAX($D$8:D3730)-1)))","v":""}]
[null,null,null,null,{"$f":"IF(A3731=\"\",\"\",IF(B3731=\"\",E3730,IF(D3731=\"\",E3730,D3731/MAX($D$8:D3731)-1)))","v":""}]
[null,null,null,null,{"$f":"IF(A3732=\"\",\"\",IF(B3732=\"\",E3731,IF(D3732=\"\",E3731,D3732/MAX($D$8:D3732)-1)))","v":""}]
[null,null,null,null,{"$f":"IF(A3733=\"\",\"\",IF(B3733=\"\",E3732,IF(D3733=\"\",E3732,D3733/MAX($D$8:D3733)-1)))","v":""}]
[null,null,null,null,{"$f":"IF(A3734=\"\",\"\",IF(B3734=\"\",E3733,IF(D3734=\"\",E3733,D3734/MAX($D$8:D3734)-1)))","v":""}]
[null,null,null,null,{"$f":"IF(A3735=\"\",\"\",IF(B3735=\"\",E3734,IF(D3735=\"\",E3734,D3735/MAX($D$8:D3735)-1)))","v":""}]
[null,null,null,null,{"$f":"IF(A3736=\"\",\"\",IF(B3736=\"\",E3735,IF(D3736=\"\",E3735,D3736/MAX($D$8:D3736)-1)))","v":""}]
[null,null,null,null,{"$f":"IF(A3737=\"\",\"\",IF(B3737=\"\",E3736,IF(D3737=\"\",E3736,D3737/MAX($D$8:D3737)-1)))","v":""}]
[null,null,null,null,{"$f":"IF(A3738=\"\",\"\",IF(B3738=\"\",E3737,IF(D3738=\"\",E3737,D3738/MAX($D$8:D3738)-1)))","v":""}]
[null,null,null,null,{"$f":"IF(A3739=\"\",\"\",IF(B3739=\"\",E3738,IF(D3739=\"\",E3738,D3739/MAX($D$8:D3739)-1)))","v":""}]
[null,null,null,null,{"$f":"IF(A3740=\"\",\"\",IF(B3740=\"\",E3739,IF(D3740=\"\",E3739,D3740/MAX($D$8:D3740)-1)))","v":""}]
[null,null,null,null,{"$f":"IF(A3741=\"\",\"\",IF(B3741=\"\",E3740,IF(D3741=\"\",E3740,D3741/MAX($D$8:D3741)-1)))","v":""}]
[null,null,null,null,{"$f":"IF(A3742=\"\",\"\",IF(B3742=\"\",E3741,IF(D3742=\"\",E3741,D3742/MAX($D$8:D3742)-1)))","v":""}]
[null,null,null,null,{"$f":"IF(A3743=\"\",\"\",IF(B3743=\"\",E3742,IF(D3743=\"\",E3742,D3743/MAX($D$8:D3743)-1)))","v":""}]
[null,null,null,null,{"$f":"IF(A3744=\"\",\"\",IF(B3744=\"\",E3743,IF(D3744=\"\",E3743,D3744/MAX($D$8:D3744)-1)))","v":""}]
[null,null,null,null,{"$f":"IF(A3745=\"\",\"\",IF(B3745=\"\",E3744,IF(D3745=\"\",E3744,D3745/MAX($D$8:D3745)-1)))","v":""}]
[null,null,null,null,{"$f":"IF(A3746=\"\",\"\",IF(B3746=\"\",E3745,IF(D3746=\"\",E3745,D3746/MAX($D$8:D3746)-1)))","v":""}]
[null,null,null,null,{"$f":"IF(A3747=\"\",\"\",IF(B3747=\"\",E3746,IF(D3747=\"\",E3746,D3747/MAX($D$8:D3747)-1)))","v":""}]
[null,null,null,null,{"$f":"IF(A3748=\"\",\"\",IF(B3748=\"\",E3747,IF(D3748=\"\",E3747,D3748/MAX($D$8:D3748)-1)))","v":""}]
[null,null,null,null,{"$f":"IF(A3749=\"\",\"\",IF(B3749=\"\",E3748,IF(D3749=\"\",E3748,D3749/MAX($D$8:D3749)-1)))","v":""}]
[null,null,null,null,{"$f":"IF(A3750=\"\",\"\",IF(B3750=\"\",E3749,IF(D3750=\"\",E3749,D3750/MAX($D$8:D3750)-1)))","v":""}]
[null,null,null,null,{"$f":"IF(A3751=\"\",\"\",IF(B3751=\"\",E3750,IF(D3751=\"\",E3750,D3751/MAX($D$8:D3751)-1)))","v":""}]
[null,null,null,null,{"$f":"IF(A3752=\"\",\"\",IF(B3752=\"\",E3751,IF(D3752=\"\",E3751,D3752/MAX($D$8:D3752)-1)))","v":""}]
[null,null,null,null,{"$f":"IF(A3753=\"\",\"\",IF(B3753=\"\",E3752,IF(D3753=\"\",E3752,D3753/MAX($D$8:D3753)-1)))","v":""}]
[null,null,null,null,{"$f":"IF(A3754=\"\",\"\",IF(B3754=\"\",E3753,IF(D3754=\"\",E3753,D3754/MAX($D$8:D3754)-1)))","v":""}]
[null,null,null,null,{"$f":"IF(A3755=\"\",\"\",IF(B3755=\"\",E3754,IF(D3755=\"\",E3754,D3755/MAX($D$8:D3755)-1)))","v":""}]
[null,null,null,null,{"$f":"IF(A3756=\"\",\"\",IF(B3756=\"\",E3755,IF(D3756=\"\",E3755,D3756/MAX($D$8:D3756)-1)))","v":""}]
[null,null,null,null,{"$f":"IF(A3757=\"\",\"\",IF(B3757=\"\",E3756,IF(D3757=\"\",E3756,D3757/MAX($D$8:D3757)-1)))","v":""}]
[null,null,null,null,{"$f":"IF(A3758=\"\",\"\",IF(B3758=\"\",E3757,IF(D3758=\"\",E3757,D3758/MAX($D$8:D3758)-1)))","v":""}]
[null,null,null,null,{"$f":"IF(A3759=\"\",\"\",IF(B3759=\"\",E3758,IF(D3759=\"\",E3758,D3759/MAX($D$8:D3759)-1)))","v":""}]
[null,null,null,null,{"$f":"IF(A3760=\"\",\"\",IF(B3760=\"\",E3759,IF(D3760=\"\",E3759,D3760/MAX($D$8:D3760)-1)))","v":""}]
[null,null,null,null,{"$f":"IF(A3761=\"\",\"\",IF(B3761=\"\",E3760,IF(D3761=\"\",E3760,D3761/MAX($D$8:D3761)-1)))","v":""}]
[null,null,null,null,{"$f":"IF(A3762=\"\",\"\",IF(B3762=\"\",E3761,IF(D3762=\"\",E3761,D3762/MAX($D$8:D3762)-1)))","v":""}]
[null,null,null,null,{"$f":"IF(A3763=\"\",\"\",IF(B3763=\"\",E3762,IF(D3763=\"\",E3762,D3763/MAX($D$8:D3763)-1)))","v":""}]
[null,null,null,null,{"$f":"IF(A3764=\"\",\"\",IF(B3764=\"\",E3763,IF(D3764=\"\",E3763,D3764/MAX($D$8:D3764)-1)))","v":""}]
[null,null,null,null,{"$f":"IF(A3765=\"\",\"\",IF(B3765=\"\",E3764,IF(D3765=\"\",E3764,D3765/MAX($D$8:D3765)-1)))","v":""}]
[null,null,null,null,{"$f":"IF(A3766=\"\",\"\",IF(B3766=\"\",E3765,IF(D3766=\"\",E3765,D3766/MAX($D$8:D3766)-1)))","v":""}]
[null,null,null,null,{"$f":"IF(A3767=\"\",\"\",IF(B3767=\"\",E3766,IF(D3767=\"\",E3766,D3767/MAX($D$8:D3767)-1)))","v":""}]
[null,null,null,null,{"$f":"IF(A3768=\"\",\"\",IF(B3768=\"\",E3767,IF(D3768=\"\",E3767,D3768/MAX($D$8:D3768)-1)))","v":""}]
[null,null,null,null,{"$f":"IF(A3769=\"\",\"\",IF(B3769=\"\",E3768,IF(D3769=\"\",E3768,D3769/MAX($D$8:D3769)-1)))","v":""}]
[null,null,null,null,{"$f":"IF(A3770=\"\",\"\",IF(B3770=\"\",E3769,IF(D3770=\"\",E3769,D3770/MAX($D$8:D3770)-1)))","v":""}]
[null,null,null,null,{"$f":"IF(A3771=\"\",\"\",IF(B3771=\"\",E3770,IF(D3771=\"\",E3770,D3771/MAX($D$8:D3771)-1)))","v":""}]
[null,null,null,null,{"$f":"IF(A3772=\"\",\"\",IF(B3772=\"\",E3771,IF(D3772=\"\",E3771,D3772/MAX($D$8:D3772)-1)))","v":""}]
[null,null,null,null,{"$f":"IF(A3773=\"\",\"\",IF(B3773=\"\",E3772,IF(D3773=\"\",E3772,D3773/MAX($D$8:D3773)-1)))","v":""}]
[null,null,null,null,{"$f":"IF(A3774=\"\",\"\",IF(B3774=\"\",E3773,IF(D3774=\"\",E3773,D3774/MAX($D$8:D3774)-1)))","v":""}]
[null,null,null,null,{"$f":"IF(A3775=\"\",\"\",IF(B3775=\"\",E3774,IF(D3775=\"\",E3774,D3775/MAX($D$8:D3775)-1)))","v":""}]
[null,null,null,null,{"$f":"IF(A3776=\"\",\"\",IF(B3776=\"\",E3775,IF(D3776=\"\",E3775,D3776/MAX($D$8:D3776)-1)))","v":""}]
[null,null,null,null,{"$f":"IF(A3777=\"\",\"\",IF(B3777=\"\",E3776,IF(D3777=\"\",E3776,D3777/MAX($D$8:D3777)-1)))","v":""}]
[null,null,null,null,{"$f":"IF(A3778=\"\",\"\",IF(B3778=\"\",E3777,IF(D3778=\"\",E3777,D3778/MAX($D$8:D3778)-1)))","v":""}]
[null,null,null,null,{"$f":"IF(A3779=\"\",\"\",IF(B3779=\"\",E3778,IF(D3779=\"\",E3778,D3779/MAX($D$8:D3779)-1)))","v":""}]
[null,null,null,null,{"$f":"IF(A3780=\"\",\"\",IF(B3780=\"\",E3779,IF(D3780=\"\",E3779,D3780/MAX($D$8:D3780)-1)))","v":""}]
[null,null,null,null,{"$f":"IF(A3781=\"\",\"\",IF(B3781=\"\",E3780,IF(D3781=\"\",E3780,D3781/MAX($D$8:D3781)-1)))","v":""}]
[null,null,null,null,{"$f":"IF(A3782=\"\",\"\",IF(B3782=\"\",E3781,IF(D3782=\"\",E3781,D3782/MAX($D$8:D3782)-1)))","v":""}]
[null,null,null,null,{"$f":"IF(A3783=\"\",\"\",IF(B3783=\"\",E3782,IF(D3783=\"\",E3782,D3783/MAX($D$8:D3783)-1)))","v":""}]
[null,null,null,null,{"$f":"IF(A3784=\"\",\"\",IF(B3784=\"\",E3783,IF(D3784=\"\",E3783,D3784/MAX($D$8:D3784)-1)))","v":""}]
[null,null,null,null,{"$f":"IF(A3785=\"\",\"\",IF(B3785=\"\",E3784,IF(D3785=\"\",E3784,D3785/MAX($D$8:D3785)-1)))","v":""}]
[null,null,null,null,{"$f":"IF(A3786=\"\",\"\",IF(B3786=\"\",E3785,IF(D3786=\"\",E3785,D3786/MAX($D$8:D3786)-1)))","v":""}]
[null,null,null,null,{"$f":"IF(A3787=\"\",\"\",IF(B3787=\"\",E3786,IF(D3787=\"\",E3786,D3787/MAX($D$8:D3787)-1)))","v":""}]
[null,null,null,null,{"$f":"IF(A3788=\"\",\"\",IF(B3788=\"\",E3787,IF(D3788=\"\",E3787,D3788/MAX($D$8:D3788)-1)))","v":""}]
[null,null,null,null,{"$f":"IF(A3789=\"\",\"\",IF(B3789=\"\",E3788,IF(D3789=\"\",E3788,D3789/MAX($D$8:D3789)-1)))","v":""}]
[null,null,null,null,{"$f":"IF(A3790=\"\",\"\",IF(B3790=\"\",E3789,IF(D3790=\"\",E3789,D3790/MAX($D$8:D3790)-1)))","v":""}]
[null,null,null,null,{"$f":"IF(A3791=\"\",\"\",IF(B3791=\"\",E3790,IF(D3791=\"\",E3790,D3791/MAX($D$8:D3791)-1)))","v":""}]
[null,null,null,null,{"$f":"IF(A3792=\"\",\"\",IF(B3792=\"\",E3791,IF(D3792=\"\",E3791,D3792/MAX($D$8:D3792)-1)))","v":""}]
[null,null,null,null,{"$f":"IF(A3793=\"\",\"\",IF(B3793=\"\",E3792,IF(D3793=\"\",E3792,D3793/MAX($D$8:D3793)-1)))","v":""}]
[null,null,null,null,{"$f":"IF(A3794=\"\",\"\",IF(B3794=\"\",E3793,IF(D3794=\"\",E3793,D3794/MAX($D$8:D3794)-1)))","v":""}]
[null,null,null,null,{"$f":"IF(A3795=\"\",\"\",IF(B3795=\"\",E3794,IF(D3795=\"\",E3794,D3795/MAX($D$8:D3795)-1)))","v":""}]
[null,null,null,null,{"$f":"IF(A3796=\"\",\"\",IF(B3796=\"\",E3795,IF(D3796=\"\",E3795,D3796/MAX($D$8:D3796)-1)))","v":""}]
[null,null,null,null,{"$f":"IF(A3797=\"\",\"\",IF(B3797=\"\",E3796,IF(D3797=\"\",E3796,D3797/MAX($D$8:D3797)-1)))","v":""}]
[null,null,null,null,{"$f":"IF(A3798=\"\",\"\",IF(B3798=\"\",E3797,IF(D3798=\"\",E3797,D3798/MAX($D$8:D3798)-1)))","v":""}]
[null,null,null,null,{"$f":"IF(A3799=\"\",\"\",IF(B3799=\"\",E3798,IF(D3799=\"\",E3798,D3799/MAX($D$8:D3799)-1)))","v":""}]
[null,null,null,null,{"$f":"IF(A3800=\"\",\"\",IF(B3800=\"\",E3799,IF(D3800=\"\",E3799,D3800/MAX($D$8:D3800)-1)))","v":""}]
[null,null,null,null,{"$f":"IF(A3801=\"\",\"\",IF(B3801=\"\",E3800,IF(D3801=\"\",E3800,D3801/MAX($D$8:D3801)-1)))","v":""}]
[null,null,null,null,{"$f":"IF(A3802=\"\",\"\",IF(B3802=\"\",E3801,IF(D3802=\"\",E3801,D3802/MAX($D$8:D3802)-1)))","v":""}]
[null,null,null,null,{"$f":"IF(A3803=\"\",\"\",IF(B3803=\"\",E3802,IF(D3803=\"\",E3802,D3803/MAX($D$8:D3803)-1)))","v":""}]
[null,null,null,null,{"$f":"IF(A3804=\"\",\"\",IF(B3804=\"\",E3803,IF(D3804=\"\",E3803,D3804/MAX($D$8:D3804)-1)))","v":""}]
[null,null,null,null,{"$f":"IF(A3805=\"\",\"\",IF(B3805=\"\",E3804,IF(D3805=\"\",E3804,D3805/MAX($D$8:D3805)-1)))","v":""}]
[null,null,null,null,{"$f":"IF(A3806=\"\",\"\",IF(B3806=\"\",E3805,IF(D3806=\"\",E3805,D3806/MAX($D$8:D3806)-1)))","v":""}]
[null,null,null,null,{"$f":"IF(A3807=\"\",\"\",IF(B3807=\"\",E3806,IF(D3807=\"\",E3806,D3807/MAX($D$8:D3807)-1)))","v":""}]
[null,null,null,null,{"$f":"IF(A3808=\"\",\"\",IF(B3808=\"\",E3807,IF(D3808=\"\",E3807,D3808/MAX($D$8:D3808)-1)))","v":""}]
[null,null,null,null,{"$f":"IF(A3809=\"\",\"\",IF(B3809=\"\",E3808,IF(D3809=\"\",E3808,D3809/MAX($D$8:D3809)-1)))","v":""}]
[null,null,null,null,{"$f":"IF(A3810=\"\",\"\",IF(B3810=\"\",E3809,IF(D3810=\"\",E3809,D3810/MAX($D$8:D3810)-1)))","v":""}]
[null,null,null,null,{"$f":"IF(A3811=\"\",\"\",IF(B3811=\"\",E3810,IF(D3811=\"\",E3810,D3811/MAX($D$8:D3811)-1)))","v":""}]
[null,null,null,null,{"$f":"IF(A3812=\"\",\"\",IF(B3812=\"\",E3811,IF(D3812=\"\",E3811,D3812/MAX($D$8:D3812)-1)))","v":""}]
[null,null,null,null,{"$f":"IF(A3813=\"\",\"\",IF(B3813=\"\",E3812,IF(D3813=\"\",E3812,D3813/MAX($D$8:D3813)-1)))","v":""}]
[null,null,null,null,{"$f":"IF(A3814=\"\",\"\",IF(B3814=\"\",E3813,IF(D3814=\"\",E3813,D3814/MAX($D$8:D3814)-1)))","v":""}]
[null,null,null,null,{"$f":"IF(A3815=\"\",\"\",IF(B3815=\"\",E3814,IF(D3815=\"\",E3814,D3815/MAX($D$8:D3815)-1)))","v":""}]
[null,null,null,null,{"$f":"IF(A3816=\"\",\"\",IF(B3816=\"\",E3815,IF(D3816=\"\",E3815,D3816/MAX($D$8:D3816)-1)))","v":""}]
[null,null,null,null,{"$f":"IF(A3817=\"\",\"\",IF(B3817=\"\",E3816,IF(D3817=\"\",E3816,D3817/MAX($D$8:D3817)-1)))","v":""}]
[null,null,null,null,{"$f":"IF(A3818=\"\",\"\",IF(B3818=\"\",E3817,IF(D3818=\"\",E3817,D3818/MAX($D$8:D3818)-1)))","v":""}]
[null,null,null,null,{"$f":"IF(A3819=\"\",\"\",IF(B3819=\"\",E3818,IF(D3819=\"\",E3818,D3819/MAX($D$8:D3819)-1)))","v":""}]
[null,null,null,null,{"$f":"IF(A3820=\"\",\"\",IF(B3820=\"\",E3819,IF(D3820=\"\",E3819,D3820/MAX($D$8:D3820)-1)))","v":""}]
[null,null,null,null,{"$f":"IF(A3821=\"\",\"\",IF(B3821=\"\",E3820,IF(D3821=\"\",E3820,D3821/MAX($D$8:D3821)-1)))","v":""}]
[null,null,null,null,{"$f":"IF(A3822=\"\",\"\",IF(B3822=\"\",E3821,IF(D3822=\"\",E3821,D3822/MAX($D$8:D3822)-1)))","v":""}]
[null,null,null,null,{"$f":"IF(A3823=\"\",\"\",IF(B3823=\"\",E3822,IF(D3823=\"\",E3822,D3823/MAX($D$8:D3823)-1)))","v":""}]
[null,null,null,null,{"$f":"IF(A3824=\"\",\"\",IF(B3824=\"\",E3823,IF(D3824=\"\",E3823,D3824/MAX($D$8:D3824)-1)))","v":""}]
[null,null,null,null,{"$f":"IF(A3825=\"\",\"\",IF(B3825=\"\",E3824,IF(D3825=\"\",E3824,D3825/MAX($D$8:D3825)-1)))","v":""}]
[null,null,null,null,{"$f":"IF(A3826=\"\",\"\",IF(B3826=\"\",E3825,IF(D3826=\"\",E3825,D3826/MAX($D$8:D3826)-1)))","v":""}]
[null,null,null,null,{"$f":"IF(A3827=\"\",\"\",IF(B3827=\"\",E3826,IF(D3827=\"\",E3826,D3827/MAX($D$8:D3827)-1)))","v":""}]
[null,null,null,null,{"$f":"IF(A3828=\"\",\"\",IF(B3828=\"\",E3827,IF(D3828=\"\",E3827,D3828/MAX($D$8:D3828)-1)))","v":""}]
[null,null,null,null,{"$f":"IF(A3829=\"\",\"\",IF(B3829=\"\",E3828,IF(D3829=\"\",E3828,D3829/MAX($D$8:D3829)-1)))","v":""}]
[null,null,null,null,{"$f":"IF(A3830=\"\",\"\",IF(B3830=\"\",E3829,IF(D3830=\"\",E3829,D3830/MAX($D$8:D3830)-1)))","v":""}]
[null,null,null,null,{"$f":"IF(A3831=\"\",\"\",IF(B3831=\"\",E3830,IF(D3831=\"\",E3830,D3831/MAX($D$8:D3831)-1)))","v":""}]
[null,null,null,null,{"$f":"IF(A3832=\"\",\"\",IF(B3832=\"\",E3831,IF(D3832=\"\",E3831,D3832/MAX($D$8:D3832)-1)))","v":""}]
[null,null,null,null,{"$f":"IF(A3833=\"\",\"\",IF(B3833=\"\",E3832,IF(D3833=\"\",E3832,D3833/MAX($D$8:D3833)-1)))","v":""}]
[null,null,null,null,{"$f":"IF(A3834=\"\",\"\",IF(B3834=\"\",E3833,IF(D3834=\"\",E3833,D3834/MAX($D$8:D3834)-1)))","v":""}]
[null,null,null,null,{"$f":"IF(A3835=\"\",\"\",IF(B3835=\"\",E3834,IF(D3835=\"\",E3834,D3835/MAX($D$8:D3835)-1)))","v":""}]
[null,null,null,null,{"$f":"IF(A3836=\"\",\"\",IF(B3836=\"\",E3835,IF(D3836=\"\",E3835,D3836/MAX($D$8:D3836)-1)))","v":""}]
[null,null,null,null,{"$f":"IF(A3837=\"\",\"\",IF(B3837=\"\",E3836,IF(D3837=\"\",E3836,D3837/MAX($D$8:D3837)-1)))","v":""}]
[null,null,null,null,{"$f":"IF(A3838=\"\",\"\",IF(B3838=\"\",E3837,IF(D3838=\"\",E3837,D3838/MAX($D$8:D3838)-1)))","v":""}]
[null,null,null,null,{"$f":"IF(A3839=\"\",\"\",IF(B3839=\"\",E3838,IF(D3839=\"\",E3838,D3839/MAX($D$8:D3839)-1)))","v":""}]
[null,null,null,null,{"$f":"IF(A3840=\"\",\"\",IF(B3840=\"\",E3839,IF(D3840=\"\",E3839,D3840/MAX($D$8:D3840)-1)))","v":""}]
[null,null,null,null,{"$f":"IF(A3841=\"\",\"\",IF(B3841=\"\",E3840,IF(D3841=\"\",E3840,D3841/MAX($D$8:D3841)-1)))","v":""}]
[null,null,null,null,{"$f":"IF(A3842=\"\",\"\",IF(B3842=\"\",E3841,IF(D3842=\"\",E3841,D3842/MAX($D$8:D3842)-1)))","v":""}]
[null,null,null,null,{"$f":"IF(A3843=\"\",\"\",IF(B3843=\"\",E3842,IF(D3843=\"\",E3842,D3843/MAX($D$8:D3843)-1)))","v":""}]
[null,null,null,null,{"$f":"IF(A3844=\"\",\"\",IF(B3844=\"\",E3843,IF(D3844=\"\",E3843,D3844/MAX($D$8:D3844)-1)))","v":""}]
[null,null,null,null,{"$f":"IF(A3845=\"\",\"\",IF(B3845=\"\",E3844,IF(D3845=\"\",E3844,D3845/MAX($D$8:D3845)-1)))","v":""}]
[null,null,null,null,{"$f":"IF(A3846=\"\",\"\",IF(B3846=\"\",E3845,IF(D3846=\"\",E3845,D3846/MAX($D$8:D3846)-1)))","v":""}]
[null,null,null,null,{"$f":"IF(A3847=\"\",\"\",IF(B3847=\"\",E3846,IF(D3847=\"\",E3846,D3847/MAX($D$8:D3847)-1)))","v":""}]
[null,null,null,null,{"$f":"IF(A3848=\"\",\"\",IF(B3848=\"\",E3847,IF(D3848=\"\",E3847,D3848/MAX($D$8:D3848)-1)))","v":""}]
[null,null,null,null,{"$f":"IF(A3849=\"\",\"\",IF(B3849=\"\",E3848,IF(D3849=\"\",E3848,D3849/MAX($D$8:D3849)-1)))","v":""}]
[null,null,null,null,{"$f":"IF(A3850=\"\",\"\",IF(B3850=\"\",E3849,IF(D3850=\"\",E3849,D3850/MAX($D$8:D3850)-1)))","v":""}]
[null,null,null,null,{"$f":"IF(A3851=\"\",\"\",IF(B3851=\"\",E3850,IF(D3851=\"\",E3850,D3851/MAX($D$8:D3851)-1)))","v":""}]
[null,null,null,null,{"$f":"IF(A3852=\"\",\"\",IF(B3852=\"\",E3851,IF(D3852=\"\",E3851,D3852/MAX($D$8:D3852)-1)))","v":""}]
[null,null,null,null,{"$f":"IF(A3853=\"\",\"\",IF(B3853=\"\",E3852,IF(D3853=\"\",E3852,D3853/MAX($D$8:D3853)-1)))","v":""}]
[null,null,null,null,{"$f":"IF(A3854=\"\",\"\",IF(B3854=\"\",E3853,IF(D3854=\"\",E3853,D3854/MAX($D$8:D3854)-1)))","v":""}]
[null,null,null,null,{"$f":"IF(A3855=\"\",\"\",IF(B3855=\"\",E3854,IF(D3855=\"\",E3854,D3855/MAX($D$8:D3855)-1)))","v":""}]
[null,null,null,null,{"$f":"IF(A3856=\"\",\"\",IF(B3856=\"\",E3855,IF(D3856=\"\",E3855,D3856/MAX($D$8:D3856)-1)))","v":""}]
[null,null,null,null,{"$f":"IF(A3857=\"\",\"\",IF(B3857=\"\",E3856,IF(D3857=\"\",E3856,D3857/MAX($D$8:D3857)-1)))","v":""}]
[null,null,null,null,{"$f":"IF(A3858=\"\",\"\",IF(B3858=\"\",E3857,IF(D3858=\"\",E3857,D3858/MAX($D$8:D3858)-1)))","v":""}]
[null,null,null,null,{"$f":"IF(A3859=\"\",\"\",IF(B3859=\"\",E3858,IF(D3859=\"\",E3858,D3859/MAX($D$8:D3859)-1)))","v":""}]
[null,null,null,null,{"$f":"IF(A3860=\"\",\"\",IF(B3860=\"\",E3859,IF(D3860=\"\",E3859,D3860/MAX($D$8:D3860)-1)))","v":""}]
[null,null,null,null,{"$f":"IF(A3861=\"\",\"\",IF(B3861=\"\",E3860,IF(D3861=\"\",E3860,D3861/MAX($D$8:D3861)-1)))","v":""}]
[null,null,null,null,{"$f":"IF(A3862=\"\",\"\",IF(B3862=\"\",E3861,IF(D3862=\"\",E3861,D3862/MAX($D$8:D3862)-1)))","v":""}]
[null,null,null,null,{"$f":"IF(A3863=\"\",\"\",IF(B3863=\"\",E3862,IF(D3863=\"\",E3862,D3863/MAX($D$8:D3863)-1)))","v":""}]
[null,null,null,null,{"$f":"IF(A3864=\"\",\"\",IF(B3864=\"\",E3863,IF(D3864=\"\",E3863,D3864/MAX($D$8:D3864)-1)))","v":""}]
[null,null,null,null,{"$f":"IF(A3865=\"\",\"\",IF(B3865=\"\",E3864,IF(D3865=\"\",E3864,D3865/MAX($D$8:D3865)-1)))","v":""}]
[null,null,null,null,{"$f":"IF(A3866=\"\",\"\",IF(B3866=\"\",E3865,IF(D3866=\"\",E3865,D3866/MAX($D$8:D3866)-1)))","v":""}]
[null,null,null,null,{"$f":"IF(A3867=\"\",\"\",IF(B3867=\"\",E3866,IF(D3867=\"\",E3866,D3867/MAX($D$8:D3867)-1)))","v":""}]
[null,null,null,null,{"$f":"IF(A3868=\"\",\"\",IF(B3868=\"\",E3867,IF(D3868=\"\",E3867,D3868/MAX($D$8:D3868)-1)))","v":""}]
[null,null,null,null,{"$f":"IF(A3869=\"\",\"\",IF(B3869=\"\",E3868,IF(D3869=\"\",E3868,D3869/MAX($D$8:D3869)-1)))","v":""}]
[null,null,null,null,{"$f":"IF(A3870=\"\",\"\",IF(B3870=\"\",E3869,IF(D3870=\"\",E3869,D3870/MAX($D$8:D3870)-1)))","v":""}]
[null,null,null,null,{"$f":"IF(A3871=\"\",\"\",IF(B3871=\"\",E3870,IF(D3871=\"\",E3870,D3871/MAX($D$8:D3871)-1)))","v":""}]
[null,null,null,null,{"$f":"IF(A3872=\"\",\"\",IF(B3872=\"\",E3871,IF(D3872=\"\",E3871,D3872/MAX($D$8:D3872)-1)))","v":""}]
[null,null,null,null,{"$f":"IF(A3873=\"\",\"\",IF(B3873=\"\",E3872,IF(D3873=\"\",E3872,D3873/MAX($D$8:D3873)-1)))","v":""}]
[null,null,null,null,{"$f":"IF(A3874=\"\",\"\",IF(B3874=\"\",E3873,IF(D3874=\"\",E3873,D3874/MAX($D$8:D3874)-1)))","v":""}]
[null,null,null,null,{"$f":"IF(A3875=\"\",\"\",IF(B3875=\"\",E3874,IF(D3875=\"\",E3874,D3875/MAX($D$8:D3875)-1)))","v":""}]
[null,null,null,null,{"$f":"IF(A3876=\"\",\"\",IF(B3876=\"\",E3875,IF(D3876=\"\",E3875,D3876/MAX($D$8:D3876)-1)))","v":""}]
[null,null,null,null,{"$f":"IF(A3877=\"\",\"\",IF(B3877=\"\",E3876,IF(D3877=\"\",E3876,D3877/MAX($D$8:D3877)-1)))","v":""}]
[null,null,null,null,{"$f":"IF(A3878=\"\",\"\",IF(B3878=\"\",E3877,IF(D3878=\"\",E3877,D3878/MAX($D$8:D3878)-1)))","v":""}]
[null,null,null,null,{"$f":"IF(A3879=\"\",\"\",IF(B3879=\"\",E3878,IF(D3879=\"\",E3878,D3879/MAX($D$8:D3879)-1)))","v":""}]
[null,null,null,null,{"$f":"IF(A3880=\"\",\"\",IF(B3880=\"\",E3879,IF(D3880=\"\",E3879,D3880/MAX($D$8:D3880)-1)))","v":""}]
[null,null,null,null,{"$f":"IF(A3881=\"\",\"\",IF(B3881=\"\",E3880,IF(D3881=\"\",E3880,D3881/MAX($D$8:D3881)-1)))","v":""}]
[null,null,null,null,{"$f":"IF(A3882=\"\",\"\",IF(B3882=\"\",E3881,IF(D3882=\"\",E3881,D3882/MAX($D$8:D3882)-1)))","v":""}]
[null,null,null,null,{"$f":"IF(A3883=\"\",\"\",IF(B3883=\"\",E3882,IF(D3883=\"\",E3882,D3883/MAX($D$8:D3883)-1)))","v":""}]
[null,null,null,null,{"$f":"IF(A3884=\"\",\"\",IF(B3884=\"\",E3883,IF(D3884=\"\",E3883,D3884/MAX($D$8:D3884)-1)))","v":""}]
[null,null,null,null,{"$f":"IF(A3885=\"\",\"\",IF(B3885=\"\",E3884,IF(D3885=\"\",E3884,D3885/MAX($D$8:D3885)-1)))","v":""}]
[null,null,null,null,{"$f":"IF(A3886=\"\",\"\",IF(B3886=\"\",E3885,IF(D3886=\"\",E3885,D3886/MAX($D$8:D3886)-1)))","v":""}]
[null,null,null,null,{"$f":"IF(A3887=\"\",\"\",IF(B3887=\"\",E3886,IF(D3887=\"\",E3886,D3887/MAX($D$8:D3887)-1)))","v":""}]
[null,null,null,null,{"$f":"IF(A3888=\"\",\"\",IF(B3888=\"\",E3887,IF(D3888=\"\",E3887,D3888/MAX($D$8:D3888)-1)))","v":""}]
[null,null,null,null,{"$f":"IF(A3889=\"\",\"\",IF(B3889=\"\",E3888,IF(D3889=\"\",E3888,D3889/MAX($D$8:D3889)-1)))","v":""}]
[null,null,null,null,{"$f":"IF(A3890=\"\",\"\",IF(B3890=\"\",E3889,IF(D3890=\"\",E3889,D3890/MAX($D$8:D3890)-1)))","v":""}]
[null,null,null,null,{"$f":"IF(A3891=\"\",\"\",IF(B3891=\"\",E3890,IF(D3891=\"\",E3890,D3891/MAX($D$8:D3891)-1)))","v":""}]
[null,null,null,null,{"$f":"IF(A3892=\"\",\"\",IF(B3892=\"\",E3891,IF(D3892=\"\",E3891,D3892/MAX($D$8:D3892)-1)))","v":""}]
[null,null,null,null,{"$f":"IF(A3893=\"\",\"\",IF(B3893=\"\",E3892,IF(D3893=\"\",E3892,D3893/MAX($D$8:D3893)-1)))","v":""}]
[null,null,null,null,{"$f":"IF(A3894=\"\",\"\",IF(B3894=\"\",E3893,IF(D3894=\"\",E3893,D3894/MAX($D$8:D3894)-1)))","v":""}]
[null,null,null,null,{"$f":"IF(A3895=\"\",\"\",IF(B3895=\"\",E3894,IF(D3895=\"\",E3894,D3895/MAX($D$8:D3895)-1)))","v":""}]
[null,null,null,null,{"$f":"IF(A3896=\"\",\"\",IF(B3896=\"\",E3895,IF(D3896=\"\",E3895,D3896/MAX($D$8:D3896)-1)))","v":""}]
[null,null,null,null,{"$f":"IF(A3897=\"\",\"\",IF(B3897=\"\",E3896,IF(D3897=\"\",E3896,D3897/MAX($D$8:D3897)-1)))","v":""}]
[null,null,null,null,{"$f":"IF(A3898=\"\",\"\",IF(B3898=\"\",E3897,IF(D3898=\"\",E3897,D3898/MAX($D$8:D3898)-1)))","v":""}]
[null,null,null,null,{"$f":"IF(A3899=\"\",\"\",IF(B3899=\"\",E3898,IF(D3899=\"\",E3898,D3899/MAX($D$8:D3899)-1)))","v":""}]
[null,null,null,null,{"$f":"IF(A3900=\"\",\"\",IF(B3900=\"\",E3899,IF(D3900=\"\",E3899,D3900/MAX($D$8:D3900)-1)))","v":""}]
[null,null,null,null,{"$f":"IF(A3901=\"\",\"\",IF(B3901=\"\",E3900,IF(D3901=\"\",E3900,D3901/MAX($D$8:D3901)-1)))","v":""}]
[null,null,null,null,{"$f":"IF(A3902=\"\",\"\",IF(B3902=\"\",E3901,IF(D3902=\"\",E3901,D3902/MAX($D$8:D3902)-1)))","v":""}]
[null,null,null,null,{"$f":"IF(A3903=\"\",\"\",IF(B3903=\"\",E3902,IF(D3903=\"\",E3902,D3903/MAX($D$8:D3903)-1)))","v":""}]
[null,null,null,null,{"$f":"IF(A3904=\"\",\"\",IF(B3904=\"\",E3903,IF(D3904=\"\",E3903,D3904/MAX($D$8:D3904)-1)))","v":""}]
[null,null,null,null,{"$f":"IF(A3905=\"\",\"\",IF(B3905=\"\",E3904,IF(D3905=\"\",E3904,D3905/MAX($D$8:D3905)-1)))","v":""}]
[null,null,null,null,{"$f":"IF(A3906=\"\",\"\",IF(B3906=\"\",E3905,IF(D3906=\"\",E3905,D3906/MAX($D$8:D3906)-1)))","v":""}]
[null,null,null,null,{"$f":"IF(A3907=\"\",\"\",IF(B3907=\"\",E3906,IF(D3907=\"\",E3906,D3907/MAX($D$8:D3907)-1)))","v":""}]
[null,null,null,null,{"$f":"IF(A3908=\"\",\"\",IF(B3908=\"\",E3907,IF(D3908=\"\",E3907,D3908/MAX($D$8:D3908)-1)))","v":""}]
[null,null,null,null,{"$f":"IF(A3909=\"\",\"\",IF(B3909=\"\",E3908,IF(D3909=\"\",E3908,D3909/MAX($D$8:D3909)-1)))","v":""}]
[null,null,null,null,{"$f":"IF(A3910=\"\",\"\",IF(B3910=\"\",E3909,IF(D3910=\"\",E3909,D3910/MAX($D$8:D3910)-1)))","v":""}]
[null,null,null,null,{"$f":"IF(A3911=\"\",\"\",IF(B3911=\"\",E3910,IF(D3911=\"\",E3910,D3911/MAX($D$8:D3911)-1)))","v":""}]
[null,null,null,null,{"$f":"IF(A3912=\"\",\"\",IF(B3912=\"\",E3911,IF(D3912=\"\",E3911,D3912/MAX($D$8:D3912)-1)))","v":""}]
[null,null,null,null,{"$f":"IF(A3913=\"\",\"\",IF(B3913=\"\",E3912,IF(D3913=\"\",E3912,D3913/MAX($D$8:D3913)-1)))","v":""}]
[null,null,null,null,{"$f":"IF(A3914=\"\",\"\",IF(B3914=\"\",E3913,IF(D3914=\"\",E3913,D3914/MAX($D$8:D3914)-1)))","v":""}]
[null,null,null,null,{"$f":"IF(A3915=\"\",\"\",IF(B3915=\"\",E3914,IF(D3915=\"\",E3914,D3915/MAX($D$8:D3915)-1)))","v":""}]
[null,null,null,null,{"$f":"IF(A3916=\"\",\"\",IF(B3916=\"\",E3915,IF(D3916=\"\",E3915,D3916/MAX($D$8:D3916)-1)))","v":""}]
[null,null,null,null,{"$f":"IF(A3917=\"\",\"\",IF(B3917=\"\",E3916,IF(D3917=\"\",E3916,D3917/MAX($D$8:D3917)-1)))","v":""}]
[null,null,null,null,{"$f":"IF(A3918=\"\",\"\",IF(B3918=\"\",E3917,IF(D3918=\"\",E3917,D3918/MAX($D$8:D3918)-1)))","v":""}]
[null,null,null,null,{"$f":"IF(A3919=\"\",\"\",IF(B3919=\"\",E3918,IF(D3919=\"\",E3918,D3919/MAX($D$8:D3919)-1)))","v":""}]
[null,null,null,null,{"$f":"IF(A3920=\"\",\"\",IF(B3920=\"\",E3919,IF(D3920=\"\",E3919,D3920/MAX($D$8:D3920)-1)))","v":""}]
[null,null,null,null,{"$f":"IF(A3921=\"\",\"\",IF(B3921=\"\",E3920,IF(D3921=\"\",E3920,D3921/MAX($D$8:D3921)-1)))","v":""}]
[null,null,null,null,{"$f":"IF(A3922=\"\",\"\",IF(B3922=\"\",E3921,IF(D3922=\"\",E3921,D3922/MAX($D$8:D3922)-1)))","v":""}]
[null,null,null,null,{"$f":"IF(A3923=\"\",\"\",IF(B3923=\"\",E3922,IF(D3923=\"\",E3922,D3923/MAX($D$8:D3923)-1)))","v":""}]
[null,null,null,null,{"$f":"IF(A3924=\"\",\"\",IF(B3924=\"\",E3923,IF(D3924=\"\",E3923,D3924/MAX($D$8:D3924)-1)))","v":""}]
[null,null,null,null,{"$f":"IF(A3925=\"\",\"\",IF(B3925=\"\",E3924,IF(D3925=\"\",E3924,D3925/MAX($D$8:D3925)-1)))","v":""}]
[null,null,null,null,{"$f":"IF(A3926=\"\",\"\",IF(B3926=\"\",E3925,IF(D3926=\"\",E3925,D3926/MAX($D$8:D3926)-1)))","v":""}]
[null,null,null,null,{"$f":"IF(A3927=\"\",\"\",IF(B3927=\"\",E3926,IF(D3927=\"\",E3926,D3927/MAX($D$8:D3927)-1)))","v":""}]
[null,null,null,null,{"$f":"IF(A3928=\"\",\"\",IF(B3928=\"\",E3927,IF(D3928=\"\",E3927,D3928/MAX($D$8:D3928)-1)))","v":""}]
[null,null,null,null,{"$f":"IF(A3929=\"\",\"\",IF(B3929=\"\",E3928,IF(D3929=\"\",E3928,D3929/MAX($D$8:D3929)-1)))","v":""}]
[null,null,null,null,{"$f":"IF(A3930=\"\",\"\",IF(B3930=\"\",E3929,IF(D3930=\"\",E3929,D3930/MAX($D$8:D3930)-1)))","v":""}]
[null,null,null,null,{"$f":"IF(A3931=\"\",\"\",IF(B3931=\"\",E3930,IF(D3931=\"\",E3930,D3931/MAX($D$8:D3931)-1)))","v":""}]
[null,null,null,null,{"$f":"IF(A3932=\"\",\"\",IF(B3932=\"\",E3931,IF(D3932=\"\",E3931,D3932/MAX($D$8:D3932)-1)))","v":""}]
[null,null,null,null,{"$f":"IF(A3933=\"\",\"\",IF(B3933=\"\",E3932,IF(D3933=\"\",E3932,D3933/MAX($D$8:D3933)-1)))","v":""}]
[null,null,null,null,{"$f":"IF(A3934=\"\",\"\",IF(B3934=\"\",E3933,IF(D3934=\"\",E3933,D3934/MAX($D$8:D3934)-1)))","v":""}]
[null,null,null,null,{"$f":"IF(A3935=\"\",\"\",IF(B3935=\"\",E3934,IF(D3935=\"\",E3934,D3935/MAX($D$8:D3935)-1)))","v":""}]
[null,null,null,null,{"$f":"IF(A3936=\"\",\"\",IF(B3936=\"\",E3935,IF(D3936=\"\",E3935,D3936/MAX($D$8:D3936)-1)))","v":""}]
[null,null,null,null,{"$f":"IF(A3937=\"\",\"\",IF(B3937=\"\",E3936,IF(D3937=\"\",E3936,D3937/MAX($D$8:D3937)-1)))","v":""}]
[null,null,null,null,{"$f":"IF(A3938=\"\",\"\",IF(B3938=\"\",E3937,IF(D3938=\"\",E3937,D3938/MAX($D$8:D3938)-1)))","v":""}]
[null,null,null,null,{"$f":"IF(A3939=\"\",\"\",IF(B3939=\"\",E3938,IF(D3939=\"\",E3938,D3939/MAX($D$8:D3939)-1)))","v":""}]
[null,null,null,null,{"$f":"IF(A3940=\"\",\"\",IF(B3940=\"\",E3939,IF(D3940=\"\",E3939,D3940/MAX($D$8:D3940)-1)))","v":""}]
[null,null,null,null,{"$f":"IF(A3941=\"\",\"\",IF(B3941=\"\",E3940,IF(D3941=\"\",E3940,D3941/MAX($D$8:D3941)-1)))","v":""}]
[null,null,null,null,{"$f":"IF(A3942=\"\",\"\",IF(B3942=\"\",E3941,IF(D3942=\"\",E3941,D3942/MAX($D$8:D3942)-1)))","v":""}]
[null,null,null,null,{"$f":"IF(A3943=\"\",\"\",IF(B3943=\"\",E3942,IF(D3943=\"\",E3942,D3943/MAX($D$8:D3943)-1)))","v":""}]
[null,null,null,null,{"$f":"IF(A3944=\"\",\"\",IF(B3944=\"\",E3943,IF(D3944=\"\",E3943,D3944/MAX($D$8:D3944)-1)))","v":""}]
[null,null,null,null,{"$f":"IF(A3945=\"\",\"\",IF(B3945=\"\",E3944,IF(D3945=\"\",E3944,D3945/MAX($D$8:D3945)-1)))","v":""}]
[null,null,null,null,{"$f":"IF(A3946=\"\",\"\",IF(B3946=\"\",E3945,IF(D3946=\"\",E3945,D3946/MAX($D$8:D3946)-1)))","v":""}]
[null,null,null,null,{"$f":"IF(A3947=\"\",\"\",IF(B3947=\"\",E3946,IF(D3947=\"\",E3946,D3947/MAX($D$8:D3947)-1)))","v":""}]
[null,null,null,null,{"$f":"IF(A3948=\"\",\"\",IF(B3948=\"\",E3947,IF(D3948=\"\",E3947,D3948/MAX($D$8:D3948)-1)))","v":""}]
[null,null,null,null,{"$f":"IF(A3949=\"\",\"\",IF(B3949=\"\",E3948,IF(D3949=\"\",E3948,D3949/MAX($D$8:D3949)-1)))","v":""}]
[null,null,null,null,{"$f":"IF(A3950=\"\",\"\",IF(B3950=\"\",E3949,IF(D3950=\"\",E3949,D3950/MAX($D$8:D3950)-1)))","v":""}]
[null,null,null,null,{"$f":"IF(A3951=\"\",\"\",IF(B3951=\"\",E3950,IF(D3951=\"\",E3950,D3951/MAX($D$8:D3951)-1)))","v":""}]
[null,null,null,null,{"$f":"IF(A3952=\"\",\"\",IF(B3952=\"\",E3951,IF(D3952=\"\",E3951,D3952/MAX($D$8:D3952)-1)))","v":""}]
[null,null,null,null,{"$f":"IF(A3953=\"\",\"\",IF(B3953=\"\",E3952,IF(D3953=\"\",E3952,D3953/MAX($D$8:D3953)-1)))","v":""}]
[null,null,null,null,{"$f":"IF(A3954=\"\",\"\",IF(B3954=\"\",E3953,IF(D3954=\"\",E3953,D3954/MAX($D$8:D3954)-1)))","v":""}]
[null,null,null,null,{"$f":"IF(A3955=\"\",\"\",IF(B3955=\"\",E3954,IF(D3955=\"\",E3954,D3955/MAX($D$8:D3955)-1)))","v":""}]
[null,null,null,null,{"$f":"IF(A3956=\"\",\"\",IF(B3956=\"\",E3955,IF(D3956=\"\",E3955,D3956/MAX($D$8:D3956)-1)))","v":""}]
[null,null,null,null,{"$f":"IF(A3957=\"\",\"\",IF(B3957=\"\",E3956,IF(D3957=\"\",E3956,D3957/MAX($D$8:D3957)-1)))","v":""}]
[null,null,null,null,{"$f":"IF(A3958=\"\",\"\",IF(B3958=\"\",E3957,IF(D3958=\"\",E3957,D3958/MAX($D$8:D3958)-1)))","v":""}]
[null,null,null,null,{"$f":"IF(A3959=\"\",\"\",IF(B3959=\"\",E3958,IF(D3959=\"\",E3958,D3959/MAX($D$8:D3959)-1)))","v":""}]
[null,null,null,null,{"$f":"IF(A3960=\"\",\"\",IF(B3960=\"\",E3959,IF(D3960=\"\",E3959,D3960/MAX($D$8:D3960)-1)))","v":""}]
[null,null,null,null,{"$f":"IF(A3961=\"\",\"\",IF(B3961=\"\",E3960,IF(D3961=\"\",E3960,D3961/MAX($D$8:D3961)-1)))","v":""}]
[null,null,null,null,{"$f":"IF(A3962=\"\",\"\",IF(B3962=\"\",E3961,IF(D3962=\"\",E3961,D3962/MAX($D$8:D3962)-1)))","v":""}]
[null,null,null,null,{"$f":"IF(A3963=\"\",\"\",IF(B3963=\"\",E3962,IF(D3963=\"\",E3962,D3963/MAX($D$8:D3963)-1)))","v":""}]
[null,null,null,null,{"$f":"IF(A3964=\"\",\"\",IF(B3964=\"\",E3963,IF(D3964=\"\",E3963,D3964/MAX($D$8:D3964)-1)))","v":""}]
[null,null,null,null,{"$f":"IF(A3965=\"\",\"\",IF(B3965=\"\",E3964,IF(D3965=\"\",E3964,D3965/MAX($D$8:D3965)-1)))","v":""}]
[null,null,null,null,{"$f":"IF(A3966=\"\",\"\",IF(B3966=\"\",E3965,IF(D3966=\"\",E3965,D3966/MAX($D$8:D3966)-1)))","v":""}]
[null,null,null,null,{"$f":"IF(A3967=\"\",\"\",IF(B3967=\"\",E3966,IF(D3967=\"\",E3966,D3967/MAX($D$8:D3967)-1)))","v":""}]
[null,null,null,null,{"$f":"IF(A3968=\"\",\"\",IF(B3968=\"\",E3967,IF(D3968=\"\",E3967,D3968/MAX($D$8:D3968)-1)))","v":""}]
[null,null,null,null,{"$f":"IF(A3969=\"\",\"\",IF(B3969=\"\",E3968,IF(D3969=\"\",E3968,D3969/MAX($D$8:D3969)-1)))","v":""}]
[null,null,null,null,{"$f":"IF(A3970=\"\",\"\",IF(B3970=\"\",E3969,IF(D3970=\"\",E3969,D3970/MAX($D$8:D3970)-1)))","v":""}]
[null,null,null,null,{"$f":"IF(A3971=\"\",\"\",IF(B3971=\"\",E3970,IF(D3971=\"\",E3970,D3971/MAX($D$8:D3971)-1)))","v":""}]
[null,null,null,null,{"$f":"IF(A3972=\"\",\"\",IF(B3972=\"\",E3971,IF(D3972=\"\",E3971,D3972/MAX($D$8:D3972)-1)))","v":""}]
[null,null,null,null,{"$f":"IF(A3973=\"\",\"\",IF(B3973=\"\",E3972,IF(D3973=\"\",E3972,D3973/MAX($D$8:D3973)-1)))","v":""}]
[null,null,null,null,{"$f":"IF(A3974=\"\",\"\",IF(B3974=\"\",E3973,IF(D3974=\"\",E3973,D3974/MAX($D$8:D3974)-1)))","v":""}]
[null,null,null,null,{"$f":"IF(A3975=\"\",\"\",IF(B3975=\"\",E3974,IF(D3975=\"\",E3974,D3975/MAX($D$8:D3975)-1)))","v":""}]
[null,null,null,null,{"$f":"IF(A3976=\"\",\"\",IF(B3976=\"\",E3975,IF(D3976=\"\",E3975,D3976/MAX($D$8:D3976)-1)))","v":""}]
[null,null,null,null,{"$f":"IF(A3977=\"\",\"\",IF(B3977=\"\",E3976,IF(D3977=\"\",E3976,D3977/MAX($D$8:D3977)-1)))","v":""}]
[null,null,null,null,{"$f":"IF(A3978=\"\",\"\",IF(B3978=\"\",E3977,IF(D3978=\"\",E3977,D3978/MAX($D$8:D3978)-1)))","v":""}]
[null,null,null,null,{"$f":"IF(A3979=\"\",\"\",IF(B3979=\"\",E3978,IF(D3979=\"\",E3978,D3979/MAX($D$8:D3979)-1)))","v":""}]
[null,null,null,null,{"$f":"IF(A3980=\"\",\"\",IF(B3980=\"\",E3979,IF(D3980=\"\",E3979,D3980/MAX($D$8:D3980)-1)))","v":""}]
[null,null,null,null,{"$f":"IF(A3981=\"\",\"\",IF(B3981=\"\",E3980,IF(D3981=\"\",E3980,D3981/MAX($D$8:D3981)-1)))","v":""}]
[null,null,null,null,{"$f":"IF(A3982=\"\",\"\",IF(B3982=\"\",E3981,IF(D3982=\"\",E3981,D3982/MAX($D$8:D3982)-1)))","v":""}]
[null,null,null,null,{"$f":"IF(A3983=\"\",\"\",IF(B3983=\"\",E3982,IF(D3983=\"\",E3982,D3983/MAX($D$8:D3983)-1)))","v":""}]
[null,null,null,null,{"$f":"IF(A3984=\"\",\"\",IF(B3984=\"\",E3983,IF(D3984=\"\",E3983,D3984/MAX($D$8:D3984)-1)))","v":""}]
[null,null,null,null,{"$f":"IF(A3985=\"\",\"\",IF(B3985=\"\",E3984,IF(D3985=\"\",E3984,D3985/MAX($D$8:D3985)-1)))","v":""}]
[null,null,null,null,{"$f":"IF(A3986=\"\",\"\",IF(B3986=\"\",E3985,IF(D3986=\"\",E3985,D3986/MAX($D$8:D3986)-1)))","v":""}]
[null,null,null,null,{"$f":"IF(A3987=\"\",\"\",IF(B3987=\"\",E3986,IF(D3987=\"\",E3986,D3987/MAX($D$8:D3987)-1)))","v":""}]
[null,null,null,null,{"$f":"IF(A3988=\"\",\"\",IF(B3988=\"\",E3987,IF(D3988=\"\",E3987,D3988/MAX($D$8:D3988)-1)))","v":""}]
[null,null,null,null,{"$f":"IF(A3989=\"\",\"\",IF(B3989=\"\",E3988,IF(D3989=\"\",E3988,D3989/MAX($D$8:D3989)-1)))","v":""}]
[null,null,null,null,{"$f":"IF(A3990=\"\",\"\",IF(B3990=\"\",E3989,IF(D3990=\"\",E3989,D3990/MAX($D$8:D3990)-1)))","v":""}]
[null,null,null,null,{"$f":"IF(A3991=\"\",\"\",IF(B3991=\"\",E3990,IF(D3991=\"\",E3990,D3991/MAX($D$8:D3991)-1)))","v":""}]
[null,null,null,null,{"$f":"IF(A3992=\"\",\"\",IF(B3992=\"\",E3991,IF(D3992=\"\",E3991,D3992/MAX($D$8:D3992)-1)))","v":""}]
[null,null,null,null,{"$f":"IF(A3993=\"\",\"\",IF(B3993=\"\",E3992,IF(D3993=\"\",E3992,D3993/MAX($D$8:D3993)-1)))","v":""}]
[null,null,null,null,{"$f":"IF(A3994=\"\",\"\",IF(B3994=\"\",E3993,IF(D3994=\"\",E3993,D3994/MAX($D$8:D3994)-1)))","v":""}]
[null,null,null,null,{"$f":"IF(A3995=\"\",\"\",IF(B3995=\"\",E3994,IF(D3995=\"\",E3994,D3995/MAX($D$8:D3995)-1)))","v":""}]
[null,null,null,null,{"$f":"IF(A3996=\"\",\"\",IF(B3996=\"\",E3995,IF(D3996=\"\",E3995,D3996/MAX($D$8:D3996)-1)))","v":""}]
[null,null,null,null,{"$f":"IF(A3997=\"\",\"\",IF(B3997=\"\",E3996,IF(D3997=\"\",E3996,D3997/MAX($D$8:D3997)-1)))","v":""}]
[null,null,null,null,{"$f":"IF(A3998=\"\",\"\",IF(B3998=\"\",E3997,IF(D3998=\"\",E3997,D3998/MAX($D$8:D3998)-1)))","v":""}]
[null,null,null,null,{"$f":"IF(A3999=\"\",\"\",IF(B3999=\"\",E3998,IF(D3999=\"\",E3998,D3999/MAX($D$8:D3999)-1)))","v":""}]
[null,null,null,null,{"$f":"IF(A4000=\"\",\"\",IF(B4000=\"\",E3999,IF(D4000=\"\",E3999,D4000/MAX($D$8:D4000)-1)))","v":""}]
[null,null,null,null,{"$f":"IF(A4001=\"\",\"\",IF(B4001=\"\",E4000,IF(D4001=\"\",E4000,D4001/MAX($D$8:D4001)-1)))","v":""}]
[null,null,null,null,{"$f":"IF(A4002=\"\",\"\",IF(B4002=\"\",E4001,IF(D4002=\"\",E4001,D4002/MAX($D$8:D4002)-1)))","v":""}]
[null,null,null,null,{"$f":"IF(A4003=\"\",\"\",IF(B4003=\"\",E4002,IF(D4003=\"\",E4002,D4003/MAX($D$8:D4003)-1)))","v":""}]
[null,null,null,null,{"$f":"IF(A4004=\"\",\"\",IF(B4004=\"\",E4003,IF(D4004=\"\",E4003,D4004/MAX($D$8:D4004)-1)))","v":""}]
[null,null,null,null,{"$f":"IF(A4005=\"\",\"\",IF(B4005=\"\",E4004,IF(D4005=\"\",E4004,D4005/MAX($D$8:D4005)-1)))","v":""}]
[null,null,null,null,{"$f":"IF(A4006=\"\",\"\",IF(B4006=\"\",E4005,IF(D4006=\"\",E4005,D4006/MAX($D$8:D4006)-1)))","v":""}]
[null,null,null,null,{"$f":"IF(A4007=\"\",\"\",IF(B4007=\"\",E4006,IF(D4007=\"\",E4006,D4007/MAX($D$8:D4007)-1)))","v":""}]
[null,null,null,null,{"$f":"IF(A4008=\"\",\"\",IF(B4008=\"\",E4007,IF(D4008=\"\",E4007,D4008/MAX($D$8:D4008)-1)))","v":""}]
[null,null,null,null,{"$f":"IF(A4009=\"\",\"\",IF(B4009=\"\",E4008,IF(D4009=\"\",E4008,D4009/MAX($D$8:D4009)-1)))","v":""}]
[null,null,null,null,{"$f":"IF(A4010=\"\",\"\",IF(B4010=\"\",E4009,IF(D4010=\"\",E4009,D4010/MAX($D$8:D4010)-1)))","v":""}]
[null,null,null,null,{"$f":"IF(A4011=\"\",\"\",IF(B4011=\"\",E4010,IF(D4011=\"\",E4010,D4011/MAX($D$8:D4011)-1)))","v":""}]
[null,null,null,null,{"$f":"IF(A4012=\"\",\"\",IF(B4012=\"\",E4011,IF(D4012=\"\",E4011,D4012/MAX($D$8:D4012)-1)))","v":""}]
[null,null,null,null,{"$f":"IF(A4013=\"\",\"\",IF(B4013=\"\",E4012,IF(D4013=\"\",E4012,D4013/MAX($D$8:D4013)-1)))","v":""}]
[null,null,null,null,{"$f":"IF(A4014=\"\",\"\",IF(B4014=\"\",E4013,IF(D4014=\"\",E4013,D4014/MAX($D$8:D4014)-1)))","v":""}]
[null,null,null,null,{"$f":"IF(A4015=\"\",\"\",IF(B4015=\"\",E4014,IF(D4015=\"\",E4014,D4015/MAX($D$8:D4015)-1)))","v":""}]
[null,null,null,null,{"$f":"IF(A4016=\"\",\"\",IF(B4016=\"\",E4015,IF(D4016=\"\",E4015,D4016/MAX($D$8:D4016)-1)))","v":""}]
[null,null,null,null,{"$f":"IF(A4017=\"\",\"\",IF(B4017=\"\",E4016,IF(D4017=\"\",E4016,D4017/MAX($D$8:D4017)-1)))","v":""}]
[null,null,null,null,{"$f":"IF(A4018=\"\",\"\",IF(B4018=\"\",E4017,IF(D4018=\"\",E4017,D4018/MAX($D$8:D4018)-1)))","v":""}]
[null,null,null,null,{"$f":"IF(A4019=\"\",\"\",IF(B4019=\"\",E4018,IF(D4019=\"\",E4018,D4019/MAX($D$8:D4019)-1)))","v":""}]
[null,null,null,null,{"$f":"IF(A4020=\"\",\"\",IF(B4020=\"\",E4019,IF(D4020=\"\",E4019,D4020/MAX($D$8:D4020)-1)))","v":""}]
[null,null,null,null,{"$f":"IF(A4021=\"\",\"\",IF(B4021=\"\",E4020,IF(D4021=\"\",E4020,D4021/MAX($D$8:D4021)-1)))","v":""}]
[null,null,null,null,{"$f":"IF(A4022=\"\",\"\",IF(B4022=\"\",E4021,IF(D4022=\"\",E4021,D4022/MAX($D$8:D4022)-1)))","v":""}]
[null,null,null,null,{"$f":"IF(A4023=\"\",\"\",IF(B4023=\"\",E4022,IF(D4023=\"\",E4022,D4023/MAX($D$8:D4023)-1)))","v":""}]
[null,null,null,null,{"$f":"IF(A4024=\"\",\"\",IF(B4024=\"\",E4023,IF(D4024=\"\",E4023,D4024/MAX($D$8:D4024)-1)))","v":""}]
[null,null,null,null,{"$f":"IF(A4025=\"\",\"\",IF(B4025=\"\",E4024,IF(D4025=\"\",E4024,D4025/MAX($D$8:D4025)-1)))","v":""}]
[null,null,null,null,{"$f":"IF(A4026=\"\",\"\",IF(B4026=\"\",E4025,IF(D4026=\"\",E4025,D4026/MAX($D$8:D4026)-1)))","v":""}]
[null,null,null,null,{"$f":"IF(A4027=\"\",\"\",IF(B4027=\"\",E4026,IF(D4027=\"\",E4026,D4027/MAX($D$8:D4027)-1)))","v":""}]
[null,null,null,null,{"$f":"IF(A4028=\"\",\"\",IF(B4028=\"\",E4027,IF(D4028=\"\",E4027,D4028/MAX($D$8:D4028)-1)))","v":""}]
[null,null,null,null,{"$f":"IF(A4029=\"\",\"\",IF(B4029=\"\",E4028,IF(D4029=\"\",E4028,D4029/MAX($D$8:D4029)-1)))","v":""}]
[null,null,null,null,{"$f":"IF(A4030=\"\",\"\",IF(B4030=\"\",E4029,IF(D4030=\"\",E4029,D4030/MAX($D$8:D4030)-1)))","v":""}]
[null,null,null,null,{"$f":"IF(A4031=\"\",\"\",IF(B4031=\"\",E4030,IF(D4031=\"\",E4030,D4031/MAX($D$8:D4031)-1)))","v":""}]
[null,null,null,null,{"$f":"IF(A4032=\"\",\"\",IF(B4032=\"\",E4031,IF(D4032=\"\",E4031,D4032/MAX($D$8:D4032)-1)))","v":""}]
[null,null,null,null,{"$f":"IF(A4033=\"\",\"\",IF(B4033=\"\",E4032,IF(D4033=\"\",E4032,D4033/MAX($D$8:D4033)-1)))","v":""}]
[null,null,null,null,{"$f":"IF(A4034=\"\",\"\",IF(B4034=\"\",E4033,IF(D4034=\"\",E4033,D4034/MAX($D$8:D4034)-1)))","v":""}]
[null,null,null,null,{"$f":"IF(A4035=\"\",\"\",IF(B4035=\"\",E4034,IF(D4035=\"\",E4034,D4035/MAX($D$8:D4035)-1)))","v":""}]
[null,null,null,null,{"$f":"IF(A4036=\"\",\"\",IF(B4036=\"\",E4035,IF(D4036=\"\",E4035,D4036/MAX($D$8:D4036)-1)))","v":""}]
[null,null,null,null,{"$f":"IF(A4037=\"\",\"\",IF(B4037=\"\",E4036,IF(D4037=\"\",E4036,D4037/MAX($D$8:D4037)-1)))","v":""}]
[null,null,null,null,{"$f":"IF(A4038=\"\",\"\",IF(B4038=\"\",E4037,IF(D4038=\"\",E4037,D4038/MAX($D$8:D4038)-1)))","v":""}]
[null,null,null,null,{"$f":"IF(A4039=\"\",\"\",IF(B4039=\"\",E4038,IF(D4039=\"\",E4038,D4039/MAX($D$8:D4039)-1)))","v":""}]
[null,null,null,null,{"$f":"IF(A4040=\"\",\"\",IF(B4040=\"\",E4039,IF(D4040=\"\",E4039,D4040/MAX($D$8:D4040)-1)))","v":""}]
[null,null,null,null,{"$f":"IF(A4041=\"\",\"\",IF(B4041=\"\",E4040,IF(D4041=\"\",E4040,D4041/MAX($D$8:D4041)-1)))","v":""}]
[null,null,null,null,{"$f":"IF(A4042=\"\",\"\",IF(B4042=\"\",E4041,IF(D4042=\"\",E4041,D4042/MAX($D$8:D4042)-1)))","v":""}]
[null,null,null,null,{"$f":"IF(A4043=\"\",\"\",IF(B4043=\"\",E4042,IF(D4043=\"\",E4042,D4043/MAX($D$8:D4043)-1)))","v":""}]
[null,null,null,null,{"$f":"IF(A4044=\"\",\"\",IF(B4044=\"\",E4043,IF(D4044=\"\",E4043,D4044/MAX($D$8:D4044)-1)))","v":""}]
[null,null,null,null,{"$f":"IF(A4045=\"\",\"\",IF(B4045=\"\",E4044,IF(D4045=\"\",E4044,D4045/MAX($D$8:D4045)-1)))","v":""}]
[null,null,null,null,{"$f":"IF(A4046=\"\",\"\",IF(B4046=\"\",E4045,IF(D4046=\"\",E4045,D4046/MAX($D$8:D4046)-1)))","v":""}]
[null,null,null,null,{"$f":"IF(A4047=\"\",\"\",IF(B4047=\"\",E4046,IF(D4047=\"\",E4046,D4047/MAX($D$8:D4047)-1)))","v":""}]
[null,null,null,null,{"$f":"IF(A4048=\"\",\"\",IF(B4048=\"\",E4047,IF(D4048=\"\",E4047,D4048/MAX($D$8:D4048)-1)))","v":""}]
[null,null,null,null,{"$f":"IF(A4049=\"\",\"\",IF(B4049=\"\",E4048,IF(D4049=\"\",E4048,D4049/MAX($D$8:D4049)-1)))","v":""}]
[null,null,null,null,{"$f":"IF(A4050=\"\",\"\",IF(B4050=\"\",E4049,IF(D4050=\"\",E4049,D4050/MAX($D$8:D4050)-1)))","v":""}]
[null,null,null,null,{"$f":"IF(A4051=\"\",\"\",IF(B4051=\"\",E4050,IF(D4051=\"\",E4050,D4051/MAX($D$8:D4051)-1)))","v":""}]
[null,null,null,null,{"$f":"IF(A4052=\"\",\"\",IF(B4052=\"\",E4051,IF(D4052=\"\",E4051,D4052/MAX($D$8:D4052)-1)))","v":""}]
[null,null,null,null,{"$f":"IF(A4053=\"\",\"\",IF(B4053=\"\",E4052,IF(D4053=\"\",E4052,D4053/MAX($D$8:D4053)-1)))","v":""}]
[null,null,null,null,{"$f":"IF(A4054=\"\",\"\",IF(B4054=\"\",E4053,IF(D4054=\"\",E4053,D4054/MAX($D$8:D4054)-1)))","v":""}]
[null,null,null,null,{"$f":"IF(A4055=\"\",\"\",IF(B4055=\"\",E4054,IF(D4055=\"\",E4054,D4055/MAX($D$8:D4055)-1)))","v":""}]
[null,null,null,null,{"$f":"IF(A4056=\"\",\"\",IF(B4056=\"\",E4055,IF(D4056=\"\",E4055,D4056/MAX($D$8:D4056)-1)))","v":""}]
[null,null,null,null,{"$f":"IF(A4057=\"\",\"\",IF(B4057=\"\",E4056,IF(D4057=\"\",E4056,D4057/MAX($D$8:D4057)-1)))","v":""}]
[null,null,null,null,{"$f":"IF(A4058=\"\",\"\",IF(B4058=\"\",E4057,IF(D4058=\"\",E4057,D4058/MAX($D$8:D4058)-1)))","v":""}]
[null,null,null,null,{"$f":"IF(A4059=\"\",\"\",IF(B4059=\"\",E4058,IF(D4059=\"\",E4058,D4059/MAX($D$8:D4059)-1)))","v":""}]
[null,null,null,null,{"$f":"IF(A4060=\"\",\"\",IF(B4060=\"\",E4059,IF(D4060=\"\",E4059,D4060/MAX($D$8:D4060)-1)))","v":""}]
[null,null,null,null,{"$f":"IF(A4061=\"\",\"\",IF(B4061=\"\",E4060,IF(D4061=\"\",E4060,D4061/MAX($D$8:D4061)-1)))","v":""}]
[null,null,null,null,{"$f":"IF(A4062=\"\",\"\",IF(B4062=\"\",E4061,IF(D4062=\"\",E4061,D4062/MAX($D$8:D4062)-1)))","v":""}]
[null,null,null,null,{"$f":"IF(A4063=\"\",\"\",IF(B4063=\"\",E4062,IF(D4063=\"\",E4062,D4063/MAX($D$8:D4063)-1)))","v":""}]
[null,null,null,null,{"$f":"IF(A4064=\"\",\"\",IF(B4064=\"\",E4063,IF(D4064=\"\",E4063,D4064/MAX($D$8:D4064)-1)))","v":""}]
[null,null,null,null,{"$f":"IF(A4065=\"\",\"\",IF(B4065=\"\",E4064,IF(D4065=\"\",E4064,D4065/MAX($D$8:D4065)-1)))","v":""}]
[null,null,null,null,{"$f":"IF(A4066=\"\",\"\",IF(B4066=\"\",E4065,IF(D4066=\"\",E4065,D4066/MAX($D$8:D4066)-1)))","v":""}]
[null,null,null,null,{"$f":"IF(A4067=\"\",\"\",IF(B4067=\"\",E4066,IF(D4067=\"\",E4066,D4067/MAX($D$8:D4067)-1)))","v":""}]
[null,null,null,null,{"$f":"IF(A4068=\"\",\"\",IF(B4068=\"\",E4067,IF(D4068=\"\",E4067,D4068/MAX($D$8:D4068)-1)))","v":""}]
[null,null,null,null,{"$f":"IF(A4069=\"\",\"\",IF(B4069=\"\",E4068,IF(D4069=\"\",E4068,D4069/MAX($D$8:D4069)-1)))","v":""}]
[null,null,null,null,{"$f":"IF(A4070=\"\",\"\",IF(B4070=\"\",E4069,IF(D4070=\"\",E4069,D4070/MAX($D$8:D4070)-1)))","v":""}]
[null,null,null,null,{"$f":"IF(A4071=\"\",\"\",IF(B4071=\"\",E4070,IF(D4071=\"\",E4070,D4071/MAX($D$8:D4071)-1)))","v":""}]
[null,null,null,null,{"$f":"IF(A4072=\"\",\"\",IF(B4072=\"\",E4071,IF(D4072=\"\",E4071,D4072/MAX($D$8:D4072)-1)))","v":""}]
[null,null,null,null,{"$f":"IF(A4073=\"\",\"\",IF(B4073=\"\",E4072,IF(D4073=\"\",E4072,D4073/MAX($D$8:D4073)-1)))","v":""}]
[null,null,null,null,{"$f":"IF(A4074=\"\",\"\",IF(B4074=\"\",E4073,IF(D4074=\"\",E4073,D4074/MAX($D$8:D4074)-1)))","v":""}]
[null,null,null,null,{"$f":"IF(A4075=\"\",\"\",IF(B4075=\"\",E4074,IF(D4075=\"\",E4074,D4075/MAX($D$8:D4075)-1)))","v":""}]
[null,null,null,null,{"$f":"IF(A4076=\"\",\"\",IF(B4076=\"\",E4075,IF(D4076=\"\",E4075,D4076/MAX($D$8:D4076)-1)))","v":""}]
[null,null,null,null,{"$f":"IF(A4077=\"\",\"\",IF(B4077=\"\",E4076,IF(D4077=\"\",E4076,D4077/MAX($D$8:D4077)-1)))","v":""}]
[null,null,null,null,{"$f":"IF(A4078=\"\",\"\",IF(B4078=\"\",E4077,IF(D4078=\"\",E4077,D4078/MAX($D$8:D4078)-1)))","v":""}]
[null,null,null,null,{"$f":"IF(A4079=\"\",\"\",IF(B4079=\"\",E4078,IF(D4079=\"\",E4078,D4079/MAX($D$8:D4079)-1)))","v":""}]
[null,null,null,null,{"$f":"IF(A4080=\"\",\"\",IF(B4080=\"\",E4079,IF(D4080=\"\",E4079,D4080/MAX($D$8:D4080)-1)))","v":""}]
[null,null,null,null,{"$f":"IF(A4081=\"\",\"\",IF(B4081=\"\",E4080,IF(D4081=\"\",E4080,D4081/MAX($D$8:D4081)-1)))","v":""}]
[null,null,null,null,{"$f":"IF(A4082=\"\",\"\",IF(B4082=\"\",E4081,IF(D4082=\"\",E4081,D4082/MAX($D$8:D4082)-1)))","v":""}]
[null,null,null,null,{"$f":"IF(A4083=\"\",\"\",IF(B4083=\"\",E4082,IF(D4083=\"\",E4082,D4083/MAX($D$8:D4083)-1)))","v":""}]
[null,null,null,null,{"$f":"IF(A4084=\"\",\"\",IF(B4084=\"\",E4083,IF(D4084=\"\",E4083,D4084/MAX($D$8:D4084)-1)))","v":""}]
[null,null,null,null,{"$f":"IF(A4085=\"\",\"\",IF(B4085=\"\",E4084,IF(D4085=\"\",E4084,D4085/MAX($D$8:D4085)-1)))","v":""}]
[null,null,null,null,{"$f":"IF(A4086=\"\",\"\",IF(B4086=\"\",E4085,IF(D4086=\"\",E4085,D4086/MAX($D$8:D4086)-1)))","v":""}]
[null,null,null,null,{"$f":"IF(A4087=\"\",\"\",IF(B4087=\"\",E4086,IF(D4087=\"\",E4086,D4087/MAX($D$8:D4087)-1)))","v":""}]
[null,null,null,null,{"$f":"IF(A4088=\"\",\"\",IF(B4088=\"\",E4087,IF(D4088=\"\",E4087,D4088/MAX($D$8:D4088)-1)))","v":""}]
[null,null,null,null,{"$f":"IF(A4089=\"\",\"\",IF(B4089=\"\",E4088,IF(D4089=\"\",E4088,D4089/MAX($D$8:D4089)-1)))","v":""}]
[null,null,null,null,{"$f":"IF(A4090=\"\",\"\",IF(B4090=\"\",E4089,IF(D4090=\"\",E4089,D4090/MAX($D$8:D4090)-1)))","v":""}]
[null,null,null,null,{"$f":"IF(A4091=\"\",\"\",IF(B4091=\"\",E4090,IF(D4091=\"\",E4090,D4091/MAX($D$8:D4091)-1)))","v":""}]
[null,null,null,null,{"$f":"IF(A4092=\"\",\"\",IF(B4092=\"\",E4091,IF(D4092=\"\",E4091,D4092/MAX($D$8:D4092)-1)))","v":""}]
[null,null,null,null,{"$f":"IF(A4093=\"\",\"\",IF(B4093=\"\",E4092,IF(D4093=\"\",E4092,D4093/MAX($D$8:D4093)-1)))","v":""}]
[null,null,null,null,{"$f":"IF(A4094=\"\",\"\",IF(B4094=\"\",E4093,IF(D4094=\"\",E4093,D4094/MAX($D$8:D4094)-1)))","v":""}]
[null,null,null,null,{"$f":"IF(A4095=\"\",\"\",IF(B4095=\"\",E4094,IF(D4095=\"\",E4094,D4095/MAX($D$8:D4095)-1)))","v":""}]
[null,null,null,null,{"$f":"IF(A4096=\"\",\"\",IF(B4096=\"\",E4095,IF(D4096=\"\",E4095,D4096/MAX($D$8:D4096)-1)))","v":""}]
[null,null,null,null,{"$f":"IF(A4097=\"\",\"\",IF(B4097=\"\",E4096,IF(D4097=\"\",E4096,D4097/MAX($D$8:D4097)-1)))","v":""}]
[null,null,null,null,{"$f":"IF(A4098=\"\",\"\",IF(B4098=\"\",E4097,IF(D4098=\"\",E4097,D4098/MAX($D$8:D4098)-1)))","v":""}]
[null,null,null,null,{"$f":"IF(A4099=\"\",\"\",IF(B4099=\"\",E4098,IF(D4099=\"\",E4098,D4099/MAX($D$8:D4099)-1)))","v":""}]
[null,null,null,null,{"$f":"IF(A4100=\"\",\"\",IF(B4100=\"\",E4099,IF(D4100=\"\",E4099,D4100/MAX($D$8:D4100)-1)))","v":""}]
[null,null,null,null,{"$f":"IF(A4101=\"\",\"\",IF(B4101=\"\",E4100,IF(D4101=\"\",E4100,D4101/MAX($D$8:D4101)-1)))","v":""}]
[null,null,null,null,{"$f":"IF(A4102=\"\",\"\",IF(B4102=\"\",E4101,IF(D4102=\"\",E4101,D4102/MAX($D$8:D4102)-1)))","v":""}]
[null,null,null,null,{"$f":"IF(A4103=\"\",\"\",IF(B4103=\"\",E4102,IF(D4103=\"\",E4102,D4103/MAX($D$8:D4103)-1)))","v":""}]
[null,null,null,null,{"$f":"IF(A4104=\"\",\"\",IF(B4104=\"\",E4103,IF(D4104=\"\",E4103,D4104/MAX($D$8:D4104)-1)))","v":""}]
[null,null,null,null,{"$f":"IF(A4105=\"\",\"\",IF(B4105=\"\",E4104,IF(D4105=\"\",E4104,D4105/MAX($D$8:D4105)-1)))","v":""}]
[null,null,null,null,{"$f":"IF(A4106=\"\",\"\",IF(B4106=\"\",E4105,IF(D4106=\"\",E4105,D4106/MAX($D$8:D4106)-1)))","v":""}]
[null,null,null,null,{"$f":"IF(A4107=\"\",\"\",IF(B4107=\"\",E4106,IF(D4107=\"\",E4106,D4107/MAX($D$8:D4107)-1)))","v":""}]
[null,null,null,null,{"$f":"IF(A4108=\"\",\"\",IF(B4108=\"\",E4107,IF(D4108=\"\",E4107,D4108/MAX($D$8:D4108)-1)))","v":""}]
[null,null,null,null,{"$f":"IF(A4109=\"\",\"\",IF(B4109=\"\",E4108,IF(D4109=\"\",E4108,D4109/MAX($D$8:D4109)-1)))","v":""}]
[null,null,null,null,{"$f":"IF(A4110=\"\",\"\",IF(B4110=\"\",E4109,IF(D4110=\"\",E4109,D4110/MAX($D$8:D4110)-1)))","v":""}]
[null,null,null,null,{"$f":"IF(A4111=\"\",\"\",IF(B4111=\"\",E4110,IF(D4111=\"\",E4110,D4111/MAX($D$8:D4111)-1)))","v":""}]
[null,null,null,null,{"$f":"IF(A4112=\"\",\"\",IF(B4112=\"\",E4111,IF(D4112=\"\",E4111,D4112/MAX($D$8:D4112)-1)))","v":""}]
[null,null,null,null,{"$f":"IF(A4113=\"\",\"\",IF(B4113=\"\",E4112,IF(D4113=\"\",E4112,D4113/MAX($D$8:D4113)-1)))","v":""}]
[null,null,null,null,{"$f":"IF(A4114=\"\",\"\",IF(B4114=\"\",E4113,IF(D4114=\"\",E4113,D4114/MAX($D$8:D4114)-1)))","v":""}]
[null,null,null,null,{"$f":"IF(A4115=\"\",\"\",IF(B4115=\"\",E4114,IF(D4115=\"\",E4114,D4115/MAX($D$8:D4115)-1)))","v":""}]
[null,null,null,null,{"$f":"IF(A4116=\"\",\"\",IF(B4116=\"\",E4115,IF(D4116=\"\",E4115,D4116/MAX($D$8:D4116)-1)))","v":""}]
[null,null,null,null,{"$f":"IF(A4117=\"\",\"\",IF(B4117=\"\",E4116,IF(D4117=\"\",E4116,D4117/MAX($D$8:D4117)-1)))","v":""}]
[null,null,null,null,{"$f":"IF(A4118=\"\",\"\",IF(B4118=\"\",E4117,IF(D4118=\"\",E4117,D4118/MAX($D$8:D4118)-1)))","v":""}]
[null,null,null,null,{"$f":"IF(A4119=\"\",\"\",IF(B4119=\"\",E4118,IF(D4119=\"\",E4118,D4119/MAX($D$8:D4119)-1)))","v":""}]
[null,null,null,null,{"$f":"IF(A4120=\"\",\"\",IF(B4120=\"\",E4119,IF(D4120=\"\",E4119,D4120/MAX($D$8:D4120)-1)))","v":""}]
[null,null,null,null,{"$f":"IF(A4121=\"\",\"\",IF(B4121=\"\",E4120,IF(D4121=\"\",E4120,D4121/MAX($D$8:D4121)-1)))","v":""}]
[null,null,null,null,{"$f":"IF(A4122=\"\",\"\",IF(B4122=\"\",E4121,IF(D4122=\"\",E4121,D4122/MAX($D$8:D4122)-1)))","v":""}]
[null,null,null,null,{"$f":"IF(A4123=\"\",\"\",IF(B4123=\"\",E4122,IF(D4123=\"\",E4122,D4123/MAX($D$8:D4123)-1)))","v":""}]
[null,null,null,null,{"$f":"IF(A4124=\"\",\"\",IF(B4124=\"\",E4123,IF(D4124=\"\",E4123,D4124/MAX($D$8:D4124)-1)))","v":""}]
[null,null,null,null,{"$f":"IF(A4125=\"\",\"\",IF(B4125=\"\",E4124,IF(D4125=\"\",E4124,D4125/MAX($D$8:D4125)-1)))","v":""}]
[null,null,null,null,{"$f":"IF(A4126=\"\",\"\",IF(B4126=\"\",E4125,IF(D4126=\"\",E4125,D4126/MAX($D$8:D4126)-1)))","v":""}]
[null,null,null,null,{"$f":"IF(A4127=\"\",\"\",IF(B4127=\"\",E4126,IF(D4127=\"\",E4126,D4127/MAX($D$8:D4127)-1)))","v":""}]
[null,null,null,null,{"$f":"IF(A4128=\"\",\"\",IF(B4128=\"\",E4127,IF(D4128=\"\",E4127,D4128/MAX($D$8:D4128)-1)))","v":""}]
[null,null,null,null,{"$f":"IF(A4129=\"\",\"\",IF(B4129=\"\",E4128,IF(D4129=\"\",E4128,D4129/MAX($D$8:D4129)-1)))","v":""}]
[null,null,null,null,{"$f":"IF(A4130=\"\",\"\",IF(B4130=\"\",E4129,IF(D4130=\"\",E4129,D4130/MAX($D$8:D4130)-1)))","v":""}]
[null,null,null,null,{"$f":"IF(A4131=\"\",\"\",IF(B4131=\"\",E4130,IF(D4131=\"\",E4130,D4131/MAX($D$8:D4131)-1)))","v":""}]
[null,null,null,null,{"$f":"IF(A4132=\"\",\"\",IF(B4132=\"\",E4131,IF(D4132=\"\",E4131,D4132/MAX($D$8:D4132)-1)))","v":""}]
[null,null,null,null,{"$f":"IF(A4133=\"\",\"\",IF(B4133=\"\",E4132,IF(D4133=\"\",E4132,D4133/MAX($D$8:D4133)-1)))","v":""}]
[null,null,null,null,{"$f":"IF(A4134=\"\",\"\",IF(B4134=\"\",E4133,IF(D4134=\"\",E4133,D4134/MAX($D$8:D4134)-1)))","v":""}]
[null,null,null,null,{"$f":"IF(A4135=\"\",\"\",IF(B4135=\"\",E4134,IF(D4135=\"\",E4134,D4135/MAX($D$8:D4135)-1)))","v":""}]
[null,null,null,null,{"$f":"IF(A4136=\"\",\"\",IF(B4136=\"\",E4135,IF(D4136=\"\",E4135,D4136/MAX($D$8:D4136)-1)))","v":""}]
[null,null,null,null,{"$f":"IF(A4137=\"\",\"\",IF(B4137=\"\",E4136,IF(D4137=\"\",E4136,D4137/MAX($D$8:D4137)-1)))","v":""}]
[null,null,null,null,{"$f":"IF(A4138=\"\",\"\",IF(B4138=\"\",E4137,IF(D4138=\"\",E4137,D4138/MAX($D$8:D4138)-1)))","v":""}]
[null,null,null,null,{"$f":"IF(A4139=\"\",\"\",IF(B4139=\"\",E4138,IF(D4139=\"\",E4138,D4139/MAX($D$8:D4139)-1)))","v":""}]
[null,null,null,null,{"$f":"IF(A4140=\"\",\"\",IF(B4140=\"\",E4139,IF(D4140=\"\",E4139,D4140/MAX($D$8:D4140)-1)))","v":""}]
[null,null,null,null,{"$f":"IF(A4141=\"\",\"\",IF(B4141=\"\",E4140,IF(D4141=\"\",E4140,D4141/MAX($D$8:D4141)-1)))","v":""}]
[null,null,null,null,{"$f":"IF(A4142=\"\",\"\",IF(B4142=\"\",E4141,IF(D4142=\"\",E4141,D4142/MAX($D$8:D4142)-1)))","v":""}]
[null,null,null,null,{"$f":"IF(A4143=\"\",\"\",IF(B4143=\"\",E4142,IF(D4143=\"\",E4142,D4143/MAX($D$8:D4143)-1)))","v":""}]
[null,null,null,null,{"$f":"IF(A4144=\"\",\"\",IF(B4144=\"\",E4143,IF(D4144=\"\",E4143,D4144/MAX($D$8:D4144)-1)))","v":""}]
[null,null,null,null,{"$f":"IF(A4145=\"\",\"\",IF(B4145=\"\",E4144,IF(D4145=\"\",E4144,D4145/MAX($D$8:D4145)-1)))","v":""}]
[null,null,null,null,{"$f":"IF(A4146=\"\",\"\",IF(B4146=\"\",E4145,IF(D4146=\"\",E4145,D4146/MAX($D$8:D4146)-1)))","v":""}]
[null,null,null,null,{"$f":"IF(A4147=\"\",\"\",IF(B4147=\"\",E4146,IF(D4147=\"\",E4146,D4147/MAX($D$8:D4147)-1)))","v":""}]
[null,null,null,null,{"$f":"IF(A4148=\"\",\"\",IF(B4148=\"\",E4147,IF(D4148=\"\",E4147,D4148/MAX($D$8:D4148)-1)))","v":""}]
[null,null,null,null,{"$f":"IF(A4149=\"\",\"\",IF(B4149=\"\",E4148,IF(D4149=\"\",E4148,D4149/MAX($D$8:D4149)-1)))","v":""}]
[null,null,null,null,{"$f":"IF(A4150=\"\",\"\",IF(B4150=\"\",E4149,IF(D4150=\"\",E4149,D4150/MAX($D$8:D4150)-1)))","v":""}]
[null,null,null,null,{"$f":"IF(A4151=\"\",\"\",IF(B4151=\"\",E4150,IF(D4151=\"\",E4150,D4151/MAX($D$8:D4151)-1)))","v":""}]
[null,null,null,null,{"$f":"IF(A4152=\"\",\"\",IF(B4152=\"\",E4151,IF(D4152=\"\",E4151,D4152/MAX($D$8:D4152)-1)))","v":""}]
[null,null,null,null,{"$f":"IF(A4153=\"\",\"\",IF(B4153=\"\",E4152,IF(D4153=\"\",E4152,D4153/MAX($D$8:D4153)-1)))","v":""}]
[null,null,null,null,{"$f":"IF(A4154=\"\",\"\",IF(B4154=\"\",E4153,IF(D4154=\"\",E4153,D4154/MAX($D$8:D4154)-1)))","v":""}]
[null,null,null,null,{"$f":"IF(A4155=\"\",\"\",IF(B4155=\"\",E4154,IF(D4155=\"\",E4154,D4155/MAX($D$8:D4155)-1)))","v":""}]
[null,null,null,null,{"$f":"IF(A4156=\"\",\"\",IF(B4156=\"\",E4155,IF(D4156=\"\",E4155,D4156/MAX($D$8:D4156)-1)))","v":""}]
[null,null,null,null,{"$f":"IF(A4157=\"\",\"\",IF(B4157=\"\",E4156,IF(D4157=\"\",E4156,D4157/MAX($D$8:D4157)-1)))","v":""}]
[null,null,null,null,{"$f":"IF(A4158=\"\",\"\",IF(B4158=\"\",E4157,IF(D4158=\"\",E4157,D4158/MAX($D$8:D4158)-1)))","v":""}]
[null,null,null,null,{"$f":"IF(A4159=\"\",\"\",IF(B4159=\"\",E4158,IF(D4159=\"\",E4158,D4159/MAX($D$8:D4159)-1)))","v":""}]
[null,null,null,null,{"$f":"IF(A4160=\"\",\"\",IF(B4160=\"\",E4159,IF(D4160=\"\",E4159,D4160/MAX($D$8:D4160)-1)))","v":""}]
[null,null,null,null,{"$f":"IF(A4161=\"\",\"\",IF(B4161=\"\",E4160,IF(D4161=\"\",E4160,D4161/MAX($D$8:D4161)-1)))","v":""}]
[null,null,null,null,{"$f":"IF(A4162=\"\",\"\",IF(B4162=\"\",E4161,IF(D4162=\"\",E4161,D4162/MAX($D$8:D4162)-1)))","v":""}]
[null,null,null,null,{"$f":"IF(A4163=\"\",\"\",IF(B4163=\"\",E4162,IF(D4163=\"\",E4162,D4163/MAX($D$8:D4163)-1)))","v":""}]
[null,null,null,null,{"$f":"IF(A4164=\"\",\"\",IF(B4164=\"\",E4163,IF(D4164=\"\",E4163,D4164/MAX($D$8:D4164)-1)))","v":""}]
[null,null,null,null,{"$f":"IF(A4165=\"\",\"\",IF(B4165=\"\",E4164,IF(D4165=\"\",E4164,D4165/MAX($D$8:D4165)-1)))","v":""}]
[null,null,null,null,{"$f":"IF(A4166=\"\",\"\",IF(B4166=\"\",E4165,IF(D4166=\"\",E4165,D4166/MAX($D$8:D4166)-1)))","v":""}]
[null,null,null,null,{"$f":"IF(A4167=\"\",\"\",IF(B4167=\"\",E4166,IF(D4167=\"\",E4166,D4167/MAX($D$8:D4167)-1)))","v":""}]
[null,null,null,null,{"$f":"IF(A4168=\"\",\"\",IF(B4168=\"\",E4167,IF(D4168=\"\",E4167,D4168/MAX($D$8:D4168)-1)))","v":""}]
[null,null,null,null,{"$f":"IF(A4169=\"\",\"\",IF(B4169=\"\",E4168,IF(D4169=\"\",E4168,D4169/MAX($D$8:D4169)-1)))","v":""}]
[null,null,null,null,{"$f":"IF(A4170=\"\",\"\",IF(B4170=\"\",E4169,IF(D4170=\"\",E4169,D4170/MAX($D$8:D4170)-1)))","v":""}]
[null,null,null,null,{"$f":"IF(A4171=\"\",\"\",IF(B4171=\"\",E4170,IF(D4171=\"\",E4170,D4171/MAX($D$8:D4171)-1)))","v":""}]
[null,null,null,null,{"$f":"IF(A4172=\"\",\"\",IF(B4172=\"\",E4171,IF(D4172=\"\",E4171,D4172/MAX($D$8:D4172)-1)))","v":""}]
[null,null,null,null,{"$f":"IF(A4173=\"\",\"\",IF(B4173=\"\",E4172,IF(D4173=\"\",E4172,D4173/MAX($D$8:D4173)-1)))","v":""}]
[null,null,null,null,{"$f":"IF(A4174=\"\",\"\",IF(B4174=\"\",E4173,IF(D4174=\"\",E4173,D4174/MAX($D$8:D4174)-1)))","v":""}]
[null,null,null,null,{"$f":"IF(A4175=\"\",\"\",IF(B4175=\"\",E4174,IF(D4175=\"\",E4174,D4175/MAX($D$8:D4175)-1)))","v":""}]
[null,null,null,null,{"$f":"IF(A4176=\"\",\"\",IF(B4176=\"\",E4175,IF(D4176=\"\",E4175,D4176/MAX($D$8:D4176)-1)))","v":""}]
[null,null,null,null,{"$f":"IF(A4177=\"\",\"\",IF(B4177=\"\",E4176,IF(D4177=\"\",E4176,D4177/MAX($D$8:D4177)-1)))","v":""}]
[null,null,null,null,{"$f":"IF(A4178=\"\",\"\",IF(B4178=\"\",E4177,IF(D4178=\"\",E4177,D4178/MAX($D$8:D4178)-1)))","v":""}]
[null,null,null,null,{"$f":"IF(A4179=\"\",\"\",IF(B4179=\"\",E4178,IF(D4179=\"\",E4178,D4179/MAX($D$8:D4179)-1)))","v":""}]
[null,null,null,null,{"$f":"IF(A4180=\"\",\"\",IF(B4180=\"\",E4179,IF(D4180=\"\",E4179,D4180/MAX($D$8:D4180)-1)))","v":""}]
[null,null,null,null,{"$f":"IF(A4181=\"\",\"\",IF(B4181=\"\",E4180,IF(D4181=\"\",E4180,D4181/MAX($D$8:D4181)-1)))","v":""}]
[null,null,null,null,{"$f":"IF(A4182=\"\",\"\",IF(B4182=\"\",E4181,IF(D4182=\"\",E4181,D4182/MAX($D$8:D4182)-1)))","v":""}]
[null,null,null,null,{"$f":"IF(A4183=\"\",\"\",IF(B4183=\"\",E4182,IF(D4183=\"\",E4182,D4183/MAX($D$8:D4183)-1)))","v":""}]
[null,null,null,null,{"$f":"IF(A4184=\"\",\"\",IF(B4184=\"\",E4183,IF(D4184=\"\",E4183,D4184/MAX($D$8:D4184)-1)))","v":""}]
[null,null,null,null,{"$f":"IF(A4185=\"\",\"\",IF(B4185=\"\",E4184,IF(D4185=\"\",E4184,D4185/MAX($D$8:D4185)-1)))","v":""}]
[null,null,null,null,{"$f":"IF(A4186=\"\",\"\",IF(B4186=\"\",E4185,IF(D4186=\"\",E4185,D4186/MAX($D$8:D4186)-1)))","v":""}]
[null,null,null,null,{"$f":"IF(A4187=\"\",\"\",IF(B4187=\"\",E4186,IF(D4187=\"\",E4186,D4187/MAX($D$8:D4187)-1)))","v":""}]
[null,null,null,null,{"$f":"IF(A4188=\"\",\"\",IF(B4188=\"\",E4187,IF(D4188=\"\",E4187,D4188/MAX($D$8:D4188)-1)))","v":""}]
[null,null,null,null,{"$f":"IF(A4189=\"\",\"\",IF(B4189=\"\",E4188,IF(D4189=\"\",E4188,D4189/MAX($D$8:D4189)-1)))","v":""}]
[null,null,null,null,{"$f":"IF(A4190=\"\",\"\",IF(B4190=\"\",E4189,IF(D4190=\"\",E4189,D4190/MAX($D$8:D4190)-1)))","v":""}]
[null,null,null,null,{"$f":"IF(A4191=\"\",\"\",IF(B4191=\"\",E4190,IF(D4191=\"\",E4190,D4191/MAX($D$8:D4191)-1)))","v":""}]
[null,null,null,null,{"$f":"IF(A4192=\"\",\"\",IF(B4192=\"\",E4191,IF(D4192=\"\",E4191,D4192/MAX($D$8:D4192)-1)))","v":""}]
[null,null,null,null,{"$f":"IF(A4193=\"\",\"\",IF(B4193=\"\",E4192,IF(D4193=\"\",E4192,D4193/MAX($D$8:D4193)-1)))","v":""}]
[null,null,null,null,{"$f":"IF(A4194=\"\",\"\",IF(B4194=\"\",E4193,IF(D4194=\"\",E4193,D4194/MAX($D$8:D4194)-1)))","v":""}]
[null,null,null,null,{"$f":"IF(A4195=\"\",\"\",IF(B4195=\"\",E4194,IF(D4195=\"\",E4194,D4195/MAX($D$8:D4195)-1)))","v":""}]
[null,null,null,null,{"$f":"IF(A4196=\"\",\"\",IF(B4196=\"\",E4195,IF(D4196=\"\",E4195,D4196/MAX($D$8:D4196)-1)))","v":""}]
[null,null,null,null,{"$f":"IF(A4197=\"\",\"\",IF(B4197=\"\",E4196,IF(D4197=\"\",E4196,D4197/MAX($D$8:D4197)-1)))","v":""}]
[null,null,null,null,{"$f":"IF(A4198=\"\",\"\",IF(B4198=\"\",E4197,IF(D4198=\"\",E4197,D4198/MAX($D$8:D4198)-1)))","v":""}]
[null,null,null,null,{"$f":"IF(A4199=\"\",\"\",IF(B4199=\"\",E4198,IF(D4199=\"\",E4198,D4199/MAX($D$8:D4199)-1)))","v":""}]
[null,null,null,null,{"$f":"IF(A4200=\"\",\"\",IF(B4200=\"\",E4199,IF(D4200=\"\",E4199,D4200/MAX($D$8:D4200)-1)))","v":""}]
[null,null,null,null,{"$f":"IF(A4201=\"\",\"\",IF(B4201=\"\",E4200,IF(D4201=\"\",E4200,D4201/MAX($D$8:D4201)-1)))","v":""}]
[null,null,null,null,{"$f":"IF(A4202=\"\",\"\",IF(B4202=\"\",E4201,IF(D4202=\"\",E4201,D4202/MAX($D$8:D4202)-1)))","v":""}]
[null,null,null,null,{"$f":"IF(A4203=\"\",\"\",IF(B4203=\"\",E4202,IF(D4203=\"\",E4202,D4203/MAX($D$8:D4203)-1)))","v":""}]
[null,null,null,null,{"$f":"IF(A4204=\"\",\"\",IF(B4204=\"\",E4203,IF(D4204=\"\",E4203,D4204/MAX($D$8:D4204)-1)))","v":""}]
[null,null,null,null,{"$f":"IF(A4205=\"\",\"\",IF(B4205=\"\",E4204,IF(D4205=\"\",E4204,D4205/MAX($D$8:D4205)-1)))","v":""}]
[null,null,null,null,{"$f":"IF(A4206=\"\",\"\",IF(B4206=\"\",E4205,IF(D4206=\"\",E4205,D4206/MAX($D$8:D4206)-1)))","v":""}]
[null,null,null,null,{"$f":"IF(A4207=\"\",\"\",IF(B4207=\"\",E4206,IF(D4207=\"\",E4206,D4207/MAX($D$8:D4207)-1)))","v":""}]
[null,null,null,null,{"$f":"IF(A4208=\"\",\"\",IF(B4208=\"\",E4207,IF(D4208=\"\",E4207,D4208/MAX($D$8:D4208)-1)))","v":""}]
[null,null,null,null,{"$f":"IF(A4209=\"\",\"\",IF(B4209=\"\",E4208,IF(D4209=\"\",E4208,D4209/MAX($D$8:D4209)-1)))","v":""}]
[null,null,null,null,{"$f":"IF(A4210=\"\",\"\",IF(B4210=\"\",E4209,IF(D4210=\"\",E4209,D4210/MAX($D$8:D4210)-1)))","v":""}]
[null,null,null,null,{"$f":"IF(A4211=\"\",\"\",IF(B4211=\"\",E4210,IF(D4211=\"\",E4210,D4211/MAX($D$8:D4211)-1)))","v":""}]
[null,null,null,null,{"$f":"IF(A4212=\"\",\"\",IF(B4212=\"\",E4211,IF(D4212=\"\",E4211,D4212/MAX($D$8:D4212)-1)))","v":""}]
[null,null,null,null,{"$f":"IF(A4213=\"\",\"\",IF(B4213=\"\",E4212,IF(D4213=\"\",E4212,D4213/MAX($D$8:D4213)-1)))","v":""}]
[null,null,null,null,{"$f":"IF(A4214=\"\",\"\",IF(B4214=\"\",E4213,IF(D4214=\"\",E4213,D4214/MAX($D$8:D4214)-1)))","v":""}]
[null,null,null,null,{"$f":"IF(A4215=\"\",\"\",IF(B4215=\"\",E4214,IF(D4215=\"\",E4214,D4215/MAX($D$8:D4215)-1)))","v":""}]
[null,null,null,null,{"$f":"IF(A4216=\"\",\"\",IF(B4216=\"\",E4215,IF(D4216=\"\",E4215,D4216/MAX($D$8:D4216)-1)))","v":""}]
[null,null,null,null,{"$f":"IF(A4217=\"\",\"\",IF(B4217=\"\",E4216,IF(D4217=\"\",E4216,D4217/MAX($D$8:D4217)-1)))","v":""}]
[null,null,null,null,{"$f":"IF(A4218=\"\",\"\",IF(B4218=\"\",E4217,IF(D4218=\"\",E4217,D4218/MAX($D$8:D4218)-1)))","v":""}]
[null,null,null,null,{"$f":"IF(A4219=\"\",\"\",IF(B4219=\"\",E4218,IF(D4219=\"\",E4218,D4219/MAX($D$8:D4219)-1)))","v":""}]
[null,null,null,null,{"$f":"IF(A4220=\"\",\"\",IF(B4220=\"\",E4219,IF(D4220=\"\",E4219,D4220/MAX($D$8:D4220)-1)))","v":""}]
[null,null,null,null,{"$f":"IF(A4221=\"\",\"\",IF(B4221=\"\",E4220,IF(D4221=\"\",E4220,D4221/MAX($D$8:D4221)-1)))","v":""}]
[null,null,null,null,{"$f":"IF(A4222=\"\",\"\",IF(B4222=\"\",E4221,IF(D4222=\"\",E4221,D4222/MAX($D$8:D4222)-1)))","v":""}]
[null,null,null,null,{"$f":"IF(A4223=\"\",\"\",IF(B4223=\"\",E4222,IF(D4223=\"\",E4222,D4223/MAX($D$8:D4223)-1)))","v":""}]
[null,null,null,null,{"$f":"IF(A4224=\"\",\"\",IF(B4224=\"\",E4223,IF(D4224=\"\",E4223,D4224/MAX($D$8:D4224)-1)))","v":""}]
[null,null,null,null,{"$f":"IF(A4225=\"\",\"\",IF(B4225=\"\",E4224,IF(D4225=\"\",E4224,D4225/MAX($D$8:D4225)-1)))","v":""}]
[null,null,null,null,{"$f":"IF(A4226=\"\",\"\",IF(B4226=\"\",E4225,IF(D4226=\"\",E4225,D4226/MAX($D$8:D4226)-1)))","v":""}]
[null,null,null,null,{"$f":"IF(A4227=\"\",\"\",IF(B4227=\"\",E4226,IF(D4227=\"\",E4226,D4227/MAX($D$8:D4227)-1)))","v":""}]
[null,null,null,null,{"$f":"IF(A4228=\"\",\"\",IF(B4228=\"\",E4227,IF(D4228=\"\",E4227,D4228/MAX($D$8:D4228)-1)))","v":""}]
[null,null,null,null,{"$f":"IF(A4229=\"\",\"\",IF(B4229=\"\",E4228,IF(D4229=\"\",E4228,D4229/MAX($D$8:D4229)-1)))","v":""}]
[null,null,null,null,{"$f":"IF(A4230=\"\",\"\",IF(B4230=\"\",E4229,IF(D4230=\"\",E4229,D4230/MAX($D$8:D4230)-1)))","v":""}]
[null,null,null,null,{"$f":"IF(A4231=\"\",\"\",IF(B4231=\"\",E4230,IF(D4231=\"\",E4230,D4231/MAX($D$8:D4231)-1)))","v":""}]
[null,null,null,null,{"$f":"IF(A4232=\"\",\"\",IF(B4232=\"\",E4231,IF(D4232=\"\",E4231,D4232/MAX($D$8:D4232)-1)))","v":""}]
[null,null,null,null,{"$f":"IF(A4233=\"\",\"\",IF(B4233=\"\",E4232,IF(D4233=\"\",E4232,D4233/MAX($D$8:D4233)-1)))","v":""}]
[null,null,null,null,{"$f":"IF(A4234=\"\",\"\",IF(B4234=\"\",E4233,IF(D4234=\"\",E4233,D4234/MAX($D$8:D4234)-1)))","v":""}]
[null,null,null,null,{"$f":"IF(A4235=\"\",\"\",IF(B4235=\"\",E4234,IF(D4235=\"\",E4234,D4235/MAX($D$8:D4235)-1)))","v":""}]
[null,null,null,null,{"$f":"IF(A4236=\"\",\"\",IF(B4236=\"\",E4235,IF(D4236=\"\",E4235,D4236/MAX($D$8:D4236)-1)))","v":""}]
[null,null,null,null,{"$f":"IF(A4237=\"\",\"\",IF(B4237=\"\",E4236,IF(D4237=\"\",E4236,D4237/MAX($D$8:D4237)-1)))","v":""}]
[null,null,null,null,{"$f":"IF(A4238=\"\",\"\",IF(B4238=\"\",E4237,IF(D4238=\"\",E4237,D4238/MAX($D$8:D4238)-1)))","v":""}]
[null,null,null,null,{"$f":"IF(A4239=\"\",\"\",IF(B4239=\"\",E4238,IF(D4239=\"\",E4238,D4239/MAX($D$8:D4239)-1)))","v":""}]
[null,null,null,null,{"$f":"IF(A4240=\"\",\"\",IF(B4240=\"\",E4239,IF(D4240=\"\",E4239,D4240/MAX($D$8:D4240)-1)))","v":""}]
[null,null,null,null,{"$f":"IF(A4241=\"\",\"\",IF(B4241=\"\",E4240,IF(D4241=\"\",E4240,D4241/MAX($D$8:D4241)-1)))","v":""}]
[null,null,null,null,{"$f":"IF(A4242=\"\",\"\",IF(B4242=\"\",E4241,IF(D4242=\"\",E4241,D4242/MAX($D$8:D4242)-1)))","v":""}]
[null,null,null,null,{"$f":"IF(A4243=\"\",\"\",IF(B4243=\"\",E4242,IF(D4243=\"\",E4242,D4243/MAX($D$8:D4243)-1)))","v":""}]
[null,null,null,null,{"$f":"IF(A4244=\"\",\"\",IF(B4244=\"\",E4243,IF(D4244=\"\",E4243,D4244/MAX($D$8:D4244)-1)))","v":""}]
[null,null,null,null,{"$f":"IF(A4245=\"\",\"\",IF(B4245=\"\",E4244,IF(D4245=\"\",E4244,D4245/MAX($D$8:D4245)-1)))","v":""}]
[null,null,null,null,{"$f":"IF(A4246=\"\",\"\",IF(B4246=\"\",E4245,IF(D4246=\"\",E4245,D4246/MAX($D$8:D4246)-1)))","v":""}]
[null,null,null,null,{"$f":"IF(A4247=\"\",\"\",IF(B4247=\"\",E4246,IF(D4247=\"\",E4246,D4247/MAX($D$8:D4247)-1)))","v":""}]
[null,null,null,null,{"$f":"IF(A4248=\"\",\"\",IF(B4248=\"\",E4247,IF(D4248=\"\",E4247,D4248/MAX($D$8:D4248)-1)))","v":""}]
[null,null,null,null,{"$f":"IF(A4249=\"\",\"\",IF(B4249=\"\",E4248,IF(D4249=\"\",E4248,D4249/MAX($D$8:D4249)-1)))","v":""}]
[null,null,null,null,{"$f":"IF(A4250=\"\",\"\",IF(B4250=\"\",E4249,IF(D4250=\"\",E4249,D4250/MAX($D$8:D4250)-1)))","v":""}]
[null,null,null,null,{"$f":"IF(A4251=\"\",\"\",IF(B4251=\"\",E4250,IF(D4251=\"\",E4250,D4251/MAX($D$8:D4251)-1)))","v":""}]
[null,null,null,null,{"$f":"IF(A4252=\"\",\"\",IF(B4252=\"\",E4251,IF(D4252=\"\",E4251,D4252/MAX($D$8:D4252)-1)))","v":""}]
[null,null,null,null,{"$f":"IF(A4253=\"\",\"\",IF(B4253=\"\",E4252,IF(D4253=\"\",E4252,D4253/MAX($D$8:D4253)-1)))","v":""}]
[null,null,null,null,{"$f":"IF(A4254=\"\",\"\",IF(B4254=\"\",E4253,IF(D4254=\"\",E4253,D4254/MAX($D$8:D4254)-1)))","v":""}]
[null,null,null,null,{"$f":"IF(A4255=\"\",\"\",IF(B4255=\"\",E4254,IF(D4255=\"\",E4254,D4255/MAX($D$8:D4255)-1)))","v":""}]
[null,null,null,null,{"$f":"IF(A4256=\"\",\"\",IF(B4256=\"\",E4255,IF(D4256=\"\",E4255,D4256/MAX($D$8:D4256)-1)))","v":""}]
[null,null,null,null,{"$f":"IF(A4257=\"\",\"\",IF(B4257=\"\",E4256,IF(D4257=\"\",E4256,D4257/MAX($D$8:D4257)-1)))","v":""}]
[null,null,null,null,{"$f":"IF(A4258=\"\",\"\",IF(B4258=\"\",E4257,IF(D4258=\"\",E4257,D4258/MAX($D$8:D4258)-1)))","v":""}]
[null,null,null,null,{"$f":"IF(A4259=\"\",\"\",IF(B4259=\"\",E4258,IF(D4259=\"\",E4258,D4259/MAX($D$8:D4259)-1)))","v":""}]
[null,null,null,null,{"$f":"IF(A4260=\"\",\"\",IF(B4260=\"\",E4259,IF(D4260=\"\",E4259,D4260/MAX($D$8:D4260)-1)))","v":""}]
[null,null,null,null,{"$f":"IF(A4261=\"\",\"\",IF(B4261=\"\",E4260,IF(D4261=\"\",E4260,D4261/MAX($D$8:D4261)-1)))","v":""}]
[null,null,null,null,{"$f":"IF(A4262=\"\",\"\",IF(B4262=\"\",E4261,IF(D4262=\"\",E4261,D4262/MAX($D$8:D4262)-1)))","v":""}]
[null,null,null,null,{"$f":"IF(A4263=\"\",\"\",IF(B4263=\"\",E4262,IF(D4263=\"\",E4262,D4263/MAX($D$8:D4263)-1)))","v":""}]
[null,null,null,null,{"$f":"IF(A4264=\"\",\"\",IF(B4264=\"\",E4263,IF(D4264=\"\",E4263,D4264/MAX($D$8:D4264)-1)))","v":""}]
[null,null,null,null,{"$f":"IF(A4265=\"\",\"\",IF(B4265=\"\",E4264,IF(D4265=\"\",E4264,D4265/MAX($D$8:D4265)-1)))","v":""}]
[null,null,null,null,{"$f":"IF(A4266=\"\",\"\",IF(B4266=\"\",E4265,IF(D4266=\"\",E4265,D4266/MAX($D$8:D4266)-1)))","v":""}]
[null,null,null,null,{"$f":"IF(A4267=\"\",\"\",IF(B4267=\"\",E4266,IF(D4267=\"\",E4266,D4267/MAX($D$8:D4267)-1)))","v":""}]
[null,null,null,null,{"$f":"IF(A4268=\"\",\"\",IF(B4268=\"\",E4267,IF(D4268=\"\",E4267,D4268/MAX($D$8:D4268)-1)))","v":""}]
[null,null,null,null,{"$f":"IF(A4269=\"\",\"\",IF(B4269=\"\",E4268,IF(D4269=\"\",E4268,D4269/MAX($D$8:D4269)-1)))","v":""}]
[null,null,null,null,{"$f":"IF(A4270=\"\",\"\",IF(B4270=\"\",E4269,IF(D4270=\"\",E4269,D4270/MAX($D$8:D4270)-1)))","v":""}]
[null,null,null,null,{"$f":"IF(A4271=\"\",\"\",IF(B4271=\"\",E4270,IF(D4271=\"\",E4270,D4271/MAX($D$8:D4271)-1)))","v":""}]
[null,null,null,null,{"$f":"IF(A4272=\"\",\"\",IF(B4272=\"\",E4271,IF(D4272=\"\",E4271,D4272/MAX($D$8:D4272)-1)))","v":""}]
[null,null,null,null,{"$f":"IF(A4273=\"\",\"\",IF(B4273=\"\",E4272,IF(D4273=\"\",E4272,D4273/MAX($D$8:D4273)-1)))","v":""}]
[null,null,null,null,{"$f":"IF(A4274=\"\",\"\",IF(B4274=\"\",E4273,IF(D4274=\"\",E4273,D4274/MAX($D$8:D4274)-1)))","v":""}]
[null,null,null,null,{"$f":"IF(A4275=\"\",\"\",IF(B4275=\"\",E4274,IF(D4275=\"\",E4274,D4275/MAX($D$8:D4275)-1)))","v":""}]
[null,null,null,null,{"$f":"IF(A4276=\"\",\"\",IF(B4276=\"\",E4275,IF(D4276=\"\",E4275,D4276/MAX($D$8:D4276)-1)))","v":""}]
[null,null,null,null,{"$f":"IF(A4277=\"\",\"\",IF(B4277=\"\",E4276,IF(D4277=\"\",E4276,D4277/MAX($D$8:D4277)-1)))","v":""}]
[null,null,null,null,{"$f":"IF(A4278=\"\",\"\",IF(B4278=\"\",E4277,IF(D4278=\"\",E4277,D4278/MAX($D$8:D4278)-1)))","v":""}]
[null,null,null,null,{"$f":"IF(A4279=\"\",\"\",IF(B4279=\"\",E4278,IF(D4279=\"\",E4278,D4279/MAX($D$8:D4279)-1)))","v":""}]
[null,null,null,null,{"$f":"IF(A4280=\"\",\"\",IF(B4280=\"\",E4279,IF(D4280=\"\",E4279,D4280/MAX($D$8:D4280)-1)))","v":""}]
[null,null,null,null,{"$f":"IF(A4281=\"\",\"\",IF(B4281=\"\",E4280,IF(D4281=\"\",E4280,D4281/MAX($D$8:D4281)-1)))","v":""}]
[null,null,null,null,{"$f":"IF(A4282=\"\",\"\",IF(B4282=\"\",E4281,IF(D4282=\"\",E4281,D4282/MAX($D$8:D4282)-1)))","v":""}]
[null,null,null,null,{"$f":"IF(A4283=\"\",\"\",IF(B4283=\"\",E4282,IF(D4283=\"\",E4282,D4283/MAX($D$8:D4283)-1)))","v":""}]
[null,null,null,null,{"$f":"IF(A4284=\"\",\"\",IF(B4284=\"\",E4283,IF(D4284=\"\",E4283,D4284/MAX($D$8:D4284)-1)))","v":""}]
[null,null,null,null,{"$f":"IF(A4285=\"\",\"\",IF(B4285=\"\",E4284,IF(D4285=\"\",E4284,D4285/MAX($D$8:D4285)-1)))","v":""}]
[null,null,null,null,{"$f":"IF(A4286=\"\",\"\",IF(B4286=\"\",E4285,IF(D4286=\"\",E4285,D4286/MAX($D$8:D4286)-1)))","v":""}]
[null,null,null,null,{"$f":"IF(A4287=\"\",\"\",IF(B4287=\"\",E4286,IF(D4287=\"\",E4286,D4287/MAX($D$8:D4287)-1)))","v":""}]
[null,null,null,null,{"$f":"IF(A4288=\"\",\"\",IF(B4288=\"\",E4287,IF(D4288=\"\",E4287,D4288/MAX($D$8:D4288)-1)))","v":""}]
[null,null,null,null,{"$f":"IF(A4289=\"\",\"\",IF(B4289=\"\",E4288,IF(D4289=\"\",E4288,D4289/MAX($D$8:D4289)-1)))","v":""}]
[null,null,null,null,{"$f":"IF(A4290=\"\",\"\",IF(B4290=\"\",E4289,IF(D4290=\"\",E4289,D4290/MAX($D$8:D4290)-1)))","v":""}]
[null,null,null,null,{"$f":"IF(A4291=\"\",\"\",IF(B4291=\"\",E4290,IF(D4291=\"\",E4290,D4291/MAX($D$8:D4291)-1)))","v":""}]
[null,null,null,null,{"$f":"IF(A4292=\"\",\"\",IF(B4292=\"\",E4291,IF(D4292=\"\",E4291,D4292/MAX($D$8:D4292)-1)))","v":""}]
[null,null,null,null,{"$f":"IF(A4293=\"\",\"\",IF(B4293=\"\",E4292,IF(D4293=\"\",E4292,D4293/MAX($D$8:D4293)-1)))","v":""}]
[null,null,null,null,{"$f":"IF(A4294=\"\",\"\",IF(B4294=\"\",E4293,IF(D4294=\"\",E4293,D4294/MAX($D$8:D4294)-1)))","v":""}]
[null,null,null,null,{"$f":"IF(A4295=\"\",\"\",IF(B4295=\"\",E4294,IF(D4295=\"\",E4294,D4295/MAX($D$8:D4295)-1)))","v":""}]
[null,null,null,null,{"$f":"IF(A4296=\"\",\"\",IF(B4296=\"\",E4295,IF(D4296=\"\",E4295,D4296/MAX($D$8:D4296)-1)))","v":""}]
[null,null,null,null,{"$f":"IF(A4297=\"\",\"\",IF(B4297=\"\",E4296,IF(D4297=\"\",E4296,D4297/MAX($D$8:D4297)-1)))","v":""}]
[null,null,null,null,{"$f":"IF(A4298=\"\",\"\",IF(B4298=\"\",E4297,IF(D4298=\"\",E4297,D4298/MAX($D$8:D4298)-1)))","v":""}]
[null,null,null,null,{"$f":"IF(A4299=\"\",\"\",IF(B4299=\"\",E4298,IF(D4299=\"\",E4298,D4299/MAX($D$8:D4299)-1)))","v":""}]
[null,null,null,null,{"$f":"IF(A4300=\"\",\"\",IF(B4300=\"\",E4299,IF(D4300=\"\",E4299,D4300/MAX($D$8:D4300)-1)))","v":""}]
[null,null,null,null,{"$f":"IF(A4301=\"\",\"\",IF(B4301=\"\",E4300,IF(D4301=\"\",E4300,D4301/MAX($D$8:D4301)-1)))","v":""}]
[null,null,null,null,{"$f":"IF(A4302=\"\",\"\",IF(B4302=\"\",E4301,IF(D4302=\"\",E4301,D4302/MAX($D$8:D4302)-1)))","v":""}]
[null,null,null,null,{"$f":"IF(A4303=\"\",\"\",IF(B4303=\"\",E4302,IF(D4303=\"\",E4302,D4303/MAX($D$8:D4303)-1)))","v":""}]
[null,null,null,null,{"$f":"IF(A4304=\"\",\"\",IF(B4304=\"\",E4303,IF(D4304=\"\",E4303,D4304/MAX($D$8:D4304)-1)))","v":""}]
[null,null,null,null,{"$f":"IF(A4305=\"\",\"\",IF(B4305=\"\",E4304,IF(D4305=\"\",E4304,D4305/MAX($D$8:D4305)-1)))","v":""}]
[null,null,null,null,{"$f":"IF(A4306=\"\",\"\",IF(B4306=\"\",E4305,IF(D4306=\"\",E4305,D4306/MAX($D$8:D4306)-1)))","v":""}]
[null,null,null,null,{"$f":"IF(A4307=\"\",\"\",IF(B4307=\"\",E4306,IF(D4307=\"\",E4306,D4307/MAX($D$8:D4307)-1)))","v":""}]
[null,null,null,null,{"$f":"IF(A4308=\"\",\"\",IF(B4308=\"\",E4307,IF(D4308=\"\",E4307,D4308/MAX($D$8:D4308)-1)))","v":""}]
[null,null,null,null,{"$f":"IF(A4309=\"\",\"\",IF(B4309=\"\",E4308,IF(D4309=\"\",E4308,D4309/MAX($D$8:D4309)-1)))","v":""}]
[null,null,null,null,{"$f":"IF(A4310=\"\",\"\",IF(B4310=\"\",E4309,IF(D4310=\"\",E4309,D4310/MAX($D$8:D4310)-1)))","v":""}]
[null,null,null,null,{"$f":"IF(A4311=\"\",\"\",IF(B4311=\"\",E4310,IF(D4311=\"\",E4310,D4311/MAX($D$8:D4311)-1)))","v":""}]
[null,null,null,null,{"$f":"IF(A4312=\"\",\"\",IF(B4312=\"\",E4311,IF(D4312=\"\",E4311,D4312/MAX($D$8:D4312)-1)))","v":""}]
[null,null,null,null,{"$f":"IF(A4313=\"\",\"\",IF(B4313=\"\",E4312,IF(D4313=\"\",E4312,D4313/MAX($D$8:D4313)-1)))","v":""}]
[null,null,null,null,{"$f":"IF(A4314=\"\",\"\",IF(B4314=\"\",E4313,IF(D4314=\"\",E4313,D4314/MAX($D$8:D4314)-1)))","v":""}]
[null,null,null,null,{"$f":"IF(A4315=\"\",\"\",IF(B4315=\"\",E4314,IF(D4315=\"\",E4314,D4315/MAX($D$8:D4315)-1)))","v":""}]
[null,null,null,null,{"$f":"IF(A4316=\"\",\"\",IF(B4316=\"\",E4315,IF(D4316=\"\",E4315,D4316/MAX($D$8:D4316)-1)))","v":""}]
[null,null,null,null,{"$f":"IF(A4317=\"\",\"\",IF(B4317=\"\",E4316,IF(D4317=\"\",E4316,D4317/MAX($D$8:D4317)-1)))","v":""}]
[null,null,null,null,{"$f":"IF(A4318=\"\",\"\",IF(B4318=\"\",E4317,IF(D4318=\"\",E4317,D4318/MAX($D$8:D4318)-1)))","v":""}]
[null,null,null,null,{"$f":"IF(A4319=\"\",\"\",IF(B4319=\"\",E4318,IF(D4319=\"\",E4318,D4319/MAX($D$8:D4319)-1)))","v":""}]
[null,null,null,null,{"$f":"IF(A4320=\"\",\"\",IF(B4320=\"\",E4319,IF(D4320=\"\",E4319,D4320/MAX($D$8:D4320)-1)))","v":""}]
[null,null,null,null,{"$f":"IF(A4321=\"\",\"\",IF(B4321=\"\",E4320,IF(D4321=\"\",E4320,D4321/MAX($D$8:D4321)-1)))","v":""}]
[null,null,null,null,{"$f":"IF(A4322=\"\",\"\",IF(B4322=\"\",E4321,IF(D4322=\"\",E4321,D4322/MAX($D$8:D4322)-1)))","v":""}]
[null,null,null,null,{"$f":"IF(A4323=\"\",\"\",IF(B4323=\"\",E4322,IF(D4323=\"\",E4322,D4323/MAX($D$8:D4323)-1)))","v":""}]
[null,null,null,null,{"$f":"IF(A4324=\"\",\"\",IF(B4324=\"\",E4323,IF(D4324=\"\",E4323,D4324/MAX($D$8:D4324)-1)))","v":""}]
[null,null,null,null,{"$f":"IF(A4325=\"\",\"\",IF(B4325=\"\",E4324,IF(D4325=\"\",E4324,D4325/MAX($D$8:D4325)-1)))","v":""}]
[null,null,null,null,{"$f":"IF(A4326=\"\",\"\",IF(B4326=\"\",E4325,IF(D4326=\"\",E4325,D4326/MAX($D$8:D4326)-1)))","v":""}]
[null,null,null,null,{"$f":"IF(A4327=\"\",\"\",IF(B4327=\"\",E4326,IF(D4327=\"\",E4326,D4327/MAX($D$8:D4327)-1)))","v":""}]
[null,null,null,null,{"$f":"IF(A4328=\"\",\"\",IF(B4328=\"\",E4327,IF(D4328=\"\",E4327,D4328/MAX($D$8:D4328)-1)))","v":""}]
[null,null,null,null,{"$f":"IF(A4329=\"\",\"\",IF(B4329=\"\",E4328,IF(D4329=\"\",E4328,D4329/MAX($D$8:D4329)-1)))","v":""}]
[null,null,null,null,{"$f":"IF(A4330=\"\",\"\",IF(B4330=\"\",E4329,IF(D4330=\"\",E4329,D4330/MAX($D$8:D4330)-1)))","v":""}]
[null,null,null,null,{"$f":"IF(A4331=\"\",\"\",IF(B4331=\"\",E4330,IF(D4331=\"\",E4330,D4331/MAX($D$8:D4331)-1)))","v":""}]
[null,null,null,null,{"$f":"IF(A4332=\"\",\"\",IF(B4332=\"\",E4331,IF(D4332=\"\",E4331,D4332/MAX($D$8:D4332)-1)))","v":""}]
[null,null,null,null,{"$f":"IF(A4333=\"\",\"\",IF(B4333=\"\",E4332,IF(D4333=\"\",E4332,D4333/MAX($D$8:D4333)-1)))","v":""}]
[null,null,null,null,{"$f":"IF(A4334=\"\",\"\",IF(B4334=\"\",E4333,IF(D4334=\"\",E4333,D4334/MAX($D$8:D4334)-1)))","v":""}]
[null,null,null,null,{"$f":"IF(A4335=\"\",\"\",IF(B4335=\"\",E4334,IF(D4335=\"\",E4334,D4335/MAX($D$8:D4335)-1)))","v":""}]
[null,null,null,null,{"$f":"IF(A4336=\"\",\"\",IF(B4336=\"\",E4335,IF(D4336=\"\",E4335,D4336/MAX($D$8:D4336)-1)))","v":""}]
[null,null,null,null,{"$f":"IF(A4337=\"\",\"\",IF(B4337=\"\",E4336,IF(D4337=\"\",E4336,D4337/MAX($D$8:D4337)-1)))","v":""}]
[null,null,null,null,{"$f":"IF(A4338=\"\",\"\",IF(B4338=\"\",E4337,IF(D4338=\"\",E4337,D4338/MAX($D$8:D4338)-1)))","v":""}]
[null,null,null,null,{"$f":"IF(A4339=\"\",\"\",IF(B4339=\"\",E4338,IF(D4339=\"\",E4338,D4339/MAX($D$8:D4339)-1)))","v":""}]
[null,null,null,null,{"$f":"IF(A4340=\"\",\"\",IF(B4340=\"\",E4339,IF(D4340=\"\",E4339,D4340/MAX($D$8:D4340)-1)))","v":""}]
[null,null,null,null,{"$f":"IF(A4341=\"\",\"\",IF(B4341=\"\",E4340,IF(D4341=\"\",E4340,D4341/MAX($D$8:D4341)-1)))","v":""}]
[null,null,null,null,{"$f":"IF(A4342=\"\",\"\",IF(B4342=\"\",E4341,IF(D4342=\"\",E4341,D4342/MAX($D$8:D4342)-1)))","v":""}]
[null,null,null,null,{"$f":"IF(A4343=\"\",\"\",IF(B4343=\"\",E4342,IF(D4343=\"\",E4342,D4343/MAX($D$8:D4343)-1)))","v":""}]
[null,null,null,null,{"$f":"IF(A4344=\"\",\"\",IF(B4344=\"\",E4343,IF(D4344=\"\",E4343,D4344/MAX($D$8:D4344)-1)))","v":""}]
[null,null,null,null,{"$f":"IF(A4345=\"\",\"\",IF(B4345=\"\",E4344,IF(D4345=\"\",E4344,D4345/MAX($D$8:D4345)-1)))","v":""}]
[null,null,null,null,{"$f":"IF(A4346=\"\",\"\",IF(B4346=\"\",E4345,IF(D4346=\"\",E4345,D4346/MAX($D$8:D4346)-1)))","v":""}]
[null,null,null,null,{"$f":"IF(A4347=\"\",\"\",IF(B4347=\"\",E4346,IF(D4347=\"\",E4346,D4347/MAX($D$8:D4347)-1)))","v":""}]
[null,null,null,null,{"$f":"IF(A4348=\"\",\"\",IF(B4348=\"\",E4347,IF(D4348=\"\",E4347,D4348/MAX($D$8:D4348)-1)))","v":""}]
[null,null,null,null,{"$f":"IF(A4349=\"\",\"\",IF(B4349=\"\",E4348,IF(D4349=\"\",E4348,D4349/MAX($D$8:D4349)-1)))","v":""}]
[null,null,null,null,{"$f":"IF(A4350=\"\",\"\",IF(B4350=\"\",E4349,IF(D4350=\"\",E4349,D4350/MAX($D$8:D4350)-1)))","v":""}]
[null,null,null,null,{"$f":"IF(A4351=\"\",\"\",IF(B4351=\"\",E4350,IF(D4351=\"\",E4350,D4351/MAX($D$8:D4351)-1)))","v":""}]
[null,null,null,null,{"$f":"IF(A4352=\"\",\"\",IF(B4352=\"\",E4351,IF(D4352=\"\",E4351,D4352/MAX($D$8:D4352)-1)))","v":""}]
[null,null,null,null,{"$f":"IF(A4353=\"\",\"\",IF(B4353=\"\",E4352,IF(D4353=\"\",E4352,D4353/MAX($D$8:D4353)-1)))","v":""}]
[null,null,null,null,{"$f":"IF(A4354=\"\",\"\",IF(B4354=\"\",E4353,IF(D4354=\"\",E4353,D4354/MAX($D$8:D4354)-1)))","v":""}]
[null,null,null,null,{"$f":"IF(A4355=\"\",\"\",IF(B4355=\"\",E4354,IF(D4355=\"\",E4354,D4355/MAX($D$8:D4355)-1)))","v":""}]
[null,null,null,null,{"$f":"IF(A4356=\"\",\"\",IF(B4356=\"\",E4355,IF(D4356=\"\",E4355,D4356/MAX($D$8:D4356)-1)))","v":""}]
[null,null,null,null,{"$f":"IF(A4357=\"\",\"\",IF(B4357=\"\",E4356,IF(D4357=\"\",E4356,D4357/MAX($D$8:D4357)-1)))","v":""}]
[null,null,null,null,{"$f":"IF(A4358=\"\",\"\",IF(B4358=\"\",E4357,IF(D4358=\"\",E4357,D4358/MAX($D$8:D4358)-1)))","v":""}]
[null,null,null,null,{"$f":"IF(A4359=\"\",\"\",IF(B4359=\"\",E4358,IF(D4359=\"\",E4358,D4359/MAX($D$8:D4359)-1)))","v":""}]
[null,null,null,null,{"$f":"IF(A4360=\"\",\"\",IF(B4360=\"\",E4359,IF(D4360=\"\",E4359,D4360/MAX($D$8:D4360)-1)))","v":""}]
[null,null,null,null,{"$f":"IF(A4361=\"\",\"\",IF(B4361=\"\",E4360,IF(D4361=\"\",E4360,D4361/MAX($D$8:D4361)-1)))","v":""}]
[null,null,null,null,{"$f":"IF(A4362=\"\",\"\",IF(B4362=\"\",E4361,IF(D4362=\"\",E4361,D4362/MAX($D$8:D4362)-1)))","v":""}]
[null,null,null,null,{"$f":"IF(A4363=\"\",\"\",IF(B4363=\"\",E4362,IF(D4363=\"\",E4362,D4363/MAX($D$8:D4363)-1)))","v":""}]
[null,null,null,null,{"$f":"IF(A4364=\"\",\"\",IF(B4364=\"\",E4363,IF(D4364=\"\",E4363,D4364/MAX($D$8:D4364)-1)))","v":""}]
[null,null,null,null,{"$f":"IF(A4365=\"\",\"\",IF(B4365=\"\",E4364,IF(D4365=\"\",E4364,D4365/MAX($D$8:D4365)-1)))","v":""}]
[null,null,null,null,{"$f":"IF(A4366=\"\",\"\",IF(B4366=\"\",E4365,IF(D4366=\"\",E4365,D4366/MAX($D$8:D4366)-1)))","v":""}]
[null,null,null,null,{"$f":"IF(A4367=\"\",\"\",IF(B4367=\"\",E4366,IF(D4367=\"\",E4366,D4367/MAX($D$8:D4367)-1)))","v":""}]
[null,null,null,null,{"$f":"IF(A4368=\"\",\"\",IF(B4368=\"\",E4367,IF(D4368=\"\",E4367,D4368/MAX($D$8:D4368)-1)))","v":""}]
[null,null,null,null,{"$f":"IF(A4369=\"\",\"\",IF(B4369=\"\",E4368,IF(D4369=\"\",E4368,D4369/MAX($D$8:D4369)-1)))","v":""}]
[null,null,null,null,{"$f":"IF(A4370=\"\",\"\",IF(B4370=\"\",E4369,IF(D4370=\"\",E4369,D4370/MAX($D$8:D4370)-1)))","v":""}]
[null,null,null,null,{"$f":"IF(A4371=\"\",\"\",IF(B4371=\"\",E4370,IF(D4371=\"\",E4370,D4371/MAX($D$8:D4371)-1)))","v":""}]
[null,null,null,null,{"$f":"IF(A4372=\"\",\"\",IF(B4372=\"\",E4371,IF(D4372=\"\",E4371,D4372/MAX($D$8:D4372)-1)))","v":""}]
[null,null,null,null,{"$f":"IF(A4373=\"\",\"\",IF(B4373=\"\",E4372,IF(D4373=\"\",E4372,D4373/MAX($D$8:D4373)-1)))","v":""}]
[null,null,null,null,{"$f":"IF(A4374=\"\",\"\",IF(B4374=\"\",E4373,IF(D4374=\"\",E4373,D4374/MAX($D$8:D4374)-1)))","v":""}]
[null,null,null,null,{"$f":"IF(A4375=\"\",\"\",IF(B4375=\"\",E4374,IF(D4375=\"\",E4374,D4375/MAX($D$8:D4375)-1)))","v":""}]
[null,null,null,null,{"$f":"IF(A4376=\"\",\"\",IF(B4376=\"\",E4375,IF(D4376=\"\",E4375,D4376/MAX($D$8:D4376)-1)))","v":""}]
[null,null,null,null,{"$f":"IF(A4377=\"\",\"\",IF(B4377=\"\",E4376,IF(D4377=\"\",E4376,D4377/MAX($D$8:D4377)-1)))","v":""}]
[null,null,null,null,{"$f":"IF(A4378=\"\",\"\",IF(B4378=\"\",E4377,IF(D4378=\"\",E4377,D4378/MAX($D$8:D4378)-1)))","v":""}]
[null,null,null,null,{"$f":"IF(A4379=\"\",\"\",IF(B4379=\"\",E4378,IF(D4379=\"\",E4378,D4379/MAX($D$8:D4379)-1)))","v":""}]
[null,null,null,null,{"$f":"IF(A4380=\"\",\"\",IF(B4380=\"\",E4379,IF(D4380=\"\",E4379,D4380/MAX($D$8:D4380)-1)))","v":""}]
[null,null,null,null,{"$f":"IF(A4381=\"\",\"\",IF(B4381=\"\",E4380,IF(D4381=\"\",E4380,D4381/MAX($D$8:D4381)-1)))","v":""}]
[null,null,null,null,{"$f":"IF(A4382=\"\",\"\",IF(B4382=\"\",E4381,IF(D4382=\"\",E4381,D4382/MAX($D$8:D4382)-1)))","v":""}]
[null,null,null,null,{"$f":"IF(A4383=\"\",\"\",IF(B4383=\"\",E4382,IF(D4383=\"\",E4382,D4383/MAX($D$8:D4383)-1)))","v":""}]
[null,null,null,null,{"$f":"IF(A4384=\"\",\"\",IF(B4384=\"\",E4383,IF(D4384=\"\",E4383,D4384/MAX($D$8:D4384)-1)))","v":""}]
[null,null,null,null,{"$f":"IF(A4385=\"\",\"\",IF(B4385=\"\",E4384,IF(D4385=\"\",E4384,D4385/MAX($D$8:D4385)-1)))","v":""}]
[null,null,null,null,{"$f":"IF(A4386=\"\",\"\",IF(B4386=\"\",E4385,IF(D4386=\"\",E4385,D4386/MAX($D$8:D4386)-1)))","v":""}]
[null,null,null,null,{"$f":"IF(A4387=\"\",\"\",IF(B4387=\"\",E4386,IF(D4387=\"\",E4386,D4387/MAX($D$8:D4387)-1)))","v":""}]
[null,null,null,null,{"$f":"IF(A4388=\"\",\"\",IF(B4388=\"\",E4387,IF(D4388=\"\",E4387,D4388/MAX($D$8:D4388)-1)))","v":""}]
[null,null,null,null,{"$f":"IF(A4389=\"\",\"\",IF(B4389=\"\",E4388,IF(D4389=\"\",E4388,D4389/MAX($D$8:D4389)-1)))","v":""}]
[null,null,null,null,{"$f":"IF(A4390=\"\",\"\",IF(B4390=\"\",E4389,IF(D4390=\"\",E4389,D4390/MAX($D$8:D4390)-1)))","v":""}]
[null,null,null,null,{"$f":"IF(A4391=\"\",\"\",IF(B4391=\"\",E4390,IF(D4391=\"\",E4390,D4391/MAX($D$8:D4391)-1)))","v":""}]
[null,null,null,null,{"$f":"IF(A4392=\"\",\"\",IF(B4392=\"\",E4391,IF(D4392=\"\",E4391,D4392/MAX($D$8:D4392)-1)))","v":""}]
[null,null,null,null,{"$f":"IF(A4393=\"\",\"\",IF(B4393=\"\",E4392,IF(D4393=\"\",E4392,D4393/MAX($D$8:D4393)-1)))","v":""}]
[null,null,null,null,{"$f":"IF(A4394=\"\",\"\",IF(B4394=\"\",E4393,IF(D4394=\"\",E4393,D4394/MAX($D$8:D4394)-1)))","v":""}]
[null,null,null,null,{"$f":"IF(A4395=\"\",\"\",IF(B4395=\"\",E4394,IF(D4395=\"\",E4394,D4395/MAX($D$8:D4395)-1)))","v":""}]
[null,null,null,null,{"$f":"IF(A4396=\"\",\"\",IF(B4396=\"\",E4395,IF(D4396=\"\",E4395,D4396/MAX($D$8:D4396)-1)))","v":""}]
[null,null,null,null,{"$f":"IF(A4397=\"\",\"\",IF(B4397=\"\",E4396,IF(D4397=\"\",E4396,D4397/MAX($D$8:D4397)-1)))","v":""}]
[null,null,null,null,{"$f":"IF(A4398=\"\",\"\",IF(B4398=\"\",E4397,IF(D4398=\"\",E4397,D4398/MAX($D$8:D4398)-1)))","v":""}]
[null,null,null,null,{"$f":"IF(A4399=\"\",\"\",IF(B4399=\"\",E4398,IF(D4399=\"\",E4398,D4399/MAX($D$8:D4399)-1)))","v":""}]
[null,null,null,null,{"$f":"IF(A4400=\"\",\"\",IF(B4400=\"\",E4399,IF(D4400=\"\",E4399,D4400/MAX($D$8:D4400)-1)))","v":""}]
[null,null,null,null,{"$f":"IF(A4401=\"\",\"\",IF(B4401=\"\",E4400,IF(D4401=\"\",E4400,D4401/MAX($D$8:D4401)-1)))","v":""}]
[null,null,null,null,{"$f":"IF(A4402=\"\",\"\",IF(B4402=\"\",E4401,IF(D4402=\"\",E4401,D4402/MAX($D$8:D4402)-1)))","v":""}]
[null,null,null,null,{"$f":"IF(A4403=\"\",\"\",IF(B4403=\"\",E4402,IF(D4403=\"\",E4402,D4403/MAX($D$8:D4403)-1)))","v":""}]
[null,null,null,null,{"$f":"IF(A4404=\"\",\"\",IF(B4404=\"\",E4403,IF(D4404=\"\",E4403,D4404/MAX($D$8:D4404)-1)))","v":""}]
[null,null,null,null,{"$f":"IF(A4405=\"\",\"\",IF(B4405=\"\",E4404,IF(D4405=\"\",E4404,D4405/MAX($D$8:D4405)-1)))","v":""}]
[null,null,null,null,{"$f":"IF(A4406=\"\",\"\",IF(B4406=\"\",E4405,IF(D4406=\"\",E4405,D4406/MAX($D$8:D4406)-1)))","v":""}]
[null,null,null,null,{"$f":"IF(A4407=\"\",\"\",IF(B4407=\"\",E4406,IF(D4407=\"\",E4406,D4407/MAX($D$8:D4407)-1)))","v":""}]
[null,null,null,null,{"$f":"IF(A4408=\"\",\"\",IF(B4408=\"\",E4407,IF(D4408=\"\",E4407,D4408/MAX($D$8:D4408)-1)))","v":""}]
[null,null,null,null,{"$f":"IF(A4409=\"\",\"\",IF(B4409=\"\",E4408,IF(D4409=\"\",E4408,D4409/MAX($D$8:D4409)-1)))","v":""}]
[null,null,null,null,{"$f":"IF(A4410=\"\",\"\",IF(B4410=\"\",E4409,IF(D4410=\"\",E4409,D4410/MAX($D$8:D4410)-1)))","v":""}]
[null,null,null,null,{"$f":"IF(A4411=\"\",\"\",IF(B4411=\"\",E4410,IF(D4411=\"\",E4410,D4411/MAX($D$8:D4411)-1)))","v":""}]
[null,null,null,null,{"$f":"IF(A4412=\"\",\"\",IF(B4412=\"\",E4411,IF(D4412=\"\",E4411,D4412/MAX($D$8:D4412)-1)))","v":""}]
[null,null,null,null,{"$f":"IF(A4413=\"\",\"\",IF(B4413=\"\",E4412,IF(D4413=\"\",E4412,D4413/MAX($D$8:D4413)-1)))","v":""}]
[null,null,null,null,{"$f":"IF(A4414=\"\",\"\",IF(B4414=\"\",E4413,IF(D4414=\"\",E4413,D4414/MAX($D$8:D4414)-1)))","v":""}]
[null,null,null,null,{"$f":"IF(A4415=\"\",\"\",IF(B4415=\"\",E4414,IF(D4415=\"\",E4414,D4415/MAX($D$8:D4415)-1)))","v":""}]
[null,null,null,null,{"$f":"IF(A4416=\"\",\"\",IF(B4416=\"\",E4415,IF(D4416=\"\",E4415,D4416/MAX($D$8:D4416)-1)))","v":""}]
[null,null,null,null,{"$f":"IF(A4417=\"\",\"\",IF(B4417=\"\",E4416,IF(D4417=\"\",E4416,D4417/MAX($D$8:D4417)-1)))","v":""}]
[null,null,null,null,{"$f":"IF(A4418=\"\",\"\",IF(B4418=\"\",E4417,IF(D4418=\"\",E4417,D4418/MAX($D$8:D4418)-1)))","v":""}]
[null,null,null,null,{"$f":"IF(A4419=\"\",\"\",IF(B4419=\"\",E4418,IF(D4419=\"\",E4418,D4419/MAX($D$8:D4419)-1)))","v":""}]
[null,null,null,null,{"$f":"IF(A4420=\"\",\"\",IF(B4420=\"\",E4419,IF(D4420=\"\",E4419,D4420/MAX($D$8:D4420)-1)))","v":""}]
[null,null,null,null,{"$f":"IF(A4421=\"\",\"\",IF(B4421=\"\",E4420,IF(D4421=\"\",E4420,D4421/MAX($D$8:D4421)-1)))","v":""}]
[null,null,null,null,{"$f":"IF(A4422=\"\",\"\",IF(B4422=\"\",E4421,IF(D4422=\"\",E4421,D4422/MAX($D$8:D4422)-1)))","v":""}]
[null,null,null,null,{"$f":"IF(A4423=\"\",\"\",IF(B4423=\"\",E4422,IF(D4423=\"\",E4422,D4423/MAX($D$8:D4423)-1)))","v":""}]
[null,null,null,null,{"$f":"IF(A4424=\"\",\"\",IF(B4424=\"\",E4423,IF(D4424=\"\",E4423,D4424/MAX($D$8:D4424)-1)))","v":""}]
[null,null,null,null,{"$f":"IF(A4425=\"\",\"\",IF(B4425=\"\",E4424,IF(D4425=\"\",E4424,D4425/MAX($D$8:D4425)-1)))","v":""}]
[null,null,null,null,{"$f":"IF(A4426=\"\",\"\",IF(B4426=\"\",E4425,IF(D4426=\"\",E4425,D4426/MAX($D$8:D4426)-1)))","v":""}]
[null,null,null,null,{"$f":"IF(A4427=\"\",\"\",IF(B4427=\"\",E4426,IF(D4427=\"\",E4426,D4427/MAX($D$8:D4427)-1)))","v":""}]
[null,null,null,null,{"$f":"IF(A4428=\"\",\"\",IF(B4428=\"\",E4427,IF(D4428=\"\",E4427,D4428/MAX($D$8:D4428)-1)))","v":""}]
[null,null,null,null,{"$f":"IF(A4429=\"\",\"\",IF(B4429=\"\",E4428,IF(D4429=\"\",E4428,D4429/MAX($D$8:D4429)-1)))","v":""}]
[null,null,null,null,{"$f":"IF(A4430=\"\",\"\",IF(B4430=\"\",E4429,IF(D4430=\"\",E4429,D4430/MAX($D$8:D4430)-1)))","v":""}]
[null,null,null,null,{"$f":"IF(A4431=\"\",\"\",IF(B4431=\"\",E4430,IF(D4431=\"\",E4430,D4431/MAX($D$8:D4431)-1)))","v":""}]
[null,null,null,null,{"$f":"IF(A4432=\"\",\"\",IF(B4432=\"\",E4431,IF(D4432=\"\",E4431,D4432/MAX($D$8:D4432)-1)))","v":""}]
[null,null,null,null,{"$f":"IF(A4433=\"\",\"\",IF(B4433=\"\",E4432,IF(D4433=\"\",E4432,D4433/MAX($D$8:D4433)-1)))","v":""}]
[null,null,null,null,{"$f":"IF(A4434=\"\",\"\",IF(B4434=\"\",E4433,IF(D4434=\"\",E4433,D4434/MAX($D$8:D4434)-1)))","v":""}]
[null,null,null,null,{"$f":"IF(A4435=\"\",\"\",IF(B4435=\"\",E4434,IF(D4435=\"\",E4434,D4435/MAX($D$8:D4435)-1)))","v":""}]
[null,null,null,null,{"$f":"IF(A4436=\"\",\"\",IF(B4436=\"\",E4435,IF(D4436=\"\",E4435,D4436/MAX($D$8:D4436)-1)))","v":""}]
[null,null,null,null,{"$f":"IF(A4437=\"\",\"\",IF(B4437=\"\",E4436,IF(D4437=\"\",E4436,D4437/MAX($D$8:D4437)-1)))","v":""}]
[null,null,null,null,{"$f":"IF(A4438=\"\",\"\",IF(B4438=\"\",E4437,IF(D4438=\"\",E4437,D4438/MAX($D$8:D4438)-1)))","v":""}]
[null,null,null,null,{"$f":"IF(A4439=\"\",\"\",IF(B4439=\"\",E4438,IF(D4439=\"\",E4438,D4439/MAX($D$8:D4439)-1)))","v":""}]
[null,null,null,null,{"$f":"IF(A4440=\"\",\"\",IF(B4440=\"\",E4439,IF(D4440=\"\",E4439,D4440/MAX($D$8:D4440)-1)))","v":""}]
[null,null,null,null,{"$f":"IF(A4441=\"\",\"\",IF(B4441=\"\",E4440,IF(D4441=\"\",E4440,D4441/MAX($D$8:D4441)-1)))","v":""}]
[null,null,null,null,{"$f":"IF(A4442=\"\",\"\",IF(B4442=\"\",E4441,IF(D4442=\"\",E4441,D4442/MAX($D$8:D4442)-1)))","v":""}]
[null,null,null,null,{"$f":"IF(A4443=\"\",\"\",IF(B4443=\"\",E4442,IF(D4443=\"\",E4442,D4443/MAX($D$8:D4443)-1)))","v":""}]
[null,null,null,null,{"$f":"IF(A4444=\"\",\"\",IF(B4444=\"\",E4443,IF(D4444=\"\",E4443,D4444/MAX($D$8:D4444)-1)))","v":""}]
[null,null,null,null,{"$f":"IF(A4445=\"\",\"\",IF(B4445=\"\",E4444,IF(D4445=\"\",E4444,D4445/MAX($D$8:D4445)-1)))","v":""}]
[null,null,null,null,{"$f":"IF(A4446=\"\",\"\",IF(B4446=\"\",E4445,IF(D4446=\"\",E4445,D4446/MAX($D$8:D4446)-1)))","v":""}]
[null,null,null,null,{"$f":"IF(A4447=\"\",\"\",IF(B4447=\"\",E4446,IF(D4447=\"\",E4446,D4447/MAX($D$8:D4447)-1)))","v":""}]
[null,null,null,null,{"$f":"IF(A4448=\"\",\"\",IF(B4448=\"\",E4447,IF(D4448=\"\",E4447,D4448/MAX($D$8:D4448)-1)))","v":""}]
[null,null,null,null,{"$f":"IF(A4449=\"\",\"\",IF(B4449=\"\",E4448,IF(D4449=\"\",E4448,D4449/MAX($D$8:D4449)-1)))","v":""}]
[null,null,null,null,{"$f":"IF(A4450=\"\",\"\",IF(B4450=\"\",E4449,IF(D4450=\"\",E4449,D4450/MAX($D$8:D4450)-1)))","v":""}]
[null,null,null,null,{"$f":"IF(A4451=\"\",\"\",IF(B4451=\"\",E4450,IF(D4451=\"\",E4450,D4451/MAX($D$8:D4451)-1)))","v":""}]
[null,null,null,null,{"$f":"IF(A4452=\"\",\"\",IF(B4452=\"\",E4451,IF(D4452=\"\",E4451,D4452/MAX($D$8:D4452)-1)))","v":""}]
[null,null,null,null,{"$f":"IF(A4453=\"\",\"\",IF(B4453=\"\",E4452,IF(D4453=\"\",E4452,D4453/MAX($D$8:D4453)-1)))","v":""}]
[null,null,null,null,{"$f":"IF(A4454=\"\",\"\",IF(B4454=\"\",E4453,IF(D4454=\"\",E4453,D4454/MAX($D$8:D4454)-1)))","v":""}]
[null,null,null,null,{"$f":"IF(A4455=\"\",\"\",IF(B4455=\"\",E4454,IF(D4455=\"\",E4454,D4455/MAX($D$8:D4455)-1)))","v":""}]
[null,null,null,null,{"$f":"IF(A4456=\"\",\"\",IF(B4456=\"\",E4455,IF(D4456=\"\",E4455,D4456/MAX($D$8:D4456)-1)))","v":""}]
[null,null,null,null,{"$f":"IF(A4457=\"\",\"\",IF(B4457=\"\",E4456,IF(D4457=\"\",E4456,D4457/MAX($D$8:D4457)-1)))","v":""}]
[null,null,null,null,{"$f":"IF(A4458=\"\",\"\",IF(B4458=\"\",E4457,IF(D4458=\"\",E4457,D4458/MAX($D$8:D4458)-1)))","v":""}]
[null,null,null,null,{"$f":"IF(A4459=\"\",\"\",IF(B4459=\"\",E4458,IF(D4459=\"\",E4458,D4459/MAX($D$8:D4459)-1)))","v":""}]
[null,null,null,null,{"$f":"IF(A4460=\"\",\"\",IF(B4460=\"\",E4459,IF(D4460=\"\",E4459,D4460/MAX($D$8:D4460)-1)))","v":""}]
[null,null,null,null,{"$f":"IF(A4461=\"\",\"\",IF(B4461=\"\",E4460,IF(D4461=\"\",E4460,D4461/MAX($D$8:D4461)-1)))","v":""}]
[null,null,null,null,{"$f":"IF(A4462=\"\",\"\",IF(B4462=\"\",E4461,IF(D4462=\"\",E4461,D4462/MAX($D$8:D4462)-1)))","v":""}]
[null,null,null,null,{"$f":"IF(A4463=\"\",\"\",IF(B4463=\"\",E4462,IF(D4463=\"\",E4462,D4463/MAX($D$8:D4463)-1)))","v":""}]
[null,null,null,null,{"$f":"IF(A4464=\"\",\"\",IF(B4464=\"\",E4463,IF(D4464=\"\",E4463,D4464/MAX($D$8:D4464)-1)))","v":""}]
[null,null,null,null,{"$f":"IF(A4465=\"\",\"\",IF(B4465=\"\",E4464,IF(D4465=\"\",E4464,D4465/MAX($D$8:D4465)-1)))","v":""}]
[null,null,null,null,{"$f":"IF(A4466=\"\",\"\",IF(B4466=\"\",E4465,IF(D4466=\"\",E4465,D4466/MAX($D$8:D4466)-1)))","v":""}]
[null,null,null,null,{"$f":"IF(A4467=\"\",\"\",IF(B4467=\"\",E4466,IF(D4467=\"\",E4466,D4467/MAX($D$8:D4467)-1)))","v":""}]
[null,null,null,null,{"$f":"IF(A4468=\"\",\"\",IF(B4468=\"\",E4467,IF(D4468=\"\",E4467,D4468/MAX($D$8:D4468)-1)))","v":""}]
[null,null,null,null,{"$f":"IF(A4469=\"\",\"\",IF(B4469=\"\",E4468,IF(D4469=\"\",E4468,D4469/MAX($D$8:D4469)-1)))","v":""}]
[null,null,null,null,{"$f":"IF(A4470=\"\",\"\",IF(B4470=\"\",E4469,IF(D4470=\"\",E4469,D4470/MAX($D$8:D4470)-1)))","v":""}]
[null,null,null,null,{"$f":"IF(A4471=\"\",\"\",IF(B4471=\"\",E4470,IF(D4471=\"\",E4470,D4471/MAX($D$8:D4471)-1)))","v":""}]
[null,null,null,null,{"$f":"IF(A4472=\"\",\"\",IF(B4472=\"\",E4471,IF(D4472=\"\",E4471,D4472/MAX($D$8:D4472)-1)))","v":""}]
[null,null,null,null,{"$f":"IF(A4473=\"\",\"\",IF(B4473=\"\",E4472,IF(D4473=\"\",E4472,D4473/MAX($D$8:D4473)-1)))","v":""}]
[null,null,null,null,{"$f":"IF(A4474=\"\",\"\",IF(B4474=\"\",E4473,IF(D4474=\"\",E4473,D4474/MAX($D$8:D4474)-1)))","v":""}]
[null,null,null,null,{"$f":"IF(A4475=\"\",\"\",IF(B4475=\"\",E4474,IF(D4475=\"\",E4474,D4475/MAX($D$8:D4475)-1)))","v":""}]
[null,null,null,null,{"$f":"IF(A4476=\"\",\"\",IF(B4476=\"\",E4475,IF(D4476=\"\",E4475,D4476/MAX($D$8:D4476)-1)))","v":""}]
[null,null,null,null,{"$f":"IF(A4477=\"\",\"\",IF(B4477=\"\",E4476,IF(D4477=\"\",E4476,D4477/MAX($D$8:D4477)-1)))","v":""}]
[null,null,null,null,{"$f":"IF(A4478=\"\",\"\",IF(B4478=\"\",E4477,IF(D4478=\"\",E4477,D4478/MAX($D$8:D4478)-1)))","v":""}]
[null,null,null,null,{"$f":"IF(A4479=\"\",\"\",IF(B4479=\"\",E4478,IF(D4479=\"\",E4478,D4479/MAX($D$8:D4479)-1)))","v":""}]
[null,null,null,null,{"$f":"IF(A4480=\"\",\"\",IF(B4480=\"\",E4479,IF(D4480=\"\",E4479,D4480/MAX($D$8:D4480)-1)))","v":""}]
[null,null,null,null,{"$f":"IF(A4481=\"\",\"\",IF(B4481=\"\",E4480,IF(D4481=\"\",E4480,D4481/MAX($D$8:D4481)-1)))","v":""}]
[null,null,null,null,{"$f":"IF(A4482=\"\",\"\",IF(B4482=\"\",E4481,IF(D4482=\"\",E4481,D4482/MAX($D$8:D4482)-1)))","v":""}]
[null,null,null,null,{"$f":"IF(A4483=\"\",\"\",IF(B4483=\"\",E4482,IF(D4483=\"\",E4482,D4483/MAX($D$8:D4483)-1)))","v":""}]
[null,null,null,null,{"$f":"IF(A4484=\"\",\"\",IF(B4484=\"\",E4483,IF(D4484=\"\",E4483,D4484/MAX($D$8:D4484)-1)))","v":""}]
[null,null,null,null,{"$f":"IF(A4485=\"\",\"\",IF(B4485=\"\",E4484,IF(D4485=\"\",E4484,D4485/MAX($D$8:D4485)-1)))","v":""}]
[null,null,null,null,{"$f":"IF(A4486=\"\",\"\",IF(B4486=\"\",E4485,IF(D4486=\"\",E4485,D4486/MAX($D$8:D4486)-1)))","v":""}]
[null,null,null,null,{"$f":"IF(A4487=\"\",\"\",IF(B4487=\"\",E4486,IF(D4487=\"\",E4486,D4487/MAX($D$8:D4487)-1)))","v":""}]
[null,null,null,null,{"$f":"IF(A4488=\"\",\"\",IF(B4488=\"\",E4487,IF(D4488=\"\",E4487,D4488/MAX($D$8:D4488)-1)))","v":""}]
[null,null,null,null,{"$f":"IF(A4489=\"\",\"\",IF(B4489=\"\",E4488,IF(D4489=\"\",E4488,D4489/MAX($D$8:D4489)-1)))","v":""}]
[null,null,null,null,{"$f":"IF(A4490=\"\",\"\",IF(B4490=\"\",E4489,IF(D4490=\"\",E4489,D4490/MAX($D$8:D4490)-1)))","v":""}]
[null,null,null,null,{"$f":"IF(A4491=\"\",\"\",IF(B4491=\"\",E4490,IF(D4491=\"\",E4490,D4491/MAX($D$8:D4491)-1)))","v":""}]
[null,null,null,null,{"$f":"IF(A4492=\"\",\"\",IF(B4492=\"\",E4491,IF(D4492=\"\",E4491,D4492/MAX($D$8:D4492)-1)))","v":""}]
[null,null,null,null,{"$f":"IF(A4493=\"\",\"\",IF(B4493=\"\",E4492,IF(D4493=\"\",E4492,D4493/MAX($D$8:D4493)-1)))","v":""}]
[null,null,null,null,{"$f":"IF(A4494=\"\",\"\",IF(B4494=\"\",E4493,IF(D4494=\"\",E4493,D4494/MAX($D$8:D4494)-1)))","v":""}]
[null,null,null,null,{"$f":"IF(A4495=\"\",\"\",IF(B4495=\"\",E4494,IF(D4495=\"\",E4494,D4495/MAX($D$8:D4495)-1)))","v":""}]
[null,null,null,null,{"$f":"IF(A4496=\"\",\"\",IF(B4496=\"\",E4495,IF(D4496=\"\",E4495,D4496/MAX($D$8:D4496)-1)))","v":""}]
[null,null,null,null,{"$f":"IF(A4497=\"\",\"\",IF(B4497=\"\",E4496,IF(D4497=\"\",E4496,D4497/MAX($D$8:D4497)-1)))","v":""}]
[null,null,null,null,{"$f":"IF(A4498=\"\",\"\",IF(B4498=\"\",E4497,IF(D4498=\"\",E4497,D4498/MAX($D$8:D4498)-1)))","v":""}]
[null,null,null,null,{"$f":"IF(A4499=\"\",\"\",IF(B4499=\"\",E4498,IF(D4499=\"\",E4498,D4499/MAX($D$8:D4499)-1)))","v":""}]
[null,null,null,null,{"$f":"IF(A4500=\"\",\"\",IF(B4500=\"\",E4499,IF(D4500=\"\",E4499,D4500/MAX($D$8:D4500)-1)))","v":""}]
[null,null,null,null,{"$f":"IF(A4501=\"\",\"\",IF(B4501=\"\",E4500,IF(D4501=\"\",E4500,D4501/MAX($D$8:D4501)-1)))","v":""}]
[null,null,null,null,{"$f":"IF(A4502=\"\",\"\",IF(B4502=\"\",E4501,IF(D4502=\"\",E4501,D4502/MAX($D$8:D4502)-1)))","v":""}]
[null,null,null,null,{"$f":"IF(A4503=\"\",\"\",IF(B4503=\"\",E4502,IF(D4503=\"\",E4502,D4503/MAX($D$8:D4503)-1)))","v":""}]
[null,null,null,null,{"$f":"IF(A4504=\"\",\"\",IF(B4504=\"\",E4503,IF(D4504=\"\",E4503,D4504/MAX($D$8:D4504)-1)))","v":""}]
[null,null,null,null,{"$f":"IF(A4505=\"\",\"\",IF(B4505=\"\",E4504,IF(D4505=\"\",E4504,D4505/MAX($D$8:D4505)-1)))","v":""}]
[null,null,null,null,{"$f":"IF(A4506=\"\",\"\",IF(B4506=\"\",E4505,IF(D4506=\"\",E4505,D4506/MAX($D$8:D4506)-1)))","v":""}]
[null,null,null,null,{"$f":"IF(A4507=\"\",\"\",IF(B4507=\"\",E4506,IF(D4507=\"\",E4506,D4507/MAX($D$8:D4507)-1)))","v":""}]
[null,null,null,null,{"$f":"IF(A4508=\"\",\"\",IF(B4508=\"\",E4507,IF(D4508=\"\",E4507,D4508/MAX($D$8:D4508)-1)))","v":""}]
[null,null,null,null,{"$f":"IF(A4509=\"\",\"\",IF(B4509=\"\",E4508,IF(D4509=\"\",E4508,D4509/MAX($D$8:D4509)-1)))","v":""}]
[null,null,null,null,{"$f":"IF(A4510=\"\",\"\",IF(B4510=\"\",E4509,IF(D4510=\"\",E4509,D4510/MAX($D$8:D4510)-1)))","v":""}]
[null,null,null,null,{"$f":"IF(A4511=\"\",\"\",IF(B4511=\"\",E4510,IF(D4511=\"\",E4510,D4511/MAX($D$8:D4511)-1)))","v":""}]
[null,null,null,null,{"$f":"IF(A4512=\"\",\"\",IF(B4512=\"\",E4511,IF(D4512=\"\",E4511,D4512/MAX($D$8:D4512)-1)))","v":""}]
[null,null,null,null,{"$f":"IF(A4513=\"\",\"\",IF(B4513=\"\",E4512,IF(D4513=\"\",E4512,D4513/MAX($D$8:D4513)-1)))","v":""}]
[null,null,null,null,{"$f":"IF(A4514=\"\",\"\",IF(B4514=\"\",E4513,IF(D4514=\"\",E4513,D4514/MAX($D$8:D4514)-1)))","v":""}]
[null,null,null,null,{"$f":"IF(A4515=\"\",\"\",IF(B4515=\"\",E4514,IF(D4515=\"\",E4514,D4515/MAX($D$8:D4515)-1)))","v":""}]
[null,null,null,null,{"$f":"IF(A4516=\"\",\"\",IF(B4516=\"\",E4515,IF(D4516=\"\",E4515,D4516/MAX($D$8:D4516)-1)))","v":""}]
[null,null,null,null,{"$f":"IF(A4517=\"\",\"\",IF(B4517=\"\",E4516,IF(D4517=\"\",E4516,D4517/MAX($D$8:D4517)-1)))","v":""}]
[null,null,null,null,{"$f":"IF(A4518=\"\",\"\",IF(B4518=\"\",E4517,IF(D4518=\"\",E4517,D4518/MAX($D$8:D4518)-1)))","v":""}]
[null,null,null,null,{"$f":"IF(A4519=\"\",\"\",IF(B4519=\"\",E4518,IF(D4519=\"\",E4518,D4519/MAX($D$8:D4519)-1)))","v":""}]
[null,null,null,null,{"$f":"IF(A4520=\"\",\"\",IF(B4520=\"\",E4519,IF(D4520=\"\",E4519,D4520/MAX($D$8:D4520)-1)))","v":""}]
[null,null,null,null,{"$f":"IF(A4521=\"\",\"\",IF(B4521=\"\",E4520,IF(D4521=\"\",E4520,D4521/MAX($D$8:D4521)-1)))","v":""}]
[null,null,null,null,{"$f":"IF(A4522=\"\",\"\",IF(B4522=\"\",E4521,IF(D4522=\"\",E4521,D4522/MAX($D$8:D4522)-1)))","v":""}]
[null,null,null,null,{"$f":"IF(A4523=\"\",\"\",IF(B4523=\"\",E4522,IF(D4523=\"\",E4522,D4523/MAX($D$8:D4523)-1)))","v":""}]
[null,null,null,null,{"$f":"IF(A4524=\"\",\"\",IF(B4524=\"\",E4523,IF(D4524=\"\",E4523,D4524/MAX($D$8:D4524)-1)))","v":""}]
[null,null,null,null,{"$f":"IF(A4525=\"\",\"\",IF(B4525=\"\",E4524,IF(D4525=\"\",E4524,D4525/MAX($D$8:D4525)-1)))","v":""}]
[null,null,null,null,{"$f":"IF(A4526=\"\",\"\",IF(B4526=\"\",E4525,IF(D4526=\"\",E4525,D4526/MAX($D$8:D4526)-1)))","v":""}]
[null,null,null,null,{"$f":"IF(A4527=\"\",\"\",IF(B4527=\"\",E4526,IF(D4527=\"\",E4526,D4527/MAX($D$8:D4527)-1)))","v":""}]
[null,null,null,null,{"$f":"IF(A4528=\"\",\"\",IF(B4528=\"\",E4527,IF(D4528=\"\",E4527,D4528/MAX($D$8:D4528)-1)))","v":""}]
[null,null,null,null,{"$f":"IF(A4529=\"\",\"\",IF(B4529=\"\",E4528,IF(D4529=\"\",E4528,D4529/MAX($D$8:D4529)-1)))","v":""}]
[null,null,null,null,{"$f":"IF(A4530=\"\",\"\",IF(B4530=\"\",E4529,IF(D4530=\"\",E4529,D4530/MAX($D$8:D4530)-1)))","v":""}]
[null,null,null,null,{"$f":"IF(A4531=\"\",\"\",IF(B4531=\"\",E4530,IF(D4531=\"\",E4530,D4531/MAX($D$8:D4531)-1)))","v":""}]
[null,null,null,null,{"$f":"IF(A4532=\"\",\"\",IF(B4532=\"\",E4531,IF(D4532=\"\",E4531,D4532/MAX($D$8:D4532)-1)))","v":""}]
[null,null,null,null,{"$f":"IF(A4533=\"\",\"\",IF(B4533=\"\",E4532,IF(D4533=\"\",E4532,D4533/MAX($D$8:D4533)-1)))","v":""}]
[null,null,null,null,{"$f":"IF(A4534=\"\",\"\",IF(B4534=\"\",E4533,IF(D4534=\"\",E4533,D4534/MAX($D$8:D4534)-1)))","v":""}]
[null,null,null,null,{"$f":"IF(A4535=\"\",\"\",IF(B4535=\"\",E4534,IF(D4535=\"\",E4534,D4535/MAX($D$8:D4535)-1)))","v":""}]
[null,null,null,null,{"$f":"IF(A4536=\"\",\"\",IF(B4536=\"\",E4535,IF(D4536=\"\",E4535,D4536/MAX($D$8:D4536)-1)))","v":""}]
[null,null,null,null,{"$f":"IF(A4537=\"\",\"\",IF(B4537=\"\",E4536,IF(D4537=\"\",E4536,D4537/MAX($D$8:D4537)-1)))","v":""}]
[null,null,null,null,{"$f":"IF(A4538=\"\",\"\",IF(B4538=\"\",E4537,IF(D4538=\"\",E4537,D4538/MAX($D$8:D4538)-1)))","v":""}]
[null,null,null,null,{"$f":"IF(A4539=\"\",\"\",IF(B4539=\"\",E4538,IF(D4539=\"\",E4538,D4539/MAX($D$8:D4539)-1)))","v":""}]
[null,null,null,null,{"$f":"IF(A4540=\"\",\"\",IF(B4540=\"\",E4539,IF(D4540=\"\",E4539,D4540/MAX($D$8:D4540)-1)))","v":""}]
[null,null,null,null,{"$f":"IF(A4541=\"\",\"\",IF(B4541=\"\",E4540,IF(D4541=\"\",E4540,D4541/MAX($D$8:D4541)-1)))","v":""}]
[null,null,null,null,{"$f":"IF(A4542=\"\",\"\",IF(B4542=\"\",E4541,IF(D4542=\"\",E4541,D4542/MAX($D$8:D4542)-1)))","v":""}]
[null,null,null,null,{"$f":"IF(A4543=\"\",\"\",IF(B4543=\"\",E4542,IF(D4543=\"\",E4542,D4543/MAX($D$8:D4543)-1)))","v":""}]
[null,null,null,null,{"$f":"IF(A4544=\"\",\"\",IF(B4544=\"\",E4543,IF(D4544=\"\",E4543,D4544/MAX($D$8:D4544)-1)))","v":""}]
[null,null,null,null,{"$f":"IF(A4545=\"\",\"\",IF(B4545=\"\",E4544,IF(D4545=\"\",E4544,D4545/MAX($D$8:D4545)-1)))","v":""}]
[null,null,null,null,{"$f":"IF(A4546=\"\",\"\",IF(B4546=\"\",E4545,IF(D4546=\"\",E4545,D4546/MAX($D$8:D4546)-1)))","v":""}]
[null,null,null,null,{"$f":"IF(A4547=\"\",\"\",IF(B4547=\"\",E4546,IF(D4547=\"\",E4546,D4547/MAX($D$8:D4547)-1)))","v":""}]
[null,null,null,null,{"$f":"IF(A4548=\"\",\"\",IF(B4548=\"\",E4547,IF(D4548=\"\",E4547,D4548/MAX($D$8:D4548)-1)))","v":""}]
[null,null,null,null,{"$f":"IF(A4549=\"\",\"\",IF(B4549=\"\",E4548,IF(D4549=\"\",E4548,D4549/MAX($D$8:D4549)-1)))","v":""}]
[null,null,null,null,{"$f":"IF(A4550=\"\",\"\",IF(B4550=\"\",E4549,IF(D4550=\"\",E4549,D4550/MAX($D$8:D4550)-1)))","v":""}]
[null,null,null,null,{"$f":"IF(A4551=\"\",\"\",IF(B4551=\"\",E4550,IF(D4551=\"\",E4550,D4551/MAX($D$8:D4551)-1)))","v":""}]
[null,null,null,null,{"$f":"IF(A4552=\"\",\"\",IF(B4552=\"\",E4551,IF(D4552=\"\",E4551,D4552/MAX($D$8:D4552)-1)))","v":""}]
[null,null,null,null,{"$f":"IF(A4553=\"\",\"\",IF(B4553=\"\",E4552,IF(D4553=\"\",E4552,D4553/MAX($D$8:D4553)-1)))","v":""}]
[null,null,null,null,{"$f":"IF(A4554=\"\",\"\",IF(B4554=\"\",E4553,IF(D4554=\"\",E4553,D4554/MAX($D$8:D4554)-1)))","v":""}]
[null,null,null,null,{"$f":"IF(A4555=\"\",\"\",IF(B4555=\"\",E4554,IF(D4555=\"\",E4554,D4555/MAX($D$8:D4555)-1)))","v":""}]
[null,null,null,null,{"$f":"IF(A4556=\"\",\"\",IF(B4556=\"\",E4555,IF(D4556=\"\",E4555,D4556/MAX($D$8:D4556)-1)))","v":""}]
[null,null,null,null,{"$f":"IF(A4557=\"\",\"\",IF(B4557=\"\",E4556,IF(D4557=\"\",E4556,D4557/MAX($D$8:D4557)-1)))","v":""}]
[null,null,null,null,{"$f":"IF(A4558=\"\",\"\",IF(B4558=\"\",E4557,IF(D4558=\"\",E4557,D4558/MAX($D$8:D4558)-1)))","v":""}]
[null,null,null,null,{"$f":"IF(A4559=\"\",\"\",IF(B4559=\"\",E4558,IF(D4559=\"\",E4558,D4559/MAX($D$8:D4559)-1)))","v":""}]
[null,null,null,null,{"$f":"IF(A4560=\"\",\"\",IF(B4560=\"\",E4559,IF(D4560=\"\",E4559,D4560/MAX($D$8:D4560)-1)))","v":""}]
[null,null,null,null,{"$f":"IF(A4561=\"\",\"\",IF(B4561=\"\",E4560,IF(D4561=\"\",E4560,D4561/MAX($D$8:D4561)-1)))","v":""}]
[null,null,null,null,{"$f":"IF(A4562=\"\",\"\",IF(B4562=\"\",E4561,IF(D4562=\"\",E4561,D4562/MAX($D$8:D4562)-1)))","v":""}]
[null,null,null,null,{"$f":"IF(A4563=\"\",\"\",IF(B4563=\"\",E4562,IF(D4563=\"\",E4562,D4563/MAX($D$8:D4563)-1)))","v":""}]
[null,null,null,null,{"$f":"IF(A4564=\"\",\"\",IF(B4564=\"\",E4563,IF(D4564=\"\",E4563,D4564/MAX($D$8:D4564)-1)))","v":""}]
[null,null,null,null,{"$f":"IF(A4565=\"\",\"\",IF(B4565=\"\",E4564,IF(D4565=\"\",E4564,D4565/MAX($D$8:D4565)-1)))","v":""}]
[null,null,null,null,{"$f":"IF(A4566=\"\",\"\",IF(B4566=\"\",E4565,IF(D4566=\"\",E4565,D4566/MAX($D$8:D4566)-1)))","v":""}]
[null,null,null,null,{"$f":"IF(A4567=\"\",\"\",IF(B4567=\"\",E4566,IF(D4567=\"\",E4566,D4567/MAX($D$8:D4567)-1)))","v":""}]
[null,null,null,null,{"$f":"IF(A4568=\"\",\"\",IF(B4568=\"\",E4567,IF(D4568=\"\",E4567,D4568/MAX($D$8:D4568)-1)))","v":""}]
[null,null,null,null,{"$f":"IF(A4569=\"\",\"\",IF(B4569=\"\",E4568,IF(D4569=\"\",E4568,D4569/MAX($D$8:D4569)-1)))","v":""}]
[null,null,null,null,{"$f":"IF(A4570=\"\",\"\",IF(B4570=\"\",E4569,IF(D4570=\"\",E4569,D4570/MAX($D$8:D4570)-1)))","v":""}]
[null,null,null,null,{"$f":"IF(A4571=\"\",\"\",IF(B4571=\"\",E4570,IF(D4571=\"\",E4570,D4571/MAX($D$8:D4571)-1)))","v":""}]
[null,null,null,null,{"$f":"IF(A4572=\"\",\"\",IF(B4572=\"\",E4571,IF(D4572=\"\",E4571,D4572/MAX($D$8:D4572)-1)))","v":""}]
[null,null,null,null,{"$f":"IF(A4573=\"\",\"\",IF(B4573=\"\",E4572,IF(D4573=\"\",E4572,D4573/MAX($D$8:D4573)-1)))","v":""}]
[null,null,null,null,{"$f":"IF(A4574=\"\",\"\",IF(B4574=\"\",E4573,IF(D4574=\"\",E4573,D4574/MAX($D$8:D4574)-1)))","v":""}]
[null,null,null,null,{"$f":"IF(A4575=\"\",\"\",IF(B4575=\"\",E4574,IF(D4575=\"\",E4574,D4575/MAX($D$8:D4575)-1)))","v":""}]
[null,null,null,null,{"$f":"IF(A4576=\"\",\"\",IF(B4576=\"\",E4575,IF(D4576=\"\",E4575,D4576/MAX($D$8:D4576)-1)))","v":""}]
[null,null,null,null,{"$f":"IF(A4577=\"\",\"\",IF(B4577=\"\",E4576,IF(D4577=\"\",E4576,D4577/MAX($D$8:D4577)-1)))","v":""}]
[null,null,null,null,{"$f":"IF(A4578=\"\",\"\",IF(B4578=\"\",E4577,IF(D4578=\"\",E4577,D4578/MAX($D$8:D4578)-1)))","v":""}]
[null,null,null,null,{"$f":"IF(A4579=\"\",\"\",IF(B4579=\"\",E4578,IF(D4579=\"\",E4578,D4579/MAX($D$8:D4579)-1)))","v":""}]
[null,null,null,null,{"$f":"IF(A4580=\"\",\"\",IF(B4580=\"\",E4579,IF(D4580=\"\",E4579,D4580/MAX($D$8:D4580)-1)))","v":""}]
[null,null,null,null,{"$f":"IF(A4581=\"\",\"\",IF(B4581=\"\",E4580,IF(D4581=\"\",E4580,D4581/MAX($D$8:D4581)-1)))","v":""}]
[null,null,null,null,{"$f":"IF(A4582=\"\",\"\",IF(B4582=\"\",E4581,IF(D4582=\"\",E4581,D4582/MAX($D$8:D4582)-1)))","v":""}]
[null,null,null,null,{"$f":"IF(A4583=\"\",\"\",IF(B4583=\"\",E4582,IF(D4583=\"\",E4582,D4583/MAX($D$8:D4583)-1)))","v":""}]
[null,null,null,null,{"$f":"IF(A4584=\"\",\"\",IF(B4584=\"\",E4583,IF(D4584=\"\",E4583,D4584/MAX($D$8:D4584)-1)))","v":""}]
[null,null,null,null,{"$f":"IF(A4585=\"\",\"\",IF(B4585=\"\",E4584,IF(D4585=\"\",E4584,D4585/MAX($D$8:D4585)-1)))","v":""}]
[null,null,null,null,{"$f":"IF(A4586=\"\",\"\",IF(B4586=\"\",E4585,IF(D4586=\"\",E4585,D4586/MAX($D$8:D4586)-1)))","v":""}]
[null,null,null,null,{"$f":"IF(A4587=\"\",\"\",IF(B4587=\"\",E4586,IF(D4587=\"\",E4586,D4587/MAX($D$8:D4587)-1)))","v":""}]
[null,null,null,null,{"$f":"IF(A4588=\"\",\"\",IF(B4588=\"\",E4587,IF(D4588=\"\",E4587,D4588/MAX($D$8:D4588)-1)))","v":""}]
[null,null,null,null,{"$f":"IF(A4589=\"\",\"\",IF(B4589=\"\",E4588,IF(D4589=\"\",E4588,D4589/MAX($D$8:D4589)-1)))","v":""}]
[null,null,null,null,{"$f":"IF(A4590=\"\",\"\",IF(B4590=\"\",E4589,IF(D4590=\"\",E4589,D4590/MAX($D$8:D4590)-1)))","v":""}]
[null,null,null,null,{"$f":"IF(A4591=\"\",\"\",IF(B4591=\"\",E4590,IF(D4591=\"\",E4590,D4591/MAX($D$8:D4591)-1)))","v":""}]
[null,null,null,null,{"$f":"IF(A4592=\"\",\"\",IF(B4592=\"\",E4591,IF(D4592=\"\",E4591,D4592/MAX($D$8:D4592)-1)))","v":""}]
[null,null,null,null,{"$f":"IF(A4593=\"\",\"\",IF(B4593=\"\",E4592,IF(D4593=\"\",E4592,D4593/MAX($D$8:D4593)-1)))","v":""}]
[null,null,null,null,{"$f":"IF(A4594=\"\",\"\",IF(B4594=\"\",E4593,IF(D4594=\"\",E4593,D4594/MAX($D$8:D4594)-1)))","v":""}]
[null,null,null,null,{"$f":"IF(A4595=\"\",\"\",IF(B4595=\"\",E4594,IF(D4595=\"\",E4594,D4595/MAX($D$8:D4595)-1)))","v":""}]
[null,null,null,null,{"$f":"IF(A4596=\"\",\"\",IF(B4596=\"\",E4595,IF(D4596=\"\",E4595,D4596/MAX($D$8:D4596)-1)))","v":""}]
[null,null,null,null,{"$f":"IF(A4597=\"\",\"\",IF(B4597=\"\",E4596,IF(D4597=\"\",E4596,D4597/MAX($D$8:D4597)-1)))","v":""}]
[null,null,null,null,{"$f":"IF(A4598=\"\",\"\",IF(B4598=\"\",E4597,IF(D4598=\"\",E4597,D4598/MAX($D$8:D4598)-1)))","v":""}]
[null,null,null,null,{"$f":"IF(A4599=\"\",\"\",IF(B4599=\"\",E4598,IF(D4599=\"\",E4598,D4599/MAX($D$8:D4599)-1)))","v":""}]
[null,null,null,null,{"$f":"IF(A4600=\"\",\"\",IF(B4600=\"\",E4599,IF(D4600=\"\",E4599,D4600/MAX($D$8:D4600)-1)))","v":""}]
[null,null,null,null,{"$f":"IF(A4601=\"\",\"\",IF(B4601=\"\",E4600,IF(D4601=\"\",E4600,D4601/MAX($D$8:D4601)-1)))","v":""}]
[null,null,null,null,{"$f":"IF(A4602=\"\",\"\",IF(B4602=\"\",E4601,IF(D4602=\"\",E4601,D4602/MAX($D$8:D4602)-1)))","v":""}]
[null,null,null,null,{"$f":"IF(A4603=\"\",\"\",IF(B4603=\"\",E4602,IF(D4603=\"\",E4602,D4603/MAX($D$8:D4603)-1)))","v":""}]
[null,null,null,null,{"$f":"IF(A4604=\"\",\"\",IF(B4604=\"\",E4603,IF(D4604=\"\",E4603,D4604/MAX($D$8:D4604)-1)))","v":""}]
[null,null,null,null,{"$f":"IF(A4605=\"\",\"\",IF(B4605=\"\",E4604,IF(D4605=\"\",E4604,D4605/MAX($D$8:D4605)-1)))","v":""}]
[null,null,null,null,{"$f":"IF(A4606=\"\",\"\",IF(B4606=\"\",E4605,IF(D4606=\"\",E4605,D4606/MAX($D$8:D4606)-1)))","v":""}]
[null,null,null,null,{"$f":"IF(A4607=\"\",\"\",IF(B4607=\"\",E4606,IF(D4607=\"\",E4606,D4607/MAX($D$8:D4607)-1)))","v":""}]
[null,null,null,null,{"$f":"IF(A4608=\"\",\"\",IF(B4608=\"\",E4607,IF(D4608=\"\",E4607,D4608/MAX($D$8:D4608)-1)))","v":""}]
[null,null,null,null,{"$f":"IF(A4609=\"\",\"\",IF(B4609=\"\",E4608,IF(D4609=\"\",E4608,D4609/MAX($D$8:D4609)-1)))","v":""}]
[null,null,null,null,{"$f":"IF(A4610=\"\",\"\",IF(B4610=\"\",E4609,IF(D4610=\"\",E4609,D4610/MAX($D$8:D4610)-1)))","v":""}]
[null,null,null,null,{"$f":"IF(A4611=\"\",\"\",IF(B4611=\"\",E4610,IF(D4611=\"\",E4610,D4611/MAX($D$8:D4611)-1)))","v":""}]
[null,null,null,null,{"$f":"IF(A4612=\"\",\"\",IF(B4612=\"\",E4611,IF(D4612=\"\",E4611,D4612/MAX($D$8:D4612)-1)))","v":""}]
[null,null,null,null,{"$f":"IF(A4613=\"\",\"\",IF(B4613=\"\",E4612,IF(D4613=\"\",E4612,D4613/MAX($D$8:D4613)-1)))","v":""}]
[null,null,null,null,{"$f":"IF(A4614=\"\",\"\",IF(B4614=\"\",E4613,IF(D4614=\"\",E4613,D4614/MAX($D$8:D4614)-1)))","v":""}]
[null,null,null,null,{"$f":"IF(A4615=\"\",\"\",IF(B4615=\"\",E4614,IF(D4615=\"\",E4614,D4615/MAX($D$8:D4615)-1)))","v":""}]
[null,null,null,null,{"$f":"IF(A4616=\"\",\"\",IF(B4616=\"\",E4615,IF(D4616=\"\",E4615,D4616/MAX($D$8:D4616)-1)))","v":""}]
[null,null,null,null,{"$f":"IF(A4617=\"\",\"\",IF(B4617=\"\",E4616,IF(D4617=\"\",E4616,D4617/MAX($D$8:D4617)-1)))","v":""}]
[null,null,null,null,{"$f":"IF(A4618=\"\",\"\",IF(B4618=\"\",E4617,IF(D4618=\"\",E4617,D4618/MAX($D$8:D4618)-1)))","v":""}]
[null,null,null,null,{"$f":"IF(A4619=\"\",\"\",IF(B4619=\"\",E4618,IF(D4619=\"\",E4618,D4619/MAX($D$8:D4619)-1)))","v":""}]
[null,null,null,null,{"$f":"IF(A4620=\"\",\"\",IF(B4620=\"\",E4619,IF(D4620=\"\",E4619,D4620/MAX($D$8:D4620)-1)))","v":""}]
[null,null,null,null,{"$f":"IF(A4621=\"\",\"\",IF(B4621=\"\",E4620,IF(D4621=\"\",E4620,D4621/MAX($D$8:D4621)-1)))","v":""}]
[null,null,null,null,{"$f":"IF(A4622=\"\",\"\",IF(B4622=\"\",E4621,IF(D4622=\"\",E4621,D4622/MAX($D$8:D4622)-1)))","v":""}]
[null,null,null,null,{"$f":"IF(A4623=\"\",\"\",IF(B4623=\"\",E4622,IF(D4623=\"\",E4622,D4623/MAX($D$8:D4623)-1)))","v":""}]
[null,null,null,null,{"$f":"IF(A4624=\"\",\"\",IF(B4624=\"\",E4623,IF(D4624=\"\",E4623,D4624/MAX($D$8:D4624)-1)))","v":""}]
[null,null,null,null,{"$f":"IF(A4625=\"\",\"\",IF(B4625=\"\",E4624,IF(D4625=\"\",E4624,D4625/MAX($D$8:D4625)-1)))","v":""}]
[null,null,null,null,{"$f":"IF(A4626=\"\",\"\",IF(B4626=\"\",E4625,IF(D4626=\"\",E4625,D4626/MAX($D$8:D4626)-1)))","v":""}]
[null,null,null,null,{"$f":"IF(A4627=\"\",\"\",IF(B4627=\"\",E4626,IF(D4627=\"\",E4626,D4627/MAX($D$8:D4627)-1)))","v":""}]
[null,null,null,null,{"$f":"IF(A4628=\"\",\"\",IF(B4628=\"\",E4627,IF(D4628=\"\",E4627,D4628/MAX($D$8:D4628)-1)))","v":""}]
[null,null,null,null,{"$f":"IF(A4629=\"\",\"\",IF(B4629=\"\",E4628,IF(D4629=\"\",E4628,D4629/MAX($D$8:D4629)-1)))","v":""}]
[null,null,null,null,{"$f":"IF(A4630=\"\",\"\",IF(B4630=\"\",E4629,IF(D4630=\"\",E4629,D4630/MAX($D$8:D4630)-1)))","v":""}]
[null,null,null,null,{"$f":"IF(A4631=\"\",\"\",IF(B4631=\"\",E4630,IF(D4631=\"\",E4630,D4631/MAX($D$8:D4631)-1)))","v":""}]
[null,null,null,null,{"$f":"IF(A4632=\"\",\"\",IF(B4632=\"\",E4631,IF(D4632=\"\",E4631,D4632/MAX($D$8:D4632)-1)))","v":""}]
[null,null,null,null,{"$f":"IF(A4633=\"\",\"\",IF(B4633=\"\",E4632,IF(D4633=\"\",E4632,D4633/MAX($D$8:D4633)-1)))","v":""}]
[null,null,null,null,{"$f":"IF(A4634=\"\",\"\",IF(B4634=\"\",E4633,IF(D4634=\"\",E4633,D4634/MAX($D$8:D4634)-1)))","v":""}]
[null,null,null,null,{"$f":"IF(A4635=\"\",\"\",IF(B4635=\"\",E4634,IF(D4635=\"\",E4634,D4635/MAX($D$8:D4635)-1)))","v":""}]
[null,null,null,null,{"$f":"IF(A4636=\"\",\"\",IF(B4636=\"\",E4635,IF(D4636=\"\",E4635,D4636/MAX($D$8:D4636)-1)))","v":""}]
[null,null,null,null,{"$f":"IF(A4637=\"\",\"\",IF(B4637=\"\",E4636,IF(D4637=\"\",E4636,D4637/MAX($D$8:D4637)-1)))","v":""}]
[null,null,null,null,{"$f":"IF(A4638=\"\",\"\",IF(B4638=\"\",E4637,IF(D4638=\"\",E4637,D4638/MAX($D$8:D4638)-1)))","v":""}]
[null,null,null,null,{"$f":"IF(A4639=\"\",\"\",IF(B4639=\"\",E4638,IF(D4639=\"\",E4638,D4639/MAX($D$8:D4639)-1)))","v":""}]
[null,null,null,null,{"$f":"IF(A4640=\"\",\"\",IF(B4640=\"\",E4639,IF(D4640=\"\",E4639,D4640/MAX($D$8:D4640)-1)))","v":""}]
[null,null,null,null,{"$f":"IF(A4641=\"\",\"\",IF(B4641=\"\",E4640,IF(D4641=\"\",E4640,D4641/MAX($D$8:D4641)-1)))","v":""}]
[null,null,null,null,{"$f":"IF(A4642=\"\",\"\",IF(B4642=\"\",E4641,IF(D4642=\"\",E4641,D4642/MAX($D$8:D4642)-1)))","v":""}]
[null,null,null,null,{"$f":"IF(A4643=\"\",\"\",IF(B4643=\"\",E4642,IF(D4643=\"\",E4642,D4643/MAX($D$8:D4643)-1)))","v":""}]
[null,null,null,null,{"$f":"IF(A4644=\"\",\"\",IF(B4644=\"\",E4643,IF(D4644=\"\",E4643,D4644/MAX($D$8:D4644)-1)))","v":""}]
[null,null,null,null,{"$f":"IF(A4645=\"\",\"\",IF(B4645=\"\",E4644,IF(D4645=\"\",E4644,D4645/MAX($D$8:D4645)-1)))","v":""}]
[null,null,null,null,{"$f":"IF(A4646=\"\",\"\",IF(B4646=\"\",E4645,IF(D4646=\"\",E4645,D4646/MAX($D$8:D4646)-1)))","v":""}]
[null,null,null,null,{"$f":"IF(A4647=\"\",\"\",IF(B4647=\"\",E4646,IF(D4647=\"\",E4646,D4647/MAX($D$8:D4647)-1)))","v":""}]
[null,null,null,null,{"$f":"IF(A4648=\"\",\"\",IF(B4648=\"\",E4647,IF(D4648=\"\",E4647,D4648/MAX($D$8:D4648)-1)))","v":""}]
[null,null,null,null,{"$f":"IF(A4649=\"\",\"\",IF(B4649=\"\",E4648,IF(D4649=\"\",E4648,D4649/MAX($D$8:D4649)-1)))","v":""}]
[null,null,null,null,{"$f":"IF(A4650=\"\",\"\",IF(B4650=\"\",E4649,IF(D4650=\"\",E4649,D4650/MAX($D$8:D4650)-1)))","v":""}]
[null,null,null,null,{"$f":"IF(A4651=\"\",\"\",IF(B4651=\"\",E4650,IF(D4651=\"\",E4650,D4651/MAX($D$8:D4651)-1)))","v":""}]
[null,null,null,null,{"$f":"IF(A4652=\"\",\"\",IF(B4652=\"\",E4651,IF(D4652=\"\",E4651,D4652/MAX($D$8:D4652)-1)))","v":""}]
[null,null,null,null,{"$f":"IF(A4653=\"\",\"\",IF(B4653=\"\",E4652,IF(D4653=\"\",E4652,D4653/MAX($D$8:D4653)-1)))","v":""}]
[null,null,null,null,{"$f":"IF(A4654=\"\",\"\",IF(B4654=\"\",E4653,IF(D4654=\"\",E4653,D4654/MAX($D$8:D4654)-1)))","v":""}]
[null,null,null,null,{"$f":"IF(A4655=\"\",\"\",IF(B4655=\"\",E4654,IF(D4655=\"\",E4654,D4655/MAX($D$8:D4655)-1)))","v":""}]
[null,null,null,null,{"$f":"IF(A4656=\"\",\"\",IF(B4656=\"\",E4655,IF(D4656=\"\",E4655,D4656/MAX($D$8:D4656)-1)))","v":""}]
[null,null,null,null,{"$f":"IF(A4657=\"\",\"\",IF(B4657=\"\",E4656,IF(D4657=\"\",E4656,D4657/MAX($D$8:D4657)-1)))","v":""}]
[null,null,null,null,{"$f":"IF(A4658=\"\",\"\",IF(B4658=\"\",E4657,IF(D4658=\"\",E4657,D4658/MAX($D$8:D4658)-1)))","v":""}]
[null,null,null,null,{"$f":"IF(A4659=\"\",\"\",IF(B4659=\"\",E4658,IF(D4659=\"\",E4658,D4659/MAX($D$8:D4659)-1)))","v":""}]
[null,null,null,null,{"$f":"IF(A4660=\"\",\"\",IF(B4660=\"\",E4659,IF(D4660=\"\",E4659,D4660/MAX($D$8:D4660)-1)))","v":""}]
[null,null,null,null,{"$f":"IF(A4661=\"\",\"\",IF(B4661=\"\",E4660,IF(D4661=\"\",E4660,D4661/MAX($D$8:D4661)-1)))","v":""}]
[null,null,null,null,{"$f":"IF(A4662=\"\",\"\",IF(B4662=\"\",E4661,IF(D4662=\"\",E4661,D4662/MAX($D$8:D4662)-1)))","v":""}]
[null,null,null,null,{"$f":"IF(A4663=\"\",\"\",IF(B4663=\"\",E4662,IF(D4663=\"\",E4662,D4663/MAX($D$8:D4663)-1)))","v":""}]
[null,null,null,null,{"$f":"IF(A4664=\"\",\"\",IF(B4664=\"\",E4663,IF(D4664=\"\",E4663,D4664/MAX($D$8:D4664)-1)))","v":""}]
[null,null,null,null,{"$f":"IF(A4665=\"\",\"\",IF(B4665=\"\",E4664,IF(D4665=\"\",E4664,D4665/MAX($D$8:D4665)-1)))","v":""}]
[null,null,null,null,{"$f":"IF(A4666=\"\",\"\",IF(B4666=\"\",E4665,IF(D4666=\"\",E4665,D4666/MAX($D$8:D4666)-1)))","v":""}]
[null,null,null,null,{"$f":"IF(A4667=\"\",\"\",IF(B4667=\"\",E4666,IF(D4667=\"\",E4666,D4667/MAX($D$8:D4667)-1)))","v":""}]
[null,null,null,null,{"$f":"IF(A4668=\"\",\"\",IF(B4668=\"\",E4667,IF(D4668=\"\",E4667,D4668/MAX($D$8:D4668)-1)))","v":""}]
[null,null,null,null,{"$f":"IF(A4669=\"\",\"\",IF(B4669=\"\",E4668,IF(D4669=\"\",E4668,D4669/MAX($D$8:D4669)-1)))","v":""}]
[null,null,null,null,{"$f":"IF(A4670=\"\",\"\",IF(B4670=\"\",E4669,IF(D4670=\"\",E4669,D4670/MAX($D$8:D4670)-1)))","v":""}]
[null,null,null,null,{"$f":"IF(A4671=\"\",\"\",IF(B4671=\"\",E4670,IF(D4671=\"\",E4670,D4671/MAX($D$8:D4671)-1)))","v":""}]
[null,null,null,null,{"$f":"IF(A4672=\"\",\"\",IF(B4672=\"\",E4671,IF(D4672=\"\",E4671,D4672/MAX($D$8:D4672)-1)))","v":""}]
[null,null,null,null,{"$f":"IF(A4673=\"\",\"\",IF(B4673=\"\",E4672,IF(D4673=\"\",E4672,D4673/MAX($D$8:D4673)-1)))","v":""}]
[null,null,null,null,{"$f":"IF(A4674=\"\",\"\",IF(B4674=\"\",E4673,IF(D4674=\"\",E4673,D4674/MAX($D$8:D4674)-1)))","v":""}]
[null,null,null,null,{"$f":"IF(A4675=\"\",\"\",IF(B4675=\"\",E4674,IF(D4675=\"\",E4674,D4675/MAX($D$8:D4675)-1)))","v":""}]
[null,null,null,null,{"$f":"IF(A4676=\"\",\"\",IF(B4676=\"\",E4675,IF(D4676=\"\",E4675,D4676/MAX($D$8:D4676)-1)))","v":""}]
[null,null,null,null,{"$f":"IF(A4677=\"\",\"\",IF(B4677=\"\",E4676,IF(D4677=\"\",E4676,D4677/MAX($D$8:D4677)-1)))","v":""}]
[null,null,null,null,{"$f":"IF(A4678=\"\",\"\",IF(B4678=\"\",E4677,IF(D4678=\"\",E4677,D4678/MAX($D$8:D4678)-1)))","v":""}]
[null,null,null,null,{"$f":"IF(A4679=\"\",\"\",IF(B4679=\"\",E4678,IF(D4679=\"\",E4678,D4679/MAX($D$8:D4679)-1)))","v":""}]
[null,null,null,null,{"$f":"IF(A4680=\"\",\"\",IF(B4680=\"\",E4679,IF(D4680=\"\",E4679,D4680/MAX($D$8:D4680)-1)))","v":""}]
[null,null,null,null,{"$f":"IF(A4681=\"\",\"\",IF(B4681=\"\",E4680,IF(D4681=\"\",E4680,D4681/MAX($D$8:D4681)-1)))","v":""}]
[null,null,null,null,{"$f":"IF(A4682=\"\",\"\",IF(B4682=\"\",E4681,IF(D4682=\"\",E4681,D4682/MAX($D$8:D4682)-1)))","v":""}]
[null,null,null,null,{"$f":"IF(A4683=\"\",\"\",IF(B4683=\"\",E4682,IF(D4683=\"\",E4682,D4683/MAX($D$8:D4683)-1)))","v":""}]
[null,null,null,null,{"$f":"IF(A4684=\"\",\"\",IF(B4684=\"\",E4683,IF(D4684=\"\",E4683,D4684/MAX($D$8:D4684)-1)))","v":""}]
[null,null,null,null,{"$f":"IF(A4685=\"\",\"\",IF(B4685=\"\",E4684,IF(D4685=\"\",E4684,D4685/MAX($D$8:D4685)-1)))","v":""}]
[null,null,null,null,{"$f":"IF(A4686=\"\",\"\",IF(B4686=\"\",E4685,IF(D4686=\"\",E4685,D4686/MAX($D$8:D4686)-1)))","v":""}]
[null,null,null,null,{"$f":"IF(A4687=\"\",\"\",IF(B4687=\"\",E4686,IF(D4687=\"\",E4686,D4687/MAX($D$8:D4687)-1)))","v":""}]
[null,null,null,null,{"$f":"IF(A4688=\"\",\"\",IF(B4688=\"\",E4687,IF(D4688=\"\",E4687,D4688/MAX($D$8:D4688)-1)))","v":""}]
[null,null,null,null,{"$f":"IF(A4689=\"\",\"\",IF(B4689=\"\",E4688,IF(D4689=\"\",E4688,D4689/MAX($D$8:D4689)-1)))","v":""}]
[null,null,null,null,{"$f":"IF(A4690=\"\",\"\",IF(B4690=\"\",E4689,IF(D4690=\"\",E4689,D4690/MAX($D$8:D4690)-1)))","v":""}]
[null,null,null,null,{"$f":"IF(A4691=\"\",\"\",IF(B4691=\"\",E4690,IF(D4691=\"\",E4690,D4691/MAX($D$8:D4691)-1)))","v":""}]
[null,null,null,null,{"$f":"IF(A4692=\"\",\"\",IF(B4692=\"\",E4691,IF(D4692=\"\",E4691,D4692/MAX($D$8:D4692)-1)))","v":""}]
[null,null,null,null,{"$f":"IF(A4693=\"\",\"\",IF(B4693=\"\",E4692,IF(D4693=\"\",E4692,D4693/MAX($D$8:D4693)-1)))","v":""}]
[null,null,null,null,{"$f":"IF(A4694=\"\",\"\",IF(B4694=\"\",E4693,IF(D4694=\"\",E4693,D4694/MAX($D$8:D4694)-1)))","v":""}]
[null,null,null,null,{"$f":"IF(A4695=\"\",\"\",IF(B4695=\"\",E4694,IF(D4695=\"\",E4694,D4695/MAX($D$8:D4695)-1)))","v":""}]
[null,null,null,null,{"$f":"IF(A4696=\"\",\"\",IF(B4696=\"\",E4695,IF(D4696=\"\",E4695,D4696/MAX($D$8:D4696)-1)))","v":""}]
[null,null,null,null,{"$f":"IF(A4697=\"\",\"\",IF(B4697=\"\",E4696,IF(D4697=\"\",E4696,D4697/MAX($D$8:D4697)-1)))","v":""}]
[null,null,null,null,{"$f":"IF(A4698=\"\",\"\",IF(B4698=\"\",E4697,IF(D4698=\"\",E4697,D4698/MAX($D$8:D4698)-1)))","v":""}]
[null,null,null,null,{"$f":"IF(A4699=\"\",\"\",IF(B4699=\"\",E4698,IF(D4699=\"\",E4698,D4699/MAX($D$8:D4699)-1)))","v":""}]
[null,null,null,null,{"$f":"IF(A4700=\"\",\"\",IF(B4700=\"\",E4699,IF(D4700=\"\",E4699,D4700/MAX($D$8:D4700)-1)))","v":""}]
[null,null,null,null,{"$f":"IF(A4701=\"\",\"\",IF(B4701=\"\",E4700,IF(D4701=\"\",E4700,D4701/MAX($D$8:D4701)-1)))","v":""}]
[null,null,null,null,{"$f":"IF(A4702=\"\",\"\",IF(B4702=\"\",E4701,IF(D4702=\"\",E4701,D4702/MAX($D$8:D4702)-1)))","v":""}]
[null,null,null,null,{"$f":"IF(A4703=\"\",\"\",IF(B4703=\"\",E4702,IF(D4703=\"\",E4702,D4703/MAX($D$8:D4703)-1)))","v":""}]
[null,null,null,null,{"$f":"IF(A4704=\"\",\"\",IF(B4704=\"\",E4703,IF(D4704=\"\",E4703,D4704/MAX($D$8:D4704)-1)))","v":""}]
[null,null,null,null,{"$f":"IF(A4705=\"\",\"\",IF(B4705=\"\",E4704,IF(D4705=\"\",E4704,D4705/MAX($D$8:D4705)-1)))","v":""}]
[null,null,null,null,{"$f":"IF(A4706=\"\",\"\",IF(B4706=\"\",E4705,IF(D4706=\"\",E4705,D4706/MAX($D$8:D4706)-1)))","v":""}]
[null,null,null,null,{"$f":"IF(A4707=\"\",\"\",IF(B4707=\"\",E4706,IF(D4707=\"\",E4706,D4707/MAX($D$8:D4707)-1)))","v":""}]
[null,null,null,null,{"$f":"IF(A4708=\"\",\"\",IF(B4708=\"\",E4707,IF(D4708=\"\",E4707,D4708/MAX($D$8:D4708)-1)))","v":""}]
[null,null,null,null,{"$f":"IF(A4709=\"\",\"\",IF(B4709=\"\",E4708,IF(D4709=\"\",E4708,D4709/MAX($D$8:D4709)-1)))","v":""}]
[null,null,null,null,{"$f":"IF(A4710=\"\",\"\",IF(B4710=\"\",E4709,IF(D4710=\"\",E4709,D4710/MAX($D$8:D4710)-1)))","v":""}]
[null,null,null,null,{"$f":"IF(A4711=\"\",\"\",IF(B4711=\"\",E4710,IF(D4711=\"\",E4710,D4711/MAX($D$8:D4711)-1)))","v":""}]
[null,null,null,null,{"$f":"IF(A4712=\"\",\"\",IF(B4712=\"\",E4711,IF(D4712=\"\",E4711,D4712/MAX($D$8:D4712)-1)))","v":""}]
[null,null,null,null,{"$f":"IF(A4713=\"\",\"\",IF(B4713=\"\",E4712,IF(D4713=\"\",E4712,D4713/MAX($D$8:D4713)-1)))","v":""}]
[null,null,null,null,{"$f":"IF(A4714=\"\",\"\",IF(B4714=\"\",E4713,IF(D4714=\"\",E4713,D4714/MAX($D$8:D4714)-1)))","v":""}]
[null,null,null,null,{"$f":"IF(A4715=\"\",\"\",IF(B4715=\"\",E4714,IF(D4715=\"\",E4714,D4715/MAX($D$8:D4715)-1)))","v":""}]
[null,null,null,null,{"$f":"IF(A4716=\"\",\"\",IF(B4716=\"\",E4715,IF(D4716=\"\",E4715,D4716/MAX($D$8:D4716)-1)))","v":""}]
[null,null,null,null,{"$f":"IF(A4717=\"\",\"\",IF(B4717=\"\",E4716,IF(D4717=\"\",E4716,D4717/MAX($D$8:D4717)-1)))","v":""}]
[null,null,null,null,{"$f":"IF(A4718=\"\",\"\",IF(B4718=\"\",E4717,IF(D4718=\"\",E4717,D4718/MAX($D$8:D4718)-1)))","v":""}]
[null,null,null,null,{"$f":"IF(A4719=\"\",\"\",IF(B4719=\"\",E4718,IF(D4719=\"\",E4718,D4719/MAX($D$8:D4719)-1)))","v":""}]
[null,null,null,null,{"$f":"IF(A4720=\"\",\"\",IF(B4720=\"\",E4719,IF(D4720=\"\",E4719,D4720/MAX($D$8:D4720)-1)))","v":""}]
[null,null,null,null,{"$f":"IF(A4721=\"\",\"\",IF(B4721=\"\",E4720,IF(D4721=\"\",E4720,D4721/MAX($D$8:D4721)-1)))","v":""}]
[null,null,null,null,{"$f":"IF(A4722=\"\",\"\",IF(B4722=\"\",E4721,IF(D4722=\"\",E4721,D4722/MAX($D$8:D4722)-1)))","v":""}]
[null,null,null,null,{"$f":"IF(A4723=\"\",\"\",IF(B4723=\"\",E4722,IF(D4723=\"\",E4722,D4723/MAX($D$8:D4723)-1)))","v":""}]
[null,null,null,null,{"$f":"IF(A4724=\"\",\"\",IF(B4724=\"\",E4723,IF(D4724=\"\",E4723,D4724/MAX($D$8:D4724)-1)))","v":""}]
[null,null,null,null,{"$f":"IF(A4725=\"\",\"\",IF(B4725=\"\",E4724,IF(D4725=\"\",E4724,D4725/MAX($D$8:D4725)-1)))","v":""}]
[null,null,null,null,{"$f":"IF(A4726=\"\",\"\",IF(B4726=\"\",E4725,IF(D4726=\"\",E4725,D4726/MAX($D$8:D4726)-1)))","v":""}]
[null,null,null,null,{"$f":"IF(A4727=\"\",\"\",IF(B4727=\"\",E4726,IF(D4727=\"\",E4726,D4727/MAX($D$8:D4727)-1)))","v":""}]
[null,null,null,null,{"$f":"IF(A4728=\"\",\"\",IF(B4728=\"\",E4727,IF(D4728=\"\",E4727,D4728/MAX($D$8:D4728)-1)))","v":""}]
[null,null,null,null,{"$f":"IF(A4729=\"\",\"\",IF(B4729=\"\",E4728,IF(D4729=\"\",E4728,D4729/MAX($D$8:D4729)-1)))","v":""}]
[null,null,null,null,{"$f":"IF(A4730=\"\",\"\",IF(B4730=\"\",E4729,IF(D4730=\"\",E4729,D4730/MAX($D$8:D4730)-1)))","v":""}]
[null,null,null,null,{"$f":"IF(A4731=\"\",\"\",IF(B4731=\"\",E4730,IF(D4731=\"\",E4730,D4731/MAX($D$8:D4731)-1)))","v":""}]
[null,null,null,null,{"$f":"IF(A4732=\"\",\"\",IF(B4732=\"\",E4731,IF(D4732=\"\",E4731,D4732/MAX($D$8:D4732)-1)))","v":""}]
[null,null,null,null,{"$f":"IF(A4733=\"\",\"\",IF(B4733=\"\",E4732,IF(D4733=\"\",E4732,D4733/MAX($D$8:D4733)-1)))","v":""}]
[null,null,null,null,{"$f":"IF(A4734=\"\",\"\",IF(B4734=\"\",E4733,IF(D4734=\"\",E4733,D4734/MAX($D$8:D4734)-1)))","v":""}]
[null,null,null,null,{"$f":"IF(A4735=\"\",\"\",IF(B4735=\"\",E4734,IF(D4735=\"\",E4734,D4735/MAX($D$8:D4735)-1)))","v":""}]
[null,null,null,null,{"$f":"IF(A4736=\"\",\"\",IF(B4736=\"\",E4735,IF(D4736=\"\",E4735,D4736/MAX($D$8:D4736)-1)))","v":""}]
[null,null,null,null,{"$f":"IF(A4737=\"\",\"\",IF(B4737=\"\",E4736,IF(D4737=\"\",E4736,D4737/MAX($D$8:D4737)-1)))","v":""}]
[null,null,null,null,{"$f":"IF(A4738=\"\",\"\",IF(B4738=\"\",E4737,IF(D4738=\"\",E4737,D4738/MAX($D$8:D4738)-1)))","v":""}]
[null,null,null,null,{"$f":"IF(A4739=\"\",\"\",IF(B4739=\"\",E4738,IF(D4739=\"\",E4738,D4739/MAX($D$8:D4739)-1)))","v":""}]
[null,null,null,null,{"$f":"IF(A4740=\"\",\"\",IF(B4740=\"\",E4739,IF(D4740=\"\",E4739,D4740/MAX($D$8:D4740)-1)))","v":""}]
[null,null,null,null,{"$f":"IF(A4741=\"\",\"\",IF(B4741=\"\",E4740,IF(D4741=\"\",E4740,D4741/MAX($D$8:D4741)-1)))","v":""}]
[null,null,null,null,{"$f":"IF(A4742=\"\",\"\",IF(B4742=\"\",E4741,IF(D4742=\"\",E4741,D4742/MAX($D$8:D4742)-1)))","v":""}]
[null,null,null,null,{"$f":"IF(A4743=\"\",\"\",IF(B4743=\"\",E4742,IF(D4743=\"\",E4742,D4743/MAX($D$8:D4743)-1)))","v":""}]
[null,null,null,null,{"$f":"IF(A4744=\"\",\"\",IF(B4744=\"\",E4743,IF(D4744=\"\",E4743,D4744/MAX($D$8:D4744)-1)))","v":""}]
[null,null,null,null,{"$f":"IF(A4745=\"\",\"\",IF(B4745=\"\",E4744,IF(D4745=\"\",E4744,D4745/MAX($D$8:D4745)-1)))","v":""}]
[null,null,null,null,{"$f":"IF(A4746=\"\",\"\",IF(B4746=\"\",E4745,IF(D4746=\"\",E4745,D4746/MAX($D$8:D4746)-1)))","v":""}]
[null,null,null,null,{"$f":"IF(A4747=\"\",\"\",IF(B4747=\"\",E4746,IF(D4747=\"\",E4746,D4747/MAX($D$8:D4747)-1)))","v":""}]
[null,null,null,null,{"$f":"IF(A4748=\"\",\"\",IF(B4748=\"\",E4747,IF(D4748=\"\",E4747,D4748/MAX($D$8:D4748)-1)))","v":""}]
[null,null,null,null,{"$f":"IF(A4749=\"\",\"\",IF(B4749=\"\",E4748,IF(D4749=\"\",E4748,D4749/MAX($D$8:D4749)-1)))","v":""}]
[null,null,null,null,{"$f":"IF(A4750=\"\",\"\",IF(B4750=\"\",E4749,IF(D4750=\"\",E4749,D4750/MAX($D$8:D4750)-1)))","v":""}]
[null,null,null,null,{"$f":"IF(A4751=\"\",\"\",IF(B4751=\"\",E4750,IF(D4751=\"\",E4750,D4751/MAX($D$8:D4751)-1)))","v":""}]
[null,null,null,null,{"$f":"IF(A4752=\"\",\"\",IF(B4752=\"\",E4751,IF(D4752=\"\",E4751,D4752/MAX($D$8:D4752)-1)))","v":""}]
[null,null,null,null,{"$f":"IF(A4753=\"\",\"\",IF(B4753=\"\",E4752,IF(D4753=\"\",E4752,D4753/MAX($D$8:D4753)-1)))","v":""}]
[null,null,null,null,{"$f":"IF(A4754=\"\",\"\",IF(B4754=\"\",E4753,IF(D4754=\"\",E4753,D4754/MAX($D$8:D4754)-1)))","v":""}]
[null,null,null,null,{"$f":"IF(A4755=\"\",\"\",IF(B4755=\"\",E4754,IF(D4755=\"\",E4754,D4755/MAX($D$8:D4755)-1)))","v":""}]
[null,null,null,null,{"$f":"IF(A4756=\"\",\"\",IF(B4756=\"\",E4755,IF(D4756=\"\",E4755,D4756/MAX($D$8:D4756)-1)))","v":""}]
[null,null,null,null,{"$f":"IF(A4757=\"\",\"\",IF(B4757=\"\",E4756,IF(D4757=\"\",E4756,D4757/MAX($D$8:D4757)-1)))","v":""}]
[null,null,null,null,{"$f":"IF(A4758=\"\",\"\",IF(B4758=\"\",E4757,IF(D4758=\"\",E4757,D4758/MAX($D$8:D4758)-1)))","v":""}]
[null,null,null,null,{"$f":"IF(A4759=\"\",\"\",IF(B4759=\"\",E4758,IF(D4759=\"\",E4758,D4759/MAX($D$8:D4759)-1)))","v":""}]
[null,null,null,null,{"$f":"IF(A4760=\"\",\"\",IF(B4760=\"\",E4759,IF(D4760=\"\",E4759,D4760/MAX($D$8:D4760)-1)))","v":""}]
[null,null,null,null,{"$f":"IF(A4761=\"\",\"\",IF(B4761=\"\",E4760,IF(D4761=\"\",E4760,D4761/MAX($D$8:D4761)-1)))","v":""}]
[null,null,null,null,{"$f":"IF(A4762=\"\",\"\",IF(B4762=\"\",E4761,IF(D4762=\"\",E4761,D4762/MAX($D$8:D4762)-1)))","v":""}]
[null,null,null,null,{"$f":"IF(A4763=\"\",\"\",IF(B4763=\"\",E4762,IF(D4763=\"\",E4762,D4763/MAX($D$8:D4763)-1)))","v":""}]
[null,null,null,null,{"$f":"IF(A4764=\"\",\"\",IF(B4764=\"\",E4763,IF(D4764=\"\",E4763,D4764/MAX($D$8:D4764)-1)))","v":""}]
[null,null,null,null,{"$f":"IF(A4765=\"\",\"\",IF(B4765=\"\",E4764,IF(D4765=\"\",E4764,D4765/MAX($D$8:D4765)-1)))","v":""}]
[null,null,null,null,{"$f":"IF(A4766=\"\",\"\",IF(B4766=\"\",E4765,IF(D4766=\"\",E4765,D4766/MAX($D$8:D4766)-1)))","v":""}]
[null,null,null,null,{"$f":"IF(A4767=\"\",\"\",IF(B4767=\"\",E4766,IF(D4767=\"\",E4766,D4767/MAX($D$8:D4767)-1)))","v":""}]
[null,null,null,null,{"$f":"IF(A4768=\"\",\"\",IF(B4768=\"\",E4767,IF(D4768=\"\",E4767,D4768/MAX($D$8:D4768)-1)))","v":""}]
[null,null,null,null,{"$f":"IF(A4769=\"\",\"\",IF(B4769=\"\",E4768,IF(D4769=\"\",E4768,D4769/MAX($D$8:D4769)-1)))","v":""}]
[null,null,null,null,{"$f":"IF(A4770=\"\",\"\",IF(B4770=\"\",E4769,IF(D4770=\"\",E4769,D4770/MAX($D$8:D4770)-1)))","v":""}]
[null,null,null,null,{"$f":"IF(A4771=\"\",\"\",IF(B4771=\"\",E4770,IF(D4771=\"\",E4770,D4771/MAX($D$8:D4771)-1)))","v":""}]
[null,null,null,null,{"$f":"IF(A4772=\"\",\"\",IF(B4772=\"\",E4771,IF(D4772=\"\",E4771,D4772/MAX($D$8:D4772)-1)))","v":""}]
[null,null,null,null,{"$f":"IF(A4773=\"\",\"\",IF(B4773=\"\",E4772,IF(D4773=\"\",E4772,D4773/MAX($D$8:D4773)-1)))","v":""}]
[null,null,null,null,{"$f":"IF(A4774=\"\",\"\",IF(B4774=\"\",E4773,IF(D4774=\"\",E4773,D4774/MAX($D$8:D4774)-1)))","v":""}]
[null,null,null,null,{"$f":"IF(A4775=\"\",\"\",IF(B4775=\"\",E4774,IF(D4775=\"\",E4774,D4775/MAX($D$8:D4775)-1)))","v":""}]
[null,null,null,null,{"$f":"IF(A4776=\"\",\"\",IF(B4776=\"\",E4775,IF(D4776=\"\",E4775,D4776/MAX($D$8:D4776)-1)))","v":""}]
[null,null,null,null,{"$f":"IF(A4777=\"\",\"\",IF(B4777=\"\",E4776,IF(D4777=\"\",E4776,D4777/MAX($D$8:D4777)-1)))","v":""}]
[null,null,null,null,{"$f":"IF(A4778=\"\",\"\",IF(B4778=\"\",E4777,IF(D4778=\"\",E4777,D4778/MAX($D$8:D4778)-1)))","v":""}]
[null,null,null,null,{"$f":"IF(A4779=\"\",\"\",IF(B4779=\"\",E4778,IF(D4779=\"\",E4778,D4779/MAX($D$8:D4779)-1)))","v":""}]
[null,null,null,null,{"$f":"IF(A4780=\"\",\"\",IF(B4780=\"\",E4779,IF(D4780=\"\",E4779,D4780/MAX($D$8:D4780)-1)))","v":""}]
[null,null,null,null,{"$f":"IF(A4781=\"\",\"\",IF(B4781=\"\",E4780,IF(D4781=\"\",E4780,D4781/MAX($D$8:D4781)-1)))","v":""}]
[null,null,null,null,{"$f":"IF(A4782=\"\",\"\",IF(B4782=\"\",E4781,IF(D4782=\"\",E4781,D4782/MAX($D$8:D4782)-1)))","v":""}]
[null,null,null,null,{"$f":"IF(A4783=\"\",\"\",IF(B4783=\"\",E4782,IF(D4783=\"\",E4782,D4783/MAX($D$8:D4783)-1)))","v":""}]
[null,null,null,null,{"$f":"IF(A4784=\"\",\"\",IF(B4784=\"\",E4783,IF(D4784=\"\",E4783,D4784/MAX($D$8:D4784)-1)))","v":""}]
[null,null,null,null,{"$f":"IF(A4785=\"\",\"\",IF(B4785=\"\",E4784,IF(D4785=\"\",E4784,D4785/MAX($D$8:D4785)-1)))","v":""}]
[null,null,null,null,{"$f":"IF(A4786=\"\",\"\",IF(B4786=\"\",E4785,IF(D4786=\"\",E4785,D4786/MAX($D$8:D4786)-1)))","v":""}]
[null,null,null,null,{"$f":"IF(A4787=\"\",\"\",IF(B4787=\"\",E4786,IF(D4787=\"\",E4786,D4787/MAX($D$8:D4787)-1)))","v":""}]
[null,null,null,null,{"$f":"IF(A4788=\"\",\"\",IF(B4788=\"\",E4787,IF(D4788=\"\",E4787,D4788/MAX($D$8:D4788)-1)))","v":""}]
[null,null,null,null,{"$f":"IF(A4789=\"\",\"\",IF(B4789=\"\",E4788,IF(D4789=\"\",E4788,D4789/MAX($D$8:D4789)-1)))","v":""}]
[null,null,null,null,{"$f":"IF(A4790=\"\",\"\",IF(B4790=\"\",E4789,IF(D4790=\"\",E4789,D4790/MAX($D$8:D4790)-1)))","v":""}]
[null,null,null,null,{"$f":"IF(A4791=\"\",\"\",IF(B4791=\"\",E4790,IF(D4791=\"\",E4790,D4791/MAX($D$8:D4791)-1)))","v":""}]
[null,null,null,null,{"$f":"IF(A4792=\"\",\"\",IF(B4792=\"\",E4791,IF(D4792=\"\",E4791,D4792/MAX($D$8:D4792)-1)))","v":""}]
[null,null,null,null,{"$f":"IF(A4793=\"\",\"\",IF(B4793=\"\",E4792,IF(D4793=\"\",E4792,D4793/MAX($D$8:D4793)-1)))","v":""}]
[null,null,null,null,{"$f":"IF(A4794=\"\",\"\",IF(B4794=\"\",E4793,IF(D4794=\"\",E4793,D4794/MAX($D$8:D4794)-1)))","v":""}]
[null,null,null,null,{"$f":"IF(A4795=\"\",\"\",IF(B4795=\"\",E4794,IF(D4795=\"\",E4794,D4795/MAX($D$8:D4795)-1)))","v":""}]
[null,null,null,null,{"$f":"IF(A4796=\"\",\"\",IF(B4796=\"\",E4795,IF(D4796=\"\",E4795,D4796/MAX($D$8:D4796)-1)))","v":""}]
[null,null,null,null,{"$f":"IF(A4797=\"\",\"\",IF(B4797=\"\",E4796,IF(D4797=\"\",E4796,D4797/MAX($D$8:D4797)-1)))","v":""}]
[null,null,null,null,{"$f":"IF(A4798=\"\",\"\",IF(B4798=\"\",E4797,IF(D4798=\"\",E4797,D4798/MAX($D$8:D4798)-1)))","v":""}]
[null,null,null,null,{"$f":"IF(A4799=\"\",\"\",IF(B4799=\"\",E4798,IF(D4799=\"\",E4798,D4799/MAX($D$8:D4799)-1)))","v":""}]
[null,null,null,null,{"$f":"IF(A4800=\"\",\"\",IF(B4800=\"\",E4799,IF(D4800=\"\",E4799,D4800/MAX($D$8:D4800)-1)))","v":""}]
[null,null,null,null,{"$f":"IF(A4801=\"\",\"\",IF(B4801=\"\",E4800,IF(D4801=\"\",E4800,D4801/MAX($D$8:D4801)-1)))","v":""}]
[null,null,null,null,{"$f":"IF(A4802=\"\",\"\",IF(B4802=\"\",E4801,IF(D4802=\"\",E4801,D4802/MAX($D$8:D4802)-1)))","v":""}]
[null,null,null,null,{"$f":"IF(A4803=\"\",\"\",IF(B4803=\"\",E4802,IF(D4803=\"\",E4802,D4803/MAX($D$8:D4803)-1)))","v":""}]
[null,null,null,null,{"$f":"IF(A4804=\"\",\"\",IF(B4804=\"\",E4803,IF(D4804=\"\",E4803,D4804/MAX($D$8:D4804)-1)))","v":""}]
[null,null,null,null,{"$f":"IF(A4805=\"\",\"\",IF(B4805=\"\",E4804,IF(D4805=\"\",E4804,D4805/MAX($D$8:D4805)-1)))","v":""}]
[null,null,null,null,{"$f":"IF(A4806=\"\",\"\",IF(B4806=\"\",E4805,IF(D4806=\"\",E4805,D4806/MAX($D$8:D4806)-1)))","v":""}]
[null,null,null,null,{"$f":"IF(A4807=\"\",\"\",IF(B4807=\"\",E4806,IF(D4807=\"\",E4806,D4807/MAX($D$8:D4807)-1)))","v":""}]
[null,null,null,null,{"$f":"IF(A4808=\"\",\"\",IF(B4808=\"\",E4807,IF(D4808=\"\",E4807,D4808/MAX($D$8:D4808)-1)))","v":""}]
[null,null,null,null,{"$f":"IF(A4809=\"\",\"\",IF(B4809=\"\",E4808,IF(D4809=\"\",E4808,D4809/MAX($D$8:D4809)-1)))","v":""}]
[null,null,null,null,{"$f":"IF(A4810=\"\",\"\",IF(B4810=\"\",E4809,IF(D4810=\"\",E4809,D4810/MAX($D$8:D4810)-1)))","v":""}]
[null,null,null,null,{"$f":"IF(A4811=\"\",\"\",IF(B4811=\"\",E4810,IF(D4811=\"\",E4810,D4811/MAX($D$8:D4811)-1)))","v":""}]
[null,null,null,null,{"$f":"IF(A4812=\"\",\"\",IF(B4812=\"\",E4811,IF(D4812=\"\",E4811,D4812/MAX($D$8:D4812)-1)))","v":""}]
[null,null,null,null,{"$f":"IF(A4813=\"\",\"\",IF(B4813=\"\",E4812,IF(D4813=\"\",E4812,D4813/MAX($D$8:D4813)-1)))","v":""}]
[null,null,null,null,{"$f":"IF(A4814=\"\",\"\",IF(B4814=\"\",E4813,IF(D4814=\"\",E4813,D4814/MAX($D$8:D4814)-1)))","v":""}]
[null,null,null,null,{"$f":"IF(A4815=\"\",\"\",IF(B4815=\"\",E4814,IF(D4815=\"\",E4814,D4815/MAX($D$8:D4815)-1)))","v":""}]
[null,null,null,null,{"$f":"IF(A4816=\"\",\"\",IF(B4816=\"\",E4815,IF(D4816=\"\",E4815,D4816/MAX($D$8:D4816)-1)))","v":""}]
[null,null,null,null,{"$f":"IF(A4817=\"\",\"\",IF(B4817=\"\",E4816,IF(D4817=\"\",E4816,D4817/MAX($D$8:D4817)-1)))","v":""}]
[null,null,null,null,{"$f":"IF(A4818=\"\",\"\",IF(B4818=\"\",E4817,IF(D4818=\"\",E4817,D4818/MAX($D$8:D4818)-1)))","v":""}]
[null,null,null,null,{"$f":"IF(A4819=\"\",\"\",IF(B4819=\"\",E4818,IF(D4819=\"\",E4818,D4819/MAX($D$8:D4819)-1)))","v":""}]
[null,null,null,null,{"$f":"IF(A4820=\"\",\"\",IF(B4820=\"\",E4819,IF(D4820=\"\",E4819,D4820/MAX($D$8:D4820)-1)))","v":""}]
[null,null,null,null,{"$f":"IF(A4821=\"\",\"\",IF(B4821=\"\",E4820,IF(D4821=\"\",E4820,D4821/MAX($D$8:D4821)-1)))","v":""}]
[null,null,null,null,{"$f":"IF(A4822=\"\",\"\",IF(B4822=\"\",E4821,IF(D4822=\"\",E4821,D4822/MAX($D$8:D4822)-1)))","v":""}]
[null,null,null,null,{"$f":"IF(A4823=\"\",\"\",IF(B4823=\"\",E4822,IF(D4823=\"\",E4822,D4823/MAX($D$8:D4823)-1)))","v":""}]
[null,null,null,null,{"$f":"IF(A4824=\"\",\"\",IF(B4824=\"\",E4823,IF(D4824=\"\",E4823,D4824/MAX($D$8:D4824)-1)))","v":""}]
[null,null,null,null,{"$f":"IF(A4825=\"\",\"\",IF(B4825=\"\",E4824,IF(D4825=\"\",E4824,D4825/MAX($D$8:D4825)-1)))","v":""}]
[null,null,null,null,{"$f":"IF(A4826=\"\",\"\",IF(B4826=\"\",E4825,IF(D4826=\"\",E4825,D4826/MAX($D$8:D4826)-1)))","v":""}]
[null,null,null,null,{"$f":"IF(A4827=\"\",\"\",IF(B4827=\"\",E4826,IF(D4827=\"\",E4826,D4827/MAX($D$8:D4827)-1)))","v":""}]
[null,null,null,null,{"$f":"IF(A4828=\"\",\"\",IF(B4828=\"\",E4827,IF(D4828=\"\",E4827,D4828/MAX($D$8:D4828)-1)))","v":""}]
[null,null,null,null,{"$f":"IF(A4829=\"\",\"\",IF(B4829=\"\",E4828,IF(D4829=\"\",E4828,D4829/MAX($D$8:D4829)-1)))","v":""}]
[null,null,null,null,{"$f":"IF(A4830=\"\",\"\",IF(B4830=\"\",E4829,IF(D4830=\"\",E4829,D4830/MAX($D$8:D4830)-1)))","v":""}]
[null,null,null,null,{"$f":"IF(A4831=\"\",\"\",IF(B4831=\"\",E4830,IF(D4831=\"\",E4830,D4831/MAX($D$8:D4831)-1)))","v":""}]
[null,null,null,null,{"$f":"IF(A4832=\"\",\"\",IF(B4832=\"\",E4831,IF(D4832=\"\",E4831,D4832/MAX($D$8:D4832)-1)))","v":""}]
[null,null,null,null,{"$f":"IF(A4833=\"\",\"\",IF(B4833=\"\",E4832,IF(D4833=\"\",E4832,D4833/MAX($D$8:D4833)-1)))","v":""}]
[null,null,null,null,{"$f":"IF(A4834=\"\",\"\",IF(B4834=\"\",E4833,IF(D4834=\"\",E4833,D4834/MAX($D$8:D4834)-1)))","v":""}]
[null,null,null,null,{"$f":"IF(A4835=\"\",\"\",IF(B4835=\"\",E4834,IF(D4835=\"\",E4834,D4835/MAX($D$8:D4835)-1)))","v":""}]
[null,null,null,null,{"$f":"IF(A4836=\"\",\"\",IF(B4836=\"\",E4835,IF(D4836=\"\",E4835,D4836/MAX($D$8:D4836)-1)))","v":""}]
[null,null,null,null,{"$f":"IF(A4837=\"\",\"\",IF(B4837=\"\",E4836,IF(D4837=\"\",E4836,D4837/MAX($D$8:D4837)-1)))","v":""}]
[null,null,null,null,{"$f":"IF(A4838=\"\",\"\",IF(B4838=\"\",E4837,IF(D4838=\"\",E4837,D4838/MAX($D$8:D4838)-1)))","v":""}]
[null,null,null,null,{"$f":"IF(A4839=\"\",\"\",IF(B4839=\"\",E4838,IF(D4839=\"\",E4838,D4839/MAX($D$8:D4839)-1)))","v":""}]
[null,null,null,null,{"$f":"IF(A4840=\"\",\"\",IF(B4840=\"\",E4839,IF(D4840=\"\",E4839,D4840/MAX($D$8:D4840)-1)))","v":""}]
[null,null,null,null,{"$f":"IF(A4841=\"\",\"\",IF(B4841=\"\",E4840,IF(D4841=\"\",E4840,D4841/MAX($D$8:D4841)-1)))","v":""}]
[null,null,null,null,{"$f":"IF(A4842=\"\",\"\",IF(B4842=\"\",E4841,IF(D4842=\"\",E4841,D4842/MAX($D$8:D4842)-1)))","v":""}]
[null,null,null,null,{"$f":"IF(A4843=\"\",\"\",IF(B4843=\"\",E4842,IF(D4843=\"\",E4842,D4843/MAX($D$8:D4843)-1)))","v":""}]
[null,null,null,null,{"$f":"IF(A4844=\"\",\"\",IF(B4844=\"\",E4843,IF(D4844=\"\",E4843,D4844/MAX($D$8:D4844)-1)))","v":""}]
[null,null,null,null,{"$f":"IF(A4845=\"\",\"\",IF(B4845=\"\",E4844,IF(D4845=\"\",E4844,D4845/MAX($D$8:D4845)-1)))","v":""}]
[null,null,null,null,{"$f":"IF(A4846=\"\",\"\",IF(B4846=\"\",E4845,IF(D4846=\"\",E4845,D4846/MAX($D$8:D4846)-1)))","v":""}]
[null,null,null,null,{"$f":"IF(A4847=\"\",\"\",IF(B4847=\"\",E4846,IF(D4847=\"\",E4846,D4847/MAX($D$8:D4847)-1)))","v":""}]
[null,null,null,null,{"$f":"IF(A4848=\"\",\"\",IF(B4848=\"\",E4847,IF(D4848=\"\",E4847,D4848/MAX($D$8:D4848)-1)))","v":""}]
[null,null,null,null,{"$f":"IF(A4849=\"\",\"\",IF(B4849=\"\",E4848,IF(D4849=\"\",E4848,D4849/MAX($D$8:D4849)-1)))","v":""}]
[null,null,null,null,{"$f":"IF(A4850=\"\",\"\",IF(B4850=\"\",E4849,IF(D4850=\"\",E4849,D4850/MAX($D$8:D4850)-1)))","v":""}]
[null,null,null,null,{"$f":"IF(A4851=\"\",\"\",IF(B4851=\"\",E4850,IF(D4851=\"\",E4850,D4851/MAX($D$8:D4851)-1)))","v":""}]
[null,null,null,null,{"$f":"IF(A4852=\"\",\"\",IF(B4852=\"\",E4851,IF(D4852=\"\",E4851,D4852/MAX($D$8:D4852)-1)))","v":""}]
[null,null,null,null,{"$f":"IF(A4853=\"\",\"\",IF(B4853=\"\",E4852,IF(D4853=\"\",E4852,D4853/MAX($D$8:D4853)-1)))","v":""}]
[null,null,null,null,{"$f":"IF(A4854=\"\",\"\",IF(B4854=\"\",E4853,IF(D4854=\"\",E4853,D4854/MAX($D$8:D4854)-1)))","v":""}]
[null,null,null,null,{"$f":"IF(A4855=\"\",\"\",IF(B4855=\"\",E4854,IF(D4855=\"\",E4854,D4855/MAX($D$8:D4855)-1)))","v":""}]
[null,null,null,null,{"$f":"IF(A4856=\"\",\"\",IF(B4856=\"\",E4855,IF(D4856=\"\",E4855,D4856/MAX($D$8:D4856)-1)))","v":""}]
[null,null,null,null,{"$f":"IF(A4857=\"\",\"\",IF(B4857=\"\",E4856,IF(D4857=\"\",E4856,D4857/MAX($D$8:D4857)-1)))","v":""}]
[null,null,null,null,{"$f":"IF(A4858=\"\",\"\",IF(B4858=\"\",E4857,IF(D4858=\"\",E4857,D4858/MAX($D$8:D4858)-1)))","v":""}]
[null,null,null,null,{"$f":"IF(A4859=\"\",\"\",IF(B4859=\"\",E4858,IF(D4859=\"\",E4858,D4859/MAX($D$8:D4859)-1)))","v":""}]
[null,null,null,null,{"$f":"IF(A4860=\"\",\"\",IF(B4860=\"\",E4859,IF(D4860=\"\",E4859,D4860/MAX($D$8:D4860)-1)))","v":""}]
[null,null,null,null,{"$f":"IF(A4861=\"\",\"\",IF(B4861=\"\",E4860,IF(D4861=\"\",E4860,D4861/MAX($D$8:D4861)-1)))","v":""}]
[null,null,null,null,{"$f":"IF(A4862=\"\",\"\",IF(B4862=\"\",E4861,IF(D4862=\"\",E4861,D4862/MAX($D$8:D4862)-1)))","v":""}]
[null,null,null,null,{"$f":"IF(A4863=\"\",\"\",IF(B4863=\"\",E4862,IF(D4863=\"\",E4862,D4863/MAX($D$8:D4863)-1)))","v":""}]
[null,null,null,null,{"$f":"IF(A4864=\"\",\"\",IF(B4864=\"\",E4863,IF(D4864=\"\",E4863,D4864/MAX($D$8:D4864)-1)))","v":""}]
[null,null,null,null,{"$f":"IF(A4865=\"\",\"\",IF(B4865=\"\",E4864,IF(D4865=\"\",E4864,D4865/MAX($D$8:D4865)-1)))","v":""}]
[null,null,null,null,{"$f":"IF(A4866=\"\",\"\",IF(B4866=\"\",E4865,IF(D4866=\"\",E4865,D4866/MAX($D$8:D4866)-1)))","v":""}]
[null,null,null,null,{"$f":"IF(A4867=\"\",\"\",IF(B4867=\"\",E4866,IF(D4867=\"\",E4866,D4867/MAX($D$8:D4867)-1)))","v":""}]
[null,null,null,null,{"$f":"IF(A4868=\"\",\"\",IF(B4868=\"\",E4867,IF(D4868=\"\",E4867,D4868/MAX($D$8:D4868)-1)))","v":""}]
[null,null,null,null,{"$f":"IF(A4869=\"\",\"\",IF(B4869=\"\",E4868,IF(D4869=\"\",E4868,D4869/MAX($D$8:D4869)-1)))","v":""}]
[null,null,null,null,{"$f":"IF(A4870=\"\",\"\",IF(B4870=\"\",E4869,IF(D4870=\"\",E4869,D4870/MAX($D$8:D4870)-1)))","v":""}]
[null,null,null,null,{"$f":"IF(A4871=\"\",\"\",IF(B4871=\"\",E4870,IF(D4871=\"\",E4870,D4871/MAX($D$8:D4871)-1)))","v":""}]
[null,null,null,null,{"$f":"IF(A4872=\"\",\"\",IF(B4872=\"\",E4871,IF(D4872=\"\",E4871,D4872/MAX($D$8:D4872)-1)))","v":""}]
[null,null,null,null,{"$f":"IF(A4873=\"\",\"\",IF(B4873=\"\",E4872,IF(D4873=\"\",E4872,D4873/MAX($D$8:D4873)-1)))","v":""}]
[null,null,null,null,{"$f":"IF(A4874=\"\",\"\",IF(B4874=\"\",E4873,IF(D4874=\"\",E4873,D4874/MAX($D$8:D4874)-1)))","v":""}]
[null,null,null,null,{"$f":"IF(A4875=\"\",\"\",IF(B4875=\"\",E4874,IF(D4875=\"\",E4874,D4875/MAX($D$8:D4875)-1)))","v":""}]
[null,null,null,null,{"$f":"IF(A4876=\"\",\"\",IF(B4876=\"\",E4875,IF(D4876=\"\",E4875,D4876/MAX($D$8:D4876)-1)))","v":""}]
[null,null,null,null,{"$f":"IF(A4877=\"\",\"\",IF(B4877=\"\",E4876,IF(D4877=\"\",E4876,D4877/MAX($D$8:D4877)-1)))","v":""}]
[null,null,null,null,{"$f":"IF(A4878=\"\",\"\",IF(B4878=\"\",E4877,IF(D4878=\"\",E4877,D4878/MAX($D$8:D4878)-1)))","v":""}]
[null,null,null,null,{"$f":"IF(A4879=\"\",\"\",IF(B4879=\"\",E4878,IF(D4879=\"\",E4878,D4879/MAX($D$8:D4879)-1)))","v":""}]
[null,null,null,null,{"$f":"IF(A4880=\"\",\"\",IF(B4880=\"\",E4879,IF(D4880=\"\",E4879,D4880/MAX($D$8:D4880)-1)))","v":""}]
[null,null,null,null,{"$f":"IF(A4881=\"\",\"\",IF(B4881=\"\",E4880,IF(D4881=\"\",E4880,D4881/MAX($D$8:D4881)-1)))","v":""}]
[null,null,null,null,{"$f":"IF(A4882=\"\",\"\",IF(B4882=\"\",E4881,IF(D4882=\"\",E4881,D4882/MAX($D$8:D4882)-1)))","v":""}]
[null,null,null,null,{"$f":"IF(A4883=\"\",\"\",IF(B4883=\"\",E4882,IF(D4883=\"\",E4882,D4883/MAX($D$8:D4883)-1)))","v":""}]
[null,null,null,null,{"$f":"IF(A4884=\"\",\"\",IF(B4884=\"\",E4883,IF(D4884=\"\",E4883,D4884/MAX($D$8:D4884)-1)))","v":""}]
[null,null,null,null,{"$f":"IF(A4885=\"\",\"\",IF(B4885=\"\",E4884,IF(D4885=\"\",E4884,D4885/MAX($D$8:D4885)-1)))","v":""}]
[null,null,null,null,{"$f":"IF(A4886=\"\",\"\",IF(B4886=\"\",E4885,IF(D4886=\"\",E4885,D4886/MAX($D$8:D4886)-1)))","v":""}]
[null,null,null,null,{"$f":"IF(A4887=\"\",\"\",IF(B4887=\"\",E4886,IF(D4887=\"\",E4886,D4887/MAX($D$8:D4887)-1)))","v":""}]
[null,null,null,null,{"$f":"IF(A4888=\"\",\"\",IF(B4888=\"\",E4887,IF(D4888=\"\",E4887,D4888/MAX($D$8:D4888)-1)))","v":""}]
[null,null,null,null,{"$f":"IF(A4889=\"\",\"\",IF(B4889=\"\",E4888,IF(D4889=\"\",E4888,D4889/MAX($D$8:D4889)-1)))","v":""}]
[null,null,null,null,{"$f":"IF(A4890=\"\",\"\",IF(B4890=\"\",E4889,IF(D4890=\"\",E4889,D4890/MAX($D$8:D4890)-1)))","v":""}]
[null,null,null,null,{"$f":"IF(A4891=\"\",\"\",IF(B4891=\"\",E4890,IF(D4891=\"\",E4890,D4891/MAX($D$8:D4891)-1)))","v":""}]
[null,null,null,null,{"$f":"IF(A4892=\"\",\"\",IF(B4892=\"\",E4891,IF(D4892=\"\",E4891,D4892/MAX($D$8:D4892)-1)))","v":""}]
[null,null,null,null,{"$f":"IF(A4893=\"\",\"\",IF(B4893=\"\",E4892,IF(D4893=\"\",E4892,D4893/MAX($D$8:D4893)-1)))","v":""}]
[null,null,null,null,{"$f":"IF(A4894=\"\",\"\",IF(B4894=\"\",E4893,IF(D4894=\"\",E4893,D4894/MAX($D$8:D4894)-1)))","v":""}]
[null,null,null,null,{"$f":"IF(A4895=\"\",\"\",IF(B4895=\"\",E4894,IF(D4895=\"\",E4894,D4895/MAX($D$8:D4895)-1)))","v":""}]
[null,null,null,null,{"$f":"IF(A4896=\"\",\"\",IF(B4896=\"\",E4895,IF(D4896=\"\",E4895,D4896/MAX($D$8:D4896)-1)))","v":""}]
[null,null,null,null,{"$f":"IF(A4897=\"\",\"\",IF(B4897=\"\",E4896,IF(D4897=\"\",E4896,D4897/MAX($D$8:D4897)-1)))","v":""}]
[null,null,null,null,{"$f":"IF(A4898=\"\",\"\",IF(B4898=\"\",E4897,IF(D4898=\"\",E4897,D4898/MAX($D$8:D4898)-1)))","v":""}]
[null,null,null,null,{"$f":"IF(A4899=\"\",\"\",IF(B4899=\"\",E4898,IF(D4899=\"\",E4898,D4899/MAX($D$8:D4899)-1)))","v":""}]
[null,null,null,null,{"$f":"IF(A4900=\"\",\"\",IF(B4900=\"\",E4899,IF(D4900=\"\",E4899,D4900/MAX($D$8:D4900)-1)))","v":""}]
[null,null,null,null,{"$f":"IF(A4901=\"\",\"\",IF(B4901=\"\",E4900,IF(D4901=\"\",E4900,D4901/MAX($D$8:D4901)-1)))","v":""}]
[null,null,null,null,{"$f":"IF(A4902=\"\",\"\",IF(B4902=\"\",E4901,IF(D4902=\"\",E4901,D4902/MAX($D$8:D4902)-1)))","v":""}]
[null,null,null,null,{"$f":"IF(A4903=\"\",\"\",IF(B4903=\"\",E4902,IF(D4903=\"\",E4902,D4903/MAX($D$8:D4903)-1)))","v":""}]
[null,null,null,null,{"$f":"IF(A4904=\"\",\"\",IF(B4904=\"\",E4903,IF(D4904=\"\",E4903,D4904/MAX($D$8:D4904)-1)))","v":""}]
[null,null,null,null,{"$f":"IF(A4905=\"\",\"\",IF(B4905=\"\",E4904,IF(D4905=\"\",E4904,D4905/MAX($D$8:D4905)-1)))","v":""}]
[null,null,null,null,{"$f":"IF(A4906=\"\",\"\",IF(B4906=\"\",E4905,IF(D4906=\"\",E4905,D4906/MAX($D$8:D4906)-1)))","v":""}]
[null,null,null,null,{"$f":"IF(A4907=\"\",\"\",IF(B4907=\"\",E4906,IF(D4907=\"\",E4906,D4907/MAX($D$8:D4907)-1)))","v":""}]
[null,null,null,null,{"$f":"IF(A4908=\"\",\"\",IF(B4908=\"\",E4907,IF(D4908=\"\",E4907,D4908/MAX($D$8:D4908)-1)))","v":""}]
[null,null,null,null,{"$f":"IF(A4909=\"\",\"\",IF(B4909=\"\",E4908,IF(D4909=\"\",E4908,D4909/MAX($D$8:D4909)-1)))","v":""}]
[null,null,null,null,{"$f":"IF(A4910=\"\",\"\",IF(B4910=\"\",E4909,IF(D4910=\"\",E4909,D4910/MAX($D$8:D4910)-1)))","v":""}]
[null,null,null,null,{"$f":"IF(A4911=\"\",\"\",IF(B4911=\"\",E4910,IF(D4911=\"\",E4910,D4911/MAX($D$8:D4911)-1)))","v":""}]
[null,null,null,null,{"$f":"IF(A4912=\"\",\"\",IF(B4912=\"\",E4911,IF(D4912=\"\",E4911,D4912/MAX($D$8:D4912)-1)))","v":""}]
[null,null,null,null,{"$f":"IF(A4913=\"\",\"\",IF(B4913=\"\",E4912,IF(D4913=\"\",E4912,D4913/MAX($D$8:D4913)-1)))","v":""}]
[null,null,null,null,{"$f":"IF(A4914=\"\",\"\",IF(B4914=\"\",E4913,IF(D4914=\"\",E4913,D4914/MAX($D$8:D4914)-1)))","v":""}]
[null,null,null,null,{"$f":"IF(A4915=\"\",\"\",IF(B4915=\"\",E4914,IF(D4915=\"\",E4914,D4915/MAX($D$8:D4915)-1)))","v":""}]
[null,null,null,null,{"$f":"IF(A4916=\"\",\"\",IF(B4916=\"\",E4915,IF(D4916=\"\",E4915,D4916/MAX($D$8:D4916)-1)))","v":""}]
[null,null,null,null,{"$f":"IF(A4917=\"\",\"\",IF(B4917=\"\",E4916,IF(D4917=\"\",E4916,D4917/MAX($D$8:D4917)-1)))","v":""}]
[null,null,null,null,{"$f":"IF(A4918=\"\",\"\",IF(B4918=\"\",E4917,IF(D4918=\"\",E4917,D4918/MAX($D$8:D4918)-1)))","v":""}]
[null,null,null,null,{"$f":"IF(A4919=\"\",\"\",IF(B4919=\"\",E4918,IF(D4919=\"\",E4918,D4919/MAX($D$8:D4919)-1)))","v":""}]
[null,null,null,null,{"$f":"IF(A4920=\"\",\"\",IF(B4920=\"\",E4919,IF(D4920=\"\",E4919,D4920/MAX($D$8:D4920)-1)))","v":""}]
[null,null,null,null,{"$f":"IF(A4921=\"\",\"\",IF(B4921=\"\",E4920,IF(D4921=\"\",E4920,D4921/MAX($D$8:D4921)-1)))","v":""}]
[null,null,null,null,{"$f":"IF(A4922=\"\",\"\",IF(B4922=\"\",E4921,IF(D4922=\"\",E4921,D4922/MAX($D$8:D4922)-1)))","v":""}]
[null,null,null,null,{"$f":"IF(A4923=\"\",\"\",IF(B4923=\"\",E4922,IF(D4923=\"\",E4922,D4923/MAX($D$8:D4923)-1)))","v":""}]
[null,null,null,null,{"$f":"IF(A4924=\"\",\"\",IF(B4924=\"\",E4923,IF(D4924=\"\",E4923,D4924/MAX($D$8:D4924)-1)))","v":""}]
[null,null,null,null,{"$f":"IF(A4925=\"\",\"\",IF(B4925=\"\",E4924,IF(D4925=\"\",E4924,D4925/MAX($D$8:D4925)-1)))","v":""}]
[null,null,null,null,{"$f":"IF(A4926=\"\",\"\",IF(B4926=\"\",E4925,IF(D4926=\"\",E4925,D4926/MAX($D$8:D4926)-1)))","v":""}]
[null,null,null,null,{"$f":"IF(A4927=\"\",\"\",IF(B4927=\"\",E4926,IF(D4927=\"\",E4926,D4927/MAX($D$8:D4927)-1)))","v":""}]
[null,null,null,null,{"$f":"IF(A4928=\"\",\"\",IF(B4928=\"\",E4927,IF(D4928=\"\",E4927,D4928/MAX($D$8:D4928)-1)))","v":""}]
[null,null,null,null,{"$f":"IF(A4929=\"\",\"\",IF(B4929=\"\",E4928,IF(D4929=\"\",E4928,D4929/MAX($D$8:D4929)-1)))","v":""}]
[null,null,null,null,{"$f":"IF(A4930=\"\",\"\",IF(B4930=\"\",E4929,IF(D4930=\"\",E4929,D4930/MAX($D$8:D4930)-1)))","v":""}]
[null,null,null,null,{"$f":"IF(A4931=\"\",\"\",IF(B4931=\"\",E4930,IF(D4931=\"\",E4930,D4931/MAX($D$8:D4931)-1)))","v":""}]
[null,null,null,null,{"$f":"IF(A4932=\"\",\"\",IF(B4932=\"\",E4931,IF(D4932=\"\",E4931,D4932/MAX($D$8:D4932)-1)))","v":""}]
[null,null,null,null,{"$f":"IF(A4933=\"\",\"\",IF(B4933=\"\",E4932,IF(D4933=\"\",E4932,D4933/MAX($D$8:D4933)-1)))","v":""}]
[null,null,null,null,{"$f":"IF(A4934=\"\",\"\",IF(B4934=\"\",E4933,IF(D4934=\"\",E4933,D4934/MAX($D$8:D4934)-1)))","v":""}]
[null,null,null,null,{"$f":"IF(A4935=\"\",\"\",IF(B4935=\"\",E4934,IF(D4935=\"\",E4934,D4935/MAX($D$8:D4935)-1)))","v":""}]
[null,null,null,null,{"$f":"IF(A4936=\"\",\"\",IF(B4936=\"\",E4935,IF(D4936=\"\",E4935,D4936/MAX($D$8:D4936)-1)))","v":""}]
[null,null,null,null,{"$f":"IF(A4937=\"\",\"\",IF(B4937=\"\",E4936,IF(D4937=\"\",E4936,D4937/MAX($D$8:D4937)-1)))","v":""}]
[null,null,null,null,{"$f":"IF(A4938=\"\",\"\",IF(B4938=\"\",E4937,IF(D4938=\"\",E4937,D4938/MAX($D$8:D4938)-1)))","v":""}]
[null,null,null,null,{"$f":"IF(A4939=\"\",\"\",IF(B4939=\"\",E4938,IF(D4939=\"\",E4938,D4939/MAX($D$8:D4939)-1)))","v":""}]
[null,null,null,null,{"$f":"IF(A4940=\"\",\"\",IF(B4940=\"\",E4939,IF(D4940=\"\",E4939,D4940/MAX($D$8:D4940)-1)))","v":""}]
[null,null,null,null,{"$f":"IF(A4941=\"\",\"\",IF(B4941=\"\",E4940,IF(D4941=\"\",E4940,D4941/MAX($D$8:D4941)-1)))","v":""}]
[null,null,null,null,{"$f":"IF(A4942=\"\",\"\",IF(B4942=\"\",E4941,IF(D4942=\"\",E4941,D4942/MAX($D$8:D4942)-1)))","v":""}]
[null,null,null,null,{"$f":"IF(A4943=\"\",\"\",IF(B4943=\"\",E4942,IF(D4943=\"\",E4942,D4943/MAX($D$8:D4943)-1)))","v":""}]
[null,null,null,null,{"$f":"IF(A4944=\"\",\"\",IF(B4944=\"\",E4943,IF(D4944=\"\",E4943,D4944/MAX($D$8:D4944)-1)))","v":""}]
[null,null,null,null,{"$f":"IF(A4945=\"\",\"\",IF(B4945=\"\",E4944,IF(D4945=\"\",E4944,D4945/MAX($D$8:D4945)-1)))","v":""}]
[null,null,null,null,{"$f":"IF(A4946=\"\",\"\",IF(B4946=\"\",E4945,IF(D4946=\"\",E4945,D4946/MAX($D$8:D4946)-1)))","v":""}]
[null,null,null,null,{"$f":"IF(A4947=\"\",\"\",IF(B4947=\"\",E4946,IF(D4947=\"\",E4946,D4947/MAX($D$8:D4947)-1)))","v":""}]
[null,null,null,null,{"$f":"IF(A4948=\"\",\"\",IF(B4948=\"\",E4947,IF(D4948=\"\",E4947,D4948/MAX($D$8:D4948)-1)))","v":""}]
[null,null,null,null,{"$f":"IF(A4949=\"\",\"\",IF(B4949=\"\",E4948,IF(D4949=\"\",E4948,D4949/MAX($D$8:D4949)-1)))","v":""}]
[null,null,null,null,{"$f":"IF(A4950=\"\",\"\",IF(B4950=\"\",E4949,IF(D4950=\"\",E4949,D4950/MAX($D$8:D4950)-1)))","v":""}]
[null,null,null,null,{"$f":"IF(A4951=\"\",\"\",IF(B4951=\"\",E4950,IF(D4951=\"\",E4950,D4951/MAX($D$8:D4951)-1)))","v":""}]
[null,null,null,null,{"$f":"IF(A4952=\"\",\"\",IF(B4952=\"\",E4951,IF(D4952=\"\",E4951,D4952/MAX($D$8:D4952)-1)))","v":""}]
[null,null,null,null,{"$f":"IF(A4953=\"\",\"\",IF(B4953=\"\",E4952,IF(D4953=\"\",E4952,D4953/MAX($D$8:D4953)-1)))","v":""}]
[null,null,null,null,{"$f":"IF(A4954=\"\",\"\",IF(B4954=\"\",E4953,IF(D4954=\"\",E4953,D4954/MAX($D$8:D4954)-1)))","v":""}]
[null,null,null,null,{"$f":"IF(A4955=\"\",\"\",IF(B4955=\"\",E4954,IF(D4955=\"\",E4954,D4955/MAX($D$8:D4955)-1)))","v":""}]
[null,null,null,null,{"$f":"IF(A4956=\"\",\"\",IF(B4956=\"\",E4955,IF(D4956=\"\",E4955,D4956/MAX($D$8:D4956)-1)))","v":""}]
[null,null,null,null,{"$f":"IF(A4957=\"\",\"\",IF(B4957=\"\",E4956,IF(D4957=\"\",E4956,D4957/MAX($D$8:D4957)-1)))","v":""}]
[null,null,null,null,{"$f":"IF(A4958=\"\",\"\",IF(B4958=\"\",E4957,IF(D4958=\"\",E4957,D4958/MAX($D$8:D4958)-1)))","v":""}]
[null,null,null,null,{"$f":"IF(A4959=\"\",\"\",IF(B4959=\"\",E4958,IF(D4959=\"\",E4958,D4959/MAX($D$8:D4959)-1)))","v":""}]
[null,null,null,null,{"$f":"IF(A4960=\"\",\"\",IF(B4960=\"\",E4959,IF(D4960=\"\",E4959,D4960/MAX($D$8:D4960)-1)))","v":""}]
[null,null,null,null,{"$f":"IF(A4961=\"\",\"\",IF(B4961=\"\",E4960,IF(D4961=\"\",E4960,D4961/MAX($D$8:D4961)-1)))","v":""}]
[null,null,null,null,{"$f":"IF(A4962=\"\",\"\",IF(B4962=\"\",E4961,IF(D4962=\"\",E4961,D4962/MAX($D$8:D4962)-1)))","v":""}]
[null,null,null,null,{"$f":"IF(A4963=\"\",\"\",IF(B4963=\"\",E4962,IF(D4963=\"\",E4962,D4963/MAX($D$8:D4963)-1)))","v":""}]
[null,null,null,null,{"$f":"IF(A4964=\"\",\"\",IF(B4964=\"\",E4963,IF(D4964=\"\",E4963,D4964/MAX($D$8:D4964)-1)))","v":""}]
[null,null,null,null,{"$f":"IF(A4965=\"\",\"\",IF(B4965=\"\",E4964,IF(D4965=\"\",E4964,D4965/MAX($D$8:D4965)-1)))","v":""}]
[null,null,null,null,{"$f":"IF(A4966=\"\",\"\",IF(B4966=\"\",E4965,IF(D4966=\"\",E4965,D4966/MAX($D$8:D4966)-1)))","v":""}]
[null,null,null,null,{"$f":"IF(A4967=\"\",\"\",IF(B4967=\"\",E4966,IF(D4967=\"\",E4966,D4967/MAX($D$8:D4967)-1)))","v":""}]
[null,null,null,null,{"$f":"IF(A4968=\"\",\"\",IF(B4968=\"\",E4967,IF(D4968=\"\",E4967,D4968/MAX($D$8:D4968)-1)))","v":""}]
[null,null,null,null,{"$f":"IF(A4969=\"\",\"\",IF(B4969=\"\",E4968,IF(D4969=\"\",E4968,D4969/MAX($D$8:D4969)-1)))","v":""}]
[null,null,null,null,{"$f":"IF(A4970=\"\",\"\",IF(B4970=\"\",E4969,IF(D4970=\"\",E4969,D4970/MAX($D$8:D4970)-1)))","v":""}]
[null,null,null,null,{"$f":"IF(A4971=\"\",\"\",IF(B4971=\"\",E4970,IF(D4971=\"\",E4970,D4971/MAX($D$8:D4971)-1)))","v":""}]
[null,null,null,null,{"$f":"IF(A4972=\"\",\"\",IF(B4972=\"\",E4971,IF(D4972=\"\",E4971,D4972/MAX($D$8:D4972)-1)))","v":""}]
[null,null,null,null,{"$f":"IF(A4973=\"\",\"\",IF(B4973=\"\",E4972,IF(D4973=\"\",E4972,D4973/MAX($D$8:D4973)-1)))","v":""}]
[null,null,null,null,{"$f":"IF(A4974=\"\",\"\",IF(B4974=\"\",E4973,IF(D4974=\"\",E4973,D4974/MAX($D$8:D4974)-1)))","v":""}]
[null,null,null,null,{"$f":"IF(A4975=\"\",\"\",IF(B4975=\"\",E4974,IF(D4975=\"\",E4974,D4975/MAX($D$8:D4975)-1)))","v":""}]
[null,null,null,null,{"$f":"IF(A4976=\"\",\"\",IF(B4976=\"\",E4975,IF(D4976=\"\",E4975,D4976/MAX($D$8:D4976)-1)))","v":""}]
[null,null,null,null,{"$f":"IF(A4977=\"\",\"\",IF(B4977=\"\",E4976,IF(D4977=\"\",E4976,D4977/MAX($D$8:D4977)-1)))","v":""}]
[null,null,null,null,{"$f":"IF(A4978=\"\",\"\",IF(B4978=\"\",E4977,IF(D4978=\"\",E4977,D4978/MAX($D$8:D4978)-1)))","v":""}]
[null,null,null,null,{"$f":"IF(A4979=\"\",\"\",IF(B4979=\"\",E4978,IF(D4979=\"\",E4978,D4979/MAX($D$8:D4979)-1)))","v":""}]
[null,null,null,null,{"$f":"IF(A4980=\"\",\"\",IF(B4980=\"\",E4979,IF(D4980=\"\",E4979,D4980/MAX($D$8:D4980)-1)))","v":""}]
[null,null,null,null,{"$f":"IF(A4981=\"\",\"\",IF(B4981=\"\",E4980,IF(D4981=\"\",E4980,D4981/MAX($D$8:D4981)-1)))","v":""}]
[null,null,null,null,{"$f":"IF(A4982=\"\",\"\",IF(B4982=\"\",E4981,IF(D4982=\"\",E4981,D4982/MAX($D$8:D4982)-1)))","v":""}]
[null,null,null,null,{"$f":"IF(A4983=\"\",\"\",IF(B4983=\"\",E4982,IF(D4983=\"\",E4982,D4983/MAX($D$8:D4983)-1)))","v":""}]
[null,null,null,null,{"$f":"IF(A4984=\"\",\"\",IF(B4984=\"\",E4983,IF(D4984=\"\",E4983,D4984/MAX($D$8:D4984)-1)))","v":""}]
[null,null,null,null,{"$f":"IF(A4985=\"\",\"\",IF(B4985=\"\",E4984,IF(D4985=\"\",E4984,D4985/MAX($D$8:D4985)-1)))","v":""}]
[null,null,null,null,{"$f":"IF(A4986=\"\",\"\",IF(B4986=\"\",E4985,IF(D4986=\"\",E4985,D4986/MAX($D$8:D4986)-1)))","v":""}]
[null,null,null,null,{"$f":"IF(A4987=\"\",\"\",IF(B4987=\"\",E4986,IF(D4987=\"\",E4986,D4987/MAX($D$8:D4987)-1)))","v":""}]
[null,null,null,null,{"$f":"IF(A4988=\"\",\"\",IF(B4988=\"\",E4987,IF(D4988=\"\",E4987,D4988/MAX($D$8:D4988)-1)))","v":""}]
[null,null,null,null,{"$f":"IF(A4989=\"\",\"\",IF(B4989=\"\",E4988,IF(D4989=\"\",E4988,D4989/MAX($D$8:D4989)-1)))","v":""}]
[null,null,null,null,{"$f":"IF(A4990=\"\",\"\",IF(B4990=\"\",E4989,IF(D4990=\"\",E4989,D4990/MAX($D$8:D4990)-1)))","v":""}]
[null,null,null,null,{"$f":"IF(A4991=\"\",\"\",IF(B4991=\"\",E4990,IF(D4991=\"\",E4990,D4991/MAX($D$8:D4991)-1)))","v":""}]
[null,null,null,null,{"$f":"IF(A4992=\"\",\"\",IF(B4992=\"\",E4991,IF(D4992=\"\",E4991,D4992/MAX($D$8:D4992)-1)))","v":""}]
[null,null,null,null,{"$f":"IF(A4993=\"\",\"\",IF(B4993=\"\",E4992,IF(D4993=\"\",E4992,D4993/MAX($D$8:D4993)-1)))","v":""}]
[null,null,null,null,{"$f":"IF(A4994=\"\",\"\",IF(B4994=\"\",E4993,IF(D4994=\"\",E4993,D4994/MAX($D$8:D4994)-1)))","v":""}]
[null,null,null,null,{"$f":"IF(A4995=\"\",\"\",IF(B4995=\"\",E4994,IF(D4995=\"\",E4994,D4995/MAX($D$8:D4995)-1)))","v":""}]
[null,null,null,null,{"$f":"IF(A4996=\"\",\"\",IF(B4996=\"\",E4995,IF(D4996=\"\",E4995,D4996/MAX($D$8:D4996)-1)))","v":""}]
[null,null,null,null,{"$f":"IF(A4997=\"\",\"\",IF(B4997=\"\",E4996,IF(D4997=\"\",E4996,D4997/MAX($D$8:D4997)-1)))","v":""}]
[null,null,null,null,{"$f":"IF(A4998=\"\",\"\",IF(B4998=\"\",E4997,IF(D4998=\"\",E4997,D4998/MAX($D$8:D4998)-1)))","v":""}]
[null,null,null,null,{"$f":"IF(A4999=\"\",\"\",IF(B4999=\"\",E4998,IF(D4999=\"\",E4998,D4999/MAX($D$8:D4999)-1)))","v":""}]
[null,null,null,null,{"$f":"IF(A5000=\"\",\"\",IF(B5000=\"\",E4999,IF(D5000=\"\",E4999,D5000/MAX($D$8:D5000)-1)))","v":""}]
[null,null,null,null,{"$f":"IF(A5001=\"\",\"\",IF(B5001=\"\",E5000,IF(D5001=\"\",E5000,D5001/MAX($D$8:D5001)-1)))","v":""}]
[null,null,null,null,{"$f":"IF(A5002=\"\",\"\",IF(B5002=\"\",E5001,IF(D5002=\"\",E5001,D5002/MAX($D$8:D5002)-1)))","v":""}]
[null,null,null,null,{"$f":"IF(A5003=\"\",\"\",IF(B5003=\"\",E5002,IF(D5003=\"\",E5002,D5003/MAX($D$8:D5003)-1)))","v":""}]
[null,null,null,null,{"$f":"IF(A5004=\"\",\"\",IF(B5004=\"\",E5003,IF(D5004=\"\",E5003,D5004/MAX($D$8:D5004)-1)))","v":""}]
[null,null,null,null,{"$f":"IF(A5005=\"\",\"\",IF(B5005=\"\",E5004,IF(D5005=\"\",E5004,D5005/MAX($D$8:D5005)-1)))","v":""}]
[null,null,null,null,{"$f":"IF(A5006=\"\",\"\",IF(B5006=\"\",E5005,IF(D5006=\"\",E5005,D5006/MAX($D$8:D5006)-1)))","v":""}]
[null,null,null,null,{"$f":"IF(A5007=\"\",\"\",IF(B5007=\"\",E5006,IF(D5007=\"\",E5006,D5007/MAX($D$8:D5007)-1)))","v":""}]
[null,null,null,null,{"$f":"IF(A5008=\"\",\"\",IF(B5008=\"\",E5007,IF(D5008=\"\",E5007,D5008/MAX($D$8:D5008)-1)))","v":""}]
[null,null,null,null,{"$f":"IF(A5009=\"\",\"\",IF(B5009=\"\",E5008,IF(D5009=\"\",E5008,D5009/MAX($D$8:D5009)-1)))","v":""}]
[null,null,null,null,{"$f":"IF(A5010=\"\",\"\",IF(B5010=\"\",E5009,IF(D5010=\"\",E5009,D5010/MAX($D$8:D5010)-1)))","v":""}]
[null,null,null,null,{"$f":"IF(A5011=\"\",\"\",IF(B5011=\"\",E5010,IF(D5011=\"\",E5010,D5011/MAX($D$8:D5011)-1)))","v":""}]
[null,null,null,null,{"$f":"IF(A5012=\"\",\"\",IF(B5012=\"\",E5011,IF(D5012=\"\",E5011,D5012/MAX($D$8:D5012)-1)))","v":""}]
[null,null,null,null,{"$f":"IF(A5013=\"\",\"\",IF(B5013=\"\",E5012,IF(D5013=\"\",E5012,D5013/MAX($D$8:D5013)-1)))","v":""}]
[null,null,null,null,{"$f":"IF(A5014=\"\",\"\",IF(B5014=\"\",E5013,IF(D5014=\"\",E5013,D5014/MAX($D$8:D5014)-1)))","v":""}]
[null,null,null,null,{"$f":"IF(A5015=\"\",\"\",IF(B5015=\"\",E5014,IF(D5015=\"\",E5014,D5015/MAX($D$8:D5015)-1)))","v":""}]
[null,null,null,null,{"$f":"IF(A5016=\"\",\"\",IF(B5016=\"\",E5015,IF(D5016=\"\",E5015,D5016/MAX($D$8:D5016)-1)))","v":""}]
[null,null,null,null,{"$f":"IF(A5017=\"\",\"\",IF(B5017=\"\",E5016,IF(D5017=\"\",E5016,D5017/MAX($D$8:D5017)-1)))","v":""}]
[null,null,null,null,{"$f":"IF(A5018=\"\",\"\",IF(B5018=\"\",E5017,IF(D5018=\"\",E5017,D5018/MAX($D$8:D5018)-1)))","v":""}]
[null,null,null,null,{"$f":"IF(A5019=\"\",\"\",IF(B5019=\"\",E5018,IF(D5019=\"\",E5018,D5019/MAX($D$8:D5019)-1)))","v":""}]
[null,null,null,null,{"$f":"IF(A5020=\"\",\"\",IF(B5020=\"\",E5019,IF(D5020=\"\",E5019,D5020/MAX($D$8:D5020)-1)))","v":""}]
[null,null,null,null,{"$f":"IF(A5021=\"\",\"\",IF(B5021=\"\",E5020,IF(D5021=\"\",E5020,D5021/MAX($D$8:D5021)-1)))","v":""}]
[null,null,null,null,{"$f":"IF(A5022=\"\",\"\",IF(B5022=\"\",E5021,IF(D5022=\"\",E5021,D5022/MAX($D$8:D5022)-1)))","v":""}]
[null,null,null,null,{"$f":"IF(A5023=\"\",\"\",IF(B5023=\"\",E5022,IF(D5023=\"\",E5022,D5023/MAX($D$8:D5023)-1)))","v":""}]
[null,null,null,null,{"$f":"IF(A5024=\"\",\"\",IF(B5024=\"\",E5023,IF(D5024=\"\",E5023,D5024/MAX($D$8:D5024)-1)))","v":""}]
[null,null,null,null,{"$f":"IF(A5025=\"\",\"\",IF(B5025=\"\",E5024,IF(D5025=\"\",E5024,D5025/MAX($D$8:D5025)-1)))","v":""}]
[null,null,null,null,{"$f":"IF(A5026=\"\",\"\",IF(B5026=\"\",E5025,IF(D5026=\"\",E5025,D5026/MAX($D$8:D5026)-1)))","v":""}]
[null,null,null,null,{"$f":"IF(A5027=\"\",\"\",IF(B5027=\"\",E5026,IF(D5027=\"\",E5026,D5027/MAX($D$8:D5027)-1)))","v":""}]
[null,null,null,null,{"$f":"IF(A5028=\"\",\"\",IF(B5028=\"\",E5027,IF(D5028=\"\",E5027,D5028/MAX($D$8:D5028)-1)))","v":""}]
[null,null,null,null,{"$f":"IF(A5029=\"\",\"\",IF(B5029=\"\",E5028,IF(D5029=\"\",E5028,D5029/MAX($D$8:D5029)-1)))","v":""}]
[null,null,null,null,{"$f":"IF(A5030=\"\",\"\",IF(B5030=\"\",E5029,IF(D5030=\"\",E5029,D5030/MAX($D$8:D5030)-1)))","v":""}]
[null,null,null,null,{"$f":"IF(A5031=\"\",\"\",IF(B5031=\"\",E5030,IF(D5031=\"\",E5030,D5031/MAX($D$8:D5031)-1)))","v":""}]
[null,null,null,null,{"$f":"IF(A5032=\"\",\"\",IF(B5032=\"\",E5031,IF(D5032=\"\",E5031,D5032/MAX($D$8:D5032)-1)))","v":""}]
[null,null,null,null,{"$f":"IF(A5033=\"\",\"\",IF(B5033=\"\",E5032,IF(D5033=\"\",E5032,D5033/MAX($D$8:D5033)-1)))","v":""}]
[null,null,null,null,{"$f":"IF(A5034=\"\",\"\",IF(B5034=\"\",E5033,IF(D5034=\"\",E5033,D5034/MAX($D$8:D5034)-1)))","v":""}]
[null,null,null,null,{"$f":"IF(A5035=\"\",\"\",IF(B5035=\"\",E5034,IF(D5035=\"\",E5034,D5035/MAX($D$8:D5035)-1)))","v":""}]
[null,null,null,null,{"$f":"IF(A5036=\"\",\"\",IF(B5036=\"\",E5035,IF(D5036=\"\",E5035,D5036/MAX($D$8:D5036)-1)))","v":""}]
[null,null,null,null,{"$f":"IF(A5037=\"\",\"\",IF(B5037=\"\",E5036,IF(D5037=\"\",E5036,D5037/MAX($D$8:D5037)-1)))","v":""}]
[null,null,null,null,{"$f":"IF(A5038=\"\",\"\",IF(B5038=\"\",E5037,IF(D5038=\"\",E5037,D5038/MAX($D$8:D5038)-1)))","v":""}]
[null,null,null,null,{"$f":"IF(A5039=\"\",\"\",IF(B5039=\"\",E5038,IF(D5039=\"\",E5038,D5039/MAX($D$8:D5039)-1)))","v":""}]
[null,null,null,null,{"$f":"IF(A5040=\"\",\"\",IF(B5040=\"\",E5039,IF(D5040=\"\",E5039,D5040/MAX($D$8:D5040)-1)))","v":""}]
[null,null,null,null,{"$f":"IF(A5041=\"\",\"\",IF(B5041=\"\",E5040,IF(D5041=\"\",E5040,D5041/MAX($D$8:D5041)-1)))","v":""}]
[null,null,null,null,{"$f":"IF(A5042=\"\",\"\",IF(B5042=\"\",E5041,IF(D5042=\"\",E5041,D5042/MAX($D$8:D5042)-1)))","v":""}]
[null,null,null,null,{"$f":"IF(A5043=\"\",\"\",IF(B5043=\"\",E5042,IF(D5043=\"\",E5042,D5043/MAX($D$8:D5043)-1)))","v":""}]
[null,null,null,null,{"$f":"IF(A5044=\"\",\"\",IF(B5044=\"\",E5043,IF(D5044=\"\",E5043,D5044/MAX($D$8:D5044)-1)))","v":""}]
[null,null,null,null,{"$f":"IF(A5045=\"\",\"\",IF(B5045=\"\",E5044,IF(D5045=\"\",E5044,D5045/MAX($D$8:D5045)-1)))","v":""}]
[null,null,null,null,{"$f":"IF(A5046=\"\",\"\",IF(B5046=\"\",E5045,IF(D5046=\"\",E5045,D5046/MAX($D$8:D5046)-1)))","v":""}]
[null,null,null,null,{"$f":"IF(A5047=\"\",\"\",IF(B5047=\"\",E5046,IF(D5047=\"\",E5046,D5047/MAX($D$8:D5047)-1)))","v":""}]
[null,null,null,null,{"$f":"IF(A5048=\"\",\"\",IF(B5048=\"\",E5047,IF(D5048=\"\",E5047,D5048/MAX($D$8:D5048)-1)))","v":""}]
[null,null,null,null,{"$f":"IF(A5049=\"\",\"\",IF(B5049=\"\",E5048,IF(D5049=\"\",E5048,D5049/MAX($D$8:D5049)-1)))","v":""}]
[null,null,null,null,{"$f":"IF(A5050=\"\",\"\",IF(B5050=\"\",E5049,IF(D5050=\"\",E5049,D5050/MAX($D$8:D5050)-1)))","v":""}]
[null,null,null,null,{"$f":"IF(A5051=\"\",\"\",IF(B5051=\"\",E5050,IF(D5051=\"\",E5050,D5051/MAX($D$8:D5051)-1)))","v":""}]
[null,null,null,null,{"$f":"IF(A5052=\"\",\"\",IF(B5052=\"\",E5051,IF(D5052=\"\",E5051,D5052/MAX($D$8:D5052)-1)))","v":""}]
[null,null,null,null,{"$f":"IF(A5053=\"\",\"\",IF(B5053=\"\",E5052,IF(D5053=\"\",E5052,D5053/MAX($D$8:D5053)-1)))","v":""}]
[null,null,null,null,{"$f":"IF(A5054=\"\",\"\",IF(B5054=\"\",E5053,IF(D5054=\"\",E5053,D5054/MAX($D$8:D5054)-1)))","v":""}]
[null,null,null,null,{"$f":"IF(A5055=\"\",\"\",IF(B5055=\"\",E5054,IF(D5055=\"\",E5054,D5055/MAX($D$8:D5055)-1)))","v":""}]
[null,null,null,null,{"$f":"IF(A5056=\"\",\"\",IF(B5056=\"\",E5055,IF(D5056=\"\",E5055,D5056/MAX($D$8:D5056)-1)))","v":""}]
[null,null,null,null,{"$f":"IF(A5057=\"\",\"\",IF(B5057=\"\",E5056,IF(D5057=\"\",E5056,D5057/MAX($D$8:D5057)-1)))","v":""}]
[null,null,null,null,{"$f":"IF(A5058=\"\",\"\",IF(B5058=\"\",E5057,IF(D5058=\"\",E5057,D5058/MAX($D$8:D5058)-1)))","v":""}]
[null,null,null,null,{"$f":"IF(A5059=\"\",\"\",IF(B5059=\"\",E5058,IF(D5059=\"\",E5058,D5059/MAX($D$8:D5059)-1)))","v":""}]
[null,null,null,null,{"$f":"IF(A5060=\"\",\"\",IF(B5060=\"\",E5059,IF(D5060=\"\",E5059,D5060/MAX($D$8:D5060)-1)))","v":""}]
[null,null,null,null,{"$f":"IF(A5061=\"\",\"\",IF(B5061=\"\",E5060,IF(D5061=\"\",E5060,D5061/MAX($D$8:D5061)-1)))","v":""}]
[null,null,null,null,{"$f":"IF(A5062=\"\",\"\",IF(B5062=\"\",E5061,IF(D5062=\"\",E5061,D5062/MAX($D$8:D5062)-1)))","v":""}]
[null,null,null,null,{"$f":"IF(A5063=\"\",\"\",IF(B5063=\"\",E5062,IF(D5063=\"\",E5062,D5063/MAX($D$8:D5063)-1)))","v":""}]
[null,null,null,null,{"$f":"IF(A5064=\"\",\"\",IF(B5064=\"\",E5063,IF(D5064=\"\",E5063,D5064/MAX($D$8:D5064)-1)))","v":""}]
[null,null,null,null,{"$f":"IF(A5065=\"\",\"\",IF(B5065=\"\",E5064,IF(D5065=\"\",E5064,D5065/MAX($D$8:D5065)-1)))","v":""}]
[null,null,null,null,{"$f":"IF(A5066=\"\",\"\",IF(B5066=\"\",E5065,IF(D5066=\"\",E5065,D5066/MAX($D$8:D5066)-1)))","v":""}]
[null,null,null,null,{"$f":"IF(A5067=\"\",\"\",IF(B5067=\"\",E5066,IF(D5067=\"\",E5066,D5067/MAX($D$8:D5067)-1)))","v":""}]
[null,null,null,null,{"$f":"IF(A5068=\"\",\"\",IF(B5068=\"\",E5067,IF(D5068=\"\",E5067,D5068/MAX($D$8:D5068)-1)))","v":""}]
[null,null,null,null,{"$f":"IF(A5069=\"\",\"\",IF(B5069=\"\",E5068,IF(D5069=\"\",E5068,D5069/MAX($D$8:D5069)-1)))","v":""}]
[null,null,null,null,{"$f":"IF(A5070=\"\",\"\",IF(B5070=\"\",E5069,IF(D5070=\"\",E5069,D5070/MAX($D$8:D5070)-1)))","v":""}]
[null,null,null,null,{"$f":"IF(A5071=\"\",\"\",IF(B5071=\"\",E5070,IF(D5071=\"\",E5070,D5071/MAX($D$8:D5071)-1)))","v":""}]
[null,null,null,null,{"$f":"IF(A5072=\"\",\"\",IF(B5072=\"\",E5071,IF(D5072=\"\",E5071,D5072/MAX($D$8:D5072)-1)))","v":""}]
[null,null,null,null,{"$f":"IF(A5073=\"\",\"\",IF(B5073=\"\",E5072,IF(D5073=\"\",E5072,D5073/MAX($D$8:D5073)-1)))","v":""}]
[null,null,null,null,{"$f":"IF(A5074=\"\",\"\",IF(B5074=\"\",E5073,IF(D5074=\"\",E5073,D5074/MAX($D$8:D5074)-1)))","v":""}]
[null,null,null,null,{"$f":"IF(A5075=\"\",\"\",IF(B5075=\"\",E5074,IF(D5075=\"\",E5074,D5075/MAX($D$8:D5075)-1)))","v":""}]
[null,null,null,null,{"$f":"IF(A5076=\"\",\"\",IF(B5076=\"\",E5075,IF(D5076=\"\",E5075,D5076/MAX($D$8:D5076)-1)))","v":""}]
[null,null,null,null,{"$f":"IF(A5077=\"\",\"\",IF(B5077=\"\",E5076,IF(D5077=\"\",E5076,D5077/MAX($D$8:D5077)-1)))","v":""}]
[null,null,null,null,{"$f":"IF(A5078=\"\",\"\",IF(B5078=\"\",E5077,IF(D5078=\"\",E5077,D5078/MAX($D$8:D5078)-1)))","v":""}]
[null,null,null,null,{"$f":"IF(A5079=\"\",\"\",IF(B5079=\"\",E5078,IF(D5079=\"\",E5078,D5079/MAX($D$8:D5079)-1)))","v":""}]
[null,null,null,null,{"$f":"IF(A5080=\"\",\"\",IF(B5080=\"\",E5079,IF(D5080=\"\",E5079,D5080/MAX($D$8:D5080)-1)))","v":""}]
[null,null,null,null,{"$f":"IF(A5081=\"\",\"\",IF(B5081=\"\",E5080,IF(D5081=\"\",E5080,D5081/MAX($D$8:D5081)-1)))","v":""}]
[null,null,null,null,{"$f":"IF(A5082=\"\",\"\",IF(B5082=\"\",E5081,IF(D5082=\"\",E5081,D5082/MAX($D$8:D5082)-1)))","v":""}]
[null,null,null,null,{"$f":"IF(A5083=\"\",\"\",IF(B5083=\"\",E5082,IF(D5083=\"\",E5082,D5083/MAX($D$8:D5083)-1)))","v":""}]
[null,null,null,null,{"$f":"IF(A5084=\"\",\"\",IF(B5084=\"\",E5083,IF(D5084=\"\",E5083,D5084/MAX($D$8:D5084)-1)))","v":""}]
[null,null,null,null,{"$f":"IF(A5085=\"\",\"\",IF(B5085=\"\",E5084,IF(D5085=\"\",E5084,D5085/MAX($D$8:D5085)-1)))","v":""}]
[null,null,null,null,{"$f":"IF(A5086=\"\",\"\",IF(B5086=\"\",E5085,IF(D5086=\"\",E5085,D5086/MAX($D$8:D5086)-1)))","v":""}]
[null,null,null,null,{"$f":"IF(A5087=\"\",\"\",IF(B5087=\"\",E5086,IF(D5087=\"\",E5086,D5087/MAX($D$8:D5087)-1)))","v":""}]
[null,null,null,null,{"$f":"IF(A5088=\"\",\"\",IF(B5088=\"\",E5087,IF(D5088=\"\",E5087,D5088/MAX($D$8:D5088)-1)))","v":""}]
[null,null,null,null,{"$f":"IF(A5089=\"\",\"\",IF(B5089=\"\",E5088,IF(D5089=\"\",E5088,D5089/MAX($D$8:D5089)-1)))","v":""}]
[null,null,null,null,{"$f":"IF(A5090=\"\",\"\",IF(B5090=\"\",E5089,IF(D5090=\"\",E5089,D5090/MAX($D$8:D5090)-1)))","v":""}]
[null,null,null,null,{"$f":"IF(A5091=\"\",\"\",IF(B5091=\"\",E5090,IF(D5091=\"\",E5090,D5091/MAX($D$8:D5091)-1)))","v":""}]
[null,null,null,null,{"$f":"IF(A5092=\"\",\"\",IF(B5092=\"\",E5091,IF(D5092=\"\",E5091,D5092/MAX($D$8:D5092)-1)))","v":""}]
[null,null,null,null,{"$f":"IF(A5093=\"\",\"\",IF(B5093=\"\",E5092,IF(D5093=\"\",E5092,D5093/MAX($D$8:D5093)-1)))","v":""}]
[null,null,null,null,{"$f":"IF(A5094=\"\",\"\",IF(B5094=\"\",E5093,IF(D5094=\"\",E5093,D5094/MAX($D$8:D5094)-1)))","v":""}]
[null,null,null,null,{"$f":"IF(A5095=\"\",\"\",IF(B5095=\"\",E5094,IF(D5095=\"\",E5094,D5095/MAX($D$8:D5095)-1)))","v":""}]
[null,null,null,null,{"$f":"IF(A5096=\"\",\"\",IF(B5096=\"\",E5095,IF(D5096=\"\",E5095,D5096/MAX($D$8:D5096)-1)))","v":""}]
[null,null,null,null,{"$f":"IF(A5097=\"\",\"\",IF(B5097=\"\",E5096,IF(D5097=\"\",E5096,D5097/MAX($D$8:D5097)-1)))","v":""}]
[null,null,null,null,{"$f":"IF(A5098=\"\",\"\",IF(B5098=\"\",E5097,IF(D5098=\"\",E5097,D5098/MAX($D$8:D5098)-1)))","v":""}]
[null,null,null,null,{"$f":"IF(A5099=\"\",\"\",IF(B5099=\"\",E5098,IF(D5099=\"\",E5098,D5099/MAX($D$8:D5099)-1)))","v":""}]
[null,null,null,null,{"$f":"IF(A5100=\"\",\"\",IF(B5100=\"\",E5099,IF(D5100=\"\",E5099,D5100/MAX($D$8:D5100)-1)))","v":""}]
[null,null,null,null,{"$f":"IF(A5101=\"\",\"\",IF(B5101=\"\",E5100,IF(D5101=\"\",E5100,D5101/MAX($D$8:D5101)-1)))","v":""}]
[null,null,null,null,{"$f":"IF(A5102=\"\",\"\",IF(B5102=\"\",E5101,IF(D5102=\"\",E5101,D5102/MAX($D$8:D5102)-1)))","v":""}]
[null,null,null,null,{"$f":"IF(A5103=\"\",\"\",IF(B5103=\"\",E5102,IF(D5103=\"\",E5102,D5103/MAX($D$8:D5103)-1)))","v":""}]
[null,null,null,null,{"$f":"IF(A5104=\"\",\"\",IF(B5104=\"\",E5103,IF(D5104=\"\",E5103,D5104/MAX($D$8:D5104)-1)))","v":""}]
[null,null,null,null,{"$f":"IF(A5105=\"\",\"\",IF(B5105=\"\",E5104,IF(D5105=\"\",E5104,D5105/MAX($D$8:D5105)-1)))","v":""}]
[null,null,null,null,{"$f":"IF(A5106=\"\",\"\",IF(B5106=\"\",E5105,IF(D5106=\"\",E5105,D5106/MAX($D$8:D5106)-1)))","v":""}]
[null,null,null,null,{"$f":"IF(A5107=\"\",\"\",IF(B5107=\"\",E5106,IF(D5107=\"\",E5106,D5107/MAX($D$8:D5107)-1)))","v":""}]
[null,null,null,null,{"$f":"IF(A5108=\"\",\"\",IF(B5108=\"\",E5107,IF(D5108=\"\",E5107,D5108/MAX($D$8:D5108)-1)))","v":""}]
[null,null,null,null,{"$f":"IF(A5109=\"\",\"\",IF(B5109=\"\",E5108,IF(D5109=\"\",E5108,D5109/MAX($D$8:D5109)-1)))","v":""}]
[null,null,null,null,{"$f":"IF(A5110=\"\",\"\",IF(B5110=\"\",E5109,IF(D5110=\"\",E5109,D5110/MAX($D$8:D5110)-1)))","v":""}]
[null,null,null,null,{"$f":"IF(A5111=\"\",\"\",IF(B5111=\"\",E5110,IF(D5111=\"\",E5110,D5111/MAX($D$8:D5111)-1)))","v":""}]
[null,null,null,null,{"$f":"IF(A5112=\"\",\"\",IF(B5112=\"\",E5111,IF(D5112=\"\",E5111,D5112/MAX($D$8:D5112)-1)))","v":""}]
[null,null,null,null,{"$f":"IF(A5113=\"\",\"\",IF(B5113=\"\",E5112,IF(D5113=\"\",E5112,D5113/MAX($D$8:D5113)-1)))","v":""}]
[null,null,null,null,{"$f":"IF(A5114=\"\",\"\",IF(B5114=\"\",E5113,IF(D5114=\"\",E5113,D5114/MAX($D$8:D5114)-1)))","v":""}]
[null,null,null,null,{"$f":"IF(A5115=\"\",\"\",IF(B5115=\"\",E5114,IF(D5115=\"\",E5114,D5115/MAX($D$8:D5115)-1)))","v":""}]
[null,null,null,null,{"$f":"IF(A5116=\"\",\"\",IF(B5116=\"\",E5115,IF(D5116=\"\",E5115,D5116/MAX($D$8:D5116)-1)))","v":""}]
[null,null,null,null,{"$f":"IF(A5117=\"\",\"\",IF(B5117=\"\",E5116,IF(D5117=\"\",E5116,D5117/MAX($D$8:D5117)-1)))","v":""}]
[null,null,null,null,{"$f":"IF(A5118=\"\",\"\",IF(B5118=\"\",E5117,IF(D5118=\"\",E5117,D5118/MAX($D$8:D5118)-1)))","v":""}]
[null,null,null,null,{"$f":"IF(A5119=\"\",\"\",IF(B5119=\"\",E5118,IF(D5119=\"\",E5118,D5119/MAX($D$8:D5119)-1)))","v":""}]
[null,null,null,null,{"$f":"IF(A5120=\"\",\"\",IF(B5120=\"\",E5119,IF(D5120=\"\",E5119,D5120/MAX($D$8:D5120)-1)))","v":""}]
[null,null,null,null,{"$f":"IF(A5121=\"\",\"\",IF(B5121=\"\",E5120,IF(D5121=\"\",E5120,D5121/MAX($D$8:D5121)-1)))","v":""}]
[null,null,null,null,{"$f":"IF(A5122=\"\",\"\",IF(B5122=\"\",E5121,IF(D5122=\"\",E5121,D5122/MAX($D$8:D5122)-1)))","v":""}]
[null,null,null,null,{"$f":"IF(A5123=\"\",\"\",IF(B5123=\"\",E5122,IF(D5123=\"\",E5122,D5123/MAX($D$8:D5123)-1)))","v":""}]
[null,null,null,null,{"$f":"IF(A5124=\"\",\"\",IF(B5124=\"\",E5123,IF(D5124=\"\",E5123,D5124/MAX($D$8:D5124)-1)))","v":""}]
[null,null,null,null,{"$f":"IF(A5125=\"\",\"\",IF(B5125=\"\",E5124,IF(D5125=\"\",E5124,D5125/MAX($D$8:D5125)-1)))","v":""}]
[null,null,null,null,{"$f":"IF(A5126=\"\",\"\",IF(B5126=\"\",E5125,IF(D5126=\"\",E5125,D5126/MAX($D$8:D5126)-1)))","v":""}]
[null,null,null,null,{"$f":"IF(A5127=\"\",\"\",IF(B5127=\"\",E5126,IF(D5127=\"\",E5126,D5127/MAX($D$8:D5127)-1)))","v":""}]
[null,null,null,null,{"$f":"IF(A5128=\"\",\"\",IF(B5128=\"\",E5127,IF(D5128=\"\",E5127,D5128/MAX($D$8:D5128)-1)))","v":""}]
[null,null,null,null,{"$f":"IF(A5129=\"\",\"\",IF(B5129=\"\",E5128,IF(D5129=\"\",E5128,D5129/MAX($D$8:D5129)-1)))","v":""}]
[null,null,null,null,{"$f":"IF(A5130=\"\",\"\",IF(B5130=\"\",E5129,IF(D5130=\"\",E5129,D5130/MAX($D$8:D5130)-1)))","v":""}]
[null,null,null,null,{"$f":"IF(A5131=\"\",\"\",IF(B5131=\"\",E5130,IF(D5131=\"\",E5130,D5131/MAX($D$8:D5131)-1)))","v":""}]
[null,null,null,null,{"$f":"IF(A5132=\"\",\"\",IF(B5132=\"\",E5131,IF(D5132=\"\",E5131,D5132/MAX($D$8:D5132)-1)))","v":""}]
[null,null,null,null,{"$f":"IF(A5133=\"\",\"\",IF(B5133=\"\",E5132,IF(D5133=\"\",E5132,D5133/MAX($D$8:D5133)-1)))","v":""}]
[null,null,null,null,{"$f":"IF(A5134=\"\",\"\",IF(B5134=\"\",E5133,IF(D5134=\"\",E5133,D5134/MAX($D$8:D5134)-1)))","v":""}]
[null,null,null,null,{"$f":"IF(A5135=\"\",\"\",IF(B5135=\"\",E5134,IF(D5135=\"\",E5134,D5135/MAX($D$8:D5135)-1)))","v":""}]
[null,null,null,null,{"$f":"IF(A5136=\"\",\"\",IF(B5136=\"\",E5135,IF(D5136=\"\",E5135,D5136/MAX($D$8:D5136)-1)))","v":""}]
[null,null,null,null,{"$f":"IF(A5137=\"\",\"\",IF(B5137=\"\",E5136,IF(D5137=\"\",E5136,D5137/MAX($D$8:D5137)-1)))","v":""}]
[null,null,null,null,{"$f":"IF(A5138=\"\",\"\",IF(B5138=\"\",E5137,IF(D5138=\"\",E5137,D5138/MAX($D$8:D5138)-1)))","v":""}]
[null,null,null,null,{"$f":"IF(A5139=\"\",\"\",IF(B5139=\"\",E5138,IF(D5139=\"\",E5138,D5139/MAX($D$8:D5139)-1)))","v":""}]
[null,null,null,null,{"$f":"IF(A5140=\"\",\"\",IF(B5140=\"\",E5139,IF(D5140=\"\",E5139,D5140/MAX($D$8:D5140)-1)))","v":""}]
[null,null,null,null,{"$f":"IF(A5141=\"\",\"\",IF(B5141=\"\",E5140,IF(D5141=\"\",E5140,D5141/MAX($D$8:D5141)-1)))","v":""}]
[null,null,null,null,{"$f":"IF(A5142=\"\",\"\",IF(B5142=\"\",E5141,IF(D5142=\"\",E5141,D5142/MAX($D$8:D5142)-1)))","v":""}]
[null,null,null,null,{"$f":"IF(A5143=\"\",\"\",IF(B5143=\"\",E5142,IF(D5143=\"\",E5142,D5143/MAX($D$8:D5143)-1)))","v":""}]
[null,null,null,null,{"$f":"IF(A5144=\"\",\"\",IF(B5144=\"\",E5143,IF(D5144=\"\",E5143,D5144/MAX($D$8:D5144)-1)))","v":""}]
[null,null,null,null,{"$f":"IF(A5145=\"\",\"\",IF(B5145=\"\",E5144,IF(D5145=\"\",E5144,D5145/MAX($D$8:D5145)-1)))","v":""}]
[null,null,null,null,{"$f":"IF(A5146=\"\",\"\",IF(B5146=\"\",E5145,IF(D5146=\"\",E5145,D5146/MAX($D$8:D5146)-1)))","v":""}]
[null,null,null,null,{"$f":"IF(A5147=\"\",\"\",IF(B5147=\"\",E5146,IF(D5147=\"\",E5146,D5147/MAX($D$8:D5147)-1)))","v":""}]
[null,null,null,null,{"$f":"IF(A5148=\"\",\"\",IF(B5148=\"\",E5147,IF(D5148=\"\",E5147,D5148/MAX($D$8:D5148)-1)))","v":""}]
[null,null,null,null,{"$f":"IF(A5149=\"\",\"\",IF(B5149=\"\",E5148,IF(D5149=\"\",E5148,D5149/MAX($D$8:D5149)-1)))","v":""}]
[null,null,null,null,{"$f":"IF(A5150=\"\",\"\",IF(B5150=\"\",E5149,IF(D5150=\"\",E5149,D5150/MAX($D$8:D5150)-1)))","v":""}]
[null,null,null,null,{"$f":"IF(A5151=\"\",\"\",IF(B5151=\"\",E5150,IF(D5151=\"\",E5150,D5151/MAX($D$8:D5151)-1)))","v":""}]
[null,null,null,null,{"$f":"IF(A5152=\"\",\"\",IF(B5152=\"\",E5151,IF(D5152=\"\",E5151,D5152/MAX($D$8:D5152)-1)))","v":""}]
[null,null,null,null,{"$f":"IF(A5153=\"\",\"\",IF(B5153=\"\",E5152,IF(D5153=\"\",E5152,D5153/MAX($D$8:D5153)-1)))","v":""}]
[null,null,null,null,{"$f":"IF(A5154=\"\",\"\",IF(B5154=\"\",E5153,IF(D5154=\"\",E5153,D5154/MAX($D$8:D5154)-1)))","v":""}]
[null,null,null,null,{"$f":"IF(A5155=\"\",\"\",IF(B5155=\"\",E5154,IF(D5155=\"\",E5154,D5155/MAX($D$8:D5155)-1)))","v":""}]
[null,null,null,null,{"$f":"IF(A5156=\"\",\"\",IF(B5156=\"\",E5155,IF(D5156=\"\",E5155,D5156/MAX($D$8:D5156)-1)))","v":""}]
[null,null,null,null,{"$f":"IF(A5157=\"\",\"\",IF(B5157=\"\",E5156,IF(D5157=\"\",E5156,D5157/MAX($D$8:D5157)-1)))","v":""}]
[null,null,null,null,{"$f":"IF(A5158=\"\",\"\",IF(B5158=\"\",E5157,IF(D5158=\"\",E5157,D5158/MAX($D$8:D5158)-1)))","v":""}]
[null,null,null,null,{"$f":"IF(A5159=\"\",\"\",IF(B5159=\"\",E5158,IF(D5159=\"\",E5158,D5159/MAX($D$8:D5159)-1)))","v":""}]
[null,null,null,null,{"$f":"IF(A5160=\"\",\"\",IF(B5160=\"\",E5159,IF(D5160=\"\",E5159,D5160/MAX($D$8:D5160)-1)))","v":""}]
[null,null,null,null,{"$f":"IF(A5161=\"\",\"\",IF(B5161=\"\",E5160,IF(D5161=\"\",E5160,D5161/MAX($D$8:D5161)-1)))","v":""}]
[null,null,null,null,{"$f":"IF(A5162=\"\",\"\",IF(B5162=\"\",E5161,IF(D5162=\"\",E5161,D5162/MAX($D$8:D5162)-1)))","v":""}]
[null,null,null,null,{"$f":"IF(A5163=\"\",\"\",IF(B5163=\"\",E5162,IF(D5163=\"\",E5162,D5163/MAX($D$8:D5163)-1)))","v":""}]
[null,null,null,null,{"$f":"IF(A5164=\"\",\"\",IF(B5164=\"\",E5163,IF(D5164=\"\",E5163,D5164/MAX($D$8:D5164)-1)))","v":""}]
[null,null,null,null,{"$f":"IF(A5165=\"\",\"\",IF(B5165=\"\",E5164,IF(D5165=\"\",E5164,D5165/MAX($D$8:D5165)-1)))","v":""}]
[null,null,null,null,{"$f":"IF(A5166=\"\",\"\",IF(B5166=\"\",E5165,IF(D5166=\"\",E5165,D5166/MAX($D$8:D5166)-1)))","v":""}]
[null,null,null,null,{"$f":"IF(A5167=\"\",\"\",IF(B5167=\"\",E5166,IF(D5167=\"\",E5166,D5167/MAX($D$8:D5167)-1)))","v":""}]
[null,null,null,null,{"$f":"IF(A5168=\"\",\"\",IF(B5168=\"\",E5167,IF(D5168=\"\",E5167,D5168/MAX($D$8:D5168)-1)))","v":""}]
[null,null,null,null,{"$f":"IF(A5169=\"\",\"\",IF(B5169=\"\",E5168,IF(D5169=\"\",E5168,D5169/MAX($D$8:D5169)-1)))","v":""}]
[null,null,null,null,{"$f":"IF(A5170=\"\",\"\",IF(B5170=\"\",E5169,IF(D5170=\"\",E5169,D5170/MAX($D$8:D5170)-1)))","v":""}]
[null,null,null,null,{"$f":"IF(A5171=\"\",\"\",IF(B5171=\"\",E5170,IF(D5171=\"\",E5170,D5171/MAX($D$8:D5171)-1)))","v":""}]
[null,null,null,null,{"$f":"IF(A5172=\"\",\"\",IF(B5172=\"\",E5171,IF(D5172=\"\",E5171,D5172/MAX($D$8:D5172)-1)))","v":""}]
[null,null,null,null,{"$f":"IF(A5173=\"\",\"\",IF(B5173=\"\",E5172,IF(D5173=\"\",E5172,D5173/MAX($D$8:D5173)-1)))","v":""}]
[null,null,null,null,{"$f":"IF(A5174=\"\",\"\",IF(B5174=\"\",E5173,IF(D5174=\"\",E5173,D5174/MAX($D$8:D5174)-1)))","v":""}]
[null,null,null,null,{"$f":"IF(A5175=\"\",\"\",IF(B5175=\"\",E5174,IF(D5175=\"\",E5174,D5175/MAX($D$8:D5175)-1)))","v":""}]
[null,null,null,null,{"$f":"IF(A5176=\"\",\"\",IF(B5176=\"\",E5175,IF(D5176=\"\",E5175,D5176/MAX($D$8:D5176)-1)))","v":""}]
[null,null,null,null,{"$f":"IF(A5177=\"\",\"\",IF(B5177=\"\",E5176,IF(D5177=\"\",E5176,D5177/MAX($D$8:D5177)-1)))","v":""}]
[null,null,null,null,{"$f":"IF(A5178=\"\",\"\",IF(B5178=\"\",E5177,IF(D5178=\"\",E5177,D5178/MAX($D$8:D5178)-1)))","v":""}]
[null,null,null,null,{"$f":"IF(A5179=\"\",\"\",IF(B5179=\"\",E5178,IF(D5179=\"\",E5178,D5179/MAX($D$8:D5179)-1)))","v":""}]
[null,null,null,null,{"$f":"IF(A5180=\"\",\"\",IF(B5180=\"\",E5179,IF(D5180=\"\",E5179,D5180/MAX($D$8:D5180)-1)))","v":""}]
[null,null,null,null,{"$f":"IF(A5181=\"\",\"\",IF(B5181=\"\",E5180,IF(D5181=\"\",E5180,D5181/MAX($D$8:D5181)-1)))","v":""}]
[null,null,null,null,{"$f":"IF(A5182=\"\",\"\",IF(B5182=\"\",E5181,IF(D5182=\"\",E5181,D5182/MAX($D$8:D5182)-1)))","v":""}]
[null,null,null,null,{"$f":"IF(A5183=\"\",\"\",IF(B5183=\"\",E5182,IF(D5183=\"\",E5182,D5183/MAX($D$8:D5183)-1)))","v":""}]
[null,null,null,null,{"$f":"IF(A5184=\"\",\"\",IF(B5184=\"\",E5183,IF(D5184=\"\",E5183,D5184/MAX($D$8:D5184)-1)))","v":""}]
[null,null,null,null,{"$f":"IF(A5185=\"\",\"\",IF(B5185=\"\",E5184,IF(D5185=\"\",E5184,D5185/MAX($D$8:D5185)-1)))","v":""}]
[null,null,null,null,{"$f":"IF(A5186=\"\",\"\",IF(B5186=\"\",E5185,IF(D5186=\"\",E5185,D5186/MAX($D$8:D5186)-1)))","v":""}]
[null,null,null,null,{"$f":"IF(A5187=\"\",\"\",IF(B5187=\"\",E5186,IF(D5187=\"\",E5186,D5187/MAX($D$8:D5187)-1)))","v":""}]
[null,null,null,null,{"$f":"IF(A5188=\"\",\"\",IF(B5188=\"\",E5187,IF(D5188=\"\",E5187,D5188/MAX($D$8:D5188)-1)))","v":""}]
[null,null,null,null,{"$f":"IF(A5189=\"\",\"\",IF(B5189=\"\",E5188,IF(D5189=\"\",E5188,D5189/MAX($D$8:D5189)-1)))","v":""}]
[null,null,null,null,{"$f":"IF(A5190=\"\",\"\",IF(B5190=\"\",E5189,IF(D5190=\"\",E5189,D5190/MAX($D$8:D5190)-1)))","v":""}]
[null,null,null,null,{"$f":"IF(A5191=\"\",\"\",IF(B5191=\"\",E5190,IF(D5191=\"\",E5190,D5191/MAX($D$8:D5191)-1)))","v":""}]
[null,null,null,null,{"$f":"IF(A5192=\"\",\"\",IF(B5192=\"\",E5191,IF(D5192=\"\",E5191,D5192/MAX($D$8:D5192)-1)))","v":""}]
[null,null,null,null,{"$f":"IF(A5193=\"\",\"\",IF(B5193=\"\",E5192,IF(D5193=\"\",E5192,D5193/MAX($D$8:D5193)-1)))","v":""}]
[null,null,null,null,{"$f":"IF(A5194=\"\",\"\",IF(B5194=\"\",E5193,IF(D5194=\"\",E5193,D5194/MAX($D$8:D5194)-1)))","v":""}]
[null,null,null,null,{"$f":"IF(A5195=\"\",\"\",IF(B5195=\"\",E5194,IF(D5195=\"\",E5194,D5195/MAX($D$8:D5195)-1)))","v":""}]
[null,null,null,null,{"$f":"IF(A5196=\"\",\"\",IF(B5196=\"\",E5195,IF(D5196=\"\",E5195,D5196/MAX($D$8:D5196)-1)))","v":""}]
[null,null,null,null,{"$f":"IF(A5197=\"\",\"\",IF(B5197=\"\",E5196,IF(D5197=\"\",E5196,D5197/MAX($D$8:D5197)-1)))","v":""}]
[null,null,null,null,{"$f":"IF(A5198=\"\",\"\",IF(B5198=\"\",E5197,IF(D5198=\"\",E5197,D5198/MAX($D$8:D5198)-1)))","v":""}]
[null,null,null,null,{"$f":"IF(A5199=\"\",\"\",IF(B5199=\"\",E5198,IF(D5199=\"\",E5198,D5199/MAX($D$8:D5199)-1)))","v":""}]
[null,null,null,null,{"$f":"IF(A5200=\"\",\"\",IF(B5200=\"\",E5199,IF(D5200=\"\",E5199,D5200/MAX($D$8:D5200)-1)))","v":""}]
[null,null,null,null,{"$f":"IF(A5201=\"\",\"\",IF(B5201=\"\",E5200,IF(D5201=\"\",E5200,D5201/MAX($D$8:D5201)-1)))","v":""}]
[null,null,null,null,{"$f":"IF(A5202=\"\",\"\",IF(B5202=\"\",E5201,IF(D5202=\"\",E5201,D5202/MAX($D$8:D5202)-1)))","v":""}]
[null,null,null,null,{"$f":"IF(A5203=\"\",\"\",IF(B5203=\"\",E5202,IF(D5203=\"\",E5202,D5203/MAX($D$8:D5203)-1)))","v":""}]
[null,null,null,null,{"$f":"IF(A5204=\"\",\"\",IF(B5204=\"\",E5203,IF(D5204=\"\",E5203,D5204/MAX($D$8:D5204)-1)))","v":""}]
[null,null,null,null,{"$f":"IF(A5205=\"\",\"\",IF(B5205=\"\",E5204,IF(D5205=\"\",E5204,D5205/MAX($D$8:D5205)-1)))","v":""}]
[null,null,null,null,{"$f":"IF(A5206=\"\",\"\",IF(B5206=\"\",E5205,IF(D5206=\"\",E5205,D5206/MAX($D$8:D5206)-1)))","v":""}]
[null,null,null,null,{"$f":"IF(A5207=\"\",\"\",IF(B5207=\"\",E5206,IF(D5207=\"\",E5206,D5207/MAX($D$8:D5207)-1)))","v":""}]
[null,null,null,null,{"$f":"IF(A5208=\"\",\"\",IF(B5208=\"\",E5207,IF(D5208=\"\",E5207,D5208/MAX($D$8:D5208)-1)))","v":""}]
[null,null,null,null,{"$f":"IF(A5209=\"\",\"\",IF(B5209=\"\",E5208,IF(D5209=\"\",E5208,D5209/MAX($D$8:D5209)-1)))","v":""}]
[null,null,null,null,{"$f":"IF(A5210=\"\",\"\",IF(B5210=\"\",E5209,IF(D5210=\"\",E5209,D5210/MAX($D$8:D5210)-1)))","v":""}]
[null,null,null,null,{"$f":"IF(A5211=\"\",\"\",IF(B5211=\"\",E5210,IF(D5211=\"\",E5210,D5211/MAX($D$8:D5211)-1)))","v":""}]
[null,null,null,null,{"$f":"IF(A5212=\"\",\"\",IF(B5212=\"\",E5211,IF(D5212=\"\",E5211,D5212/MAX($D$8:D5212)-1)))","v":""}]
[null,null,null,null,{"$f":"IF(A5213=\"\",\"\",IF(B5213=\"\",E5212,IF(D5213=\"\",E5212,D5213/MAX($D$8:D5213)-1)))","v":""}]
[null,null,null,null,{"$f":"IF(A5214=\"\",\"\",IF(B5214=\"\",E5213,IF(D5214=\"\",E5213,D5214/MAX($D$8:D5214)-1)))","v":""}]
[null,null,null,null,{"$f":"IF(A5215=\"\",\"\",IF(B5215=\"\",E5214,IF(D5215=\"\",E5214,D5215/MAX($D$8:D5215)-1)))","v":""}]
[null,null,null,null,{"$f":"IF(A5216=\"\",\"\",IF(B5216=\"\",E5215,IF(D5216=\"\",E5215,D5216/MAX($D$8:D5216)-1)))","v":""}]
[null,null,null,null,{"$f":"IF(A5217=\"\",\"\",IF(B5217=\"\",E5216,IF(D5217=\"\",E5216,D5217/MAX($D$8:D5217)-1)))","v":""}]
[null,null,null,null,{"$f":"IF(A5218=\"\",\"\",IF(B5218=\"\",E5217,IF(D5218=\"\",E5217,D5218/MAX($D$8:D5218)-1)))","v":""}]
[null,null,null,null,{"$f":"IF(A5219=\"\",\"\",IF(B5219=\"\",E5218,IF(D5219=\"\",E5218,D5219/MAX($D$8:D5219)-1)))","v":""}]
[null,null,null,null,{"$f":"IF(A5220=\"\",\"\",IF(B5220=\"\",E5219,IF(D5220=\"\",E5219,D5220/MAX($D$8:D5220)-1)))","v":""}]
[null,null,null,null,{"$f":"IF(A5221=\"\",\"\",IF(B5221=\"\",E5220,IF(D5221=\"\",E5220,D5221/MAX($D$8:D5221)-1)))","v":""}]
[null,null,null,null,{"$f":"IF(A5222=\"\",\"\",IF(B5222=\"\",E5221,IF(D5222=\"\",E5221,D5222/MAX($D$8:D5222)-1)))","v":""}]
[null,null,null,null,{"$f":"IF(A5223=\"\",\"\",IF(B5223=\"\",E5222,IF(D5223=\"\",E5222,D5223/MAX($D$8:D5223)-1)))","v":""}]
[null,null,null,null,{"$f":"IF(A5224=\"\",\"\",IF(B5224=\"\",E5223,IF(D5224=\"\",E5223,D5224/MAX($D$8:D5224)-1)))","v":""}]
[null,null,null,null,{"$f":"IF(A5225=\"\",\"\",IF(B5225=\"\",E5224,IF(D5225=\"\",E5224,D5225/MAX($D$8:D5225)-1)))","v":""}]
[null,null,null,null,{"$f":"IF(A5226=\"\",\"\",IF(B5226=\"\",E5225,IF(D5226=\"\",E5225,D5226/MAX($D$8:D5226)-1)))","v":""}]
[null,null,null,null,{"$f":"IF(A5227=\"\",\"\",IF(B5227=\"\",E5226,IF(D5227=\"\",E5226,D5227/MAX($D$8:D5227)-1)))","v":""}]
[null,null,null,null,{"$f":"IF(A5228=\"\",\"\",IF(B5228=\"\",E5227,IF(D5228=\"\",E5227,D5228/MAX($D$8:D5228)-1)))","v":""}]
[null,null,null,null,{"$f":"IF(A5229=\"\",\"\",IF(B5229=\"\",E5228,IF(D5229=\"\",E5228,D5229/MAX($D$8:D5229)-1)))","v":""}]
[null,null,null,null,{"$f":"IF(A5230=\"\",\"\",IF(B5230=\"\",E5229,IF(D5230=\"\",E5229,D5230/MAX($D$8:D5230)-1)))","v":""}]
[null,null,null,null,{"$f":"IF(A5231=\"\",\"\",IF(B5231=\"\",E5230,IF(D5231=\"\",E5230,D5231/MAX($D$8:D5231)-1)))","v":""}]
[null,null,null,null,{"$f":"IF(A5232=\"\",\"\",IF(B5232=\"\",E5231,IF(D5232=\"\",E5231,D5232/MAX($D$8:D5232)-1)))","v":""}]
[null,null,null,null,{"$f":"IF(A5233=\"\",\"\",IF(B5233=\"\",E5232,IF(D5233=\"\",E5232,D5233/MAX($D$8:D5233)-1)))","v":""}]
[null,null,null,null,{"$f":"IF(A5234=\"\",\"\",IF(B5234=\"\",E5233,IF(D5234=\"\",E5233,D5234/MAX($D$8:D5234)-1)))","v":""}]
[null,null,null,null,{"$f":"IF(A5235=\"\",\"\",IF(B5235=\"\",E5234,IF(D5235=\"\",E5234,D5235/MAX($D$8:D5235)-1)))","v":""}]
[null,null,null,null,{"$f":"IF(A5236=\"\",\"\",IF(B5236=\"\",E5235,IF(D5236=\"\",E5235,D5236/MAX($D$8:D5236)-1)))","v":""}]
[null,null,null,null,{"$f":"IF(A5237=\"\",\"\",IF(B5237=\"\",E5236,IF(D5237=\"\",E5236,D5237/MAX($D$8:D5237)-1)))","v":""}]
[null,null,null,null,{"$f":"IF(A5238=\"\",\"\",IF(B5238=\"\",E5237,IF(D5238=\"\",E5237,D5238/MAX($D$8:D5238)-1)))","v":""}]
[null,null,null,null,{"$f":"IF(A5239=\"\",\"\",IF(B5239=\"\",E5238,IF(D5239=\"\",E5238,D5239/MAX($D$8:D5239)-1)))","v":""}]
[null,null,null,null,{"$f":"IF(A5240=\"\",\"\",IF(B5240=\"\",E5239,IF(D5240=\"\",E5239,D5240/MAX($D$8:D5240)-1)))","v":""}]
[null,null,null,null,{"$f":"IF(A5241=\"\",\"\",IF(B5241=\"\",E5240,IF(D5241=\"\",E5240,D5241/MAX($D$8:D5241)-1)))","v":""}]
[null,null,null,null,{"$f":"IF(A5242=\"\",\"\",IF(B5242=\"\",E5241,IF(D5242=\"\",E5241,D5242/MAX($D$8:D5242)-1)))","v":""}]
[null,null,null,null,{"$f":"IF(A5243=\"\",\"\",IF(B5243=\"\",E5242,IF(D5243=\"\",E5242,D5243/MAX($D$8:D5243)-1)))","v":""}]
[null,null,null,null,{"$f":"IF(A5244=\"\",\"\",IF(B5244=\"\",E5243,IF(D5244=\"\",E5243,D5244/MAX($D$8:D5244)-1)))","v":""}]
[null,null,null,null,{"$f":"IF(A5245=\"\",\"\",IF(B5245=\"\",E5244,IF(D5245=\"\",E5244,D5245/MAX($D$8:D5245)-1)))","v":""}]
[null,null,null,null,{"$f":"IF(A5246=\"\",\"\",IF(B5246=\"\",E5245,IF(D5246=\"\",E5245,D5246/MAX($D$8:D5246)-1)))","v":""}]
[null,null,null,null,{"$f":"IF(A5247=\"\",\"\",IF(B5247=\"\",E5246,IF(D5247=\"\",E5246,D5247/MAX($D$8:D5247)-1)))","v":""}]
[null,null,null,null,{"$f":"IF(A5248=\"\",\"\",IF(B5248=\"\",E5247,IF(D5248=\"\",E5247,D5248/MAX($D$8:D5248)-1)))","v":""}]
[null,null,null,null,{"$f":"IF(A5249=\"\",\"\",IF(B5249=\"\",E5248,IF(D5249=\"\",E5248,D5249/MAX($D$8:D5249)-1)))","v":""}]
[null,null,null,null,{"$f":"IF(A5250=\"\",\"\",IF(B5250=\"\",E5249,IF(D5250=\"\",E5249,D5250/MAX($D$8:D5250)-1)))","v":""}]
[null,null,null,null,{"$f":"IF(A5251=\"\",\"\",IF(B5251=\"\",E5250,IF(D5251=\"\",E5250,D5251/MAX($D$8:D5251)-1)))","v":""}]
[null,null,null,null,{"$f":"IF(A5252=\"\",\"\",IF(B5252=\"\",E5251,IF(D5252=\"\",E5251,D5252/MAX($D$8:D5252)-1)))","v":""}]
[null,null,null,null,{"$f":"IF(A5253=\"\",\"\",IF(B5253=\"\",E5252,IF(D5253=\"\",E5252,D5253/MAX($D$8:D5253)-1)))","v":""}]
[null,null,null,null,{"$f":"IF(A5254=\"\",\"\",IF(B5254=\"\",E5253,IF(D5254=\"\",E5253,D5254/MAX($D$8:D5254)-1)))","v":""}]
[null,null,null,null,{"$f":"IF(A5255=\"\",\"\",IF(B5255=\"\",E5254,IF(D5255=\"\",E5254,D5255/MAX($D$8:D5255)-1)))","v":""}]
[null,null,null,null,{"$f":"IF(A5256=\"\",\"\",IF(B5256=\"\",E5255,IF(D5256=\"\",E5255,D5256/MAX($D$8:D5256)-1)))","v":""}]
[null,null,null,null,{"$f":"IF(A5257=\"\",\"\",IF(B5257=\"\",E5256,IF(D5257=\"\",E5256,D5257/MAX($D$8:D5257)-1)))","v":""}]
[null,null,null,null,{"$f":"IF(A5258=\"\",\"\",IF(B5258=\"\",E5257,IF(D5258=\"\",E5257,D5258/MAX($D$8:D5258)-1)))","v":""}]
[null,null,null,null,{"$f":"IF(A5259=\"\",\"\",IF(B5259=\"\",E5258,IF(D5259=\"\",E5258,D5259/MAX($D$8:D5259)-1)))","v":""}]
[null,null,null,null,{"$f":"IF(A5260=\"\",\"\",IF(B5260=\"\",E5259,IF(D5260=\"\",E5259,D5260/MAX($D$8:D5260)-1)))","v":""}]
[null,null,null,null,{"$f":"IF(A5261=\"\",\"\",IF(B5261=\"\",E5260,IF(D5261=\"\",E5260,D5261/MAX($D$8:D5261)-1)))","v":""}]
[null,null,null,null,{"$f":"IF(A5262=\"\",\"\",IF(B5262=\"\",E5261,IF(D5262=\"\",E5261,D5262/MAX($D$8:D5262)-1)))","v":""}]
[null,null,null,null,{"$f":"IF(A5263=\"\",\"\",IF(B5263=\"\",E5262,IF(D5263=\"\",E5262,D5263/MAX($D$8:D5263)-1)))","v":""}]
[null,null,null,null,{"$f":"IF(A5264=\"\",\"\",IF(B5264=\"\",E5263,IF(D5264=\"\",E5263,D5264/MAX($D$8:D5264)-1)))","v":""}]
[null,null,null,null,{"$f":"IF(A5265=\"\",\"\",IF(B5265=\"\",E5264,IF(D5265=\"\",E5264,D5265/MAX($D$8:D5265)-1)))","v":""}]
[null,null,null,null,{"$f":"IF(A5266=\"\",\"\",IF(B5266=\"\",E5265,IF(D5266=\"\",E5265,D5266/MAX($D$8:D5266)-1)))","v":""}]
[null,null,null,null,{"$f":"IF(A5267=\"\",\"\",IF(B5267=\"\",E5266,IF(D5267=\"\",E5266,D5267/MAX($D$8:D5267)-1)))","v":""}]
[null,null,null,null,{"$f":"IF(A5268=\"\",\"\",IF(B5268=\"\",E5267,IF(D5268=\"\",E5267,D5268/MAX($D$8:D5268)-1)))","v":""}]
[null,null,null,null,{"$f":"IF(A5269=\"\",\"\",IF(B5269=\"\",E5268,IF(D5269=\"\",E5268,D5269/MAX($D$8:D5269)-1)))","v":""}]
[null,null,null,null,{"$f":"IF(A5270=\"\",\"\",IF(B5270=\"\",E5269,IF(D5270=\"\",E5269,D5270/MAX($D$8:D5270)-1)))","v":""}]
[null,null,null,null,{"$f":"IF(A5271=\"\",\"\",IF(B5271=\"\",E5270,IF(D5271=\"\",E5270,D5271/MAX($D$8:D5271)-1)))","v":""}]
[null,null,null,null,{"$f":"IF(A5272=\"\",\"\",IF(B5272=\"\",E5271,IF(D5272=\"\",E5271,D5272/MAX($D$8:D5272)-1)))","v":""}]
[null,null,null,null,{"$f":"IF(A5273=\"\",\"\",IF(B5273=\"\",E5272,IF(D5273=\"\",E5272,D5273/MAX($D$8:D5273)-1)))","v":""}]
[null,null,null,null,{"$f":"IF(A5274=\"\",\"\",IF(B5274=\"\",E5273,IF(D5274=\"\",E5273,D5274/MAX($D$8:D5274)-1)))","v":""}]
[null,null,null,null,{"$f":"IF(A5275=\"\",\"\",IF(B5275=\"\",E5274,IF(D5275=\"\",E5274,D5275/MAX($D$8:D5275)-1)))","v":""}]
[null,null,null,null,{"$f":"IF(A5276=\"\",\"\",IF(B5276=\"\",E5275,IF(D5276=\"\",E5275,D5276/MAX($D$8:D5276)-1)))","v":""}]
[null,null,null,null,{"$f":"IF(A5277=\"\",\"\",IF(B5277=\"\",E5276,IF(D5277=\"\",E5276,D5277/MAX($D$8:D5277)-1)))","v":""}]
[null,null,null,null,{"$f":"IF(A5278=\"\",\"\",IF(B5278=\"\",E5277,IF(D5278=\"\",E5277,D5278/MAX($D$8:D5278)-1)))","v":""}]
[null,null,null,null,{"$f":"IF(A5279=\"\",\"\",IF(B5279=\"\",E5278,IF(D5279=\"\",E5278,D5279/MAX($D$8:D5279)-1)))","v":""}]
[null,null,null,null,{"$f":"IF(A5280=\"\",\"\",IF(B5280=\"\",E5279,IF(D5280=\"\",E5279,D5280/MAX($D$8:D5280)-1)))","v":""}]
[null,null,null,null,{"$f":"IF(A5281=\"\",\"\",IF(B5281=\"\",E5280,IF(D5281=\"\",E5280,D5281/MAX($D$8:D5281)-1)))","v":""}]
[null,null,null,null,{"$f":"IF(A5282=\"\",\"\",IF(B5282=\"\",E5281,IF(D5282=\"\",E5281,D5282/MAX($D$8:D5282)-1)))","v":""}]
[null,null,null,null,{"$f":"IF(A5283=\"\",\"\",IF(B5283=\"\",E5282,IF(D5283=\"\",E5282,D5283/MAX($D$8:D5283)-1)))","v":""}]
[null,null,null,null,{"$f":"IF(A5284=\"\",\"\",IF(B5284=\"\",E5283,IF(D5284=\"\",E5283,D5284/MAX($D$8:D5284)-1)))","v":""}]
[null,null,null,null,{"$f":"IF(A5285=\"\",\"\",IF(B5285=\"\",E5284,IF(D5285=\"\",E5284,D5285/MAX($D$8:D5285)-1)))","v":""}]
[null,null,null,null,{"$f":"IF(A5286=\"\",\"\",IF(B5286=\"\",E5285,IF(D5286=\"\",E5285,D5286/MAX($D$8:D5286)-1)))","v":""}]
[null,null,null,null,{"$f":"IF(A5287=\"\",\"\",IF(B5287=\"\",E5286,IF(D5287=\"\",E5286,D5287/MAX($D$8:D5287)-1)))","v":""}]
[null,null,null,null,{"$f":"IF(A5288=\"\",\"\",IF(B5288=\"\",E5287,IF(D5288=\"\",E5287,D5288/MAX($D$8:D5288)-1)))","v":""}]
[null,null,null,null,{"$f":"IF(A5289=\"\",\"\",IF(B5289=\"\",E5288,IF(D5289=\"\",E5288,D5289/MAX($D$8:D5289)-1)))","v":""}]
[null,null,null,null,{"$f":"IF(A5290=\"\",\"\",IF(B5290=\"\",E5289,IF(D5290=\"\",E5289,D5290/MAX($D$8:D5290)-1)))","v":""}]
[null,null,null,null,{"$f":"IF(A5291=\"\",\"\",IF(B5291=\"\",E5290,IF(D5291=\"\",E5290,D5291/MAX($D$8:D5291)-1)))","v":""}]
[null,null,null,null,{"$f":"IF(A5292=\"\",\"\",IF(B5292=\"\",E5291,IF(D5292=\"\",E5291,D5292/MAX($D$8:D5292)-1)))","v":""}]
[null,null,null,null,{"$f":"IF(A5293=\"\",\"\",IF(B5293=\"\",E5292,IF(D5293=\"\",E5292,D5293/MAX($D$8:D5293)-1)))","v":""}]
[null,null,null,null,{"$f":"IF(A5294=\"\",\"\",IF(B5294=\"\",E5293,IF(D5294=\"\",E5293,D5294/MAX($D$8:D5294)-1)))","v":""}]
[null,null,null,null,{"$f":"IF(A5295=\"\",\"\",IF(B5295=\"\",E5294,IF(D5295=\"\",E5294,D5295/MAX($D$8:D5295)-1)))","v":""}]
[null,null,null,null,{"$f":"IF(A5296=\"\",\"\",IF(B5296=\"\",E5295,IF(D5296=\"\",E5295,D5296/MAX($D$8:D5296)-1)))","v":""}]
[null,null,null,null,{"$f":"IF(A5297=\"\",\"\",IF(B5297=\"\",E5296,IF(D5297=\"\",E5296,D5297/MAX($D$8:D5297)-1)))","v":""}]
[null,null,null,null,{"$f":"IF(A5298=\"\",\"\",IF(B5298=\"\",E5297,IF(D5298=\"\",E5297,D5298/MAX($D$8:D5298)-1)))","v":""}]
[null,null,null,null,{"$f":"IF(A5299=\"\",\"\",IF(B5299=\"\",E5298,IF(D5299=\"\",E5298,D5299/MAX($D$8:D5299)-1)))","v":""}]
[null,null,null,null,{"$f":"IF(A5300=\"\",\"\",IF(B5300=\"\",E5299,IF(D5300=\"\",E5299,D5300/MAX($D$8:D5300)-1)))","v":""}]
[null,null,null,null,{"$f":"IF(A5301=\"\",\"\",IF(B5301=\"\",E5300,IF(D5301=\"\",E5300,D5301/MAX($D$8:D5301)-1)))","v":""}]
[null,null,null,null,{"$f":"IF(A5302=\"\",\"\",IF(B5302=\"\",E5301,IF(D5302=\"\",E5301,D5302/MAX($D$8:D5302)-1)))","v":""}]
[null,null,null,null,{"$f":"IF(A5303=\"\",\"\",IF(B5303=\"\",E5302,IF(D5303=\"\",E5302,D5303/MAX($D$8:D5303)-1)))","v":""}]
[null,null,null,null,{"$f":"IF(A5304=\"\",\"\",IF(B5304=\"\",E5303,IF(D5304=\"\",E5303,D5304/MAX($D$8:D5304)-1)))","v":""}]
[null,null,null,null,{"$f":"IF(A5305=\"\",\"\",IF(B5305=\"\",E5304,IF(D5305=\"\",E5304,D5305/MAX($D$8:D5305)-1)))","v":""}]
[null,null,null,null,{"$f":"IF(A5306=\"\",\"\",IF(B5306=\"\",E5305,IF(D5306=\"\",E5305,D5306/MAX($D$8:D5306)-1)))","v":""}]
[null,null,null,null,{"$f":"IF(A5307=\"\",\"\",IF(B5307=\"\",E5306,IF(D5307=\"\",E5306,D5307/MAX($D$8:D5307)-1)))","v":""}]
[null,null,null,null,{"$f":"IF(A5308=\"\",\"\",IF(B5308=\"\",E5307,IF(D5308=\"\",E5307,D5308/MAX($D$8:D5308)-1)))","v":""}]
[null,null,null,null,{"$f":"IF(A5309=\"\",\"\",IF(B5309=\"\",E5308,IF(D5309=\"\",E5308,D5309/MAX($D$8:D5309)-1)))","v":""}]
[null,null,null,null,{"$f":"IF(A5310=\"\",\"\",IF(B5310=\"\",E5309,IF(D5310=\"\",E5309,D5310/MAX($D$8:D5310)-1)))","v":""}]
[null,null,null,null,{"$f":"IF(A5311=\"\",\"\",IF(B5311=\"\",E5310,IF(D5311=\"\",E5310,D5311/MAX($D$8:D5311)-1)))","v":""}]
[null,null,null,null,{"$f":"IF(A5312=\"\",\"\",IF(B5312=\"\",E5311,IF(D5312=\"\",E5311,D5312/MAX($D$8:D5312)-1)))","v":""}]
[null,null,null,null,{"$f":"IF(A5313=\"\",\"\",IF(B5313=\"\",E5312,IF(D5313=\"\",E5312,D5313/MAX($D$8:D5313)-1)))","v":""}]
[null,null,null,null,{"$f":"IF(A5314=\"\",\"\",IF(B5314=\"\",E5313,IF(D5314=\"\",E5313,D5314/MAX($D$8:D5314)-1)))","v":""}]
[null,null,null,null,{"$f":"IF(A5315=\"\",\"\",IF(B5315=\"\",E5314,IF(D5315=\"\",E5314,D5315/MAX($D$8:D5315)-1)))","v":""}]
[null,null,null,null,{"$f":"IF(A5316=\"\",\"\",IF(B5316=\"\",E5315,IF(D5316=\"\",E5315,D5316/MAX($D$8:D5316)-1)))","v":""}]
[null,null,null,null,{"$f":"IF(A5317=\"\",\"\",IF(B5317=\"\",E5316,IF(D5317=\"\",E5316,D5317/MAX($D$8:D5317)-1)))","v":""}]
[null,null,null,null,{"$f":"IF(A5318=\"\",\"\",IF(B5318=\"\",E5317,IF(D5318=\"\",E5317,D5318/MAX($D$8:D5318)-1)))","v":""}]
[null,null,null,null,{"$f":"IF(A5319=\"\",\"\",IF(B5319=\"\",E5318,IF(D5319=\"\",E5318,D5319/MAX($D$8:D5319)-1)))","v":""}]
[null,null,null,null,{"$f":"IF(A5320=\"\",\"\",IF(B5320=\"\",E5319,IF(D5320=\"\",E5319,D5320/MAX($D$8:D5320)-1)))","v":""}]
[null,null,null,null,{"$f":"IF(A5321=\"\",\"\",IF(B5321=\"\",E5320,IF(D5321=\"\",E5320,D5321/MAX($D$8:D5321)-1)))","v":""}]
[null,null,null,null,{"$f":"IF(A5322=\"\",\"\",IF(B5322=\"\",E5321,IF(D5322=\"\",E5321,D5322/MAX($D$8:D5322)-1)))","v":""}]
[null,null,null,null,{"$f":"IF(A5323=\"\",\"\",IF(B5323=\"\",E5322,IF(D5323=\"\",E5322,D5323/MAX($D$8:D5323)-1)))","v":""}]
[null,null,null,null,{"$f":"IF(A5324=\"\",\"\",IF(B5324=\"\",E5323,IF(D5324=\"\",E5323,D5324/MAX($D$8:D5324)-1)))","v":""}]
[null,null,null,null,{"$f":"IF(A5325=\"\",\"\",IF(B5325=\"\",E5324,IF(D5325=\"\",E5324,D5325/MAX($D$8:D5325)-1)))","v":""}]
[null,null,null,null,{"$f":"IF(A5326=\"\",\"\",IF(B5326=\"\",E5325,IF(D5326=\"\",E5325,D5326/MAX($D$8:D5326)-1)))","v":""}]
[null,null,null,null,{"$f":"IF(A5327=\"\",\"\",IF(B5327=\"\",E5326,IF(D5327=\"\",E5326,D5327/MAX($D$8:D5327)-1)))","v":""}]
[null,null,null,null,{"$f":"IF(A5328=\"\",\"\",IF(B5328=\"\",E5327,IF(D5328=\"\",E5327,D5328/MAX($D$8:D5328)-1)))","v":""}]
[null,null,null,null,{"$f":"IF(A5329=\"\",\"\",IF(B5329=\"\",E5328,IF(D5329=\"\",E5328,D5329/MAX($D$8:D5329)-1)))","v":""}]
[null,null,null,null,{"$f":"IF(A5330=\"\",\"\",IF(B5330=\"\",E5329,IF(D5330=\"\",E5329,D5330/MAX($D$8:D5330)-1)))","v":""}]
[null,null,null,null,{"$f":"IF(A5331=\"\",\"\",IF(B5331=\"\",E5330,IF(D5331=\"\",E5330,D5331/MAX($D$8:D5331)-1)))","v":""}]
[null,null,null,null,{"$f":"IF(A5332=\"\",\"\",IF(B5332=\"\",E5331,IF(D5332=\"\",E5331,D5332/MAX($D$8:D5332)-1)))","v":""}]
[null,null,null,null,{"$f":"IF(A5333=\"\",\"\",IF(B5333=\"\",E5332,IF(D5333=\"\",E5332,D5333/MAX($D$8:D5333)-1)))","v":""}]
[null,null,null,null,{"$f":"IF(A5334=\"\",\"\",IF(B5334=\"\",E5333,IF(D5334=\"\",E5333,D5334/MAX($D$8:D5334)-1)))","v":""}]
[null,null,null,null,{"$f":"IF(A5335=\"\",\"\",IF(B5335=\"\",E5334,IF(D5335=\"\",E5334,D5335/MAX($D$8:D5335)-1)))","v":""}]
[null,null,null,null,{"$f":"IF(A5336=\"\",\"\",IF(B5336=\"\",E5335,IF(D5336=\"\",E5335,D5336/MAX($D$8:D5336)-1)))","v":""}]
[null,null,null,null,{"$f":"IF(A5337=\"\",\"\",IF(B5337=\"\",E5336,IF(D5337=\"\",E5336,D5337/MAX($D$8:D5337)-1)))","v":""}]
[null,null,null,null,{"$f":"IF(A5338=\"\",\"\",IF(B5338=\"\",E5337,IF(D5338=\"\",E5337,D5338/MAX($D$8:D5338)-1)))","v":""}]
[null,null,null,null,{"$f":"IF(A5339=\"\",\"\",IF(B5339=\"\",E5338,IF(D5339=\"\",E5338,D5339/MAX($D$8:D5339)-1)))","v":""}]
[null,null,null,null,{"$f":"IF(A5340=\"\",\"\",IF(B5340=\"\",E5339,IF(D5340=\"\",E5339,D5340/MAX($D$8:D5340)-1)))","v":""}]
[null,null,null,null,{"$f":"IF(A5341=\"\",\"\",IF(B5341=\"\",E5340,IF(D5341=\"\",E5340,D5341/MAX($D$8:D5341)-1)))","v":""}]
[null,null,null,null,{"$f":"IF(A5342=\"\",\"\",IF(B5342=\"\",E5341,IF(D5342=\"\",E5341,D5342/MAX($D$8:D5342)-1)))","v":""}]
[null,null,null,null,{"$f":"IF(A5343=\"\",\"\",IF(B5343=\"\",E5342,IF(D5343=\"\",E5342,D5343/MAX($D$8:D5343)-1)))","v":""}]
[null,null,null,null,{"$f":"IF(A5344=\"\",\"\",IF(B5344=\"\",E5343,IF(D5344=\"\",E5343,D5344/MAX($D$8:D5344)-1)))","v":""}]
[null,null,null,null,{"$f":"IF(A5345=\"\",\"\",IF(B5345=\"\",E5344,IF(D5345=\"\",E5344,D5345/MAX($D$8:D5345)-1)))","v":""}]
[null,null,null,null,{"$f":"IF(A5346=\"\",\"\",IF(B5346=\"\",E5345,IF(D5346=\"\",E5345,D5346/MAX($D$8:D5346)-1)))","v":""}]
[null,null,null,null,{"$f":"IF(A5347=\"\",\"\",IF(B5347=\"\",E5346,IF(D5347=\"\",E5346,D5347/MAX($D$8:D5347)-1)))","v":""}]
[null,null,null,null,{"$f":"IF(A5348=\"\",\"\",IF(B5348=\"\",E5347,IF(D5348=\"\",E5347,D5348/MAX($D$8:D5348)-1)))","v":""}]
[null,null,null,null,{"$f":"IF(A5349=\"\",\"\",IF(B5349=\"\",E5348,IF(D5349=\"\",E5348,D5349/MAX($D$8:D5349)-1)))","v":""}]
[null,null,null,null,{"$f":"IF(A5350=\"\",\"\",IF(B5350=\"\",E5349,IF(D5350=\"\",E5349,D5350/MAX($D$8:D5350)-1)))","v":""}]
[null,null,null,null,{"$f":"IF(A5351=\"\",\"\",IF(B5351=\"\",E5350,IF(D5351=\"\",E5350,D5351/MAX($D$8:D5351)-1)))","v":""}]
[null,null,null,null,{"$f":"IF(A5352=\"\",\"\",IF(B5352=\"\",E5351,IF(D5352=\"\",E5351,D5352/MAX($D$8:D5352)-1)))","v":""}]
[null,null,null,null,{"$f":"IF(A5353=\"\",\"\",IF(B5353=\"\",E5352,IF(D5353=\"\",E5352,D5353/MAX($D$8:D5353)-1)))","v":""}]
[null,null,null,null,{"$f":"IF(A5354=\"\",\"\",IF(B5354=\"\",E5353,IF(D5354=\"\",E5353,D5354/MAX($D$8:D5354)-1)))","v":""}]
[null,null,null,null,{"$f":"IF(A5355=\"\",\"\",IF(B5355=\"\",E5354,IF(D5355=\"\",E5354,D5355/MAX($D$8:D5355)-1)))","v":""}]
[null,null,null,null,{"$f":"IF(A5356=\"\",\"\",IF(B5356=\"\",E5355,IF(D5356=\"\",E5355,D5356/MAX($D$8:D5356)-1)))","v":""}]
[null,null,null,null,{"$f":"IF(A5357=\"\",\"\",IF(B5357=\"\",E5356,IF(D5357=\"\",E5356,D5357/MAX($D$8:D5357)-1)))","v":""}]
[null,null,null,null,{"$f":"IF(A5358=\"\",\"\",IF(B5358=\"\",E5357,IF(D5358=\"\",E5357,D5358/MAX($D$8:D5358)-1)))","v":""}]
[null,null,null,null,{"$f":"IF(A5359=\"\",\"\",IF(B5359=\"\",E5358,IF(D5359=\"\",E5358,D5359/MAX($D$8:D5359)-1)))","v":""}]
[null,null,null,null,{"$f":"IF(A5360=\"\",\"\",IF(B5360=\"\",E5359,IF(D5360=\"\",E5359,D5360/MAX($D$8:D5360)-1)))","v":""}]
[null,null,null,null,{"$f":"IF(A5361=\"\",\"\",IF(B5361=\"\",E5360,IF(D5361=\"\",E5360,D5361/MAX($D$8:D5361)-1)))","v":""}]
[null,null,null,null,{"$f":"IF(A5362=\"\",\"\",IF(B5362=\"\",E5361,IF(D5362=\"\",E5361,D5362/MAX($D$8:D5362)-1)))","v":""}]
[null,null,null,null,{"$f":"IF(A5363=\"\",\"\",IF(B5363=\"\",E5362,IF(D5363=\"\",E5362,D5363/MAX($D$8:D5363)-1)))","v":""}]
[null,null,null,null,{"$f":"IF(A5364=\"\",\"\",IF(B5364=\"\",E5363,IF(D5364=\"\",E5363,D5364/MAX($D$8:D5364)-1)))","v":""}]
[null,null,null,null,{"$f":"IF(A5365=\"\",\"\",IF(B5365=\"\",E5364,IF(D5365=\"\",E5364,D5365/MAX($D$8:D5365)-1)))","v":""}]
[null,null,null,null,{"$f":"IF(A5366=\"\",\"\",IF(B5366=\"\",E5365,IF(D5366=\"\",E5365,D5366/MAX($D$8:D5366)-1)))","v":""}]
[null,null,null,null,{"$f":"IF(A5367=\"\",\"\",IF(B5367=\"\",E5366,IF(D5367=\"\",E5366,D5367/MAX($D$8:D5367)-1)))","v":""}]
[null,null,null,null,{"$f":"IF(A5368=\"\",\"\",IF(B5368=\"\",E5367,IF(D5368=\"\",E5367,D5368/MAX($D$8:D5368)-1)))","v":""}]
[null,null,null,null,{"$f":"IF(A5369=\"\",\"\",IF(B5369=\"\",E5368,IF(D5369=\"\",E5368,D5369/MAX($D$8:D5369)-1)))","v":""}]
[null,null,null,null,{"$f":"IF(A5370=\"\",\"\",IF(B5370=\"\",E5369,IF(D5370=\"\",E5369,D5370/MAX($D$8:D5370)-1)))","v":""}]
[null,null,null,null,{"$f":"IF(A5371=\"\",\"\",IF(B5371=\"\",E5370,IF(D5371=\"\",E5370,D5371/MAX($D$8:D5371)-1)))","v":""}]
[null,null,null,null,{"$f":"IF(A5372=\"\",\"\",IF(B5372=\"\",E5371,IF(D5372=\"\",E5371,D5372/MAX($D$8:D5372)-1)))","v":""}]
[null,null,null,null,{"$f":"IF(A5373=\"\",\"\",IF(B5373=\"\",E5372,IF(D5373=\"\",E5372,D5373/MAX($D$8:D5373)-1)))","v":""}]
[null,null,null,null,{"$f":"IF(A5374=\"\",\"\",IF(B5374=\"\",E5373,IF(D5374=\"\",E5373,D5374/MAX($D$8:D5374)-1)))","v":""}]
[null,null,null,null,{"$f":"IF(A5375=\"\",\"\",IF(B5375=\"\",E5374,IF(D5375=\"\",E5374,D5375/MAX($D$8:D5375)-1)))","v":""}]
[null,null,null,null,{"$f":"IF(A5376=\"\",\"\",IF(B5376=\"\",E5375,IF(D5376=\"\",E5375,D5376/MAX($D$8:D5376)-1)))","v":""}]
[null,null,null,null,{"$f":"IF(A5377=\"\",\"\",IF(B5377=\"\",E5376,IF(D5377=\"\",E5376,D5377/MAX($D$8:D5377)-1)))","v":""}]
[null,null,null,null,{"$f":"IF(A5378=\"\",\"\",IF(B5378=\"\",E5377,IF(D5378=\"\",E5377,D5378/MAX($D$8:D5378)-1)))","v":""}]
[null,null,null,null,{"$f":"IF(A5379=\"\",\"\",IF(B5379=\"\",E5378,IF(D5379=\"\",E5378,D5379/MAX($D$8:D5379)-1)))","v":""}]
[null,null,null,null,{"$f":"IF(A5380=\"\",\"\",IF(B5380=\"\",E5379,IF(D5380=\"\",E5379,D5380/MAX($D$8:D5380)-1)))","v":""}]
[null,null,null,null,{"$f":"IF(A5381=\"\",\"\",IF(B5381=\"\",E5380,IF(D5381=\"\",E5380,D5381/MAX($D$8:D5381)-1)))","v":""}]
[null,null,null,null,{"$f":"IF(A5382=\"\",\"\",IF(B5382=\"\",E5381,IF(D5382=\"\",E5381,D5382/MAX($D$8:D5382)-1)))","v":""}]
[null,null,null,null,{"$f":"IF(A5383=\"\",\"\",IF(B5383=\"\",E5382,IF(D5383=\"\",E5382,D5383/MAX($D$8:D5383)-1)))","v":""}]
[null,null,null,null,{"$f":"IF(A5384=\"\",\"\",IF(B5384=\"\",E5383,IF(D5384=\"\",E5383,D5384/MAX($D$8:D5384)-1)))","v":""}]
[null,null,null,null,{"$f":"IF(A5385=\"\",\"\",IF(B5385=\"\",E5384,IF(D5385=\"\",E5384,D5385/MAX($D$8:D5385)-1)))","v":""}]
[null,null,null,null,{"$f":"IF(A5386=\"\",\"\",IF(B5386=\"\",E5385,IF(D5386=\"\",E5385,D5386/MAX($D$8:D5386)-1)))","v":""}]
[null,null,null,null,{"$f":"IF(A5387=\"\",\"\",IF(B5387=\"\",E5386,IF(D5387=\"\",E5386,D5387/MAX($D$8:D5387)-1)))","v":""}]
[null,null,null,null,{"$f":"IF(A5388=\"\",\"\",IF(B5388=\"\",E5387,IF(D5388=\"\",E5387,D5388/MAX($D$8:D5388)-1)))","v":""}]
[null,null,null,null,{"$f":"IF(A5389=\"\",\"\",IF(B5389=\"\",E5388,IF(D5389=\"\",E5388,D5389/MAX($D$8:D5389)-1)))","v":""}]
[null,null,null,null,{"$f":"IF(A5390=\"\",\"\",IF(B5390=\"\",E5389,IF(D5390=\"\",E5389,D5390/MAX($D$8:D5390)-1)))","v":""}]
[null,null,null,null,{"$f":"IF(A5391=\"\",\"\",IF(B5391=\"\",E5390,IF(D5391=\"\",E5390,D5391/MAX($D$8:D5391)-1)))","v":""}]
[null,null,null,null,{"$f":"IF(A5392=\"\",\"\",IF(B5392=\"\",E5391,IF(D5392=\"\",E5391,D5392/MAX($D$8:D5392)-1)))","v":""}]
[null,null,null,null,{"$f":"IF(A5393=\"\",\"\",IF(B5393=\"\",E5392,IF(D5393=\"\",E5392,D5393/MAX($D$8:D5393)-1)))","v":""}]
[null,null,null,null,{"$f":"IF(A5394=\"\",\"\",IF(B5394=\"\",E5393,IF(D5394=\"\",E5393,D5394/MAX($D$8:D5394)-1)))","v":""}]
[null,null,null,null,{"$f":"IF(A5395=\"\",\"\",IF(B5395=\"\",E5394,IF(D5395=\"\",E5394,D5395/MAX($D$8:D5395)-1)))","v":""}]
[null,null,null,null,{"$f":"IF(A5396=\"\",\"\",IF(B5396=\"\",E5395,IF(D5396=\"\",E5395,D5396/MAX($D$8:D5396)-1)))","v":""}]
[null,null,null,null,{"$f":"IF(A5397=\"\",\"\",IF(B5397=\"\",E5396,IF(D5397=\"\",E5396,D5397/MAX($D$8:D5397)-1)))","v":""}]
[null,null,null,null,{"$f":"IF(A5398=\"\",\"\",IF(B5398=\"\",E5397,IF(D5398=\"\",E5397,D5398/MAX($D$8:D5398)-1)))","v":""}]
[null,null,null,null,{"$f":"IF(A5399=\"\",\"\",IF(B5399=\"\",E5398,IF(D5399=\"\",E5398,D5399/MAX($D$8:D5399)-1)))","v":""}]
[null,null,null,null,{"$f":"IF(A5400=\"\",\"\",IF(B5400=\"\",E5399,IF(D5400=\"\",E5399,D5400/MAX($D$8:D5400)-1)))","v":""}]
[null,null,null,null,{"$f":"IF(A5401=\"\",\"\",IF(B5401=\"\",E5400,IF(D5401=\"\",E5400,D5401/MAX($D$8:D5401)-1)))","v":""}]
[null,null,null,null,{"$f":"IF(A5402=\"\",\"\",IF(B5402=\"\",E5401,IF(D5402=\"\",E5401,D5402/MAX($D$8:D5402)-1)))","v":""}]
[null,null,null,null,{"$f":"IF(A5403=\"\",\"\",IF(B5403=\"\",E5402,IF(D5403=\"\",E5402,D5403/MAX($D$8:D5403)-1)))","v":""}]
[null,null,null,null,{"$f":"IF(A5404=\"\",\"\",IF(B5404=\"\",E5403,IF(D5404=\"\",E5403,D5404/MAX($D$8:D5404)-1)))","v":""}]
[null,null,null,null,{"$f":"IF(A5405=\"\",\"\",IF(B5405=\"\",E5404,IF(D5405=\"\",E5404,D5405/MAX($D$8:D5405)-1)))","v":""}]
[null,null,null,null,{"$f":"IF(A5406=\"\",\"\",IF(B5406=\"\",E5405,IF(D5406=\"\",E5405,D5406/MAX($D$8:D5406)-1)))","v":""}]
[null,null,null,null,{"$f":"IF(A5407=\"\",\"\",IF(B5407=\"\",E5406,IF(D5407=\"\",E5406,D5407/MAX($D$8:D5407)-1)))","v":""}]
[null,null,null,null,{"$f":"IF(A5408=\"\",\"\",IF(B5408=\"\",E5407,IF(D5408=\"\",E5407,D5408/MAX($D$8:D5408)-1)))","v":""}]
[null,null,null,null,{"$f":"IF(A5409=\"\",\"\",IF(B5409=\"\",E5408,IF(D5409=\"\",E5408,D5409/MAX($D$8:D5409)-1)))","v":""}]
[null,null,null,null,{"$f":"IF(A5410=\"\",\"\",IF(B5410=\"\",E5409,IF(D5410=\"\",E5409,D5410/MAX($D$8:D5410)-1)))","v":""}]
[null,null,null,null,{"$f":"IF(A5411=\"\",\"\",IF(B5411=\"\",E5410,IF(D5411=\"\",E5410,D5411/MAX($D$8:D5411)-1)))","v":""}]
[null,null,null,null,{"$f":"IF(A5412=\"\",\"\",IF(B5412=\"\",E5411,IF(D5412=\"\",E5411,D5412/MAX($D$8:D5412)-1)))","v":""}]
[null,null,null,null,{"$f":"IF(A5413=\"\",\"\",IF(B5413=\"\",E5412,IF(D5413=\"\",E5412,D5413/MAX($D$8:D5413)-1)))","v":""}]
[null,null,null,null,{"$f":"IF(A5414=\"\",\"\",IF(B5414=\"\",E5413,IF(D5414=\"\",E5413,D5414/MAX($D$8:D5414)-1)))","v":""}]
[null,null,null,null,{"$f":"IF(A5415=\"\",\"\",IF(B5415=\"\",E5414,IF(D5415=\"\",E5414,D5415/MAX($D$8:D5415)-1)))","v":""}]
[null,null,null,null,{"$f":"IF(A5416=\"\",\"\",IF(B5416=\"\",E5415,IF(D5416=\"\",E5415,D5416/MAX($D$8:D5416)-1)))","v":""}]
[null,null,null,null,{"$f":"IF(A5417=\"\",\"\",IF(B5417=\"\",E5416,IF(D5417=\"\",E5416,D5417/MAX($D$8:D5417)-1)))","v":""}]
[null,null,null,null,{"$f":"IF(A5418=\"\",\"\",IF(B5418=\"\",E5417,IF(D5418=\"\",E5417,D5418/MAX($D$8:D5418)-1)))","v":""}]
[null,null,null,null,{"$f":"IF(A5419=\"\",\"\",IF(B5419=\"\",E5418,IF(D5419=\"\",E5418,D5419/MAX($D$8:D5419)-1)))","v":""}]
[null,null,null,null,{"$f":"IF(A5420=\"\",\"\",IF(B5420=\"\",E5419,IF(D5420=\"\",E5419,D5420/MAX($D$8:D5420)-1)))","v":""}]
[null,null,null,null,{"$f":"IF(A5421=\"\",\"\",IF(B5421=\"\",E5420,IF(D5421=\"\",E5420,D5421/MAX($D$8:D5421)-1)))","v":""}]
[null,null,null,null,{"$f":"IF(A5422=\"\",\"\",IF(B5422=\"\",E5421,IF(D5422=\"\",E5421,D5422/MAX($D$8:D5422)-1)))","v":""}]
[null,null,null,null,{"$f":"IF(A5423=\"\",\"\",IF(B5423=\"\",E5422,IF(D5423=\"\",E5422,D5423/MAX($D$8:D5423)-1)))","v":""}]
[null,null,null,null,{"$f":"IF(A5424=\"\",\"\",IF(B5424=\"\",E5423,IF(D5424=\"\",E5423,D5424/MAX($D$8:D5424)-1)))","v":""}]
[null,null,null,null,{"$f":"IF(A5425=\"\",\"\",IF(B5425=\"\",E5424,IF(D5425=\"\",E5424,D5425/MAX($D$8:D5425)-1)))","v":""}]
[null,null,null,null,{"$f":"IF(A5426=\"\",\"\",IF(B5426=\"\",E5425,IF(D5426=\"\",E5425,D5426/MAX($D$8:D5426)-1)))","v":""}]
[null,null,null,null,{"$f":"IF(A5427=\"\",\"\",IF(B5427=\"\",E5426,IF(D5427=\"\",E5426,D5427/MAX($D$8:D5427)-1)))","v":""}]
[null,null,null,null,{"$f":"IF(A5428=\"\",\"\",IF(B5428=\"\",E5427,IF(D5428=\"\",E5427,D5428/MAX($D$8:D5428)-1)))","v":""}]
[null,null,null,null,{"$f":"IF(A5429=\"\",\"\",IF(B5429=\"\",E5428,IF(D5429=\"\",E5428,D5429/MAX($D$8:D5429)-1)))","v":""}]
[null,null,null,null,{"$f":"IF(A5430=\"\",\"\",IF(B5430=\"\",E5429,IF(D5430=\"\",E5429,D5430/MAX($D$8:D5430)-1)))","v":""}]
[null,null,null,null,{"$f":"IF(A5431=\"\",\"\",IF(B5431=\"\",E5430,IF(D5431=\"\",E5430,D5431/MAX($D$8:D5431)-1)))","v":""}]
[null,null,null,null,{"$f":"IF(A5432=\"\",\"\",IF(B5432=\"\",E5431,IF(D5432=\"\",E5431,D5432/MAX($D$8:D5432)-1)))","v":""}]
[null,null,null,null,{"$f":"IF(A5433=\"\",\"\",IF(B5433=\"\",E5432,IF(D5433=\"\",E5432,D5433/MAX($D$8:D5433)-1)))","v":""}]
[null,null,null,null,{"$f":"IF(A5434=\"\",\"\",IF(B5434=\"\",E5433,IF(D5434=\"\",E5433,D5434/MAX($D$8:D5434)-1)))","v":""}]
[null,null,null,null,{"$f":"IF(A5435=\"\",\"\",IF(B5435=\"\",E5434,IF(D5435=\"\",E5434,D5435/MAX($D$8:D5435)-1)))","v":""}]
[null,null,null,null,{"$f":"IF(A5436=\"\",\"\",IF(B5436=\"\",E5435,IF(D5436=\"\",E5435,D5436/MAX($D$8:D5436)-1)))","v":""}]
[null,null,null,null,{"$f":"IF(A5437=\"\",\"\",IF(B5437=\"\",E5436,IF(D5437=\"\",E5436,D5437/MAX($D$8:D5437)-1)))","v":""}]
[null,null,null,null,{"$f":"IF(A5438=\"\",\"\",IF(B5438=\"\",E5437,IF(D5438=\"\",E5437,D5438/MAX($D$8:D5438)-1)))","v":""}]
[null,null,null,null,{"$f":"IF(A5439=\"\",\"\",IF(B5439=\"\",E5438,IF(D5439=\"\",E5438,D5439/MAX($D$8:D5439)-1)))","v":""}]
[null,null,null,null,{"$f":"IF(A5440=\"\",\"\",IF(B5440=\"\",E5439,IF(D5440=\"\",E5439,D5440/MAX($D$8:D5440)-1)))","v":""}]
[null,null,null,null,{"$f":"IF(A5441=\"\",\"\",IF(B5441=\"\",E5440,IF(D5441=\"\",E5440,D5441/MAX($D$8:D5441)-1)))","v":""}]
[null,null,null,null,{"$f":"IF(A5442=\"\",\"\",IF(B5442=\"\",E5441,IF(D5442=\"\",E5441,D5442/MAX($D$8:D5442)-1)))","v":""}]
[null,null,null,null,{"$f":"IF(A5443=\"\",\"\",IF(B5443=\"\",E5442,IF(D5443=\"\",E5442,D5443/MAX($D$8:D5443)-1)))","v":""}]
[null,null,null,null,{"$f":"IF(A5444=\"\",\"\",IF(B5444=\"\",E5443,IF(D5444=\"\",E5443,D5444/MAX($D$8:D5444)-1)))","v":""}]
[null,null,null,null,{"$f":"IF(A5445=\"\",\"\",IF(B5445=\"\",E5444,IF(D5445=\"\",E5444,D5445/MAX($D$8:D5445)-1)))","v":""}]
[null,null,null,null,{"$f":"IF(A5446=\"\",\"\",IF(B5446=\"\",E5445,IF(D5446=\"\",E5445,D5446/MAX($D$8:D5446)-1)))","v":""}]
[null,null,null,null,{"$f":"IF(A5447=\"\",\"\",IF(B5447=\"\",E5446,IF(D5447=\"\",E5446,D5447/MAX($D$8:D5447)-1)))","v":""}]
[null,null,null,null,{"$f":"IF(A5448=\"\",\"\",IF(B5448=\"\",E5447,IF(D5448=\"\",E5447,D5448/MAX($D$8:D5448)-1)))","v":""}]
[null,null,null,null,{"$f":"IF(A5449=\"\",\"\",IF(B5449=\"\",E5448,IF(D5449=\"\",E5448,D5449/MAX($D$8:D5449)-1)))","v":""}]
[null,null,null,null,{"$f":"IF(A5450=\"\",\"\",IF(B5450=\"\",E5449,IF(D5450=\"\",E5449,D5450/MAX($D$8:D5450)-1)))","v":""}]
[null,null,null,null,{"$f":"IF(A5451=\"\",\"\",IF(B5451=\"\",E5450,IF(D5451=\"\",E5450,D5451/MAX($D$8:D5451)-1)))","v":""}]
[null,null,null,null,{"$f":"IF(A5452=\"\",\"\",IF(B5452=\"\",E5451,IF(D5452=\"\",E5451,D5452/MAX($D$8:D5452)-1)))","v":""}]
[null,null,null,null,{"$f":"IF(A5453=\"\",\"\",IF(B5453=\"\",E5452,IF(D5453=\"\",E5452,D5453/MAX($D$8:D5453)-1)))","v":""}]
[null,null,null,null,{"$f":"IF(A5454=\"\",\"\",IF(B5454=\"\",E5453,IF(D5454=\"\",E5453,D5454/MAX($D$8:D5454)-1)))","v":""}]
[null,null,null,null,{"$f":"IF(A5455=\"\",\"\",IF(B5455=\"\",E5454,IF(D5455=\"\",E5454,D5455/MAX($D$8:D5455)-1)))","v":""}]
[null,null,null,null,{"$f":"IF(A5456=\"\",\"\",IF(B5456=\"\",E5455,IF(D5456=\"\",E5455,D5456/MAX($D$8:D5456)-1)))","v":""}]
[null,null,null,null,{"$f":"IF(A5457=\"\",\"\",IF(B5457=\"\",E5456,IF(D5457=\"\",E5456,D5457/MAX($D$8:D5457)-1)))","v":""}]
[null,null,null,null,{"$f":"IF(A5458=\"\",\"\",IF(B5458=\"\",E5457,IF(D5458=\"\",E5457,D5458/MAX($D$8:D5458)-1)))","v":""}]
[null,null,null,null,{"$f":"IF(A5459=\"\",\"\",IF(B5459=\"\",E5458,IF(D5459=\"\",E5458,D5459/MAX($D$8:D5459)-1)))","v":""}]
[null,null,null,null,{"$f":"IF(A5460=\"\",\"\",IF(B5460=\"\",E5459,IF(D5460=\"\",E5459,D5460/MAX($D$8:D5460)-1)))","v":""}]
[null,null,null,null,{"$f":"IF(A5461=\"\",\"\",IF(B5461=\"\",E5460,IF(D5461=\"\",E5460,D5461/MAX($D$8:D5461)-1)))","v":""}]
[null,null,null,null,{"$f":"IF(A5462=\"\",\"\",IF(B5462=\"\",E5461,IF(D5462=\"\",E5461,D5462/MAX($D$8:D5462)-1)))","v":""}]
[null,null,null,null,{"$f":"IF(A5463=\"\",\"\",IF(B5463=\"\",E5462,IF(D5463=\"\",E5462,D5463/MAX($D$8:D5463)-1)))","v":""}]
[null,null,null,null,{"$f":"IF(A5464=\"\",\"\",IF(B5464=\"\",E5463,IF(D5464=\"\",E5463,D5464/MAX($D$8:D5464)-1)))","v":""}]
[null,null,null,null,{"$f":"IF(A5465=\"\",\"\",IF(B5465=\"\",E5464,IF(D5465=\"\",E5464,D5465/MAX($D$8:D5465)-1)))","v":""}]
[null,null,null,null,{"$f":"IF(A5466=\"\",\"\",IF(B5466=\"\",E5465,IF(D5466=\"\",E5465,D5466/MAX($D$8:D5466)-1)))","v":""}]
[null,null,null,null,{"$f":"IF(A5467=\"\",\"\",IF(B5467=\"\",E5466,IF(D5467=\"\",E5466,D5467/MAX($D$8:D5467)-1)))","v":""}]
[null,null,null,null,{"$f":"IF(A5468=\"\",\"\",IF(B5468=\"\",E5467,IF(D5468=\"\",E5467,D5468/MAX($D$8:D5468)-1)))","v":""}]
[null,null,null,null,{"$f":"IF(A5469=\"\",\"\",IF(B5469=\"\",E5468,IF(D5469=\"\",E5468,D5469/MAX($D$8:D5469)-1)))","v":""}]
[null,null,null,null,{"$f":"IF(A5470=\"\",\"\",IF(B5470=\"\",E5469,IF(D5470=\"\",E5469,D5470/MAX($D$8:D5470)-1)))","v":""}]
[null,null,null,null,{"$f":"IF(A5471=\"\",\"\",IF(B5471=\"\",E5470,IF(D5471=\"\",E5470,D5471/MAX($D$8:D5471)-1)))","v":""}]
[null,null,null,null,{"$f":"IF(A5472=\"\",\"\",IF(B5472=\"\",E5471,IF(D5472=\"\",E5471,D5472/MAX($D$8:D5472)-1)))","v":""}]
[null,null,null,null,{"$f":"IF(A5473=\"\",\"\",IF(B5473=\"\",E5472,IF(D5473=\"\",E5472,D5473/MAX($D$8:D5473)-1)))","v":""}]
[null,null,null,null,{"$f":"IF(A5474=\"\",\"\",IF(B5474=\"\",E5473,IF(D5474=\"\",E5473,D5474/MAX($D$8:D5474)-1)))","v":""}]
[null,null,null,null,{"$f":"IF(A5475=\"\",\"\",IF(B5475=\"\",E5474,IF(D5475=\"\",E5474,D5475/MAX($D$8:D5475)-1)))","v":""}]
[null,null,null,null,{"$f":"IF(A5476=\"\",\"\",IF(B5476=\"\",E5475,IF(D5476=\"\",E5475,D5476/MAX($D$8:D5476)-1)))","v":""}]
[null,null,null,null,{"$f":"IF(A5477=\"\",\"\",IF(B5477=\"\",E5476,IF(D5477=\"\",E5476,D5477/MAX($D$8:D5477)-1)))","v":""}]
[null,null,null,null,{"$f":"IF(A5478=\"\",\"\",IF(B5478=\"\",E5477,IF(D5478=\"\",E5477,D5478/MAX($D$8:D5478)-1)))","v":""}]
[null,null,null,null,{"$f":"IF(A5479=\"\",\"\",IF(B5479=\"\",E5478,IF(D5479=\"\",E5478,D5479/MAX($D$8:D5479)-1)))","v":""}]
[null,null,null,null,{"$f":"IF(A5480=\"\",\"\",IF(B5480=\"\",E5479,IF(D5480=\"\",E5479,D5480/MAX($D$8:D5480)-1)))","v":""}]
[null,null,null,null,{"$f":"IF(A5481=\"\",\"\",IF(B5481=\"\",E5480,IF(D5481=\"\",E5480,D5481/MAX($D$8:D5481)-1)))","v":""}]
[null,null,null,null,{"$f":"IF(A5482=\"\",\"\",IF(B5482=\"\",E5481,IF(D5482=\"\",E5481,D5482/MAX($D$8:D5482)-1)))","v":""}]
[null,null,null,null,{"$f":"IF(A5483=\"\",\"\",IF(B5483=\"\",E5482,IF(D5483=\"\",E5482,D5483/MAX($D$8:D5483)-1)))","v":""}]
[null,null,null,null,{"$f":"IF(A5484=\"\",\"\",IF(B5484=\"\",E5483,IF(D5484=\"\",E5483,D5484/MAX($D$8:D5484)-1)))","v":""}]
[null,null,null,null,{"$f":"IF(A5485=\"\",\"\",IF(B5485=\"\",E5484,IF(D5485=\"\",E5484,D5485/MAX($D$8:D5485)-1)))","v":""}]
[null,null,null,null,{"$f":"IF(A5486=\"\",\"\",IF(B5486=\"\",E5485,IF(D5486=\"\",E5485,D5486/MAX($D$8:D5486)-1)))","v":""}]
[null,null,null,null,{"$f":"IF(A5487=\"\",\"\",IF(B5487=\"\",E5486,IF(D5487=\"\",E5486,D5487/MAX($D$8:D5487)-1)))","v":""}]
[null,null,null,null,{"$f":"IF(A5488=\"\",\"\",IF(B5488=\"\",E5487,IF(D5488=\"\",E5487,D5488/MAX($D$8:D5488)-1)))","v":""}]
[null,null,null,null,{"$f":"IF(A5489=\"\",\"\",IF(B5489=\"\",E5488,IF(D5489=\"\",E5488,D5489/MAX($D$8:D5489)-1)))","v":""}]
[null,null,null,null,{"$f":"IF(A5490=\"\",\"\",IF(B5490=\"\",E5489,IF(D5490=\"\",E5489,D5490/MAX($D$8:D5490)-1)))","v":""}]
[null,null,null,null,{"$f":"IF(A5491=\"\",\"\",IF(B5491=\"\",E5490,IF(D5491=\"\",E5490,D5491/MAX($D$8:D5491)-1)))","v":""}]
[null,null,null,null,{"$f":"IF(A5492=\"\",\"\",IF(B5492=\"\",E5491,IF(D5492=\"\",E5491,D5492/MAX($D$8:D5492)-1)))","v":""}]
[null,null,null,null,{"$f":"IF(A5493=\"\",\"\",IF(B5493=\"\",E5492,IF(D5493=\"\",E5492,D5493/MAX($D$8:D5493)-1)))","v":""}]
[null,null,null,null,{"$f":"IF(A5494=\"\",\"\",IF(B5494=\"\",E5493,IF(D5494=\"\",E5493,D5494/MAX($D$8:D5494)-1)))","v":""}]
[null,null,null,null,{"$f":"IF(A5495=\"\",\"\",IF(B5495=\"\",E5494,IF(D5495=\"\",E5494,D5495/MAX($D$8:D5495)-1)))","v":""}]
[null,null,null,null,{"$f":"IF(A5496=\"\",\"\",IF(B5496=\"\",E5495,IF(D5496=\"\",E5495,D5496/MAX($D$8:D5496)-1)))","v":""}]
[null,null,null,null,{"$f":"IF(A5497=\"\",\"\",IF(B5497=\"\",E5496,IF(D5497=\"\",E5496,D5497/MAX($D$8:D5497)-1)))","v":""}]
[null,null,null,null,{"$f":"IF(A5498=\"\",\"\",IF(B5498=\"\",E5497,IF(D5498=\"\",E5497,D5498/MAX($D$8:D5498)-1)))","v":""}]
[null,null,null,null,{"$f":"IF(A5499=\"\",\"\",IF(B5499=\"\",E5498,IF(D5499=\"\",E5498,D5499/MAX($D$8:D5499)-1)))","v":""}]
[null,null,null,null,{"$f":"IF(A5500=\"\",\"\",IF(B5500=\"\",E5499,IF(D5500=\"\",E5499,D5500/MAX($D$8:D5500)-1)))","v":""}]
[null,null,null,null,{"$f":"IF(A5501=\"\",\"\",IF(B5501=\"\",E5500,IF(D5501=\"\",E5500,D5501/MAX($D$8:D5501)-1)))","v":""}]
[null,null,null,null,{"$f":"IF(A5502=\"\",\"\",IF(B5502=\"\",E5501,IF(D5502=\"\",E5501,D5502/MAX($D$8:D5502)-1)))","v":""}]
[null,null,null,null,{"$f":"IF(A5503=\"\",\"\",IF(B5503=\"\",E5502,IF(D5503=\"\",E5502,D5503/MAX($D$8:D5503)-1)))","v":""}]
[null,null,null,null,{"$f":"IF(A5504=\"\",\"\",IF(B5504=\"\",E5503,IF(D5504=\"\",E5503,D5504/MAX($D$8:D5504)-1)))","v":""}]
[null,null,null,null,{"$f":"IF(A5505=\"\",\"\",IF(B5505=\"\",E5504,IF(D5505=\"\",E5504,D5505/MAX($D$8:D5505)-1)))","v":""}]
[null,null,null,null,{"$f":"IF(A5506=\"\",\"\",IF(B5506=\"\",E5505,IF(D5506=\"\",E5505,D5506/MAX($D$8:D5506)-1)))","v":""}]
[null,null,null,null,{"$f":"IF(A5507=\"\",\"\",IF(B5507=\"\",E5506,IF(D5507=\"\",E5506,D5507/MAX($D$8:D5507)-1)))","v":""}]
[null,null,null,null,{"$f":"IF(A5508=\"\",\"\",IF(B5508=\"\",E5507,IF(D5508=\"\",E5507,D5508/MAX($D$8:D5508)-1)))","v":""}]
[null,null,null,null,{"$f":"IF(A5509=\"\",\"\",IF(B5509=\"\",E5508,IF(D5509=\"\",E5508,D5509/MAX($D$8:D5509)-1)))","v":""}]
[null,null,null,null,{"$f":"IF(A5510=\"\",\"\",IF(B5510=\"\",E5509,IF(D5510=\"\",E5509,D5510/MAX($D$8:D5510)-1)))","v":""}]
[null,null,null,null,{"$f":"IF(A5511=\"\",\"\",IF(B5511=\"\",E5510,IF(D5511=\"\",E5510,D5511/MAX($D$8:D5511)-1)))","v":""}]
[null,null,null,null,{"$f":"IF(A5512=\"\",\"\",IF(B5512=\"\",E5511,IF(D5512=\"\",E5511,D5512/MAX($D$8:D5512)-1)))","v":""}]
[null,null,null,null,{"$f":"IF(A5513=\"\",\"\",IF(B5513=\"\",E5512,IF(D5513=\"\",E5512,D5513/MAX($D$8:D5513)-1)))","v":""}]
[null,null,null,null,{"$f":"IF(A5514=\"\",\"\",IF(B5514=\"\",E5513,IF(D5514=\"\",E5513,D5514/MAX($D$8:D5514)-1)))","v":""}]
[null,null,null,null,{"$f":"IF(A5515=\"\",\"\",IF(B5515=\"\",E5514,IF(D5515=\"\",E5514,D5515/MAX($D$8:D5515)-1)))","v":""}]
[null,null,null,null,{"$f":"IF(A5516=\"\",\"\",IF(B5516=\"\",E5515,IF(D5516=\"\",E5515,D5516/MAX($D$8:D5516)-1)))","v":""}]
[null,null,null,null,{"$f":"IF(A5517=\"\",\"\",IF(B5517=\"\",E5516,IF(D5517=\"\",E5516,D5517/MAX($D$8:D5517)-1)))","v":""}]
[null,null,null,null,{"$f":"IF(A5518=\"\",\"\",IF(B5518=\"\",E5517,IF(D5518=\"\",E5517,D5518/MAX($D$8:D5518)-1)))","v":""}]
[null,null,null,null,{"$f":"IF(A5519=\"\",\"\",IF(B5519=\"\",E5518,IF(D5519=\"\",E5518,D5519/MAX($D$8:D5519)-1)))","v":""}]
[null,null,null,null,{"$f":"IF(A5520=\"\",\"\",IF(B5520=\"\",E5519,IF(D5520=\"\",E5519,D5520/MAX($D$8:D5520)-1)))","v":""}]
[null,null,null,null,{"$f":"IF(A5521=\"\",\"\",IF(B5521=\"\",E5520,IF(D5521=\"\",E5520,D5521/MAX($D$8:D5521)-1)))","v":""}]
[null,null,null,null,{"$f":"IF(A5522=\"\",\"\",IF(B5522=\"\",E5521,IF(D5522=\"\",E5521,D5522/MAX($D$8:D5522)-1)))","v":""}]
[null,null,null,null,{"$f":"IF(A5523=\"\",\"\",IF(B5523=\"\",E5522,IF(D5523=\"\",E5522,D5523/MAX($D$8:D5523)-1)))","v":""}]
[null,null,null,null,{"$f":"IF(A5524=\"\",\"\",IF(B5524=\"\",E5523,IF(D5524=\"\",E5523,D5524/MAX($D$8:D5524)-1)))","v":""}]
[null,null,null,null,{"$f":"IF(A5525=\"\",\"\",IF(B5525=\"\",E5524,IF(D5525=\"\",E5524,D5525/MAX($D$8:D5525)-1)))","v":""}]
[null,null,null,null,{"$f":"IF(A5526=\"\",\"\",IF(B5526=\"\",E5525,IF(D5526=\"\",E5525,D5526/MAX($D$8:D5526)-1)))","v":""}]
[null,null,null,null,{"$f":"IF(A5527=\"\",\"\",IF(B5527=\"\",E5526,IF(D5527=\"\",E5526,D5527/MAX($D$8:D5527)-1)))","v":""}]
[null,null,null,null,{"$f":"IF(A5528=\"\",\"\",IF(B5528=\"\",E5527,IF(D5528=\"\",E5527,D5528/MAX($D$8:D5528)-1)))","v":""}]
[null,null,null,null,{"$f":"IF(A5529=\"\",\"\",IF(B5529=\"\",E5528,IF(D5529=\"\",E5528,D5529/MAX($D$8:D5529)-1)))","v":""}]
[null,null,null,null,{"$f":"IF(A5530=\"\",\"\",IF(B5530=\"\",E5529,IF(D5530=\"\",E5529,D5530/MAX($D$8:D5530)-1)))","v":""}]
[null,null,null,null,{"$f":"IF(A5531=\"\",\"\",IF(B5531=\"\",E5530,IF(D5531=\"\",E5530,D5531/MAX($D$8:D5531)-1)))","v":""}]
[null,null,null,null,{"$f":"IF(A5532=\"\",\"\",IF(B5532=\"\",E5531,IF(D5532=\"\",E5531,D5532/MAX($D$8:D5532)-1)))","v":""}]
[null,null,null,null,{"$f":"IF(A5533=\"\",\"\",IF(B5533=\"\",E5532,IF(D5533=\"\",E5532,D5533/MAX($D$8:D5533)-1)))","v":""}]
[null,null,null,null,{"$f":"IF(A5534=\"\",\"\",IF(B5534=\"\",E5533,IF(D5534=\"\",E5533,D5534/MAX($D$8:D5534)-1)))","v":""}]
[null,null,null,null,{"$f":"IF(A5535=\"\",\"\",IF(B5535=\"\",E5534,IF(D5535=\"\",E5534,D5535/MAX($D$8:D5535)-1)))","v":""}]
[null,null,null,null,{"$f":"IF(A5536=\"\",\"\",IF(B5536=\"\",E5535,IF(D5536=\"\",E5535,D5536/MAX($D$8:D5536)-1)))","v":""}]
[null,null,null,null,{"$f":"IF(A5537=\"\",\"\",IF(B5537=\"\",E5536,IF(D5537=\"\",E5536,D5537/MAX($D$8:D5537)-1)))","v":""}]
[null,null,null,null,{"$f":"IF(A5538=\"\",\"\",IF(B5538=\"\",E5537,IF(D5538=\"\",E5537,D5538/MAX($D$8:D5538)-1)))","v":""}]
[null,null,null,null,{"$f":"IF(A5539=\"\",\"\",IF(B5539=\"\",E5538,IF(D5539=\"\",E5538,D5539/MAX($D$8:D5539)-1)))","v":""}]
[null,null,null,null,{"$f":"IF(A5540=\"\",\"\",IF(B5540=\"\",E5539,IF(D5540=\"\",E5539,D5540/MAX($D$8:D5540)-1)))","v":""}]
[null,null,null,null,{"$f":"IF(A5541=\"\",\"\",IF(B5541=\"\",E5540,IF(D5541=\"\",E5540,D5541/MAX($D$8:D5541)-1)))","v":""}]
[null,null,null,null,{"$f":"IF(A5542=\"\",\"\",IF(B5542=\"\",E5541,IF(D5542=\"\",E5541,D5542/MAX($D$8:D5542)-1)))","v":""}]
[null,null,null,null,{"$f":"IF(A5543=\"\",\"\",IF(B5543=\"\",E5542,IF(D5543=\"\",E5542,D5543/MAX($D$8:D5543)-1)))","v":""}]
[null,null,null,null,{"$f":"IF(A5544=\"\",\"\",IF(B5544=\"\",E5543,IF(D5544=\"\",E5543,D5544/MAX($D$8:D5544)-1)))","v":""}]
[null,null,null,null,{"$f":"IF(A5545=\"\",\"\",IF(B5545=\"\",E5544,IF(D5545=\"\",E5544,D5545/MAX($D$8:D5545)-1)))","v":""}]
[null,null,null,null,{"$f":"IF(A5546=\"\",\"\",IF(B5546=\"\",E5545,IF(D5546=\"\",E5545,D5546/MAX($D$8:D5546)-1)))","v":""}]
[null,null,null,null,{"$f":"IF(A5547=\"\",\"\",IF(B5547=\"\",E5546,IF(D5547=\"\",E5546,D5547/MAX($D$8:D5547)-1)))","v":""}]
[null,null,null,null,{"$f":"IF(A5548=\"\",\"\",IF(B5548=\"\",E5547,IF(D5548=\"\",E5547,D5548/MAX($D$8:D5548)-1)))","v":""}]
[null,null,null,null,{"$f":"IF(A5549=\"\",\"\",IF(B5549=\"\",E5548,IF(D5549=\"\",E5548,D5549/MAX($D$8:D5549)-1)))","v":""}]
[null,null,null,null,{"$f":"IF(A5550=\"\",\"\",IF(B5550=\"\",E5549,IF(D5550=\"\",E5549,D5550/MAX($D$8:D5550)-1)))","v":""}]
[null,null,null,null,{"$f":"IF(A5551=\"\",\"\",IF(B5551=\"\",E5550,IF(D5551=\"\",E5550,D5551/MAX($D$8:D5551)-1)))","v":""}]
[null,null,null,null,{"$f":"IF(A5552=\"\",\"\",IF(B5552=\"\",E5551,IF(D5552=\"\",E5551,D5552/MAX($D$8:D5552)-1)))","v":""}]
[null,null,null,null,{"$f":"IF(A5553=\"\",\"\",IF(B5553=\"\",E5552,IF(D5553=\"\",E5552,D5553/MAX($D$8:D5553)-1)))","v":""}]
[null,null,null,null,{"$f":"IF(A5554=\"\",\"\",IF(B5554=\"\",E5553,IF(D5554=\"\",E5553,D5554/MAX($D$8:D5554)-1)))","v":""}]
[null,null,null,null,{"$f":"IF(A5555=\"\",\"\",IF(B5555=\"\",E5554,IF(D5555=\"\",E5554,D5555/MAX($D$8:D5555)-1)))","v":""}]
[null,null,null,null,{"$f":"IF(A5556=\"\",\"\",IF(B5556=\"\",E5555,IF(D5556=\"\",E5555,D5556/MAX($D$8:D5556)-1)))","v":""}]
[null,null,null,null,{"$f":"IF(A5557=\"\",\"\",IF(B5557=\"\",E5556,IF(D5557=\"\",E5556,D5557/MAX($D$8:D5557)-1)))","v":""}]
[null,null,null,null,{"$f":"IF(A5558=\"\",\"\",IF(B5558=\"\",E5557,IF(D5558=\"\",E5557,D5558/MAX($D$8:D5558)-1)))","v":""}]
[null,null,null,null,{"$f":"IF(A5559=\"\",\"\",IF(B5559=\"\",E5558,IF(D5559=\"\",E5558,D5559/MAX($D$8:D5559)-1)))","v":""}]
[null,null,null,null,{"$f":"IF(A5560=\"\",\"\",IF(B5560=\"\",E5559,IF(D5560=\"\",E5559,D5560/MAX($D$8:D5560)-1)))","v":""}]
[null,null,null,null,{"$f":"IF(A5561=\"\",\"\",IF(B5561=\"\",E5560,IF(D5561=\"\",E5560,D5561/MAX($D$8:D5561)-1)))","v":""}]
[null,null,null,null,{"$f":"IF(A5562=\"\",\"\",IF(B5562=\"\",E5561,IF(D5562=\"\",E5561,D5562/MAX($D$8:D5562)-1)))","v":""}]
[null,null,null,null,{"$f":"IF(A5563=\"\",\"\",IF(B5563=\"\",E5562,IF(D5563=\"\",E5562,D5563/MAX($D$8:D5563)-1)))","v":""}]
[null,null,null,null,{"$f":"IF(A5564=\"\",\"\",IF(B5564=\"\",E5563,IF(D5564=\"\",E5563,D5564/MAX($D$8:D5564)-1)))","v":""}]
[null,null,null,null,{"$f":"IF(A5565=\"\",\"\",IF(B5565=\"\",E5564,IF(D5565=\"\",E5564,D5565/MAX($D$8:D5565)-1)))","v":""}]
[null,null,null,null,{"$f":"IF(A5566=\"\",\"\",IF(B5566=\"\",E5565,IF(D5566=\"\",E5565,D5566/MAX($D$8:D5566)-1)))","v":""}]
[null,null,null,null,{"$f":"IF(A5567=\"\",\"\",IF(B5567=\"\",E5566,IF(D5567=\"\",E5566,D5567/MAX($D$8:D5567)-1)))","v":""}]
[null,null,null,null,{"$f":"IF(A5568=\"\",\"\",IF(B5568=\"\",E5567,IF(D5568=\"\",E5567,D5568/MAX($D$8:D5568)-1)))","v":""}]
[null,null,null,null,{"$f":"IF(A5569=\"\",\"\",IF(B5569=\"\",E5568,IF(D5569=\"\",E5568,D5569/MAX($D$8:D5569)-1)))","v":""}]
[null,null,null,null,{"$f":"IF(A5570=\"\",\"\",IF(B5570=\"\",E5569,IF(D5570=\"\",E5569,D5570/MAX($D$8:D5570)-1)))","v":""}]
[null,null,null,null,{"$f":"IF(A5571=\"\",\"\",IF(B5571=\"\",E5570,IF(D5571=\"\",E5570,D5571/MAX($D$8:D5571)-1)))","v":""}]
[null,null,null,null,{"$f":"IF(A5572=\"\",\"\",IF(B5572=\"\",E5571,IF(D5572=\"\",E5571,D5572/MAX($D$8:D5572)-1)))","v":""}]
[null,null,null,null,{"$f":"IF(A5573=\"\",\"\",IF(B5573=\"\",E5572,IF(D5573=\"\",E5572,D5573/MAX($D$8:D5573)-1)))","v":""}]
[null,null,null,null,{"$f":"IF(A5574=\"\",\"\",IF(B5574=\"\",E5573,IF(D5574=\"\",E5573,D5574/MAX($D$8:D5574)-1)))","v":""}]
[null,null,null,null,{"$f":"IF(A5575=\"\",\"\",IF(B5575=\"\",E5574,IF(D5575=\"\",E5574,D5575/MAX($D$8:D5575)-1)))","v":""}]
[null,null,null,null,{"$f":"IF(A5576=\"\",\"\",IF(B5576=\"\",E5575,IF(D5576=\"\",E5575,D5576/MAX($D$8:D5576)-1)))","v":""}]
[null,null,null,null,{"$f":"IF(A5577=\"\",\"\",IF(B5577=\"\",E5576,IF(D5577=\"\",E5576,D5577/MAX($D$8:D5577)-1)))","v":""}]
[null,null,null,null,{"$f":"IF(A5578=\"\",\"\",IF(B5578=\"\",E5577,IF(D5578=\"\",E5577,D5578/MAX($D$8:D5578)-1)))","v":""}]
[null,null,null,null,{"$f":"IF(A5579=\"\",\"\",IF(B5579=\"\",E5578,IF(D5579=\"\",E5578,D5579/MAX($D$8:D5579)-1)))","v":""}]
[null,null,null,null,{"$f":"IF(A5580=\"\",\"\",IF(B5580=\"\",E5579,IF(D5580=\"\",E5579,D5580/MAX($D$8:D5580)-1)))","v":""}]
[null,null,null,null,{"$f":"IF(A5581=\"\",\"\",IF(B5581=\"\",E5580,IF(D5581=\"\",E5580,D5581/MAX($D$8:D5581)-1)))","v":""}]
[null,null,null,null,{"$f":"IF(A5582=\"\",\"\",IF(B5582=\"\",E5581,IF(D5582=\"\",E5581,D5582/MAX($D$8:D5582)-1)))","v":""}]
[null,null,null,null,{"$f":"IF(A5583=\"\",\"\",IF(B5583=\"\",E5582,IF(D5583=\"\",E5582,D5583/MAX($D$8:D5583)-1)))","v":""}]
[null,null,null,null,{"$f":"IF(A5584=\"\",\"\",IF(B5584=\"\",E5583,IF(D5584=\"\",E5583,D5584/MAX($D$8:D5584)-1)))","v":""}]
[null,null,null,null,{"$f":"IF(A5585=\"\",\"\",IF(B5585=\"\",E5584,IF(D5585=\"\",E5584,D5585/MAX($D$8:D5585)-1)))","v":""}]
[null,null,null,null,{"$f":"IF(A5586=\"\",\"\",IF(B5586=\"\",E5585,IF(D5586=\"\",E5585,D5586/MAX($D$8:D5586)-1)))","v":""}]
[null,null,null,null,{"$f":"IF(A5587=\"\",\"\",IF(B5587=\"\",E5586,IF(D5587=\"\",E5586,D5587/MAX($D$8:D5587)-1)))","v":""}]
[null,null,null,null,{"$f":"IF(A5588=\"\",\"\",IF(B5588=\"\",E5587,IF(D5588=\"\",E5587,D5588/MAX($D$8:D5588)-1)))","v":""}]
[null,null,null,null,{"$f":"IF(A5589=\"\",\"\",IF(B5589=\"\",E5588,IF(D5589=\"\",E5588,D5589/MAX($D$8:D5589)-1)))","v":""}]
[null,null,null,null,{"$f":"IF(A5590=\"\",\"\",IF(B5590=\"\",E5589,IF(D5590=\"\",E5589,D5590/MAX($D$8:D5590)-1)))","v":""}]
[null,null,null,null,{"$f":"IF(A5591=\"\",\"\",IF(B5591=\"\",E5590,IF(D5591=\"\",E5590,D5591/MAX($D$8:D5591)-1)))","v":""}]
[null,null,null,null,{"$f":"IF(A5592=\"\",\"\",IF(B5592=\"\",E5591,IF(D5592=\"\",E5591,D5592/MAX($D$8:D5592)-1)))","v":""}]
[null,null,null,null,{"$f":"IF(A5593=\"\",\"\",IF(B5593=\"\",E5592,IF(D5593=\"\",E5592,D5593/MAX($D$8:D5593)-1)))","v":""}]
[null,null,null,null,{"$f":"IF(A5594=\"\",\"\",IF(B5594=\"\",E5593,IF(D5594=\"\",E5593,D5594/MAX($D$8:D5594)-1)))","v":""}]
[null,null,null,null,{"$f":"IF(A5595=\"\",\"\",IF(B5595=\"\",E5594,IF(D5595=\"\",E5594,D5595/MAX($D$8:D5595)-1)))","v":""}]
[null,null,null,null,{"$f":"IF(A5596=\"\",\"\",IF(B5596=\"\",E5595,IF(D5596=\"\",E5595,D5596/MAX($D$8:D5596)-1)))","v":""}]
[null,null,null,null,{"$f":"IF(A5597=\"\",\"\",IF(B5597=\"\",E5596,IF(D5597=\"\",E5596,D5597/MAX($D$8:D5597)-1)))","v":""}]
[null,null,null,null,{"$f":"IF(A5598=\"\",\"\",IF(B5598=\"\",E5597,IF(D5598=\"\",E5597,D5598/MAX($D$8:D5598)-1)))","v":""}]
[null,null,null,null,{"$f":"IF(A5599=\"\",\"\",IF(B5599=\"\",E5598,IF(D5599=\"\",E5598,D5599/MAX($D$8:D5599)-1)))","v":""}]
[null,null,null,null,{"$f":"IF(A5600=\"\",\"\",IF(B5600=\"\",E5599,IF(D5600=\"\",E5599,D5600/MAX($D$8:D5600)-1)))","v":""}]
[null,null,null,null,{"$f":"IF(A5601=\"\",\"\",IF(B5601=\"\",E5600,IF(D5601=\"\",E5600,D5601/MAX($D$8:D5601)-1)))","v":""}]
[null,null,null,null,{"$f":"IF(A5602=\"\",\"\",IF(B5602=\"\",E5601,IF(D5602=\"\",E5601,D5602/MAX($D$8:D5602)-1)))","v":""}]
[null,null,null,null,{"$f":"IF(A5603=\"\",\"\",IF(B5603=\"\",E5602,IF(D5603=\"\",E5602,D5603/MAX($D$8:D5603)-1)))","v":""}]
[null,null,null,null,{"$f":"IF(A5604=\"\",\"\",IF(B5604=\"\",E5603,IF(D5604=\"\",E5603,D5604/MAX($D$8:D5604)-1)))","v":""}]
[null,null,null,null,{"$f":"IF(A5605=\"\",\"\",IF(B5605=\"\",E5604,IF(D5605=\"\",E5604,D5605/MAX($D$8:D5605)-1)))","v":""}]
[null,null,null,null,{"$f":"IF(A5606=\"\",\"\",IF(B5606=\"\",E5605,IF(D5606=\"\",E5605,D5606/MAX($D$8:D5606)-1)))","v":""}]
[null,null,null,null,{"$f":"IF(A5607=\"\",\"\",IF(B5607=\"\",E5606,IF(D5607=\"\",E5606,D5607/MAX($D$8:D5607)-1)))","v":""}]
[null,null,null,null,{"$f":"IF(A5608=\"\",\"\",IF(B5608=\"\",E5607,IF(D5608=\"\",E5607,D5608/MAX($D$8:D5608)-1)))","v":""}]
[null,null,null,null,{"$f":"IF(A5609=\"\",\"\",IF(B5609=\"\",E5608,IF(D5609=\"\",E5608,D5609/MAX($D$8:D5609)-1)))","v":""}]
[null,null,null,null,{"$f":"IF(A5610=\"\",\"\",IF(B5610=\"\",E5609,IF(D5610=\"\",E5609,D5610/MAX($D$8:D5610)-1)))","v":""}]
[null,null,null,null,{"$f":"IF(A5611=\"\",\"\",IF(B5611=\"\",E5610,IF(D5611=\"\",E5610,D5611/MAX($D$8:D5611)-1)))","v":""}]
[null,null,null,null,{"$f":"IF(A5612=\"\",\"\",IF(B5612=\"\",E5611,IF(D5612=\"\",E5611,D5612/MAX($D$8:D5612)-1)))","v":""}]
[null,null,null,null,{"$f":"IF(A5613=\"\",\"\",IF(B5613=\"\",E5612,IF(D5613=\"\",E5612,D5613/MAX($D$8:D5613)-1)))","v":""}]
[null,null,null,null,{"$f":"IF(A5614=\"\",\"\",IF(B5614=\"\",E5613,IF(D5614=\"\",E5613,D5614/MAX($D$8:D5614)-1)))","v":""}]
[null,null,null,null,{"$f":"IF(A5615=\"\",\"\",IF(B5615=\"\",E5614,IF(D5615=\"\",E5614,D5615/MAX($D$8:D5615)-1)))","v":""}]
[null,null,null,null,{"$f":"IF(A5616=\"\",\"\",IF(B5616=\"\",E5615,IF(D5616=\"\",E5615,D5616/MAX($D$8:D5616)-1)))","v":""}]
[null,null,null,null,{"$f":"IF(A5617=\"\",\"\",IF(B5617=\"\",E5616,IF(D5617=\"\",E5616,D5617/MAX($D$8:D5617)-1)))","v":""}]
[null,null,null,null,{"$f":"IF(A5618=\"\",\"\",IF(B5618=\"\",E5617,IF(D5618=\"\",E5617,D5618/MAX($D$8:D5618)-1)))","v":""}]
[null,null,null,null,{"$f":"IF(A5619=\"\",\"\",IF(B5619=\"\",E5618,IF(D5619=\"\",E5618,D5619/MAX($D$8:D5619)-1)))","v":""}]
[null,null,null,null,{"$f":"IF(A5620=\"\",\"\",IF(B5620=\"\",E5619,IF(D5620=\"\",E5619,D5620/MAX($D$8:D5620)-1)))","v":""}]
[null,null,null,null,{"$f":"IF(A5621=\"\",\"\",IF(B5621=\"\",E5620,IF(D5621=\"\",E5620,D5621/MAX($D$8:D5621)-1)))","v":""}]
[null,null,null,null,{"$f":"IF(A5622=\"\",\"\",IF(B5622=\"\",E5621,IF(D5622=\"\",E5621,D5622/MAX($D$8:D5622)-1)))","v":""}]
[null,null,null,null,{"$f":"IF(A5623=\"\",\"\",IF(B5623=\"\",E5622,IF(D5623=\"\",E5622,D5623/MAX($D$8:D5623)-1)))","v":""}]
[null,null,null,null,{"$f":"IF(A5624=\"\",\"\",IF(B5624=\"\",E5623,IF(D5624=\"\",E5623,D5624/MAX($D$8:D5624)-1)))","v":""}]
[null,null,null,null,{"$f":"IF(A5625=\"\",\"\",IF(B5625=\"\",E5624,IF(D5625=\"\",E5624,D5625/MAX($D$8:D5625)-1)))","v":""}]
[null,null,null,null,{"$f":"IF(A5626=\"\",\"\",IF(B5626=\"\",E5625,IF(D5626=\"\",E5625,D5626/MAX($D$8:D5626)-1)))","v":""}]
[null,null,null,null,{"$f":"IF(A5627=\"\",\"\",IF(B5627=\"\",E5626,IF(D5627=\"\",E5626,D5627/MAX($D$8:D5627)-1)))","v":""}]
[null,null,null,null,{"$f":"IF(A5628=\"\",\"\",IF(B5628=\"\",E5627,IF(D5628=\"\",E5627,D5628/MAX($D$8:D5628)-1)))","v":""}]
[null,null,null,null,{"$f":"IF(A5629=\"\",\"\",IF(B5629=\"\",E5628,IF(D5629=\"\",E5628,D5629/MAX($D$8:D5629)-1)))","v":""}]
[null,null,null,null,{"$f":"IF(A5630=\"\",\"\",IF(B5630=\"\",E5629,IF(D5630=\"\",E5629,D5630/MAX($D$8:D5630)-1)))","v":""}]
[null,null,null,null,{"$f":"IF(A5631=\"\",\"\",IF(B5631=\"\",E5630,IF(D5631=\"\",E5630,D5631/MAX($D$8:D5631)-1)))","v":""}]
[null,null,null,null,{"$f":"IF(A5632=\"\",\"\",IF(B5632=\"\",E5631,IF(D5632=\"\",E5631,D5632/MAX($D$8:D5632)-1)))","v":""}]
[null,null,null,null,{"$f":"IF(A5633=\"\",\"\",IF(B5633=\"\",E5632,IF(D5633=\"\",E5632,D5633/MAX($D$8:D5633)-1)))","v":""}]
[null,null,null,null,{"$f":"IF(A5634=\"\",\"\",IF(B5634=\"\",E5633,IF(D5634=\"\",E5633,D5634/MAX($D$8:D5634)-1)))","v":""}]
[null,null,null,null,{"$f":"IF(A5635=\"\",\"\",IF(B5635=\"\",E5634,IF(D5635=\"\",E5634,D5635/MAX($D$8:D5635)-1)))","v":""}]
[null,null,null,null,{"$f":"IF(A5636=\"\",\"\",IF(B5636=\"\",E5635,IF(D5636=\"\",E5635,D5636/MAX($D$8:D5636)-1)))","v":""}]
[null,null,null,null,{"$f":"IF(A5637=\"\",\"\",IF(B5637=\"\",E5636,IF(D5637=\"\",E5636,D5637/MAX($D$8:D5637)-1)))","v":""}]
[null,null,null,null,{"$f":"IF(A5638=\"\",\"\",IF(B5638=\"\",E5637,IF(D5638=\"\",E5637,D5638/MAX($D$8:D5638)-1)))","v":""}]
[null,null,null,null,{"$f":"IF(A5639=\"\",\"\",IF(B5639=\"\",E5638,IF(D5639=\"\",E5638,D5639/MAX($D$8:D5639)-1)))","v":""}]
[null,null,null,null,{"$f":"IF(A5640=\"\",\"\",IF(B5640=\"\",E5639,IF(D5640=\"\",E5639,D5640/MAX($D$8:D5640)-1)))","v":""}]
[null,null,null,null,{"$f":"IF(A5641=\"\",\"\",IF(B5641=\"\",E5640,IF(D5641=\"\",E5640,D5641/MAX($D$8:D5641)-1)))","v":""}]
[null,null,null,null,{"$f":"IF(A5642=\"\",\"\",IF(B5642=\"\",E5641,IF(D5642=\"\",E5641,D5642/MAX($D$8:D5642)-1)))","v":""}]
[null,null,null,null,{"$f":"IF(A5643=\"\",\"\",IF(B5643=\"\",E5642,IF(D5643=\"\",E5642,D5643/MAX($D$8:D5643)-1)))","v":""}]
[null,null,null,null,{"$f":"IF(A5644=\"\",\"\",IF(B5644=\"\",E5643,IF(D5644=\"\",E5643,D5644/MAX($D$8:D5644)-1)))","v":""}]
[null,null,null,null,{"$f":"IF(A5645=\"\",\"\",IF(B5645=\"\",E5644,IF(D5645=\"\",E5644,D5645/MAX($D$8:D5645)-1)))","v":""}]
[null,null,null,null,{"$f":"IF(A5646=\"\",\"\",IF(B5646=\"\",E5645,IF(D5646=\"\",E5645,D5646/MAX($D$8:D5646)-1)))","v":""}]
[null,null,null,null,{"$f":"IF(A5647=\"\",\"\",IF(B5647=\"\",E5646,IF(D5647=\"\",E5646,D5647/MAX($D$8:D5647)-1)))","v":""}]
[null,null,null,null,{"$f":"IF(A5648=\"\",\"\",IF(B5648=\"\",E5647,IF(D5648=\"\",E5647,D5648/MAX($D$8:D5648)-1)))","v":""}]
[null,null,null,null,{"$f":"IF(A5649=\"\",\"\",IF(B5649=\"\",E5648,IF(D5649=\"\",E5648,D5649/MAX($D$8:D5649)-1)))","v":""}]
[null,null,null,null,{"$f":"IF(A5650=\"\",\"\",IF(B5650=\"\",E5649,IF(D5650=\"\",E5649,D5650/MAX($D$8:D5650)-1)))","v":""}]
[null,null,null,null,{"$f":"IF(A5651=\"\",\"\",IF(B5651=\"\",E5650,IF(D5651=\"\",E5650,D5651/MAX($D$8:D5651)-1)))","v":""}]
[null,null,null,null,{"$f":"IF(A5652=\"\",\"\",IF(B5652=\"\",E5651,IF(D5652=\"\",E5651,D5652/MAX($D$8:D5652)-1)))","v":""}]
[null,null,null,null,{"$f":"IF(A5653=\"\",\"\",IF(B5653=\"\",E5652,IF(D5653=\"\",E5652,D5653/MAX($D$8:D5653)-1)))","v":""}]
[null,null,null,null,{"$f":"IF(A5654=\"\",\"\",IF(B5654=\"\",E5653,IF(D5654=\"\",E5653,D5654/MAX($D$8:D5654)-1)))","v":""}]
[null,null,null,null,{"$f":"IF(A5655=\"\",\"\",IF(B5655=\"\",E5654,IF(D5655=\"\",E5654,D5655/MAX($D$8:D5655)-1)))","v":""}]
[null,null,null,null,{"$f":"IF(A5656=\"\",\"\",IF(B5656=\"\",E5655,IF(D5656=\"\",E5655,D5656/MAX($D$8:D5656)-1)))","v":""}]
[null,null,null,null,{"$f":"IF(A5657=\"\",\"\",IF(B5657=\"\",E5656,IF(D5657=\"\",E5656,D5657/MAX($D$8:D5657)-1)))","v":""}]
[null,null,null,null,{"$f":"IF(A5658=\"\",\"\",IF(B5658=\"\",E5657,IF(D5658=\"\",E5657,D5658/MAX($D$8:D5658)-1)))","v":""}]
[null,null,null,null,{"$f":"IF(A5659=\"\",\"\",IF(B5659=\"\",E5658,IF(D5659=\"\",E5658,D5659/MAX($D$8:D5659)-1)))","v":""}]
[null,null,null,null,{"$f":"IF(A5660=\"\",\"\",IF(B5660=\"\",E5659,IF(D5660=\"\",E5659,D5660/MAX($D$8:D5660)-1)))","v":""}]
[null,null,null,null,{"$f":"IF(A5661=\"\",\"\",IF(B5661=\"\",E5660,IF(D5661=\"\",E5660,D5661/MAX($D$8:D5661)-1)))","v":""}]
[null,null,null,null,{"$f":"IF(A5662=\"\",\"\",IF(B5662=\"\",E5661,IF(D5662=\"\",E5661,D5662/MAX($D$8:D5662)-1)))","v":""}]
[null,null,null,null,{"$f":"IF(A5663=\"\",\"\",IF(B5663=\"\",E5662,IF(D5663=\"\",E5662,D5663/MAX($D$8:D5663)-1)))","v":""}]
[null,null,null,null,{"$f":"IF(A5664=\"\",\"\",IF(B5664=\"\",E5663,IF(D5664=\"\",E5663,D5664/MAX($D$8:D5664)-1)))","v":""}]
[null,null,null,null,{"$f":"IF(A5665=\"\",\"\",IF(B5665=\"\",E5664,IF(D5665=\"\",E5664,D5665/MAX($D$8:D5665)-1)))","v":""}]
[null,null,null,null,{"$f":"IF(A5666=\"\",\"\",IF(B5666=\"\",E5665,IF(D5666=\"\",E5665,D5666/MAX($D$8:D5666)-1)))","v":""}]
[null,null,null,null,{"$f":"IF(A5667=\"\",\"\",IF(B5667=\"\",E5666,IF(D5667=\"\",E5666,D5667/MAX($D$8:D5667)-1)))","v":""}]
[null,null,null,null,{"$f":"IF(A5668=\"\",\"\",IF(B5668=\"\",E5667,IF(D5668=\"\",E5667,D5668/MAX($D$8:D5668)-1)))","v":""}]
[null,null,null,null,{"$f":"IF(A5669=\"\",\"\",IF(B5669=\"\",E5668,IF(D5669=\"\",E5668,D5669/MAX($D$8:D5669)-1)))","v":""}]
[null,null,null,null,{"$f":"IF(A5670=\"\",\"\",IF(B5670=\"\",E5669,IF(D5670=\"\",E5669,D5670/MAX($D$8:D5670)-1)))","v":""}]
[null,null,null,null,{"$f":"IF(A5671=\"\",\"\",IF(B5671=\"\",E5670,IF(D5671=\"\",E5670,D5671/MAX($D$8:D5671)-1)))","v":""}]
[null,null,null,null,{"$f":"IF(A5672=\"\",\"\",IF(B5672=\"\",E5671,IF(D5672=\"\",E5671,D5672/MAX($D$8:D5672)-1)))","v":""}]
[null,null,null,null,{"$f":"IF(A5673=\"\",\"\",IF(B5673=\"\",E5672,IF(D5673=\"\",E5672,D5673/MAX($D$8:D5673)-1)))","v":""}]
[null,null,null,null,{"$f":"IF(A5674=\"\",\"\",IF(B5674=\"\",E5673,IF(D5674=\"\",E5673,D5674/MAX($D$8:D5674)-1)))","v":""}]
[null,null,null,null,{"$f":"IF(A5675=\"\",\"\",IF(B5675=\"\",E5674,IF(D5675=\"\",E5674,D5675/MAX($D$8:D5675)-1)))","v":""}]
[null,null,null,null,{"$f":"IF(A5676=\"\",\"\",IF(B5676=\"\",E5675,IF(D5676=\"\",E5675,D5676/MAX($D$8:D5676)-1)))","v":""}]
[null,null,null,null,{"$f":"IF(A5677=\"\",\"\",IF(B5677=\"\",E5676,IF(D5677=\"\",E5676,D5677/MAX($D$8:D5677)-1)))","v":""}]
[null,null,null,null,{"$f":"IF(A5678=\"\",\"\",IF(B5678=\"\",E5677,IF(D5678=\"\",E5677,D5678/MAX($D$8:D5678)-1)))","v":""}]
[null,null,null,null,{"$f":"IF(A5679=\"\",\"\",IF(B5679=\"\",E5678,IF(D5679=\"\",E5678,D5679/MAX($D$8:D5679)-1)))","v":""}]
[null,null,null,null,{"$f":"IF(A5680=\"\",\"\",IF(B5680=\"\",E5679,IF(D5680=\"\",E5679,D5680/MAX($D$8:D5680)-1)))","v":""}]
[null,null,null,null,{"$f":"IF(A5681=\"\",\"\",IF(B5681=\"\",E5680,IF(D5681=\"\",E5680,D5681/MAX($D$8:D5681)-1)))","v":""}]
[null,null,null,null,{"$f":"IF(A5682=\"\",\"\",IF(B5682=\"\",E5681,IF(D5682=\"\",E5681,D5682/MAX($D$8:D5682)-1)))","v":""}]
[null,null,null,null,{"$f":"IF(A5683=\"\",\"\",IF(B5683=\"\",E5682,IF(D5683=\"\",E5682,D5683/MAX($D$8:D5683)-1)))","v":""}]
[null,null,null,null,{"$f":"IF(A5684=\"\",\"\",IF(B5684=\"\",E5683,IF(D5684=\"\",E5683,D5684/MAX($D$8:D5684)-1)))","v":""}]
[null,null,null,null,{"$f":"IF(A5685=\"\",\"\",IF(B5685=\"\",E5684,IF(D5685=\"\",E5684,D5685/MAX($D$8:D5685)-1)))","v":""}]
[null,null,null,null,{"$f":"IF(A5686=\"\",\"\",IF(B5686=\"\",E5685,IF(D5686=\"\",E5685,D5686/MAX($D$8:D5686)-1)))","v":""}]
[null,null,null,null,{"$f":"IF(A5687=\"\",\"\",IF(B5687=\"\",E5686,IF(D5687=\"\",E5686,D5687/MAX($D$8:D5687)-1)))","v":""}]
[null,null,null,null,{"$f":"IF(A5688=\"\",\"\",IF(B5688=\"\",E5687,IF(D5688=\"\",E5687,D5688/MAX($D$8:D5688)-1)))","v":""}]
[null,null,null,null,{"$f":"IF(A5689=\"\",\"\",IF(B5689=\"\",E5688,IF(D5689=\"\",E5688,D5689/MAX($D$8:D5689)-1)))","v":""}]
[null,null,null,null,{"$f":"IF(A5690=\"\",\"\",IF(B5690=\"\",E5689,IF(D5690=\"\",E5689,D5690/MAX($D$8:D5690)-1)))","v":""}]
[null,null,null,null,{"$f":"IF(A5691=\"\",\"\",IF(B5691=\"\",E5690,IF(D5691=\"\",E5690,D5691/MAX($D$8:D5691)-1)))","v":""}]
[null,null,null,null,{"$f":"IF(A5692=\"\",\"\",IF(B5692=\"\",E5691,IF(D5692=\"\",E5691,D5692/MAX($D$8:D5692)-1)))","v":""}]
[null,null,null,null,{"$f":"IF(A5693=\"\",\"\",IF(B5693=\"\",E5692,IF(D5693=\"\",E5692,D5693/MAX($D$8:D5693)-1)))","v":""}]
[null,null,null,null,{"$f":"IF(A5694=\"\",\"\",IF(B5694=\"\",E5693,IF(D5694=\"\",E5693,D5694/MAX($D$8:D5694)-1)))","v":""}]
[null,null,null,null,{"$f":"IF(A5695=\"\",\"\",IF(B5695=\"\",E5694,IF(D5695=\"\",E5694,D5695/MAX($D$8:D5695)-1)))","v":""}]
[null,null,null,null,{"$f":"IF(A5696=\"\",\"\",IF(B5696=\"\",E5695,IF(D5696=\"\",E5695,D5696/MAX($D$8:D5696)-1)))","v":""}]
[null,null,null,null,{"$f":"IF(A5697=\"\",\"\",IF(B5697=\"\",E5696,IF(D5697=\"\",E5696,D5697/MAX($D$8:D5697)-1)))","v":""}]
[null,null,null,null,{"$f":"IF(A5698=\"\",\"\",IF(B5698=\"\",E5697,IF(D5698=\"\",E5697,D5698/MAX($D$8:D5698)-1)))","v":""}]
[null,null,null,null,{"$f":"IF(A5699=\"\",\"\",IF(B5699=\"\",E5698,IF(D5699=\"\",E5698,D5699/MAX($D$8:D5699)-1)))","v":""}]
[null,null,null,null,{"$f":"IF(A5700=\"\",\"\",IF(B5700=\"\",E5699,IF(D5700=\"\",E5699,D5700/MAX($D$8:D5700)-1)))","v":""}]
[null,null,null,null,{"$f":"IF(A5701=\"\",\"\",IF(B5701=\"\",E5700,IF(D5701=\"\",E5700,D5701/MAX($D$8:D5701)-1)))","v":""}]
[null,null,null,null,{"$f":"IF(A5702=\"\",\"\",IF(B5702=\"\",E5701,IF(D5702=\"\",E5701,D5702/MAX($D$8:D5702)-1)))","v":""}]
[null,null,null,null,{"$f":"IF(A5703=\"\",\"\",IF(B5703=\"\",E5702,IF(D5703=\"\",E5702,D5703/MAX($D$8:D5703)-1)))","v":""}]
[null,null,null,null,{"$f":"IF(A5704=\"\",\"\",IF(B5704=\"\",E5703,IF(D5704=\"\",E5703,D5704/MAX($D$8:D5704)-1)))","v":""}]
[null,null,null,null,{"$f":"IF(A5705=\"\",\"\",IF(B5705=\"\",E5704,IF(D5705=\"\",E5704,D5705/MAX($D$8:D5705)-1)))","v":""}]
[null,null,null,null,{"$f":"IF(A5706=\"\",\"\",IF(B5706=\"\",E5705,IF(D5706=\"\",E5705,D5706/MAX($D$8:D5706)-1)))","v":""}]
[null,null,null,null,{"$f":"IF(A5707=\"\",\"\",IF(B5707=\"\",E5706,IF(D5707=\"\",E5706,D5707/MAX($D$8:D5707)-1)))","v":""}]
[null,null,null,null,{"$f":"IF(A5708=\"\",\"\",IF(B5708=\"\",E5707,IF(D5708=\"\",E5707,D5708/MAX($D$8:D5708)-1)))","v":""}]
[null,null,null,null,{"$f":"IF(A5709=\"\",\"\",IF(B5709=\"\",E5708,IF(D5709=\"\",E5708,D5709/MAX($D$8:D5709)-1)))","v":""}]
[null,null,null,null,{"$f":"IF(A5710=\"\",\"\",IF(B5710=\"\",E5709,IF(D5710=\"\",E5709,D5710/MAX($D$8:D5710)-1)))","v":""}]
[null,null,null,null,{"$f":"IF(A5711=\"\",\"\",IF(B5711=\"\",E5710,IF(D5711=\"\",E5710,D5711/MAX($D$8:D5711)-1)))","v":""}]
[null,null,null,null,{"$f":"IF(A5712=\"\",\"\",IF(B5712=\"\",E5711,IF(D5712=\"\",E5711,D5712/MAX($D$8:D5712)-1)))","v":""}]
[null,null,null,null,{"$f":"IF(A5713=\"\",\"\",IF(B5713=\"\",E5712,IF(D5713=\"\",E5712,D5713/MAX($D$8:D5713)-1)))","v":""}]
[null,null,null,null,{"$f":"IF(A5714=\"\",\"\",IF(B5714=\"\",E5713,IF(D5714=\"\",E5713,D5714/MAX($D$8:D5714)-1)))","v":""}]
[null,null,null,null,{"$f":"IF(A5715=\"\",\"\",IF(B5715=\"\",E5714,IF(D5715=\"\",E5714,D5715/MAX($D$8:D5715)-1)))","v":""}]
[null,null,null,null,{"$f":"IF(A5716=\"\",\"\",IF(B5716=\"\",E5715,IF(D5716=\"\",E5715,D5716/MAX($D$8:D5716)-1)))","v":""}]
[null,null,null,null,{"$f":"IF(A5717=\"\",\"\",IF(B5717=\"\",E5716,IF(D5717=\"\",E5716,D5717/MAX($D$8:D5717)-1)))","v":""}]
[null,null,null,null,{"$f":"IF(A5718=\"\",\"\",IF(B5718=\"\",E5717,IF(D5718=\"\",E5717,D5718/MAX($D$8:D5718)-1)))","v":""}]
[null,null,null,null,{"$f":"IF(A5719=\"\",\"\",IF(B5719=\"\",E5718,IF(D5719=\"\",E5718,D5719/MAX($D$8:D5719)-1)))","v":""}]
[null,null,null,null,{"$f":"IF(A5720=\"\",\"\",IF(B5720=\"\",E5719,IF(D5720=\"\",E5719,D5720/MAX($D$8:D5720)-1)))","v":""}]
[null,null,null,null,{"$f":"IF(A5721=\"\",\"\",IF(B5721=\"\",E5720,IF(D5721=\"\",E5720,D5721/MAX($D$8:D5721)-1)))","v":""}]
[null,null,null,null,{"$f":"IF(A5722=\"\",\"\",IF(B5722=\"\",E5721,IF(D5722=\"\",E5721,D5722/MAX($D$8:D5722)-1)))","v":""}]
[null,null,null,null,{"$f":"IF(A5723=\"\",\"\",IF(B5723=\"\",E5722,IF(D5723=\"\",E5722,D5723/MAX($D$8:D5723)-1)))","v":""}]
[null,null,null,null,{"$f":"IF(A5724=\"\",\"\",IF(B5724=\"\",E5723,IF(D5724=\"\",E5723,D5724/MAX($D$8:D5724)-1)))","v":""}]
[null,null,null,null,{"$f":"IF(A5725=\"\",\"\",IF(B5725=\"\",E5724,IF(D5725=\"\",E5724,D5725/MAX($D$8:D5725)-1)))","v":""}]
[null,null,null,null,{"$f":"IF(A5726=\"\",\"\",IF(B5726=\"\",E5725,IF(D5726=\"\",E5725,D5726/MAX($D$8:D5726)-1)))","v":""}]
[null,null,null,null,{"$f":"IF(A5727=\"\",\"\",IF(B5727=\"\",E5726,IF(D5727=\"\",E5726,D5727/MAX($D$8:D5727)-1)))","v":""}]
[null,null,null,null,{"$f":"IF(A5728=\"\",\"\",IF(B5728=\"\",E5727,IF(D5728=\"\",E5727,D5728/MAX($D$8:D5728)-1)))","v":""}]
[null,null,null,null,{"$f":"IF(A5729=\"\",\"\",IF(B5729=\"\",E5728,IF(D5729=\"\",E5728,D5729/MAX($D$8:D5729)-1)))","v":""}]
[null,null,null,null,{"$f":"IF(A5730=\"\",\"\",IF(B5730=\"\",E5729,IF(D5730=\"\",E5729,D5730/MAX($D$8:D5730)-1)))","v":""}]
[null,null,null,null,{"$f":"IF(A5731=\"\",\"\",IF(B5731=\"\",E5730,IF(D5731=\"\",E5730,D5731/MAX($D$8:D5731)-1)))","v":""}]
[null,null,null,null,{"$f":"IF(A5732=\"\",\"\",IF(B5732=\"\",E5731,IF(D5732=\"\",E5731,D5732/MAX($D$8:D5732)-1)))","v":""}]
[null,null,null,null,{"$f":"IF(A5733=\"\",\"\",IF(B5733=\"\",E5732,IF(D5733=\"\",E5732,D5733/MAX($D$8:D5733)-1)))","v":""}]
[null,null,null,null,{"$f":"IF(A5734=\"\",\"\",IF(B5734=\"\",E5733,IF(D5734=\"\",E5733,D5734/MAX($D$8:D5734)-1)))","v":""}]
[null,null,null,null,{"$f":"IF(A5735=\"\",\"\",IF(B5735=\"\",E5734,IF(D5735=\"\",E5734,D5735/MAX($D$8:D5735)-1)))","v":""}]
[null,null,null,null,{"$f":"IF(A5736=\"\",\"\",IF(B5736=\"\",E5735,IF(D5736=\"\",E5735,D5736/MAX($D$8:D5736)-1)))","v":""}]
[null,null,null,null,{"$f":"IF(A5737=\"\",\"\",IF(B5737=\"\",E5736,IF(D5737=\"\",E5736,D5737/MAX($D$8:D5737)-1)))","v":""}]
[null,null,null,null,{"$f":"IF(A5738=\"\",\"\",IF(B5738=\"\",E5737,IF(D5738=\"\",E5737,D5738/MAX($D$8:D5738)-1)))","v":""}]
[null,null,null,null,{"$f":"IF(A5739=\"\",\"\",IF(B5739=\"\",E5738,IF(D5739=\"\",E5738,D5739/MAX($D$8:D5739)-1)))","v":""}]
[null,null,null,null,{"$f":"IF(A5740=\"\",\"\",IF(B5740=\"\",E5739,IF(D5740=\"\",E5739,D5740/MAX($D$8:D5740)-1)))","v":""}]
[null,null,null,null,{"$f":"IF(A5741=\"\",\"\",IF(B5741=\"\",E5740,IF(D5741=\"\",E5740,D5741/MAX($D$8:D5741)-1)))","v":""}]
[null,null,null,null,{"$f":"IF(A5742=\"\",\"\",IF(B5742=\"\",E5741,IF(D5742=\"\",E5741,D5742/MAX($D$8:D5742)-1)))","v":""}]
[null,null,null,null,{"$f":"IF(A5743=\"\",\"\",IF(B5743=\"\",E5742,IF(D5743=\"\",E5742,D5743/MAX($D$8:D5743)-1)))","v":""}]
[null,null,null,null,{"$f":"IF(A5744=\"\",\"\",IF(B5744=\"\",E5743,IF(D5744=\"\",E5743,D5744/MAX($D$8:D5744)-1)))","v":""}]
[null,null,null,null,{"$f":"IF(A5745=\"\",\"\",IF(B5745=\"\",E5744,IF(D5745=\"\",E5744,D5745/MAX($D$8:D5745)-1)))","v":""}]
[null,null,null,null,{"$f":"IF(A5746=\"\",\"\",IF(B5746=\"\",E5745,IF(D5746=\"\",E5745,D5746/MAX($D$8:D5746)-1)))","v":""}]
[null,null,null,null,{"$f":"IF(A5747=\"\",\"\",IF(B5747=\"\",E5746,IF(D5747=\"\",E5746,D5747/MAX($D$8:D5747)-1)))","v":""}]
[null,null,null,null,{"$f":"IF(A5748=\"\",\"\",IF(B5748=\"\",E5747,IF(D5748=\"\",E5747,D5748/MAX($D$8:D5748)-1)))","v":""}]
[null,null,null,null,{"$f":"IF(A5749=\"\",\"\",IF(B5749=\"\",E5748,IF(D5749=\"\",E5748,D5749/MAX($D$8:D5749)-1)))","v":""}]
[null,null,null,null,{"$f":"IF(A5750=\"\",\"\",IF(B5750=\"\",E5749,IF(D5750=\"\",E5749,D5750/MAX($D$8:D5750)-1)))","v":""}]
[null,null,null,null,{"$f":"IF(A5751=\"\",\"\",IF(B5751=\"\",E5750,IF(D5751=\"\",E5750,D5751/MAX($D$8:D5751)-1)))","v":""}]
[null,null,null,null,{"$f":"IF(A5752=\"\",\"\",IF(B5752=\"\",E5751,IF(D5752=\"\",E5751,D5752/MAX($D$8:D5752)-1)))","v":""}]
[null,null,null,null,{"$f":"IF(A5753=\"\",\"\",IF(B5753=\"\",E5752,IF(D5753=\"\",E5752,D5753/MAX($D$8:D5753)-1)))","v":""}]
[null,null,null,null,{"$f":"IF(A5754=\"\",\"\",IF(B5754=\"\",E5753,IF(D5754=\"\",E5753,D5754/MAX($D$8:D5754)-1)))","v":""}]
[null,null,null,null,{"$f":"IF(A5755=\"\",\"\",IF(B5755=\"\",E5754,IF(D5755=\"\",E5754,D5755/MAX($D$8:D5755)-1)))","v":""}]
[null,null,null,null,{"$f":"IF(A5756=\"\",\"\",IF(B5756=\"\",E5755,IF(D5756=\"\",E5755,D5756/MAX($D$8:D5756)-1)))","v":""}]
[null,null,null,null,{"$f":"IF(A5757=\"\",\"\",IF(B5757=\"\",E5756,IF(D5757=\"\",E5756,D5757/MAX($D$8:D5757)-1)))","v":""}]
[null,null,null,null,{"$f":"IF(A5758=\"\",\"\",IF(B5758=\"\",E5757,IF(D5758=\"\",E5757,D5758/MAX($D$8:D5758)-1)))","v":""}]
[null,null,null,null,{"$f":"IF(A5759=\"\",\"\",IF(B5759=\"\",E5758,IF(D5759=\"\",E5758,D5759/MAX($D$8:D5759)-1)))","v":""}]
[null,null,null,null,{"$f":"IF(A5760=\"\",\"\",IF(B5760=\"\",E5759,IF(D5760=\"\",E5759,D5760/MAX($D$8:D5760)-1)))","v":""}]
[null,null,null,null,{"$f":"IF(A5761=\"\",\"\",IF(B5761=\"\",E5760,IF(D5761=\"\",E5760,D5761/MAX($D$8:D5761)-1)))","v":""}]
[null,null,null,null,{"$f":"IF(A5762=\"\",\"\",IF(B5762=\"\",E5761,IF(D5762=\"\",E5761,D5762/MAX($D$8:D5762)-1)))","v":""}]
[null,null,null,null,{"$f":"IF(A5763=\"\",\"\",IF(B5763=\"\",E5762,IF(D5763=\"\",E5762,D5763/MAX($D$8:D5763)-1)))","v":""}]
[null,null,null,null,{"$f":"IF(A5764=\"\",\"\",IF(B5764=\"\",E5763,IF(D5764=\"\",E5763,D5764/MAX($D$8:D5764)-1)))","v":""}]
[null,null,null,null,{"$f":"IF(A5765=\"\",\"\",IF(B5765=\"\",E5764,IF(D5765=\"\",E5764,D5765/MAX($D$8:D5765)-1)))","v":""}]
[null,null,null,null,{"$f":"IF(A5766=\"\",\"\",IF(B5766=\"\",E5765,IF(D5766=\"\",E5765,D5766/MAX($D$8:D5766)-1)))","v":""}]
[null,null,null,null,{"$f":"IF(A5767=\"\",\"\",IF(B5767=\"\",E5766,IF(D5767=\"\",E5766,D5767/MAX($D$8:D5767)-1)))","v":""}]
[null,null,null,null,{"$f":"IF(A5768=\"\",\"\",IF(B5768=\"\",E5767,IF(D5768=\"\",E5767,D5768/MAX($D$8:D5768)-1)))","v":""}]
[null,null,null,null,{"$f":"IF(A5769=\"\",\"\",IF(B5769=\"\",E5768,IF(D5769=\"\",E5768,D5769/MAX($D$8:D5769)-1)))","v":""}]
[null,null,null,null,{"$f":"IF(A5770=\"\",\"\",IF(B5770=\"\",E5769,IF(D5770=\"\",E5769,D5770/MAX($D$8:D5770)-1)))","v":""}]
[null,null,null,null,{"$f":"IF(A5771=\"\",\"\",IF(B5771=\"\",E5770,IF(D5771=\"\",E5770,D5771/MAX($D$8:D5771)-1)))","v":""}]
[null,null,null,null,{"$f":"IF(A5772=\"\",\"\",IF(B5772=\"\",E5771,IF(D5772=\"\",E5771,D5772/MAX($D$8:D5772)-1)))","v":""}]
[null,null,null,null,{"$f":"IF(A5773=\"\",\"\",IF(B5773=\"\",E5772,IF(D5773=\"\",E5772,D5773/MAX($D$8:D5773)-1)))","v":""}]
[null,null,null,null,{"$f":"IF(A5774=\"\",\"\",IF(B5774=\"\",E5773,IF(D5774=\"\",E5773,D5774/MAX($D$8:D5774)-1)))","v":""}]
[null,null,null,null,{"$f":"IF(A5775=\"\",\"\",IF(B5775=\"\",E5774,IF(D5775=\"\",E5774,D5775/MAX($D$8:D5775)-1)))","v":""}]
[null,null,null,null,{"$f":"IF(A5776=\"\",\"\",IF(B5776=\"\",E5775,IF(D5776=\"\",E5775,D5776/MAX($D$8:D5776)-1)))","v":""}]
[null,null,null,null,{"$f":"IF(A5777=\"\",\"\",IF(B5777=\"\",E5776,IF(D5777=\"\",E5776,D5777/MAX($D$8:D5777)-1)))","v":""}]
[null,null,null,null,{"$f":"IF(A5778=\"\",\"\",IF(B5778=\"\",E5777,IF(D5778=\"\",E5777,D5778/MAX($D$8:D5778)-1)))","v":""}]
[null,null,null,null,{"$f":"IF(A5779=\"\",\"\",IF(B5779=\"\",E5778,IF(D5779=\"\",E5778,D5779/MAX($D$8:D5779)-1)))","v":""}]
[null,null,null,null,{"$f":"IF(A5780=\"\",\"\",IF(B5780=\"\",E5779,IF(D5780=\"\",E5779,D5780/MAX($D$8:D5780)-1)))","v":""}]
[null,null,null,null,{"$f":"IF(A5781=\"\",\"\",IF(B5781=\"\",E5780,IF(D5781=\"\",E5780,D5781/MAX($D$8:D5781)-1)))","v":""}]
[null,null,null,null,{"$f":"IF(A5782=\"\",\"\",IF(B5782=\"\",E5781,IF(D5782=\"\",E5781,D5782/MAX($D$8:D5782)-1)))","v":""}]
[null,null,null,null,{"$f":"IF(A5783=\"\",\"\",IF(B5783=\"\",E5782,IF(D5783=\"\",E5782,D5783/MAX($D$8:D5783)-1)))","v":""}]
[null,null,null,null,{"$f":"IF(A5784=\"\",\"\",IF(B5784=\"\",E5783,IF(D5784=\"\",E5783,D5784/MAX($D$8:D5784)-1)))","v":""}]
[null,null,null,null,{"$f":"IF(A5785=\"\",\"\",IF(B5785=\"\",E5784,IF(D5785=\"\",E5784,D5785/MAX($D$8:D5785)-1)))","v":""}]
[null,null,null,null,{"$f":"IF(A5786=\"\",\"\",IF(B5786=\"\",E5785,IF(D5786=\"\",E5785,D5786/MAX($D$8:D5786)-1)))","v":""}]
[null,null,null,null,{"$f":"IF(A5787=\"\",\"\",IF(B5787=\"\",E5786,IF(D5787=\"\",E5786,D5787/MAX($D$8:D5787)-1)))","v":""}]
[null,null,null,null,{"$f":"IF(A5788=\"\",\"\",IF(B5788=\"\",E5787,IF(D5788=\"\",E5787,D5788/MAX($D$8:D5788)-1)))","v":""}]
[null,null,null,null,{"$f":"IF(A5789=\"\",\"\",IF(B5789=\"\",E5788,IF(D5789=\"\",E5788,D5789/MAX($D$8:D5789)-1)))","v":""}]
[null,null,null,null,{"$f":"IF(A5790=\"\",\"\",IF(B5790=\"\",E5789,IF(D5790=\"\",E5789,D5790/MAX($D$8:D5790)-1)))","v":""}]
[null,null,null,null,{"$f":"IF(A5791=\"\",\"\",IF(B5791=\"\",E5790,IF(D5791=\"\",E5790,D5791/MAX($D$8:D5791)-1)))","v":""}]
[null,null,null,null,{"$f":"IF(A5792=\"\",\"\",IF(B5792=\"\",E5791,IF(D5792=\"\",E5791,D5792/MAX($D$8:D5792)-1)))","v":""}]
[null,null,null,null,{"$f":"IF(A5793=\"\",\"\",IF(B5793=\"\",E5792,IF(D5793=\"\",E5792,D5793/MAX($D$8:D5793)-1)))","v":""}]
[null,null,null,null,{"$f":"IF(A5794=\"\",\"\",IF(B5794=\"\",E5793,IF(D5794=\"\",E5793,D5794/MAX($D$8:D5794)-1)))","v":""}]
[null,null,null,null,{"$f":"IF(A5795=\"\",\"\",IF(B5795=\"\",E5794,IF(D5795=\"\",E5794,D5795/MAX($D$8:D5795)-1)))","v":""}]
[null,null,null,null,{"$f":"IF(A5796=\"\",\"\",IF(B5796=\"\",E5795,IF(D5796=\"\",E5795,D5796/MAX($D$8:D5796)-1)))","v":""}]
[null,null,null,null,{"$f":"IF(A5797=\"\",\"\",IF(B5797=\"\",E5796,IF(D5797=\"\",E5796,D5797/MAX($D$8:D5797)-1)))","v":""}]
[null,null,null,null,{"$f":"IF(A5798=\"\",\"\",IF(B5798=\"\",E5797,IF(D5798=\"\",E5797,D5798/MAX($D$8:D5798)-1)))","v":""}]
[null,null,null,null,{"$f":"IF(A5799=\"\",\"\",IF(B5799=\"\",E5798,IF(D5799=\"\",E5798,D5799/MAX($D$8:D5799)-1)))","v":""}]
[null,null,null,null,{"$f":"IF(A5800=\"\",\"\",IF(B5800=\"\",E5799,IF(D5800=\"\",E5799,D5800/MAX($D$8:D5800)-1)))","v":""}]
[null,null,null,null,{"$f":"IF(A5801=\"\",\"\",IF(B5801=\"\",E5800,IF(D5801=\"\",E5800,D5801/MAX($D$8:D5801)-1)))","v":""}]
[null,null,null,null,{"$f":"IF(A5802=\"\",\"\",IF(B5802=\"\",E5801,IF(D5802=\"\",E5801,D5802/MAX($D$8:D5802)-1)))","v":""}]
[null,null,null,null,{"$f":"IF(A5803=\"\",\"\",IF(B5803=\"\",E5802,IF(D5803=\"\",E5802,D5803/MAX($D$8:D5803)-1)))","v":""}]
[null,null,null,null,{"$f":"IF(A5804=\"\",\"\",IF(B5804=\"\",E5803,IF(D5804=\"\",E5803,D5804/MAX($D$8:D5804)-1)))","v":""}]
[null,null,null,null,{"$f":"IF(A5805=\"\",\"\",IF(B5805=\"\",E5804,IF(D5805=\"\",E5804,D5805/MAX($D$8:D5805)-1)))","v":""}]
[null,null,null,null,{"$f":"IF(A5806=\"\",\"\",IF(B5806=\"\",E5805,IF(D5806=\"\",E5805,D5806/MAX($D$8:D5806)-1)))","v":""}]
[null,null,null,null,{"$f":"IF(A5807=\"\",\"\",IF(B5807=\"\",E5806,IF(D5807=\"\",E5806,D5807/MAX($D$8:D5807)-1)))","v":""}]
[null,null,null,null,{"$f":"IF(A5808=\"\",\"\",IF(B5808=\"\",E5807,IF(D5808=\"\",E5807,D5808/MAX($D$8:D5808)-1)))","v":""}]
[null,null,null,null,{"$f":"IF(A5809=\"\",\"\",IF(B5809=\"\",E5808,IF(D5809=\"\",E5808,D5809/MAX($D$8:D5809)-1)))","v":""}]
[null,null,null,null,{"$f":"IF(A5810=\"\",\"\",IF(B5810=\"\",E5809,IF(D5810=\"\",E5809,D5810/MAX($D$8:D5810)-1)))","v":""}]
[null,null,null,null,{"$f":"IF(A5811=\"\",\"\",IF(B5811=\"\",E5810,IF(D5811=\"\",E5810,D5811/MAX($D$8:D5811)-1)))","v":""}]
[null,null,null,null,{"$f":"IF(A5812=\"\",\"\",IF(B5812=\"\",E5811,IF(D5812=\"\",E5811,D5812/MAX($D$8:D5812)-1)))","v":""}]
[null,null,null,null,{"$f":"IF(A5813=\"\",\"\",IF(B5813=\"\",E5812,IF(D5813=\"\",E5812,D5813/MAX($D$8:D5813)-1)))","v":""}]
[null,null,null,null,{"$f":"IF(A5814=\"\",\"\",IF(B5814=\"\",E5813,IF(D5814=\"\",E5813,D5814/MAX($D$8:D5814)-1)))","v":""}]
[null,null,null,null,{"$f":"IF(A5815=\"\",\"\",IF(B5815=\"\",E5814,IF(D5815=\"\",E5814,D5815/MAX($D$8:D5815)-1)))","v":""}]
[null,null,null,null,{"$f":"IF(A5816=\"\",\"\",IF(B5816=\"\",E5815,IF(D5816=\"\",E5815,D5816/MAX($D$8:D5816)-1)))","v":""}]
[null,null,null,null,{"$f":"IF(A5817=\"\",\"\",IF(B5817=\"\",E5816,IF(D5817=\"\",E5816,D5817/MAX($D$8:D5817)-1)))","v":""}]
[null,null,null,null,{"$f":"IF(A5818=\"\",\"\",IF(B5818=\"\",E5817,IF(D5818=\"\",E5817,D5818/MAX($D$8:D5818)-1)))","v":""}]
[null,null,null,null,{"$f":"IF(A5819=\"\",\"\",IF(B5819=\"\",E5818,IF(D5819=\"\",E5818,D5819/MAX($D$8:D5819)-1)))","v":""}]
[null,null,null,null,{"$f":"IF(A5820=\"\",\"\",IF(B5820=\"\",E5819,IF(D5820=\"\",E5819,D5820/MAX($D$8:D5820)-1)))","v":""}]
[null,null,null,null,{"$f":"IF(A5821=\"\",\"\",IF(B5821=\"\",E5820,IF(D5821=\"\",E5820,D5821/MAX($D$8:D5821)-1)))","v":""}]
[null,null,null,null,{"$f":"IF(A5822=\"\",\"\",IF(B5822=\"\",E5821,IF(D5822=\"\",E5821,D5822/MAX($D$8:D5822)-1)))","v":""}]
[null,null,null,null,{"$f":"IF(A5823=\"\",\"\",IF(B5823=\"\",E5822,IF(D5823=\"\",E5822,D5823/MAX($D$8:D5823)-1)))","v":""}]
[null,null,null,null,{"$f":"IF(A5824=\"\",\"\",IF(B5824=\"\",E5823,IF(D5824=\"\",E5823,D5824/MAX($D$8:D5824)-1)))","v":""}]
[null,null,null,null,{"$f":"IF(A5825=\"\",\"\",IF(B5825=\"\",E5824,IF(D5825=\"\",E5824,D5825/MAX($D$8:D5825)-1)))","v":""}]
[null,null,null,null,{"$f":"IF(A5826=\"\",\"\",IF(B5826=\"\",E5825,IF(D5826=\"\",E5825,D5826/MAX($D$8:D5826)-1)))","v":""}]
[null,null,null,null,{"$f":"IF(A5827=\"\",\"\",IF(B5827=\"\",E5826,IF(D5827=\"\",E5826,D5827/MAX($D$8:D5827)-1)))","v":""}]
[null,null,null,null,{"$f":"IF(A5828=\"\",\"\",IF(B5828=\"\",E5827,IF(D5828=\"\",E5827,D5828/MAX($D$8:D5828)-1)))","v":""}]
[null,null,null,null,{"$f":"IF(A5829=\"\",\"\",IF(B5829=\"\",E5828,IF(D5829=\"\",E5828,D5829/MAX($D$8:D5829)-1)))","v":""}]
[null,null,null,null,{"$f":"IF(A5830=\"\",\"\",IF(B5830=\"\",E5829,IF(D5830=\"\",E5829,D5830/MAX($D$8:D5830)-1)))","v":""}]
[null,null,null,null,{"$f":"IF(A5831=\"\",\"\",IF(B5831=\"\",E5830,IF(D5831=\"\",E5830,D5831/MAX($D$8:D5831)-1)))","v":""}]
[null,null,null,null,{"$f":"IF(A5832=\"\",\"\",IF(B5832=\"\",E5831,IF(D5832=\"\",E5831,D5832/MAX($D$8:D5832)-1)))","v":""}]
[null,null,null,null,{"$f":"IF(A5833=\"\",\"\",IF(B5833=\"\",E5832,IF(D5833=\"\",E5832,D5833/MAX($D$8:D5833)-1)))","v":""}]
[null,null,null,null,{"$f":"IF(A5834=\"\",\"\",IF(B5834=\"\",E5833,IF(D5834=\"\",E5833,D5834/MAX($D$8:D5834)-1)))","v":""}]
[null,null,null,null,{"$f":"IF(A5835=\"\",\"\",IF(B5835=\"\",E5834,IF(D5835=\"\",E5834,D5835/MAX($D$8:D5835)-1)))","v":""}]
[null,null,null,null,{"$f":"IF(A5836=\"\",\"\",IF(B5836=\"\",E5835,IF(D5836=\"\",E5835,D5836/MAX($D$8:D5836)-1)))","v":""}]
[null,null,null,null,{"$f":"IF(A5837=\"\",\"\",IF(B5837=\"\",E5836,IF(D5837=\"\",E5836,D5837/MAX($D$8:D5837)-1)))","v":""}]
[null,null,null,null,{"$f":"IF(A5838=\"\",\"\",IF(B5838=\"\",E5837,IF(D5838=\"\",E5837,D5838/MAX($D$8:D5838)-1)))","v":""}]
[null,null,null,null,{"$f":"IF(A5839=\"\",\"\",IF(B5839=\"\",E5838,IF(D5839=\"\",E5838,D5839/MAX($D$8:D5839)-1)))","v":""}]
[null,null,null,null,{"$f":"IF(A5840=\"\",\"\",IF(B5840=\"\",E5839,IF(D5840=\"\",E5839,D5840/MAX($D$8:D5840)-1)))","v":""}]
[null,null,null,null,{"$f":"IF(A5841=\"\",\"\",IF(B5841=\"\",E5840,IF(D5841=\"\",E5840,D5841/MAX($D$8:D5841)-1)))","v":""}]
[null,null,null,null,{"$f":"IF(A5842=\"\",\"\",IF(B5842=\"\",E5841,IF(D5842=\"\",E5841,D5842/MAX($D$8:D5842)-1)))","v":""}]
[null,null,null,null,{"$f":"IF(A5843=\"\",\"\",IF(B5843=\"\",E5842,IF(D5843=\"\",E5842,D5843/MAX($D$8:D5843)-1)))","v":""}]
[null,null,null,null,{"$f":"IF(A5844=\"\",\"\",IF(B5844=\"\",E5843,IF(D5844=\"\",E5843,D5844/MAX($D$8:D5844)-1)))","v":""}]
[null,null,null,null,{"$f":"IF(A5845=\"\",\"\",IF(B5845=\"\",E5844,IF(D5845=\"\",E5844,D5845/MAX($D$8:D5845)-1)))","v":""}]
[null,null,null,null,{"$f":"IF(A5846=\"\",\"\",IF(B5846=\"\",E5845,IF(D5846=\"\",E5845,D5846/MAX($D$8:D5846)-1)))","v":""}]
[null,null,null,null,{"$f":"IF(A5847=\"\",\"\",IF(B5847=\"\",E5846,IF(D5847=\"\",E5846,D5847/MAX($D$8:D5847)-1)))","v":""}]
[null,null,null,null,{"$f":"IF(A5848=\"\",\"\",IF(B5848=\"\",E5847,IF(D5848=\"\",E5847,D5848/MAX($D$8:D5848)-1)))","v":""}]
[null,null,null,null,{"$f":"IF(A5849=\"\",\"\",IF(B5849=\"\",E5848,IF(D5849=\"\",E5848,D5849/MAX($D$8:D5849)-1)))","v":""}]
[null,null,null,null,{"$f":"IF(A5850=\"\",\"\",IF(B5850=\"\",E5849,IF(D5850=\"\",E5849,D5850/MAX($D$8:D5850)-1)))","v":""}]
[null,null,null,null,{"$f":"IF(A5851=\"\",\"\",IF(B5851=\"\",E5850,IF(D5851=\"\",E5850,D5851/MAX($D$8:D5851)-1)))","v":""}]
[null,null,null,null,{"$f":"IF(A5852=\"\",\"\",IF(B5852=\"\",E5851,IF(D5852=\"\",E5851,D5852/MAX($D$8:D5852)-1)))","v":""}]
[null,null,null,null,{"$f":"IF(A5853=\"\",\"\",IF(B5853=\"\",E5852,IF(D5853=\"\",E5852,D5853/MAX($D$8:D5853)-1)))","v":""}]
[null,null,null,null,{"$f":"IF(A5854=\"\",\"\",IF(B5854=\"\",E5853,IF(D5854=\"\",E5853,D5854/MAX($D$8:D5854)-1)))","v":""}]
[null,null,null,null,{"$f":"IF(A5855=\"\",\"\",IF(B5855=\"\",E5854,IF(D5855=\"\",E5854,D5855/MAX($D$8:D5855)-1)))","v":""}]
[null,null,null,null,{"$f":"IF(A5856=\"\",\"\",IF(B5856=\"\",E5855,IF(D5856=\"\",E5855,D5856/MAX($D$8:D5856)-1)))","v":""}]
[null,null,null,null,{"$f":"IF(A5857=\"\",\"\",IF(B5857=\"\",E5856,IF(D5857=\"\",E5856,D5857/MAX($D$8:D5857)-1)))","v":""}]
[null,null,null,null,{"$f":"IF(A5858=\"\",\"\",IF(B5858=\"\",E5857,IF(D5858=\"\",E5857,D5858/MAX($D$8:D5858)-1)))","v":""}]
[null,null,null,null,{"$f":"IF(A5859=\"\",\"\",IF(B5859=\"\",E5858,IF(D5859=\"\",E5858,D5859/MAX($D$8:D5859)-1)))","v":""}]
[null,null,null,null,{"$f":"IF(A5860=\"\",\"\",IF(B5860=\"\",E5859,IF(D5860=\"\",E5859,D5860/MAX($D$8:D5860)-1)))","v":""}]
[null,null,null,null,{"$f":"IF(A5861=\"\",\"\",IF(B5861=\"\",E5860,IF(D5861=\"\",E5860,D5861/MAX($D$8:D5861)-1)))","v":""}]
[null,null,null,null,{"$f":"IF(A5862=\"\",\"\",IF(B5862=\"\",E5861,IF(D5862=\"\",E5861,D5862/MAX($D$8:D5862)-1)))","v":""}]
[null,null,null,null,{"$f":"IF(A5863=\"\",\"\",IF(B5863=\"\",E5862,IF(D5863=\"\",E5862,D5863/MAX($D$8:D5863)-1)))","v":""}]
[null,null,null,null,{"$f":"IF(A5864=\"\",\"\",IF(B5864=\"\",E5863,IF(D5864=\"\",E5863,D5864/MAX($D$8:D5864)-1)))","v":""}]
[null,null,null,null,{"$f":"IF(A5865=\"\",\"\",IF(B5865=\"\",E5864,IF(D5865=\"\",E5864,D5865/MAX($D$8:D5865)-1)))","v":""}]
[null,null,null,null,{"$f":"IF(A5866=\"\",\"\",IF(B5866=\"\",E5865,IF(D5866=\"\",E5865,D5866/MAX($D$8:D5866)-1)))","v":""}]
[null,null,null,null,{"$f":"IF(A5867=\"\",\"\",IF(B5867=\"\",E5866,IF(D5867=\"\",E5866,D5867/MAX($D$8:D5867)-1)))","v":""}]
[null,null,null,null,{"$f":"IF(A5868=\"\",\"\",IF(B5868=\"\",E5867,IF(D5868=\"\",E5867,D5868/MAX($D$8:D5868)-1)))","v":""}]
[null,null,null,null,{"$f":"IF(A5869=\"\",\"\",IF(B5869=\"\",E5868,IF(D5869=\"\",E5868,D5869/MAX($D$8:D5869)-1)))","v":""}]
[null,null,null,null,{"$f":"IF(A5870=\"\",\"\",IF(B5870=\"\",E5869,IF(D5870=\"\",E5869,D5870/MAX($D$8:D5870)-1)))","v":""}]
[null,null,null,null,{"$f":"IF(A5871=\"\",\"\",IF(B5871=\"\",E5870,IF(D5871=\"\",E5870,D5871/MAX($D$8:D5871)-1)))","v":""}]
[null,null,null,null,{"$f":"IF(A5872=\"\",\"\",IF(B5872=\"\",E5871,IF(D5872=\"\",E5871,D5872/MAX($D$8:D5872)-1)))","v":""}]
[null,null,null,null,{"$f":"IF(A5873=\"\",\"\",IF(B5873=\"\",E5872,IF(D5873=\"\",E5872,D5873/MAX($D$8:D5873)-1)))","v":""}]
[null,null,null,null,{"$f":"IF(A5874=\"\",\"\",IF(B5874=\"\",E5873,IF(D5874=\"\",E5873,D5874/MAX($D$8:D5874)-1)))","v":""}]
[null,null,null,null,{"$f":"IF(A5875=\"\",\"\",IF(B5875=\"\",E5874,IF(D5875=\"\",E5874,D5875/MAX($D$8:D5875)-1)))","v":""}]
[null,null,null,null,{"$f":"IF(A5876=\"\",\"\",IF(B5876=\"\",E5875,IF(D5876=\"\",E5875,D5876/MAX($D$8:D5876)-1)))","v":""}]
[null,null,null,null,{"$f":"IF(A5877=\"\",\"\",IF(B5877=\"\",E5876,IF(D5877=\"\",E5876,D5877/MAX($D$8:D5877)-1)))","v":""}]
[null,null,null,null,{"$f":"IF(A5878=\"\",\"\",IF(B5878=\"\",E5877,IF(D5878=\"\",E5877,D5878/MAX($D$8:D5878)-1)))","v":""}]
[null,null,null,null,{"$f":"IF(A5879=\"\",\"\",IF(B5879=\"\",E5878,IF(D5879=\"\",E5878,D5879/MAX($D$8:D5879)-1)))","v":""}]
[null,null,null,null,{"$f":"IF(A5880=\"\",\"\",IF(B5880=\"\",E5879,IF(D5880=\"\",E5879,D5880/MAX($D$8:D5880)-1)))","v":""}]
[null,null,null,null,{"$f":"IF(A5881=\"\",\"\",IF(B5881=\"\",E5880,IF(D5881=\"\",E5880,D5881/MAX($D$8:D5881)-1)))","v":""}]
[null,null,null,null,{"$f":"IF(A5882=\"\",\"\",IF(B5882=\"\",E5881,IF(D5882=\"\",E5881,D5882/MAX($D$8:D5882)-1)))","v":""}]
[null,null,null,null,{"$f":"IF(A5883=\"\",\"\",IF(B5883=\"\",E5882,IF(D5883=\"\",E5882,D5883/MAX($D$8:D5883)-1)))","v":""}]
[null,null,null,null,{"$f":"IF(A5884=\"\",\"\",IF(B5884=\"\",E5883,IF(D5884=\"\",E5883,D5884/MAX($D$8:D5884)-1)))","v":""}]
[null,null,null,null,{"$f":"IF(A5885=\"\",\"\",IF(B5885=\"\",E5884,IF(D5885=\"\",E5884,D5885/MAX($D$8:D5885)-1)))","v":""}]
[null,null,null,null,{"$f":"IF(A5886=\"\",\"\",IF(B5886=\"\",E5885,IF(D5886=\"\",E5885,D5886/MAX($D$8:D5886)-1)))","v":""}]
[null,null,null,null,{"$f":"IF(A5887=\"\",\"\",IF(B5887=\"\",E5886,IF(D5887=\"\",E5886,D5887/MAX($D$8:D5887)-1)))","v":""}]
[null,null,null,null,{"$f":"IF(A5888=\"\",\"\",IF(B5888=\"\",E5887,IF(D5888=\"\",E5887,D5888/MAX($D$8:D5888)-1)))","v":""}]
[null,null,null,null,{"$f":"IF(A5889=\"\",\"\",IF(B5889=\"\",E5888,IF(D5889=\"\",E5888,D5889/MAX($D$8:D5889)-1)))","v":""}]
[null,null,null,null,{"$f":"IF(A5890=\"\",\"\",IF(B5890=\"\",E5889,IF(D5890=\"\",E5889,D5890/MAX($D$8:D5890)-1)))","v":""}]
[null,null,null,null,{"$f":"IF(A5891=\"\",\"\",IF(B5891=\"\",E5890,IF(D5891=\"\",E5890,D5891/MAX($D$8:D5891)-1)))","v":""}]
[null,null,null,null,{"$f":"IF(A5892=\"\",\"\",IF(B5892=\"\",E5891,IF(D5892=\"\",E5891,D5892/MAX($D$8:D5892)-1)))","v":""}]
[null,null,null,null,{"$f":"IF(A5893=\"\",\"\",IF(B5893=\"\",E5892,IF(D5893=\"\",E5892,D5893/MAX($D$8:D5893)-1)))","v":""}]
[null,null,null,null,{"$f":"IF(A5894=\"\",\"\",IF(B5894=\"\",E5893,IF(D5894=\"\",E5893,D5894/MAX($D$8:D5894)-1)))","v":""}]
[null,null,null,null,{"$f":"IF(A5895=\"\",\"\",IF(B5895=\"\",E5894,IF(D5895=\"\",E5894,D5895/MAX($D$8:D5895)-1)))","v":""}]
[null,null,null,null,{"$f":"IF(A5896=\"\",\"\",IF(B5896=\"\",E5895,IF(D5896=\"\",E5895,D5896/MAX($D$8:D5896)-1)))","v":""}]
[null,null,null,null,{"$f":"IF(A5897=\"\",\"\",IF(B5897=\"\",E5896,IF(D5897=\"\",E5896,D5897/MAX($D$8:D5897)-1)))","v":""}]
[null,null,null,null,{"$f":"IF(A5898=\"\",\"\",IF(B5898=\"\",E5897,IF(D5898=\"\",E5897,D5898/MAX($D$8:D5898)-1)))","v":""}]
[null,null,null,null,{"$f":"IF(A5899=\"\",\"\",IF(B5899=\"\",E5898,IF(D5899=\"\",E5898,D5899/MAX($D$8:D5899)-1)))","v":""}]
[null,null,null,null,{"$f":"IF(A5900=\"\",\"\",IF(B5900=\"\",E5899,IF(D5900=\"\",E5899,D5900/MAX($D$8:D5900)-1)))","v":""}]
[null,null,null,null,{"$f":"IF(A5901=\"\",\"\",IF(B5901=\"\",E5900,IF(D5901=\"\",E5900,D5901/MAX($D$8:D5901)-1)))","v":""}]
[null,null,null,null,{"$f":"IF(A5902=\"\",\"\",IF(B5902=\"\",E5901,IF(D5902=\"\",E5901,D5902/MAX($D$8:D5902)-1)))","v":""}]
[null,null,null,null,{"$f":"IF(A5903=\"\",\"\",IF(B5903=\"\",E5902,IF(D5903=\"\",E5902,D5903/MAX($D$8:D5903)-1)))","v":""}]
[null,null,null,null,{"$f":"IF(A5904=\"\",\"\",IF(B5904=\"\",E5903,IF(D5904=\"\",E5903,D5904/MAX($D$8:D5904)-1)))","v":""}]
[null,null,null,null,{"$f":"IF(A5905=\"\",\"\",IF(B5905=\"\",E5904,IF(D5905=\"\",E5904,D5905/MAX($D$8:D5905)-1)))","v":""}]
[null,null,null,null,{"$f":"IF(A5906=\"\",\"\",IF(B5906=\"\",E5905,IF(D5906=\"\",E5905,D5906/MAX($D$8:D5906)-1)))","v":""}]
[null,null,null,null,{"$f":"IF(A5907=\"\",\"\",IF(B5907=\"\",E5906,IF(D5907=\"\",E5906,D5907/MAX($D$8:D5907)-1)))","v":""}]
[null,null,null,null,{"$f":"IF(A5908=\"\",\"\",IF(B5908=\"\",E5907,IF(D5908=\"\",E5907,D5908/MAX($D$8:D5908)-1)))","v":""}]
[null,null,null,null,{"$f":"IF(A5909=\"\",\"\",IF(B5909=\"\",E5908,IF(D5909=\"\",E5908,D5909/MAX($D$8:D5909)-1)))","v":""}]
[null,null,null,null,{"$f":"IF(A5910=\"\",\"\",IF(B5910=\"\",E5909,IF(D5910=\"\",E5909,D5910/MAX($D$8:D5910)-1)))","v":""}]
[null,null,null,null,{"$f":"IF(A5911=\"\",\"\",IF(B5911=\"\",E5910,IF(D5911=\"\",E5910,D5911/MAX($D$8:D5911)-1)))","v":""}]
[null,null,null,null,{"$f":"IF(A5912=\"\",\"\",IF(B5912=\"\",E5911,IF(D5912=\"\",E5911,D5912/MAX($D$8:D5912)-1)))","v":""}]
[null,null,null,null,{"$f":"IF(A5913=\"\",\"\",IF(B5913=\"\",E5912,IF(D5913=\"\",E5912,D5913/MAX($D$8:D5913)-1)))","v":""}]
[null,null,null,null,{"$f":"IF(A5914=\"\",\"\",IF(B5914=\"\",E5913,IF(D5914=\"\",E5913,D5914/MAX($D$8:D5914)-1)))","v":""}]
[null,null,null,null,{"$f":"IF(A5915=\"\",\"\",IF(B5915=\"\",E5914,IF(D5915=\"\",E5914,D5915/MAX($D$8:D5915)-1)))","v":""}]
[null,null,null,null,{"$f":"IF(A5916=\"\",\"\",IF(B5916=\"\",E5915,IF(D5916=\"\",E5915,D5916/MAX($D$8:D5916)-1)))","v":""}]
[null,null,null,null,{"$f":"IF(A5917=\"\",\"\",IF(B5917=\"\",E5916,IF(D5917=\"\",E5916,D5917/MAX($D$8:D5917)-1)))","v":""}]
[null,null,null,null,{"$f":"IF(A5918=\"\",\"\",IF(B5918=\"\",E5917,IF(D5918=\"\",E5917,D5918/MAX($D$8:D5918)-1)))","v":""}]
[null,null,null,null,{"$f":"IF(A5919=\"\",\"\",IF(B5919=\"\",E5918,IF(D5919=\"\",E5918,D5919/MAX($D$8:D5919)-1)))","v":""}]
[null,null,null,null,{"$f":"IF(A5920=\"\",\"\",IF(B5920=\"\",E5919,IF(D5920=\"\",E5919,D5920/MAX($D$8:D5920)-1)))","v":""}]
[null,null,null,null,{"$f":"IF(A5921=\"\",\"\",IF(B5921=\"\",E5920,IF(D5921=\"\",E5920,D5921/MAX($D$8:D5921)-1)))","v":""}]
[null,null,null,null,{"$f":"IF(A5922=\"\",\"\",IF(B5922=\"\",E5921,IF(D5922=\"\",E5921,D5922/MAX($D$8:D5922)-1)))","v":""}]
[null,null,null,null,{"$f":"IF(A5923=\"\",\"\",IF(B5923=\"\",E5922,IF(D5923=\"\",E5922,D5923/MAX($D$8:D5923)-1)))","v":""}]
[null,null,null,null,{"$f":"IF(A5924=\"\",\"\",IF(B5924=\"\",E5923,IF(D5924=\"\",E5923,D5924/MAX($D$8:D5924)-1)))","v":""}]
[null,null,null,null,{"$f":"IF(A5925=\"\",\"\",IF(B5925=\"\",E5924,IF(D5925=\"\",E5924,D5925/MAX($D$8:D5925)-1)))","v":""}]
[null,null,null,null,{"$f":"IF(A5926=\"\",\"\",IF(B5926=\"\",E5925,IF(D5926=\"\",E5925,D5926/MAX($D$8:D5926)-1)))","v":""}]
[null,null,null,null,{"$f":"IF(A5927=\"\",\"\",IF(B5927=\"\",E5926,IF(D5927=\"\",E5926,D5927/MAX($D$8:D5927)-1)))","v":""}]
[null,null,null,null,{"$f":"IF(A5928=\"\",\"\",IF(B5928=\"\",E5927,IF(D5928=\"\",E5927,D5928/MAX($D$8:D5928)-1)))","v":""}]
[null,null,null,null,{"$f":"IF(A5929=\"\",\"\",IF(B5929=\"\",E5928,IF(D5929=\"\",E5928,D5929/MAX($D$8:D5929)-1)))","v":""}]
[null,null,null,null,{"$f":"IF(A5930=\"\",\"\",IF(B5930=\"\",E5929,IF(D5930=\"\",E5929,D5930/MAX($D$8:D5930)-1)))","v":""}]
[null,null,null,null,{"$f":"IF(A5931=\"\",\"\",IF(B5931=\"\",E5930,IF(D5931=\"\",E5930,D5931/MAX($D$8:D5931)-1)))","v":""}]
[null,null,null,null,{"$f":"IF(A5932=\"\",\"\",IF(B5932=\"\",E5931,IF(D5932=\"\",E5931,D5932/MAX($D$8:D5932)-1)))","v":""}]
[null,null,null,null,{"$f":"IF(A5933=\"\",\"\",IF(B5933=\"\",E5932,IF(D5933=\"\",E5932,D5933/MAX($D$8:D5933)-1)))","v":""}]
[null,null,null,null,{"$f":"IF(A5934=\"\",\"\",IF(B5934=\"\",E5933,IF(D5934=\"\",E5933,D5934/MAX($D$8:D5934)-1)))","v":""}]
[null,null,null,null,{"$f":"IF(A5935=\"\",\"\",IF(B5935=\"\",E5934,IF(D5935=\"\",E5934,D5935/MAX($D$8:D5935)-1)))","v":""}]
[null,null,null,null,{"$f":"IF(A5936=\"\",\"\",IF(B5936=\"\",E5935,IF(D5936=\"\",E5935,D5936/MAX($D$8:D5936)-1)))","v":""}]
[null,null,null,null,{"$f":"IF(A5937=\"\",\"\",IF(B5937=\"\",E5936,IF(D5937=\"\",E5936,D5937/MAX($D$8:D5937)-1)))","v":""}]
[null,null,null,null,{"$f":"IF(A5938=\"\",\"\",IF(B5938=\"\",E5937,IF(D5938=\"\",E5937,D5938/MAX($D$8:D5938)-1)))","v":""}]
[null,null,null,null,{"$f":"IF(A5939=\"\",\"\",IF(B5939=\"\",E5938,IF(D5939=\"\",E5938,D5939/MAX($D$8:D5939)-1)))","v":""}]
[null,null,null,null,{"$f":"IF(A5940=\"\",\"\",IF(B5940=\"\",E5939,IF(D5940=\"\",E5939,D5940/MAX($D$8:D5940)-1)))","v":""}]
[null,null,null,null,{"$f":"IF(A5941=\"\",\"\",IF(B5941=\"\",E5940,IF(D5941=\"\",E5940,D5941/MAX($D$8:D5941)-1)))","v":""}]
[null,null,null,null,{"$f":"IF(A5942=\"\",\"\",IF(B5942=\"\",E5941,IF(D5942=\"\",E5941,D5942/MAX($D$8:D5942)-1)))","v":""}]
[null,null,null,null,{"$f":"IF(A5943=\"\",\"\",IF(B5943=\"\",E5942,IF(D5943=\"\",E5942,D5943/MAX($D$8:D5943)-1)))","v":""}]
[null,null,null,null,{"$f":"IF(A5944=\"\",\"\",IF(B5944=\"\",E5943,IF(D5944=\"\",E5943,D5944/MAX($D$8:D5944)-1)))","v":""}]
[null,null,null,null,{"$f":"IF(A5945=\"\",\"\",IF(B5945=\"\",E5944,IF(D5945=\"\",E5944,D5945/MAX($D$8:D5945)-1)))","v":""}]
[null,null,null,null,{"$f":"IF(A5946=\"\",\"\",IF(B5946=\"\",E5945,IF(D5946=\"\",E5945,D5946/MAX($D$8:D5946)-1)))","v":""}]
[null,null,null,null,{"$f":"IF(A5947=\"\",\"\",IF(B5947=\"\",E5946,IF(D5947=\"\",E5946,D5947/MAX($D$8:D5947)-1)))","v":""}]
[null,null,null,null,{"$f":"IF(A5948=\"\",\"\",IF(B5948=\"\",E5947,IF(D5948=\"\",E5947,D5948/MAX($D$8:D5948)-1)))","v":""}]
[null,null,null,null,{"$f":"IF(A5949=\"\",\"\",IF(B5949=\"\",E5948,IF(D5949=\"\",E5948,D5949/MAX($D$8:D5949)-1)))","v":""}]
[null,null,null,null,{"$f":"IF(A5950=\"\",\"\",IF(B5950=\"\",E5949,IF(D5950=\"\",E5949,D5950/MAX($D$8:D5950)-1)))","v":""}]
[null,null,null,null,{"$f":"IF(A5951=\"\",\"\",IF(B5951=\"\",E5950,IF(D5951=\"\",E5950,D5951/MAX($D$8:D5951)-1)))","v":""}]
[null,null,null,null,{"$f":"IF(A5952=\"\",\"\",IF(B5952=\"\",E5951,IF(D5952=\"\",E5951,D5952/MAX($D$8:D5952)-1)))","v":""}]
[null,null,null,null,{"$f":"IF(A5953=\"\",\"\",IF(B5953=\"\",E5952,IF(D5953=\"\",E5952,D5953/MAX($D$8:D5953)-1)))","v":""}]
[null,null,null,null,{"$f":"IF(A5954=\"\",\"\",IF(B5954=\"\",E5953,IF(D5954=\"\",E5953,D5954/MAX($D$8:D5954)-1)))","v":""}]
[null,null,null,null,{"$f":"IF(A5955=\"\",\"\",IF(B5955=\"\",E5954,IF(D5955=\"\",E5954,D5955/MAX($D$8:D5955)-1)))","v":""}]
[null,null,null,null,{"$f":"IF(A5956=\"\",\"\",IF(B5956=\"\",E5955,IF(D5956=\"\",E5955,D5956/MAX($D$8:D5956)-1)))","v":""}]
[null,null,null,null,{"$f":"IF(A5957=\"\",\"\",IF(B5957=\"\",E5956,IF(D5957=\"\",E5956,D5957/MAX($D$8:D5957)-1)))","v":""}]
[null,null,null,null,{"$f":"IF(A5958=\"\",\"\",IF(B5958=\"\",E5957,IF(D5958=\"\",E5957,D5958/MAX($D$8:D5958)-1)))","v":""}]
[null,null,null,null,{"$f":"IF(A5959=\"\",\"\",IF(B5959=\"\",E5958,IF(D5959=\"\",E5958,D5959/MAX($D$8:D5959)-1)))","v":""}]
[null,null,null,null,{"$f":"IF(A5960=\"\",\"\",IF(B5960=\"\",E5959,IF(D5960=\"\",E5959,D5960/MAX($D$8:D5960)-1)))","v":""}]
[null,null,null,null,{"$f":"IF(A5961=\"\",\"\",IF(B5961=\"\",E5960,IF(D5961=\"\",E5960,D5961/MAX($D$8:D5961)-1)))","v":""}]
[null,null,null,null,{"$f":"IF(A5962=\"\",\"\",IF(B5962=\"\",E5961,IF(D5962=\"\",E5961,D5962/MAX($D$8:D5962)-1)))","v":""}]
[null,null,null,null,{"$f":"IF(A5963=\"\",\"\",IF(B5963=\"\",E5962,IF(D5963=\"\",E5962,D5963/MAX($D$8:D5963)-1)))","v":""}]
[null,null,null,null,{"$f":"IF(A5964=\"\",\"\",IF(B5964=\"\",E5963,IF(D5964=\"\",E5963,D5964/MAX($D$8:D5964)-1)))","v":""}]
[null,null,null,null,{"$f":"IF(A5965=\"\",\"\",IF(B5965=\"\",E5964,IF(D5965=\"\",E5964,D5965/MAX($D$8:D5965)-1)))","v":""}]
[null,null,null,null,{"$f":"IF(A5966=\"\",\"\",IF(B5966=\"\",E5965,IF(D5966=\"\",E5965,D5966/MAX($D$8:D5966)-1)))","v":""}]
[null,null,null,null,{"$f":"IF(A5967=\"\",\"\",IF(B5967=\"\",E5966,IF(D5967=\"\",E5966,D5967/MAX($D$8:D5967)-1)))","v":""}]
[null,null,null,null,{"$f":"IF(A5968=\"\",\"\",IF(B5968=\"\",E5967,IF(D5968=\"\",E5967,D5968/MAX($D$8:D5968)-1)))","v":""}]
[null,null,null,null,{"$f":"IF(A5969=\"\",\"\",IF(B5969=\"\",E5968,IF(D5969=\"\",E5968,D5969/MAX($D$8:D5969)-1)))","v":""}]
[null,null,null,null,{"$f":"IF(A5970=\"\",\"\",IF(B5970=\"\",E5969,IF(D5970=\"\",E5969,D5970/MAX($D$8:D5970)-1)))","v":""}]
[null,null,null,null,{"$f":"IF(A5971=\"\",\"\",IF(B5971=\"\",E5970,IF(D5971=\"\",E5970,D5971/MAX($D$8:D5971)-1)))","v":""}]
[null,null,null,null,{"$f":"IF(A5972=\"\",\"\",IF(B5972=\"\",E5971,IF(D5972=\"\",E5971,D5972/MAX($D$8:D5972)-1)))","v":""}]
[null,null,null,null,{"$f":"IF(A5973=\"\",\"\",IF(B5973=\"\",E5972,IF(D5973=\"\",E5972,D5973/MAX($D$8:D5973)-1)))","v":""}]
[null,null,null,null,{"$f":"IF(A5974=\"\",\"\",IF(B5974=\"\",E5973,IF(D5974=\"\",E5973,D5974/MAX($D$8:D5974)-1)))","v":""}]
[null,null,null,null,{"$f":"IF(A5975=\"\",\"\",IF(B5975=\"\",E5974,IF(D5975=\"\",E5974,D5975/MAX($D$8:D5975)-1)))","v":""}]
[null,null,null,null,{"$f":"IF(A5976=\"\",\"\",IF(B5976=\"\",E5975,IF(D5976=\"\",E5975,D5976/MAX($D$8:D5976)-1)))","v":""}]
[null,null,null,null,{"$f":"IF(A5977=\"\",\"\",IF(B5977=\"\",E5976,IF(D5977=\"\",E5976,D5977/MAX($D$8:D5977)-1)))","v":""}]
[null,null,null,null,{"$f":"IF(A5978=\"\",\"\",IF(B5978=\"\",E5977,IF(D5978=\"\",E5977,D5978/MAX($D$8:D5978)-1)))","v":""}]
[null,null,null,null,{"$f":"IF(A5979=\"\",\"\",IF(B5979=\"\",E5978,IF(D5979=\"\",E5978,D5979/MAX($D$8:D5979)-1)))","v":""}]
[null,null,null,null,{"$f":"IF(A5980=\"\",\"\",IF(B5980=\"\",E5979,IF(D5980=\"\",E5979,D5980/MAX($D$8:D5980)-1)))","v":""}]
[null,null,null,null,{"$f":"IF(A5981=\"\",\"\",IF(B5981=\"\",E5980,IF(D5981=\"\",E5980,D5981/MAX($D$8:D5981)-1)))","v":""}]
[null,null,null,null,{"$f":"IF(A5982=\"\",\"\",IF(B5982=\"\",E5981,IF(D5982=\"\",E5981,D5982/MAX($D$8:D5982)-1)))","v":""}]
[null,null,null,null,{"$f":"IF(A5983=\"\",\"\",IF(B5983=\"\",E5982,IF(D5983=\"\",E5982,D5983/MAX($D$8:D5983)-1)))","v":""}]
[null,null,null,null,{"$f":"IF(A5984=\"\",\"\",IF(B5984=\"\",E5983,IF(D5984=\"\",E5983,D5984/MAX($D$8:D5984)-1)))","v":""}]
[null,null,null,null,{"$f":"IF(A5985=\"\",\"\",IF(B5985=\"\",E5984,IF(D5985=\"\",E5984,D5985/MAX($D$8:D5985)-1)))","v":""}]
[null,null,null,null,{"$f":"IF(A5986=\"\",\"\",IF(B5986=\"\",E5985,IF(D5986=\"\",E5985,D5986/MAX($D$8:D5986)-1)))","v":""}]
[null,null,null,null,{"$f":"IF(A5987=\"\",\"\",IF(B5987=\"\",E5986,IF(D5987=\"\",E5986,D5987/MAX($D$8:D5987)-1)))","v":""}]
[null,null,null,null,{"$f":"IF(A5988=\"\",\"\",IF(B5988=\"\",E5987,IF(D5988=\"\",E5987,D5988/MAX($D$8:D5988)-1)))","v":""}]
[null,null,null,null,{"$f":"IF(A5989=\"\",\"\",IF(B5989=\"\",E5988,IF(D5989=\"\",E5988,D5989/MAX($D$8:D5989)-1)))","v":""}]
[null,null,null,null,{"$f":"IF(A5990=\"\",\"\",IF(B5990=\"\",E5989,IF(D5990=\"\",E5989,D5990/MAX($D$8:D5990)-1)))","v":""}]
[null,null,null,null,{"$f":"IF(A5991=\"\",\"\",IF(B5991=\"\",E5990,IF(D5991=\"\",E5990,D5991/MAX($D$8:D5991)-1)))","v":""}]
[null,null,null,null,{"$f":"IF(A5992=\"\",\"\",IF(B5992=\"\",E5991,IF(D5992=\"\",E5991,D5992/MAX($D$8:D5992)-1)))","v":""}]
[null,null,null,null,{"$f":"IF(A5993=\"\",\"\",IF(B5993=\"\",E5992,IF(D5993=\"\",E5992,D5993/MAX($D$8:D5993)-1)))","v":""}]
[null,null,null,null,{"$f":"IF(A5994=\"\",\"\",IF(B5994=\"\",E5993,IF(D5994=\"\",E5993,D5994/MAX($D$8:D5994)-1)))","v":""}]
[null,null,null,null,{"$f":"IF(A5995=\"\",\"\",IF(B5995=\"\",E5994,IF(D5995=\"\",E5994,D5995/MAX($D$8:D5995)-1)))","v":""}]
[null,null,null,null,{"$f":"IF(A5996=\"\",\"\",IF(B5996=\"\",E5995,IF(D5996=\"\",E5995,D5996/MAX($D$8:D5996)-1)))","v":""}]
[null,null,null,null,{"$f":"IF(A5997=\"\",\"\",IF(B5997=\"\",E5996,IF(D5997=\"\",E5996,D5997/MAX($D$8:D5997)-1)))","v":""}]
[null,null,null,null,{"$f":"IF(A5998=\"\",\"\",IF(B5998=\"\",E5997,IF(D5998=\"\",E5997,D5998/MAX($D$8:D5998)-1)))","v":""}]
[null,null,null,null,{"$f":"IF(A5999=\"\",\"\",IF(B5999=\"\",E5998,IF(D5999=\"\",E5998,D5999/MAX($D$8:D5999)-1)))","v":""}]
[null,null,null,null,{"$f":"IF(A6000=\"\",\"\",IF(B6000=\"\",E5999,IF(D6000=\"\",E5999,D6000/MAX($D$8:D6000)-1)))","v":""}]
[null,null,null,null,{"$f":"IF(A6001=\"\",\"\",IF(B6001=\"\",E6000,IF(D6001=\"\",E6000,D6001/MAX($D$8:D6001)-1)))","v":""}]
[null,null,null,null,{"$f":"IF(A6002=\"\",\"\",IF(B6002=\"\",E6001,IF(D6002=\"\",E6001,D6002/MAX($D$8:D6002)-1)))","v":""}]
[null,null,null,null,{"$f":"IF(A6003=\"\",\"\",IF(B6003=\"\",E6002,IF(D6003=\"\",E6002,D6003/MAX($D$8:D6003)-1)))","v":""}]
[null,null,null,null,{"$f":"IF(A6004=\"\",\"\",IF(B6004=\"\",E6003,IF(D6004=\"\",E6003,D6004/MAX($D$8:D6004)-1)))","v":""}]
[null,null,null,null,{"$f":"IF(A6005=\"\",\"\",IF(B6005=\"\",E6004,IF(D6005=\"\",E6004,D6005/MAX($D$8:D6005)-1)))","v":""}]
[null,null,null,null,{"$f":"IF(A6006=\"\",\"\",IF(B6006=\"\",E6005,IF(D6006=\"\",E6005,D6006/MAX($D$8:D6006)-1)))","v":""}]
[null,null,null,null,{"$f":"IF(A6007=\"\",\"\",IF(B6007=\"\",E6006,IF(D6007=\"\",E6006,D6007/MAX($D$8:D6007)-1)))","v":""}]
[null,null,null,null,{"$f":"IF(A6008=\"\",\"\",IF(B6008=\"\",E6007,IF(D6008=\"\",E6007,D6008/MAX($D$8:D6008)-1)))","v":""}]
[null,null,null,null,{"$f":"IF(A6009=\"\",\"\",IF(B6009=\"\",E6008,IF(D6009=\"\",E6008,D6009/MAX($D$8:D6009)-1)))","v":""}]
[null,null,null,null,{"$f":"IF(A6010=\"\",\"\",IF(B6010=\"\",E6009,IF(D6010=\"\",E6009,D6010/MAX($D$8:D6010)-1)))","v":""}]
[null,null,null,null,{"$f":"IF(A6011=\"\",\"\",IF(B6011=\"\",E6010,IF(D6011=\"\",E6010,D6011/MAX($D$8:D6011)-1)))","v":""}]
[null,null,null,null,{"$f":"IF(A6012=\"\",\"\",IF(B6012=\"\",E6011,IF(D6012=\"\",E6011,D6012/MAX($D$8:D6012)-1)))","v":""}]
[null,null,null,null,{"$f":"IF(A6013=\"\",\"\",IF(B6013=\"\",E6012,IF(D6013=\"\",E6012,D6013/MAX($D$8:D6013)-1)))","v":""}]
[null,null,null,null,{"$f":"IF(A6014=\"\",\"\",IF(B6014=\"\",E6013,IF(D6014=\"\",E6013,D6014/MAX($D$8:D6014)-1)))","v":""}]
[null,null,null,null,{"$f":"IF(A6015=\"\",\"\",IF(B6015=\"\",E6014,IF(D6015=\"\",E6014,D6015/MAX($D$8:D6015)-1)))","v":""}]
[null,null,null,null,{"$f":"IF(A6016=\"\",\"\",IF(B6016=\"\",E6015,IF(D6016=\"\",E6015,D6016/MAX($D$8:D6016)-1)))","v":""}]
[null,null,null,null,{"$f":"IF(A6017=\"\",\"\",IF(B6017=\"\",E6016,IF(D6017=\"\",E6016,D6017/MAX($D$8:D6017)-1)))","v":""}]
[null,null,null,null,{"$f":"IF(A6018=\"\",\"\",IF(B6018=\"\",E6017,IF(D6018=\"\",E6017,D6018/MAX($D$8:D6018)-1)))","v":""}]
[null,null,null,null,{"$f":"IF(A6019=\"\",\"\",IF(B6019=\"\",E6018,IF(D6019=\"\",E6018,D6019/MAX($D$8:D6019)-1)))","v":""}]
[null,null,null,null,{"$f":"IF(A6020=\"\",\"\",IF(B6020=\"\",E6019,IF(D6020=\"\",E6019,D6020/MAX($D$8:D6020)-1)))","v":""}]
[null,null,null,null,{"$f":"IF(A6021=\"\",\"\",IF(B6021=\"\",E6020,IF(D6021=\"\",E6020,D6021/MAX($D$8:D6021)-1)))","v":""}]
[null,null,null,null,{"$f":"IF(A6022=\"\",\"\",IF(B6022=\"\",E6021,IF(D6022=\"\",E6021,D6022/MAX($D$8:D6022)-1)))","v":""}]
[null,null,null,null,{"$f":"IF(A6023=\"\",\"\",IF(B6023=\"\",E6022,IF(D6023=\"\",E6022,D6023/MAX($D$8:D6023)-1)))","v":""}]
[null,null,null,null,{"$f":"IF(A6024=\"\",\"\",IF(B6024=\"\",E6023,IF(D6024=\"\",E6023,D6024/MAX($D$8:D6024)-1)))","v":""}]
[null,null,null,null,{"$f":"IF(A6025=\"\",\"\",IF(B6025=\"\",E6024,IF(D6025=\"\",E6024,D6025/MAX($D$8:D6025)-1)))","v":""}]
[null,null,null,null,{"$f":"IF(A6026=\"\",\"\",IF(B6026=\"\",E6025,IF(D6026=\"\",E6025,D6026/MAX($D$8:D6026)-1)))","v":""}]
[null,null,null,null,{"$f":"IF(A6027=\"\",\"\",IF(B6027=\"\",E6026,IF(D6027=\"\",E6026,D6027/MAX($D$8:D6027)-1)))","v":""}]
[null,null,null,null,{"$f":"IF(A6028=\"\",\"\",IF(B6028=\"\",E6027,IF(D6028=\"\",E6027,D6028/MAX($D$8:D6028)-1)))","v":""}]
[null,null,null,null,{"$f":"IF(A6029=\"\",\"\",IF(B6029=\"\",E6028,IF(D6029=\"\",E6028,D6029/MAX($D$8:D6029)-1)))","v":""}]
[null,null,null,null,{"$f":"IF(A6030=\"\",\"\",IF(B6030=\"\",E6029,IF(D6030=\"\",E6029,D6030/MAX($D$8:D6030)-1)))","v":""}]
[null,null,null,null,{"$f":"IF(A6031=\"\",\"\",IF(B6031=\"\",E6030,IF(D6031=\"\",E6030,D6031/MAX($D$8:D6031)-1)))","v":""}]
[null,null,null,null,{"$f":"IF(A6032=\"\",\"\",IF(B6032=\"\",E6031,IF(D6032=\"\",E6031,D6032/MAX($D$8:D6032)-1)))","v":""}]
[null,null,null,null,{"$f":"IF(A6033=\"\",\"\",IF(B6033=\"\",E6032,IF(D6033=\"\",E6032,D6033/MAX($D$8:D6033)-1)))","v":""}]
[null,null,null,null,{"$f":"IF(A6034=\"\",\"\",IF(B6034=\"\",E6033,IF(D6034=\"\",E6033,D6034/MAX($D$8:D6034)-1)))","v":""}]
[null,null,null,null,{"$f":"IF(A6035=\"\",\"\",IF(B6035=\"\",E6034,IF(D6035=\"\",E6034,D6035/MAX($D$8:D6035)-1)))","v":""}]
[null,null,null,null,{"$f":"IF(A6036=\"\",\"\",IF(B6036=\"\",E6035,IF(D6036=\"\",E6035,D6036/MAX($D$8:D6036)-1)))","v":""}]
[null,null,null,null,{"$f":"IF(A6037=\"\",\"\",IF(B6037=\"\",E6036,IF(D6037=\"\",E6036,D6037/MAX($D$8:D6037)-1)))","v":""}]
[null,null,null,null,{"$f":"IF(A6038=\"\",\"\",IF(B6038=\"\",E6037,IF(D6038=\"\",E6037,D6038/MAX($D$8:D6038)-1)))","v":""}]
[null,null,null,null,{"$f":"IF(A6039=\"\",\"\",IF(B6039=\"\",E6038,IF(D6039=\"\",E6038,D6039/MAX($D$8:D6039)-1)))","v":""}]
[null,null,null,null,{"$f":"IF(A6040=\"\",\"\",IF(B6040=\"\",E6039,IF(D6040=\"\",E6039,D6040/MAX($D$8:D6040)-1)))","v":""}]
[null,null,null,null,{"$f":"IF(A6041=\"\",\"\",IF(B6041=\"\",E6040,IF(D6041=\"\",E6040,D6041/MAX($D$8:D6041)-1)))","v":""}]
[null,null,null,null,{"$f":"IF(A6042=\"\",\"\",IF(B6042=\"\",E6041,IF(D6042=\"\",E6041,D6042/MAX($D$8:D6042)-1)))","v":""}]
[null,null,null,null,{"$f":"IF(A6043=\"\",\"\",IF(B6043=\"\",E6042,IF(D6043=\"\",E6042,D6043/MAX($D$8:D6043)-1)))","v":""}]
[null,null,null,null,{"$f":"IF(A6044=\"\",\"\",IF(B6044=\"\",E6043,IF(D6044=\"\",E6043,D6044/MAX($D$8:D6044)-1)))","v":""}]
[null,null,null,null,{"$f":"IF(A6045=\"\",\"\",IF(B6045=\"\",E6044,IF(D6045=\"\",E6044,D6045/MAX($D$8:D6045)-1)))","v":""}]
[null,null,null,null,{"$f":"IF(A6046=\"\",\"\",IF(B6046=\"\",E6045,IF(D6046=\"\",E6045,D6046/MAX($D$8:D6046)-1)))","v":""}]
[null,null,null,null,{"$f":"IF(A6047=\"\",\"\",IF(B6047=\"\",E6046,IF(D6047=\"\",E6046,D6047/MAX($D$8:D6047)-1)))","v":""}]
[null,null,null,null,{"$f":"IF(A6048=\"\",\"\",IF(B6048=\"\",E6047,IF(D6048=\"\",E6047,D6048/MAX($D$8:D6048)-1)))","v":""}]
[null,null,null,null,{"$f":"IF(A6049=\"\",\"\",IF(B6049=\"\",E6048,IF(D6049=\"\",E6048,D6049/MAX($D$8:D6049)-1)))","v":""}]
[null,null,null,null,{"$f":"IF(A6050=\"\",\"\",IF(B6050=\"\",E6049,IF(D6050=\"\",E6049,D6050/MAX($D$8:D6050)-1)))","v":""}]
[null,null,null,null,{"$f":"IF(A6051=\"\",\"\",IF(B6051=\"\",E6050,IF(D6051=\"\",E6050,D6051/MAX($D$8:D6051)-1)))","v":""}]
[null,null,null,null,{"$f":"IF(A6052=\"\",\"\",IF(B6052=\"\",E6051,IF(D6052=\"\",E6051,D6052/MAX($D$8:D6052)-1)))","v":""}]
[null,null,null,null,{"$f":"IF(A6053=\"\",\"\",IF(B6053=\"\",E6052,IF(D6053=\"\",E6052,D6053/MAX($D$8:D6053)-1)))","v":""}]
[null,null,null,null,{"$f":"IF(A6054=\"\",\"\",IF(B6054=\"\",E6053,IF(D6054=\"\",E6053,D6054/MAX($D$8:D6054)-1)))","v":""}]
[null,null,null,null,{"$f":"IF(A6055=\"\",\"\",IF(B6055=\"\",E6054,IF(D6055=\"\",E6054,D6055/MAX($D$8:D6055)-1)))","v":""}]
[null,null,null,null,{"$f":"IF(A6056=\"\",\"\",IF(B6056=\"\",E6055,IF(D6056=\"\",E6055,D6056/MAX($D$8:D6056)-1)))","v":""}]
[null,null,null,null,{"$f":"IF(A6057=\"\",\"\",IF(B6057=\"\",E6056,IF(D6057=\"\",E6056,D6057/MAX($D$8:D6057)-1)))","v":""}]
[null,null,null,null,{"$f":"IF(A6058=\"\",\"\",IF(B6058=\"\",E6057,IF(D6058=\"\",E6057,D6058/MAX($D$8:D6058)-1)))","v":""}]
[null,null,null,null,{"$f":"IF(A6059=\"\",\"\",IF(B6059=\"\",E6058,IF(D6059=\"\",E6058,D6059/MAX($D$8:D6059)-1)))","v":""}]
[null,null,null,null,{"$f":"IF(A6060=\"\",\"\",IF(B6060=\"\",E6059,IF(D6060=\"\",E6059,D6060/MAX($D$8:D6060)-1)))","v":""}]
[null,null,null,null,{"$f":"IF(A6061=\"\",\"\",IF(B6061=\"\",E6060,IF(D6061=\"\",E6060,D6061/MAX($D$8:D6061)-1)))","v":""}]
[null,null,null,null,{"$f":"IF(A6062=\"\",\"\",IF(B6062=\"\",E6061,IF(D6062=\"\",E6061,D6062/MAX($D$8:D6062)-1)))","v":""}]
[null,null,null,null,{"$f":"IF(A6063=\"\",\"\",IF(B6063=\"\",E6062,IF(D6063=\"\",E6062,D6063/MAX($D$8:D6063)-1)))","v":""}]
[null,null,null,null,{"$f":"IF(A6064=\"\",\"\",IF(B6064=\"\",E6063,IF(D6064=\"\",E6063,D6064/MAX($D$8:D6064)-1)))","v":""}]
[null,null,null,null,{"$f":"IF(A6065=\"\",\"\",IF(B6065=\"\",E6064,IF(D6065=\"\",E6064,D6065/MAX($D$8:D6065)-1)))","v":""}]
[null,null,null,null,{"$f":"IF(A6066=\"\",\"\",IF(B6066=\"\",E6065,IF(D6066=\"\",E6065,D6066/MAX($D$8:D6066)-1)))","v":""}]
[null,null,null,null,{"$f":"IF(A6067=\"\",\"\",IF(B6067=\"\",E6066,IF(D6067=\"\",E6066,D6067/MAX($D$8:D6067)-1)))","v":""}]
[null,null,null,null,{"$f":"IF(A6068=\"\",\"\",IF(B6068=\"\",E6067,IF(D6068=\"\",E6067,D6068/MAX($D$8:D6068)-1)))","v":""}]
[null,null,null,null,{"$f":"IF(A6069=\"\",\"\",IF(B6069=\"\",E6068,IF(D6069=\"\",E6068,D6069/MAX($D$8:D6069)-1)))","v":""}]
[null,null,null,null,{"$f":"IF(A6070=\"\",\"\",IF(B6070=\"\",E6069,IF(D6070=\"\",E6069,D6070/MAX($D$8:D6070)-1)))","v":""}]
[null,null,null,null,{"$f":"IF(A6071=\"\",\"\",IF(B6071=\"\",E6070,IF(D6071=\"\",E6070,D6071/MAX($D$8:D6071)-1)))","v":""}]
[null,null,null,null,{"$f":"IF(A6072=\"\",\"\",IF(B6072=\"\",E6071,IF(D6072=\"\",E6071,D6072/MAX($D$8:D6072)-1)))","v":""}]
[null,null,null,null,{"$f":"IF(A6073=\"\",\"\",IF(B6073=\"\",E6072,IF(D6073=\"\",E6072,D6073/MAX($D$8:D6073)-1)))","v":""}]
[null,null,null,null,{"$f":"IF(A6074=\"\",\"\",IF(B6074=\"\",E6073,IF(D6074=\"\",E6073,D6074/MAX($D$8:D6074)-1)))","v":""}]
[null,null,null,null,{"$f":"IF(A6075=\"\",\"\",IF(B6075=\"\",E6074,IF(D6075=\"\",E6074,D6075/MAX($D$8:D6075)-1)))","v":""}]
[null,null,null,null,{"$f":"IF(A6076=\"\",\"\",IF(B6076=\"\",E6075,IF(D6076=\"\",E6075,D6076/MAX($D$8:D6076)-1)))","v":""}]
[null,null,null,null,{"$f":"IF(A6077=\"\",\"\",IF(B6077=\"\",E6076,IF(D6077=\"\",E6076,D6077/MAX($D$8:D6077)-1)))","v":""}]
[null,null,null,null,{"$f":"IF(A6078=\"\",\"\",IF(B6078=\"\",E6077,IF(D6078=\"\",E6077,D6078/MAX($D$8:D6078)-1)))","v":""}]
[null,null,null,null,{"$f":"IF(A6079=\"\",\"\",IF(B6079=\"\",E6078,IF(D6079=\"\",E6078,D6079/MAX($D$8:D6079)-1)))","v":""}]
[null,null,null,null,{"$f":"IF(A6080=\"\",\"\",IF(B6080=\"\",E6079,IF(D6080=\"\",E6079,D6080/MAX($D$8:D6080)-1)))","v":""}]
[null,null,null,null,{"$f":"IF(A6081=\"\",\"\",IF(B6081=\"\",E6080,IF(D6081=\"\",E6080,D6081/MAX($D$8:D6081)-1)))","v":""}]
[null,null,null,null,{"$f":"IF(A6082=\"\",\"\",IF(B6082=\"\",E6081,IF(D6082=\"\",E6081,D6082/MAX($D$8:D6082)-1)))","v":""}]
[null,null,null,null,{"$f":"IF(A6083=\"\",\"\",IF(B6083=\"\",E6082,IF(D6083=\"\",E6082,D6083/MAX($D$8:D6083)-1)))","v":""}]
[null,null,null,null,{"$f":"IF(A6084=\"\",\"\",IF(B6084=\"\",E6083,IF(D6084=\"\",E6083,D6084/MAX($D$8:D6084)-1)))","v":""}]
[null,null,null,null,{"$f":"IF(A6085=\"\",\"\",IF(B6085=\"\",E6084,IF(D6085=\"\",E6084,D6085/MAX($D$8:D6085)-1)))","v":""}]
[null,null,null,null,{"$f":"IF(A6086=\"\",\"\",IF(B6086=\"\",E6085,IF(D6086=\"\",E6085,D6086/MAX($D$8:D6086)-1)))","v":""}]
[null,null,null,null,{"$f":"IF(A6087=\"\",\"\",IF(B6087=\"\",E6086,IF(D6087=\"\",E6086,D6087/MAX($D$8:D6087)-1)))","v":""}]
[null,null,null,null,{"$f":"IF(A6088=\"\",\"\",IF(B6088=\"\",E6087,IF(D6088=\"\",E6087,D6088/MAX($D$8:D6088)-1)))","v":""}]
[null,null,null,null,{"$f":"IF(A6089=\"\",\"\",IF(B6089=\"\",E6088,IF(D6089=\"\",E6088,D6089/MAX($D$8:D6089)-1)))","v":""}]
[null,null,null,null,{"$f":"IF(A6090=\"\",\"\",IF(B6090=\"\",E6089,IF(D6090=\"\",E6089,D6090/MAX($D$8:D6090)-1)))","v":""}]
[null,null,null,null,{"$f":"IF(A6091=\"\",\"\",IF(B6091=\"\",E6090,IF(D6091=\"\",E6090,D6091/MAX($D$8:D6091)-1)))","v":""}]
[null,null,null,null,{"$f":"IF(A6092=\"\",\"\",IF(B6092=\"\",E6091,IF(D6092=\"\",E6091,D6092/MAX($D$8:D6092)-1)))","v":""}]
[null,null,null,null,{"$f":"IF(A6093=\"\",\"\",IF(B6093=\"\",E6092,IF(D6093=\"\",E6092,D6093/MAX($D$8:D6093)-1)))","v":""}]
[null,null,null,null,{"$f":"IF(A6094=\"\",\"\",IF(B6094=\"\",E6093,IF(D6094=\"\",E6093,D6094/MAX($D$8:D6094)-1)))","v":""}]
[null,null,null,null,{"$f":"IF(A6095=\"\",\"\",IF(B6095=\"\",E6094,IF(D6095=\"\",E6094,D6095/MAX($D$8:D6095)-1)))","v":""}]
[null,null,null,null,{"$f":"IF(A6096=\"\",\"\",IF(B6096=\"\",E6095,IF(D6096=\"\",E6095,D6096/MAX($D$8:D6096)-1)))","v":""}]
[null,null,null,null,{"$f":"IF(A6097=\"\",\"\",IF(B6097=\"\",E6096,IF(D6097=\"\",E6096,D6097/MAX($D$8:D6097)-1)))","v":""}]
[null,null,null,null,{"$f":"IF(A6098=\"\",\"\",IF(B6098=\"\",E6097,IF(D6098=\"\",E6097,D6098/MAX($D$8:D6098)-1)))","v":""}]
[null,null,null,null,{"$f":"IF(A6099=\"\",\"\",IF(B6099=\"\",E6098,IF(D6099=\"\",E6098,D6099/MAX($D$8:D6099)-1)))","v":""}]
[null,null,null,null,{"$f":"IF(A6100=\"\",\"\",IF(B6100=\"\",E6099,IF(D6100=\"\",E6099,D6100/MAX($D$8:D6100)-1)))","v":""}]
[null,null,null,null,{"$f":"IF(A6101=\"\",\"\",IF(B6101=\"\",E6100,IF(D6101=\"\",E6100,D6101/MAX($D$8:D6101)-1)))","v":""}]
[null,null,null,null,{"$f":"IF(A6102=\"\",\"\",IF(B6102=\"\",E6101,IF(D6102=\"\",E6101,D6102/MAX($D$8:D6102)-1)))","v":""}]
[null,null,null,null,{"$f":"IF(A6103=\"\",\"\",IF(B6103=\"\",E6102,IF(D6103=\"\",E6102,D6103/MAX($D$8:D6103)-1)))","v":""}]
[null,null,null,null,{"$f":"IF(A6104=\"\",\"\",IF(B6104=\"\",E6103,IF(D6104=\"\",E6103,D6104/MAX($D$8:D6104)-1)))","v":""}]
[null,null,null,null,{"$f":"IF(A6105=\"\",\"\",IF(B6105=\"\",E6104,IF(D6105=\"\",E6104,D6105/MAX($D$8:D6105)-1)))","v":""}]
[null,null,null,null,{"$f":"IF(A6106=\"\",\"\",IF(B6106=\"\",E6105,IF(D6106=\"\",E6105,D6106/MAX($D$8:D6106)-1)))","v":""}]
[null,null,null,null,{"$f":"IF(A6107=\"\",\"\",IF(B6107=\"\",E6106,IF(D6107=\"\",E6106,D6107/MAX($D$8:D6107)-1)))","v":""}]
[null,null,null,null,{"$f":"IF(A6108=\"\",\"\",IF(B6108=\"\",E6107,IF(D6108=\"\",E6107,D6108/MAX($D$8:D6108)-1)))","v":""}]
[null,null,null,null,{"$f":"IF(A6109=\"\",\"\",IF(B6109=\"\",E6108,IF(D6109=\"\",E6108,D6109/MAX($D$8:D6109)-1)))","v":""}]
[null,null,null,null,{"$f":"IF(A6110=\"\",\"\",IF(B6110=\"\",E6109,IF(D6110=\"\",E6109,D6110/MAX($D$8:D6110)-1)))","v":""}]
[null,null,null,null,{"$f":"IF(A6111=\"\",\"\",IF(B6111=\"\",E6110,IF(D6111=\"\",E6110,D6111/MAX($D$8:D6111)-1)))","v":""}]
[null,null,null,null,{"$f":"IF(A6112=\"\",\"\",IF(B6112=\"\",E6111,IF(D6112=\"\",E6111,D6112/MAX($D$8:D6112)-1)))","v":""}]
[null,null,null,null,{"$f":"IF(A6113=\"\",\"\",IF(B6113=\"\",E6112,IF(D6113=\"\",E6112,D6113/MAX($D$8:D6113)-1)))","v":""}]
[null,null,null,null,{"$f":"IF(A6114=\"\",\"\",IF(B6114=\"\",E6113,IF(D6114=\"\",E6113,D6114/MAX($D$8:D6114)-1)))","v":""}]
[null,null,null,null,{"$f":"IF(A6115=\"\",\"\",IF(B6115=\"\",E6114,IF(D6115=\"\",E6114,D6115/MAX($D$8:D6115)-1)))","v":""}]
[null,null,null,null,{"$f":"IF(A6116=\"\",\"\",IF(B6116=\"\",E6115,IF(D6116=\"\",E6115,D6116/MAX($D$8:D6116)-1)))","v":""}]
[null,null,null,null,{"$f":"IF(A6117=\"\",\"\",IF(B6117=\"\",E6116,IF(D6117=\"\",E6116,D6117/MAX($D$8:D6117)-1)))","v":""}]
[null,null,null,null,{"$f":"IF(A6118=\"\",\"\",IF(B6118=\"\",E6117,IF(D6118=\"\",E6117,D6118/MAX($D$8:D6118)-1)))","v":""}]
[null,null,null,null,{"$f":"IF(A6119=\"\",\"\",IF(B6119=\"\",E6118,IF(D6119=\"\",E6118,D6119/MAX($D$8:D6119)-1)))","v":""}]
[null,null,null,null,{"$f":"IF(A6120=\"\",\"\",IF(B6120=\"\",E6119,IF(D6120=\"\",E6119,D6120/MAX($D$8:D6120)-1)))","v":""}]
[null,null,null,null,{"$f":"IF(A6121=\"\",\"\",IF(B6121=\"\",E6120,IF(D6121=\"\",E6120,D6121/MAX($D$8:D6121)-1)))","v":""}]
[null,null,null,null,{"$f":"IF(A6122=\"\",\"\",IF(B6122=\"\",E6121,IF(D6122=\"\",E6121,D6122/MAX($D$8:D6122)-1)))","v":""}]
[null,null,null,null,{"$f":"IF(A6123=\"\",\"\",IF(B6123=\"\",E6122,IF(D6123=\"\",E6122,D6123/MAX($D$8:D6123)-1)))","v":""}]
[null,null,null,null,{"$f":"IF(A6124=\"\",\"\",IF(B6124=\"\",E6123,IF(D6124=\"\",E6123,D6124/MAX($D$8:D6124)-1)))","v":""}]
[null,null,null,null,{"$f":"IF(A6125=\"\",\"\",IF(B6125=\"\",E6124,IF(D6125=\"\",E6124,D6125/MAX($D$8:D6125)-1)))","v":""}]
[null,null,null,null,{"$f":"IF(A6126=\"\",\"\",IF(B6126=\"\",E6125,IF(D6126=\"\",E6125,D6126/MAX($D$8:D6126)-1)))","v":""}]
[null,null,null,null,{"$f":"IF(A6127=\"\",\"\",IF(B6127=\"\",E6126,IF(D6127=\"\",E6126,D6127/MAX($D$8:D6127)-1)))","v":""}]
[null,null,null,null,{"$f":"IF(A6128=\"\",\"\",IF(B6128=\"\",E6127,IF(D6128=\"\",E6127,D6128/MAX($D$8:D6128)-1)))","v":""}]
[null,null,null,null,{"$f":"IF(A6129=\"\",\"\",IF(B6129=\"\",E6128,IF(D6129=\"\",E6128,D6129/MAX($D$8:D6129)-1)))","v":""}]
[null,null,null,null,{"$f":"IF(A6130=\"\",\"\",IF(B6130=\"\",E6129,IF(D6130=\"\",E6129,D6130/MAX($D$8:D6130)-1)))","v":""}]
[null,null,null,null,{"$f":"IF(A6131=\"\",\"\",IF(B6131=\"\",E6130,IF(D6131=\"\",E6130,D6131/MAX($D$8:D6131)-1)))","v":""}]
[null,null,null,null,{"$f":"IF(A6132=\"\",\"\",IF(B6132=\"\",E6131,IF(D6132=\"\",E6131,D6132/MAX($D$8:D6132)-1)))","v":""}]
[null,null,null,null,{"$f":"IF(A6133=\"\",\"\",IF(B6133=\"\",E6132,IF(D6133=\"\",E6132,D6133/MAX($D$8:D6133)-1)))","v":""}]
[null,null,null,null,{"$f":"IF(A6134=\"\",\"\",IF(B6134=\"\",E6133,IF(D6134=\"\",E6133,D6134/MAX($D$8:D6134)-1)))","v":""}]
[null,null,null,null,{"$f":"IF(A6135=\"\",\"\",IF(B6135=\"\",E6134,IF(D6135=\"\",E6134,D6135/MAX($D$8:D6135)-1)))","v":""}]
[null,null,null,null,{"$f":"IF(A6136=\"\",\"\",IF(B6136=\"\",E6135,IF(D6136=\"\",E6135,D6136/MAX($D$8:D6136)-1)))","v":""}]
[null,null,null,null,{"$f":"IF(A6137=\"\",\"\",IF(B6137=\"\",E6136,IF(D6137=\"\",E6136,D6137/MAX($D$8:D6137)-1)))","v":""}]
[null,null,null,null,{"$f":"IF(A6138=\"\",\"\",IF(B6138=\"\",E6137,IF(D6138=\"\",E6137,D6138/MAX($D$8:D6138)-1)))","v":""}]
[null,null,null,null,{"$f":"IF(A6139=\"\",\"\",IF(B6139=\"\",E6138,IF(D6139=\"\",E6138,D6139/MAX($D$8:D6139)-1)))","v":""}]
[null,null,null,null,{"$f":"IF(A6140=\"\",\"\",IF(B6140=\"\",E6139,IF(D6140=\"\",E6139,D6140/MAX($D$8:D6140)-1)))","v":""}]
[null,null,null,null,{"$f":"IF(A6141=\"\",\"\",IF(B6141=\"\",E6140,IF(D6141=\"\",E6140,D6141/MAX($D$8:D6141)-1)))","v":""}]
[null,null,null,null,{"$f":"IF(A6142=\"\",\"\",IF(B6142=\"\",E6141,IF(D6142=\"\",E6141,D6142/MAX($D$8:D6142)-1)))","v":""}]
[null,null,null,null,{"$f":"IF(A6143=\"\",\"\",IF(B6143=\"\",E6142,IF(D6143=\"\",E6142,D6143/MAX($D$8:D6143)-1)))","v":""}]
[null,null,null,null,{"$f":"IF(A6144=\"\",\"\",IF(B6144=\"\",E6143,IF(D6144=\"\",E6143,D6144/MAX($D$8:D6144)-1)))","v":""}]
[null,null,null,null,{"$f":"IF(A6145=\"\",\"\",IF(B6145=\"\",E6144,IF(D6145=\"\",E6144,D6145/MAX($D$8:D6145)-1)))","v":""}]
[null,null,null,null,{"$f":"IF(A6146=\"\",\"\",IF(B6146=\"\",E6145,IF(D6146=\"\",E6145,D6146/MAX($D$8:D6146)-1)))","v":""}]
[null,null,null,null,{"$f":"IF(A6147=\"\",\"\",IF(B6147=\"\",E6146,IF(D6147=\"\",E6146,D6147/MAX($D$8:D6147)-1)))","v":""}]
[null,null,null,null,{"$f":"IF(A6148=\"\",\"\",IF(B6148=\"\",E6147,IF(D6148=\"\",E6147,D6148/MAX($D$8:D6148)-1)))","v":""}]
[null,null,null,null,{"$f":"IF(A6149=\"\",\"\",IF(B6149=\"\",E6148,IF(D6149=\"\",E6148,D6149/MAX($D$8:D6149)-1)))","v":""}]
[null,null,null,null,{"$f":"IF(A6150=\"\",\"\",IF(B6150=\"\",E6149,IF(D6150=\"\",E6149,D6150/MAX($D$8:D6150)-1)))","v":""}]
[null,null,null,null,{"$f":"IF(A6151=\"\",\"\",IF(B6151=\"\",E6150,IF(D6151=\"\",E6150,D6151/MAX($D$8:D6151)-1)))","v":""}]
[null,null,null,null,{"$f":"IF(A6152=\"\",\"\",IF(B6152=\"\",E6151,IF(D6152=\"\",E6151,D6152/MAX($D$8:D6152)-1)))","v":""}]
[null,null,null,null,{"$f":"IF(A6153=\"\",\"\",IF(B6153=\"\",E6152,IF(D6153=\"\",E6152,D6153/MAX($D$8:D6153)-1)))","v":""}]
[null,null,null,null,{"$f":"IF(A6154=\"\",\"\",IF(B6154=\"\",E6153,IF(D6154=\"\",E6153,D6154/MAX($D$8:D6154)-1)))","v":""}]
[null,null,null,null,{"$f":"IF(A6155=\"\",\"\",IF(B6155=\"\",E6154,IF(D6155=\"\",E6154,D6155/MAX($D$8:D6155)-1)))","v":""}]
[null,null,null,null,{"$f":"IF(A6156=\"\",\"\",IF(B6156=\"\",E6155,IF(D6156=\"\",E6155,D6156/MAX($D$8:D6156)-1)))","v":""}]
[null,null,null,null,{"$f":"IF(A6157=\"\",\"\",IF(B6157=\"\",E6156,IF(D6157=\"\",E6156,D6157/MAX($D$8:D6157)-1)))","v":""}]
[null,null,null,null,{"$f":"IF(A6158=\"\",\"\",IF(B6158=\"\",E6157,IF(D6158=\"\",E6157,D6158/MAX($D$8:D6158)-1)))","v":""}]
[null,null,null,null,{"$f":"IF(A6159=\"\",\"\",IF(B6159=\"\",E6158,IF(D6159=\"\",E6158,D6159/MAX($D$8:D6159)-1)))","v":""}]
[null,null,null,null,{"$f":"IF(A6160=\"\",\"\",IF(B6160=\"\",E6159,IF(D6160=\"\",E6159,D6160/MAX($D$8:D6160)-1)))","v":""}]
[null,null,null,null,{"$f":"IF(A6161=\"\",\"\",IF(B6161=\"\",E6160,IF(D6161=\"\",E6160,D6161/MAX($D$8:D6161)-1)))","v":""}]
[null,null,null,null,{"$f":"IF(A6162=\"\",\"\",IF(B6162=\"\",E6161,IF(D6162=\"\",E6161,D6162/MAX($D$8:D6162)-1)))","v":""}]
[null,null,null,null,{"$f":"IF(A6163=\"\",\"\",IF(B6163=\"\",E6162,IF(D6163=\"\",E6162,D6163/MAX($D$8:D6163)-1)))","v":""}]
[null,null,null,null,{"$f":"IF(A6164=\"\",\"\",IF(B6164=\"\",E6163,IF(D6164=\"\",E6163,D6164/MAX($D$8:D6164)-1)))","v":""}]
[null,null,null,null,{"$f":"IF(A6165=\"\",\"\",IF(B6165=\"\",E6164,IF(D6165=\"\",E6164,D6165/MAX($D$8:D6165)-1)))","v":""}]
[null,null,null,null,{"$f":"IF(A6166=\"\",\"\",IF(B6166=\"\",E6165,IF(D6166=\"\",E6165,D6166/MAX($D$8:D6166)-1)))","v":""}]
[null,null,null,null,{"$f":"IF(A6167=\"\",\"\",IF(B6167=\"\",E6166,IF(D6167=\"\",E6166,D6167/MAX($D$8:D6167)-1)))","v":""}]
[null,null,null,null,{"$f":"IF(A6168=\"\",\"\",IF(B6168=\"\",E6167,IF(D6168=\"\",E6167,D6168/MAX($D$8:D6168)-1)))","v":""}]
[null,null,null,null,{"$f":"IF(A6169=\"\",\"\",IF(B6169=\"\",E6168,IF(D6169=\"\",E6168,D6169/MAX($D$8:D6169)-1)))","v":""}]
[null,null,null,null,{"$f":"IF(A6170=\"\",\"\",IF(B6170=\"\",E6169,IF(D6170=\"\",E6169,D6170/MAX($D$8:D6170)-1)))","v":""}]
[null,null,null,null,{"$f":"IF(A6171=\"\",\"\",IF(B6171=\"\",E6170,IF(D6171=\"\",E6170,D6171/MAX($D$8:D6171)-1)))","v":""}]
[null,null,null,null,{"$f":"IF(A6172=\"\",\"\",IF(B6172=\"\",E6171,IF(D6172=\"\",E6171,D6172/MAX($D$8:D6172)-1)))","v":""}]
[null,null,null,null,{"$f":"IF(A6173=\"\",\"\",IF(B6173=\"\",E6172,IF(D6173=\"\",E6172,D6173/MAX($D$8:D6173)-1)))","v":""}]
[null,null,null,null,{"$f":"IF(A6174=\"\",\"\",IF(B6174=\"\",E6173,IF(D6174=\"\",E6173,D6174/MAX($D$8:D6174)-1)))","v":""}]
[null,null,null,null,{"$f":"IF(A6175=\"\",\"\",IF(B6175=\"\",E6174,IF(D6175=\"\",E6174,D6175/MAX($D$8:D6175)-1)))","v":""}]
[null,null,null,null,{"$f":"IF(A6176=\"\",\"\",IF(B6176=\"\",E6175,IF(D6176=\"\",E6175,D6176/MAX($D$8:D6176)-1)))","v":""}]
[null,null,null,null,{"$f":"IF(A6177=\"\",\"\",IF(B6177=\"\",E6176,IF(D6177=\"\",E6176,D6177/MAX($D$8:D6177)-1)))","v":""}]
[null,null,null,null,{"$f":"IF(A6178=\"\",\"\",IF(B6178=\"\",E6177,IF(D6178=\"\",E6177,D6178/MAX($D$8:D6178)-1)))","v":""}]
[null,null,null,null,{"$f":"IF(A6179=\"\",\"\",IF(B6179=\"\",E6178,IF(D6179=\"\",E6178,D6179/MAX($D$8:D6179)-1)))","v":""}]
[null,null,null,null,{"$f":"IF(A6180=\"\",\"\",IF(B6180=\"\",E6179,IF(D6180=\"\",E6179,D6180/MAX($D$8:D6180)-1)))","v":""}]
[null,null,null,null,{"$f":"IF(A6181=\"\",\"\",IF(B6181=\"\",E6180,IF(D6181=\"\",E6180,D6181/MAX($D$8:D6181)-1)))","v":""}]
[null,null,null,null,{"$f":"IF(A6182=\"\",\"\",IF(B6182=\"\",E6181,IF(D6182=\"\",E6181,D6182/MAX($D$8:D6182)-1)))","v":""}]
[null,null,null,null,{"$f":"IF(A6183=\"\",\"\",IF(B6183=\"\",E6182,IF(D6183=\"\",E6182,D6183/MAX($D$8:D6183)-1)))","v":""}]
[null,null,null,null,{"$f":"IF(A6184=\"\",\"\",IF(B6184=\"\",E6183,IF(D6184=\"\",E6183,D6184/MAX($D$8:D6184)-1)))","v":""}]
[null,null,null,null,{"$f":"IF(A6185=\"\",\"\",IF(B6185=\"\",E6184,IF(D6185=\"\",E6184,D6185/MAX($D$8:D6185)-1)))","v":""}]
[null,null,null,null,{"$f":"IF(A6186=\"\",\"\",IF(B6186=\"\",E6185,IF(D6186=\"\",E6185,D6186/MAX($D$8:D6186)-1)))","v":""}]
[null,null,null,null,{"$f":"IF(A6187=\"\",\"\",IF(B6187=\"\",E6186,IF(D6187=\"\",E6186,D6187/MAX($D$8:D6187)-1)))","v":""}]
[null,null,null,null,{"$f":"IF(A6188=\"\",\"\",IF(B6188=\"\",E6187,IF(D6188=\"\",E6187,D6188/MAX($D$8:D6188)-1)))","v":""}]
[null,null,null,null,{"$f":"IF(A6189=\"\",\"\",IF(B6189=\"\",E6188,IF(D6189=\"\",E6188,D6189/MAX($D$8:D6189)-1)))","v":""}]
[null,null,null,null,{"$f":"IF(A6190=\"\",\"\",IF(B6190=\"\",E6189,IF(D6190=\"\",E6189,D6190/MAX($D$8:D6190)-1)))","v":""}]
[null,null,null,null,{"$f":"IF(A6191=\"\",\"\",IF(B6191=\"\",E6190,IF(D6191=\"\",E6190,D6191/MAX($D$8:D6191)-1)))","v":""}]
[null,null,null,null,{"$f":"IF(A6192=\"\",\"\",IF(B6192=\"\",E6191,IF(D6192=\"\",E6191,D6192/MAX($D$8:D6192)-1)))","v":""}]
[null,null,null,null,{"$f":"IF(A6193=\"\",\"\",IF(B6193=\"\",E6192,IF(D6193=\"\",E6192,D6193/MAX($D$8:D6193)-1)))","v":""}]
[null,null,null,null,{"$f":"IF(A6194=\"\",\"\",IF(B6194=\"\",E6193,IF(D6194=\"\",E6193,D6194/MAX($D$8:D6194)-1)))","v":""}]
[null,null,null,null,{"$f":"IF(A6195=\"\",\"\",IF(B6195=\"\",E6194,IF(D6195=\"\",E6194,D6195/MAX($D$8:D6195)-1)))","v":""}]
[null,null,null,null,{"$f":"IF(A6196=\"\",\"\",IF(B6196=\"\",E6195,IF(D6196=\"\",E6195,D6196/MAX($D$8:D6196)-1)))","v":""}]
[null,null,null,null,{"$f":"IF(A6197=\"\",\"\",IF(B6197=\"\",E6196,IF(D6197=\"\",E6196,D6197/MAX($D$8:D6197)-1)))","v":""}]
[null,null,null,null,{"$f":"IF(A6198=\"\",\"\",IF(B6198=\"\",E6197,IF(D6198=\"\",E6197,D6198/MAX($D$8:D6198)-1)))","v":""}]
[null,null,null,null,{"$f":"IF(A6199=\"\",\"\",IF(B6199=\"\",E6198,IF(D6199=\"\",E6198,D6199/MAX($D$8:D6199)-1)))","v":""}]
[null,null,null,null,{"$f":"IF(A6200=\"\",\"\",IF(B6200=\"\",E6199,IF(D6200=\"\",E6199,D6200/MAX($D$8:D6200)-1)))","v":""}]
[null,null,null,null,{"$f":"IF(A6201=\"\",\"\",IF(B6201=\"\",E6200,IF(D6201=\"\",E6200,D6201/MAX($D$8:D6201)-1)))","v":""}]
[null,null,null,null,{"$f":"IF(A6202=\"\",\"\",IF(B6202=\"\",E6201,IF(D6202=\"\",E6201,D6202/MAX($D$8:D6202)-1)))","v":""}]
[null,null,null,null,{"$f":"IF(A6203=\"\",\"\",IF(B6203=\"\",E6202,IF(D6203=\"\",E6202,D6203/MAX($D$8:D6203)-1)))","v":""}]
[null,null,null,null,{"$f":"IF(A6204=\"\",\"\",IF(B6204=\"\",E6203,IF(D6204=\"\",E6203,D6204/MAX($D$8:D6204)-1)))","v":""}]
[null,null,null,null,{"$f":"IF(A6205=\"\",\"\",IF(B6205=\"\",E6204,IF(D6205=\"\",E6204,D6205/MAX($D$8:D6205)-1)))","v":""}]
[null,null,null,null,{"$f":"IF(A6206=\"\",\"\",IF(B6206=\"\",E6205,IF(D6206=\"\",E6205,D6206/MAX($D$8:D6206)-1)))","v":""}]
[null,null,null,null,{"$f":"IF(A6207=\"\",\"\",IF(B6207=\"\",E6206,IF(D6207=\"\",E6206,D6207/MAX($D$8:D6207)-1)))","v":""}]
[null,null,null,null,{"$f":"IF(A6208=\"\",\"\",IF(B6208=\"\",E6207,IF(D6208=\"\",E6207,D6208/MAX($D$8:D6208)-1)))","v":""}]
[null,null,null,null,{"$f":"IF(A6209=\"\",\"\",IF(B6209=\"\",E6208,IF(D6209=\"\",E6208,D6209/MAX($D$8:D6209)-1)))","v":""}]
[null,null,null,null,{"$f":"IF(A6210=\"\",\"\",IF(B6210=\"\",E6209,IF(D6210=\"\",E6209,D6210/MAX($D$8:D6210)-1)))","v":""}]
[null,null,null,null,{"$f":"IF(A6211=\"\",\"\",IF(B6211=\"\",E6210,IF(D6211=\"\",E6210,D6211/MAX($D$8:D6211)-1)))","v":""}]
[null,null,null,null,{"$f":"IF(A6212=\"\",\"\",IF(B6212=\"\",E6211,IF(D6212=\"\",E6211,D6212/MAX($D$8:D6212)-1)))","v":""}]
[null,null,null,null,{"$f":"IF(A6213=\"\",\"\",IF(B6213=\"\",E6212,IF(D6213=\"\",E6212,D6213/MAX($D$8:D6213)-1)))","v":""}]
[null,null,null,null,{"$f":"IF(A6214=\"\",\"\",IF(B6214=\"\",E6213,IF(D6214=\"\",E6213,D6214/MAX($D$8:D6214)-1)))","v":""}]
[null,null,null,null,{"$f":"IF(A6215=\"\",\"\",IF(B6215=\"\",E6214,IF(D6215=\"\",E6214,D6215/MAX($D$8:D6215)-1)))","v":""}]
[null,null,null,null,{"$f":"IF(A6216=\"\",\"\",IF(B6216=\"\",E6215,IF(D6216=\"\",E6215,D6216/MAX($D$8:D6216)-1)))","v":""}]
[null,null,null,null,{"$f":"IF(A6217=\"\",\"\",IF(B6217=\"\",E6216,IF(D6217=\"\",E6216,D6217/MAX($D$8:D6217)-1)))","v":""}]
[null,null,null,null,{"$f":"IF(A6218=\"\",\"\",IF(B6218=\"\",E6217,IF(D6218=\"\",E6217,D6218/MAX($D$8:D6218)-1)))","v":""}]
[null,null,null,null,{"$f":"IF(A6219=\"\",\"\",IF(B6219=\"\",E6218,IF(D6219=\"\",E6218,D6219/MAX($D$8:D6219)-1)))","v":""}]
[null,null,null,null,{"$f":"IF(A6220=\"\",\"\",IF(B6220=\"\",E6219,IF(D6220=\"\",E6219,D6220/MAX($D$8:D6220)-1)))","v":""}]
[null,null,null,null,{"$f":"IF(A6221=\"\",\"\",IF(B6221=\"\",E6220,IF(D6221=\"\",E6220,D6221/MAX($D$8:D6221)-1)))","v":""}]
[null,null,null,null,{"$f":"IF(A6222=\"\",\"\",IF(B6222=\"\",E6221,IF(D6222=\"\",E6221,D6222/MAX($D$8:D6222)-1)))","v":""}]
[null,null,null,null,{"$f":"IF(A6223=\"\",\"\",IF(B6223=\"\",E6222,IF(D6223=\"\",E6222,D6223/MAX($D$8:D6223)-1)))","v":""}]
[null,null,null,null,{"$f":"IF(A6224=\"\",\"\",IF(B6224=\"\",E6223,IF(D6224=\"\",E6223,D6224/MAX($D$8:D6224)-1)))","v":""}]
[null,null,null,null,{"$f":"IF(A6225=\"\",\"\",IF(B6225=\"\",E6224,IF(D6225=\"\",E6224,D6225/MAX($D$8:D6225)-1)))","v":""}]
[null,null,null,null,{"$f":"IF(A6226=\"\",\"\",IF(B6226=\"\",E6225,IF(D6226=\"\",E6225,D6226/MAX($D$8:D6226)-1)))","v":""}]
[null,null,null,null,{"$f":"IF(A6227=\"\",\"\",IF(B6227=\"\",E6226,IF(D6227=\"\",E6226,D6227/MAX($D$8:D6227)-1)))","v":""}]
[null,null,null,null,{"$f":"IF(A6228=\"\",\"\",IF(B6228=\"\",E6227,IF(D6228=\"\",E6227,D6228/MAX($D$8:D6228)-1)))","v":""}]
[null,null,null,null,{"$f":"IF(A6229=\"\",\"\",IF(B6229=\"\",E6228,IF(D6229=\"\",E6228,D6229/MAX($D$8:D6229)-1)))","v":""}]
[null,null,null,null,{"$f":"IF(A6230=\"\",\"\",IF(B6230=\"\",E6229,IF(D6230=\"\",E6229,D6230/MAX($D$8:D6230)-1)))","v":""}]
[null,null,null,null,{"$f":"IF(A6231=\"\",\"\",IF(B6231=\"\",E6230,IF(D6231=\"\",E6230,D6231/MAX($D$8:D6231)-1)))","v":""}]
[null,null,null,null,{"$f":"IF(A6232=\"\",\"\",IF(B6232=\"\",E6231,IF(D6232=\"\",E6231,D6232/MAX($D$8:D6232)-1)))","v":""}]
[null,null,null,null,{"$f":"IF(A6233=\"\",\"\",IF(B6233=\"\",E6232,IF(D6233=\"\",E6232,D6233/MAX($D$8:D6233)-1)))","v":""}]
[null,null,null,null,{"$f":"IF(A6234=\"\",\"\",IF(B6234=\"\",E6233,IF(D6234=\"\",E6233,D6234/MAX($D$8:D6234)-1)))","v":""}]
[null,null,null,null,{"$f":"IF(A6235=\"\",\"\",IF(B6235=\"\",E6234,IF(D6235=\"\",E6234,D6235/MAX($D$8:D6235)-1)))","v":""}]
[null,null,null,null,{"$f":"IF(A6236=\"\",\"\",IF(B6236=\"\",E6235,IF(D6236=\"\",E6235,D6236/MAX($D$8:D6236)-1)))","v":""}]
[null,null,null,null,{"$f":"IF(A6237=\"\",\"\",IF(B6237=\"\",E6236,IF(D6237=\"\",E6236,D6237/MAX($D$8:D6237)-1)))","v":""}]
[null,null,null,null,{"$f":"IF(A6238=\"\",\"\",IF(B6238=\"\",E6237,IF(D6238=\"\",E6237,D6238/MAX($D$8:D6238)-1)))","v":""}]
[null,null,null,null,{"$f":"IF(A6239=\"\",\"\",IF(B6239=\"\",E6238,IF(D6239=\"\",E6238,D6239/MAX($D$8:D6239)-1)))","v":""}]
[null,null,null,null,{"$f":"IF(A6240=\"\",\"\",IF(B6240=\"\",E6239,IF(D6240=\"\",E6239,D6240/MAX($D$8:D6240)-1)))","v":""}]
[null,null,null,null,{"$f":"IF(A6241=\"\",\"\",IF(B6241=\"\",E6240,IF(D6241=\"\",E6240,D6241/MAX($D$8:D6241)-1)))","v":""}]
[null,null,null,null,{"$f":"IF(A6242=\"\",\"\",IF(B6242=\"\",E6241,IF(D6242=\"\",E6241,D6242/MAX($D$8:D6242)-1)))","v":""}]
[null,null,null,null,{"$f":"IF(A6243=\"\",\"\",IF(B6243=\"\",E6242,IF(D6243=\"\",E6242,D6243/MAX($D$8:D6243)-1)))","v":""}]
[null,null,null,null,{"$f":"IF(A6244=\"\",\"\",IF(B6244=\"\",E6243,IF(D6244=\"\",E6243,D6244/MAX($D$8:D6244)-1)))","v":""}]
[null,null,null,null,{"$f":"IF(A6245=\"\",\"\",IF(B6245=\"\",E6244,IF(D6245=\"\",E6244,D6245/MAX($D$8:D6245)-1)))","v":""}]
[null,null,null,null,{"$f":"IF(A6246=\"\",\"\",IF(B6246=\"\",E6245,IF(D6246=\"\",E6245,D6246/MAX($D$8:D6246)-1)))","v":""}]
[null,null,null,null,{"$f":"IF(A6247=\"\",\"\",IF(B6247=\"\",E6246,IF(D6247=\"\",E6246,D6247/MAX($D$8:D6247)-1)))","v":""}]
[null,null,null,null,{"$f":"IF(A6248=\"\",\"\",IF(B6248=\"\",E6247,IF(D6248=\"\",E6247,D6248/MAX($D$8:D6248)-1)))","v":""}]
[null,null,null,null,{"$f":"IF(A6249=\"\",\"\",IF(B6249=\"\",E6248,IF(D6249=\"\",E6248,D6249/MAX($D$8:D6249)-1)))","v":""}]
[null,null,null,null,{"$f":"IF(A6250=\"\",\"\",IF(B6250=\"\",E6249,IF(D6250=\"\",E6249,D6250/MAX($D$8:D6250)-1)))","v":""}]
[null,null,null,null,{"$f":"IF(A6251=\"\",\"\",IF(B6251=\"\",E6250,IF(D6251=\"\",E6250,D6251/MAX($D$8:D6251)-1)))","v":""}]
[null,null,null,null,{"$f":"IF(A6252=\"\",\"\",IF(B6252=\"\",E6251,IF(D6252=\"\",E6251,D6252/MAX($D$8:D6252)-1)))","v":""}]
[null,null,null,null,{"$f":"IF(A6253=\"\",\"\",IF(B6253=\"\",E6252,IF(D6253=\"\",E6252,D6253/MAX($D$8:D6253)-1)))","v":""}]
[null,null,null,null,{"$f":"IF(A6254=\"\",\"\",IF(B6254=\"\",E6253,IF(D6254=\"\",E6253,D6254/MAX($D$8:D6254)-1)))","v":""}]
[null,null,null,null,{"$f":"IF(A6255=\"\",\"\",IF(B6255=\"\",E6254,IF(D6255=\"\",E6254,D6255/MAX($D$8:D6255)-1)))","v":""}]
[null,null,null,null,{"$f":"IF(A6256=\"\",\"\",IF(B6256=\"\",E6255,IF(D6256=\"\",E6255,D6256/MAX($D$8:D6256)-1)))","v":""}]
[null,null,null,null,{"$f":"IF(A6257=\"\",\"\",IF(B6257=\"\",E6256,IF(D6257=\"\",E6256,D6257/MAX($D$8:D6257)-1)))","v":""}]
[null,null,null,null,{"$f":"IF(A6258=\"\",\"\",IF(B6258=\"\",E6257,IF(D6258=\"\",E6257,D6258/MAX($D$8:D6258)-1)))","v":""}]
[null,null,null,null,{"$f":"IF(A6259=\"\",\"\",IF(B6259=\"\",E6258,IF(D6259=\"\",E6258,D6259/MAX($D$8:D6259)-1)))","v":""}]
[null,null,null,null,{"$f":"IF(A6260=\"\",\"\",IF(B6260=\"\",E6259,IF(D6260=\"\",E6259,D6260/MAX($D$8:D6260)-1)))","v":""}]
[null,null,null,null,{"$f":"IF(A6261=\"\",\"\",IF(B6261=\"\",E6260,IF(D6261=\"\",E6260,D6261/MAX($D$8:D6261)-1)))","v":""}]
[null,null,null,null,{"$f":"IF(A6262=\"\",\"\",IF(B6262=\"\",E6261,IF(D6262=\"\",E6261,D6262/MAX($D$8:D6262)-1)))","v":""}]
[null,null,null,null,{"$f":"IF(A6263=\"\",\"\",IF(B6263=\"\",E6262,IF(D6263=\"\",E6262,D6263/MAX($D$8:D6263)-1)))","v":""}]
[null,null,null,null,{"$f":"IF(A6264=\"\",\"\",IF(B6264=\"\",E6263,IF(D6264=\"\",E6263,D6264/MAX($D$8:D6264)-1)))","v":""}]
[null,null,null,null,{"$f":"IF(A6265=\"\",\"\",IF(B6265=\"\",E6264,IF(D6265=\"\",E6264,D6265/MAX($D$8:D6265)-1)))","v":""}]
[null,null,null,null,{"$f":"IF(A6266=\"\",\"\",IF(B6266=\"\",E6265,IF(D6266=\"\",E6265,D6266/MAX($D$8:D6266)-1)))","v":""}]
[null,null,null,null,{"$f":"IF(A6267=\"\",\"\",IF(B6267=\"\",E6266,IF(D6267=\"\",E6266,D6267/MAX($D$8:D6267)-1)))","v":""}]
[null,null,null,null,{"$f":"IF(A6268=\"\",\"\",IF(B6268=\"\",E6267,IF(D6268=\"\",E6267,D6268/MAX($D$8:D6268)-1)))","v":""}]
[null,null,null,null,{"$f":"IF(A6269=\"\",\"\",IF(B6269=\"\",E6268,IF(D6269=\"\",E6268,D6269/MAX($D$8:D6269)-1)))","v":""}]
[null,null,null,null,{"$f":"IF(A6270=\"\",\"\",IF(B6270=\"\",E6269,IF(D6270=\"\",E6269,D6270/MAX($D$8:D6270)-1)))","v":""}]
[null,null,null,null,{"$f":"IF(A6271=\"\",\"\",IF(B6271=\"\",E6270,IF(D6271=\"\",E6270,D6271/MAX($D$8:D6271)-1)))","v":""}]
[null,null,null,null,{"$f":"IF(A6272=\"\",\"\",IF(B6272=\"\",E6271,IF(D6272=\"\",E6271,D6272/MAX($D$8:D6272)-1)))","v":""}]
[null,null,null,null,{"$f":"IF(A6273=\"\",\"\",IF(B6273=\"\",E6272,IF(D6273=\"\",E6272,D6273/MAX($D$8:D6273)-1)))","v":""}]
[null,null,null,null,{"$f":"IF(A6274=\"\",\"\",IF(B6274=\"\",E6273,IF(D6274=\"\",E6273,D6274/MAX($D$8:D6274)-1)))","v":""}]
[null,null,null,null,{"$f":"IF(A6275=\"\",\"\",IF(B6275=\"\",E6274,IF(D6275=\"\",E6274,D6275/MAX($D$8:D6275)-1)))","v":""}]
[null,null,null,null,{"$f":"IF(A6276=\"\",\"\",IF(B6276=\"\",E6275,IF(D6276=\"\",E6275,D6276/MAX($D$8:D6276)-1)))","v":""}]
[null,null,null,null,{"$f":"IF(A6277=\"\",\"\",IF(B6277=\"\",E6276,IF(D6277=\"\",E6276,D6277/MAX($D$8:D6277)-1)))","v":""}]
[null,null,null,null,{"$f":"IF(A6278=\"\",\"\",IF(B6278=\"\",E6277,IF(D6278=\"\",E6277,D6278/MAX($D$8:D6278)-1)))","v":""}]
[null,null,null,null,{"$f":"IF(A6279=\"\",\"\",IF(B6279=\"\",E6278,IF(D6279=\"\",E6278,D6279/MAX($D$8:D6279)-1)))","v":""}]
[null,null,null,null,{"$f":"IF(A6280=\"\",\"\",IF(B6280=\"\",E6279,IF(D6280=\"\",E6279,D6280/MAX($D$8:D6280)-1)))","v":""}]
[null,null,null,null,{"$f":"IF(A6281=\"\",\"\",IF(B6281=\"\",E6280,IF(D6281=\"\",E6280,D6281/MAX($D$8:D6281)-1)))","v":""}]
[null,null,null,null,{"$f":"IF(A6282=\"\",\"\",IF(B6282=\"\",E6281,IF(D6282=\"\",E6281,D6282/MAX($D$8:D6282)-1)))","v":""}]
[null,null,null,null,{"$f":"IF(A6283=\"\",\"\",IF(B6283=\"\",E6282,IF(D6283=\"\",E6282,D6283/MAX($D$8:D6283)-1)))","v":""}]
[null,null,null,null,{"$f":"IF(A6284=\"\",\"\",IF(B6284=\"\",E6283,IF(D6284=\"\",E6283,D6284/MAX($D$8:D6284)-1)))","v":""}]
[null,null,null,null,{"$f":"IF(A6285=\"\",\"\",IF(B6285=\"\",E6284,IF(D6285=\"\",E6284,D6285/MAX($D$8:D6285)-1)))","v":""}]
[null,null,null,null,{"$f":"IF(A6286=\"\",\"\",IF(B6286=\"\",E6285,IF(D6286=\"\",E6285,D6286/MAX($D$8:D6286)-1)))","v":""}]
[null,null,null,null,{"$f":"IF(A6287=\"\",\"\",IF(B6287=\"\",E6286,IF(D6287=\"\",E6286,D6287/MAX($D$8:D6287)-1)))","v":""}]
[null,null,null,null,{"$f":"IF(A6288=\"\",\"\",IF(B6288=\"\",E6287,IF(D6288=\"\",E6287,D6288/MAX($D$8:D6288)-1)))","v":""}]
[null,null,null,null,{"$f":"IF(A6289=\"\",\"\",IF(B6289=\"\",E6288,IF(D6289=\"\",E6288,D6289/MAX($D$8:D6289)-1)))","v":""}]
[null,null,null,null,{"$f":"IF(A6290=\"\",\"\",IF(B6290=\"\",E6289,IF(D6290=\"\",E6289,D6290/MAX($D$8:D6290)-1)))","v":""}]
[null,null,null,null,{"$f":"IF(A6291=\"\",\"\",IF(B6291=\"\",E6290,IF(D6291=\"\",E6290,D6291/MAX($D$8:D6291)-1)))","v":""}]
[null,null,null,null,{"$f":"IF(A6292=\"\",\"\",IF(B6292=\"\",E6291,IF(D6292=\"\",E6291,D6292/MAX($D$8:D6292)-1)))","v":""}]
[null,null,null,null,{"$f":"IF(A6293=\"\",\"\",IF(B6293=\"\",E6292,IF(D6293=\"\",E6292,D6293/MAX($D$8:D6293)-1)))","v":""}]
[null,null,null,null,{"$f":"IF(A6294=\"\",\"\",IF(B6294=\"\",E6293,IF(D6294=\"\",E6293,D6294/MAX($D$8:D6294)-1)))","v":""}]
[null,null,null,null,{"$f":"IF(A6295=\"\",\"\",IF(B6295=\"\",E6294,IF(D6295=\"\",E6294,D6295/MAX($D$8:D6295)-1)))","v":""}]
[null,null,null,null,{"$f":"IF(A6296=\"\",\"\",IF(B6296=\"\",E6295,IF(D6296=\"\",E6295,D6296/MAX($D$8:D6296)-1)))","v":""}]
[null,null,null,null,{"$f":"IF(A6297=\"\",\"\",IF(B6297=\"\",E6296,IF(D6297=\"\",E6296,D6297/MAX($D$8:D6297)-1)))","v":""}]
[null,null,null,null,{"$f":"IF(A6298=\"\",\"\",IF(B6298=\"\",E6297,IF(D6298=\"\",E6297,D6298/MAX($D$8:D6298)-1)))","v":""}]
[null,null,null,null,{"$f":"IF(A6299=\"\",\"\",IF(B6299=\"\",E6298,IF(D6299=\"\",E6298,D6299/MAX($D$8:D6299)-1)))","v":""}]
[null,null,null,null,{"$f":"IF(A6300=\"\",\"\",IF(B6300=\"\",E6299,IF(D6300=\"\",E6299,D6300/MAX($D$8:D6300)-1)))","v":""}]
[null,null,null,null,{"$f":"IF(A6301=\"\",\"\",IF(B6301=\"\",E6300,IF(D6301=\"\",E6300,D6301/MAX($D$8:D6301)-1)))","v":""}]
[null,null,null,null,{"$f":"IF(A6302=\"\",\"\",IF(B6302=\"\",E6301,IF(D6302=\"\",E6301,D6302/MAX($D$8:D6302)-1)))","v":""}]
[null,null,null,null,{"$f":"IF(A6303=\"\",\"\",IF(B6303=\"\",E6302,IF(D6303=\"\",E6302,D6303/MAX($D$8:D6303)-1)))","v":""}]
[null,null,null,null,{"$f":"IF(A6304=\"\",\"\",IF(B6304=\"\",E6303,IF(D6304=\"\",E6303,D6304/MAX($D$8:D6304)-1)))","v":""}]
[null,null,null,null,{"$f":"IF(A6305=\"\",\"\",IF(B6305=\"\",E6304,IF(D6305=\"\",E6304,D6305/MAX($D$8:D6305)-1)))","v":""}]
[null,null,null,null,{"$f":"IF(A6306=\"\",\"\",IF(B6306=\"\",E6305,IF(D6306=\"\",E6305,D6306/MAX($D$8:D6306)-1)))","v":""}]
[null,null,null,null,{"$f":"IF(A6307=\"\",\"\",IF(B6307=\"\",E6306,IF(D6307=\"\",E6306,D6307/MAX($D$8:D6307)-1)))","v":""}]
[null,null,null,null,{"$f":"IF(A6308=\"\",\"\",IF(B6308=\"\",E6307,IF(D6308=\"\",E6307,D6308/MAX($D$8:D6308)-1)))","v":""}]
[null,null,null,null,{"$f":"IF(A6309=\"\",\"\",IF(B6309=\"\",E6308,IF(D6309=\"\",E6308,D6309/MAX($D$8:D6309)-1)))","v":""}]
[null,null,null,null,{"$f":"IF(A6310=\"\",\"\",IF(B6310=\"\",E6309,IF(D6310=\"\",E6309,D6310/MAX($D$8:D6310)-1)))","v":""}]
[null,null,null,null,{"$f":"IF(A6311=\"\",\"\",IF(B6311=\"\",E6310,IF(D6311=\"\",E6310,D6311/MAX($D$8:D6311)-1)))","v":""}]
[null,null,null,null,{"$f":"IF(A6312=\"\",\"\",IF(B6312=\"\",E6311,IF(D6312=\"\",E6311,D6312/MAX($D$8:D6312)-1)))","v":""}]
[null,null,null,null,{"$f":"IF(A6313=\"\",\"\",IF(B6313=\"\",E6312,IF(D6313=\"\",E6312,D6313/MAX($D$8:D6313)-1)))","v":""}]
[null,null,null,null,{"$f":"IF(A6314=\"\",\"\",IF(B6314=\"\",E6313,IF(D6314=\"\",E6313,D6314/MAX($D$8:D6314)-1)))","v":""}]
[null,null,null,null,{"$f":"IF(A6315=\"\",\"\",IF(B6315=\"\",E6314,IF(D6315=\"\",E6314,D6315/MAX($D$8:D6315)-1)))","v":""}]
[null,null,null,null,{"$f":"IF(A6316=\"\",\"\",IF(B6316=\"\",E6315,IF(D6316=\"\",E6315,D6316/MAX($D$8:D6316)-1)))","v":""}]
[null,null,null,null,{"$f":"IF(A6317=\"\",\"\",IF(B6317=\"\",E6316,IF(D6317=\"\",E6316,D6317/MAX($D$8:D6317)-1)))","v":""}]
[null,null,null,null,{"$f":"IF(A6318=\"\",\"\",IF(B6318=\"\",E6317,IF(D6318=\"\",E6317,D6318/MAX($D$8:D6318)-1)))","v":""}]
[null,null,null,null,{"$f":"IF(A6319=\"\",\"\",IF(B6319=\"\",E6318,IF(D6319=\"\",E6318,D6319/MAX($D$8:D6319)-1)))","v":""}]
[null,null,null,null,{"$f":"IF(A6320=\"\",\"\",IF(B6320=\"\",E6319,IF(D6320=\"\",E6319,D6320/MAX($D$8:D6320)-1)))","v":""}]
[null,null,null,null,{"$f":"IF(A6321=\"\",\"\",IF(B6321=\"\",E6320,IF(D6321=\"\",E6320,D6321/MAX($D$8:D6321)-1)))","v":""}]
[null,null,null,null,{"$f":"IF(A6322=\"\",\"\",IF(B6322=\"\",E6321,IF(D6322=\"\",E6321,D6322/MAX($D$8:D6322)-1)))","v":""}]
[null,null,null,null,{"$f":"IF(A6323=\"\",\"\",IF(B6323=\"\",E6322,IF(D6323=\"\",E6322,D6323/MAX($D$8:D6323)-1)))","v":""}]
[null,null,null,null,{"$f":"IF(A6324=\"\",\"\",IF(B6324=\"\",E6323,IF(D6324=\"\",E6323,D6324/MAX($D$8:D6324)-1)))","v":""}]
[null,null,null,null,{"$f":"IF(A6325=\"\",\"\",IF(B6325=\"\",E6324,IF(D6325=\"\",E6324,D6325/MAX($D$8:D6325)-1)))","v":""}]
[null,null,null,null,{"$f":"IF(A6326=\"\",\"\",IF(B6326=\"\",E6325,IF(D6326=\"\",E6325,D6326/MAX($D$8:D6326)-1)))","v":""}]
[null,null,null,null,{"$f":"IF(A6327=\"\",\"\",IF(B6327=\"\",E6326,IF(D6327=\"\",E6326,D6327/MAX($D$8:D6327)-1)))","v":""}]
[null,null,null,null,{"$f":"IF(A6328=\"\",\"\",IF(B6328=\"\",E6327,IF(D6328=\"\",E6327,D6328/MAX($D$8:D6328)-1)))","v":""}]
[null,null,null,null,{"$f":"IF(A6329=\"\",\"\",IF(B6329=\"\",E6328,IF(D6329=\"\",E6328,D6329/MAX($D$8:D6329)-1)))","v":""}]
[null,null,null,null,{"$f":"IF(A6330=\"\",\"\",IF(B6330=\"\",E6329,IF(D6330=\"\",E6329,D6330/MAX($D$8:D6330)-1)))","v":""}]
[null,null,null,null,{"$f":"IF(A6331=\"\",\"\",IF(B6331=\"\",E6330,IF(D6331=\"\",E6330,D6331/MAX($D$8:D6331)-1)))","v":""}]
[null,null,null,null,{"$f":"IF(A6332=\"\",\"\",IF(B6332=\"\",E6331,IF(D6332=\"\",E6331,D6332/MAX($D$8:D6332)-1)))","v":""}]
[null,null,null,null,{"$f":"IF(A6333=\"\",\"\",IF(B6333=\"\",E6332,IF(D6333=\"\",E6332,D6333/MAX($D$8:D6333)-1)))","v":""}]
[null,null,null,null,{"$f":"IF(A6334=\"\",\"\",IF(B6334=\"\",E6333,IF(D6334=\"\",E6333,D6334/MAX($D$8:D6334)-1)))","v":""}]
[null,null,null,null,{"$f":"IF(A6335=\"\",\"\",IF(B6335=\"\",E6334,IF(D6335=\"\",E6334,D6335/MAX($D$8:D6335)-1)))","v":""}]
[null,null,null,null,{"$f":"IF(A6336=\"\",\"\",IF(B6336=\"\",E6335,IF(D6336=\"\",E6335,D6336/MAX($D$8:D6336)-1)))","v":""}]
[null,null,null,null,{"$f":"IF(A6337=\"\",\"\",IF(B6337=\"\",E6336,IF(D6337=\"\",E6336,D6337/MAX($D$8:D6337)-1)))","v":""}]
[null,null,null,null,{"$f":"IF(A6338=\"\",\"\",IF(B6338=\"\",E6337,IF(D6338=\"\",E6337,D6338/MAX($D$8:D6338)-1)))","v":""}]
[null,null,null,null,{"$f":"IF(A6339=\"\",\"\",IF(B6339=\"\",E6338,IF(D6339=\"\",E6338,D6339/MAX($D$8:D6339)-1)))","v":""}]
[null,null,null,null,{"$f":"IF(A6340=\"\",\"\",IF(B6340=\"\",E6339,IF(D6340=\"\",E6339,D6340/MAX($D$8:D6340)-1)))","v":""}]
[null,null,null,null,{"$f":"IF(A6341=\"\",\"\",IF(B6341=\"\",E6340,IF(D6341=\"\",E6340,D6341/MAX($D$8:D6341)-1)))","v":""}]
[null,null,null,null,{"$f":"IF(A6342=\"\",\"\",IF(B6342=\"\",E6341,IF(D6342=\"\",E6341,D6342/MAX($D$8:D6342)-1)))","v":""}]
[null,null,null,null,{"$f":"IF(A6343=\"\",\"\",IF(B6343=\"\",E6342,IF(D6343=\"\",E6342,D6343/MAX($D$8:D6343)-1)))","v":""}]
[null,null,null,null,{"$f":"IF(A6344=\"\",\"\",IF(B6344=\"\",E6343,IF(D6344=\"\",E6343,D6344/MAX($D$8:D6344)-1)))","v":""}]
[null,null,null,null,{"$f":"IF(A6345=\"\",\"\",IF(B6345=\"\",E6344,IF(D6345=\"\",E6344,D6345/MAX($D$8:D6345)-1)))","v":""}]
[null,null,null,null,{"$f":"IF(A6346=\"\",\"\",IF(B6346=\"\",E6345,IF(D6346=\"\",E6345,D6346/MAX($D$8:D6346)-1)))","v":""}]
[null,null,null,null,{"$f":"IF(A6347=\"\",\"\",IF(B6347=\"\",E6346,IF(D6347=\"\",E6346,D6347/MAX($D$8:D6347)-1)))","v":""}]
[null,null,null,null,{"$f":"IF(A6348=\"\",\"\",IF(B6348=\"\",E6347,IF(D6348=\"\",E6347,D6348/MAX($D$8:D6348)-1)))","v":""}]
[null,null,null,null,{"$f":"IF(A6349=\"\",\"\",IF(B6349=\"\",E6348,IF(D6349=\"\",E6348,D6349/MAX($D$8:D6349)-1)))","v":""}]
[null,null,null,null,{"$f":"IF(A6350=\"\",\"\",IF(B6350=\"\",E6349,IF(D6350=\"\",E6349,D6350/MAX($D$8:D6350)-1)))","v":""}]
[null,null,null,null,{"$f":"IF(A6351=\"\",\"\",IF(B6351=\"\",E6350,IF(D6351=\"\",E6350,D6351/MAX($D$8:D6351)-1)))","v":""}]
[null,null,null,null,{"$f":"IF(A6352=\"\",\"\",IF(B6352=\"\",E6351,IF(D6352=\"\",E6351,D6352/MAX($D$8:D6352)-1)))","v":""}]
[null,null,null,null,{"$f":"IF(A6353=\"\",\"\",IF(B6353=\"\",E6352,IF(D6353=\"\",E6352,D6353/MAX($D$8:D6353)-1)))","v":""}]
[null,null,null,null,{"$f":"IF(A6354=\"\",\"\",IF(B6354=\"\",E6353,IF(D6354=\"\",E6353,D6354/MAX($D$8:D6354)-1)))","v":""}]
[null,null,null,null,{"$f":"IF(A6355=\"\",\"\",IF(B6355=\"\",E6354,IF(D6355=\"\",E6354,D6355/MAX($D$8:D6355)-1)))","v":""}]
[null,null,null,null,{"$f":"IF(A6356=\"\",\"\",IF(B6356=\"\",E6355,IF(D6356=\"\",E6355,D6356/MAX($D$8:D6356)-1)))","v":""}]
[null,null,null,null,{"$f":"IF(A6357=\"\",\"\",IF(B6357=\"\",E6356,IF(D6357=\"\",E6356,D6357/MAX($D$8:D6357)-1)))","v":""}]
[null,null,null,null,{"$f":"IF(A6358=\"\",\"\",IF(B6358=\"\",E6357,IF(D6358=\"\",E6357,D6358/MAX($D$8:D6358)-1)))","v":""}]
[null,null,null,null,{"$f":"IF(A6359=\"\",\"\",IF(B6359=\"\",E6358,IF(D6359=\"\",E6358,D6359/MAX($D$8:D6359)-1)))","v":""}]
[null,null,null,null,{"$f":"IF(A6360=\"\",\"\",IF(B6360=\"\",E6359,IF(D6360=\"\",E6359,D6360/MAX($D$8:D6360)-1)))","v":""}]
[null,null,null,null,{"$f":"IF(A6361=\"\",\"\",IF(B6361=\"\",E6360,IF(D6361=\"\",E6360,D6361/MAX($D$8:D6361)-1)))","v":""}]
[null,null,null,null,{"$f":"IF(A6362=\"\",\"\",IF(B6362=\"\",E6361,IF(D6362=\"\",E6361,D6362/MAX($D$8:D6362)-1)))","v":""}]
[null,null,null,null,{"$f":"IF(A6363=\"\",\"\",IF(B6363=\"\",E6362,IF(D6363=\"\",E6362,D6363/MAX($D$8:D6363)-1)))","v":""}]
[null,null,null,null,{"$f":"IF(A6364=\"\",\"\",IF(B6364=\"\",E6363,IF(D6364=\"\",E6363,D6364/MAX($D$8:D6364)-1)))","v":""}]
[null,null,null,null,{"$f":"IF(A6365=\"\",\"\",IF(B6365=\"\",E6364,IF(D6365=\"\",E6364,D6365/MAX($D$8:D6365)-1)))","v":""}]
[null,null,null,null,{"$f":"IF(A6366=\"\",\"\",IF(B6366=\"\",E6365,IF(D6366=\"\",E6365,D6366/MAX($D$8:D6366)-1)))","v":""}]
[null,null,null,null,{"$f":"IF(A6367=\"\",\"\",IF(B6367=\"\",E6366,IF(D6367=\"\",E6366,D6367/MAX($D$8:D6367)-1)))","v":""}]
[null,null,null,null,{"$f":"IF(A6368=\"\",\"\",IF(B6368=\"\",E6367,IF(D6368=\"\",E6367,D6368/MAX($D$8:D6368)-1)))","v":""}]
[null,null,null,null,{"$f":"IF(A6369=\"\",\"\",IF(B6369=\"\",E6368,IF(D6369=\"\",E6368,D6369/MAX($D$8:D6369)-1)))","v":""}]
[null,null,null,null,{"$f":"IF(A6370=\"\",\"\",IF(B6370=\"\",E6369,IF(D6370=\"\",E6369,D6370/MAX($D$8:D6370)-1)))","v":""}]
[null,null,null,null,{"$f":"IF(A6371=\"\",\"\",IF(B6371=\"\",E6370,IF(D6371=\"\",E6370,D6371/MAX($D$8:D6371)-1)))","v":""}]
[null,null,null,null,{"$f":"IF(A6372=\"\",\"\",IF(B6372=\"\",E6371,IF(D6372=\"\",E6371,D6372/MAX($D$8:D6372)-1)))","v":""}]
[null,null,null,null,{"$f":"IF(A6373=\"\",\"\",IF(B6373=\"\",E6372,IF(D6373=\"\",E6372,D6373/MAX($D$8:D6373)-1)))","v":""}]
[null,null,null,null,{"$f":"IF(A6374=\"\",\"\",IF(B6374=\"\",E6373,IF(D6374=\"\",E6373,D6374/MAX($D$8:D6374)-1)))","v":""}]
[null,null,null,null,{"$f":"IF(A6375=\"\",\"\",IF(B6375=\"\",E6374,IF(D6375=\"\",E6374,D6375/MAX($D$8:D6375)-1)))","v":""}]
[null,null,null,null,{"$f":"IF(A6376=\"\",\"\",IF(B6376=\"\",E6375,IF(D6376=\"\",E6375,D6376/MAX($D$8:D6376)-1)))","v":""}]
[null,null,null,null,{"$f":"IF(A6377=\"\",\"\",IF(B6377=\"\",E6376,IF(D6377=\"\",E6376,D6377/MAX($D$8:D6377)-1)))","v":""}]
[null,null,null,null,{"$f":"IF(A6378=\"\",\"\",IF(B6378=\"\",E6377,IF(D6378=\"\",E6377,D6378/MAX($D$8:D6378)-1)))","v":""}]
[null,null,null,null,{"$f":"IF(A6379=\"\",\"\",IF(B6379=\"\",E6378,IF(D6379=\"\",E6378,D6379/MAX($D$8:D6379)-1)))","v":""}]
[null,null,null,null,{"$f":"IF(A6380=\"\",\"\",IF(B6380=\"\",E6379,IF(D6380=\"\",E6379,D6380/MAX($D$8:D6380)-1)))","v":""}]
[null,null,null,null,{"$f":"IF(A6381=\"\",\"\",IF(B6381=\"\",E6380,IF(D6381=\"\",E6380,D6381/MAX($D$8:D6381)-1)))","v":""}]
[null,null,null,null,{"$f":"IF(A6382=\"\",\"\",IF(B6382=\"\",E6381,IF(D6382=\"\",E6381,D6382/MAX($D$8:D6382)-1)))","v":""}]
[null,null,null,null,{"$f":"IF(A6383=\"\",\"\",IF(B6383=\"\",E6382,IF(D6383=\"\",E6382,D6383/MAX($D$8:D6383)-1)))","v":""}]
[null,null,null,null,{"$f":"IF(A6384=\"\",\"\",IF(B6384=\"\",E6383,IF(D6384=\"\",E6383,D6384/MAX($D$8:D6384)-1)))","v":""}]
[null,null,null,null,{"$f":"IF(A6385=\"\",\"\",IF(B6385=\"\",E6384,IF(D6385=\"\",E6384,D6385/MAX($D$8:D6385)-1)))","v":""}]
[null,null,null,null,{"$f":"IF(A6386=\"\",\"\",IF(B6386=\"\",E6385,IF(D6386=\"\",E6385,D6386/MAX($D$8:D6386)-1)))","v":""}]
[null,null,null,null,{"$f":"IF(A6387=\"\",\"\",IF(B6387=\"\",E6386,IF(D6387=\"\",E6386,D6387/MAX($D$8:D6387)-1)))","v":""}]
[null,null,null,null,{"$f":"IF(A6388=\"\",\"\",IF(B6388=\"\",E6387,IF(D6388=\"\",E6387,D6388/MAX($D$8:D6388)-1)))","v":""}]
[null,null,null,null,{"$f":"IF(A6389=\"\",\"\",IF(B6389=\"\",E6388,IF(D6389=\"\",E6388,D6389/MAX($D$8:D6389)-1)))","v":""}]
[null,null,null,null,{"$f":"IF(A6390=\"\",\"\",IF(B6390=\"\",E6389,IF(D6390=\"\",E6389,D6390/MAX($D$8:D6390)-1)))","v":""}]
[null,null,null,null,{"$f":"IF(A6391=\"\",\"\",IF(B6391=\"\",E6390,IF(D6391=\"\",E6390,D6391/MAX($D$8:D6391)-1)))","v":""}]
[null,null,null,null,{"$f":"IF(A6392=\"\",\"\",IF(B6392=\"\",E6391,IF(D6392=\"\",E6391,D6392/MAX($D$8:D6392)-1)))","v":""}]
[null,null,null,null,{"$f":"IF(A6393=\"\",\"\",IF(B6393=\"\",E6392,IF(D6393=\"\",E6392,D6393/MAX($D$8:D6393)-1)))","v":""}]
[null,null,null,null,{"$f":"IF(A6394=\"\",\"\",IF(B6394=\"\",E6393,IF(D6394=\"\",E6393,D6394/MAX($D$8:D6394)-1)))","v":""}]
[null,null,null,null,{"$f":"IF(A6395=\"\",\"\",IF(B6395=\"\",E6394,IF(D6395=\"\",E6394,D6395/MAX($D$8:D6395)-1)))","v":""}]
[null,null,null,null,{"$f":"IF(A6396=\"\",\"\",IF(B6396=\"\",E6395,IF(D6396=\"\",E6395,D6396/MAX($D$8:D6396)-1)))","v":""}]
[null,null,null,null,{"$f":"IF(A6397=\"\",\"\",IF(B6397=\"\",E6396,IF(D6397=\"\",E6396,D6397/MAX($D$8:D6397)-1)))","v":""}]
[null,null,null,null,{"$f":"IF(A6398=\"\",\"\",IF(B6398=\"\",E6397,IF(D6398=\"\",E6397,D6398/MAX($D$8:D6398)-1)))","v":""}]
[null,null,null,null,{"$f":"IF(A6399=\"\",\"\",IF(B6399=\"\",E6398,IF(D6399=\"\",E6398,D6399/MAX($D$8:D6399)-1)))","v":""}]
[null,null,null,null,{"$f":"IF(A6400=\"\",\"\",IF(B6400=\"\",E6399,IF(D6400=\"\",E6399,D6400/MAX($D$8:D6400)-1)))","v":""}]
[null,null,null,null,{"$f":"IF(A6401=\"\",\"\",IF(B6401=\"\",E6400,IF(D6401=\"\",E6400,D6401/MAX($D$8:D6401)-1)))","v":""}]
[null,null,null,null,{"$f":"IF(A6402=\"\",\"\",IF(B6402=\"\",E6401,IF(D6402=\"\",E6401,D6402/MAX($D$8:D6402)-1)))","v":""}]
[null,null,null,null,{"$f":"IF(A6403=\"\",\"\",IF(B6403=\"\",E6402,IF(D6403=\"\",E6402,D6403/MAX($D$8:D6403)-1)))","v":""}]
[null,null,null,null,{"$f":"IF(A6404=\"\",\"\",IF(B6404=\"\",E6403,IF(D6404=\"\",E6403,D6404/MAX($D$8:D6404)-1)))","v":""}]
[null,null,null,null,{"$f":"IF(A6405=\"\",\"\",IF(B6405=\"\",E6404,IF(D6405=\"\",E6404,D6405/MAX($D$8:D6405)-1)))","v":""}]
[null,null,null,null,{"$f":"IF(A6406=\"\",\"\",IF(B6406=\"\",E6405,IF(D6406=\"\",E6405,D6406/MAX($D$8:D6406)-1)))","v":""}]
[null,null,null,null,{"$f":"IF(A6407=\"\",\"\",IF(B6407=\"\",E6406,IF(D6407=\"\",E6406,D6407/MAX($D$8:D6407)-1)))","v":""}]
[null,null,null,null,{"$f":"IF(A6408=\"\",\"\",IF(B6408=\"\",E6407,IF(D6408=\"\",E6407,D6408/MAX($D$8:D6408)-1)))","v":""}]
[null,null,null,null,{"$f":"IF(A6409=\"\",\"\",IF(B6409=\"\",E6408,IF(D6409=\"\",E6408,D6409/MAX($D$8:D6409)-1)))","v":""}]
[null,null,null,null,{"$f":"IF(A6410=\"\",\"\",IF(B6410=\"\",E6409,IF(D6410=\"\",E6409,D6410/MAX($D$8:D6410)-1)))","v":""}]
[null,null,null,null,{"$f":"IF(A6411=\"\",\"\",IF(B6411=\"\",E6410,IF(D6411=\"\",E6410,D6411/MAX($D$8:D6411)-1)))","v":""}]
[null,null,null,null,{"$f":"IF(A6412=\"\",\"\",IF(B6412=\"\",E6411,IF(D6412=\"\",E6411,D6412/MAX($D$8:D6412)-1)))","v":""}]
[null,null,null,null,{"$f":"IF(A6413=\"\",\"\",IF(B6413=\"\",E6412,IF(D6413=\"\",E6412,D6413/MAX($D$8:D6413)-1)))","v":""}]
[null,null,null,null,{"$f":"IF(A6414=\"\",\"\",IF(B6414=\"\",E6413,IF(D6414=\"\",E6413,D6414/MAX($D$8:D6414)-1)))","v":""}]
[null,null,null,null,{"$f":"IF(A6415=\"\",\"\",IF(B6415=\"\",E6414,IF(D6415=\"\",E6414,D6415/MAX($D$8:D6415)-1)))","v":""}]
[null,null,null,null,{"$f":"IF(A6416=\"\",\"\",IF(B6416=\"\",E6415,IF(D6416=\"\",E6415,D6416/MAX($D$8:D6416)-1)))","v":""}]
[null,null,null,null,{"$f":"IF(A6417=\"\",\"\",IF(B6417=\"\",E6416,IF(D6417=\"\",E6416,D6417/MAX($D$8:D6417)-1)))","v":""}]
[null,null,null,null,{"$f":"IF(A6418=\"\",\"\",IF(B6418=\"\",E6417,IF(D6418=\"\",E6417,D6418/MAX($D$8:D6418)-1)))","v":""}]
[null,null,null,null,{"$f":"IF(A6419=\"\",\"\",IF(B6419=\"\",E6418,IF(D6419=\"\",E6418,D6419/MAX($D$8:D6419)-1)))","v":""}]
[null,null,null,null,{"$f":"IF(A6420=\"\",\"\",IF(B6420=\"\",E6419,IF(D6420=\"\",E6419,D6420/MAX($D$8:D6420)-1)))","v":""}]
[null,null,null,null,{"$f":"IF(A6421=\"\",\"\",IF(B6421=\"\",E6420,IF(D6421=\"\",E6420,D6421/MAX($D$8:D6421)-1)))","v":""}]
[null,null,null,null,{"$f":"IF(A6422=\"\",\"\",IF(B6422=\"\",E6421,IF(D6422=\"\",E6421,D6422/MAX($D$8:D6422)-1)))","v":""}]
[null,null,null,null,{"$f":"IF(A6423=\"\",\"\",IF(B6423=\"\",E6422,IF(D6423=\"\",E6422,D6423/MAX($D$8:D6423)-1)))","v":""}]
[null,null,null,null,{"$f":"IF(A6424=\"\",\"\",IF(B6424=\"\",E6423,IF(D6424=\"\",E6423,D6424/MAX($D$8:D6424)-1)))","v":""}]
[null,null,null,null,{"$f":"IF(A6425=\"\",\"\",IF(B6425=\"\",E6424,IF(D6425=\"\",E6424,D6425/MAX($D$8:D6425)-1)))","v":""}]
[null,null,null,null,{"$f":"IF(A6426=\"\",\"\",IF(B6426=\"\",E6425,IF(D6426=\"\",E6425,D6426/MAX($D$8:D6426)-1)))","v":""}]
[null,null,null,null,{"$f":"IF(A6427=\"\",\"\",IF(B6427=\"\",E6426,IF(D6427=\"\",E6426,D6427/MAX($D$8:D6427)-1)))","v":""}]
[null,null,null,null,{"$f":"IF(A6428=\"\",\"\",IF(B6428=\"\",E6427,IF(D6428=\"\",E6427,D6428/MAX($D$8:D6428)-1)))","v":""}]
[null,null,null,null,{"$f":"IF(A6429=\"\",\"\",IF(B6429=\"\",E6428,IF(D6429=\"\",E6428,D6429/MAX($D$8:D6429)-1)))","v":""}]
[null,null,null,null,{"$f":"IF(A6430=\"\",\"\",IF(B6430=\"\",E6429,IF(D6430=\"\",E6429,D6430/MAX($D$8:D6430)-1)))","v":""}]
[null,null,null,null,{"$f":"IF(A6431=\"\",\"\",IF(B6431=\"\",E6430,IF(D6431=\"\",E6430,D6431/MAX($D$8:D6431)-1)))","v":""}]
[null,null,null,null,{"$f":"IF(A6432=\"\",\"\",IF(B6432=\"\",E6431,IF(D6432=\"\",E6431,D6432/MAX($D$8:D6432)-1)))","v":""}]
[null,null,null,null,{"$f":"IF(A6433=\"\",\"\",IF(B6433=\"\",E6432,IF(D6433=\"\",E6432,D6433/MAX($D$8:D6433)-1)))","v":""}]
[null,null,null,null,{"$f":"IF(A6434=\"\",\"\",IF(B6434=\"\",E6433,IF(D6434=\"\",E6433,D6434/MAX($D$8:D6434)-1)))","v":""}]
[null,null,null,null,{"$f":"IF(A6435=\"\",\"\",IF(B6435=\"\",E6434,IF(D6435=\"\",E6434,D6435/MAX($D$8:D6435)-1)))","v":""}]
[null,null,null,null,{"$f":"IF(A6436=\"\",\"\",IF(B6436=\"\",E6435,IF(D6436=\"\",E6435,D6436/MAX($D$8:D6436)-1)))","v":""}]
[null,null,null,null,{"$f":"IF(A6437=\"\",\"\",IF(B6437=\"\",E6436,IF(D6437=\"\",E6436,D6437/MAX($D$8:D6437)-1)))","v":""}]
[null,null,null,null,{"$f":"IF(A6438=\"\",\"\",IF(B6438=\"\",E6437,IF(D6438=\"\",E6437,D6438/MAX($D$8:D6438)-1)))","v":""}]
[null,null,null,null,{"$f":"IF(A6439=\"\",\"\",IF(B6439=\"\",E6438,IF(D6439=\"\",E6438,D6439/MAX($D$8:D6439)-1)))","v":""}]
[null,null,null,null,{"$f":"IF(A6440=\"\",\"\",IF(B6440=\"\",E6439,IF(D6440=\"\",E6439,D6440/MAX($D$8:D6440)-1)))","v":""}]
[null,null,null,null,{"$f":"IF(A6441=\"\",\"\",IF(B6441=\"\",E6440,IF(D6441=\"\",E6440,D6441/MAX($D$8:D6441)-1)))","v":""}]
[null,null,null,null,{"$f":"IF(A6442=\"\",\"\",IF(B6442=\"\",E6441,IF(D6442=\"\",E6441,D6442/MAX($D$8:D6442)-1)))","v":""}]
[null,null,null,null,{"$f":"IF(A6443=\"\",\"\",IF(B6443=\"\",E6442,IF(D6443=\"\",E6442,D6443/MAX($D$8:D6443)-1)))","v":""}]
[null,null,null,null,{"$f":"IF(A6444=\"\",\"\",IF(B6444=\"\",E6443,IF(D6444=\"\",E6443,D6444/MAX($D$8:D6444)-1)))","v":""}]
[null,null,null,null,{"$f":"IF(A6445=\"\",\"\",IF(B6445=\"\",E6444,IF(D6445=\"\",E6444,D6445/MAX($D$8:D6445)-1)))","v":""}]
[null,null,null,null,{"$f":"IF(A6446=\"\",\"\",IF(B6446=\"\",E6445,IF(D6446=\"\",E6445,D6446/MAX($D$8:D6446)-1)))","v":""}]
[null,null,null,null,{"$f":"IF(A6447=\"\",\"\",IF(B6447=\"\",E6446,IF(D6447=\"\",E6446,D6447/MAX($D$8:D6447)-1)))","v":""}]
[null,null,null,null,{"$f":"IF(A6448=\"\",\"\",IF(B6448=\"\",E6447,IF(D6448=\"\",E6447,D6448/MAX($D$8:D6448)-1)))","v":""}]
[null,null,null,null,{"$f":"IF(A6449=\"\",\"\",IF(B6449=\"\",E6448,IF(D6449=\"\",E6448,D6449/MAX($D$8:D6449)-1)))","v":""}]
[null,null,null,null,{"$f":"IF(A6450=\"\",\"\",IF(B6450=\"\",E6449,IF(D6450=\"\",E6449,D6450/MAX($D$8:D6450)-1)))","v":""}]
[null,null,null,null,{"$f":"IF(A6451=\"\",\"\",IF(B6451=\"\",E6450,IF(D6451=\"\",E6450,D6451/MAX($D$8:D6451)-1)))","v":""}]
[null,null,null,null,{"$f":"IF(A6452=\"\",\"\",IF(B6452=\"\",E6451,IF(D6452=\"\",E6451,D6452/MAX($D$8:D6452)-1)))","v":""}]
[null,null,null,null,{"$f":"IF(A6453=\"\",\"\",IF(B6453=\"\",E6452,IF(D6453=\"\",E6452,D6453/MAX($D$8:D6453)-1)))","v":""}]
[null,null,null,null,{"$f":"IF(A6454=\"\",\"\",IF(B6454=\"\",E6453,IF(D6454=\"\",E6453,D6454/MAX($D$8:D6454)-1)))","v":""}]
[null,null,null,null,{"$f":"IF(A6455=\"\",\"\",IF(B6455=\"\",E6454,IF(D6455=\"\",E6454,D6455/MAX($D$8:D6455)-1)))","v":""}]
[null,null,null,null,{"$f":"IF(A6456=\"\",\"\",IF(B6456=\"\",E6455,IF(D6456=\"\",E6455,D6456/MAX($D$8:D6456)-1)))","v":""}]
[null,null,null,null,{"$f":"IF(A6457=\"\",\"\",IF(B6457=\"\",E6456,IF(D6457=\"\",E6456,D6457/MAX($D$8:D6457)-1)))","v":""}]
[null,null,null,null,{"$f":"IF(A6458=\"\",\"\",IF(B6458=\"\",E6457,IF(D6458=\"\",E6457,D6458/MAX($D$8:D6458)-1)))","v":""}]
[null,null,null,null,{"$f":"IF(A6459=\"\",\"\",IF(B6459=\"\",E6458,IF(D6459=\"\",E6458,D6459/MAX($D$8:D6459)-1)))","v":""}]
[null,null,null,null,{"$f":"IF(A6460=\"\",\"\",IF(B6460=\"\",E6459,IF(D6460=\"\",E6459,D6460/MAX($D$8:D6460)-1)))","v":""}]
[null,null,null,null,{"$f":"IF(A6461=\"\",\"\",IF(B6461=\"\",E6460,IF(D6461=\"\",E6460,D6461/MAX($D$8:D6461)-1)))","v":""}]
[null,null,null,null,{"$f":"IF(A6462=\"\",\"\",IF(B6462=\"\",E6461,IF(D6462=\"\",E6461,D6462/MAX($D$8:D6462)-1)))","v":""}]
[null,null,null,null,{"$f":"IF(A6463=\"\",\"\",IF(B6463=\"\",E6462,IF(D6463=\"\",E6462,D6463/MAX($D$8:D6463)-1)))","v":""}]
[null,null,null,null,{"$f":"IF(A6464=\"\",\"\",IF(B6464=\"\",E6463,IF(D6464=\"\",E6463,D6464/MAX($D$8:D6464)-1)))","v":""}]
[null,null,null,null,{"$f":"IF(A6465=\"\",\"\",IF(B6465=\"\",E6464,IF(D6465=\"\",E6464,D6465/MAX($D$8:D6465)-1)))","v":""}]
[null,null,null,null,{"$f":"IF(A6466=\"\",\"\",IF(B6466=\"\",E6465,IF(D6466=\"\",E6465,D6466/MAX($D$8:D6466)-1)))","v":""}]
[null,null,null,null,{"$f":"IF(A6467=\"\",\"\",IF(B6467=\"\",E6466,IF(D6467=\"\",E6466,D6467/MAX($D$8:D6467)-1)))","v":""}]
[null,null,null,null,{"$f":"IF(A6468=\"\",\"\",IF(B6468=\"\",E6467,IF(D6468=\"\",E6467,D6468/MAX($D$8:D6468)-1)))","v":""}]
[null,null,null,null,{"$f":"IF(A6469=\"\",\"\",IF(B6469=\"\",E6468,IF(D6469=\"\",E6468,D6469/MAX($D$8:D6469)-1)))","v":""}]
[null,null,null,null,{"$f":"IF(A6470=\"\",\"\",IF(B6470=\"\",E6469,IF(D6470=\"\",E6469,D6470/MAX($D$8:D6470)-1)))","v":""}]
[null,null,null,null,{"$f":"IF(A6471=\"\",\"\",IF(B6471=\"\",E6470,IF(D6471=\"\",E6470,D6471/MAX($D$8:D6471)-1)))","v":""}]
[null,null,null,null,{"$f":"IF(A6472=\"\",\"\",IF(B6472=\"\",E6471,IF(D6472=\"\",E6471,D6472/MAX($D$8:D6472)-1)))","v":""}]
[null,null,null,null,{"$f":"IF(A6473=\"\",\"\",IF(B6473=\"\",E6472,IF(D6473=\"\",E6472,D6473/MAX($D$8:D6473)-1)))","v":""}]
[null,null,null,null,{"$f":"IF(A6474=\"\",\"\",IF(B6474=\"\",E6473,IF(D6474=\"\",E6473,D6474/MAX($D$8:D6474)-1)))","v":""}]
[null,null,null,null,{"$f":"IF(A6475=\"\",\"\",IF(B6475=\"\",E6474,IF(D6475=\"\",E6474,D6475/MAX($D$8:D6475)-1)))","v":""}]
[null,null,null,null,{"$f":"IF(A6476=\"\",\"\",IF(B6476=\"\",E6475,IF(D6476=\"\",E6475,D6476/MAX($D$8:D6476)-1)))","v":""}]
[null,null,null,null,{"$f":"IF(A6477=\"\",\"\",IF(B6477=\"\",E6476,IF(D6477=\"\",E6476,D6477/MAX($D$8:D6477)-1)))","v":""}]
[null,null,null,null,{"$f":"IF(A6478=\"\",\"\",IF(B6478=\"\",E6477,IF(D6478=\"\",E6477,D6478/MAX($D$8:D6478)-1)))","v":""}]
[null,null,null,null,{"$f":"IF(A6479=\"\",\"\",IF(B6479=\"\",E6478,IF(D6479=\"\",E6478,D6479/MAX($D$8:D6479)-1)))","v":""}]
[null,null,null,null,{"$f":"IF(A6480=\"\",\"\",IF(B6480=\"\",E6479,IF(D6480=\"\",E6479,D6480/MAX($D$8:D6480)-1)))","v":""}]
[null,null,null,null,{"$f":"IF(A6481=\"\",\"\",IF(B6481=\"\",E6480,IF(D6481=\"\",E6480,D6481/MAX($D$8:D6481)-1)))","v":""}]
[null,null,null,null,{"$f":"IF(A6482=\"\",\"\",IF(B6482=\"\",E6481,IF(D6482=\"\",E6481,D6482/MAX($D$8:D6482)-1)))","v":""}]
[null,null,null,null,{"$f":"IF(A6483=\"\",\"\",IF(B6483=\"\",E6482,IF(D6483=\"\",E6482,D6483/MAX($D$8:D6483)-1)))","v":""}]
[null,null,null,null,{"$f":"IF(A6484=\"\",\"\",IF(B6484=\"\",E6483,IF(D6484=\"\",E6483,D6484/MAX($D$8:D6484)-1)))","v":""}]
[null,null,null,null,{"$f":"IF(A6485=\"\",\"\",IF(B6485=\"\",E6484,IF(D6485=\"\",E6484,D6485/MAX($D$8:D6485)-1)))","v":""}]
[null,null,null,null,{"$f":"IF(A6486=\"\",\"\",IF(B6486=\"\",E6485,IF(D6486=\"\",E6485,D6486/MAX($D$8:D6486)-1)))","v":""}]
[null,null,null,null,{"$f":"IF(A6487=\"\",\"\",IF(B6487=\"\",E6486,IF(D6487=\"\",E6486,D6487/MAX($D$8:D6487)-1)))","v":""}]
[null,null,null,null,{"$f":"IF(A6488=\"\",\"\",IF(B6488=\"\",E6487,IF(D6488=\"\",E6487,D6488/MAX($D$8:D6488)-1)))","v":""}]
[null,null,null,null,{"$f":"IF(A6489=\"\",\"\",IF(B6489=\"\",E6488,IF(D6489=\"\",E6488,D6489/MAX($D$8:D6489)-1)))","v":""}]
[null,null,null,null,{"$f":"IF(A6490=\"\",\"\",IF(B6490=\"\",E6489,IF(D6490=\"\",E6489,D6490/MAX($D$8:D6490)-1)))","v":""}]
[null,null,null,null,{"$f":"IF(A6491=\"\",\"\",IF(B6491=\"\",E6490,IF(D6491=\"\",E6490,D6491/MAX($D$8:D6491)-1)))","v":""}]
[null,null,null,null,{"$f":"IF(A6492=\"\",\"\",IF(B6492=\"\",E6491,IF(D6492=\"\",E6491,D6492/MAX($D$8:D6492)-1)))","v":""}]
[null,null,null,null,{"$f":"IF(A6493=\"\",\"\",IF(B6493=\"\",E6492,IF(D6493=\"\",E6492,D6493/MAX($D$8:D6493)-1)))","v":""}]
[null,null,null,null,{"$f":"IF(A6494=\"\",\"\",IF(B6494=\"\",E6493,IF(D6494=\"\",E6493,D6494/MAX($D$8:D6494)-1)))","v":""}]
[null,null,null,null,{"$f":"IF(A6495=\"\",\"\",IF(B6495=\"\",E6494,IF(D6495=\"\",E6494,D6495/MAX($D$8:D6495)-1)))","v":""}]
[null,null,null,null,{"$f":"IF(A6496=\"\",\"\",IF(B6496=\"\",E6495,IF(D6496=\"\",E6495,D6496/MAX($D$8:D6496)-1)))","v":""}]
[null,null,null,null,{"$f":"IF(A6497=\"\",\"\",IF(B6497=\"\",E6496,IF(D6497=\"\",E6496,D6497/MAX($D$8:D6497)-1)))","v":""}]
[null,null,null,null,{"$f":"IF(A6498=\"\",\"\",IF(B6498=\"\",E6497,IF(D6498=\"\",E6497,D6498/MAX($D$8:D6498)-1)))","v":""}]
[null,null,null,null,{"$f":"IF(A6499=\"\",\"\",IF(B6499=\"\",E6498,IF(D6499=\"\",E6498,D6499/MAX($D$8:D6499)-1)))","v":""}]
[null,null,null,null,{"$f":"IF(A6500=\"\",\"\",IF(B6500=\"\",E6499,IF(D6500=\"\",E6499,D6500/MAX($D$8:D6500)-1)))","v":""}]
[null,null,null,null,{"$f":"IF(A6501=\"\",\"\",IF(B6501=\"\",E6500,IF(D6501=\"\",E6500,D6501/MAX($D$8:D6501)-1)))","v":""}]
[null,null,null,null,{"$f":"IF(A6502=\"\",\"\",IF(B6502=\"\",E6501,IF(D6502=\"\",E6501,D6502/MAX($D$8:D6502)-1)))","v":""}]
[null,null,null,null,{"$f":"IF(A6503=\"\",\"\",IF(B6503=\"\",E6502,IF(D6503=\"\",E6502,D6503/MAX($D$8:D6503)-1)))","v":""}]
[null,null,null,null,{"$f":"IF(A6504=\"\",\"\",IF(B6504=\"\",E6503,IF(D6504=\"\",E6503,D6504/MAX($D$8:D6504)-1)))","v":""}]
[null,null,null,null,{"$f":"IF(A6505=\"\",\"\",IF(B6505=\"\",E6504,IF(D6505=\"\",E6504,D6505/MAX($D$8:D6505)-1)))","v":""}]
[null,null,null,null,{"$f":"IF(A6506=\"\",\"\",IF(B6506=\"\",E6505,IF(D6506=\"\",E6505,D6506/MAX($D$8:D6506)-1)))","v":""}]
[null,null,null,null,{"$f":"IF(A6507=\"\",\"\",IF(B6507=\"\",E6506,IF(D6507=\"\",E6506,D6507/MAX($D$8:D6507)-1)))","v":""}]
[null,null,null,null,{"$f":"IF(A6508=\"\",\"\",IF(B6508=\"\",E6507,IF(D6508=\"\",E6507,D6508/MAX($D$8:D6508)-1)))","v":""}]
[null,null,null,null,{"$f":"IF(A6509=\"\",\"\",IF(B6509=\"\",E6508,IF(D6509=\"\",E6508,D6509/MAX($D$8:D6509)-1)))","v":""}]
[null,null,null,null,{"$f":"IF(A6510=\"\",\"\",IF(B6510=\"\",E6509,IF(D6510=\"\",E6509,D6510/MAX($D$8:D6510)-1)))","v":""}]
[null,null,null,null,{"$f":"IF(A6511=\"\",\"\",IF(B6511=\"\",E6510,IF(D6511=\"\",E6510,D6511/MAX($D$8:D6511)-1)))","v":""}]
[null,null,null,null,{"$f":"IF(A6512=\"\",\"\",IF(B6512=\"\",E6511,IF(D6512=\"\",E6511,D6512/MAX($D$8:D6512)-1)))","v":""}]
[null,null,null,null,{"$f":"IF(A6513=\"\",\"\",IF(B6513=\"\",E6512,IF(D6513=\"\",E6512,D6513/MAX($D$8:D6513)-1)))","v":""}]
[null,null,null,null,{"$f":"IF(A6514=\"\",\"\",IF(B6514=\"\",E6513,IF(D6514=\"\",E6513,D6514/MAX($D$8:D6514)-1)))","v":""}]
[null,null,null,null,{"$f":"IF(A6515=\"\",\"\",IF(B6515=\"\",E6514,IF(D6515=\"\",E6514,D6515/MAX($D$8:D6515)-1)))","v":""}]
[null,null,null,null,{"$f":"IF(A6516=\"\",\"\",IF(B6516=\"\",E6515,IF(D6516=\"\",E6515,D6516/MAX($D$8:D6516)-1)))","v":""}]
[null,null,null,null,{"$f":"IF(A6517=\"\",\"\",IF(B6517=\"\",E6516,IF(D6517=\"\",E6516,D6517/MAX($D$8:D6517)-1)))","v":""}]
[null,null,null,null,{"$f":"IF(A6518=\"\",\"\",IF(B6518=\"\",E6517,IF(D6518=\"\",E6517,D6518/MAX($D$8:D6518)-1)))","v":""}]
[null,null,null,null,{"$f":"IF(A6519=\"\",\"\",IF(B6519=\"\",E6518,IF(D6519=\"\",E6518,D6519/MAX($D$8:D6519)-1)))","v":""}]
[null,null,null,null,{"$f":"IF(A6520=\"\",\"\",IF(B6520=\"\",E6519,IF(D6520=\"\",E6519,D6520/MAX($D$8:D6520)-1)))","v":""}]
[null,null,null,null,{"$f":"IF(A6521=\"\",\"\",IF(B6521=\"\",E6520,IF(D6521=\"\",E6520,D6521/MAX($D$8:D6521)-1)))","v":""}]
[null,null,null,null,{"$f":"IF(A6522=\"\",\"\",IF(B6522=\"\",E6521,IF(D6522=\"\",E6521,D6522/MAX($D$8:D6522)-1)))","v":""}]
[null,null,null,null,{"$f":"IF(A6523=\"\",\"\",IF(B6523=\"\",E6522,IF(D6523=\"\",E6522,D6523/MAX($D$8:D6523)-1)))","v":""}]
[null,null,null,null,{"$f":"IF(A6524=\"\",\"\",IF(B6524=\"\",E6523,IF(D6524=\"\",E6523,D6524/MAX($D$8:D6524)-1)))","v":""}]
[null,null,null,null,{"$f":"IF(A6525=\"\",\"\",IF(B6525=\"\",E6524,IF(D6525=\"\",E6524,D6525/MAX($D$8:D6525)-1)))","v":""}]
[null,null,null,null,{"$f":"IF(A6526=\"\",\"\",IF(B6526=\"\",E6525,IF(D6526=\"\",E6525,D6526/MAX($D$8:D6526)-1)))","v":""}]
[null,null,null,null,{"$f":"IF(A6527=\"\",\"\",IF(B6527=\"\",E6526,IF(D6527=\"\",E6526,D6527/MAX($D$8:D6527)-1)))","v":""}]
[null,null,null,null,{"$f":"IF(A6528=\"\",\"\",IF(B6528=\"\",E6527,IF(D6528=\"\",E6527,D6528/MAX($D$8:D6528)-1)))","v":""}]
[null,null,null,null,{"$f":"IF(A6529=\"\",\"\",IF(B6529=\"\",E6528,IF(D6529=\"\",E6528,D6529/MAX($D$8:D6529)-1)))","v":""}]
[null,null,null,null,{"$f":"IF(A6530=\"\",\"\",IF(B6530=\"\",E6529,IF(D6530=\"\",E6529,D6530/MAX($D$8:D6530)-1)))","v":""}]
[null,null,null,null,{"$f":"IF(A6531=\"\",\"\",IF(B6531=\"\",E6530,IF(D6531=\"\",E6530,D6531/MAX($D$8:D6531)-1)))","v":""}]
[null,null,null,null,{"$f":"IF(A6532=\"\",\"\",IF(B6532=\"\",E6531,IF(D6532=\"\",E6531,D6532/MAX($D$8:D6532)-1)))","v":""}]
[null,null,null,null,{"$f":"IF(A6533=\"\",\"\",IF(B6533=\"\",E6532,IF(D6533=\"\",E6532,D6533/MAX($D$8:D6533)-1)))","v":""}]
[null,null,null,null,{"$f":"IF(A6534=\"\",\"\",IF(B6534=\"\",E6533,IF(D6534=\"\",E6533,D6534/MAX($D$8:D6534)-1)))","v":""}]
[null,null,null,null,{"$f":"IF(A6535=\"\",\"\",IF(B6535=\"\",E6534,IF(D6535=\"\",E6534,D6535/MAX($D$8:D6535)-1)))","v":""}]
[null,null,null,null,{"$f":"IF(A6536=\"\",\"\",IF(B6536=\"\",E6535,IF(D6536=\"\",E6535,D6536/MAX($D$8:D6536)-1)))","v":""}]
[null,null,null,null,{"$f":"IF(A6537=\"\",\"\",IF(B6537=\"\",E6536,IF(D6537=\"\",E6536,D6537/MAX($D$8:D6537)-1)))","v":""}]
[null,null,null,null,{"$f":"IF(A6538=\"\",\"\",IF(B6538=\"\",E6537,IF(D6538=\"\",E6537,D6538/MAX($D$8:D6538)-1)))","v":""}]
[null,null,null,null,{"$f":"IF(A6539=\"\",\"\",IF(B6539=\"\",E6538,IF(D6539=\"\",E6538,D6539/MAX($D$8:D6539)-1)))","v":""}]
[null,null,null,null,{"$f":"IF(A6540=\"\",\"\",IF(B6540=\"\",E6539,IF(D6540=\"\",E6539,D6540/MAX($D$8:D6540)-1)))","v":""}]
[null,null,null,null,{"$f":"IF(A6541=\"\",\"\",IF(B6541=\"\",E6540,IF(D6541=\"\",E6540,D6541/MAX($D$8:D6541)-1)))","v":""}]
[null,null,null,null,{"$f":"IF(A6542=\"\",\"\",IF(B6542=\"\",E6541,IF(D6542=\"\",E6541,D6542/MAX($D$8:D6542)-1)))","v":""}]
[null,null,null,null,{"$f":"IF(A6543=\"\",\"\",IF(B6543=\"\",E6542,IF(D6543=\"\",E6542,D6543/MAX($D$8:D6543)-1)))","v":""}]
[null,null,null,null,{"$f":"IF(A6544=\"\",\"\",IF(B6544=\"\",E6543,IF(D6544=\"\",E6543,D6544/MAX($D$8:D6544)-1)))","v":""}]
[null,null,null,null,{"$f":"IF(A6545=\"\",\"\",IF(B6545=\"\",E6544,IF(D6545=\"\",E6544,D6545/MAX($D$8:D6545)-1)))","v":""}]
[null,null,null,null,{"$f":"IF(A6546=\"\",\"\",IF(B6546=\"\",E6545,IF(D6546=\"\",E6545,D6546/MAX($D$8:D6546)-1)))","v":""}]
[null,null,null,null,{"$f":"IF(A6547=\"\",\"\",IF(B6547=\"\",E6546,IF(D6547=\"\",E6546,D6547/MAX($D$8:D6547)-1)))","v":""}]
[null,null,null,null,{"$f":"IF(A6548=\"\",\"\",IF(B6548=\"\",E6547,IF(D6548=\"\",E6547,D6548/MAX($D$8:D6548)-1)))","v":""}]
[null,null,null,null,{"$f":"IF(A6549=\"\",\"\",IF(B6549=\"\",E6548,IF(D6549=\"\",E6548,D6549/MAX($D$8:D6549)-1)))","v":""}]
[null,null,null,null,{"$f":"IF(A6550=\"\",\"\",IF(B6550=\"\",E6549,IF(D6550=\"\",E6549,D6550/MAX($D$8:D6550)-1)))","v":""}]
[null,null,null,null,{"$f":"IF(A6551=\"\",\"\",IF(B6551=\"\",E6550,IF(D6551=\"\",E6550,D6551/MAX($D$8:D6551)-1)))","v":""}]
[null,null,null,null,{"$f":"IF(A6552=\"\",\"\",IF(B6552=\"\",E6551,IF(D6552=\"\",E6551,D6552/MAX($D$8:D6552)-1)))","v":""}]
[null,null,null,null,{"$f":"IF(A6553=\"\",\"\",IF(B6553=\"\",E6552,IF(D6553=\"\",E6552,D6553/MAX($D$8:D6553)-1)))","v":""}]
[null,null,null,null,{"$f":"IF(A6554=\"\",\"\",IF(B6554=\"\",E6553,IF(D6554=\"\",E6553,D6554/MAX($D$8:D6554)-1)))","v":""}]
[null,null,null,null,{"$f":"IF(A6555=\"\",\"\",IF(B6555=\"\",E6554,IF(D6555=\"\",E6554,D6555/MAX($D$8:D6555)-1)))","v":""}]
[null,null,null,null,{"$f":"IF(A6556=\"\",\"\",IF(B6556=\"\",E6555,IF(D6556=\"\",E6555,D6556/MAX($D$8:D6556)-1)))","v":""}]
[null,null,null,null,{"$f":"IF(A6557=\"\",\"\",IF(B6557=\"\",E6556,IF(D6557=\"\",E6556,D6557/MAX($D$8:D6557)-1)))","v":""}]
[null,null,null,null,{"$f":"IF(A6558=\"\",\"\",IF(B6558=\"\",E6557,IF(D6558=\"\",E6557,D6558/MAX($D$8:D6558)-1)))","v":""}]
[null,null,null,null,{"$f":"IF(A6559=\"\",\"\",IF(B6559=\"\",E6558,IF(D6559=\"\",E6558,D6559/MAX($D$8:D6559)-1)))","v":""}]
[null,null,null,null,{"$f":"IF(A6560=\"\",\"\",IF(B6560=\"\",E6559,IF(D6560=\"\",E6559,D6560/MAX($D$8:D6560)-1)))","v":""}]
[null,null,null,null,{"$f":"IF(A6561=\"\",\"\",IF(B6561=\"\",E6560,IF(D6561=\"\",E6560,D6561/MAX($D$8:D6561)-1)))","v":""}]
[null,null,null,null,{"$f":"IF(A6562=\"\",\"\",IF(B6562=\"\",E6561,IF(D6562=\"\",E6561,D6562/MAX($D$8:D6562)-1)))","v":""}]
[null,null,null,null,{"$f":"IF(A6563=\"\",\"\",IF(B6563=\"\",E6562,IF(D6563=\"\",E6562,D6563/MAX($D$8:D6563)-1)))","v":""}]
[null,null,null,null,{"$f":"IF(A6564=\"\",\"\",IF(B6564=\"\",E6563,IF(D6564=\"\",E6563,D6564/MAX($D$8:D6564)-1)))","v":""}]
[null,null,null,null,{"$f":"IF(A6565=\"\",\"\",IF(B6565=\"\",E6564,IF(D6565=\"\",E6564,D6565/MAX($D$8:D6565)-1)))","v":""}]
[null,null,null,null,{"$f":"IF(A6566=\"\",\"\",IF(B6566=\"\",E6565,IF(D6566=\"\",E6565,D6566/MAX($D$8:D6566)-1)))","v":""}]
[null,null,null,null,{"$f":"IF(A6567=\"\",\"\",IF(B6567=\"\",E6566,IF(D6567=\"\",E6566,D6567/MAX($D$8:D6567)-1)))","v":""}]
[null,null,null,null,{"$f":"IF(A6568=\"\",\"\",IF(B6568=\"\",E6567,IF(D6568=\"\",E6567,D6568/MAX($D$8:D6568)-1)))","v":""}]
[null,null,null,null,{"$f":"IF(A6569=\"\",\"\",IF(B6569=\"\",E6568,IF(D6569=\"\",E6568,D6569/MAX($D$8:D6569)-1)))","v":""}]
[null,null,null,null,{"$f":"IF(A6570=\"\",\"\",IF(B6570=\"\",E6569,IF(D6570=\"\",E6569,D6570/MAX($D$8:D6570)-1)))","v":""}]
[null,null,null,null,{"$f":"IF(A6571=\"\",\"\",IF(B6571=\"\",E6570,IF(D6571=\"\",E6570,D6571/MAX($D$8:D6571)-1)))","v":""}]
[null,null,null,null,{"$f":"IF(A6572=\"\",\"\",IF(B6572=\"\",E6571,IF(D6572=\"\",E6571,D6572/MAX($D$8:D6572)-1)))","v":""}]
[null,null,null,null,{"$f":"IF(A6573=\"\",\"\",IF(B6573=\"\",E6572,IF(D6573=\"\",E6572,D6573/MAX($D$8:D6573)-1)))","v":""}]
[null,null,null,null,{"$f":"IF(A6574=\"\",\"\",IF(B6574=\"\",E6573,IF(D6574=\"\",E6573,D6574/MAX($D$8:D6574)-1)))","v":""}]
[null,null,null,null,{"$f":"IF(A6575=\"\",\"\",IF(B6575=\"\",E6574,IF(D6575=\"\",E6574,D6575/MAX($D$8:D6575)-1)))","v":""}]
[null,null,null,null,{"$f":"IF(A6576=\"\",\"\",IF(B6576=\"\",E6575,IF(D6576=\"\",E6575,D6576/MAX($D$8:D6576)-1)))","v":""}]
[null,null,null,null,{"$f":"IF(A6577=\"\",\"\",IF(B6577=\"\",E6576,IF(D6577=\"\",E6576,D6577/MAX($D$8:D6577)-1)))","v":""}]
[null,null,null,null,{"$f":"IF(A6578=\"\",\"\",IF(B6578=\"\",E6577,IF(D6578=\"\",E6577,D6578/MAX($D$8:D6578)-1)))","v":""}]
[null,null,null,null,{"$f":"IF(A6579=\"\",\"\",IF(B6579=\"\",E6578,IF(D6579=\"\",E6578,D6579/MAX($D$8:D6579)-1)))","v":""}]
[null,null,null,null,{"$f":"IF(A6580=\"\",\"\",IF(B6580=\"\",E6579,IF(D6580=\"\",E6579,D6580/MAX($D$8:D6580)-1)))","v":""}]
[null,null,null,null,{"$f":"IF(A6581=\"\",\"\",IF(B6581=\"\",E6580,IF(D6581=\"\",E6580,D6581/MAX($D$8:D6581)-1)))","v":""}]
[null,null,null,null,{"$f":"IF(A6582=\"\",\"\",IF(B6582=\"\",E6581,IF(D6582=\"\",E6581,D6582/MAX($D$8:D6582)-1)))","v":""}]
[null,null,null,null,{"$f":"IF(A6583=\"\",\"\",IF(B6583=\"\",E6582,IF(D6583=\"\",E6582,D6583/MAX($D$8:D6583)-1)))","v":""}]
[null,null,null,null,{"$f":"IF(A6584=\"\",\"\",IF(B6584=\"\",E6583,IF(D6584=\"\",E6583,D6584/MAX($D$8:D6584)-1)))","v":""}]
[null,null,null,null,{"$f":"IF(A6585=\"\",\"\",IF(B6585=\"\",E6584,IF(D6585=\"\",E6584,D6585/MAX($D$8:D6585)-1)))","v":""}]
[null,null,null,null,{"$f":"IF(A6586=\"\",\"\",IF(B6586=\"\",E6585,IF(D6586=\"\",E6585,D6586/MAX($D$8:D6586)-1)))","v":""}]
[null,null,null,null,{"$f":"IF(A6587=\"\",\"\",IF(B6587=\"\",E6586,IF(D6587=\"\",E6586,D6587/MAX($D$8:D6587)-1)))","v":""}]
[null,null,null,null,{"$f":"IF(A6588=\"\",\"\",IF(B6588=\"\",E6587,IF(D6588=\"\",E6587,D6588/MAX($D$8:D6588)-1)))","v":""}]
[null,null,null,null,{"$f":"IF(A6589=\"\",\"\",IF(B6589=\"\",E6588,IF(D6589=\"\",E6588,D6589/MAX($D$8:D6589)-1)))","v":""}]
[null,null,null,null,{"$f":"IF(A6590=\"\",\"\",IF(B6590=\"\",E6589,IF(D6590=\"\",E6589,D6590/MAX($D$8:D6590)-1)))","v":""}]
[null,null,null,null,{"$f":"IF(A6591=\"\",\"\",IF(B6591=\"\",E6590,IF(D6591=\"\",E6590,D6591/MAX($D$8:D6591)-1)))","v":""}]
[null,null,null,null,{"$f":"IF(A6592=\"\",\"\",IF(B6592=\"\",E6591,IF(D6592=\"\",E6591,D6592/MAX($D$8:D6592)-1)))","v":""}]
[null,null,null,null,{"$f":"IF(A6593=\"\",\"\",IF(B6593=\"\",E6592,IF(D6593=\"\",E6592,D6593/MAX($D$8:D6593)-1)))","v":""}]
[null,null,null,null,{"$f":"IF(A6594=\"\",\"\",IF(B6594=\"\",E6593,IF(D6594=\"\",E6593,D6594/MAX($D$8:D6594)-1)))","v":""}]
[null,null,null,null,{"$f":"IF(A6595=\"\",\"\",IF(B6595=\"\",E6594,IF(D6595=\"\",E6594,D6595/MAX($D$8:D6595)-1)))","v":""}]
[null,null,null,null,{"$f":"IF(A6596=\"\",\"\",IF(B6596=\"\",E6595,IF(D6596=\"\",E6595,D6596/MAX($D$8:D6596)-1)))","v":""}]
[null,null,null,null,{"$f":"IF(A6597=\"\",\"\",IF(B6597=\"\",E6596,IF(D6597=\"\",E6596,D6597/MAX($D$8:D6597)-1)))","v":""}]
[null,null,null,null,{"$f":"IF(A6598=\"\",\"\",IF(B6598=\"\",E6597,IF(D6598=\"\",E6597,D6598/MAX($D$8:D6598)-1)))","v":""}]
[null,null,null,null,{"$f":"IF(A6599=\"\",\"\",IF(B6599=\"\",E6598,IF(D6599=\"\",E6598,D6599/MAX($D$8:D6599)-1)))","v":""}]
[null,null,null,null,{"$f":"IF(A6600=\"\",\"\",IF(B6600=\"\",E6599,IF(D6600=\"\",E6599,D6600/MAX($D$8:D6600)-1)))","v":""}]
[null,null,null,null,{"$f":"IF(A6601=\"\",\"\",IF(B6601=\"\",E6600,IF(D6601=\"\",E6600,D6601/MAX($D$8:D6601)-1)))","v":""}]
[null,null,null,null,{"$f":"IF(A6602=\"\",\"\",IF(B6602=\"\",E6601,IF(D6602=\"\",E6601,D6602/MAX($D$8:D6602)-1)))","v":""}]
[null,null,null,null,{"$f":"IF(A6603=\"\",\"\",IF(B6603=\"\",E6602,IF(D6603=\"\",E6602,D6603/MAX($D$8:D6603)-1)))","v":""}]
[null,null,null,null,{"$f":"IF(A6604=\"\",\"\",IF(B6604=\"\",E6603,IF(D6604=\"\",E6603,D6604/MAX($D$8:D6604)-1)))","v":""}]
[null,null,null,null,{"$f":"IF(A6605=\"\",\"\",IF(B6605=\"\",E6604,IF(D6605=\"\",E6604,D6605/MAX($D$8:D6605)-1)))","v":""}]
[null,null,null,null,{"$f":"IF(A6606=\"\",\"\",IF(B6606=\"\",E6605,IF(D6606=\"\",E6605,D6606/MAX($D$8:D6606)-1)))","v":""}]
[null,null,null,null,{"$f":"IF(A6607=\"\",\"\",IF(B6607=\"\",E6606,IF(D6607=\"\",E6606,D6607/MAX($D$8:D6607)-1)))","v":""}]
[null,null,null,null,{"$f":"IF(A6608=\"\",\"\",IF(B6608=\"\",E6607,IF(D6608=\"\",E6607,D6608/MAX($D$8:D6608)-1)))","v":""}]
[null,null,null,null,{"$f":"IF(A6609=\"\",\"\",IF(B6609=\"\",E6608,IF(D6609=\"\",E6608,D6609/MAX($D$8:D6609)-1)))","v":""}]
[null,null,null,null,{"$f":"IF(A6610=\"\",\"\",IF(B6610=\"\",E6609,IF(D6610=\"\",E6609,D6610/MAX($D$8:D6610)-1)))","v":""}]
[null,null,null,null,{"$f":"IF(A6611=\"\",\"\",IF(B6611=\"\",E6610,IF(D6611=\"\",E6610,D6611/MAX($D$8:D6611)-1)))","v":""}]
[null,null,null,null,{"$f":"IF(A6612=\"\",\"\",IF(B6612=\"\",E6611,IF(D6612=\"\",E6611,D6612/MAX($D$8:D6612)-1)))","v":""}]
[null,null,null,null,{"$f":"IF(A6613=\"\",\"\",IF(B6613=\"\",E6612,IF(D6613=\"\",E6612,D6613/MAX($D$8:D6613)-1)))","v":""}]
[null,null,null,null,{"$f":"IF(A6614=\"\",\"\",IF(B6614=\"\",E6613,IF(D6614=\"\",E6613,D6614/MAX($D$8:D6614)-1)))","v":""}]
[null,null,null,null,{"$f":"IF(A6615=\"\",\"\",IF(B6615=\"\",E6614,IF(D6615=\"\",E6614,D6615/MAX($D$8:D6615)-1)))","v":""}]
[null,null,null,null,{"$f":"IF(A6616=\"\",\"\",IF(B6616=\"\",E6615,IF(D6616=\"\",E6615,D6616/MAX($D$8:D6616)-1)))","v":""}]
[null,null,null,null,{"$f":"IF(A6617=\"\",\"\",IF(B6617=\"\",E6616,IF(D6617=\"\",E6616,D6617/MAX($D$8:D6617)-1)))","v":""}]
[null,null,null,null,{"$f":"IF(A6618=\"\",\"\",IF(B6618=\"\",E6617,IF(D6618=\"\",E6617,D6618/MAX($D$8:D6618)-1)))","v":""}]
[null,null,null,null,{"$f":"IF(A6619=\"\",\"\",IF(B6619=\"\",E6618,IF(D6619=\"\",E6618,D6619/MAX($D$8:D6619)-1)))","v":""}]
[null,null,null,null,{"$f":"IF(A6620=\"\",\"\",IF(B6620=\"\",E6619,IF(D6620=\"\",E6619,D6620/MAX($D$8:D6620)-1)))","v":""}]
[null,null,null,null,{"$f":"IF(A6621=\"\",\"\",IF(B6621=\"\",E6620,IF(D6621=\"\",E6620,D6621/MAX($D$8:D6621)-1)))","v":""}]
[null,null,null,null,{"$f":"IF(A6622=\"\",\"\",IF(B6622=\"\",E6621,IF(D6622=\"\",E6621,D6622/MAX($D$8:D6622)-1)))","v":""}]
[null,null,null,null,{"$f":"IF(A6623=\"\",\"\",IF(B6623=\"\",E6622,IF(D6623=\"\",E6622,D6623/MAX($D$8:D6623)-1)))","v":""}]
[null,null,null,null,{"$f":"IF(A6624=\"\",\"\",IF(B6624=\"\",E6623,IF(D6624=\"\",E6623,D6624/MAX($D$8:D6624)-1)))","v":""}]
[null,null,null,null,{"$f":"IF(A6625=\"\",\"\",IF(B6625=\"\",E6624,IF(D6625=\"\",E6624,D6625/MAX($D$8:D6625)-1)))","v":""}]
[null,null,null,null,{"$f":"IF(A6626=\"\",\"\",IF(B6626=\"\",E6625,IF(D6626=\"\",E6625,D6626/MAX($D$8:D6626)-1)))","v":""}]
[null,null,null,null,{"$f":"IF(A6627=\"\",\"\",IF(B6627=\"\",E6626,IF(D6627=\"\",E6626,D6627/MAX($D$8:D6627)-1)))","v":""}]
[null,null,null,null,{"$f":"IF(A6628=\"\",\"\",IF(B6628=\"\",E6627,IF(D6628=\"\",E6627,D6628/MAX($D$8:D6628)-1)))","v":""}]
[null,null,null,null,{"$f":"IF(A6629=\"\",\"\",IF(B6629=\"\",E6628,IF(D6629=\"\",E6628,D6629/MAX($D$8:D6629)-1)))","v":""}]
[null,null,null,null,{"$f":"IF(A6630=\"\",\"\",IF(B6630=\"\",E6629,IF(D6630=\"\",E6629,D6630/MAX($D$8:D6630)-1)))","v":""}]
[null,null,null,null,{"$f":"IF(A6631=\"\",\"\",IF(B6631=\"\",E6630,IF(D6631=\"\",E6630,D6631/MAX($D$8:D6631)-1)))","v":""}]
[null,null,null,null,{"$f":"IF(A6632=\"\",\"\",IF(B6632=\"\",E6631,IF(D6632=\"\",E6631,D6632/MAX($D$8:D6632)-1)))","v":""}]
[null,null,null,null,{"$f":"IF(A6633=\"\",\"\",IF(B6633=\"\",E6632,IF(D6633=\"\",E6632,D6633/MAX($D$8:D6633)-1)))","v":""}]
[null,null,null,null,{"$f":"IF(A6634=\"\",\"\",IF(B6634=\"\",E6633,IF(D6634=\"\",E6633,D6634/MAX($D$8:D6634)-1)))","v":""}]
[null,null,null,null,{"$f":"IF(A6635=\"\",\"\",IF(B6635=\"\",E6634,IF(D6635=\"\",E6634,D6635/MAX($D$8:D6635)-1)))","v":""}]
[null,null,null,null,{"$f":"IF(A6636=\"\",\"\",IF(B6636=\"\",E6635,IF(D6636=\"\",E6635,D6636/MAX($D$8:D6636)-1)))","v":""}]
[null,null,null,null,{"$f":"IF(A6637=\"\",\"\",IF(B6637=\"\",E6636,IF(D6637=\"\",E6636,D6637/MAX($D$8:D6637)-1)))","v":""}]
[null,null,null,null,{"$f":"IF(A6638=\"\",\"\",IF(B6638=\"\",E6637,IF(D6638=\"\",E6637,D6638/MAX($D$8:D6638)-1)))","v":""}]
[null,null,null,null,{"$f":"IF(A6639=\"\",\"\",IF(B6639=\"\",E6638,IF(D6639=\"\",E6638,D6639/MAX($D$8:D6639)-1)))","v":""}]
[null,null,null,null,{"$f":"IF(A6640=\"\",\"\",IF(B6640=\"\",E6639,IF(D6640=\"\",E6639,D6640/MAX($D$8:D6640)-1)))","v":""}]
[null,null,null,null,{"$f":"IF(A6641=\"\",\"\",IF(B6641=\"\",E6640,IF(D6641=\"\",E6640,D6641/MAX($D$8:D6641)-1)))","v":""}]
[null,null,null,null,{"$f":"IF(A6642=\"\",\"\",IF(B6642=\"\",E6641,IF(D6642=\"\",E6641,D6642/MAX($D$8:D6642)-1)))","v":""}]
[null,null,null,null,{"$f":"IF(A6643=\"\",\"\",IF(B6643=\"\",E6642,IF(D6643=\"\",E6642,D6643/MAX($D$8:D6643)-1)))","v":""}]
[null,null,null,null,{"$f":"IF(A6644=\"\",\"\",IF(B6644=\"\",E6643,IF(D6644=\"\",E6643,D6644/MAX($D$8:D6644)-1)))","v":""}]
[null,null,null,null,{"$f":"IF(A6645=\"\",\"\",IF(B6645=\"\",E6644,IF(D6645=\"\",E6644,D6645/MAX($D$8:D6645)-1)))","v":""}]
[null,null,null,null,{"$f":"IF(A6646=\"\",\"\",IF(B6646=\"\",E6645,IF(D6646=\"\",E6645,D6646/MAX($D$8:D6646)-1)))","v":""}]
[null,null,null,null,{"$f":"IF(A6647=\"\",\"\",IF(B6647=\"\",E6646,IF(D6647=\"\",E6646,D6647/MAX($D$8:D6647)-1)))","v":""}]
[null,null,null,null,{"$f":"IF(A6648=\"\",\"\",IF(B6648=\"\",E6647,IF(D6648=\"\",E6647,D6648/MAX($D$8:D6648)-1)))","v":""}]
[null,null,null,null,{"$f":"IF(A6649=\"\",\"\",IF(B6649=\"\",E6648,IF(D6649=\"\",E6648,D6649/MAX($D$8:D6649)-1)))","v":""}]
[null,null,null,null,{"$f":"IF(A6650=\"\",\"\",IF(B6650=\"\",E6649,IF(D6650=\"\",E6649,D6650/MAX($D$8:D6650)-1)))","v":""}]
[null,null,null,null,{"$f":"IF(A6651=\"\",\"\",IF(B6651=\"\",E6650,IF(D6651=\"\",E6650,D6651/MAX($D$8:D6651)-1)))","v":""}]
[null,null,null,null,{"$f":"IF(A6652=\"\",\"\",IF(B6652=\"\",E6651,IF(D6652=\"\",E6651,D6652/MAX($D$8:D6652)-1)))","v":""}]
[null,null,null,null,{"$f":"IF(A6653=\"\",\"\",IF(B6653=\"\",E6652,IF(D6653=\"\",E6652,D6653/MAX($D$8:D6653)-1)))","v":""}]
[null,null,null,null,{"$f":"IF(A6654=\"\",\"\",IF(B6654=\"\",E6653,IF(D6654=\"\",E6653,D6654/MAX($D$8:D6654)-1)))","v":""}]
[null,null,null,null,{"$f":"IF(A6655=\"\",\"\",IF(B6655=\"\",E6654,IF(D6655=\"\",E6654,D6655/MAX($D$8:D6655)-1)))","v":""}]
[null,null,null,null,{"$f":"IF(A6656=\"\",\"\",IF(B6656=\"\",E6655,IF(D6656=\"\",E6655,D6656/MAX($D$8:D6656)-1)))","v":""}]
[null,null,null,null,{"$f":"IF(A6657=\"\",\"\",IF(B6657=\"\",E6656,IF(D6657=\"\",E6656,D6657/MAX($D$8:D6657)-1)))","v":""}]
[null,null,null,null,{"$f":"IF(A6658=\"\",\"\",IF(B6658=\"\",E6657,IF(D6658=\"\",E6657,D6658/MAX($D$8:D6658)-1)))","v":""}]
[null,null,null,null,{"$f":"IF(A6659=\"\",\"\",IF(B6659=\"\",E6658,IF(D6659=\"\",E6658,D6659/MAX($D$8:D6659)-1)))","v":""}]
[null,null,null,null,{"$f":"IF(A6660=\"\",\"\",IF(B6660=\"\",E6659,IF(D6660=\"\",E6659,D6660/MAX($D$8:D6660)-1)))","v":""}]
[null,null,null,null,{"$f":"IF(A6661=\"\",\"\",IF(B6661=\"\",E6660,IF(D6661=\"\",E6660,D6661/MAX($D$8:D6661)-1)))","v":""}]
[null,null,null,null,{"$f":"IF(A6662=\"\",\"\",IF(B6662=\"\",E6661,IF(D6662=\"\",E6661,D6662/MAX($D$8:D6662)-1)))","v":""}]
[null,null,null,null,{"$f":"IF(A6663=\"\",\"\",IF(B6663=\"\",E6662,IF(D6663=\"\",E6662,D6663/MAX($D$8:D6663)-1)))","v":""}]
[null,null,null,null,{"$f":"IF(A6664=\"\",\"\",IF(B6664=\"\",E6663,IF(D6664=\"\",E6663,D6664/MAX($D$8:D6664)-1)))","v":""}]
[null,null,null,null,{"$f":"IF(A6665=\"\",\"\",IF(B6665=\"\",E6664,IF(D6665=\"\",E6664,D6665/MAX($D$8:D6665)-1)))","v":""}]
[null,null,null,null,{"$f":"IF(A6666=\"\",\"\",IF(B6666=\"\",E6665,IF(D6666=\"\",E6665,D6666/MAX($D$8:D6666)-1)))","v":""}]
[null,null,null,null,{"$f":"IF(A6667=\"\",\"\",IF(B6667=\"\",E6666,IF(D6667=\"\",E6666,D6667/MAX($D$8:D6667)-1)))","v":""}]
[null,null,null,null,{"$f":"IF(A6668=\"\",\"\",IF(B6668=\"\",E6667,IF(D6668=\"\",E6667,D6668/MAX($D$8:D6668)-1)))","v":""}]
[null,null,null,null,{"$f":"IF(A6669=\"\",\"\",IF(B6669=\"\",E6668,IF(D6669=\"\",E6668,D6669/MAX($D$8:D6669)-1)))","v":""}]
[null,null,null,null,{"$f":"IF(A6670=\"\",\"\",IF(B6670=\"\",E6669,IF(D6670=\"\",E6669,D6670/MAX($D$8:D6670)-1)))","v":""}]
[null,null,null,null,{"$f":"IF(A6671=\"\",\"\",IF(B6671=\"\",E6670,IF(D6671=\"\",E6670,D6671/MAX($D$8:D6671)-1)))","v":""}]
[null,null,null,null,{"$f":"IF(A6672=\"\",\"\",IF(B6672=\"\",E6671,IF(D6672=\"\",E6671,D6672/MAX($D$8:D6672)-1)))","v":""}]
[null,null,null,null,{"$f":"IF(A6673=\"\",\"\",IF(B6673=\"\",E6672,IF(D6673=\"\",E6672,D6673/MAX($D$8:D6673)-1)))","v":""}]
[null,null,null,null,{"$f":"IF(A6674=\"\",\"\",IF(B6674=\"\",E6673,IF(D6674=\"\",E6673,D6674/MAX($D$8:D6674)-1)))","v":""}]
[null,null,null,null,{"$f":"IF(A6675=\"\",\"\",IF(B6675=\"\",E6674,IF(D6675=\"\",E6674,D6675/MAX($D$8:D6675)-1)))","v":""}]
[null,null,null,null,{"$f":"IF(A6676=\"\",\"\",IF(B6676=\"\",E6675,IF(D6676=\"\",E6675,D6676/MAX($D$8:D6676)-1)))","v":""}]
[null,null,null,null,{"$f":"IF(A6677=\"\",\"\",IF(B6677=\"\",E6676,IF(D6677=\"\",E6676,D6677/MAX($D$8:D6677)-1)))","v":""}]
[null,null,null,null,{"$f":"IF(A6678=\"\",\"\",IF(B6678=\"\",E6677,IF(D6678=\"\",E6677,D6678/MAX($D$8:D6678)-1)))","v":""}]
[null,null,null,null,{"$f":"IF(A6679=\"\",\"\",IF(B6679=\"\",E6678,IF(D6679=\"\",E6678,D6679/MAX($D$8:D6679)-1)))","v":""}]
[null,null,null,null,{"$f":"IF(A6680=\"\",\"\",IF(B6680=\"\",E6679,IF(D6680=\"\",E6679,D6680/MAX($D$8:D6680)-1)))","v":""}]
[null,null,null,null,{"$f":"IF(A6681=\"\",\"\",IF(B6681=\"\",E6680,IF(D6681=\"\",E6680,D6681/MAX($D$8:D6681)-1)))","v":""}]
[null,null,null,null,{"$f":"IF(A6682=\"\",\"\",IF(B6682=\"\",E6681,IF(D6682=\"\",E6681,D6682/MAX($D$8:D6682)-1)))","v":""}]
[null,null,null,null,{"$f":"IF(A6683=\"\",\"\",IF(B6683=\"\",E6682,IF(D6683=\"\",E6682,D6683/MAX($D$8:D6683)-1)))","v":""}]
[null,null,null,null,{"$f":"IF(A6684=\"\",\"\",IF(B6684=\"\",E6683,IF(D6684=\"\",E6683,D6684/MAX($D$8:D6684)-1)))","v":""}]
[null,null,null,null,{"$f":"IF(A6685=\"\",\"\",IF(B6685=\"\",E6684,IF(D6685=\"\",E6684,D6685/MAX($D$8:D6685)-1)))","v":""}]
[null,null,null,null,{"$f":"IF(A6686=\"\",\"\",IF(B6686=\"\",E6685,IF(D6686=\"\",E6685,D6686/MAX($D$8:D6686)-1)))","v":""}]
[null,null,null,null,{"$f":"IF(A6687=\"\",\"\",IF(B6687=\"\",E6686,IF(D6687=\"\",E6686,D6687/MAX($D$8:D6687)-1)))","v":""}]
[null,null,null,null,{"$f":"IF(A6688=\"\",\"\",IF(B6688=\"\",E6687,IF(D6688=\"\",E6687,D6688/MAX($D$8:D6688)-1)))","v":""}]
[null,null,null,null,{"$f":"IF(A6689=\"\",\"\",IF(B6689=\"\",E6688,IF(D6689=\"\",E6688,D6689/MAX($D$8:D6689)-1)))","v":""}]
[null,null,null,null,{"$f":"IF(A6690=\"\",\"\",IF(B6690=\"\",E6689,IF(D6690=\"\",E6689,D6690/MAX($D$8:D6690)-1)))","v":""}]
[null,null,null,null,{"$f":"IF(A6691=\"\",\"\",IF(B6691=\"\",E6690,IF(D6691=\"\",E6690,D6691/MAX($D$8:D6691)-1)))","v":""}]
[null,null,null,null,{"$f":"IF(A6692=\"\",\"\",IF(B6692=\"\",E6691,IF(D6692=\"\",E6691,D6692/MAX($D$8:D6692)-1)))","v":""}]
[null,null,null,null,{"$f":"IF(A6693=\"\",\"\",IF(B6693=\"\",E6692,IF(D6693=\"\",E6692,D6693/MAX($D$8:D6693)-1)))","v":""}]
[null,null,null,null,{"$f":"IF(A6694=\"\",\"\",IF(B6694=\"\",E6693,IF(D6694=\"\",E6693,D6694/MAX($D$8:D6694)-1)))","v":""}]
[null,null,null,null,{"$f":"IF(A6695=\"\",\"\",IF(B6695=\"\",E6694,IF(D6695=\"\",E6694,D6695/MAX($D$8:D6695)-1)))","v":""}]
[null,null,null,null,{"$f":"IF(A6696=\"\",\"\",IF(B6696=\"\",E6695,IF(D6696=\"\",E6695,D6696/MAX($D$8:D6696)-1)))","v":""}]
[null,null,null,null,{"$f":"IF(A6697=\"\",\"\",IF(B6697=\"\",E6696,IF(D6697=\"\",E6696,D6697/MAX($D$8:D6697)-1)))","v":""}]
[null,null,null,null,{"$f":"IF(A6698=\"\",\"\",IF(B6698=\"\",E6697,IF(D6698=\"\",E6697,D6698/MAX($D$8:D6698)-1)))","v":""}]
[null,null,null,null,{"$f":"IF(A6699=\"\",\"\",IF(B6699=\"\",E6698,IF(D6699=\"\",E6698,D6699/MAX($D$8:D6699)-1)))","v":""}]
[null,null,null,null,{"$f":"IF(A6700=\"\",\"\",IF(B6700=\"\",E6699,IF(D6700=\"\",E6699,D6700/MAX($D$8:D6700)-1)))","v":""}]
[null,null,null,null,{"$f":"IF(A6701=\"\",\"\",IF(B6701=\"\",E6700,IF(D6701=\"\",E6700,D6701/MAX($D$8:D6701)-1)))","v":""}]
[null,null,null,null,{"$f":"IF(A6702=\"\",\"\",IF(B6702=\"\",E6701,IF(D6702=\"\",E6701,D6702/MAX($D$8:D6702)-1)))","v":""}]
[null,null,null,null,{"$f":"IF(A6703=\"\",\"\",IF(B6703=\"\",E6702,IF(D6703=\"\",E6702,D6703/MAX($D$8:D6703)-1)))","v":""}]
[null,null,null,null,{"$f":"IF(A6704=\"\",\"\",IF(B6704=\"\",E6703,IF(D6704=\"\",E6703,D6704/MAX($D$8:D6704)-1)))","v":""}]
[null,null,null,null,{"$f":"IF(A6705=\"\",\"\",IF(B6705=\"\",E6704,IF(D6705=\"\",E6704,D6705/MAX($D$8:D6705)-1)))","v":""}]
[null,null,null,null,{"$f":"IF(A6706=\"\",\"\",IF(B6706=\"\",E6705,IF(D6706=\"\",E6705,D6706/MAX($D$8:D6706)-1)))","v":""}]
[null,null,null,null,{"$f":"IF(A6707=\"\",\"\",IF(B6707=\"\",E6706,IF(D6707=\"\",E6706,D6707/MAX($D$8:D6707)-1)))","v":""}]
[null,null,null,null,{"$f":"IF(A6708=\"\",\"\",IF(B6708=\"\",E6707,IF(D6708=\"\",E6707,D6708/MAX($D$8:D6708)-1)))","v":""}]
[null,null,null,null,{"$f":"IF(A6709=\"\",\"\",IF(B6709=\"\",E6708,IF(D6709=\"\",E6708,D6709/MAX($D$8:D6709)-1)))","v":""}]
[null,null,null,null,{"$f":"IF(A6710=\"\",\"\",IF(B6710=\"\",E6709,IF(D6710=\"\",E6709,D6710/MAX($D$8:D6710)-1)))","v":""}]
[null,null,null,null,{"$f":"IF(A6711=\"\",\"\",IF(B6711=\"\",E6710,IF(D6711=\"\",E6710,D6711/MAX($D$8:D6711)-1)))","v":""}]
[null,null,null,null,{"$f":"IF(A6712=\"\",\"\",IF(B6712=\"\",E6711,IF(D6712=\"\",E6711,D6712/MAX($D$8:D6712)-1)))","v":""}]
[null,null,null,null,{"$f":"IF(A6713=\"\",\"\",IF(B6713=\"\",E6712,IF(D6713=\"\",E6712,D6713/MAX($D$8:D6713)-1)))","v":""}]
[null,null,null,null,{"$f":"IF(A6714=\"\",\"\",IF(B6714=\"\",E6713,IF(D6714=\"\",E6713,D6714/MAX($D$8:D6714)-1)))","v":""}]
[null,null,null,null,{"$f":"IF(A6715=\"\",\"\",IF(B6715=\"\",E6714,IF(D6715=\"\",E6714,D6715/MAX($D$8:D6715)-1)))","v":""}]
[null,null,null,null,{"$f":"IF(A6716=\"\",\"\",IF(B6716=\"\",E6715,IF(D6716=\"\",E6715,D6716/MAX($D$8:D6716)-1)))","v":""}]
[null,null,null,null,{"$f":"IF(A6717=\"\",\"\",IF(B6717=\"\",E6716,IF(D6717=\"\",E6716,D6717/MAX($D$8:D6717)-1)))","v":""}]
[null,null,null,null,{"$f":"IF(A6718=\"\",\"\",IF(B6718=\"\",E6717,IF(D6718=\"\",E6717,D6718/MAX($D$8:D6718)-1)))","v":""}]
[null,null,null,null,{"$f":"IF(A6719=\"\",\"\",IF(B6719=\"\",E6718,IF(D6719=\"\",E6718,D6719/MAX($D$8:D6719)-1)))","v":""}]
[null,null,null,null,{"$f":"IF(A6720=\"\",\"\",IF(B6720=\"\",E6719,IF(D6720=\"\",E6719,D6720/MAX($D$8:D6720)-1)))","v":""}]
[null,null,null,null,{"$f":"IF(A6721=\"\",\"\",IF(B6721=\"\",E6720,IF(D6721=\"\",E6720,D6721/MAX($D$8:D6721)-1)))","v":""}]
[null,null,null,null,{"$f":"IF(A6722=\"\",\"\",IF(B6722=\"\",E6721,IF(D6722=\"\",E6721,D6722/MAX($D$8:D6722)-1)))","v":""}]
[null,null,null,null,{"$f":"IF(A6723=\"\",\"\",IF(B6723=\"\",E6722,IF(D6723=\"\",E6722,D6723/MAX($D$8:D6723)-1)))","v":""}]
[null,null,null,null,{"$f":"IF(A6724=\"\",\"\",IF(B6724=\"\",E6723,IF(D6724=\"\",E6723,D6724/MAX($D$8:D6724)-1)))","v":""}]
[null,null,null,null,{"$f":"IF(A6725=\"\",\"\",IF(B6725=\"\",E6724,IF(D6725=\"\",E6724,D6725/MAX($D$8:D6725)-1)))","v":""}]
[null,null,null,null,{"$f":"IF(A6726=\"\",\"\",IF(B6726=\"\",E6725,IF(D6726=\"\",E6725,D6726/MAX($D$8:D6726)-1)))","v":""}]
[null,null,null,null,{"$f":"IF(A6727=\"\",\"\",IF(B6727=\"\",E6726,IF(D6727=\"\",E6726,D6727/MAX($D$8:D6727)-1)))","v":""}]
[null,null,null,null,{"$f":"IF(A6728=\"\",\"\",IF(B6728=\"\",E6727,IF(D6728=\"\",E6727,D6728/MAX($D$8:D6728)-1)))","v":""}]
[null,null,null,null,{"$f":"IF(A6729=\"\",\"\",IF(B6729=\"\",E6728,IF(D6729=\"\",E6728,D6729/MAX($D$8:D6729)-1)))","v":""}]
[null,null,null,null,{"$f":"IF(A6730=\"\",\"\",IF(B6730=\"\",E6729,IF(D6730=\"\",E6729,D6730/MAX($D$8:D6730)-1)))","v":""}]
[null,null,null,null,{"$f":"IF(A6731=\"\",\"\",IF(B6731=\"\",E6730,IF(D6731=\"\",E6730,D6731/MAX($D$8:D6731)-1)))","v":""}]
[null,null,null,null,{"$f":"IF(A6732=\"\",\"\",IF(B6732=\"\",E6731,IF(D6732=\"\",E6731,D6732/MAX($D$8:D6732)-1)))","v":""}]
[null,null,null,null,{"$f":"IF(A6733=\"\",\"\",IF(B6733=\"\",E6732,IF(D6733=\"\",E6732,D6733/MAX($D$8:D6733)-1)))","v":""}]
[null,null,null,null,{"$f":"IF(A6734=\"\",\"\",IF(B6734=\"\",E6733,IF(D6734=\"\",E6733,D6734/MAX($D$8:D6734)-1)))","v":""}]
[null,null,null,null,{"$f":"IF(A6735=\"\",\"\",IF(B6735=\"\",E6734,IF(D6735=\"\",E6734,D6735/MAX($D$8:D6735)-1)))","v":""}]
[null,null,null,null,{"$f":"IF(A6736=\"\",\"\",IF(B6736=\"\",E6735,IF(D6736=\"\",E6735,D6736/MAX($D$8:D6736)-1)))","v":""}]
[null,null,null,null,{"$f":"IF(A6737=\"\",\"\",IF(B6737=\"\",E6736,IF(D6737=\"\",E6736,D6737/MAX($D$8:D6737)-1)))","v":""}]
[null,null,null,null,{"$f":"IF(A6738=\"\",\"\",IF(B6738=\"\",E6737,IF(D6738=\"\",E6737,D6738/MAX($D$8:D6738)-1)))","v":""}]
[null,null,null,null,{"$f":"IF(A6739=\"\",\"\",IF(B6739=\"\",E6738,IF(D6739=\"\",E6738,D6739/MAX($D$8:D6739)-1)))","v":""}]
[null,null,null,null,{"$f":"IF(A6740=\"\",\"\",IF(B6740=\"\",E6739,IF(D6740=\"\",E6739,D6740/MAX($D$8:D6740)-1)))","v":""}]
[null,null,null,null,{"$f":"IF(A6741=\"\",\"\",IF(B6741=\"\",E6740,IF(D6741=\"\",E6740,D6741/MAX($D$8:D6741)-1)))","v":""}]
[null,null,null,null,{"$f":"IF(A6742=\"\",\"\",IF(B6742=\"\",E6741,IF(D6742=\"\",E6741,D6742/MAX($D$8:D6742)-1)))","v":""}]
[null,null,null,null,{"$f":"IF(A6743=\"\",\"\",IF(B6743=\"\",E6742,IF(D6743=\"\",E6742,D6743/MAX($D$8:D6743)-1)))","v":""}]
[null,null,null,null,{"$f":"IF(A6744=\"\",\"\",IF(B6744=\"\",E6743,IF(D6744=\"\",E6743,D6744/MAX($D$8:D6744)-1)))","v":""}]
[null,null,null,null,{"$f":"IF(A6745=\"\",\"\",IF(B6745=\"\",E6744,IF(D6745=\"\",E6744,D6745/MAX($D$8:D6745)-1)))","v":""}]
[null,null,null,null,{"$f":"IF(A6746=\"\",\"\",IF(B6746=\"\",E6745,IF(D6746=\"\",E6745,D6746/MAX($D$8:D6746)-1)))","v":""}]
[null,null,null,null,{"$f":"IF(A6747=\"\",\"\",IF(B6747=\"\",E6746,IF(D6747=\"\",E6746,D6747/MAX($D$8:D6747)-1)))","v":""}]
[null,null,null,null,{"$f":"IF(A6748=\"\",\"\",IF(B6748=\"\",E6747,IF(D6748=\"\",E6747,D6748/MAX($D$8:D6748)-1)))","v":""}]
[null,null,null,null,{"$f":"IF(A6749=\"\",\"\",IF(B6749=\"\",E6748,IF(D6749=\"\",E6748,D6749/MAX($D$8:D6749)-1)))","v":""}]
[null,null,null,null,{"$f":"IF(A6750=\"\",\"\",IF(B6750=\"\",E6749,IF(D6750=\"\",E6749,D6750/MAX($D$8:D6750)-1)))","v":""}]
[null,null,null,null,{"$f":"IF(A6751=\"\",\"\",IF(B6751=\"\",E6750,IF(D6751=\"\",E6750,D6751/MAX($D$8:D6751)-1)))","v":""}]
[null,null,null,null,{"$f":"IF(A6752=\"\",\"\",IF(B6752=\"\",E6751,IF(D6752=\"\",E6751,D6752/MAX($D$8:D6752)-1)))","v":""}]
[null,null,null,null,{"$f":"IF(A6753=\"\",\"\",IF(B6753=\"\",E6752,IF(D6753=\"\",E6752,D6753/MAX($D$8:D6753)-1)))","v":""}]
[null,null,null,null,{"$f":"IF(A6754=\"\",\"\",IF(B6754=\"\",E6753,IF(D6754=\"\",E6753,D6754/MAX($D$8:D6754)-1)))","v":""}]
[null,null,null,null,{"$f":"IF(A6755=\"\",\"\",IF(B6755=\"\",E6754,IF(D6755=\"\",E6754,D6755/MAX($D$8:D6755)-1)))","v":""}]
[null,null,null,null,{"$f":"IF(A6756=\"\",\"\",IF(B6756=\"\",E6755,IF(D6756=\"\",E6755,D6756/MAX($D$8:D6756)-1)))","v":""}]
[null,null,null,null,{"$f":"IF(A6757=\"\",\"\",IF(B6757=\"\",E6756,IF(D6757=\"\",E6756,D6757/MAX($D$8:D6757)-1)))","v":""}]
[null,null,null,null,{"$f":"IF(A6758=\"\",\"\",IF(B6758=\"\",E6757,IF(D6758=\"\",E6757,D6758/MAX($D$8:D6758)-1)))","v":""}]
[null,null,null,null,{"$f":"IF(A6759=\"\",\"\",IF(B6759=\"\",E6758,IF(D6759=\"\",E6758,D6759/MAX($D$8:D6759)-1)))","v":""}]
[null,null,null,null,{"$f":"IF(A6760=\"\",\"\",IF(B6760=\"\",E6759,IF(D6760=\"\",E6759,D6760/MAX($D$8:D6760)-1)))","v":""}]
[null,null,null,null,{"$f":"IF(A6761=\"\",\"\",IF(B6761=\"\",E6760,IF(D6761=\"\",E6760,D6761/MAX($D$8:D6761)-1)))","v":""}]
[null,null,null,null,{"$f":"IF(A6762=\"\",\"\",IF(B6762=\"\",E6761,IF(D6762=\"\",E6761,D6762/MAX($D$8:D6762)-1)))","v":""}]
[null,null,null,null,{"$f":"IF(A6763=\"\",\"\",IF(B6763=\"\",E6762,IF(D6763=\"\",E6762,D6763/MAX($D$8:D6763)-1)))","v":""}]
[null,null,null,null,{"$f":"IF(A6764=\"\",\"\",IF(B6764=\"\",E6763,IF(D6764=\"\",E6763,D6764/MAX($D$8:D6764)-1)))","v":""}]
[null,null,null,null,{"$f":"IF(A6765=\"\",\"\",IF(B6765=\"\",E6764,IF(D6765=\"\",E6764,D6765/MAX($D$8:D6765)-1)))","v":""}]
[null,null,null,null,{"$f":"IF(A6766=\"\",\"\",IF(B6766=\"\",E6765,IF(D6766=\"\",E6765,D6766/MAX($D$8:D6766)-1)))","v":""}]
[null,null,null,null,{"$f":"IF(A6767=\"\",\"\",IF(B6767=\"\",E6766,IF(D6767=\"\",E6766,D6767/MAX($D$8:D6767)-1)))","v":""}]
[null,null,null,null,{"$f":"IF(A6768=\"\",\"\",IF(B6768=\"\",E6767,IF(D6768=\"\",E6767,D6768/MAX($D$8:D6768)-1)))","v":""}]
[null,null,null,null,{"$f":"IF(A6769=\"\",\"\",IF(B6769=\"\",E6768,IF(D6769=\"\",E6768,D6769/MAX($D$8:D6769)-1)))","v":""}]
[null,null,null,null,{"$f":"IF(A6770=\"\",\"\",IF(B6770=\"\",E6769,IF(D6770=\"\",E6769,D6770/MAX($D$8:D6770)-1)))","v":""}]
[null,null,null,null,{"$f":"IF(A6771=\"\",\"\",IF(B6771=\"\",E6770,IF(D6771=\"\",E6770,D6771/MAX($D$8:D6771)-1)))","v":""}]
[null,null,null,null,{"$f":"IF(A6772=\"\",\"\",IF(B6772=\"\",E6771,IF(D6772=\"\",E6771,D6772/MAX($D$8:D6772)-1)))","v":""}]
[null,null,null,null,{"$f":"IF(A6773=\"\",\"\",IF(B6773=\"\",E6772,IF(D6773=\"\",E6772,D6773/MAX($D$8:D6773)-1)))","v":""}]
[null,null,null,null,{"$f":"IF(A6774=\"\",\"\",IF(B6774=\"\",E6773,IF(D6774=\"\",E6773,D6774/MAX($D$8:D6774)-1)))","v":""}]
[null,null,null,null,{"$f":"IF(A6775=\"\",\"\",IF(B6775=\"\",E6774,IF(D6775=\"\",E6774,D6775/MAX($D$8:D6775)-1)))","v":""}]
[null,null,null,null,{"$f":"IF(A6776=\"\",\"\",IF(B6776=\"\",E6775,IF(D6776=\"\",E6775,D6776/MAX($D$8:D6776)-1)))","v":""}]
[null,null,null,null,{"$f":"IF(A6777=\"\",\"\",IF(B6777=\"\",E6776,IF(D6777=\"\",E6776,D6777/MAX($D$8:D6777)-1)))","v":""}]
[null,null,null,null,{"$f":"IF(A6778=\"\",\"\",IF(B6778=\"\",E6777,IF(D6778=\"\",E6777,D6778/MAX($D$8:D6778)-1)))","v":""}]
[null,null,null,null,{"$f":"IF(A6779=\"\",\"\",IF(B6779=\"\",E6778,IF(D6779=\"\",E6778,D6779/MAX($D$8:D6779)-1)))","v":""}]
[null,null,null,null,{"$f":"IF(A6780=\"\",\"\",IF(B6780=\"\",E6779,IF(D6780=\"\",E6779,D6780/MAX($D$8:D6780)-1)))","v":""}]
[null,null,null,null,{"$f":"IF(A6781=\"\",\"\",IF(B6781=\"\",E6780,IF(D6781=\"\",E6780,D6781/MAX($D$8:D6781)-1)))","v":""}]
[null,null,null,null,{"$f":"IF(A6782=\"\",\"\",IF(B6782=\"\",E6781,IF(D6782=\"\",E6781,D6782/MAX($D$8:D6782)-1)))","v":""}]
[null,null,null,null,{"$f":"IF(A6783=\"\",\"\",IF(B6783=\"\",E6782,IF(D6783=\"\",E6782,D6783/MAX($D$8:D6783)-1)))","v":""}]
[null,null,null,null,{"$f":"IF(A6784=\"\",\"\",IF(B6784=\"\",E6783,IF(D6784=\"\",E6783,D6784/MAX($D$8:D6784)-1)))","v":""}]
[null,null,null,null,{"$f":"IF(A6785=\"\",\"\",IF(B6785=\"\",E6784,IF(D6785=\"\",E6784,D6785/MAX($D$8:D6785)-1)))","v":""}]
[null,null,null,null,{"$f":"IF(A6786=\"\",\"\",IF(B6786=\"\",E6785,IF(D6786=\"\",E6785,D6786/MAX($D$8:D6786)-1)))","v":""}]
[null,null,null,null,{"$f":"IF(A6787=\"\",\"\",IF(B6787=\"\",E6786,IF(D6787=\"\",E6786,D6787/MAX($D$8:D6787)-1)))","v":""}]
[null,null,null,null,{"$f":"IF(A6788=\"\",\"\",IF(B6788=\"\",E6787,IF(D6788=\"\",E6787,D6788/MAX($D$8:D6788)-1)))","v":""}]
[null,null,null,null,{"$f":"IF(A6789=\"\",\"\",IF(B6789=\"\",E6788,IF(D6789=\"\",E6788,D6789/MAX($D$8:D6789)-1)))","v":""}]
[null,null,null,null,{"$f":"IF(A6790=\"\",\"\",IF(B6790=\"\",E6789,IF(D6790=\"\",E6789,D6790/MAX($D$8:D6790)-1)))","v":""}]
[null,null,null,null,{"$f":"IF(A6791=\"\",\"\",IF(B6791=\"\",E6790,IF(D6791=\"\",E6790,D6791/MAX($D$8:D6791)-1)))","v":""}]
[null,null,null,null,{"$f":"IF(A6792=\"\",\"\",IF(B6792=\"\",E6791,IF(D6792=\"\",E6791,D6792/MAX($D$8:D6792)-1)))","v":""}]
[null,null,null,null,{"$f":"IF(A6793=\"\",\"\",IF(B6793=\"\",E6792,IF(D6793=\"\",E6792,D6793/MAX($D$8:D6793)-1)))","v":""}]
[null,null,null,null,{"$f":"IF(A6794=\"\",\"\",IF(B6794=\"\",E6793,IF(D6794=\"\",E6793,D6794/MAX($D$8:D6794)-1)))","v":""}]
[null,null,null,null,{"$f":"IF(A6795=\"\",\"\",IF(B6795=\"\",E6794,IF(D6795=\"\",E6794,D6795/MAX($D$8:D6795)-1)))","v":""}]
[null,null,null,null,{"$f":"IF(A6796=\"\",\"\",IF(B6796=\"\",E6795,IF(D6796=\"\",E6795,D6796/MAX($D$8:D6796)-1)))","v":""}]
[null,null,null,null,{"$f":"IF(A6797=\"\",\"\",IF(B6797=\"\",E6796,IF(D6797=\"\",E6796,D6797/MAX($D$8:D6797)-1)))","v":""}]
[null,null,null,null,{"$f":"IF(A6798=\"\",\"\",IF(B6798=\"\",E6797,IF(D6798=\"\",E6797,D6798/MAX($D$8:D6798)-1)))","v":""}]
[null,null,null,null,{"$f":"IF(A6799=\"\",\"\",IF(B6799=\"\",E6798,IF(D6799=\"\",E6798,D6799/MAX($D$8:D6799)-1)))","v":""}]
[null,null,null,null,{"$f":"IF(A6800=\"\",\"\",IF(B6800=\"\",E6799,IF(D6800=\"\",E6799,D6800/MAX($D$8:D6800)-1)))","v":""}]
[null,null,null,null,{"$f":"IF(A6801=\"\",\"\",IF(B6801=\"\",E6800,IF(D6801=\"\",E6800,D6801/MAX($D$8:D6801)-1)))","v":""}]
[null,null,null,null,{"$f":"IF(A6802=\"\",\"\",IF(B6802=\"\",E6801,IF(D6802=\"\",E6801,D6802/MAX($D$8:D6802)-1)))","v":""}]
[null,null,null,null,{"$f":"IF(A6803=\"\",\"\",IF(B6803=\"\",E6802,IF(D6803=\"\",E6802,D6803/MAX($D$8:D6803)-1)))","v":""}]
[null,null,null,null,{"$f":"IF(A6804=\"\",\"\",IF(B6804=\"\",E6803,IF(D6804=\"\",E6803,D6804/MAX($D$8:D6804)-1)))","v":""}]
[null,null,null,null,{"$f":"IF(A6805=\"\",\"\",IF(B6805=\"\",E6804,IF(D6805=\"\",E6804,D6805/MAX($D$8:D6805)-1)))","v":""}]
[null,null,null,null,{"$f":"IF(A6806=\"\",\"\",IF(B6806=\"\",E6805,IF(D6806=\"\",E6805,D6806/MAX($D$8:D6806)-1)))","v":""}]
[null,null,null,null,{"$f":"IF(A6807=\"\",\"\",IF(B6807=\"\",E6806,IF(D6807=\"\",E6806,D6807/MAX($D$8:D6807)-1)))","v":""}]
[null,null,null,null,{"$f":"IF(A6808=\"\",\"\",IF(B6808=\"\",E6807,IF(D6808=\"\",E6807,D6808/MAX($D$8:D6808)-1)))","v":""}]
[null,null,null,null,{"$f":"IF(A6809=\"\",\"\",IF(B6809=\"\",E6808,IF(D6809=\"\",E6808,D6809/MAX($D$8:D6809)-1)))","v":""}]
[null,null,null,null,{"$f":"IF(A6810=\"\",\"\",IF(B6810=\"\",E6809,IF(D6810=\"\",E6809,D6810/MAX($D$8:D6810)-1)))","v":""}]
[null,null,null,null,{"$f":"IF(A6811=\"\",\"\",IF(B6811=\"\",E6810,IF(D6811=\"\",E6810,D6811/MAX($D$8:D6811)-1)))","v":""}]
[null,null,null,null,{"$f":"IF(A6812=\"\",\"\",IF(B6812=\"\",E6811,IF(D6812=\"\",E6811,D6812/MAX($D$8:D6812)-1)))","v":""}]
[null,null,null,null,{"$f":"IF(A6813=\"\",\"\",IF(B6813=\"\",E6812,IF(D6813=\"\",E6812,D6813/MAX($D$8:D6813)-1)))","v":""}]
[null,null,null,null,{"$f":"IF(A6814=\"\",\"\",IF(B6814=\"\",E6813,IF(D6814=\"\",E6813,D6814/MAX($D$8:D6814)-1)))","v":""}]
[null,null,null,null,{"$f":"IF(A6815=\"\",\"\",IF(B6815=\"\",E6814,IF(D6815=\"\",E6814,D6815/MAX($D$8:D6815)-1)))","v":""}]
[null,null,null,null,{"$f":"IF(A6816=\"\",\"\",IF(B6816=\"\",E6815,IF(D6816=\"\",E6815,D6816/MAX($D$8:D6816)-1)))","v":""}]
[null,null,null,null,{"$f":"IF(A6817=\"\",\"\",IF(B6817=\"\",E6816,IF(D6817=\"\",E6816,D6817/MAX($D$8:D6817)-1)))","v":""}]
[null,null,null,null,{"$f":"IF(A6818=\"\",\"\",IF(B6818=\"\",E6817,IF(D6818=\"\",E6817,D6818/MAX($D$8:D6818)-1)))","v":""}]
[null,null,null,null,{"$f":"IF(A6819=\"\",\"\",IF(B6819=\"\",E6818,IF(D6819=\"\",E6818,D6819/MAX($D$8:D6819)-1)))","v":""}]
[null,null,null,null,{"$f":"IF(A6820=\"\",\"\",IF(B6820=\"\",E6819,IF(D6820=\"\",E6819,D6820/MAX($D$8:D6820)-1)))","v":""}]
[null,null,null,null,{"$f":"IF(A6821=\"\",\"\",IF(B6821=\"\",E6820,IF(D6821=\"\",E6820,D6821/MAX($D$8:D6821)-1)))","v":""}]
[null,null,null,null,{"$f":"IF(A6822=\"\",\"\",IF(B6822=\"\",E6821,IF(D6822=\"\",E6821,D6822/MAX($D$8:D6822)-1)))","v":""}]
[null,null,null,null,{"$f":"IF(A6823=\"\",\"\",IF(B6823=\"\",E6822,IF(D6823=\"\",E6822,D6823/MAX($D$8:D6823)-1)))","v":""}]
[null,null,null,null,{"$f":"IF(A6824=\"\",\"\",IF(B6824=\"\",E6823,IF(D6824=\"\",E6823,D6824/MAX($D$8:D6824)-1)))","v":""}]
[null,null,null,null,{"$f":"IF(A6825=\"\",\"\",IF(B6825=\"\",E6824,IF(D6825=\"\",E6824,D6825/MAX($D$8:D6825)-1)))","v":""}]
[null,null,null,null,{"$f":"IF(A6826=\"\",\"\",IF(B6826=\"\",E6825,IF(D6826=\"\",E6825,D6826/MAX($D$8:D6826)-1)))","v":""}]
[null,null,null,null,{"$f":"IF(A6827=\"\",\"\",IF(B6827=\"\",E6826,IF(D6827=\"\",E6826,D6827/MAX($D$8:D6827)-1)))","v":""}]
[null,null,null,null,{"$f":"IF(A6828=\"\",\"\",IF(B6828=\"\",E6827,IF(D6828=\"\",E6827,D6828/MAX($D$8:D6828)-1)))","v":""}]
[null,null,null,null,{"$f":"IF(A6829=\"\",\"\",IF(B6829=\"\",E6828,IF(D6829=\"\",E6828,D6829/MAX($D$8:D6829)-1)))","v":""}]
[null,null,null,null,{"$f":"IF(A6830=\"\",\"\",IF(B6830=\"\",E6829,IF(D6830=\"\",E6829,D6830/MAX($D$8:D6830)-1)))","v":""}]
[null,null,null,null,{"$f":"IF(A6831=\"\",\"\",IF(B6831=\"\",E6830,IF(D6831=\"\",E6830,D6831/MAX($D$8:D6831)-1)))","v":""}]
[null,null,null,null,{"$f":"IF(A6832=\"\",\"\",IF(B6832=\"\",E6831,IF(D6832=\"\",E6831,D6832/MAX($D$8:D6832)-1)))","v":""}]
[null,null,null,null,{"$f":"IF(A6833=\"\",\"\",IF(B6833=\"\",E6832,IF(D6833=\"\",E6832,D6833/MAX($D$8:D6833)-1)))","v":""}]
[null,null,null,null,{"$f":"IF(A6834=\"\",\"\",IF(B6834=\"\",E6833,IF(D6834=\"\",E6833,D6834/MAX($D$8:D6834)-1)))","v":""}]
[null,null,null,null,{"$f":"IF(A6835=\"\",\"\",IF(B6835=\"\",E6834,IF(D6835=\"\",E6834,D6835/MAX($D$8:D6835)-1)))","v":""}]
[null,null,null,null,{"$f":"IF(A6836=\"\",\"\",IF(B6836=\"\",E6835,IF(D6836=\"\",E6835,D6836/MAX($D$8:D6836)-1)))","v":""}]
[null,null,null,null,{"$f":"IF(A6837=\"\",\"\",IF(B6837=\"\",E6836,IF(D6837=\"\",E6836,D6837/MAX($D$8:D6837)-1)))","v":""}]
[null,null,null,null,{"$f":"IF(A6838=\"\",\"\",IF(B6838=\"\",E6837,IF(D6838=\"\",E6837,D6838/MAX($D$8:D6838)-1)))","v":""}]
[null,null,null,null,{"$f":"IF(A6839=\"\",\"\",IF(B6839=\"\",E6838,IF(D6839=\"\",E6838,D6839/MAX($D$8:D6839)-1)))","v":""}]
[null,null,null,null,{"$f":"IF(A6840=\"\",\"\",IF(B6840=\"\",E6839,IF(D6840=\"\",E6839,D6840/MAX($D$8:D6840)-1)))","v":""}]
[null,null,null,null,{"$f":"IF(A6841=\"\",\"\",IF(B6841=\"\",E6840,IF(D6841=\"\",E6840,D6841/MAX($D$8:D6841)-1)))","v":""}]
[null,null,null,null,{"$f":"IF(A6842=\"\",\"\",IF(B6842=\"\",E6841,IF(D6842=\"\",E6841,D6842/MAX($D$8:D6842)-1)))","v":""}]
[null,null,null,null,{"$f":"IF(A6843=\"\",\"\",IF(B6843=\"\",E6842,IF(D6843=\"\",E6842,D6843/MAX($D$8:D6843)-1)))","v":""}]
[null,null,null,null,{"$f":"IF(A6844=\"\",\"\",IF(B6844=\"\",E6843,IF(D6844=\"\",E6843,D6844/MAX($D$8:D6844)-1)))","v":""}]
[null,null,null,null,{"$f":"IF(A6845=\"\",\"\",IF(B6845=\"\",E6844,IF(D6845=\"\",E6844,D6845/MAX($D$8:D6845)-1)))","v":""}]
[null,null,null,null,{"$f":"IF(A6846=\"\",\"\",IF(B6846=\"\",E6845,IF(D6846=\"\",E6845,D6846/MAX($D$8:D6846)-1)))","v":""}]
[null,null,null,null,{"$f":"IF(A6847=\"\",\"\",IF(B6847=\"\",E6846,IF(D6847=\"\",E6846,D6847/MAX($D$8:D6847)-1)))","v":""}]
[null,null,null,null,{"$f":"IF(A6848=\"\",\"\",IF(B6848=\"\",E6847,IF(D6848=\"\",E6847,D6848/MAX($D$8:D6848)-1)))","v":""}]
[null,null,null,null,{"$f":"IF(A6849=\"\",\"\",IF(B6849=\"\",E6848,IF(D6849=\"\",E6848,D6849/MAX($D$8:D6849)-1)))","v":""}]
[null,null,null,null,{"$f":"IF(A6850=\"\",\"\",IF(B6850=\"\",E6849,IF(D6850=\"\",E6849,D6850/MAX($D$8:D6850)-1)))","v":""}]
[null,null,null,null,{"$f":"IF(A6851=\"\",\"\",IF(B6851=\"\",E6850,IF(D6851=\"\",E6850,D6851/MAX($D$8:D6851)-1)))","v":""}]
[null,null,null,null,{"$f":"IF(A6852=\"\",\"\",IF(B6852=\"\",E6851,IF(D6852=\"\",E6851,D6852/MAX($D$8:D6852)-1)))","v":""}]
[null,null,null,null,{"$f":"IF(A6853=\"\",\"\",IF(B6853=\"\",E6852,IF(D6853=\"\",E6852,D6853/MAX($D$8:D6853)-1)))","v":""}]
[null,null,null,null,{"$f":"IF(A6854=\"\",\"\",IF(B6854=\"\",E6853,IF(D6854=\"\",E6853,D6854/MAX($D$8:D6854)-1)))","v":""}]
[null,null,null,null,{"$f":"IF(A6855=\"\",\"\",IF(B6855=\"\",E6854,IF(D6855=\"\",E6854,D6855/MAX($D$8:D6855)-1)))","v":""}]
[null,null,null,null,{"$f":"IF(A6856=\"\",\"\",IF(B6856=\"\",E6855,IF(D6856=\"\",E6855,D6856/MAX($D$8:D6856)-1)))","v":""}]
[null,null,null,null,{"$f":"IF(A6857=\"\",\"\",IF(B6857=\"\",E6856,IF(D6857=\"\",E6856,D6857/MAX($D$8:D6857)-1)))","v":""}]
[null,null,null,null,{"$f":"IF(A6858=\"\",\"\",IF(B6858=\"\",E6857,IF(D6858=\"\",E6857,D6858/MAX($D$8:D6858)-1)))","v":""}]
[null,null,null,null,{"$f":"IF(A6859=\"\",\"\",IF(B6859=\"\",E6858,IF(D6859=\"\",E6858,D6859/MAX($D$8:D6859)-1)))","v":""}]
[null,null,null,null,{"$f":"IF(A6860=\"\",\"\",IF(B6860=\"\",E6859,IF(D6860=\"\",E6859,D6860/MAX($D$8:D6860)-1)))","v":""}]
[null,null,null,null,{"$f":"IF(A6861=\"\",\"\",IF(B6861=\"\",E6860,IF(D6861=\"\",E6860,D6861/MAX($D$8:D6861)-1)))","v":""}]
[null,null,null,null,{"$f":"IF(A6862=\"\",\"\",IF(B6862=\"\",E6861,IF(D6862=\"\",E6861,D6862/MAX($D$8:D6862)-1)))","v":""}]
[null,null,null,null,{"$f":"IF(A6863=\"\",\"\",IF(B6863=\"\",E6862,IF(D6863=\"\",E6862,D6863/MAX($D$8:D6863)-1)))","v":""}]
[null,null,null,null,{"$f":"IF(A6864=\"\",\"\",IF(B6864=\"\",E6863,IF(D6864=\"\",E6863,D6864/MAX($D$8:D6864)-1)))","v":""}]
[null,null,null,null,{"$f":"IF(A6865=\"\",\"\",IF(B6865=\"\",E6864,IF(D6865=\"\",E6864,D6865/MAX($D$8:D6865)-1)))","v":""}]
[null,null,null,null,{"$f":"IF(A6866=\"\",\"\",IF(B6866=\"\",E6865,IF(D6866=\"\",E6865,D6866/MAX($D$8:D6866)-1)))","v":""}]
[null,null,null,null,{"$f":"IF(A6867=\"\",\"\",IF(B6867=\"\",E6866,IF(D6867=\"\",E6866,D6867/MAX($D$8:D6867)-1)))","v":""}]
[null,null,null,null,{"$f":"IF(A6868=\"\",\"\",IF(B6868=\"\",E6867,IF(D6868=\"\",E6867,D6868/MAX($D$8:D6868)-1)))","v":""}]
[null,null,null,null,{"$f":"IF(A6869=\"\",\"\",IF(B6869=\"\",E6868,IF(D6869=\"\",E6868,D6869/MAX($D$8:D6869)-1)))","v":""}]
[null,null,null,null,{"$f":"IF(A6870=\"\",\"\",IF(B6870=\"\",E6869,IF(D6870=\"\",E6869,D6870/MAX($D$8:D6870)-1)))","v":""}]
[null,null,null,null,{"$f":"IF(A6871=\"\",\"\",IF(B6871=\"\",E6870,IF(D6871=\"\",E6870,D6871/MAX($D$8:D6871)-1)))","v":""}]
[null,null,null,null,{"$f":"IF(A6872=\"\",\"\",IF(B6872=\"\",E6871,IF(D6872=\"\",E6871,D6872/MAX($D$8:D6872)-1)))","v":""}]
[null,null,null,null,{"$f":"IF(A6873=\"\",\"\",IF(B6873=\"\",E6872,IF(D6873=\"\",E6872,D6873/MAX($D$8:D6873)-1)))","v":""}]
[null,null,null,null,{"$f":"IF(A6874=\"\",\"\",IF(B6874=\"\",E6873,IF(D6874=\"\",E6873,D6874/MAX($D$8:D6874)-1)))","v":""}]
[null,null,null,null,{"$f":"IF(A6875=\"\",\"\",IF(B6875=\"\",E6874,IF(D6875=\"\",E6874,D6875/MAX($D$8:D6875)-1)))","v":""}]
[null,null,null,null,{"$f":"IF(A6876=\"\",\"\",IF(B6876=\"\",E6875,IF(D6876=\"\",E6875,D6876/MAX($D$8:D6876)-1)))","v":""}]
[null,null,null,null,{"$f":"IF(A6877=\"\",\"\",IF(B6877=\"\",E6876,IF(D6877=\"\",E6876,D6877/MAX($D$8:D6877)-1)))","v":""}]
[null,null,null,null,{"$f":"IF(A6878=\"\",\"\",IF(B6878=\"\",E6877,IF(D6878=\"\",E6877,D6878/MAX($D$8:D6878)-1)))","v":""}]
[null,null,null,null,{"$f":"IF(A6879=\"\",\"\",IF(B6879=\"\",E6878,IF(D6879=\"\",E6878,D6879/MAX($D$8:D6879)-1)))","v":""}]
[null,null,null,null,{"$f":"IF(A6880=\"\",\"\",IF(B6880=\"\",E6879,IF(D6880=\"\",E6879,D6880/MAX($D$8:D6880)-1)))","v":""}]
[null,null,null,null,{"$f":"IF(A6881=\"\",\"\",IF(B6881=\"\",E6880,IF(D6881=\"\",E6880,D6881/MAX($D$8:D6881)-1)))","v":""}]
[null,null,null,null,{"$f":"IF(A6882=\"\",\"\",IF(B6882=\"\",E6881,IF(D6882=\"\",E6881,D6882/MAX($D$8:D6882)-1)))","v":""}]
[null,null,null,null,{"$f":"IF(A6883=\"\",\"\",IF(B6883=\"\",E6882,IF(D6883=\"\",E6882,D6883/MAX($D$8:D6883)-1)))","v":""}]
[null,null,null,null,{"$f":"IF(A6884=\"\",\"\",IF(B6884=\"\",E6883,IF(D6884=\"\",E6883,D6884/MAX($D$8:D6884)-1)))","v":""}]
[null,null,null,null,{"$f":"IF(A6885=\"\",\"\",IF(B6885=\"\",E6884,IF(D6885=\"\",E6884,D6885/MAX($D$8:D6885)-1)))","v":""}]
[null,null,null,null,{"$f":"IF(A6886=\"\",\"\",IF(B6886=\"\",E6885,IF(D6886=\"\",E6885,D6886/MAX($D$8:D6886)-1)))","v":""}]
[null,null,null,null,{"$f":"IF(A6887=\"\",\"\",IF(B6887=\"\",E6886,IF(D6887=\"\",E6886,D6887/MAX($D$8:D6887)-1)))","v":""}]
[null,null,null,null,{"$f":"IF(A6888=\"\",\"\",IF(B6888=\"\",E6887,IF(D6888=\"\",E6887,D6888/MAX($D$8:D6888)-1)))","v":""}]
[null,null,null,null,{"$f":"IF(A6889=\"\",\"\",IF(B6889=\"\",E6888,IF(D6889=\"\",E6888,D6889/MAX($D$8:D6889)-1)))","v":""}]
[null,null,null,null,{"$f":"IF(A6890=\"\",\"\",IF(B6890=\"\",E6889,IF(D6890=\"\",E6889,D6890/MAX($D$8:D6890)-1)))","v":""}]
[null,null,null,null,{"$f":"IF(A6891=\"\",\"\",IF(B6891=\"\",E6890,IF(D6891=\"\",E6890,D6891/MAX($D$8:D6891)-1)))","v":""}]
[null,null,null,null,{"$f":"IF(A6892=\"\",\"\",IF(B6892=\"\",E6891,IF(D6892=\"\",E6891,D6892/MAX($D$8:D6892)-1)))","v":""}]
[null,null,null,null,{"$f":"IF(A6893=\"\",\"\",IF(B6893=\"\",E6892,IF(D6893=\"\",E6892,D6893/MAX($D$8:D6893)-1)))","v":""}]
[null,null,null,null,{"$f":"IF(A6894=\"\",\"\",IF(B6894=\"\",E6893,IF(D6894=\"\",E6893,D6894/MAX($D$8:D6894)-1)))","v":""}]
[null,null,null,null,{"$f":"IF(A6895=\"\",\"\",IF(B6895=\"\",E6894,IF(D6895=\"\",E6894,D6895/MAX($D$8:D6895)-1)))","v":""}]
[null,null,null,null,{"$f":"IF(A6896=\"\",\"\",IF(B6896=\"\",E6895,IF(D6896=\"\",E6895,D6896/MAX($D$8:D6896)-1)))","v":""}]
[null,null,null,null,{"$f":"IF(A6897=\"\",\"\",IF(B6897=\"\",E6896,IF(D6897=\"\",E6896,D6897/MAX($D$8:D6897)-1)))","v":""}]
[null,null,null,null,{"$f":"IF(A6898=\"\",\"\",IF(B6898=\"\",E6897,IF(D6898=\"\",E6897,D6898/MAX($D$8:D6898)-1)))","v":""}]
[null,null,null,null,{"$f":"IF(A6899=\"\",\"\",IF(B6899=\"\",E6898,IF(D6899=\"\",E6898,D6899/MAX($D$8:D6899)-1)))","v":""}]
[null,null,null,null,{"$f":"IF(A6900=\"\",\"\",IF(B6900=\"\",E6899,IF(D6900=\"\",E6899,D6900/MAX($D$8:D6900)-1)))","v":""}]
[null,null,null,null,{"$f":"IF(A6901=\"\",\"\",IF(B6901=\"\",E6900,IF(D6901=\"\",E6900,D6901/MAX($D$8:D6901)-1)))","v":""}]
[null,null,null,null,{"$f":"IF(A6902=\"\",\"\",IF(B6902=\"\",E6901,IF(D6902=\"\",E6901,D6902/MAX($D$8:D6902)-1)))","v":""}]
[null,null,null,null,{"$f":"IF(A6903=\"\",\"\",IF(B6903=\"\",E6902,IF(D6903=\"\",E6902,D6903/MAX($D$8:D6903)-1)))","v":""}]
[null,null,null,null,{"$f":"IF(A6904=\"\",\"\",IF(B6904=\"\",E6903,IF(D6904=\"\",E6903,D6904/MAX($D$8:D6904)-1)))","v":""}]
[null,null,null,null,{"$f":"IF(A6905=\"\",\"\",IF(B6905=\"\",E6904,IF(D6905=\"\",E6904,D6905/MAX($D$8:D6905)-1)))","v":""}]
[null,null,null,null,{"$f":"IF(A6906=\"\",\"\",IF(B6906=\"\",E6905,IF(D6906=\"\",E6905,D6906/MAX($D$8:D6906)-1)))","v":""}]
[null,null,null,null,{"$f":"IF(A6907=\"\",\"\",IF(B6907=\"\",E6906,IF(D6907=\"\",E6906,D6907/MAX($D$8:D6907)-1)))","v":""}]
[null,null,null,null,{"$f":"IF(A6908=\"\",\"\",IF(B6908=\"\",E6907,IF(D6908=\"\",E6907,D6908/MAX($D$8:D6908)-1)))","v":""}]
[null,null,null,null,{"$f":"IF(A6909=\"\",\"\",IF(B6909=\"\",E6908,IF(D6909=\"\",E6908,D6909/MAX($D$8:D6909)-1)))","v":""}]
[null,null,null,null,{"$f":"IF(A6910=\"\",\"\",IF(B6910=\"\",E6909,IF(D6910=\"\",E6909,D6910/MAX($D$8:D6910)-1)))","v":""}]
[null,null,null,null,{"$f":"IF(A6911=\"\",\"\",IF(B6911=\"\",E6910,IF(D6911=\"\",E6910,D6911/MAX($D$8:D6911)-1)))","v":""}]
[null,null,null,null,{"$f":"IF(A6912=\"\",\"\",IF(B6912=\"\",E6911,IF(D6912=\"\",E6911,D6912/MAX($D$8:D6912)-1)))","v":""}]
[null,null,null,null,{"$f":"IF(A6913=\"\",\"\",IF(B6913=\"\",E6912,IF(D6913=\"\",E6912,D6913/MAX($D$8:D6913)-1)))","v":""}]
[null,null,null,null,{"$f":"IF(A6914=\"\",\"\",IF(B6914=\"\",E6913,IF(D6914=\"\",E6913,D6914/MAX($D$8:D6914)-1)))","v":""}]
[null,null,null,null,{"$f":"IF(A6915=\"\",\"\",IF(B6915=\"\",E6914,IF(D6915=\"\",E6914,D6915/MAX($D$8:D6915)-1)))","v":""}]
[null,null,null,null,{"$f":"IF(A6916=\"\",\"\",IF(B6916=\"\",E6915,IF(D6916=\"\",E6915,D6916/MAX($D$8:D6916)-1)))","v":""}]
[null,null,null,null,{"$f":"IF(A6917=\"\",\"\",IF(B6917=\"\",E6916,IF(D6917=\"\",E6916,D6917/MAX($D$8:D6917)-1)))","v":""}]
[null,null,null,null,{"$f":"IF(A6918=\"\",\"\",IF(B6918=\"\",E6917,IF(D6918=\"\",E6917,D6918/MAX($D$8:D6918)-1)))","v":""}]
[null,null,null,null,{"$f":"IF(A6919=\"\",\"\",IF(B6919=\"\",E6918,IF(D6919=\"\",E6918,D6919/MAX($D$8:D6919)-1)))","v":""}]
[null,null,null,null,{"$f":"IF(A6920=\"\",\"\",IF(B6920=\"\",E6919,IF(D6920=\"\",E6919,D6920/MAX($D$8:D6920)-1)))","v":""}]
[null,null,null,null,{"$f":"IF(A6921=\"\",\"\",IF(B6921=\"\",E6920,IF(D6921=\"\",E6920,D6921/MAX($D$8:D6921)-1)))","v":""}]
[null,null,null,null,{"$f":"IF(A6922=\"\",\"\",IF(B6922=\"\",E6921,IF(D6922=\"\",E6921,D6922/MAX($D$8:D6922)-1)))","v":""}]
[null,null,null,null,{"$f":"IF(A6923=\"\",\"\",IF(B6923=\"\",E6922,IF(D6923=\"\",E6922,D6923/MAX($D$8:D6923)-1)))","v":""}]
[null,null,null,null,{"$f":"IF(A6924=\"\",\"\",IF(B6924=\"\",E6923,IF(D6924=\"\",E6923,D6924/MAX($D$8:D6924)-1)))","v":""}]
[null,null,null,null,{"$f":"IF(A6925=\"\",\"\",IF(B6925=\"\",E6924,IF(D6925=\"\",E6924,D6925/MAX($D$8:D6925)-1)))","v":""}]
[null,null,null,null,{"$f":"IF(A6926=\"\",\"\",IF(B6926=\"\",E6925,IF(D6926=\"\",E6925,D6926/MAX($D$8:D6926)-1)))","v":""}]
[null,null,null,null,{"$f":"IF(A6927=\"\",\"\",IF(B6927=\"\",E6926,IF(D6927=\"\",E6926,D6927/MAX($D$8:D6927)-1)))","v":""}]
[null,null,null,null,{"$f":"IF(A6928=\"\",\"\",IF(B6928=\"\",E6927,IF(D6928=\"\",E6927,D6928/MAX($D$8:D6928)-1)))","v":""}]
[null,null,null,null,{"$f":"IF(A6929=\"\",\"\",IF(B6929=\"\",E6928,IF(D6929=\"\",E6928,D6929/MAX($D$8:D6929)-1)))","v":""}]
[null,null,null,null,{"$f":"IF(A6930=\"\",\"\",IF(B6930=\"\",E6929,IF(D6930=\"\",E6929,D6930/MAX($D$8:D6930)-1)))","v":""}]
[null,null,null,null,{"$f":"IF(A6931=\"\",\"\",IF(B6931=\"\",E6930,IF(D6931=\"\",E6930,D6931/MAX($D$8:D6931)-1)))","v":""}]
[null,null,null,null,{"$f":"IF(A6932=\"\",\"\",IF(B6932=\"\",E6931,IF(D6932=\"\",E6931,D6932/MAX($D$8:D6932)-1)))","v":""}]
[null,null,null,null,{"$f":"IF(A6933=\"\",\"\",IF(B6933=\"\",E6932,IF(D6933=\"\",E6932,D6933/MAX($D$8:D6933)-1)))","v":""}]
[null,null,null,null,{"$f":"IF(A6934=\"\",\"\",IF(B6934=\"\",E6933,IF(D6934=\"\",E6933,D6934/MAX($D$8:D6934)-1)))","v":""}]
[null,null,null,null,{"$f":"IF(A6935=\"\",\"\",IF(B6935=\"\",E6934,IF(D6935=\"\",E6934,D6935/MAX($D$8:D6935)-1)))","v":""}]
[null,null,null,null,{"$f":"IF(A6936=\"\",\"\",IF(B6936=\"\",E6935,IF(D6936=\"\",E6935,D6936/MAX($D$8:D6936)-1)))","v":""}]
[null,null,null,null,{"$f":"IF(A6937=\"\",\"\",IF(B6937=\"\",E6936,IF(D6937=\"\",E6936,D6937/MAX($D$8:D6937)-1)))","v":""}]
[null,null,null,null,{"$f":"IF(A6938=\"\",\"\",IF(B6938=\"\",E6937,IF(D6938=\"\",E6937,D6938/MAX($D$8:D6938)-1)))","v":""}]
[null,null,null,null,{"$f":"IF(A6939=\"\",\"\",IF(B6939=\"\",E6938,IF(D6939=\"\",E6938,D6939/MAX($D$8:D6939)-1)))","v":""}]
[null,null,null,null,{"$f":"IF(A6940=\"\",\"\",IF(B6940=\"\",E6939,IF(D6940=\"\",E6939,D6940/MAX($D$8:D6940)-1)))","v":""}]
[null,null,null,null,{"$f":"IF(A6941=\"\",\"\",IF(B6941=\"\",E6940,IF(D6941=\"\",E6940,D6941/MAX($D$8:D6941)-1)))","v":""}]
[null,null,null,null,{"$f":"IF(A6942=\"\",\"\",IF(B6942=\"\",E6941,IF(D6942=\"\",E6941,D6942/MAX($D$8:D6942)-1)))","v":""}]
[null,null,null,null,{"$f":"IF(A6943=\"\",\"\",IF(B6943=\"\",E6942,IF(D6943=\"\",E6942,D6943/MAX($D$8:D6943)-1)))","v":""}]
[null,null,null,null,{"$f":"IF(A6944=\"\",\"\",IF(B6944=\"\",E6943,IF(D6944=\"\",E6943,D6944/MAX($D$8:D6944)-1)))","v":""}]
[null,null,null,null,{"$f":"IF(A6945=\"\",\"\",IF(B6945=\"\",E6944,IF(D6945=\"\",E6944,D6945/MAX($D$8:D6945)-1)))","v":""}]
[null,null,null,null,{"$f":"IF(A6946=\"\",\"\",IF(B6946=\"\",E6945,IF(D6946=\"\",E6945,D6946/MAX($D$8:D6946)-1)))","v":""}]
[null,null,null,null,{"$f":"IF(A6947=\"\",\"\",IF(B6947=\"\",E6946,IF(D6947=\"\",E6946,D6947/MAX($D$8:D6947)-1)))","v":""}]
[null,null,null,null,{"$f":"IF(A6948=\"\",\"\",IF(B6948=\"\",E6947,IF(D6948=\"\",E6947,D6948/MAX($D$8:D6948)-1)))","v":""}]
[null,null,null,null,{"$f":"IF(A6949=\"\",\"\",IF(B6949=\"\",E6948,IF(D6949=\"\",E6948,D6949/MAX($D$8:D6949)-1)))","v":""}]
[null,null,null,null,{"$f":"IF(A6950=\"\",\"\",IF(B6950=\"\",E6949,IF(D6950=\"\",E6949,D6950/MAX($D$8:D6950)-1)))","v":""}]
[null,null,null,null,{"$f":"IF(A6951=\"\",\"\",IF(B6951=\"\",E6950,IF(D6951=\"\",E6950,D6951/MAX($D$8:D6951)-1)))","v":""}]
[null,null,null,null,{"$f":"IF(A6952=\"\",\"\",IF(B6952=\"\",E6951,IF(D6952=\"\",E6951,D6952/MAX($D$8:D6952)-1)))","v":""}]
[null,null,null,null,{"$f":"IF(A6953=\"\",\"\",IF(B6953=\"\",E6952,IF(D6953=\"\",E6952,D6953/MAX($D$8:D6953)-1)))","v":""}]
[null,null,null,null,{"$f":"IF(A6954=\"\",\"\",IF(B6954=\"\",E6953,IF(D6954=\"\",E6953,D6954/MAX($D$8:D6954)-1)))","v":""}]
[null,null,null,null,{"$f":"IF(A6955=\"\",\"\",IF(B6955=\"\",E6954,IF(D6955=\"\",E6954,D6955/MAX($D$8:D6955)-1)))","v":""}]
[null,null,null,null,{"$f":"IF(A6956=\"\",\"\",IF(B6956=\"\",E6955,IF(D6956=\"\",E6955,D6956/MAX($D$8:D6956)-1)))","v":""}]
[null,null,null,null,{"$f":"IF(A6957=\"\",\"\",IF(B6957=\"\",E6956,IF(D6957=\"\",E6956,D6957/MAX($D$8:D6957)-1)))","v":""}]
[null,null,null,null,{"$f":"IF(A6958=\"\",\"\",IF(B6958=\"\",E6957,IF(D6958=\"\",E6957,D6958/MAX($D$8:D6958)-1)))","v":""}]
[null,null,null,null,{"$f":"IF(A6959=\"\",\"\",IF(B6959=\"\",E6958,IF(D6959=\"\",E6958,D6959/MAX($D$8:D6959)-1)))","v":""}]
[null,null,null,null,{"$f":"IF(A6960=\"\",\"\",IF(B6960=\"\",E6959,IF(D6960=\"\",E6959,D6960/MAX($D$8:D6960)-1)))","v":""}]
[null,null,null,null,{"$f":"IF(A6961=\"\",\"\",IF(B6961=\"\",E6960,IF(D6961=\"\",E6960,D6961/MAX($D$8:D6961)-1)))","v":""}]
[null,null,null,null,{"$f":"IF(A6962=\"\",\"\",IF(B6962=\"\",E6961,IF(D6962=\"\",E6961,D6962/MAX($D$8:D6962)-1)))","v":""}]
[null,null,null,null,{"$f":"IF(A6963=\"\",\"\",IF(B6963=\"\",E6962,IF(D6963=\"\",E6962,D6963/MAX($D$8:D6963)-1)))","v":""}]
[null,null,null,null,{"$f":"IF(A6964=\"\",\"\",IF(B6964=\"\",E6963,IF(D6964=\"\",E6963,D6964/MAX($D$8:D6964)-1)))","v":""}]
[null,null,null,null,{"$f":"IF(A6965=\"\",\"\",IF(B6965=\"\",E6964,IF(D6965=\"\",E6964,D6965/MAX($D$8:D6965)-1)))","v":""}]
[null,null,null,null,{"$f":"IF(A6966=\"\",\"\",IF(B6966=\"\",E6965,IF(D6966=\"\",E6965,D6966/MAX($D$8:D6966)-1)))","v":""}]
[null,null,null,null,{"$f":"IF(A6967=\"\",\"\",IF(B6967=\"\",E6966,IF(D6967=\"\",E6966,D6967/MAX($D$8:D6967)-1)))","v":""}]
[null,null,null,null,{"$f":"IF(A6968=\"\",\"\",IF(B6968=\"\",E6967,IF(D6968=\"\",E6967,D6968/MAX($D$8:D6968)-1)))","v":""}]
[null,null,null,null,{"$f":"IF(A6969=\"\",\"\",IF(B6969=\"\",E6968,IF(D6969=\"\",E6968,D6969/MAX($D$8:D6969)-1)))","v":""}]
[null,null,null,null,{"$f":"IF(A6970=\"\",\"\",IF(B6970=\"\",E6969,IF(D6970=\"\",E6969,D6970/MAX($D$8:D6970)-1)))","v":""}]
[null,null,null,null,{"$f":"IF(A6971=\"\",\"\",IF(B6971=\"\",E6970,IF(D6971=\"\",E6970,D6971/MAX($D$8:D6971)-1)))","v":""}]
[null,null,null,null,{"$f":"IF(A6972=\"\",\"\",IF(B6972=\"\",E6971,IF(D6972=\"\",E6971,D6972/MAX($D$8:D6972)-1)))","v":""}]
[null,null,null,null,{"$f":"IF(A6973=\"\",\"\",IF(B6973=\"\",E6972,IF(D6973=\"\",E6972,D6973/MAX($D$8:D6973)-1)))","v":""}]
[null,null,null,null,{"$f":"IF(A6974=\"\",\"\",IF(B6974=\"\",E6973,IF(D6974=\"\",E6973,D6974/MAX($D$8:D6974)-1)))","v":""}]
[null,null,null,null,{"$f":"IF(A6975=\"\",\"\",IF(B6975=\"\",E6974,IF(D6975=\"\",E6974,D6975/MAX($D$8:D6975)-1)))","v":""}]
[null,null,null,null,{"$f":"IF(A6976=\"\",\"\",IF(B6976=\"\",E6975,IF(D6976=\"\",E6975,D6976/MAX($D$8:D6976)-1)))","v":""}]
[null,null,null,null,{"$f":"IF(A6977=\"\",\"\",IF(B6977=\"\",E6976,IF(D6977=\"\",E6976,D6977/MAX($D$8:D6977)-1)))","v":""}]
[null,null,null,null,{"$f":"IF(A6978=\"\",\"\",IF(B6978=\"\",E6977,IF(D6978=\"\",E6977,D6978/MAX($D$8:D6978)-1)))","v":""}]
[null,null,null,null,{"$f":"IF(A6979=\"\",\"\",IF(B6979=\"\",E6978,IF(D6979=\"\",E6978,D6979/MAX($D$8:D6979)-1)))","v":""}]
[null,null,null,null,{"$f":"IF(A6980=\"\",\"\",IF(B6980=\"\",E6979,IF(D6980=\"\",E6979,D6980/MAX($D$8:D6980)-1)))","v":""}]
[null,null,null,null,{"$f":"IF(A6981=\"\",\"\",IF(B6981=\"\",E6980,IF(D6981=\"\",E6980,D6981/MAX($D$8:D6981)-1)))","v":""}]
[null,null,null,null,{"$f":"IF(A6982=\"\",\"\",IF(B6982=\"\",E6981,IF(D6982=\"\",E6981,D6982/MAX($D$8:D6982)-1)))","v":""}]
[null,null,null,null,{"$f":"IF(A6983=\"\",\"\",IF(B6983=\"\",E6982,IF(D6983=\"\",E6982,D6983/MAX($D$8:D6983)-1)))","v":""}]
[null,null,null,null,{"$f":"IF(A6984=\"\",\"\",IF(B6984=\"\",E6983,IF(D6984=\"\",E6983,D6984/MAX($D$8:D6984)-1)))","v":""}]
[null,null,null,null,{"$f":"IF(A6985=\"\",\"\",IF(B6985=\"\",E6984,IF(D6985=\"\",E6984,D6985/MAX($D$8:D6985)-1)))","v":""}]
[null,null,null,null,{"$f":"IF(A6986=\"\",\"\",IF(B6986=\"\",E6985,IF(D6986=\"\",E6985,D6986/MAX($D$8:D6986)-1)))","v":""}]
[null,null,null,null,{"$f":"IF(A6987=\"\",\"\",IF(B6987=\"\",E6986,IF(D6987=\"\",E6986,D6987/MAX($D$8:D6987)-1)))","v":""}]
[null,null,null,null,{"$f":"IF(A6988=\"\",\"\",IF(B6988=\"\",E6987,IF(D6988=\"\",E6987,D6988/MAX($D$8:D6988)-1)))","v":""}]
[null,null,null,null,{"$f":"IF(A6989=\"\",\"\",IF(B6989=\"\",E6988,IF(D6989=\"\",E6988,D6989/MAX($D$8:D6989)-1)))","v":""}]
[null,null,null,null,{"$f":"IF(A6990=\"\",\"\",IF(B6990=\"\",E6989,IF(D6990=\"\",E6989,D6990/MAX($D$8:D6990)-1)))","v":""}]
[null,null,null,null,{"$f":"IF(A6991=\"\",\"\",IF(B6991=\"\",E6990,IF(D6991=\"\",E6990,D6991/MAX($D$8:D6991)-1)))","v":""}]
[null,null,null,null,{"$f":"IF(A6992=\"\",\"\",IF(B6992=\"\",E6991,IF(D6992=\"\",E6991,D6992/MAX($D$8:D6992)-1)))","v":""}]
[null,null,null,null,{"$f":"IF(A6993=\"\",\"\",IF(B6993=\"\",E6992,IF(D6993=\"\",E6992,D6993/MAX($D$8:D6993)-1)))","v":""}]
[null,null,null,null,{"$f":"IF(A6994=\"\",\"\",IF(B6994=\"\",E6993,IF(D6994=\"\",E6993,D6994/MAX($D$8:D6994)-1)))","v":""}]
[null,null,null,null,{"$f":"IF(A6995=\"\",\"\",IF(B6995=\"\",E6994,IF(D6995=\"\",E6994,D6995/MAX($D$8:D6995)-1)))","v":""}]
[null,null,null,null,{"$f":"IF(A6996=\"\",\"\",IF(B6996=\"\",E6995,IF(D6996=\"\",E6995,D6996/MAX($D$8:D6996)-1)))","v":""}]
[null,null,null,null,{"$f":"IF(A6997=\"\",\"\",IF(B6997=\"\",E6996,IF(D6997=\"\",E6996,D6997/MAX($D$8:D6997)-1)))","v":""}]
[null,null,null,null,{"$f":"IF(A6998=\"\",\"\",IF(B6998=\"\",E6997,IF(D6998=\"\",E6997,D6998/MAX($D$8:D6998)-1)))","v":""}]
[null,null,null,null,{"$f":"IF(A6999=\"\",\"\",IF(B6999=\"\",E6998,IF(D6999=\"\",E6998,D6999/MAX($D$8:D6999)-1)))","v":""}]
[null,null,null,null,{"$f":"IF(A7000=\"\",\"\",IF(B7000=\"\",E6999,IF(D7000=\"\",E6999,D7000/MAX($D$8:D7000)-1)))","v":""}]
[null,null,null,null,{"$f":"IF(A7001=\"\",\"\",IF(B7001=\"\",E7000,IF(D7001=\"\",E7000,D7001/MAX($D$8:D7001)-1)))","v":""}]
[null,null,null,null,{"$f":"IF(A7002=\"\",\"\",IF(B7002=\"\",E7001,IF(D7002=\"\",E7001,D7002/MAX($D$8:D7002)-1)))","v":""}]
[null,null,null,null,{"$f":"IF(A7003=\"\",\"\",IF(B7003=\"\",E7002,IF(D7003=\"\",E7002,D7003/MAX($D$8:D7003)-1)))","v":""}]
[null,null,null,null,{"$f":"IF(A7004=\"\",\"\",IF(B7004=\"\",E7003,IF(D7004=\"\",E7003,D7004/MAX($D$8:D7004)-1)))","v":""}]
[null,null,null,null,{"$f":"IF(A7005=\"\",\"\",IF(B7005=\"\",E7004,IF(D7005=\"\",E7004,D7005/MAX($D$8:D7005)-1)))","v":""}]
[null,null,null,null,{"$f":"IF(A7006=\"\",\"\",IF(B7006=\"\",E7005,IF(D7006=\"\",E7005,D7006/MAX($D$8:D7006)-1)))","v":""}]
[null,null,null,null,{"$f":"IF(A7007=\"\",\"\",IF(B7007=\"\",E7006,IF(D7007=\"\",E7006,D7007/MAX($D$8:D7007)-1)))","v":""}]
[null,null,null,null,{"$f":"IF(A7008=\"\",\"\",IF(B7008=\"\",E7007,IF(D7008=\"\",E7007,D7008/MAX($D$8:D7008)-1)))","v":""}]
[null,null,null,null,{"$f":"IF(A7009=\"\",\"\",IF(B7009=\"\",E7008,IF(D7009=\"\",E7008,D7009/MAX($D$8:D7009)-1)))","v":""}]
[null,null,null,null,{"$f":"IF(A7010=\"\",\"\",IF(B7010=\"\",E7009,IF(D7010=\"\",E7009,D7010/MAX($D$8:D7010)-1)))","v":""}]
[null,null,null,null,{"$f":"IF(A7011=\"\",\"\",IF(B7011=\"\",E7010,IF(D7011=\"\",E7010,D7011/MAX($D$8:D7011)-1)))","v":""}]
[null,null,null,null,{"$f":"IF(A7012=\"\",\"\",IF(B7012=\"\",E7011,IF(D7012=\"\",E7011,D7012/MAX($D$8:D7012)-1)))","v":""}]
[null,null,null,null,{"$f":"IF(A7013=\"\",\"\",IF(B7013=\"\",E7012,IF(D7013=\"\",E7012,D7013/MAX($D$8:D7013)-1)))","v":""}]
[null,null,null,null,{"$f":"IF(A7014=\"\",\"\",IF(B7014=\"\",E7013,IF(D7014=\"\",E7013,D7014/MAX($D$8:D7014)-1)))","v":""}]
[null,null,null,null,{"$f":"IF(A7015=\"\",\"\",IF(B7015=\"\",E7014,IF(D7015=\"\",E7014,D7015/MAX($D$8:D7015)-1)))","v":""}]
[null,null,null,null,{"$f":"IF(A7016=\"\",\"\",IF(B7016=\"\",E7015,IF(D7016=\"\",E7015,D7016/MAX($D$8:D7016)-1)))","v":""}]
[null,null,null,null,{"$f":"IF(A7017=\"\",\"\",IF(B7017=\"\",E7016,IF(D7017=\"\",E7016,D7017/MAX($D$8:D7017)-1)))","v":""}]
[null,null,null,null,{"$f":"IF(A7018=\"\",\"\",IF(B7018=\"\",E7017,IF(D7018=\"\",E7017,D7018/MAX($D$8:D7018)-1)))","v":""}]
[null,null,null,null,{"$f":"IF(A7019=\"\",\"\",IF(B7019=\"\",E7018,IF(D7019=\"\",E7018,D7019/MAX($D$8:D7019)-1)))","v":""}]
[null,null,null,null,{"$f":"IF(A7020=\"\",\"\",IF(B7020=\"\",E7019,IF(D7020=\"\",E7019,D7020/MAX($D$8:D7020)-1)))","v":""}]
[null,null,null,null,{"$f":"IF(A7021=\"\",\"\",IF(B7021=\"\",E7020,IF(D7021=\"\",E7020,D7021/MAX($D$8:D7021)-1)))","v":""}]
[null,null,null,null,{"$f":"IF(A7022=\"\",\"\",IF(B7022=\"\",E7021,IF(D7022=\"\",E7021,D7022/MAX($D$8:D7022)-1)))","v":""}]
[null,null,null,null,{"$f":"IF(A7023=\"\",\"\",IF(B7023=\"\",E7022,IF(D7023=\"\",E7022,D7023/MAX($D$8:D7023)-1)))","v":""}]
[null,null,null,null,{"$f":"IF(A7024=\"\",\"\",IF(B7024=\"\",E7023,IF(D7024=\"\",E7023,D7024/MAX($D$8:D7024)-1)))","v":""}]
[null,null,null,null,{"$f":"IF(A7025=\"\",\"\",IF(B7025=\"\",E7024,IF(D7025=\"\",E7024,D7025/MAX($D$8:D7025)-1)))","v":""}]
[null,null,null,null,{"$f":"IF(A7026=\"\",\"\",IF(B7026=\"\",E7025,IF(D7026=\"\",E7025,D7026/MAX($D$8:D7026)-1)))","v":""}]
[null,null,null,null,{"$f":"IF(A7027=\"\",\"\",IF(B7027=\"\",E7026,IF(D7027=\"\",E7026,D7027/MAX($D$8:D7027)-1)))","v":""}]
[null,null,null,null,{"$f":"IF(A7028=\"\",\"\",IF(B7028=\"\",E7027,IF(D7028=\"\",E7027,D7028/MAX($D$8:D7028)-1)))","v":""}]
[null,null,null,null,{"$f":"IF(A7029=\"\",\"\",IF(B7029=\"\",E7028,IF(D7029=\"\",E7028,D7029/MAX($D$8:D7029)-1)))","v":""}]
[null,null,null,null,{"$f":"IF(A7030=\"\",\"\",IF(B7030=\"\",E7029,IF(D7030=\"\",E7029,D7030/MAX($D$8:D7030)-1)))","v":""}]
[null,null,null,null,{"$f":"IF(A7031=\"\",\"\",IF(B7031=\"\",E7030,IF(D7031=\"\",E7030,D7031/MAX($D$8:D7031)-1)))","v":""}]
[null,null,null,null,{"$f":"IF(A7032=\"\",\"\",IF(B7032=\"\",E7031,IF(D7032=\"\",E7031,D7032/MAX($D$8:D7032)-1)))","v":""}]
[null,null,null,null,{"$f":"IF(A7033=\"\",\"\",IF(B7033=\"\",E7032,IF(D7033=\"\",E7032,D7033/MAX($D$8:D7033)-1)))","v":""}]
[null,null,null,null,{"$f":"IF(A7034=\"\",\"\",IF(B7034=\"\",E7033,IF(D7034=\"\",E7033,D7034/MAX($D$8:D7034)-1)))","v":""}]
[null,null,null,null,{"$f":"IF(A7035=\"\",\"\",IF(B7035=\"\",E7034,IF(D7035=\"\",E7034,D7035/MAX($D$8:D7035)-1)))","v":""}]
[null,null,null,null,{"$f":"IF(A7036=\"\",\"\",IF(B7036=\"\",E7035,IF(D7036=\"\",E7035,D7036/MAX($D$8:D7036)-1)))","v":""}]
[null,null,null,null,{"$f":"IF(A7037=\"\",\"\",IF(B7037=\"\",E7036,IF(D7037=\"\",E7036,D7037/MAX($D$8:D7037)-1)))","v":""}]
[null,null,null,null,{"$f":"IF(A7038=\"\",\"\",IF(B7038=\"\",E7037,IF(D7038=\"\",E7037,D7038/MAX($D$8:D7038)-1)))","v":""}]
[null,null,null,null,{"$f":"IF(A7039=\"\",\"\",IF(B7039=\"\",E7038,IF(D7039=\"\",E7038,D7039/MAX($D$8:D7039)-1)))","v":""}]
[null,null,null,null,{"$f":"IF(A7040=\"\",\"\",IF(B7040=\"\",E7039,IF(D7040=\"\",E7039,D7040/MAX($D$8:D7040)-1)))","v":""}]
[null,null,null,null,{"$f":"IF(A7041=\"\",\"\",IF(B7041=\"\",E7040,IF(D7041=\"\",E7040,D7041/MAX($D$8:D7041)-1)))","v":""}]
[null,null,null,null,{"$f":"IF(A7042=\"\",\"\",IF(B7042=\"\",E7041,IF(D7042=\"\",E7041,D7042/MAX($D$8:D7042)-1)))","v":""}]
[null,null,null,null,{"$f":"IF(A7043=\"\",\"\",IF(B7043=\"\",E7042,IF(D7043=\"\",E7042,D7043/MAX($D$8:D7043)-1)))","v":""}]
[null,null,null,null,{"$f":"IF(A7044=\"\",\"\",IF(B7044=\"\",E7043,IF(D7044=\"\",E7043,D7044/MAX($D$8:D7044)-1)))","v":""}]
[null,null,null,null,{"$f":"IF(A7045=\"\",\"\",IF(B7045=\"\",E7044,IF(D7045=\"\",E7044,D7045/MAX($D$8:D7045)-1)))","v":""}]
[null,null,null,null,{"$f":"IF(A7046=\"\",\"\",IF(B7046=\"\",E7045,IF(D7046=\"\",E7045,D7046/MAX($D$8:D7046)-1)))","v":""}]
[null,null,null,null,{"$f":"IF(A7047=\"\",\"\",IF(B7047=\"\",E7046,IF(D7047=\"\",E7046,D7047/MAX($D$8:D7047)-1)))","v":""}]
[null,null,null,null,{"$f":"IF(A7048=\"\",\"\",IF(B7048=\"\",E7047,IF(D7048=\"\",E7047,D7048/MAX($D$8:D7048)-1)))","v":""}]
[null,null,null,null,{"$f":"IF(A7049=\"\",\"\",IF(B7049=\"\",E7048,IF(D7049=\"\",E7048,D7049/MAX($D$8:D7049)-1)))","v":""}]
[null,null,null,null,{"$f":"IF(A7050=\"\",\"\",IF(B7050=\"\",E7049,IF(D7050=\"\",E7049,D7050/MAX($D$8:D7050)-1)))","v":""}]
[null,null,null,null,{"$f":"IF(A7051=\"\",\"\",IF(B7051=\"\",E7050,IF(D7051=\"\",E7050,D7051/MAX($D$8:D7051)-1)))","v":""}]
[null,null,null,null,{"$f":"IF(A7052=\"\",\"\",IF(B7052=\"\",E7051,IF(D7052=\"\",E7051,D7052/MAX($D$8:D7052)-1)))","v":""}]
[null,null,null,null,{"$f":"IF(A7053=\"\",\"\",IF(B7053=\"\",E7052,IF(D7053=\"\",E7052,D7053/MAX($D$8:D7053)-1)))","v":""}]
[null,null,null,null,{"$f":"IF(A7054=\"\",\"\",IF(B7054=\"\",E7053,IF(D7054=\"\",E7053,D7054/MAX($D$8:D7054)-1)))","v":""}]
[null,null,null,null,{"$f":"IF(A7055=\"\",\"\",IF(B7055=\"\",E7054,IF(D7055=\"\",E7054,D7055/MAX($D$8:D7055)-1)))","v":""}]
[null,null,null,null,{"$f":"IF(A7056=\"\",\"\",IF(B7056=\"\",E7055,IF(D7056=\"\",E7055,D7056/MAX($D$8:D7056)-1)))","v":""}]
[null,null,null,null,{"$f":"IF(A7057=\"\",\"\",IF(B7057=\"\",E7056,IF(D7057=\"\",E7056,D7057/MAX($D$8:D7057)-1)))","v":""}]
[null,null,null,null,{"$f":"IF(A7058=\"\",\"\",IF(B7058=\"\",E7057,IF(D7058=\"\",E7057,D7058/MAX($D$8:D7058)-1)))","v":""}]
[null,null,null,null,{"$f":"IF(A7059=\"\",\"\",IF(B7059=\"\",E7058,IF(D7059=\"\",E7058,D7059/MAX($D$8:D7059)-1)))","v":""}]
[null,null,null,null,{"$f":"IF(A7060=\"\",\"\",IF(B7060=\"\",E7059,IF(D7060=\"\",E7059,D7060/MAX($D$8:D7060)-1)))","v":""}]
[null,null,null,null,{"$f":"IF(A7061=\"\",\"\",IF(B7061=\"\",E7060,IF(D7061=\"\",E7060,D7061/MAX($D$8:D7061)-1)))","v":""}]
[null,null,null,null,{"$f":"IF(A7062=\"\",\"\",IF(B7062=\"\",E7061,IF(D7062=\"\",E7061,D7062/MAX($D$8:D7062)-1)))","v":""}]
[null,null,null,null,{"$f":"IF(A7063=\"\",\"\",IF(B7063=\"\",E7062,IF(D7063=\"\",E7062,D7063/MAX($D$8:D7063)-1)))","v":""}]
[null,null,null,null,{"$f":"IF(A7064=\"\",\"\",IF(B7064=\"\",E7063,IF(D7064=\"\",E7063,D7064/MAX($D$8:D7064)-1)))","v":""}]
[null,null,null,null,{"$f":"IF(A7065=\"\",\"\",IF(B7065=\"\",E7064,IF(D7065=\"\",E7064,D7065/MAX($D$8:D7065)-1)))","v":""}]
[null,null,null,null,{"$f":"IF(A7066=\"\",\"\",IF(B7066=\"\",E7065,IF(D7066=\"\",E7065,D7066/MAX($D$8:D7066)-1)))","v":""}]
[null,null,null,null,{"$f":"IF(A7067=\"\",\"\",IF(B7067=\"\",E7066,IF(D7067=\"\",E7066,D7067/MAX($D$8:D7067)-1)))","v":""}]
[null,null,null,null,{"$f":"IF(A7068=\"\",\"\",IF(B7068=\"\",E7067,IF(D7068=\"\",E7067,D7068/MAX($D$8:D7068)-1)))","v":""}]
[null,null,null,null,{"$f":"IF(A7069=\"\",\"\",IF(B7069=\"\",E7068,IF(D7069=\"\",E7068,D7069/MAX($D$8:D7069)-1)))","v":""}]
[null,null,null,null,{"$f":"IF(A7070=\"\",\"\",IF(B7070=\"\",E7069,IF(D7070=\"\",E7069,D7070/MAX($D$8:D7070)-1)))","v":""}]
[null,null,null,null,{"$f":"IF(A7071=\"\",\"\",IF(B7071=\"\",E7070,IF(D7071=\"\",E7070,D7071/MAX($D$8:D7071)-1)))","v":""}]
[null,null,null,null,{"$f":"IF(A7072=\"\",\"\",IF(B7072=\"\",E7071,IF(D7072=\"\",E7071,D7072/MAX($D$8:D7072)-1)))","v":""}]
[null,null,null,null,{"$f":"IF(A7073=\"\",\"\",IF(B7073=\"\",E7072,IF(D7073=\"\",E7072,D7073/MAX($D$8:D7073)-1)))","v":""}]
[null,null,null,null,{"$f":"IF(A7074=\"\",\"\",IF(B7074=\"\",E7073,IF(D7074=\"\",E7073,D7074/MAX($D$8:D7074)-1)))","v":""}]
[null,null,null,null,{"$f":"IF(A7075=\"\",\"\",IF(B7075=\"\",E7074,IF(D7075=\"\",E7074,D7075/MAX($D$8:D7075)-1)))","v":""}]
[null,null,null,null,{"$f":"IF(A7076=\"\",\"\",IF(B7076=\"\",E7075,IF(D7076=\"\",E7075,D7076/MAX($D$8:D7076)-1)))","v":""}]
[null,null,null,null,{"$f":"IF(A7077=\"\",\"\",IF(B7077=\"\",E7076,IF(D7077=\"\",E7076,D7077/MAX($D$8:D7077)-1)))","v":""}]
[null,null,null,null,{"$f":"IF(A7078=\"\",\"\",IF(B7078=\"\",E7077,IF(D7078=\"\",E7077,D7078/MAX($D$8:D7078)-1)))","v":""}]
[null,null,null,null,{"$f":"IF(A7079=\"\",\"\",IF(B7079=\"\",E7078,IF(D7079=\"\",E7078,D7079/MAX($D$8:D7079)-1)))","v":""}]
[null,null,null,null,{"$f":"IF(A7080=\"\",\"\",IF(B7080=\"\",E7079,IF(D7080=\"\",E7079,D7080/MAX($D$8:D7080)-1)))","v":""}]
[null,null,null,null,{"$f":"IF(A7081=\"\",\"\",IF(B7081=\"\",E7080,IF(D7081=\"\",E7080,D7081/MAX($D$8:D7081)-1)))","v":""}]
[null,null,null,null,{"$f":"IF(A7082=\"\",\"\",IF(B7082=\"\",E7081,IF(D7082=\"\",E7081,D7082/MAX($D$8:D7082)-1)))","v":""}]
[null,null,null,null,{"$f":"IF(A7083=\"\",\"\",IF(B7083=\"\",E7082,IF(D7083=\"\",E7082,D7083/MAX($D$8:D7083)-1)))","v":""}]
[null,null,null,null,{"$f":"IF(A7084=\"\",\"\",IF(B7084=\"\",E7083,IF(D7084=\"\",E7083,D7084/MAX($D$8:D7084)-1)))","v":""}]
[null,null,null,null,{"$f":"IF(A7085=\"\",\"\",IF(B7085=\"\",E7084,IF(D7085=\"\",E7084,D7085/MAX($D$8:D7085)-1)))","v":""}]
[null,null,null,null,{"$f":"IF(A7086=\"\",\"\",IF(B7086=\"\",E7085,IF(D7086=\"\",E7085,D7086/MAX($D$8:D7086)-1)))","v":""}]
[null,null,null,null,{"$f":"IF(A7087=\"\",\"\",IF(B7087=\"\",E7086,IF(D7087=\"\",E7086,D7087/MAX($D$8:D7087)-1)))","v":""}]
[null,null,null,null,{"$f":"IF(A7088=\"\",\"\",IF(B7088=\"\",E7087,IF(D7088=\"\",E7087,D7088/MAX($D$8:D7088)-1)))","v":""}]
[null,null,null,null,{"$f":"IF(A7089=\"\",\"\",IF(B7089=\"\",E7088,IF(D7089=\"\",E7088,D7089/MAX($D$8:D7089)-1)))","v":""}]
[null,null,null,null,{"$f":"IF(A7090=\"\",\"\",IF(B7090=\"\",E7089,IF(D7090=\"\",E7089,D7090/MAX($D$8:D7090)-1)))","v":""}]
[null,null,null,null,{"$f":"IF(A7091=\"\",\"\",IF(B7091=\"\",E7090,IF(D7091=\"\",E7090,D7091/MAX($D$8:D7091)-1)))","v":""}]
[null,null,null,null,{"$f":"IF(A7092=\"\",\"\",IF(B7092=\"\",E7091,IF(D7092=\"\",E7091,D7092/MAX($D$8:D7092)-1)))","v":""}]
[null,null,null,null,{"$f":"IF(A7093=\"\",\"\",IF(B7093=\"\",E7092,IF(D7093=\"\",E7092,D7093/MAX($D$8:D7093)-1)))","v":""}]
[null,null,null,null,{"$f":"IF(A7094=\"\",\"\",IF(B7094=\"\",E7093,IF(D7094=\"\",E7093,D7094/MAX($D$8:D7094)-1)))","v":""}]
[null,null,null,null,{"$f":"IF(A7095=\"\",\"\",IF(B7095=\"\",E7094,IF(D7095=\"\",E7094,D7095/MAX($D$8:D7095)-1)))","v":""}]
[null,null,null,null,{"$f":"IF(A7096=\"\",\"\",IF(B7096=\"\",E7095,IF(D7096=\"\",E7095,D7096/MAX($D$8:D7096)-1)))","v":""}]
[null,null,null,null,{"$f":"IF(A7097=\"\",\"\",IF(B7097=\"\",E7096,IF(D7097=\"\",E7096,D7097/MAX($D$8:D7097)-1)))","v":""}]
[null,null,null,null,{"$f":"IF(A7098=\"\",\"\",IF(B7098=\"\",E7097,IF(D7098=\"\",E7097,D7098/MAX($D$8:D7098)-1)))","v":""}]
[null,null,null,null,{"$f":"IF(A7099=\"\",\"\",IF(B7099=\"\",E7098,IF(D7099=\"\",E7098,D7099/MAX($D$8:D7099)-1)))","v":""}]
[null,null,null,null,{"$f":"IF(A7100=\"\",\"\",IF(B7100=\"\",E7099,IF(D7100=\"\",E7099,D7100/MAX($D$8:D7100)-1)))","v":""}]
[null,null,null,null,{"$f":"IF(A7101=\"\",\"\",IF(B7101=\"\",E7100,IF(D7101=\"\",E7100,D7101/MAX($D$8:D7101)-1)))","v":""}]
[null,null,null,null,{"$f":"IF(A7102=\"\",\"\",IF(B7102=\"\",E7101,IF(D7102=\"\",E7101,D7102/MAX($D$8:D7102)-1)))","v":""}]
[null,null,null,null,{"$f":"IF(A7103=\"\",\"\",IF(B7103=\"\",E7102,IF(D7103=\"\",E7102,D7103/MAX($D$8:D7103)-1)))","v":""}]
[null,null,null,null,{"$f":"IF(A7104=\"\",\"\",IF(B7104=\"\",E7103,IF(D7104=\"\",E7103,D7104/MAX($D$8:D7104)-1)))","v":""}]
[null,null,null,null,{"$f":"IF(A7105=\"\",\"\",IF(B7105=\"\",E7104,IF(D7105=\"\",E7104,D7105/MAX($D$8:D7105)-1)))","v":""}]
[null,null,null,null,{"$f":"IF(A7106=\"\",\"\",IF(B7106=\"\",E7105,IF(D7106=\"\",E7105,D7106/MAX($D$8:D7106)-1)))","v":""}]
[null,null,null,null,{"$f":"IF(A7107=\"\",\"\",IF(B7107=\"\",E7106,IF(D7107=\"\",E7106,D7107/MAX($D$8:D7107)-1)))","v":""}]
[null,null,null,null,{"$f":"IF(A7108=\"\",\"\",IF(B7108=\"\",E7107,IF(D7108=\"\",E7107,D7108/MAX($D$8:D7108)-1)))","v":""}]
[null,null,null,null,{"$f":"IF(A7109=\"\",\"\",IF(B7109=\"\",E7108,IF(D7109=\"\",E7108,D7109/MAX($D$8:D7109)-1)))","v":""}]
[null,null,null,null,{"$f":"IF(A7110=\"\",\"\",IF(B7110=\"\",E7109,IF(D7110=\"\",E7109,D7110/MAX($D$8:D7110)-1)))","v":""}]
[null,null,null,null,{"$f":"IF(A7111=\"\",\"\",IF(B7111=\"\",E7110,IF(D7111=\"\",E7110,D7111/MAX($D$8:D7111)-1)))","v":""}]
[null,null,null,null,{"$f":"IF(A7112=\"\",\"\",IF(B7112=\"\",E7111,IF(D7112=\"\",E7111,D7112/MAX($D$8:D7112)-1)))","v":""}]
[null,null,null,null,{"$f":"IF(A7113=\"\",\"\",IF(B7113=\"\",E7112,IF(D7113=\"\",E7112,D7113/MAX($D$8:D7113)-1)))","v":""}]
[null,null,null,null,{"$f":"IF(A7114=\"\",\"\",IF(B7114=\"\",E7113,IF(D7114=\"\",E7113,D7114/MAX($D$8:D7114)-1)))","v":""}]
[null,null,null,null,{"$f":"IF(A7115=\"\",\"\",IF(B7115=\"\",E7114,IF(D7115=\"\",E7114,D7115/MAX($D$8:D7115)-1)))","v":""}]
[null,null,null,null,{"$f":"IF(A7116=\"\",\"\",IF(B7116=\"\",E7115,IF(D7116=\"\",E7115,D7116/MAX($D$8:D7116)-1)))","v":""}]
[null,null,null,null,{"$f":"IF(A7117=\"\",\"\",IF(B7117=\"\",E7116,IF(D7117=\"\",E7116,D7117/MAX($D$8:D7117)-1)))","v":""}]
[null,null,null,null,{"$f":"IF(A7118=\"\",\"\",IF(B7118=\"\",E7117,IF(D7118=\"\",E7117,D7118/MAX($D$8:D7118)-1)))","v":""}]
[null,null,null,null,{"$f":"IF(A7119=\"\",\"\",IF(B7119=\"\",E7118,IF(D7119=\"\",E7118,D7119/MAX($D$8:D7119)-1)))","v":""}]
[null,null,null,null,{"$f":"IF(A7120=\"\",\"\",IF(B7120=\"\",E7119,IF(D7120=\"\",E7119,D7120/MAX($D$8:D7120)-1)))","v":""}]
[null,null,null,null,{"$f":"IF(A7121=\"\",\"\",IF(B7121=\"\",E7120,IF(D7121=\"\",E7120,D7121/MAX($D$8:D7121)-1)))","v":""}]
[null,null,null,null,{"$f":"IF(A7122=\"\",\"\",IF(B7122=\"\",E7121,IF(D7122=\"\",E7121,D7122/MAX($D$8:D7122)-1)))","v":""}]
[null,null,null,null,{"$f":"IF(A7123=\"\",\"\",IF(B7123=\"\",E7122,IF(D7123=\"\",E7122,D7123/MAX($D$8:D7123)-1)))","v":""}]
[null,null,null,null,{"$f":"IF(A7124=\"\",\"\",IF(B7124=\"\",E7123,IF(D7124=\"\",E7123,D7124/MAX($D$8:D7124)-1)))","v":""}]
[null,null,null,null,{"$f":"IF(A7125=\"\",\"\",IF(B7125=\"\",E7124,IF(D7125=\"\",E7124,D7125/MAX($D$8:D7125)-1)))","v":""}]
[null,null,null,null,{"$f":"IF(A7126=\"\",\"\",IF(B7126=\"\",E7125,IF(D7126=\"\",E7125,D7126/MAX($D$8:D7126)-1)))","v":""}]
[null,null,null,null,{"$f":"IF(A7127=\"\",\"\",IF(B7127=\"\",E7126,IF(D7127=\"\",E7126,D7127/MAX($D$8:D7127)-1)))","v":""}]
[null,null,null,null,{"$f":"IF(A7128=\"\",\"\",IF(B7128=\"\",E7127,IF(D7128=\"\",E7127,D7128/MAX($D$8:D7128)-1)))","v":""}]
[null,null,null,null,{"$f":"IF(A7129=\"\",\"\",IF(B7129=\"\",E7128,IF(D7129=\"\",E7128,D7129/MAX($D$8:D7129)-1)))","v":""}]
[null,null,null,null,{"$f":"IF(A7130=\"\",\"\",IF(B7130=\"\",E7129,IF(D7130=\"\",E7129,D7130/MAX($D$8:D7130)-1)))","v":""}]
[null,null,null,null,{"$f":"IF(A7131=\"\",\"\",IF(B7131=\"\",E7130,IF(D7131=\"\",E7130,D7131/MAX($D$8:D7131)-1)))","v":""}]
[null,null,null,null,{"$f":"IF(A7132=\"\",\"\",IF(B7132=\"\",E7131,IF(D7132=\"\",E7131,D7132/MAX($D$8:D7132)-1)))","v":""}]
[null,null,null,null,{"$f":"IF(A7133=\"\",\"\",IF(B7133=\"\",E7132,IF(D7133=\"\",E7132,D7133/MAX($D$8:D7133)-1)))","v":""}]
[null,null,null,null,{"$f":"IF(A7134=\"\",\"\",IF(B7134=\"\",E7133,IF(D7134=\"\",E7133,D7134/MAX($D$8:D7134)-1)))","v":""}]
[null,null,null,null,{"$f":"IF(A7135=\"\",\"\",IF(B7135=\"\",E7134,IF(D7135=\"\",E7134,D7135/MAX($D$8:D7135)-1)))","v":""}]
[null,null,null,null,{"$f":"IF(A7136=\"\",\"\",IF(B7136=\"\",E7135,IF(D7136=\"\",E7135,D7136/MAX($D$8:D7136)-1)))","v":""}]
[null,null,null,null,{"$f":"IF(A7137=\"\",\"\",IF(B7137=\"\",E7136,IF(D7137=\"\",E7136,D7137/MAX($D$8:D7137)-1)))","v":""}]
[null,null,null,null,{"$f":"IF(A7138=\"\",\"\",IF(B7138=\"\",E7137,IF(D7138=\"\",E7137,D7138/MAX($D$8:D7138)-1)))","v":""}]
[null,null,null,null,{"$f":"IF(A7139=\"\",\"\",IF(B7139=\"\",E7138,IF(D7139=\"\",E7138,D7139/MAX($D$8:D7139)-1)))","v":""}]
[null,null,null,null,{"$f":"IF(A7140=\"\",\"\",IF(B7140=\"\",E7139,IF(D7140=\"\",E7139,D7140/MAX($D$8:D7140)-1)))","v":""}]
[null,null,null,null,{"$f":"IF(A7141=\"\",\"\",IF(B7141=\"\",E7140,IF(D7141=\"\",E7140,D7141/MAX($D$8:D7141)-1)))","v":""}]
[null,null,null,null,{"$f":"IF(A7142=\"\",\"\",IF(B7142=\"\",E7141,IF(D7142=\"\",E7141,D7142/MAX($D$8:D7142)-1)))","v":""}]
[null,null,null,null,{"$f":"IF(A7143=\"\",\"\",IF(B7143=\"\",E7142,IF(D7143=\"\",E7142,D7143/MAX($D$8:D7143)-1)))","v":""}]
[null,null,null,null,{"$f":"IF(A7144=\"\",\"\",IF(B7144=\"\",E7143,IF(D7144=\"\",E7143,D7144/MAX($D$8:D7144)-1)))","v":""}]
[null,null,null,null,{"$f":"IF(A7145=\"\",\"\",IF(B7145=\"\",E7144,IF(D7145=\"\",E7144,D7145/MAX($D$8:D7145)-1)))","v":""}]
[null,null,null,null,{"$f":"IF(A7146=\"\",\"\",IF(B7146=\"\",E7145,IF(D7146=\"\",E7145,D7146/MAX($D$8:D7146)-1)))","v":""}]
[null,null,null,null,{"$f":"IF(A7147=\"\",\"\",IF(B7147=\"\",E7146,IF(D7147=\"\",E7146,D7147/MAX($D$8:D7147)-1)))","v":""}]
[null,null,null,null,{"$f":"IF(A7148=\"\",\"\",IF(B7148=\"\",E7147,IF(D7148=\"\",E7147,D7148/MAX($D$8:D7148)-1)))","v":""}]
[null,null,null,null,{"$f":"IF(A7149=\"\",\"\",IF(B7149=\"\",E7148,IF(D7149=\"\",E7148,D7149/MAX($D$8:D7149)-1)))","v":""}]
[null,null,null,null,{"$f":"IF(A7150=\"\",\"\",IF(B7150=\"\",E7149,IF(D7150=\"\",E7149,D7150/MAX($D$8:D7150)-1)))","v":""}]
[null,null,null,null,{"$f":"IF(A7151=\"\",\"\",IF(B7151=\"\",E7150,IF(D7151=\"\",E7150,D7151/MAX($D$8:D7151)-1)))","v":""}]
[null,null,null,null,{"$f":"IF(A7152=\"\",\"\",IF(B7152=\"\",E7151,IF(D7152=\"\",E7151,D7152/MAX($D$8:D7152)-1)))","v":""}]
[null,null,null,null,{"$f":"IF(A7153=\"\",\"\",IF(B7153=\"\",E7152,IF(D7153=\"\",E7152,D7153/MAX($D$8:D7153)-1)))","v":""}]
[null,null,null,null,{"$f":"IF(A7154=\"\",\"\",IF(B7154=\"\",E7153,IF(D7154=\"\",E7153,D7154/MAX($D$8:D7154)-1)))","v":""}]
[null,null,null,null,{"$f":"IF(A7155=\"\",\"\",IF(B7155=\"\",E7154,IF(D7155=\"\",E7154,D7155/MAX($D$8:D7155)-1)))","v":""}]
[null,null,null,null,{"$f":"IF(A7156=\"\",\"\",IF(B7156=\"\",E7155,IF(D7156=\"\",E7155,D7156/MAX($D$8:D7156)-1)))","v":""}]
[null,null,null,null,{"$f":"IF(A7157=\"\",\"\",IF(B7157=\"\",E7156,IF(D7157=\"\",E7156,D7157/MAX($D$8:D7157)-1)))","v":""}]
[null,null,null,null,{"$f":"IF(A7158=\"\",\"\",IF(B7158=\"\",E7157,IF(D7158=\"\",E7157,D7158/MAX($D$8:D7158)-1)))","v":""}]
[null,null,null,null,{"$f":"IF(A7159=\"\",\"\",IF(B7159=\"\",E7158,IF(D7159=\"\",E7158,D7159/MAX($D$8:D7159)-1)))","v":""}]
[null,null,null,null,{"$f":"IF(A7160=\"\",\"\",IF(B7160=\"\",E7159,IF(D7160=\"\",E7159,D7160/MAX($D$8:D7160)-1)))","v":""}]
[null,null,null,null,{"$f":"IF(A7161=\"\",\"\",IF(B7161=\"\",E7160,IF(D7161=\"\",E7160,D7161/MAX($D$8:D7161)-1)))","v":""}]
[null,null,null,null,{"$f":"IF(A7162=\"\",\"\",IF(B7162=\"\",E7161,IF(D7162=\"\",E7161,D7162/MAX($D$8:D7162)-1)))","v":""}]
[null,null,null,null,{"$f":"IF(A7163=\"\",\"\",IF(B7163=\"\",E7162,IF(D7163=\"\",E7162,D7163/MAX($D$8:D7163)-1)))","v":""}]
[null,null,null,null,{"$f":"IF(A7164=\"\",\"\",IF(B7164=\"\",E7163,IF(D7164=\"\",E7163,D7164/MAX($D$8:D7164)-1)))","v":""}]
[null,null,null,null,{"$f":"IF(A7165=\"\",\"\",IF(B7165=\"\",E7164,IF(D7165=\"\",E7164,D7165/MAX($D$8:D7165)-1)))","v":""}]
[null,null,null,null,{"$f":"IF(A7166=\"\",\"\",IF(B7166=\"\",E7165,IF(D7166=\"\",E7165,D7166/MAX($D$8:D7166)-1)))","v":""}]
[null,null,null,null,{"$f":"IF(A7167=\"\",\"\",IF(B7167=\"\",E7166,IF(D7167=\"\",E7166,D7167/MAX($D$8:D7167)-1)))","v":""}]
[null,null,null,null,{"$f":"IF(A7168=\"\",\"\",IF(B7168=\"\",E7167,IF(D7168=\"\",E7167,D7168/MAX($D$8:D7168)-1)))","v":""}]
[null,null,null,null,{"$f":"IF(A7169=\"\",\"\",IF(B7169=\"\",E7168,IF(D7169=\"\",E7168,D7169/MAX($D$8:D7169)-1)))","v":""}]
[null,null,null,null,{"$f":"IF(A7170=\"\",\"\",IF(B7170=\"\",E7169,IF(D7170=\"\",E7169,D7170/MAX($D$8:D7170)-1)))","v":""}]
[null,null,null,null,{"$f":"IF(A7171=\"\",\"\",IF(B7171=\"\",E7170,IF(D7171=\"\",E7170,D7171/MAX($D$8:D7171)-1)))","v":""}]
[null,null,null,null,{"$f":"IF(A7172=\"\",\"\",IF(B7172=\"\",E7171,IF(D7172=\"\",E7171,D7172/MAX($D$8:D7172)-1)))","v":""}]
[null,null,null,null,{"$f":"IF(A7173=\"\",\"\",IF(B7173=\"\",E7172,IF(D7173=\"\",E7172,D7173/MAX($D$8:D7173)-1)))","v":""}]
[null,null,null,null,{"$f":"IF(A7174=\"\",\"\",IF(B7174=\"\",E7173,IF(D7174=\"\",E7173,D7174/MAX($D$8:D7174)-1)))","v":""}]
[null,null,null,null,{"$f":"IF(A7175=\"\",\"\",IF(B7175=\"\",E7174,IF(D7175=\"\",E7174,D7175/MAX($D$8:D7175)-1)))","v":""}]
[null,null,null,null,{"$f":"IF(A7176=\"\",\"\",IF(B7176=\"\",E7175,IF(D7176=\"\",E7175,D7176/MAX($D$8:D7176)-1)))","v":""}]
[null,null,null,null,{"$f":"IF(A7177=\"\",\"\",IF(B7177=\"\",E7176,IF(D7177=\"\",E7176,D7177/MAX($D$8:D7177)-1)))","v":""}]
[null,null,null,null,{"$f":"IF(A7178=\"\",\"\",IF(B7178=\"\",E7177,IF(D7178=\"\",E7177,D7178/MAX($D$8:D7178)-1)))","v":""}]
[null,null,null,null,{"$f":"IF(A7179=\"\",\"\",IF(B7179=\"\",E7178,IF(D7179=\"\",E7178,D7179/MAX($D$8:D7179)-1)))","v":""}]
[null,null,null,null,{"$f":"IF(A7180=\"\",\"\",IF(B7180=\"\",E7179,IF(D7180=\"\",E7179,D7180/MAX($D$8:D7180)-1)))","v":""}]
[null,null,null,null,{"$f":"IF(A7181=\"\",\"\",IF(B7181=\"\",E7180,IF(D7181=\"\",E7180,D7181/MAX($D$8:D7181)-1)))","v":""}]
[null,null,null,null,{"$f":"IF(A7182=\"\",\"\",IF(B7182=\"\",E7181,IF(D7182=\"\",E7181,D7182/MAX($D$8:D7182)-1)))","v":""}]
[null,null,null,null,{"$f":"IF(A7183=\"\",\"\",IF(B7183=\"\",E7182,IF(D7183=\"\",E7182,D7183/MAX($D$8:D7183)-1)))","v":""}]
[null,null,null,null,{"$f":"IF(A7184=\"\",\"\",IF(B7184=\"\",E7183,IF(D7184=\"\",E7183,D7184/MAX($D$8:D7184)-1)))","v":""}]
[null,null,null,null,{"$f":"IF(A7185=\"\",\"\",IF(B7185=\"\",E7184,IF(D7185=\"\",E7184,D7185/MAX($D$8:D7185)-1)))","v":""}]
[null,null,null,null,{"$f":"IF(A7186=\"\",\"\",IF(B7186=\"\",E7185,IF(D7186=\"\",E7185,D7186/MAX($D$8:D7186)-1)))","v":""}]
[null,null,null,null,{"$f":"IF(A7187=\"\",\"\",IF(B7187=\"\",E7186,IF(D7187=\"\",E7186,D7187/MAX($D$8:D7187)-1)))","v":""}]
[null,null,null,null,{"$f":"IF(A7188=\"\",\"\",IF(B7188=\"\",E7187,IF(D7188=\"\",E7187,D7188/MAX($D$8:D7188)-1)))","v":""}]
[null,null,null,null,{"$f":"IF(A7189=\"\",\"\",IF(B7189=\"\",E7188,IF(D7189=\"\",E7188,D7189/MAX($D$8:D7189)-1)))","v":""}]
[null,null,null,null,{"$f":"IF(A7190=\"\",\"\",IF(B7190=\"\",E7189,IF(D7190=\"\",E7189,D7190/MAX($D$8:D7190)-1)))","v":""}]
[null,null,null,null,{"$f":"IF(A7191=\"\",\"\",IF(B7191=\"\",E7190,IF(D7191=\"\",E7190,D7191/MAX($D$8:D7191)-1)))","v":""}]
[null,null,null,null,{"$f":"IF(A7192=\"\",\"\",IF(B7192=\"\",E7191,IF(D7192=\"\",E7191,D7192/MAX($D$8:D7192)-1)))","v":""}]
[null,null,null,null,{"$f":"IF(A7193=\"\",\"\",IF(B7193=\"\",E7192,IF(D7193=\"\",E7192,D7193/MAX($D$8:D7193)-1)))","v":""}]
[null,null,null,null,{"$f":"IF(A7194=\"\",\"\",IF(B7194=\"\",E7193,IF(D7194=\"\",E7193,D7194/MAX($D$8:D7194)-1)))","v":""}]
[null,null,null,null,{"$f":"IF(A7195=\"\",\"\",IF(B7195=\"\",E7194,IF(D7195=\"\",E7194,D7195/MAX($D$8:D7195)-1)))","v":""}]
[null,null,null,null,{"$f":"IF(A7196=\"\",\"\",IF(B7196=\"\",E7195,IF(D7196=\"\",E7195,D7196/MAX($D$8:D7196)-1)))","v":""}]
[null,null,null,null,{"$f":"IF(A7197=\"\",\"\",IF(B7197=\"\",E7196,IF(D7197=\"\",E7196,D7197/MAX($D$8:D7197)-1)))","v":""}]
[null,null,null,null,{"$f":"IF(A7198=\"\",\"\",IF(B7198=\"\",E7197,IF(D7198=\"\",E7197,D7198/MAX($D$8:D7198)-1)))","v":""}]
[null,null,null,null,{"$f":"IF(A7199=\"\",\"\",IF(B7199=\"\",E7198,IF(D7199=\"\",E7198,D7199/MAX($D$8:D7199)-1)))","v":""}]
[null,null,null,null,{"$f":"IF(A7200=\"\",\"\",IF(B7200=\"\",E7199,IF(D7200=\"\",E7199,D7200/MAX($D$8:D7200)-1)))","v":""}]
[null,null,null,null,{"$f":"IF(A7201=\"\",\"\",IF(B7201=\"\",E7200,IF(D7201=\"\",E7200,D7201/MAX($D$8:D7201)-1)))","v":""}]
[null,null,null,null,{"$f":"IF(A7202=\"\",\"\",IF(B7202=\"\",E7201,IF(D7202=\"\",E7201,D7202/MAX($D$8:D7202)-1)))","v":""}]
[null,null,null,null,{"$f":"IF(A7203=\"\",\"\",IF(B7203=\"\",E7202,IF(D7203=\"\",E7202,D7203/MAX($D$8:D7203)-1)))","v":""}]
[null,null,null,null,{"$f":"IF(A7204=\"\",\"\",IF(B7204=\"\",E7203,IF(D7204=\"\",E7203,D7204/MAX($D$8:D7204)-1)))","v":""}]
[null,null,null,null,{"$f":"IF(A7205=\"\",\"\",IF(B7205=\"\",E7204,IF(D7205=\"\",E7204,D7205/MAX($D$8:D7205)-1)))","v":""}]
[null,null,null,null,{"$f":"IF(A7206=\"\",\"\",IF(B7206=\"\",E7205,IF(D7206=\"\",E7205,D7206/MAX($D$8:D7206)-1)))","v":""}]
[null,null,null,null,{"$f":"IF(A7207=\"\",\"\",IF(B7207=\"\",E7206,IF(D7207=\"\",E7206,D7207/MAX($D$8:D7207)-1)))","v":""}]
[null,null,null,null,{"$f":"IF(A7208=\"\",\"\",IF(B7208=\"\",E7207,IF(D7208=\"\",E7207,D7208/MAX($D$8:D7208)-1)))","v":""}]
[null,null,null,null,{"$f":"IF(A7209=\"\",\"\",IF(B7209=\"\",E7208,IF(D7209=\"\",E7208,D7209/MAX($D$8:D7209)-1)))","v":""}]
[null,null,null,null,{"$f":"IF(A7210=\"\",\"\",IF(B7210=\"\",E7209,IF(D7210=\"\",E7209,D7210/MAX($D$8:D7210)-1)))","v":""}]
[null,null,null,null,{"$f":"IF(A7211=\"\",\"\",IF(B7211=\"\",E7210,IF(D7211=\"\",E7210,D7211/MAX($D$8:D7211)-1)))","v":""}]
[null,null,null,null,{"$f":"IF(A7212=\"\",\"\",IF(B7212=\"\",E7211,IF(D7212=\"\",E7211,D7212/MAX($D$8:D7212)-1)))","v":""}]
[null,null,null,null,{"$f":"IF(A7213=\"\",\"\",IF(B7213=\"\",E7212,IF(D7213=\"\",E7212,D7213/MAX($D$8:D7213)-1)))","v":""}]
[null,null,null,null,{"$f":"IF(A7214=\"\",\"\",IF(B7214=\"\",E7213,IF(D7214=\"\",E7213,D7214/MAX($D$8:D7214)-1)))","v":""}]
[null,null,null,null,{"$f":"IF(A7215=\"\",\"\",IF(B7215=\"\",E7214,IF(D7215=\"\",E7214,D7215/MAX($D$8:D7215)-1)))","v":""}]
[null,null,null,null,{"$f":"IF(A7216=\"\",\"\",IF(B7216=\"\",E7215,IF(D7216=\"\",E7215,D7216/MAX($D$8:D7216)-1)))","v":""}]
[null,null,null,null,{"$f":"IF(A7217=\"\",\"\",IF(B7217=\"\",E7216,IF(D7217=\"\",E7216,D7217/MAX($D$8:D7217)-1)))","v":""}]
[null,null,null,null,{"$f":"IF(A7218=\"\",\"\",IF(B7218=\"\",E7217,IF(D7218=\"\",E7217,D7218/MAX($D$8:D7218)-1)))","v":""}]
[null,null,null,null,{"$f":"IF(A7219=\"\",\"\",IF(B7219=\"\",E7218,IF(D7219=\"\",E7218,D7219/MAX($D$8:D7219)-1)))","v":""}]
[null,null,null,null,{"$f":"IF(A7220=\"\",\"\",IF(B7220=\"\",E7219,IF(D7220=\"\",E7219,D7220/MAX($D$8:D7220)-1)))","v":""}]
[null,null,null,null,{"$f":"IF(A7221=\"\",\"\",IF(B7221=\"\",E7220,IF(D7221=\"\",E7220,D7221/MAX($D$8:D7221)-1)))","v":""}]
[null,null,null,null,{"$f":"IF(A7222=\"\",\"\",IF(B7222=\"\",E7221,IF(D7222=\"\",E7221,D7222/MAX($D$8:D7222)-1)))","v":""}]
[null,null,null,null,{"$f":"IF(A7223=\"\",\"\",IF(B7223=\"\",E7222,IF(D7223=\"\",E7222,D7223/MAX($D$8:D7223)-1)))","v":""}]
[null,null,null,null,{"$f":"IF(A7224=\"\",\"\",IF(B7224=\"\",E7223,IF(D7224=\"\",E7223,D7224/MAX($D$8:D7224)-1)))","v":""}]
[null,null,null,null,{"$f":"IF(A7225=\"\",\"\",IF(B7225=\"\",E7224,IF(D7225=\"\",E7224,D7225/MAX($D$8:D7225)-1)))","v":""}]
[null,null,null,null,{"$f":"IF(A7226=\"\",\"\",IF(B7226=\"\",E7225,IF(D7226=\"\",E7225,D7226/MAX($D$8:D7226)-1)))","v":""}]
[null,null,null,null,{"$f":"IF(A7227=\"\",\"\",IF(B7227=\"\",E7226,IF(D7227=\"\",E7226,D7227/MAX($D$8:D7227)-1)))","v":""}]
[null,null,null,null,{"$f":"IF(A7228=\"\",\"\",IF(B7228=\"\",E7227,IF(D7228=\"\",E7227,D7228/MAX($D$8:D7228)-1)))","v":""}]
[null,null,null,null,{"$f":"IF(A7229=\"\",\"\",IF(B7229=\"\",E7228,IF(D7229=\"\",E7228,D7229/MAX($D$8:D7229)-1)))","v":""}]
[null,null,null,null,{"$f":"IF(A7230=\"\",\"\",IF(B7230=\"\",E7229,IF(D7230=\"\",E7229,D7230/MAX($D$8:D7230)-1)))","v":""}]
[null,null,null,null,{"$f":"IF(A7231=\"\",\"\",IF(B7231=\"\",E7230,IF(D7231=\"\",E7230,D7231/MAX($D$8:D7231)-1)))","v":""}]
[null,null,null,null,{"$f":"IF(A7232=\"\",\"\",IF(B7232=\"\",E7231,IF(D7232=\"\",E7231,D7232/MAX($D$8:D7232)-1)))","v":""}]
[null,null,null,null,{"$f":"IF(A7233=\"\",\"\",IF(B7233=\"\",E7232,IF(D7233=\"\",E7232,D7233/MAX($D$8:D7233)-1)))","v":""}]
[null,null,null,null,{"$f":"IF(A7234=\"\",\"\",IF(B7234=\"\",E7233,IF(D7234=\"\",E7233,D7234/MAX($D$8:D7234)-1)))","v":""}]
[null,null,null,null,{"$f":"IF(A7235=\"\",\"\",IF(B7235=\"\",E7234,IF(D7235=\"\",E7234,D7235/MAX($D$8:D7235)-1)))","v":""}]
[null,null,null,null,{"$f":"IF(A7236=\"\",\"\",IF(B7236=\"\",E7235,IF(D7236=\"\",E7235,D7236/MAX($D$8:D7236)-1)))","v":""}]
[null,null,null,null,{"$f":"IF(A7237=\"\",\"\",IF(B7237=\"\",E7236,IF(D7237=\"\",E7236,D7237/MAX($D$8:D7237)-1)))","v":""}]
[null,null,null,null,{"$f":"IF(A7238=\"\",\"\",IF(B7238=\"\",E7237,IF(D7238=\"\",E7237,D7238/MAX($D$8:D7238)-1)))","v":""}]
[null,null,null,null,{"$f":"IF(A7239=\"\",\"\",IF(B7239=\"\",E7238,IF(D7239=\"\",E7238,D7239/MAX($D$8:D7239)-1)))","v":""}]
[null,null,null,null,{"$f":"IF(A7240=\"\",\"\",IF(B7240=\"\",E7239,IF(D7240=\"\",E7239,D7240/MAX($D$8:D7240)-1)))","v":""}]
[null,null,null,null,{"$f":"IF(A7241=\"\",\"\",IF(B7241=\"\",E7240,IF(D7241=\"\",E7240,D7241/MAX($D$8:D7241)-1)))","v":""}]
[null,null,null,null,{"$f":"IF(A7242=\"\",\"\",IF(B7242=\"\",E7241,IF(D7242=\"\",E7241,D7242/MAX($D$8:D7242)-1)))","v":""}]
[null,null,null,null,{"$f":"IF(A7243=\"\",\"\",IF(B7243=\"\",E7242,IF(D7243=\"\",E7242,D7243/MAX($D$8:D7243)-1)))","v":""}]
[null,null,null,null,{"$f":"IF(A7244=\"\",\"\",IF(B7244=\"\",E7243,IF(D7244=\"\",E7243,D7244/MAX($D$8:D7244)-1)))","v":""}]
[null,null,null,null,{"$f":"IF(A7245=\"\",\"\",IF(B7245=\"\",E7244,IF(D7245=\"\",E7244,D7245/MAX($D$8:D7245)-1)))","v":""}]
[null,null,null,null,{"$f":"IF(A7246=\"\",\"\",IF(B7246=\"\",E7245,IF(D7246=\"\",E7245,D7246/MAX($D$8:D7246)-1)))","v":""}]
[null,null,null,null,{"$f":"IF(A7247=\"\",\"\",IF(B7247=\"\",E7246,IF(D7247=\"\",E7246,D7247/MAX($D$8:D7247)-1)))","v":""}]
[null,null,null,null,{"$f":"IF(A7248=\"\",\"\",IF(B7248=\"\",E7247,IF(D7248=\"\",E7247,D7248/MAX($D$8:D7248)-1)))","v":""}]
[null,null,null,null,{"$f":"IF(A7249=\"\",\"\",IF(B7249=\"\",E7248,IF(D7249=\"\",E7248,D7249/MAX($D$8:D7249)-1)))","v":""}]
[null,null,null,null,{"$f":"IF(A7250=\"\",\"\",IF(B7250=\"\",E7249,IF(D7250=\"\",E7249,D7250/MAX($D$8:D7250)-1)))","v":""}]
[null,null,null,null,{"$f":"IF(A7251=\"\",\"\",IF(B7251=\"\",E7250,IF(D7251=\"\",E7250,D7251/MAX($D$8:D7251)-1)))","v":""}]
[null,null,null,null,{"$f":"IF(A7252=\"\",\"\",IF(B7252=\"\",E7251,IF(D7252=\"\",E7251,D7252/MAX($D$8:D7252)-1)))","v":""}]
[null,null,null,null,{"$f":"IF(A7253=\"\",\"\",IF(B7253=\"\",E7252,IF(D7253=\"\",E7252,D7253/MAX($D$8:D7253)-1)))","v":""}]
[null,null,null,null,{"$f":"IF(A7254=\"\",\"\",IF(B7254=\"\",E7253,IF(D7254=\"\",E7253,D7254/MAX($D$8:D7254)-1)))","v":""}]
[null,null,null,null,{"$f":"IF(A7255=\"\",\"\",IF(B7255=\"\",E7254,IF(D7255=\"\",E7254,D7255/MAX($D$8:D7255)-1)))","v":""}]
[null,null,null,null,{"$f":"IF(A7256=\"\",\"\",IF(B7256=\"\",E7255,IF(D7256=\"\",E7255,D7256/MAX($D$8:D7256)-1)))","v":""}]
[null,null,null,null,{"$f":"IF(A7257=\"\",\"\",IF(B7257=\"\",E7256,IF(D7257=\"\",E7256,D7257/MAX($D$8:D7257)-1)))","v":""}]
[null,null,null,null,{"$f":"IF(A7258=\"\",\"\",IF(B7258=\"\",E7257,IF(D7258=\"\",E7257,D7258/MAX($D$8:D7258)-1)))","v":""}]
[null,null,null,null,{"$f":"IF(A7259=\"\",\"\",IF(B7259=\"\",E7258,IF(D7259=\"\",E7258,D7259/MAX($D$8:D7259)-1)))","v":""}]
[null,null,null,null,{"$f":"IF(A7260=\"\",\"\",IF(B7260=\"\",E7259,IF(D7260=\"\",E7259,D7260/MAX($D$8:D7260)-1)))","v":""}]
[null,null,null,null,{"$f":"IF(A7261=\"\",\"\",IF(B7261=\"\",E7260,IF(D7261=\"\",E7260,D7261/MAX($D$8:D7261)-1)))","v":""}]
[null,null,null,null,{"$f":"IF(A7262=\"\",\"\",IF(B7262=\"\",E7261,IF(D7262=\"\",E7261,D7262/MAX($D$8:D7262)-1)))","v":""}]
[null,null,null,null,{"$f":"IF(A7263=\"\",\"\",IF(B7263=\"\",E7262,IF(D7263=\"\",E7262,D7263/MAX($D$8:D7263)-1)))","v":""}]
[null,null,null,null,{"$f":"IF(A7264=\"\",\"\",IF(B7264=\"\",E7263,IF(D7264=\"\",E7263,D7264/MAX($D$8:D7264)-1)))","v":""}]
[null,null,null,null,{"$f":"IF(A7265=\"\",\"\",IF(B7265=\"\",E7264,IF(D7265=\"\",E7264,D7265/MAX($D$8:D7265)-1)))","v":""}]
[null,null,null,null,{"$f":"IF(A7266=\"\",\"\",IF(B7266=\"\",E7265,IF(D7266=\"\",E7265,D7266/MAX($D$8:D7266)-1)))","v":""}]
[null,null,null,null,{"$f":"IF(A7267=\"\",\"\",IF(B7267=\"\",E7266,IF(D7267=\"\",E7266,D7267/MAX($D$8:D7267)-1)))","v":""}]
[null,null,null,null,{"$f":"IF(A7268=\"\",\"\",IF(B7268=\"\",E7267,IF(D7268=\"\",E7267,D7268/MAX($D$8:D7268)-1)))","v":""}]
[null,null,null,null,{"$f":"IF(A7269=\"\",\"\",IF(B7269=\"\",E7268,IF(D7269=\"\",E7268,D7269/MAX($D$8:D7269)-1)))","v":""}]
[null,null,null,null,{"$f":"IF(A7270=\"\",\"\",IF(B7270=\"\",E7269,IF(D7270=\"\",E7269,D7270/MAX($D$8:D7270)-1)))","v":""}]
[null,null,null,null,{"$f":"IF(A7271=\"\",\"\",IF(B7271=\"\",E7270,IF(D7271=\"\",E7270,D7271/MAX($D$8:D7271)-1)))","v":""}]
[null,null,null,null,{"$f":"IF(A7272=\"\",\"\",IF(B7272=\"\",E7271,IF(D7272=\"\",E7271,D7272/MAX($D$8:D7272)-1)))","v":""}]
[null,null,null,null,{"$f":"IF(A7273=\"\",\"\",IF(B7273=\"\",E7272,IF(D7273=\"\",E7272,D7273/MAX($D$8:D7273)-1)))","v":""}]
[null,null,null,null,{"$f":"IF(A7274=\"\",\"\",IF(B7274=\"\",E7273,IF(D7274=\"\",E7273,D7274/MAX($D$8:D7274)-1)))","v":""}]
[null,null,null,null,{"$f":"IF(A7275=\"\",\"\",IF(B7275=\"\",E7274,IF(D7275=\"\",E7274,D7275/MAX($D$8:D7275)-1)))","v":""}]
[null,null,null,null,{"$f":"IF(A7276=\"\",\"\",IF(B7276=\"\",E7275,IF(D7276=\"\",E7275,D7276/MAX($D$8:D7276)-1)))","v":""}]
[null,null,null,null,{"$f":"IF(A7277=\"\",\"\",IF(B7277=\"\",E7276,IF(D7277=\"\",E7276,D7277/MAX($D$8:D7277)-1)))","v":""}]
[null,null,null,null,{"$f":"IF(A7278=\"\",\"\",IF(B7278=\"\",E7277,IF(D7278=\"\",E7277,D7278/MAX($D$8:D7278)-1)))","v":""}]
[null,null,null,null,{"$f":"IF(A7279=\"\",\"\",IF(B7279=\"\",E7278,IF(D7279=\"\",E7278,D7279/MAX($D$8:D7279)-1)))","v":""}]
[null,null,null,null,{"$f":"IF(A7280=\"\",\"\",IF(B7280=\"\",E7279,IF(D7280=\"\",E7279,D7280/MAX($D$8:D7280)-1)))","v":""}]
[null,null,null,null,{"$f":"IF(A7281=\"\",\"\",IF(B7281=\"\",E7280,IF(D7281=\"\",E7280,D7281/MAX($D$8:D7281)-1)))","v":""}]
[null,null,null,null,{"$f":"IF(A7282=\"\",\"\",IF(B7282=\"\",E7281,IF(D7282=\"\",E7281,D7282/MAX($D$8:D7282)-1)))","v":""}]
[null,null,null,null,{"$f":"IF(A7283=\"\",\"\",IF(B7283=\"\",E7282,IF(D7283=\"\",E7282,D7283/MAX($D$8:D7283)-1)))","v":""}]
[null,null,null,null,{"$f":"IF(A7284=\"\",\"\",IF(B7284=\"\",E7283,IF(D7284=\"\",E7283,D7284/MAX($D$8:D7284)-1)))","v":""}]
[null,null,null,null,{"$f":"IF(A7285=\"\",\"\",IF(B7285=\"\",E7284,IF(D7285=\"\",E7284,D7285/MAX($D$8:D7285)-1)))","v":""}]
[null,null,null,null,{"$f":"IF(A7286=\"\",\"\",IF(B7286=\"\",E7285,IF(D7286=\"\",E7285,D7286/MAX($D$8:D7286)-1)))","v":""}]
[null,null,null,null,{"$f":"IF(A7287=\"\",\"\",IF(B7287=\"\",E7286,IF(D7287=\"\",E7286,D7287/MAX($D$8:D7287)-1)))","v":""}]
[null,null,null,null,{"$f":"IF(A7288=\"\",\"\",IF(B7288=\"\",E7287,IF(D7288=\"\",E7287,D7288/MAX($D$8:D7288)-1)))","v":""}]
[null,null,null,null,{"$f":"IF(A7289=\"\",\"\",IF(B7289=\"\",E7288,IF(D7289=\"\",E7288,D7289/MAX($D$8:D7289)-1)))","v":""}]
[null,null,null,null,{"$f":"IF(A7290=\"\",\"\",IF(B7290=\"\",E7289,IF(D7290=\"\",E7289,D7290/MAX($D$8:D7290)-1)))","v":""}]
[null,null,null,null,{"$f":"IF(A7291=\"\",\"\",IF(B7291=\"\",E7290,IF(D7291=\"\",E7290,D7291/MAX($D$8:D7291)-1)))","v":""}]
[null,null,null,null,{"$f":"IF(A7292=\"\",\"\",IF(B7292=\"\",E7291,IF(D7292=\"\",E7291,D7292/MAX($D$8:D7292)-1)))","v":""}]
[null,null,null,null,{"$f":"IF(A7293=\"\",\"\",IF(B7293=\"\",E7292,IF(D7293=\"\",E7292,D7293/MAX($D$8:D7293)-1)))","v":""}]
[null,null,null,null,{"$f":"IF(A7294=\"\",\"\",IF(B7294=\"\",E7293,IF(D7294=\"\",E7293,D7294/MAX($D$8:D7294)-1)))","v":""}]
[null,null,null,null,{"$f":"IF(A7295=\"\",\"\",IF(B7295=\"\",E7294,IF(D7295=\"\",E7294,D7295/MAX($D$8:D7295)-1)))","v":""}]
[null,null,null,null,{"$f":"IF(A7296=\"\",\"\",IF(B7296=\"\",E7295,IF(D7296=\"\",E7295,D7296/MAX($D$8:D7296)-1)))","v":""}]
[null,null,null,null,{"$f":"IF(A7297=\"\",\"\",IF(B7297=\"\",E7296,IF(D7297=\"\",E7296,D7297/MAX($D$8:D7297)-1)))","v":""}]
[null,null,null,null,{"$f":"IF(A7298=\"\",\"\",IF(B7298=\"\",E7297,IF(D7298=\"\",E7297,D7298/MAX($D$8:D7298)-1)))","v":""}]
[null,null,null,null,{"$f":"IF(A7299=\"\",\"\",IF(B7299=\"\",E7298,IF(D7299=\"\",E7298,D7299/MAX($D$8:D7299)-1)))","v":""}]
[null,null,null,null,{"$f":"IF(A7300=\"\",\"\",IF(B7300=\"\",E7299,IF(D7300=\"\",E7299,D7300/MAX($D$8:D7300)-1)))","v":""}]
[null,null,null,null,{"$f":"IF(A7301=\"\",\"\",IF(B7301=\"\",E7300,IF(D7301=\"\",E7300,D7301/MAX($D$8:D7301)-1)))","v":""}]
[null,null,null,null,{"$f":"IF(A7302=\"\",\"\",IF(B7302=\"\",E7301,IF(D7302=\"\",E7301,D7302/MAX($D$8:D7302)-1)))","v":""}]
[null,null,null,null,{"$f":"IF(A7303=\"\",\"\",IF(B7303=\"\",E7302,IF(D7303=\"\",E7302,D7303/MAX($D$8:D7303)-1)))","v":""}]
[null,null,null,null,{"$f":"IF(A7304=\"\",\"\",IF(B7304=\"\",E7303,IF(D7304=\"\",E7303,D7304/MAX($D$8:D7304)-1)))","v":""}]
[null,null,null,null,{"$f":"IF(A7305=\"\",\"\",IF(B7305=\"\",E7304,IF(D7305=\"\",E7304,D7305/MAX($D$8:D7305)-1)))","v":""}]
[null,null,null,null,{"$f":"IF(A7306=\"\",\"\",IF(B7306=\"\",E7305,IF(D7306=\"\",E7305,D7306/MAX($D$8:D7306)-1)))","v":""}]
[null,null,null,null,{"$f":"IF(A7307=\"\",\"\",IF(B7307=\"\",E7306,IF(D7307=\"\",E7306,D7307/MAX($D$8:D7307)-1)))","v":""}]
[null,null,null,null,{"$f":"IF(A7308=\"\",\"\",IF(B7308=\"\",E7307,IF(D7308=\"\",E7307,D7308/MAX($D$8:D7308)-1)))","v":""}]
[null,null,null,null,{"$f":"IF(A7309=\"\",\"\",IF(B7309=\"\",E7308,IF(D7309=\"\",E7308,D7309/MAX($D$8:D7309)-1)))","v":""}]
[null,null,null,null,{"$f":"IF(A7310=\"\",\"\",IF(B7310=\"\",E7309,IF(D7310=\"\",E7309,D7310/MAX($D$8:D7310)-1)))","v":""}]
[null,null,null,null,{"$f":"IF(A7311=\"\",\"\",IF(B7311=\"\",E7310,IF(D7311=\"\",E7310,D7311/MAX($D$8:D7311)-1)))","v":""}]
[null,null,null,null,{"$f":"IF(A7312=\"\",\"\",IF(B7312=\"\",E7311,IF(D7312=\"\",E7311,D7312/MAX($D$8:D7312)-1)))","v":""}]
[null,null,null,null,{"$f":"IF(A7313=\"\",\"\",IF(B7313=\"\",E7312,IF(D7313=\"\",E7312,D7313/MAX($D$8:D7313)-1)))","v":""}]
[null,null,null,null,{"$f":"IF(A7314=\"\",\"\",IF(B7314=\"\",E7313,IF(D7314=\"\",E7313,D7314/MAX($D$8:D7314)-1)))","v":""}]
[null,null,null,null,{"$f":"IF(A7315=\"\",\"\",IF(B7315=\"\",E7314,IF(D7315=\"\",E7314,D7315/MAX($D$8:D7315)-1)))","v":""}]
[null,null,null,null,{"$f":"IF(A7316=\"\",\"\",IF(B7316=\"\",E7315,IF(D7316=\"\",E7315,D7316/MAX($D$8:D7316)-1)))","v":""}]
[null,null,null,null,{"$f":"IF(A7317=\"\",\"\",IF(B7317=\"\",E7316,IF(D7317=\"\",E7316,D7317/MAX($D$8:D7317)-1)))","v":""}]
[null,null,null,null,{"$f":"IF(A7318=\"\",\"\",IF(B7318=\"\",E7317,IF(D7318=\"\",E7317,D7318/MAX($D$8:D7318)-1)))","v":""}]
[null,null,null,null,{"$f":"IF(A7319=\"\",\"\",IF(B7319=\"\",E7318,IF(D7319=\"\",E7318,D7319/MAX($D$8:D7319)-1)))","v":""}]
[null,null,null,null,{"$f":"IF(A7320=\"\",\"\",IF(B7320=\"\",E7319,IF(D7320=\"\",E7319,D7320/MAX($D$8:D7320)-1)))","v":""}]
[null,null,null,null,{"$f":"IF(A7321=\"\",\"\",IF(B7321=\"\",E7320,IF(D7321=\"\",E7320,D7321/MAX($D$8:D7321)-1)))","v":""}]
[null,null,null,null,{"$f":"IF(A7322=\"\",\"\",IF(B7322=\"\",E7321,IF(D7322=\"\",E7321,D7322/MAX($D$8:D7322)-1)))","v":""}]
[null,null,null,null,{"$f":"IF(A7323=\"\",\"\",IF(B7323=\"\",E7322,IF(D7323=\"\",E7322,D7323/MAX($D$8:D7323)-1)))","v":""}]
[null,null,null,null,{"$f":"IF(A7324=\"\",\"\",IF(B7324=\"\",E7323,IF(D7324=\"\",E7323,D7324/MAX($D$8:D7324)-1)))","v":""}]
[null,null,null,null,{"$f":"IF(A7325=\"\",\"\",IF(B7325=\"\",E7324,IF(D7325=\"\",E7324,D7325/MAX($D$8:D7325)-1)))","v":""}]
[null,null,null,null,{"$f":"IF(A7326=\"\",\"\",IF(B7326=\"\",E7325,IF(D7326=\"\",E7325,D7326/MAX($D$8:D7326)-1)))","v":""}]
[null,null,null,null,{"$f":"IF(A7327=\"\",\"\",IF(B7327=\"\",E7326,IF(D7327=\"\",E7326,D7327/MAX($D$8:D7327)-1)))","v":""}]
[null,null,null,null,{"$f":"IF(A7328=\"\",\"\",IF(B7328=\"\",E7327,IF(D7328=\"\",E7327,D7328/MAX($D$8:D7328)-1)))","v":""}]
[null,null,null,null,{"$f":"IF(A7329=\"\",\"\",IF(B7329=\"\",E7328,IF(D7329=\"\",E7328,D7329/MAX($D$8:D7329)-1)))","v":""}]
[null,null,null,null,{"$f":"IF(A7330=\"\",\"\",IF(B7330=\"\",E7329,IF(D7330=\"\",E7329,D7330/MAX($D$8:D7330)-1)))","v":""}]
[null,null,null,null,{"$f":"IF(A7331=\"\",\"\",IF(B7331=\"\",E7330,IF(D7331=\"\",E7330,D7331/MAX($D$8:D7331)-1)))","v":""}]
[null,null,null,null,{"$f":"IF(A7332=\"\",\"\",IF(B7332=\"\",E7331,IF(D7332=\"\",E7331,D7332/MAX($D$8:D7332)-1)))","v":""}]
[null,null,null,null,{"$f":"IF(A7333=\"\",\"\",IF(B7333=\"\",E7332,IF(D7333=\"\",E7332,D7333/MAX($D$8:D7333)-1)))","v":""}]
[null,null,null,null,{"$f":"IF(A7334=\"\",\"\",IF(B7334=\"\",E7333,IF(D7334=\"\",E7333,D7334/MAX($D$8:D7334)-1)))","v":""}]
[null,null,null,null,{"$f":"IF(A7335=\"\",\"\",IF(B7335=\"\",E7334,IF(D7335=\"\",E7334,D7335/MAX($D$8:D7335)-1)))","v":""}]
[null,null,null,null,{"$f":"IF(A7336=\"\",\"\",IF(B7336=\"\",E7335,IF(D7336=\"\",E7335,D7336/MAX($D$8:D7336)-1)))","v":""}]
[null,null,null,null,{"$f":"IF(A7337=\"\",\"\",IF(B7337=\"\",E7336,IF(D7337=\"\",E7336,D7337/MAX($D$8:D7337)-1)))","v":""}]
[null,null,null,null,{"$f":"IF(A7338=\"\",\"\",IF(B7338=\"\",E7337,IF(D7338=\"\",E7337,D7338/MAX($D$8:D7338)-1)))","v":""}]
[null,null,null,null,{"$f":"IF(A7339=\"\",\"\",IF(B7339=\"\",E7338,IF(D7339=\"\",E7338,D7339/MAX($D$8:D7339)-1)))","v":""}]
[null,null,null,null,{"$f":"IF(A7340=\"\",\"\",IF(B7340=\"\",E7339,IF(D7340=\"\",E7339,D7340/MAX($D$8:D7340)-1)))","v":""}]
[null,null,null,null,{"$f":"IF(A7341=\"\",\"\",IF(B7341=\"\",E7340,IF(D7341=\"\",E7340,D7341/MAX($D$8:D7341)-1)))","v":""}]
[null,null,null,null,{"$f":"IF(A7342=\"\",\"\",IF(B7342=\"\",E7341,IF(D7342=\"\",E7341,D7342/MAX($D$8:D7342)-1)))","v":""}]
[null,null,null,null,{"$f":"IF(A7343=\"\",\"\",IF(B7343=\"\",E7342,IF(D7343=\"\",E7342,D7343/MAX($D$8:D7343)-1)))","v":""}]
[null,null,null,null,{"$f":"IF(A7344=\"\",\"\",IF(B7344=\"\",E7343,IF(D7344=\"\",E7343,D7344/MAX($D$8:D7344)-1)))","v":""}]
[null,null,null,null,{"$f":"IF(A7345=\"\",\"\",IF(B7345=\"\",E7344,IF(D7345=\"\",E7344,D7345/MAX($D$8:D7345)-1)))","v":""}]
[null,null,null,null,{"$f":"IF(A7346=\"\",\"\",IF(B7346=\"\",E7345,IF(D7346=\"\",E7345,D7346/MAX($D$8:D7346)-1)))","v":""}]
[null,null,null,null,{"$f":"IF(A7347=\"\",\"\",IF(B7347=\"\",E7346,IF(D7347=\"\",E7346,D7347/MAX($D$8:D7347)-1)))","v":""}]
[null,null,null,null,{"$f":"IF(A7348=\"\",\"\",IF(B7348=\"\",E7347,IF(D7348=\"\",E7347,D7348/MAX($D$8:D7348)-1)))","v":""}]
[null,null,null,null,{"$f":"IF(A7349=\"\",\"\",IF(B7349=\"\",E7348,IF(D7349=\"\",E7348,D7349/MAX($D$8:D7349)-1)))","v":""}]
[null,null,null,null,{"$f":"IF(A7350=\"\",\"\",IF(B7350=\"\",E7349,IF(D7350=\"\",E7349,D7350/MAX($D$8:D7350)-1)))","v":""}]
[null,null,null,null,{"$f":"IF(A7351=\"\",\"\",IF(B7351=\"\",E7350,IF(D7351=\"\",E7350,D7351/MAX($D$8:D7351)-1)))","v":""}]
[null,null,null,null,{"$f":"IF(A7352=\"\",\"\",IF(B7352=\"\",E7351,IF(D7352=\"\",E7351,D7352/MAX($D$8:D7352)-1)))","v":""}]
[null,null,null,null,{"$f":"IF(A7353=\"\",\"\",IF(B7353=\"\",E7352,IF(D7353=\"\",E7352,D7353/MAX($D$8:D7353)-1)))","v":""}]
[null,null,null,null,{"$f":"IF(A7354=\"\",\"\",IF(B7354=\"\",E7353,IF(D7354=\"\",E7353,D7354/MAX($D$8:D7354)-1)))","v":""}]
[null,null,null,null,{"$f":"IF(A7355=\"\",\"\",IF(B7355=\"\",E7354,IF(D7355=\"\",E7354,D7355/MAX($D$8:D7355)-1)))","v":""}]
[null,null,null,null,{"$f":"IF(A7356=\"\",\"\",IF(B7356=\"\",E7355,IF(D7356=\"\",E7355,D7356/MAX($D$8:D7356)-1)))","v":""}]
[null,null,null,null,{"$f":"IF(A7357=\"\",\"\",IF(B7357=\"\",E7356,IF(D7357=\"\",E7356,D7357/MAX($D$8:D7357)-1)))","v":""}]
[null,null,null,null,{"$f":"IF(A7358=\"\",\"\",IF(B7358=\"\",E7357,IF(D7358=\"\",E7357,D7358/MAX($D$8:D7358)-1)))","v":""}]
[null,null,null,null,{"$f":"IF(A7359=\"\",\"\",IF(B7359=\"\",E7358,IF(D7359=\"\",E7358,D7359/MAX($D$8:D7359)-1)))","v":""}]
[null,null,null,null,{"$f":"IF(A7360=\"\",\"\",IF(B7360=\"\",E7359,IF(D7360=\"\",E7359,D7360/MAX($D$8:D7360)-1)))","v":""}]
[null,null,null,null,{"$f":"IF(A7361=\"\",\"\",IF(B7361=\"\",E7360,IF(D7361=\"\",E7360,D7361/MAX($D$8:D7361)-1)))","v":""}]
[null,null,null,null,{"$f":"IF(A7362=\"\",\"\",IF(B7362=\"\",E7361,IF(D7362=\"\",E7361,D7362/MAX($D$8:D7362)-1)))","v":""}]
[null,null,null,null,{"$f":"IF(A7363=\"\",\"\",IF(B7363=\"\",E7362,IF(D7363=\"\",E7362,D7363/MAX($D$8:D7363)-1)))","v":""}]
[null,null,null,null,{"$f":"IF(A7364=\"\",\"\",IF(B7364=\"\",E7363,IF(D7364=\"\",E7363,D7364/MAX($D$8:D7364)-1)))","v":""}]
[null,null,null,null,{"$f":"IF(A7365=\"\",\"\",IF(B7365=\"\",E7364,IF(D7365=\"\",E7364,D7365/MAX($D$8:D7365)-1)))","v":""}]
[null,null,null,null,{"$f":"IF(A7366=\"\",\"\",IF(B7366=\"\",E7365,IF(D7366=\"\",E7365,D7366/MAX($D$8:D7366)-1)))","v":""}]
[null,null,null,null,{"$f":"IF(A7367=\"\",\"\",IF(B7367=\"\",E7366,IF(D7367=\"\",E7366,D7367/MAX($D$8:D7367)-1)))","v":""}]
[null,null,null,null,{"$f":"IF(A7368=\"\",\"\",IF(B7368=\"\",E7367,IF(D7368=\"\",E7367,D7368/MAX($D$8:D7368)-1)))","v":""}]
[null,null,null,null,{"$f":"IF(A7369=\"\",\"\",IF(B7369=\"\",E7368,IF(D7369=\"\",E7368,D7369/MAX($D$8:D7369)-1)))","v":""}]
[null,null,null,null,{"$f":"IF(A7370=\"\",\"\",IF(B7370=\"\",E7369,IF(D7370=\"\",E7369,D7370/MAX($D$8:D7370)-1)))","v":""}]
[null,null,null,null,{"$f":"IF(A7371=\"\",\"\",IF(B7371=\"\",E7370,IF(D7371=\"\",E7370,D7371/MAX($D$8:D7371)-1)))","v":""}]
[null,null,null,null,{"$f":"IF(A7372=\"\",\"\",IF(B7372=\"\",E7371,IF(D7372=\"\",E7371,D7372/MAX($D$8:D7372)-1)))","v":""}]
[null,null,null,null,{"$f":"IF(A7373=\"\",\"\",IF(B7373=\"\",E7372,IF(D7373=\"\",E7372,D7373/MAX($D$8:D7373)-1)))","v":""}]
[null,null,null,null,{"$f":"IF(A7374=\"\",\"\",IF(B7374=\"\",E7373,IF(D7374=\"\",E7373,D7374/MAX($D$8:D7374)-1)))","v":""}]
[null,null,null,null,{"$f":"IF(A7375=\"\",\"\",IF(B7375=\"\",E7374,IF(D7375=\"\",E7374,D7375/MAX($D$8:D7375)-1)))","v":""}]
[null,null,null,null,{"$f":"IF(A7376=\"\",\"\",IF(B7376=\"\",E7375,IF(D7376=\"\",E7375,D7376/MAX($D$8:D7376)-1)))","v":""}]
[null,null,null,null,{"$f":"IF(A7377=\"\",\"\",IF(B7377=\"\",E7376,IF(D7377=\"\",E7376,D7377/MAX($D$8:D7377)-1)))","v":""}]
[null,null,null,null,{"$f":"IF(A7378=\"\",\"\",IF(B7378=\"\",E7377,IF(D7378=\"\",E7377,D7378/MAX($D$8:D7378)-1)))","v":""}]
[null,null,null,null,{"$f":"IF(A7379=\"\",\"\",IF(B7379=\"\",E7378,IF(D7379=\"\",E7378,D7379/MAX($D$8:D7379)-1)))","v":""}]
[null,null,null,null,{"$f":"IF(A7380=\"\",\"\",IF(B7380=\"\",E7379,IF(D7380=\"\",E7379,D7380/MAX($D$8:D7380)-1)))","v":""}]
[null,null,null,null,{"$f":"IF(A7381=\"\",\"\",IF(B7381=\"\",E7380,IF(D7381=\"\",E7380,D7381/MAX($D$8:D7381)-1)))","v":""}]
[null,null,null,null,{"$f":"IF(A7382=\"\",\"\",IF(B7382=\"\",E7381,IF(D7382=\"\",E7381,D7382/MAX($D$8:D7382)-1)))","v":""}]
[null,null,null,null,{"$f":"IF(A7383=\"\",\"\",IF(B7383=\"\",E7382,IF(D7383=\"\",E7382,D7383/MAX($D$8:D7383)-1)))","v":""}]
[null,null,null,null,{"$f":"IF(A7384=\"\",\"\",IF(B7384=\"\",E7383,IF(D7384=\"\",E7383,D7384/MAX($D$8:D7384)-1)))","v":""}]
[null,null,null,null,{"$f":"IF(A7385=\"\",\"\",IF(B7385=\"\",E7384,IF(D7385=\"\",E7384,D7385/MAX($D$8:D7385)-1)))","v":""}]
[null,null,null,null,{"$f":"IF(A7386=\"\",\"\",IF(B7386=\"\",E7385,IF(D7386=\"\",E7385,D7386/MAX($D$8:D7386)-1)))","v":""}]
[null,null,null,null,{"$f":"IF(A7387=\"\",\"\",IF(B7387=\"\",E7386,IF(D7387=\"\",E7386,D7387/MAX($D$8:D7387)-1)))","v":""}]
[null,null,null,null,{"$f":"IF(A7388=\"\",\"\",IF(B7388=\"\",E7387,IF(D7388=\"\",E7387,D7388/MAX($D$8:D7388)-1)))","v":""}]
[null,null,null,null,{"$f":"IF(A7389=\"\",\"\",IF(B7389=\"\",E7388,IF(D7389=\"\",E7388,D7389/MAX($D$8:D7389)-1)))","v":""}]
[null,null,null,null,{"$f":"IF(A7390=\"\",\"\",IF(B7390=\"\",E7389,IF(D7390=\"\",E7389,D7390/MAX($D$8:D7390)-1)))","v":""}]
[null,null,null,null,{"$f":"IF(A7391=\"\",\"\",IF(B7391=\"\",E7390,IF(D7391=\"\",E7390,D7391/MAX($D$8:D7391)-1)))","v":""}]
[null,null,null,null,{"$f":"IF(A7392=\"\",\"\",IF(B7392=\"\",E7391,IF(D7392=\"\",E7391,D7392/MAX($D$8:D7392)-1)))","v":""}]
[null,null,null,null,{"$f":"IF(A7393=\"\",\"\",IF(B7393=\"\",E7392,IF(D7393=\"\",E7392,D7393/MAX($D$8:D7393)-1)))","v":""}]
[null,null,null,null,{"$f":"IF(A7394=\"\",\"\",IF(B7394=\"\",E7393,IF(D7394=\"\",E7393,D7394/MAX($D$8:D7394)-1)))","v":""}]
[null,null,null,null,{"$f":"IF(A7395=\"\",\"\",IF(B7395=\"\",E7394,IF(D7395=\"\",E7394,D7395/MAX($D$8:D7395)-1)))","v":""}]
[null,null,null,null,{"$f":"IF(A7396=\"\",\"\",IF(B7396=\"\",E7395,IF(D7396=\"\",E7395,D7396/MAX($D$8:D7396)-1)))","v":""}]
[null,null,null,null,{"$f":"IF(A7397=\"\",\"\",IF(B7397=\"\",E7396,IF(D7397=\"\",E7396,D7397/MAX($D$8:D7397)-1)))","v":""}]
[null,null,null,null,{"$f":"IF(A7398=\"\",\"\",IF(B7398=\"\",E7397,IF(D7398=\"\",E7397,D7398/MAX($D$8:D7398)-1)))","v":""}]
[null,null,null,null,{"$f":"IF(A7399=\"\",\"\",IF(B7399=\"\",E7398,IF(D7399=\"\",E7398,D7399/MAX($D$8:D7399)-1)))","v":""}]
[null,null,null,null,{"$f":"IF(A7400=\"\",\"\",IF(B7400=\"\",E7399,IF(D7400=\"\",E7399,D7400/MAX($D$8:D7400)-1)))","v":""}]
[null,null,null,null,{"$f":"IF(A7401=\"\",\"\",IF(B7401=\"\",E7400,IF(D7401=\"\",E7400,D7401/MAX($D$8:D7401)-1)))","v":""}]
[null,null,null,null,{"$f":"IF(A7402=\"\",\"\",IF(B7402=\"\",E7401,IF(D7402=\"\",E7401,D7402/MAX($D$8:D7402)-1)))","v":""}]
[null,null,null,null,{"$f":"IF(A7403=\"\",\"\",IF(B7403=\"\",E7402,IF(D7403=\"\",E7402,D7403/MAX($D$8:D7403)-1)))","v":""}]
[null,null,null,null,{"$f":"IF(A7404=\"\",\"\",IF(B7404=\"\",E7403,IF(D7404=\"\",E7403,D7404/MAX($D$8:D7404)-1)))","v":""}]
[null,null,null,null,{"$f":"IF(A7405=\"\",\"\",IF(B7405=\"\",E7404,IF(D7405=\"\",E7404,D7405/MAX($D$8:D7405)-1)))","v":""}]
[null,null,null,null,{"$f":"IF(A7406=\"\",\"\",IF(B7406=\"\",E7405,IF(D7406=\"\",E7405,D7406/MAX($D$8:D7406)-1)))","v":""}]
[null,null,null,null,{"$f":"IF(A7407=\"\",\"\",IF(B7407=\"\",E7406,IF(D7407=\"\",E7406,D7407/MAX($D$8:D7407)-1)))","v":""}]
[null,null,null,null,{"$f":"IF(A7408=\"\",\"\",IF(B7408=\"\",E7407,IF(D7408=\"\",E7407,D7408/MAX($D$8:D7408)-1)))","v":""}]
[null,null,null,null,{"$f":"IF(A7409=\"\",\"\",IF(B7409=\"\",E7408,IF(D7409=\"\",E7408,D7409/MAX($D$8:D7409)-1)))","v":""}]
[null,null,null,null,{"$f":"IF(A7410=\"\",\"\",IF(B7410=\"\",E7409,IF(D7410=\"\",E7409,D7410/MAX($D$8:D7410)-1)))","v":""}]
[null,null,null,null,{"$f":"IF(A7411=\"\",\"\",IF(B7411=\"\",E7410,IF(D7411=\"\",E7410,D7411/MAX($D$8:D7411)-1)))","v":""}]
[null,null,null,null,{"$f":"IF(A7412=\"\",\"\",IF(B7412=\"\",E7411,IF(D7412=\"\",E7411,D7412/MAX($D$8:D7412)-1)))","v":""}]
[null,null,null,null,{"$f":"IF(A7413=\"\",\"\",IF(B7413=\"\",E7412,IF(D7413=\"\",E7412,D7413/MAX($D$8:D7413)-1)))","v":""}]
[null,null,null,null,{"$f":"IF(A7414=\"\",\"\",IF(B7414=\"\",E7413,IF(D7414=\"\",E7413,D7414/MAX($D$8:D7414)-1)))","v":""}]
[null,null,null,null,{"$f":"IF(A7415=\"\",\"\",IF(B7415=\"\",E7414,IF(D7415=\"\",E7414,D7415/MAX($D$8:D7415)-1)))","v":""}]
[null,null,null,null,{"$f":"IF(A7416=\"\",\"\",IF(B7416=\"\",E7415,IF(D7416=\"\",E7415,D7416/MAX($D$8:D7416)-1)))","v":""}]
[null,null,null,null,{"$f":"IF(A7417=\"\",\"\",IF(B7417=\"\",E7416,IF(D7417=\"\",E7416,D7417/MAX($D$8:D7417)-1)))","v":""}]
[null,null,null,null,{"$f":"IF(A7418=\"\",\"\",IF(B7418=\"\",E7417,IF(D7418=\"\",E7417,D7418/MAX($D$8:D7418)-1)))","v":""}]
[null,null,null,null,{"$f":"IF(A7419=\"\",\"\",IF(B7419=\"\",E7418,IF(D7419=\"\",E7418,D7419/MAX($D$8:D7419)-1)))","v":""}]
[null,null,null,null,{"$f":"IF(A7420=\"\",\"\",IF(B7420=\"\",E7419,IF(D7420=\"\",E7419,D7420/MAX($D$8:D7420)-1)))","v":""}]
[null,null,null,null,{"$f":"IF(A7421=\"\",\"\",IF(B7421=\"\",E7420,IF(D7421=\"\",E7420,D7421/MAX($D$8:D7421)-1)))","v":""}]
[null,null,null,null,{"$f":"IF(A7422=\"\",\"\",IF(B7422=\"\",E7421,IF(D7422=\"\",E7421,D7422/MAX($D$8:D7422)-1)))","v":""}]
[null,null,null,null,{"$f":"IF(A7423=\"\",\"\",IF(B7423=\"\",E7422,IF(D7423=\"\",E7422,D7423/MAX($D$8:D7423)-1)))","v":""}]
[null,null,null,null,{"$f":"IF(A7424=\"\",\"\",IF(B7424=\"\",E7423,IF(D7424=\"\",E7423,D7424/MAX($D$8:D7424)-1)))","v":""}]
[null,null,null,null,{"$f":"IF(A7425=\"\",\"\",IF(B7425=\"\",E7424,IF(D7425=\"\",E7424,D7425/MAX($D$8:D7425)-1)))","v":""}]
[null,null,null,null,{"$f":"IF(A7426=\"\",\"\",IF(B7426=\"\",E7425,IF(D7426=\"\",E7425,D7426/MAX($D$8:D7426)-1)))","v":""}]
[null,null,null,null,{"$f":"IF(A7427=\"\",\"\",IF(B7427=\"\",E7426,IF(D7427=\"\",E7426,D7427/MAX($D$8:D7427)-1)))","v":""}]
[null,null,null,null,{"$f":"IF(A7428=\"\",\"\",IF(B7428=\"\",E7427,IF(D7428=\"\",E7427,D7428/MAX($D$8:D7428)-1)))","v":""}]
[null,null,null,null,{"$f":"IF(A7429=\"\",\"\",IF(B7429=\"\",E7428,IF(D7429=\"\",E7428,D7429/MAX($D$8:D7429)-1)))","v":""}]
[null,null,null,null,{"$f":"IF(A7430=\"\",\"\",IF(B7430=\"\",E7429,IF(D7430=\"\",E7429,D7430/MAX($D$8:D7430)-1)))","v":""}]
[null,null,null,null,{"$f":"IF(A7431=\"\",\"\",IF(B7431=\"\",E7430,IF(D7431=\"\",E7430,D7431/MAX($D$8:D7431)-1)))","v":""}]
[null,null,null,null,{"$f":"IF(A7432=\"\",\"\",IF(B7432=\"\",E7431,IF(D7432=\"\",E7431,D7432/MAX($D$8:D7432)-1)))","v":""}]
[null,null,null,null,{"$f":"IF(A7433=\"\",\"\",IF(B7433=\"\",E7432,IF(D7433=\"\",E7432,D7433/MAX($D$8:D7433)-1)))","v":""}]
[null,null,null,null,{"$f":"IF(A7434=\"\",\"\",IF(B7434=\"\",E7433,IF(D7434=\"\",E7433,D7434/MAX($D$8:D7434)-1)))","v":""}]
[null,null,null,null,{"$f":"IF(A7435=\"\",\"\",IF(B7435=\"\",E7434,IF(D7435=\"\",E7434,D7435/MAX($D$8:D7435)-1)))","v":""}]
[null,null,null,null,{"$f":"IF(A7436=\"\",\"\",IF(B7436=\"\",E7435,IF(D7436=\"\",E7435,D7436/MAX($D$8:D7436)-1)))","v":""}]
[null,null,null,null,{"$f":"IF(A7437=\"\",\"\",IF(B7437=\"\",E7436,IF(D7437=\"\",E7436,D7437/MAX($D$8:D7437)-1)))","v":""}]
[null,null,null,null,{"$f":"IF(A7438=\"\",\"\",IF(B7438=\"\",E7437,IF(D7438=\"\",E7437,D7438/MAX($D$8:D7438)-1)))","v":""}]
[null,null,null,null,{"$f":"IF(A7439=\"\",\"\",IF(B7439=\"\",E7438,IF(D7439=\"\",E7438,D7439/MAX($D$8:D7439)-1)))","v":""}]
[null,null,null,null,{"$f":"IF(A7440=\"\",\"\",IF(B7440=\"\",E7439,IF(D7440=\"\",E7439,D7440/MAX($D$8:D7440)-1)))","v":""}]
[null,null,null,null,{"$f":"IF(A7441=\"\",\"\",IF(B7441=\"\",E7440,IF(D7441=\"\",E7440,D7441/MAX($D$8:D7441)-1)))","v":""}]
[null,null,null,null,{"$f":"IF(A7442=\"\",\"\",IF(B7442=\"\",E7441,IF(D7442=\"\",E7441,D7442/MAX($D$8:D7442)-1)))","v":""}]
[null,null,null,null,{"$f":"IF(A7443=\"\",\"\",IF(B7443=\"\",E7442,IF(D7443=\"\",E7442,D7443/MAX($D$8:D7443)-1)))","v":""}]
[null,null,null,null,{"$f":"IF(A7444=\"\",\"\",IF(B7444=\"\",E7443,IF(D7444=\"\",E7443,D7444/MAX($D$8:D7444)-1)))","v":""}]
[null,null,null,null,{"$f":"IF(A7445=\"\",\"\",IF(B7445=\"\",E7444,IF(D7445=\"\",E7444,D7445/MAX($D$8:D7445)-1)))","v":""}]
[null,null,null,null,{"$f":"IF(A7446=\"\",\"\",IF(B7446=\"\",E7445,IF(D7446=\"\",E7445,D7446/MAX($D$8:D7446)-1)))","v":""}]
[null,null,null,null,{"$f":"IF(A7447=\"\",\"\",IF(B7447=\"\",E7446,IF(D7447=\"\",E7446,D7447/MAX($D$8:D7447)-1)))","v":""}]
[null,null,null,null,{"$f":"IF(A7448=\"\",\"\",IF(B7448=\"\",E7447,IF(D7448=\"\",E7447,D7448/MAX($D$8:D7448)-1)))","v":""}]
[null,null,null,null,{"$f":"IF(A7449=\"\",\"\",IF(B7449=\"\",E7448,IF(D7449=\"\",E7448,D7449/MAX($D$8:D7449)-1)))","v":""}]
[null,null,null,null,{"$f":"IF(A7450=\"\",\"\",IF(B7450=\"\",E7449,IF(D7450=\"\",E7449,D7450/MAX($D$8:D7450)-1)))","v":""}]
[null,null,null,null,{"$f":"IF(A7451=\"\",\"\",IF(B7451=\"\",E7450,IF(D7451=\"\",E7450,D7451/MAX($D$8:D7451)-1)))","v":""}]
[null,null,null,null,{"$f":"IF(A7452=\"\",\"\",IF(B7452=\"\",E7451,IF(D7452=\"\",E7451,D7452/MAX($D$8:D7452)-1)))","v":""}]
[null,null,null,null,{"$f":"IF(A7453=\"\",\"\",IF(B7453=\"\",E7452,IF(D7453=\"\",E7452,D7453/MAX($D$8:D7453)-1)))","v":""}]
[null,null,null,null,{"$f":"IF(A7454=\"\",\"\",IF(B7454=\"\",E7453,IF(D7454=\"\",E7453,D7454/MAX($D$8:D7454)-1)))","v":""}]
[null,null,null,null,{"$f":"IF(A7455=\"\",\"\",IF(B7455=\"\",E7454,IF(D7455=\"\",E7454,D7455/MAX($D$8:D7455)-1)))","v":""}]
[null,null,null,null,{"$f":"IF(A7456=\"\",\"\",IF(B7456=\"\",E7455,IF(D7456=\"\",E7455,D7456/MAX($D$8:D7456)-1)))","v":""}]
[null,null,null,null,{"$f":"IF(A7457=\"\",\"\",IF(B7457=\"\",E7456,IF(D7457=\"\",E7456,D7457/MAX($D$8:D7457)-1)))","v":""}]
[null,null,null,null,{"$f":"IF(A7458=\"\",\"\",IF(B7458=\"\",E7457,IF(D7458=\"\",E7457,D7458/MAX($D$8:D7458)-1)))","v":""}]
[null,null,null,null,{"$f":"IF(A7459=\"\",\"\",IF(B7459=\"\",E7458,IF(D7459=\"\",E7458,D7459/MAX($D$8:D7459)-1)))","v":""}]
[null,null,null,null,{"$f":"IF(A7460=\"\",\"\",IF(B7460=\"\",E7459,IF(D7460=\"\",E7459,D7460/MAX($D$8:D7460)-1)))","v":""}]
[null,null,null,null,{"$f":"IF(A7461=\"\",\"\",IF(B7461=\"\",E7460,IF(D7461=\"\",E7460,D7461/MAX($D$8:D7461)-1)))","v":""}]
[null,null,null,null,{"$f":"IF(A7462=\"\",\"\",IF(B7462=\"\",E7461,IF(D7462=\"\",E7461,D7462/MAX($D$8:D7462)-1)))","v":""}]
[null,null,null,null,{"$f":"IF(A7463=\"\",\"\",IF(B7463=\"\",E7462,IF(D7463=\"\",E7462,D7463/MAX($D$8:D7463)-1)))","v":""}]
[null,null,null,null,{"$f":"IF(A7464=\"\",\"\",IF(B7464=\"\",E7463,IF(D7464=\"\",E7463,D7464/MAX($D$8:D7464)-1)))","v":""}]
[null,null,null,null,{"$f":"IF(A7465=\"\",\"\",IF(B7465=\"\",E7464,IF(D7465=\"\",E7464,D7465/MAX($D$8:D7465)-1)))","v":""}]
[null,null,null,null,{"$f":"IF(A7466=\"\",\"\",IF(B7466=\"\",E7465,IF(D7466=\"\",E7465,D7466/MAX($D$8:D7466)-1)))","v":""}]
[null,null,null,null,{"$f":"IF(A7467=\"\",\"\",IF(B7467=\"\",E7466,IF(D7467=\"\",E7466,D7467/MAX($D$8:D7467)-1)))","v":""}]
[null,null,null,null,{"$f":"IF(A7468=\"\",\"\",IF(B7468=\"\",E7467,IF(D7468=\"\",E7467,D7468/MAX($D$8:D7468)-1)))","v":""}]
[null,null,null,null,{"$f":"IF(A7469=\"\",\"\",IF(B7469=\"\",E7468,IF(D7469=\"\",E7468,D7469/MAX($D$8:D7469)-1)))","v":""}]
[null,null,null,null,{"$f":"IF(A7470=\"\",\"\",IF(B7470=\"\",E7469,IF(D7470=\"\",E7469,D7470/MAX($D$8:D7470)-1)))","v":""}]
[null,null,null,null,{"$f":"IF(A7471=\"\",\"\",IF(B7471=\"\",E7470,IF(D7471=\"\",E7470,D7471/MAX($D$8:D7471)-1)))","v":""}]
[null,null,null,null,{"$f":"IF(A7472=\"\",\"\",IF(B7472=\"\",E7471,IF(D7472=\"\",E7471,D7472/MAX($D$8:D7472)-1)))","v":""}]
[null,null,null,null,{"$f":"IF(A7473=\"\",\"\",IF(B7473=\"\",E7472,IF(D7473=\"\",E7472,D7473/MAX($D$8:D7473)-1)))","v":""}]
[null,null,null,null,{"$f":"IF(A7474=\"\",\"\",IF(B7474=\"\",E7473,IF(D7474=\"\",E7473,D7474/MAX($D$8:D7474)-1)))","v":""}]
[null,null,null,null,{"$f":"IF(A7475=\"\",\"\",IF(B7475=\"\",E7474,IF(D7475=\"\",E7474,D7475/MAX($D$8:D7475)-1)))","v":""}]
[null,null,null,null,{"$f":"IF(A7476=\"\",\"\",IF(B7476=\"\",E7475,IF(D7476=\"\",E7475,D7476/MAX($D$8:D7476)-1)))","v":""}]
[null,null,null,null,{"$f":"IF(A7477=\"\",\"\",IF(B7477=\"\",E7476,IF(D7477=\"\",E7476,D7477/MAX($D$8:D7477)-1)))","v":""}]
[null,null,null,null,{"$f":"IF(A7478=\"\",\"\",IF(B7478=\"\",E7477,IF(D7478=\"\",E7477,D7478/MAX($D$8:D7478)-1)))","v":""}]
[null,null,null,null,{"$f":"IF(A7479=\"\",\"\",IF(B7479=\"\",E7478,IF(D7479=\"\",E7478,D7479/MAX($D$8:D7479)-1)))","v":""}]
[null,null,null,null,{"$f":"IF(A7480=\"\",\"\",IF(B7480=\"\",E7479,IF(D7480=\"\",E7479,D7480/MAX($D$8:D7480)-1)))","v":""}]
[null,null,null,null,{"$f":"IF(A7481=\"\",\"\",IF(B7481=\"\",E7480,IF(D7481=\"\",E7480,D7481/MAX($D$8:D7481)-1)))","v":""}]
[null,null,null,null,{"$f":"IF(A7482=\"\",\"\",IF(B7482=\"\",E7481,IF(D7482=\"\",E7481,D7482/MAX($D$8:D7482)-1)))","v":""}]
[null,null,null,null,{"$f":"IF(A7483=\"\",\"\",IF(B7483=\"\",E7482,IF(D7483=\"\",E7482,D7483/MAX($D$8:D7483)-1)))","v":""}]
[null,null,null,null,{"$f":"IF(A7484=\"\",\"\",IF(B7484=\"\",E7483,IF(D7484=\"\",E7483,D7484/MAX($D$8:D7484)-1)))","v":""}]
[null,null,null,null,{"$f":"IF(A7485=\"\",\"\",IF(B7485=\"\",E7484,IF(D7485=\"\",E7484,D7485/MAX($D$8:D7485)-1)))","v":""}]
[null,null,null,null,{"$f":"IF(A7486=\"\",\"\",IF(B7486=\"\",E7485,IF(D7486=\"\",E7485,D7486/MAX($D$8:D7486)-1)))","v":""}]
[null,null,null,null,{"$f":"IF(A7487=\"\",\"\",IF(B7487=\"\",E7486,IF(D7487=\"\",E7486,D7487/MAX($D$8:D7487)-1)))","v":""}]
[null,null,null,null,{"$f":"IF(A7488=\"\",\"\",IF(B7488=\"\",E7487,IF(D7488=\"\",E7487,D7488/MAX($D$8:D7488)-1)))","v":""}]
[null,null,null,null,{"$f":"IF(A7489=\"\",\"\",IF(B7489=\"\",E7488,IF(D7489=\"\",E7488,D7489/MAX($D$8:D7489)-1)))","v":""}]
[null,null,null,null,{"$f":"IF(A7490=\"\",\"\",IF(B7490=\"\",E7489,IF(D7490=\"\",E7489,D7490/MAX($D$8:D7490)-1)))","v":""}]
[null,null,null,null,{"$f":"IF(A7491=\"\",\"\",IF(B7491=\"\",E7490,IF(D7491=\"\",E7490,D7491/MAX($D$8:D7491)-1)))","v":""}]
[null,null,null,null,{"$f":"IF(A7492=\"\",\"\",IF(B7492=\"\",E7491,IF(D7492=\"\",E7491,D7492/MAX($D$8:D7492)-1)))","v":""}]
[null,null,null,null,{"$f":"IF(A7493=\"\",\"\",IF(B7493=\"\",E7492,IF(D7493=\"\",E7492,D7493/MAX($D$8:D7493)-1)))","v":""}]
[null,null,null,null,{"$f":"IF(A7494=\"\",\"\",IF(B7494=\"\",E7493,IF(D7494=\"\",E7493,D7494/MAX($D$8:D7494)-1)))","v":""}]
[null,null,null,null,{"$f":"IF(A7495=\"\",\"\",IF(B7495=\"\",E7494,IF(D7495=\"\",E7494,D7495/MAX($D$8:D7495)-1)))","v":""}]
[null,null,null,null,{"$f":"IF(A7496=\"\",\"\",IF(B7496=\"\",E7495,IF(D7496=\"\",E7495,D7496/MAX($D$8:D7496)-1)))","v":""}]
[null,null,null,null,{"$f":"IF(A7497=\"\",\"\",IF(B7497=\"\",E7496,IF(D7497=\"\",E7496,D7497/MAX($D$8:D7497)-1)))","v":""}]
[null,null,null,null,{"$f":"IF(A7498=\"\",\"\",IF(B7498=\"\",E7497,IF(D7498=\"\",E7497,D7498/MAX($D$8:D7498)-1)))","v":""}]
[null,null,null,null,{"$f":"IF(A7499=\"\",\"\",IF(B7499=\"\",E7498,IF(D7499=\"\",E7498,D7499/MAX($D$8:D7499)-1)))","v":""}]
[null,null,null,null,{"$f":"IF(A7500=\"\",\"\",IF(B7500=\"\",E7499,IF(D7500=\"\",E7499,D7500/MAX($D$8:D7500)-1)))","v":""}]
[null,null,null,null,{"$f":"IF(A7501=\"\",\"\",IF(B7501=\"\",E7500,IF(D7501=\"\",E7500,D7501/MAX($D$8:D7501)-1)))","v":""}]
[null,null,null,null,{"$f":"IF(A7502=\"\",\"\",IF(B7502=\"\",E7501,IF(D7502=\"\",E7501,D7502/MAX($D$8:D7502)-1)))","v":""}]
[null,null,null,null,{"$f":"IF(A7503=\"\",\"\",IF(B7503=\"\",E7502,IF(D7503=\"\",E7502,D7503/MAX($D$8:D7503)-1)))","v":""}]
[null,null,null,null,{"$f":"IF(A7504=\"\",\"\",IF(B7504=\"\",E7503,IF(D7504=\"\",E7503,D7504/MAX($D$8:D7504)-1)))","v":""}]
[null,null,null,null,{"$f":"IF(A7505=\"\",\"\",IF(B7505=\"\",E7504,IF(D7505=\"\",E7504,D7505/MAX($D$8:D7505)-1)))","v":""}]
[null,null,null,null,{"$f":"IF(A7506=\"\",\"\",IF(B7506=\"\",E7505,IF(D7506=\"\",E7505,D7506/MAX($D$8:D7506)-1)))","v":""}]
[null,null,null,null,{"$f":"IF(A7507=\"\",\"\",IF(B7507=\"\",E7506,IF(D7507=\"\",E7506,D7507/MAX($D$8:D7507)-1)))","v":""}]
[null,null,null,null,{"$f":"IF(A7508=\"\",\"\",IF(B7508=\"\",E7507,IF(D7508=\"\",E7507,D7508/MAX($D$8:D7508)-1)))","v":""}]
[null,null,null,null,{"$f":"IF(A7509=\"\",\"\",IF(B7509=\"\",E7508,IF(D7509=\"\",E7508,D7509/MAX($D$8:D7509)-1)))","v":""}]
[null,null,null,null,{"$f":"IF(A7510=\"\",\"\",IF(B7510=\"\",E7509,IF(D7510=\"\",E7509,D7510/MAX($D$8:D7510)-1)))","v":""}]
[null,null,null,null,{"$f":"IF(A7511=\"\",\"\",IF(B7511=\"\",E7510,IF(D7511=\"\",E7510,D7511/MAX($D$8:D7511)-1)))","v":""}]
[null,null,null,null,{"$f":"IF(A7512=\"\",\"\",IF(B7512=\"\",E7511,IF(D7512=\"\",E7511,D7512/MAX($D$8:D7512)-1)))","v":""}]
[null,null,null,null,{"$f":"IF(A7513=\"\",\"\",IF(B7513=\"\",E7512,IF(D7513=\"\",E7512,D7513/MAX($D$8:D7513)-1)))","v":""}]
[null,null,null,null,{"$f":"IF(A7514=\"\",\"\",IF(B7514=\"\",E7513,IF(D7514=\"\",E7513,D7514/MAX($D$8:D7514)-1)))","v":""}]
[null,null,null,null,{"$f":"IF(A7515=\"\",\"\",IF(B7515=\"\",E7514,IF(D7515=\"\",E7514,D7515/MAX($D$8:D7515)-1)))","v":""}]
[null,null,null,null,{"$f":"IF(A7516=\"\",\"\",IF(B7516=\"\",E7515,IF(D7516=\"\",E7515,D7516/MAX($D$8:D7516)-1)))","v":""}]
[null,null,null,null,{"$f":"IF(A7517=\"\",\"\",IF(B7517=\"\",E7516,IF(D7517=\"\",E7516,D7517/MAX($D$8:D7517)-1)))","v":""}]
[null,null,null,null,{"$f":"IF(A7518=\"\",\"\",IF(B7518=\"\",E7517,IF(D7518=\"\",E7517,D7518/MAX($D$8:D7518)-1)))","v":""}]
[null,null,null,null,{"$f":"IF(A7519=\"\",\"\",IF(B7519=\"\",E7518,IF(D7519=\"\",E7518,D7519/MAX($D$8:D7519)-1)))","v":""}]
[null,null,null,null,{"$f":"IF(A7520=\"\",\"\",IF(B7520=\"\",E7519,IF(D7520=\"\",E7519,D7520/MAX($D$8:D7520)-1)))","v":""}]
[null,null,null,null,{"$f":"IF(A7521=\"\",\"\",IF(B7521=\"\",E7520,IF(D7521=\"\",E7520,D7521/MAX($D$8:D7521)-1)))","v":""}]
[null,null,null,null,{"$f":"IF(A7522=\"\",\"\",IF(B7522=\"\",E7521,IF(D7522=\"\",E7521,D7522/MAX($D$8:D7522)-1)))","v":""}]
[null,null,null,null,{"$f":"IF(A7523=\"\",\"\",IF(B7523=\"\",E7522,IF(D7523=\"\",E7522,D7523/MAX($D$8:D7523)-1)))","v":""}]
[null,null,null,null,{"$f":"IF(A7524=\"\",\"\",IF(B7524=\"\",E7523,IF(D7524=\"\",E7523,D7524/MAX($D$8:D7524)-1)))","v":""}]
[null,null,null,null,{"$f":"IF(A7525=\"\",\"\",IF(B7525=\"\",E7524,IF(D7525=\"\",E7524,D7525/MAX($D$8:D7525)-1)))","v":""}]
[null,null,null,null,{"$f":"IF(A7526=\"\",\"\",IF(B7526=\"\",E7525,IF(D7526=\"\",E7525,D7526/MAX($D$8:D7526)-1)))","v":""}]
[null,null,null,null,{"$f":"IF(A7527=\"\",\"\",IF(B7527=\"\",E7526,IF(D7527=\"\",E7526,D7527/MAX($D$8:D7527)-1)))","v":""}]
[null,null,null,null,{"$f":"IF(A7528=\"\",\"\",IF(B7528=\"\",E7527,IF(D7528=\"\",E7527,D7528/MAX($D$8:D7528)-1)))","v":""}]
[null,null,null,null,{"$f":"IF(A7529=\"\",\"\",IF(B7529=\"\",E7528,IF(D7529=\"\",E7528,D7529/MAX($D$8:D7529)-1)))","v":""}]
[null,null,null,null,{"$f":"IF(A7530=\"\",\"\",IF(B7530=\"\",E7529,IF(D7530=\"\",E7529,D7530/MAX($D$8:D7530)-1)))","v":""}]
[null,null,null,null,{"$f":"IF(A7531=\"\",\"\",IF(B7531=\"\",E7530,IF(D7531=\"\",E7530,D7531/MAX($D$8:D7531)-1)))","v":""}]
[null,null,null,null,{"$f":"IF(A7532=\"\",\"\",IF(B7532=\"\",E7531,IF(D7532=\"\",E7531,D7532/MAX($D$8:D7532)-1)))","v":""}]
[null,null,null,null,{"$f":"IF(A7533=\"\",\"\",IF(B7533=\"\",E7532,IF(D7533=\"\",E7532,D7533/MAX($D$8:D7533)-1)))","v":""}]
[null,null,null,null,{"$f":"IF(A7534=\"\",\"\",IF(B7534=\"\",E7533,IF(D7534=\"\",E7533,D7534/MAX($D$8:D7534)-1)))","v":""}]
[null,null,null,null,{"$f":"IF(A7535=\"\",\"\",IF(B7535=\"\",E7534,IF(D7535=\"\",E7534,D7535/MAX($D$8:D7535)-1)))","v":""}]
[null,null,null,null,{"$f":"IF(A7536=\"\",\"\",IF(B7536=\"\",E7535,IF(D7536=\"\",E7535,D7536/MAX($D$8:D7536)-1)))","v":""}]
[null,null,null,null,{"$f":"IF(A7537=\"\",\"\",IF(B7537=\"\",E7536,IF(D7537=\"\",E7536,D7537/MAX($D$8:D7537)-1)))","v":""}]
[null,null,null,null,{"$f":"IF(A7538=\"\",\"\",IF(B7538=\"\",E7537,IF(D7538=\"\",E7537,D7538/MAX($D$8:D7538)-1)))","v":""}]
[null,null,null,null,{"$f":"IF(A7539=\"\",\"\",IF(B7539=\"\",E7538,IF(D7539=\"\",E7538,D7539/MAX($D$8:D7539)-1)))","v":""}]
[null,null,null,null,{"$f":"IF(A7540=\"\",\"\",IF(B7540=\"\",E7539,IF(D7540=\"\",E7539,D7540/MAX($D$8:D7540)-1)))","v":""}]
[null,null,null,null,{"$f":"IF(A7541=\"\",\"\",IF(B7541=\"\",E7540,IF(D7541=\"\",E7540,D7541/MAX($D$8:D7541)-1)))","v":""}]
[null,null,null,null,{"$f":"IF(A7542=\"\",\"\",IF(B7542=\"\",E7541,IF(D7542=\"\",E7541,D7542/MAX($D$8:D7542)-1)))","v":""}]
[null,null,null,null,{"$f":"IF(A7543=\"\",\"\",IF(B7543=\"\",E7542,IF(D7543=\"\",E7542,D7543/MAX($D$8:D7543)-1)))","v":""}]
[null,null,null,null,{"$f":"IF(A7544=\"\",\"\",IF(B7544=\"\",E7543,IF(D7544=\"\",E7543,D7544/MAX($D$8:D7544)-1)))","v":""}]
[null,null,null,null,{"$f":"IF(A7545=\"\",\"\",IF(B7545=\"\",E7544,IF(D7545=\"\",E7544,D7545/MAX($D$8:D7545)-1)))","v":""}]
[null,null,null,null,{"$f":"IF(A7546=\"\",\"\",IF(B7546=\"\",E7545,IF(D7546=\"\",E7545,D7546/MAX($D$8:D7546)-1)))","v":""}]
[null,null,null,null,{"$f":"IF(A7547=\"\",\"\",IF(B7547=\"\",E7546,IF(D7547=\"\",E7546,D7547/MAX($D$8:D7547)-1)))","v":""}]
[null,null,null,null,{"$f":"IF(A7548=\"\",\"\",IF(B7548=\"\",E7547,IF(D7548=\"\",E7547,D7548/MAX($D$8:D7548)-1)))","v":""}]
[null,null,null,null,{"$f":"IF(A7549=\"\",\"\",IF(B7549=\"\",E7548,IF(D7549=\"\",E7548,D7549/MAX($D$8:D7549)-1)))","v":""}]
[null,null,null,null,{"$f":"IF(A7550=\"\",\"\",IF(B7550=\"\",E7549,IF(D7550=\"\",E7549,D7550/MAX($D$8:D7550)-1)))","v":""}]
[null,null,null,null,{"$f":"IF(A7551=\"\",\"\",IF(B7551=\"\",E7550,IF(D7551=\"\",E7550,D7551/MAX($D$8:D7551)-1)))","v":""}]
[null,null,null,null,{"$f":"IF(A7552=\"\",\"\",IF(B7552=\"\",E7551,IF(D7552=\"\",E7551,D7552/MAX($D$8:D7552)-1)))","v":""}]
[null,null,null,null,{"$f":"IF(A7553=\"\",\"\",IF(B7553=\"\",E7552,IF(D7553=\"\",E7552,D7553/MAX($D$8:D7553)-1)))","v":""}]
[null,null,null,null,{"$f":"IF(A7554=\"\",\"\",IF(B7554=\"\",E7553,IF(D7554=\"\",E7553,D7554/MAX($D$8:D7554)-1)))","v":""}]
[null,null,null,null,{"$f":"IF(A7555=\"\",\"\",IF(B7555=\"\",E7554,IF(D7555=\"\",E7554,D7555/MAX($D$8:D7555)-1)))","v":""}]
[null,null,null,null,{"$f":"IF(A7556=\"\",\"\",IF(B7556=\"\",E7555,IF(D7556=\"\",E7555,D7556/MAX($D$8:D7556)-1)))","v":""}]
[null,null,null,null,{"$f":"IF(A7557=\"\",\"\",IF(B7557=\"\",E7556,IF(D7557=\"\",E7556,D7557/MAX($D$8:D7557)-1)))","v":""}]
[null,null,null,null,{"$f":"IF(A7558=\"\",\"\",IF(B7558=\"\",E7557,IF(D7558=\"\",E7557,D7558/MAX($D$8:D7558)-1)))","v":""}]
[null,null,null,null,{"$f":"IF(A7559=\"\",\"\",IF(B7559=\"\",E7558,IF(D7559=\"\",E7558,D7559/MAX($D$8:D7559)-1)))","v":""}]
[null,null,null,null,{"$f":"IF(A7560=\"\",\"\",IF(B7560=\"\",E7559,IF(D7560=\"\",E7559,D7560/MAX($D$8:D7560)-1)))","v":""}]
[null,null,null,null,{"$f":"IF(A7561=\"\",\"\",IF(B7561=\"\",E7560,IF(D7561=\"\",E7560,D7561/MAX($D$8:D7561)-1)))","v":""}]
[null,null,null,null,{"$f":"IF(A7562=\"\",\"\",IF(B7562=\"\",E7561,IF(D7562=\"\",E7561,D7562/MAX($D$8:D7562)-1)))","v":""}]
[null,null,null,null,{"$f":"IF(A7563=\"\",\"\",IF(B7563=\"\",E7562,IF(D7563=\"\",E7562,D7563/MAX($D$8:D7563)-1)))","v":""}]
[null,null,null,null,{"$f":"IF(A7564=\"\",\"\",IF(B7564=\"\",E7563,IF(D7564=\"\",E7563,D7564/MAX($D$8:D7564)-1)))","v":""}]
[null,null,null,null,{"$f":"IF(A7565=\"\",\"\",IF(B7565=\"\",E7564,IF(D7565=\"\",E7564,D7565/MAX($D$8:D7565)-1)))","v":""}]
[null,null,null,null,{"$f":"IF(A7566=\"\",\"\",IF(B7566=\"\",E7565,IF(D7566=\"\",E7565,D7566/MAX($D$8:D7566)-1)))","v":""}]
[null,null,null,null,{"$f":"IF(A7567=\"\",\"\",IF(B7567=\"\",E7566,IF(D7567=\"\",E7566,D7567/MAX($D$8:D7567)-1)))","v":""}]
[null,null,null,null,{"$f":"IF(A7568=\"\",\"\",IF(B7568=\"\",E7567,IF(D7568=\"\",E7567,D7568/MAX($D$8:D7568)-1)))","v":""}]
[null,null,null,null,{"$f":"IF(A7569=\"\",\"\",IF(B7569=\"\",E7568,IF(D7569=\"\",E7568,D7569/MAX($D$8:D7569)-1)))","v":""}]
[null,null,null,null,{"$f":"IF(A7570=\"\",\"\",IF(B7570=\"\",E7569,IF(D7570=\"\",E7569,D7570/MAX($D$8:D7570)-1)))","v":""}]
[null,null,null,null,{"$f":"IF(A7571=\"\",\"\",IF(B7571=\"\",E7570,IF(D7571=\"\",E7570,D7571/MAX($D$8:D7571)-1)))","v":""}]
[null,null,null,null,{"$f":"IF(A7572=\"\",\"\",IF(B7572=\"\",E7571,IF(D7572=\"\",E7571,D7572/MAX($D$8:D7572)-1)))","v":""}]
[null,null,null,null,{"$f":"IF(A7573=\"\",\"\",IF(B7573=\"\",E7572,IF(D7573=\"\",E7572,D7573/MAX($D$8:D7573)-1)))","v":""}]
[null,null,null,null,{"$f":"IF(A7574=\"\",\"\",IF(B7574=\"\",E7573,IF(D7574=\"\",E7573,D7574/MAX($D$8:D7574)-1)))","v":""}]
[null,null,null,null,{"$f":"IF(A7575=\"\",\"\",IF(B7575=\"\",E7574,IF(D7575=\"\",E7574,D7575/MAX($D$8:D7575)-1)))","v":""}]
[null,null,null,null,{"$f":"IF(A7576=\"\",\"\",IF(B7576=\"\",E7575,IF(D7576=\"\",E7575,D7576/MAX($D$8:D7576)-1)))","v":""}]
[null,null,null,null,{"$f":"IF(A7577=\"\",\"\",IF(B7577=\"\",E7576,IF(D7577=\"\",E7576,D7577/MAX($D$8:D7577)-1)))","v":""}]
[null,null,null,null,{"$f":"IF(A7578=\"\",\"\",IF(B7578=\"\",E7577,IF(D7578=\"\",E7577,D7578/MAX($D$8:D7578)-1)))","v":""}]
[null,null,null,null,{"$f":"IF(A7579=\"\",\"\",IF(B7579=\"\",E7578,IF(D7579=\"\",E7578,D7579/MAX($D$8:D7579)-1)))","v":""}]
[null,null,null,null,{"$f":"IF(A7580=\"\",\"\",IF(B7580=\"\",E7579,IF(D7580=\"\",E7579,D7580/MAX($D$8:D7580)-1)))","v":""}]
[null,null,null,null,{"$f":"IF(A7581=\"\",\"\",IF(B7581=\"\",E7580,IF(D7581=\"\",E7580,D7581/MAX($D$8:D7581)-1)))","v":""}]
[null,null,null,null,{"$f":"IF(A7582=\"\",\"\",IF(B7582=\"\",E7581,IF(D7582=\"\",E7581,D7582/MAX($D$8:D7582)-1)))","v":""}]
[null,null,null,null,{"$f":"IF(A7583=\"\",\"\",IF(B7583=\"\",E7582,IF(D7583=\"\",E7582,D7583/MAX($D$8:D7583)-1)))","v":""}]
[null,null,null,null,{"$f":"IF(A7584=\"\",\"\",IF(B7584=\"\",E7583,IF(D7584=\"\",E7583,D7584/MAX($D$8:D7584)-1)))","v":""}]
[null,null,null,null,{"$f":"IF(A7585=\"\",\"\",IF(B7585=\"\",E7584,IF(D7585=\"\",E7584,D7585/MAX($D$8:D7585)-1)))","v":""}]
[null,null,null,null,{"$f":"IF(A7586=\"\",\"\",IF(B7586=\"\",E7585,IF(D7586=\"\",E7585,D7586/MAX($D$8:D7586)-1)))","v":""}]
[null,null,null,null,{"$f":"IF(A7587=\"\",\"\",IF(B7587=\"\",E7586,IF(D7587=\"\",E7586,D7587/MAX($D$8:D7587)-1)))","v":""}]
[null,null,null,null,{"$f":"IF(A7588=\"\",\"\",IF(B7588=\"\",E7587,IF(D7588=\"\",E7587,D7588/MAX($D$8:D7588)-1)))","v":""}]
[null,null,null,null,{"$f":"IF(A7589=\"\",\"\",IF(B7589=\"\",E7588,IF(D7589=\"\",E7588,D7589/MAX($D$8:D7589)-1)))","v":""}]
[null,null,null,null,{"$f":"IF(A7590=\"\",\"\",IF(B7590=\"\",E7589,IF(D7590=\"\",E7589,D7590/MAX($D$8:D7590)-1)))","v":""}]
[null,null,null,null,{"$f":"IF(A7591=\"\",\"\",IF(B7591=\"\",E7590,IF(D7591=\"\",E7590,D7591/MAX($D$8:D7591)-1)))","v":""}]
[null,null,null,null,{"$f":"IF(A7592=\"\",\"\",IF(B7592=\"\",E7591,IF(D7592=\"\",E7591,D7592/MAX($D$8:D7592)-1)))","v":""}]
[null,null,null,null,{"$f":"IF(A7593=\"\",\"\",IF(B7593=\"\",E7592,IF(D7593=\"\",E7592,D7593/MAX($D$8:D7593)-1)))","v":""}]
[null,null,null,null,{"$f":"IF(A7594=\"\",\"\",IF(B7594=\"\",E7593,IF(D7594=\"\",E7593,D7594/MAX($D$8:D7594)-1)))","v":""}]
[null,null,null,null,{"$f":"IF(A7595=\"\",\"\",IF(B7595=\"\",E7594,IF(D7595=\"\",E7594,D7595/MAX($D$8:D7595)-1)))","v":""}]
[null,null,null,null,{"$f":"IF(A7596=\"\",\"\",IF(B7596=\"\",E7595,IF(D7596=\"\",E7595,D7596/MAX($D$8:D7596)-1)))","v":""}]
[null,null,null,null,{"$f":"IF(A7597=\"\",\"\",IF(B7597=\"\",E7596,IF(D7597=\"\",E7596,D7597/MAX($D$8:D7597)-1)))","v":""}]
[null,null,null,null,{"$f":"IF(A7598=\"\",\"\",IF(B7598=\"\",E7597,IF(D7598=\"\",E7597,D7598/MAX($D$8:D7598)-1)))","v":""}]
[null,null,null,null,{"$f":"IF(A7599=\"\",\"\",IF(B7599=\"\",E7598,IF(D7599=\"\",E7598,D7599/MAX($D$8:D7599)-1)))","v":""}]
[null,null,null,null,{"$f":"IF(A7600=\"\",\"\",IF(B7600=\"\",E7599,IF(D7600=\"\",E7599,D7600/MAX($D$8:D7600)-1)))","v":""}]
[null,null,null,null,{"$f":"IF(A7601=\"\",\"\",IF(B7601=\"\",E7600,IF(D7601=\"\",E7600,D7601/MAX($D$8:D7601)-1)))","v":""}]
[null,null,null,null,{"$f":"IF(A7602=\"\",\"\",IF(B7602=\"\",E7601,IF(D7602=\"\",E7601,D7602/MAX($D$8:D7602)-1)))","v":""}]
[null,null,null,null,{"$f":"IF(A7603=\"\",\"\",IF(B7603=\"\",E7602,IF(D7603=\"\",E7602,D7603/MAX($D$8:D7603)-1)))","v":""}]
[null,null,null,null,{"$f":"IF(A7604=\"\",\"\",IF(B7604=\"\",E7603,IF(D7604=\"\",E7603,D7604/MAX($D$8:D7604)-1)))","v":""}]
[null,null,null,null,{"$f":"IF(A7605=\"\",\"\",IF(B7605=\"\",E7604,IF(D7605=\"\",E7604,D7605/MAX($D$8:D7605)-1)))","v":""}]
[null,null,null,null,{"$f":"IF(A7606=\"\",\"\",IF(B7606=\"\",E7605,IF(D7606=\"\",E7605,D7606/MAX($D$8:D7606)-1)))","v":""}]
[null,null,null,null,{"$f":"IF(A7607=\"\",\"\",IF(B7607=\"\",E7606,IF(D7607=\"\",E7606,D7607/MAX($D$8:D7607)-1)))","v":""}]
[null,null,null,null,{"$f":"IF(A7608=\"\",\"\",IF(B7608=\"\",E7607,IF(D7608=\"\",E7607,D7608/MAX($D$8:D7608)-1)))","v":""}]
[null,null,null,null,{"$f":"IF(A7609=\"\",\"\",IF(B7609=\"\",E7608,IF(D7609=\"\",E7608,D7609/MAX($D$8:D7609)-1)))","v":""}]
[null,null,null,null,{"$f":"IF(A7610=\"\",\"\",IF(B7610=\"\",E7609,IF(D7610=\"\",E7609,D7610/MAX($D$8:D7610)-1)))","v":""}]
[null,null,null,null,{"$f":"IF(A7611=\"\",\"\",IF(B7611=\"\",E7610,IF(D7611=\"\",E7610,D7611/MAX($D$8:D7611)-1)))","v":""}]
[null,null,null,null,{"$f":"IF(A7612=\"\",\"\",IF(B7612=\"\",E7611,IF(D7612=\"\",E7611,D7612/MAX($D$8:D7612)-1)))","v":""}]
[null,null,null,null,{"$f":"IF(A7613=\"\",\"\",IF(B7613=\"\",E7612,IF(D7613=\"\",E7612,D7613/MAX($D$8:D7613)-1)))","v":""}]
[null,null,null,null,{"$f":"IF(A7614=\"\",\"\",IF(B7614=\"\",E7613,IF(D7614=\"\",E7613,D7614/MAX($D$8:D7614)-1)))","v":""}]
[null,null,null,null,{"$f":"IF(A7615=\"\",\"\",IF(B7615=\"\",E7614,IF(D7615=\"\",E7614,D7615/MAX($D$8:D7615)-1)))","v":""}]
[null,null,null,null,{"$f":"IF(A7616=\"\",\"\",IF(B7616=\"\",E7615,IF(D7616=\"\",E7615,D7616/MAX($D$8:D7616)-1)))","v":""}]
[null,null,null,null,{"$f":"IF(A7617=\"\",\"\",IF(B7617=\"\",E7616,IF(D7617=\"\",E7616,D7617/MAX($D$8:D7617)-1)))","v":""}]
[null,null,null,null,{"$f":"IF(A7618=\"\",\"\",IF(B7618=\"\",E7617,IF(D7618=\"\",E7617,D7618/MAX($D$8:D7618)-1)))","v":""}]
[null,null,null,null,{"$f":"IF(A7619=\"\",\"\",IF(B7619=\"\",E7618,IF(D7619=\"\",E7618,D7619/MAX($D$8:D7619)-1)))","v":""}]
[null,null,null,null,{"$f":"IF(A7620=\"\",\"\",IF(B7620=\"\",E7619,IF(D7620=\"\",E7619,D7620/MAX($D$8:D7620)-1)))","v":""}]
[null,null,null,null,{"$f":"IF(A7621=\"\",\"\",IF(B7621=\"\",E7620,IF(D7621=\"\",E7620,D7621/MAX($D$8:D7621)-1)))","v":""}]
[null,null,null,null,{"$f":"IF(A7622=\"\",\"\",IF(B7622=\"\",E7621,IF(D7622=\"\",E7621,D7622/MAX($D$8:D7622)-1)))","v":""}]
[null,null,null,null,{"$f":"IF(A7623=\"\",\"\",IF(B7623=\"\",E7622,IF(D7623=\"\",E7622,D7623/MAX($D$8:D7623)-1)))","v":""}]
[null,null,null,null,{"$f":"IF(A7624=\"\",\"\",IF(B7624=\"\",E7623,IF(D7624=\"\",E7623,D7624/MAX($D$8:D7624)-1)))","v":""}]
[null,null,null,null,{"$f":"IF(A7625=\"\",\"\",IF(B7625=\"\",E7624,IF(D7625=\"\",E7624,D7625/MAX($D$8:D7625)-1)))","v":""}]
[null,null,null,null,{"$f":"IF(A7626=\"\",\"\",IF(B7626=\"\",E7625,IF(D7626=\"\",E7625,D7626/MAX($D$8:D7626)-1)))","v":""}]
[null,null,null,null,{"$f":"IF(A7627=\"\",\"\",IF(B7627=\"\",E7626,IF(D7627=\"\",E7626,D7627/MAX($D$8:D7627)-1)))","v":""}]
[null,null,null,null,{"$f":"IF(A7628=\"\",\"\",IF(B7628=\"\",E7627,IF(D7628=\"\",E7627,D7628/MAX($D$8:D7628)-1)))","v":""}]
[null,null,null,null,{"$f":"IF(A7629=\"\",\"\",IF(B7629=\"\",E7628,IF(D7629=\"\",E7628,D7629/MAX($D$8:D7629)-1)))","v":""}]
[null,null,null,null,{"$f":"IF(A7630=\"\",\"\",IF(B7630=\"\",E7629,IF(D7630=\"\",E7629,D7630/MAX($D$8:D7630)-1)))","v":""}]
[null,null,null,null,{"$f":"IF(A7631=\"\",\"\",IF(B7631=\"\",E7630,IF(D7631=\"\",E7630,D7631/MAX($D$8:D7631)-1)))","v":""}]
[null,null,null,null,{"$f":"IF(A7632=\"\",\"\",IF(B7632=\"\",E7631,IF(D7632=\"\",E7631,D7632/MAX($D$8:D7632)-1)))","v":""}]
[null,null,null,null,{"$f":"IF(A7633=\"\",\"\",IF(B7633=\"\",E7632,IF(D7633=\"\",E7632,D7633/MAX($D$8:D7633)-1)))","v":""}]
[null,null,null,null,{"$f":"IF(A7634=\"\",\"\",IF(B7634=\"\",E7633,IF(D7634=\"\",E7633,D7634/MAX($D$8:D7634)-1)))","v":""}]
[null,null,null,null,{"$f":"IF(A7635=\"\",\"\",IF(B7635=\"\",E7634,IF(D7635=\"\",E7634,D7635/MAX($D$8:D7635)-1)))","v":""}]
[null,null,null,null,{"$f":"IF(A7636=\"\",\"\",IF(B7636=\"\",E7635,IF(D7636=\"\",E7635,D7636/MAX($D$8:D7636)-1)))","v":""}]
[null,null,null,null,{"$f":"IF(A7637=\"\",\"\",IF(B7637=\"\",E7636,IF(D7637=\"\",E7636,D7637/MAX($D$8:D7637)-1)))","v":""}]
[null,null,null,null,{"$f":"IF(A7638=\"\",\"\",IF(B7638=\"\",E7637,IF(D7638=\"\",E7637,D7638/MAX($D$8:D7638)-1)))","v":""}]
[null,null,null,null,{"$f":"IF(A7639=\"\",\"\",IF(B7639=\"\",E7638,IF(D7639=\"\",E7638,D7639/MAX($D$8:D7639)-1)))","v":""}]
[null,null,null,null,{"$f":"IF(A7640=\"\",\"\",IF(B7640=\"\",E7639,IF(D7640=\"\",E7639,D7640/MAX($D$8:D7640)-1)))","v":""}]
[null,null,null,null,{"$f":"IF(A7641=\"\",\"\",IF(B7641=\"\",E7640,IF(D7641=\"\",E7640,D7641/MAX($D$8:D7641)-1)))","v":""}]
[null,null,null,null,{"$f":"IF(A7642=\"\",\"\",IF(B7642=\"\",E7641,IF(D7642=\"\",E7641,D7642/MAX($D$8:D7642)-1)))","v":""}]
[null,null,null,null,{"$f":"IF(A7643=\"\",\"\",IF(B7643=\"\",E7642,IF(D7643=\"\",E7642,D7643/MAX($D$8:D7643)-1)))","v":""}]
[null,null,null,null,{"$f":"IF(A7644=\"\",\"\",IF(B7644=\"\",E7643,IF(D7644=\"\",E7643,D7644/MAX($D$8:D7644)-1)))","v":""}]
[null,null,null,null,{"$f":"IF(A7645=\"\",\"\",IF(B7645=\"\",E7644,IF(D7645=\"\",E7644,D7645/MAX($D$8:D7645)-1)))","v":""}]
[null,null,null,null,{"$f":"IF(A7646=\"\",\"\",IF(B7646=\"\",E7645,IF(D7646=\"\",E7645,D7646/MAX($D$8:D7646)-1)))","v":""}]
[null,null,null,null,{"$f":"IF(A7647=\"\",\"\",IF(B7647=\"\",E7646,IF(D7647=\"\",E7646,D7647/MAX($D$8:D7647)-1)))","v":""}]
[null,null,null,null,{"$f":"IF(A7648=\"\",\"\",IF(B7648=\"\",E7647,IF(D7648=\"\",E7647,D7648/MAX($D$8:D7648)-1)))","v":""}]
[null,null,null,null,{"$f":"IF(A7649=\"\",\"\",IF(B7649=\"\",E7648,IF(D7649=\"\",E7648,D7649/MAX($D$8:D7649)-1)))","v":""}]
[null,null,null,null,{"$f":"IF(A7650=\"\",\"\",IF(B7650=\"\",E7649,IF(D7650=\"\",E7649,D7650/MAX($D$8:D7650)-1)))","v":""}]
[null,null,null,null,{"$f":"IF(A7651=\"\",\"\",IF(B7651=\"\",E7650,IF(D7651=\"\",E7650,D7651/MAX($D$8:D7651)-1)))","v":""}]
[null,null,null,null,{"$f":"IF(A7652=\"\",\"\",IF(B7652=\"\",E7651,IF(D7652=\"\",E7651,D7652/MAX($D$8:D7652)-1)))","v":""}]
[null,null,null,null,{"$f":"IF(A7653=\"\",\"\",IF(B7653=\"\",E7652,IF(D7653=\"\",E7652,D7653/MAX($D$8:D7653)-1)))","v":""}]
[null,null,null,null,{"$f":"IF(A7654=\"\",\"\",IF(B7654=\"\",E7653,IF(D7654=\"\",E7653,D7654/MAX($D$8:D7654)-1)))","v":""}]
[null,null,null,null,{"$f":"IF(A7655=\"\",\"\",IF(B7655=\"\",E7654,IF(D7655=\"\",E7654,D7655/MAX($D$8:D7655)-1)))","v":""}]
[null,null,null,null,{"$f":"IF(A7656=\"\",\"\",IF(B7656=\"\",E7655,IF(D7656=\"\",E7655,D7656/MAX($D$8:D7656)-1)))","v":""}]
[null,null,null,null,{"$f":"IF(A7657=\"\",\"\",IF(B7657=\"\",E7656,IF(D7657=\"\",E7656,D7657/MAX($D$8:D7657)-1)))","v":""}]
[null,null,null,null,{"$f":"IF(A7658=\"\",\"\",IF(B7658=\"\",E7657,IF(D7658=\"\",E7657,D7658/MAX($D$8:D7658)-1)))","v":""}]
[null,null,null,null,{"$f":"IF(A7659=\"\",\"\",IF(B7659=\"\",E7658,IF(D7659=\"\",E7658,D7659/MAX($D$8:D7659)-1)))","v":""}]
[null,null,null,null,{"$f":"IF(A7660=\"\",\"\",IF(B7660=\"\",E7659,IF(D7660=\"\",E7659,D7660/MAX($D$8:D7660)-1)))","v":""}]
[null,null,null,null,{"$f":"IF(A7661=\"\",\"\",IF(B7661=\"\",E7660,IF(D7661=\"\",E7660,D7661/MAX($D$8:D7661)-1)))","v":""}]
[null,null,null,null,{"$f":"IF(A7662=\"\",\"\",IF(B7662=\"\",E7661,IF(D7662=\"\",E7661,D7662/MAX($D$8:D7662)-1)))","v":""}]
[null,null,null,null,{"$f":"IF(A7663=\"\",\"\",IF(B7663=\"\",E7662,IF(D7663=\"\",E7662,D7663/MAX($D$8:D7663)-1)))","v":""}]
[null,null,null,null,{"$f":"IF(A7664=\"\",\"\",IF(B7664=\"\",E7663,IF(D7664=\"\",E7663,D7664/MAX($D$8:D7664)-1)))","v":""}]
[null,null,null,null,{"$f":"IF(A7665=\"\",\"\",IF(B7665=\"\",E7664,IF(D7665=\"\",E7664,D7665/MAX($D$8:D7665)-1)))","v":""}]
[null,null,null,null,{"$f":"IF(A7666=\"\",\"\",IF(B7666=\"\",E7665,IF(D7666=\"\",E7665,D7666/MAX($D$8:D7666)-1)))","v":""}]
[null,null,null,null,{"$f":"IF(A7667=\"\",\"\",IF(B7667=\"\",E7666,IF(D7667=\"\",E7666,D7667/MAX($D$8:D7667)-1)))","v":""}]
[null,null,null,null,{"$f":"IF(A7668=\"\",\"\",IF(B7668=\"\",E7667,IF(D7668=\"\",E7667,D7668/MAX($D$8:D7668)-1)))","v":""}]
[null,null,null,null,{"$f":"IF(A7669=\"\",\"\",IF(B7669=\"\",E7668,IF(D7669=\"\",E7668,D7669/MAX($D$8:D7669)-1)))","v":""}]
[null,null,null,null,{"$f":"IF(A7670=\"\",\"\",IF(B7670=\"\",E7669,IF(D7670=\"\",E7669,D7670/MAX($D$8:D7670)-1)))","v":""}]
[null,null,null,null,{"$f":"IF(A7671=\"\",\"\",IF(B7671=\"\",E7670,IF(D7671=\"\",E7670,D7671/MAX($D$8:D7671)-1)))","v":""}]
[null,null,null,null,{"$f":"IF(A7672=\"\",\"\",IF(B7672=\"\",E7671,IF(D7672=\"\",E7671,D7672/MAX($D$8:D7672)-1)))","v":""}]
[null,null,null,null,{"$f":"IF(A7673=\"\",\"\",IF(B7673=\"\",E7672,IF(D7673=\"\",E7672,D7673/MAX($D$8:D7673)-1)))","v":""}]
[null,null,null,null,{"$f":"IF(A7674=\"\",\"\",IF(B7674=\"\",E7673,IF(D7674=\"\",E7673,D7674/MAX($D$8:D7674)-1)))","v":""}]
[null,null,null,null,{"$f":"IF(A7675=\"\",\"\",IF(B7675=\"\",E7674,IF(D7675=\"\",E7674,D7675/MAX($D$8:D7675)-1)))","v":""}]
[null,null,null,null,{"$f":"IF(A7676=\"\",\"\",IF(B7676=\"\",E7675,IF(D7676=\"\",E7675,D7676/MAX($D$8:D7676)-1)))","v":""}]
[null,null,null,null,{"$f":"IF(A7677=\"\",\"\",IF(B7677=\"\",E7676,IF(D7677=\"\",E7676,D7677/MAX($D$8:D7677)-1)))","v":""}]
[null,null,null,null,{"$f":"IF(A7678=\"\",\"\",IF(B7678=\"\",E7677,IF(D7678=\"\",E7677,D7678/MAX($D$8:D7678)-1)))","v":""}]
[null,null,null,null,{"$f":"IF(A7679=\"\",\"\",IF(B7679=\"\",E7678,IF(D7679=\"\",E7678,D7679/MAX($D$8:D7679)-1)))","v":""}]
[null,null,null,null,{"$f":"IF(A7680=\"\",\"\",IF(B7680=\"\",E7679,IF(D7680=\"\",E7679,D7680/MAX($D$8:D7680)-1)))","v":""}]
[null,null,null,null,{"$f":"IF(A7681=\"\",\"\",IF(B7681=\"\",E7680,IF(D7681=\"\",E7680,D7681/MAX($D$8:D7681)-1)))","v":""}]
[null,null,null,null,{"$f":"IF(A7682=\"\",\"\",IF(B7682=\"\",E7681,IF(D7682=\"\",E7681,D7682/MAX($D$8:D7682)-1)))","v":""}]
[null,null,null,null,{"$f":"IF(A7683=\"\",\"\",IF(B7683=\"\",E7682,IF(D7683=\"\",E7682,D7683/MAX($D$8:D7683)-1)))","v":""}]
[null,null,null,null,{"$f":"IF(A7684=\"\",\"\",IF(B7684=\"\",E7683,IF(D7684=\"\",E7683,D7684/MAX($D$8:D7684)-1)))","v":""}]
[null,null,null,null,{"$f":"IF(A7685=\"\",\"\",IF(B7685=\"\",E7684,IF(D7685=\"\",E7684,D7685/MAX($D$8:D7685)-1)))","v":""}]
[null,null,null,null,{"$f":"IF(A7686=\"\",\"\",IF(B7686=\"\",E7685,IF(D7686=\"\",E7685,D7686/MAX($D$8:D7686)-1)))","v":""}]
[null,null,null,null,{"$f":"IF(A7687=\"\",\"\",IF(B7687=\"\",E7686,IF(D7687=\"\",E7686,D7687/MAX($D$8:D7687)-1)))","v":""}]
[null,null,null,null,{"$f":"IF(A7688=\"\",\"\",IF(B7688=\"\",E7687,IF(D7688=\"\",E7687,D7688/MAX($D$8:D7688)-1)))","v":""}]
[null,null,null,null,{"$f":"IF(A7689=\"\",\"\",IF(B7689=\"\",E7688,IF(D7689=\"\",E7688,D7689/MAX($D$8:D7689)-1)))","v":""}]
[null,null,null,null,{"$f":"IF(A7690=\"\",\"\",IF(B7690=\"\",E7689,IF(D7690=\"\",E7689,D7690/MAX($D$8:D7690)-1)))","v":""}]
[null,null,null,null,{"$f":"IF(A7691=\"\",\"\",IF(B7691=\"\",E7690,IF(D7691=\"\",E7690,D7691/MAX($D$8:D7691)-1)))","v":""}]
[null,null,null,null,{"$f":"IF(A7692=\"\",\"\",IF(B7692=\"\",E7691,IF(D7692=\"\",E7691,D7692/MAX($D$8:D7692)-1)))","v":""}]
[null,null,null,null,{"$f":"IF(A7693=\"\",\"\",IF(B7693=\"\",E7692,IF(D7693=\"\",E7692,D7693/MAX($D$8:D7693)-1)))","v":""}]
[null,null,null,null,{"$f":"IF(A7694=\"\",\"\",IF(B7694=\"\",E7693,IF(D7694=\"\",E7693,D7694/MAX($D$8:D7694)-1)))","v":""}]
[null,null,null,null,{"$f":"IF(A7695=\"\",\"\",IF(B7695=\"\",E7694,IF(D7695=\"\",E7694,D7695/MAX($D$8:D7695)-1)))","v":""}]
[null,null,null,null,{"$f":"IF(A7696=\"\",\"\",IF(B7696=\"\",E7695,IF(D7696=\"\",E7695,D7696/MAX($D$8:D7696)-1)))","v":""}]
[null,null,null,null,{"$f":"IF(A7697=\"\",\"\",IF(B7697=\"\",E7696,IF(D7697=\"\",E7696,D7697/MAX($D$8:D7697)-1)))","v":""}]
[null,null,null,null,{"$f":"IF(A7698=\"\",\"\",IF(B7698=\"\",E7697,IF(D7698=\"\",E7697,D7698/MAX($D$8:D7698)-1)))","v":""}]
[null,null,null,null,{"$f":"IF(A7699=\"\",\"\",IF(B7699=\"\",E7698,IF(D7699=\"\",E7698,D7699/MAX($D$8:D7699)-1)))","v":""}]
[null,null,null,null,{"$f":"IF(A7700=\"\",\"\",IF(B7700=\"\",E7699,IF(D7700=\"\",E7699,D7700/MAX($D$8:D7700)-1)))","v":""}]
[null,null,null,null,{"$f":"IF(A7701=\"\",\"\",IF(B7701=\"\",E7700,IF(D7701=\"\",E7700,D7701/MAX($D$8:D7701)-1)))","v":""}]
[null,null,null,null,{"$f":"IF(A7702=\"\",\"\",IF(B7702=\"\",E7701,IF(D7702=\"\",E7701,D7702/MAX($D$8:D7702)-1)))","v":""}]
[null,null,null,null,{"$f":"IF(A7703=\"\",\"\",IF(B7703=\"\",E7702,IF(D7703=\"\",E7702,D7703/MAX($D$8:D7703)-1)))","v":""}]
[null,null,null,null,{"$f":"IF(A7704=\"\",\"\",IF(B7704=\"\",E7703,IF(D7704=\"\",E7703,D7704/MAX($D$8:D7704)-1)))","v":""}]
[null,null,null,null,{"$f":"IF(A7705=\"\",\"\",IF(B7705=\"\",E7704,IF(D7705=\"\",E7704,D7705/MAX($D$8:D7705)-1)))","v":""}]
[null,null,null,null,{"$f":"IF(A7706=\"\",\"\",IF(B7706=\"\",E7705,IF(D7706=\"\",E7705,D7706/MAX($D$8:D7706)-1)))","v":""}]
[null,null,null,null,{"$f":"IF(A7707=\"\",\"\",IF(B7707=\"\",E7706,IF(D7707=\"\",E7706,D7707/MAX($D$8:D7707)-1)))","v":""}]
[null,null,null,null,{"$f":"IF(A7708=\"\",\"\",IF(B7708=\"\",E7707,IF(D7708=\"\",E7707,D7708/MAX($D$8:D7708)-1)))","v":""}]
[null,null,null,null,{"$f":"IF(A7709=\"\",\"\",IF(B7709=\"\",E7708,IF(D7709=\"\",E7708,D7709/MAX($D$8:D7709)-1)))","v":""}]
[null,null,null,null,{"$f":"IF(A7710=\"\",\"\",IF(B7710=\"\",E7709,IF(D7710=\"\",E7709,D7710/MAX($D$8:D7710)-1)))","v":""}]
[null,null,null,null,{"$f":"IF(A7711=\"\",\"\",IF(B7711=\"\",E7710,IF(D7711=\"\",E7710,D7711/MAX($D$8:D7711)-1)))","v":""}]
[null,null,null,null,{"$f":"IF(A7712=\"\",\"\",IF(B7712=\"\",E7711,IF(D7712=\"\",E7711,D7712/MAX($D$8:D7712)-1)))","v":""}]
[null,null,null,null,{"$f":"IF(A7713=\"\",\"\",IF(B7713=\"\",E7712,IF(D7713=\"\",E7712,D7713/MAX($D$8:D7713)-1)))","v":""}]
[null,null,null,null,{"$f":"IF(A7714=\"\",\"\",IF(B7714=\"\",E7713,IF(D7714=\"\",E7713,D7714/MAX($D$8:D7714)-1)))","v":""}]
[null,null,null,null,{"$f":"IF(A7715=\"\",\"\",IF(B7715=\"\",E7714,IF(D7715=\"\",E7714,D7715/MAX($D$8:D7715)-1)))","v":""}]
[null,null,null,null,{"$f":"IF(A7716=\"\",\"\",IF(B7716=\"\",E7715,IF(D7716=\"\",E7715,D7716/MAX($D$8:D7716)-1)))","v":""}]
[null,null,null,null,{"$f":"IF(A7717=\"\",\"\",IF(B7717=\"\",E7716,IF(D7717=\"\",E7716,D7717/MAX($D$8:D7717)-1)))","v":""}]
[null,null,null,null,{"$f":"IF(A7718=\"\",\"\",IF(B7718=\"\",E7717,IF(D7718=\"\",E7717,D7718/MAX($D$8:D7718)-1)))","v":""}]
[null,null,null,null,{"$f":"IF(A7719=\"\",\"\",IF(B7719=\"\",E7718,IF(D7719=\"\",E7718,D7719/MAX($D$8:D7719)-1)))","v":""}]
[null,null,null,null,{"$f":"IF(A7720=\"\",\"\",IF(B7720=\"\",E7719,IF(D7720=\"\",E7719,D7720/MAX($D$8:D7720)-1)))","v":""}]
[null,null,null,null,{"$f":"IF(A7721=\"\",\"\",IF(B7721=\"\",E7720,IF(D7721=\"\",E7720,D7721/MAX($D$8:D7721)-1)))","v":""}]
[null,null,null,null,{"$f":"IF(A7722=\"\",\"\",IF(B7722=\"\",E7721,IF(D7722=\"\",E7721,D7722/MAX($D$8:D7722)-1)))","v":""}]
[null,null,null,null,{"$f":"IF(A7723=\"\",\"\",IF(B7723=\"\",E7722,IF(D7723=\"\",E7722,D7723/MAX($D$8:D7723)-1)))","v":""}]
[null,null,null,null,{"$f":"IF(A7724=\"\",\"\",IF(B7724=\"\",E7723,IF(D7724=\"\",E7723,D7724/MAX($D$8:D7724)-1)))","v":""}]
[null,null,null,null,{"$f":"IF(A7725=\"\",\"\",IF(B7725=\"\",E7724,IF(D7725=\"\",E7724,D7725/MAX($D$8:D7725)-1)))","v":""}]
[null,null,null,null,{"$f":"IF(A7726=\"\",\"\",IF(B7726=\"\",E7725,IF(D7726=\"\",E7725,D7726/MAX($D$8:D7726)-1)))","v":""}]
[null,null,null,null,{"$f":"IF(A7727=\"\",\"\",IF(B7727=\"\",E7726,IF(D7727=\"\",E7726,D7727/MAX($D$8:D7727)-1)))","v":""}]
[null,null,null,null,{"$f":"IF(A7728=\"\",\"\",IF(B7728=\"\",E7727,IF(D7728=\"\",E7727,D7728/MAX($D$8:D7728)-1)))","v":""}]
[null,null,null,null,{"$f":"IF(A7729=\"\",\"\",IF(B7729=\"\",E7728,IF(D7729=\"\",E7728,D7729/MAX($D$8:D7729)-1)))","v":""}]
[null,null,null,null,{"$f":"IF(A7730=\"\",\"\",IF(B7730=\"\",E7729,IF(D7730=\"\",E7729,D7730/MAX($D$8:D7730)-1)))","v":""}]
[null,null,null,null,{"$f":"IF(A7731=\"\",\"\",IF(B7731=\"\",E7730,IF(D7731=\"\",E7730,D7731/MAX($D$8:D7731)-1)))","v":""}]
[null,null,null,null,{"$f":"IF(A7732=\"\",\"\",IF(B7732=\"\",E7731,IF(D7732=\"\",E7731,D7732/MAX($D$8:D7732)-1)))","v":""}]
[null,null,null,null,{"$f":"IF(A7733=\"\",\"\",IF(B7733=\"\",E7732,IF(D7733=\"\",E7732,D7733/MAX($D$8:D7733)-1)))","v":""}]
[null,null,null,null,{"$f":"IF(A7734=\"\",\"\",IF(B7734=\"\",E7733,IF(D7734=\"\",E7733,D7734/MAX($D$8:D7734)-1)))","v":""}]
[null,null,null,null,{"$f":"IF(A7735=\"\",\"\",IF(B7735=\"\",E7734,IF(D7735=\"\",E7734,D7735/MAX($D$8:D7735)-1)))","v":""}]
[null,null,null,null,{"$f":"IF(A7736=\"\",\"\",IF(B7736=\"\",E7735,IF(D7736=\"\",E7735,D7736/MAX($D$8:D7736)-1)))","v":""}]
[null,null,null,null,{"$f":"IF(A7737=\"\",\"\",IF(B7737=\"\",E7736,IF(D7737=\"\",E7736,D7737/MAX($D$8:D7737)-1)))","v":""}]
[null,null,null,null,{"$f":"IF(A7738=\"\",\"\",IF(B7738=\"\",E7737,IF(D7738=\"\",E7737,D7738/MAX($D$8:D7738)-1)))","v":""}]
[null,null,null,null,{"$f":"IF(A7739=\"\",\"\",IF(B7739=\"\",E7738,IF(D7739=\"\",E7738,D7739/MAX($D$8:D7739)-1)))","v":""}]
[null,null,null,null,{"$f":"IF(A7740=\"\",\"\",IF(B7740=\"\",E7739,IF(D7740=\"\",E7739,D7740/MAX($D$8:D7740)-1)))","v":""}]
[null,null,null,null,{"$f":"IF(A7741=\"\",\"\",IF(B7741=\"\",E7740,IF(D7741=\"\",E7740,D7741/MAX($D$8:D7741)-1)))","v":""}]
[null,null,null,null,{"$f":"IF(A7742=\"\",\"\",IF(B7742=\"\",E7741,IF(D7742=\"\",E7741,D7742/MAX($D$8:D7742)-1)))","v":""}]
[null,null,null,null,{"$f":"IF(A7743=\"\",\"\",IF(B7743=\"\",E7742,IF(D7743=\"\",E7742,D7743/MAX($D$8:D7743)-1)))","v":""}]
[null,null,null,null,{"$f":"IF(A7744=\"\",\"\",IF(B7744=\"\",E7743,IF(D7744=\"\",E7743,D7744/MAX($D$8:D7744)-1)))","v":""}]
[null,null,null,null,{"$f":"IF(A7745=\"\",\"\",IF(B7745=\"\",E7744,IF(D7745=\"\",E7744,D7745/MAX($D$8:D7745)-1)))","v":""}]
[null,null,null,null,{"$f":"IF(A7746=\"\",\"\",IF(B7746=\"\",E7745,IF(D7746=\"\",E7745,D7746/MAX($D$8:D7746)-1)))","v":""}]
[null,null,null,null,{"$f":"IF(A7747=\"\",\"\",IF(B7747=\"\",E7746,IF(D7747=\"\",E7746,D7747/MAX($D$8:D7747)-1)))","v":""}]
[null,null,null,null,{"$f":"IF(A7748=\"\",\"\",IF(B7748=\"\",E7747,IF(D7748=\"\",E7747,D7748/MAX($D$8:D7748)-1)))","v":""}]
[null,null,null,null,{"$f":"IF(A7749=\"\",\"\",IF(B7749=\"\",E7748,IF(D7749=\"\",E7748,D7749/MAX($D$8:D7749)-1)))","v":""}]
[null,null,null,null,{"$f":"IF(A7750=\"\",\"\",IF(B7750=\"\",E7749,IF(D7750=\"\",E7749,D7750/MAX($D$8:D7750)-1)))","v":""}]
[null,null,null,null,{"$f":"IF(A7751=\"\",\"\",IF(B7751=\"\",E7750,IF(D7751=\"\",E7750,D7751/MAX($D$8:D7751)-1)))","v":""}]
[null,null,null,null,{"$f":"IF(A7752=\"\",\"\",IF(B7752=\"\",E7751,IF(D7752=\"\",E7751,D7752/MAX($D$8:D7752)-1)))","v":""}]
[null,null,null,null,{"$f":"IF(A7753=\"\",\"\",IF(B7753=\"\",E7752,IF(D7753=\"\",E7752,D7753/MAX($D$8:D7753)-1)))","v":""}]
[null,null,null,null,{"$f":"IF(A7754=\"\",\"\",IF(B7754=\"\",E7753,IF(D7754=\"\",E7753,D7754/MAX($D$8:D7754)-1)))","v":""}]
[null,null,null,null,{"$f":"IF(A7755=\"\",\"\",IF(B7755=\"\",E7754,IF(D7755=\"\",E7754,D7755/MAX($D$8:D7755)-1)))","v":""}]
[null,null,null,null,{"$f":"IF(A7756=\"\",\"\",IF(B7756=\"\",E7755,IF(D7756=\"\",E7755,D7756/MAX($D$8:D7756)-1)))","v":""}]
[null,null,null,null,{"$f":"IF(A7757=\"\",\"\",IF(B7757=\"\",E7756,IF(D7757=\"\",E7756,D7757/MAX($D$8:D7757)-1)))","v":""}]
[null,null,null,null,{"$f":"IF(A7758=\"\",\"\",IF(B7758=\"\",E7757,IF(D7758=\"\",E7757,D7758/MAX($D$8:D7758)-1)))","v":""}]
[null,null,null,null,{"$f":"IF(A7759=\"\",\"\",IF(B7759=\"\",E7758,IF(D7759=\"\",E7758,D7759/MAX($D$8:D7759)-1)))","v":""}]
[null,null,null,null,{"$f":"IF(A7760=\"\",\"\",IF(B7760=\"\",E7759,IF(D7760=\"\",E7759,D7760/MAX($D$8:D7760)-1)))","v":""}]
[null,null,null,null,{"$f":"IF(A7761=\"\",\"\",IF(B7761=\"\",E7760,IF(D7761=\"\",E7760,D7761/MAX($D$8:D7761)-1)))","v":""}]
[null,null,null,null,{"$f":"IF(A7762=\"\",\"\",IF(B7762=\"\",E7761,IF(D7762=\"\",E7761,D7762/MAX($D$8:D7762)-1)))","v":""}]
[null,null,null,null,{"$f":"IF(A7763=\"\",\"\",IF(B7763=\"\",E7762,IF(D7763=\"\",E7762,D7763/MAX($D$8:D7763)-1)))","v":""}]
[null,null,null,null,{"$f":"IF(A7764=\"\",\"\",IF(B7764=\"\",E7763,IF(D7764=\"\",E7763,D7764/MAX($D$8:D7764)-1)))","v":""}]
[null,null,null,null,{"$f":"IF(A7765=\"\",\"\",IF(B7765=\"\",E7764,IF(D7765=\"\",E7764,D7765/MAX($D$8:D7765)-1)))","v":""}]
[null,null,null,null,{"$f":"IF(A7766=\"\",\"\",IF(B7766=\"\",E7765,IF(D7766=\"\",E7765,D7766/MAX($D$8:D7766)-1)))","v":""}]
[null,null,null,null,{"$f":"IF(A7767=\"\",\"\",IF(B7767=\"\",E7766,IF(D7767=\"\",E7766,D7767/MAX($D$8:D7767)-1)))","v":""}]
[null,null,null,null,{"$f":"IF(A7768=\"\",\"\",IF(B7768=\"\",E7767,IF(D7768=\"\",E7767,D7768/MAX($D$8:D7768)-1)))","v":""}]
[null,null,null,null,{"$f":"IF(A7769=\"\",\"\",IF(B7769=\"\",E7768,IF(D7769=\"\",E7768,D7769/MAX($D$8:D7769)-1)))","v":""}]
[null,null,null,null,{"$f":"IF(A7770=\"\",\"\",IF(B7770=\"\",E7769,IF(D7770=\"\",E7769,D7770/MAX($D$8:D7770)-1)))","v":""}]
[null,null,null,null,{"$f":"IF(A7771=\"\",\"\",IF(B7771=\"\",E7770,IF(D7771=\"\",E7770,D7771/MAX($D$8:D7771)-1)))","v":""}]
[null,null,null,null,{"$f":"IF(A7772=\"\",\"\",IF(B7772=\"\",E7771,IF(D7772=\"\",E7771,D7772/MAX($D$8:D7772)-1)))","v":""}]
[null,null,null,null,{"$f":"IF(A7773=\"\",\"\",IF(B7773=\"\",E7772,IF(D7773=\"\",E7772,D7773/MAX($D$8:D7773)-1)))","v":""}]
[null,null,null,null,{"$f":"IF(A7774=\"\",\"\",IF(B7774=\"\",E7773,IF(D7774=\"\",E7773,D7774/MAX($D$8:D7774)-1)))","v":""}]
[null,null,null,null,{"$f":"IF(A7775=\"\",\"\",IF(B7775=\"\",E7774,IF(D7775=\"\",E7774,D7775/MAX($D$8:D7775)-1)))","v":""}]
[null,null,null,null,{"$f":"IF(A7776=\"\",\"\",IF(B7776=\"\",E7775,IF(D7776=\"\",E7775,D7776/MAX($D$8:D7776)-1)))","v":""}]
[null,null,null,null,{"$f":"IF(A7777=\"\",\"\",IF(B7777=\"\",E7776,IF(D7777=\"\",E7776,D7777/MAX($D$8:D7777)-1)))","v":""}]
[null,null,null,null,{"$f":"IF(A7778=\"\",\"\",IF(B7778=\"\",E7777,IF(D7778=\"\",E7777,D7778/MAX($D$8:D7778)-1)))","v":""}]
[null,null,null,null,{"$f":"IF(A7779=\"\",\"\",IF(B7779=\"\",E7778,IF(D7779=\"\",E7778,D7779/MAX($D$8:D7779)-1)))","v":""}]
[null,null,null,null,{"$f":"IF(A7780=\"\",\"\",IF(B7780=\"\",E7779,IF(D7780=\"\",E7779,D7780/MAX($D$8:D7780)-1)))","v":""}]
[null,null,null,null,{"$f":"IF(A7781=\"\",\"\",IF(B7781=\"\",E7780,IF(D7781=\"\",E7780,D7781/MAX($D$8:D7781)-1)))","v":""}]
[null,null,null,null,{"$f":"IF(A7782=\"\",\"\",IF(B7782=\"\",E7781,IF(D7782=\"\",E7781,D7782/MAX($D$8:D7782)-1)))","v":""}]
[null,null,null,null,{"$f":"IF(A7783=\"\",\"\",IF(B7783=\"\",E7782,IF(D7783=\"\",E7782,D7783/MAX($D$8:D7783)-1)))","v":""}]
[null,null,null,null,{"$f":"IF(A7784=\"\",\"\",IF(B7784=\"\",E7783,IF(D7784=\"\",E7783,D7784/MAX($D$8:D7784)-1)))","v":""}]
[null,null,null,null,{"$f":"IF(A7785=\"\",\"\",IF(B7785=\"\",E7784,IF(D7785=\"\",E7784,D7785/MAX($D$8:D7785)-1)))","v":""}]
[null,null,null,null,{"$f":"IF(A7786=\"\",\"\",IF(B7786=\"\",E7785,IF(D7786=\"\",E7785,D7786/MAX($D$8:D7786)-1)))","v":""}]
[null,null,null,null,{"$f":"IF(A7787=\"\",\"\",IF(B7787=\"\",E7786,IF(D7787=\"\",E7786,D7787/MAX($D$8:D7787)-1)))","v":""}]
[null,null,null,null,{"$f":"IF(A7788=\"\",\"\",IF(B7788=\"\",E7787,IF(D7788=\"\",E7787,D7788/MAX($D$8:D7788)-1)))","v":""}]
[null,null,null,null,{"$f":"IF(A7789=\"\",\"\",IF(B7789=\"\",E7788,IF(D7789=\"\",E7788,D7789/MAX($D$8:D7789)-1)))","v":""}]
[null,null,null,null,{"$f":"IF(A7790=\"\",\"\",IF(B7790=\"\",E7789,IF(D7790=\"\",E7789,D7790/MAX($D$8:D7790)-1)))","v":""}]
[null,null,null,null,{"$f":"IF(A7791=\"\",\"\",IF(B7791=\"\",E7790,IF(D7791=\"\",E7790,D7791/MAX($D$8:D7791)-1)))","v":""}]
[null,null,null,null,{"$f":"IF(A7792=\"\",\"\",IF(B7792=\"\",E7791,IF(D7792=\"\",E7791,D7792/MAX($D$8:D7792)-1)))","v":""}]
[null,null,null,null,{"$f":"IF(A7793=\"\",\"\",IF(B7793=\"\",E7792,IF(D7793=\"\",E7792,D7793/MAX($D$8:D7793)-1)))","v":""}]
[null,null,null,null,{"$f":"IF(A7794=\"\",\"\",IF(B7794=\"\",E7793,IF(D7794=\"\",E7793,D7794/MAX($D$8:D7794)-1)))","v":""}]
[null,null,null,null,{"$f":"IF(A7795=\"\",\"\",IF(B7795=\"\",E7794,IF(D7795=\"\",E7794,D7795/MAX($D$8:D7795)-1)))","v":""}]
[null,null,null,null,{"$f":"IF(A7796=\"\",\"\",IF(B7796=\"\",E7795,IF(D7796=\"\",E7795,D7796/MAX($D$8:D7796)-1)))","v":""}]
[null,null,null,null,{"$f":"IF(A7797=\"\",\"\",IF(B7797=\"\",E7796,IF(D7797=\"\",E7796,D7797/MAX($D$8:D7797)-1)))","v":""}]
[null,null,null,null,{"$f":"IF(A7798=\"\",\"\",IF(B7798=\"\",E7797,IF(D7798=\"\",E7797,D7798/MAX($D$8:D7798)-1)))","v":""}]
[null,null,null,null,{"$f":"IF(A7799=\"\",\"\",IF(B7799=\"\",E7798,IF(D7799=\"\",E7798,D7799/MAX($D$8:D7799)-1)))","v":""}]
[null,null,null,null,{"$f":"IF(A7800=\"\",\"\",IF(B7800=\"\",E7799,IF(D7800=\"\",E7799,D7800/MAX($D$8:D7800)-1)))","v":""}]
[null,null,null,null,{"$f":"IF(A7801=\"\",\"\",IF(B7801=\"\",E7800,IF(D7801=\"\",E7800,D7801/MAX($D$8:D7801)-1)))","v":""}]
[null,null,null,null,{"$f":"IF(A7802=\"\",\"\",IF(B7802=\"\",E7801,IF(D7802=\"\",E7801,D7802/MAX($D$8:D7802)-1)))","v":""}]
[null,null,null,null,{"$f":"IF(A7803=\"\",\"\",IF(B7803=\"\",E7802,IF(D7803=\"\",E7802,D7803/MAX($D$8:D7803)-1)))","v":""}]
[null,null,null,null,{"$f":"IF(A7804=\"\",\"\",IF(B7804=\"\",E7803,IF(D7804=\"\",E7803,D7804/MAX($D$8:D7804)-1)))","v":""}]
[null,null,null,null,{"$f":"IF(A7805=\"\",\"\",IF(B7805=\"\",E7804,IF(D7805=\"\",E7804,D7805/MAX($D$8:D7805)-1)))","v":""}]
[null,null,null,null,{"$f":"IF(A7806=\"\",\"\",IF(B7806=\"\",E7805,IF(D7806=\"\",E7805,D7806/MAX($D$8:D7806)-1)))","v":""}]
[null,null,null,null,{"$f":"IF(A7807=\"\",\"\",IF(B7807=\"\",E7806,IF(D7807=\"\",E7806,D7807/MAX($D$8:D7807)-1)))","v":""}]
[null,null,null,null,{"$f":"IF(A7808=\"\",\"\",IF(B7808=\"\",E7807,IF(D7808=\"\",E7807,D7808/MAX($D$8:D7808)-1)))","v":""}]
[null,null,null,null,{"$f":"IF(A7809=\"\",\"\",IF(B7809=\"\",E7808,IF(D7809=\"\",E7808,D7809/MAX($D$8:D7809)-1)))","v":""}]
[null,null,null,null,{"$f":"IF(A7810=\"\",\"\",IF(B7810=\"\",E7809,IF(D7810=\"\",E7809,D7810/MAX($D$8:D7810)-1)))","v":""}]
[null,null,null,null,{"$f":"IF(A7811=\"\",\"\",IF(B7811=\"\",E7810,IF(D7811=\"\",E7810,D7811/MAX($D$8:D7811)-1)))","v":""}]
[null,null,null,null,{"$f":"IF(A7812=\"\",\"\",IF(B7812=\"\",E7811,IF(D7812=\"\",E7811,D7812/MAX($D$8:D7812)-1)))","v":""}]
[null,null,null,null,{"$f":"IF(A7813=\"\",\"\",IF(B7813=\"\",E7812,IF(D7813=\"\",E7812,D7813/MAX($D$8:D7813)-1)))","v":""}]
[null,null,null,null,{"$f":"IF(A7814=\"\",\"\",IF(B7814=\"\",E7813,IF(D7814=\"\",E7813,D7814/MAX($D$8:D7814)-1)))","v":""}]
[null,null,null,null,{"$f":"IF(A7815=\"\",\"\",IF(B7815=\"\",E7814,IF(D7815=\"\",E7814,D7815/MAX($D$8:D7815)-1)))","v":""}]
[null,null,null,null,{"$f":"IF(A7816=\"\",\"\",IF(B7816=\"\",E7815,IF(D7816=\"\",E7815,D7816/MAX($D$8:D7816)-1)))","v":""}]
[null,null,null,null,{"$f":"IF(A7817=\"\",\"\",IF(B7817=\"\",E7816,IF(D7817=\"\",E7816,D7817/MAX($D$8:D7817)-1)))","v":""}]
[null,null,null,null,{"$f":"IF(A7818=\"\",\"\",IF(B7818=\"\",E7817,IF(D7818=\"\",E7817,D7818/MAX($D$8:D7818)-1)))","v":""}]
[null,null,null,null,{"$f":"IF(A7819=\"\",\"\",IF(B7819=\"\",E7818,IF(D7819=\"\",E7818,D7819/MAX($D$8:D7819)-1)))","v":""}]
[null,null,null,null,{"$f":"IF(A7820=\"\",\"\",IF(B7820=\"\",E7819,IF(D7820=\"\",E7819,D7820/MAX($D$8:D7820)-1)))","v":""}]
[null,null,null,null,{"$f":"IF(A7821=\"\",\"\",IF(B7821=\"\",E7820,IF(D7821=\"\",E7820,D7821/MAX($D$8:D7821)-1)))","v":""}]
[null,null,null,null,{"$f":"IF(A7822=\"\",\"\",IF(B7822=\"\",E7821,IF(D7822=\"\",E7821,D7822/MAX($D$8:D7822)-1)))","v":""}]
[null,null,null,null,{"$f":"IF(A7823=\"\",\"\",IF(B7823=\"\",E7822,IF(D7823=\"\",E7822,D7823/MAX($D$8:D7823)-1)))","v":""}]
[null,null,null,null,{"$f":"IF(A7824=\"\",\"\",IF(B7824=\"\",E7823,IF(D7824=\"\",E7823,D7824/MAX($D$8:D7824)-1)))","v":""}]
[null,null,null,null,{"$f":"IF(A7825=\"\",\"\",IF(B7825=\"\",E7824,IF(D7825=\"\",E7824,D7825/MAX($D$8:D7825)-1)))","v":""}]
[null,null,null,null,{"$f":"IF(A7826=\"\",\"\",IF(B7826=\"\",E7825,IF(D7826=\"\",E7825,D7826/MAX($D$8:D7826)-1)))","v":""}]
[null,null,null,null,{"$f":"IF(A7827=\"\",\"\",IF(B7827=\"\",E7826,IF(D7827=\"\",E7826,D7827/MAX($D$8:D7827)-1)))","v":""}]
[null,null,null,null,{"$f":"IF(A7828=\"\",\"\",IF(B7828=\"\",E7827,IF(D7828=\"\",E7827,D7828/MAX($D$8:D7828)-1)))","v":""}]
[null,null,null,null,{"$f":"IF(A7829=\"\",\"\",IF(B7829=\"\",E7828,IF(D7829=\"\",E7828,D7829/MAX($D$8:D7829)-1)))","v":""}]
[null,null,null,null,{"$f":"IF(A7830=\"\",\"\",IF(B7830=\"\",E7829,IF(D7830=\"\",E7829,D7830/MAX($D$8:D7830)-1)))","v":""}]
[null,null,null,null,{"$f":"IF(A7831=\"\",\"\",IF(B7831=\"\",E7830,IF(D7831=\"\",E7830,D7831/MAX($D$8:D7831)-1)))","v":""}]
[null,null,null,null,{"$f":"IF(A7832=\"\",\"\",IF(B7832=\"\",E7831,IF(D7832=\"\",E7831,D7832/MAX($D$8:D7832)-1)))","v":""}]
[null,null,null,null,{"$f":"IF(A7833=\"\",\"\",IF(B7833=\"\",E7832,IF(D7833=\"\",E7832,D7833/MAX($D$8:D7833)-1)))","v":""}]
[null,null,null,null,{"$f":"IF(A7834=\"\",\"\",IF(B7834=\"\",E7833,IF(D7834=\"\",E7833,D7834/MAX($D$8:D7834)-1)))","v":""}]
[null,null,null,null,{"$f":"IF(A7835=\"\",\"\",IF(B7835=\"\",E7834,IF(D7835=\"\",E7834,D7835/MAX($D$8:D7835)-1)))","v":""}]
[null,null,null,null,{"$f":"IF(A7836=\"\",\"\",IF(B7836=\"\",E7835,IF(D7836=\"\",E7835,D7836/MAX($D$8:D7836)-1)))","v":""}]
[null,null,null,null,{"$f":"IF(A7837=\"\",\"\",IF(B7837=\"\",E7836,IF(D7837=\"\",E7836,D7837/MAX($D$8:D7837)-1)))","v":""}]
[null,null,null,null,{"$f":"IF(A7838=\"\",\"\",IF(B7838=\"\",E7837,IF(D7838=\"\",E7837,D7838/MAX($D$8:D7838)-1)))","v":""}]
[null,null,null,null,{"$f":"IF(A7839=\"\",\"\",IF(B7839=\"\",E7838,IF(D7839=\"\",E7838,D7839/MAX($D$8:D7839)-1)))","v":""}]
[null,null,null,null,{"$f":"IF(A7840=\"\",\"\",IF(B7840=\"\",E7839,IF(D7840=\"\",E7839,D7840/MAX($D$8:D7840)-1)))","v":""}]
[null,null,null,null,{"$f":"IF(A7841=\"\",\"\",IF(B7841=\"\",E7840,IF(D7841=\"\",E7840,D7841/MAX($D$8:D7841)-1)))","v":""}]
[null,null,null,null,{"$f":"IF(A7842=\"\",\"\",IF(B7842=\"\",E7841,IF(D7842=\"\",E7841,D7842/MAX($D$8:D7842)-1)))","v":""}]
[null,null,null,null,{"$f":"IF(A7843=\"\",\"\",IF(B7843=\"\",E7842,IF(D7843=\"\",E7842,D7843/MAX($D$8:D7843)-1)))","v":""}]
[null,null,null,null,{"$f":"IF(A7844=\"\",\"\",IF(B7844=\"\",E7843,IF(D7844=\"\",E7843,D7844/MAX($D$8:D7844)-1)))","v":""}]
[null,null,null,null,{"$f":"IF(A7845=\"\",\"\",IF(B7845=\"\",E7844,IF(D7845=\"\",E7844,D7845/MAX($D$8:D7845)-1)))","v":""}]
[null,null,null,null,{"$f":"IF(A7846=\"\",\"\",IF(B7846=\"\",E7845,IF(D7846=\"\",E7845,D7846/MAX($D$8:D7846)-1)))","v":""}]
[null,null,null,null,{"$f":"IF(A7847=\"\",\"\",IF(B7847=\"\",E7846,IF(D7847=\"\",E7846,D7847/MAX($D$8:D7847)-1)))","v":""}]
[null,null,null,null,{"$f":"IF(A7848=\"\",\"\",IF(B7848=\"\",E7847,IF(D7848=\"\",E7847,D7848/MAX($D$8:D7848)-1)))","v":""}]
[null,null,null,null,{"$f":"IF(A7849=\"\",\"\",IF(B7849=\"\",E7848,IF(D7849=\"\",E7848,D7849/MAX($D$8:D7849)-1)))","v":""}]
[null,null,null,null,{"$f":"IF(A7850=\"\",\"\",IF(B7850=\"\",E7849,IF(D7850=\"\",E7849,D7850/MAX($D$8:D7850)-1)))","v":""}]
[null,null,null,null,{"$f":"IF(A7851=\"\",\"\",IF(B7851=\"\",E7850,IF(D7851=\"\",E7850,D7851/MAX($D$8:D7851)-1)))","v":""}]
[null,null,null,null,{"$f":"IF(A7852=\"\",\"\",IF(B7852=\"\",E7851,IF(D7852=\"\",E7851,D7852/MAX($D$8:D7852)-1)))","v":""}]
[null,null,null,null,{"$f":"IF(A7853=\"\",\"\",IF(B7853=\"\",E7852,IF(D7853=\"\",E7852,D7853/MAX($D$8:D7853)-1)))","v":""}]
[null,null,null,null,{"$f":"IF(A7854=\"\",\"\",IF(B7854=\"\",E7853,IF(D7854=\"\",E7853,D7854/MAX($D$8:D7854)-1)))","v":""}]
[null,null,null,null,{"$f":"IF(A7855=\"\",\"\",IF(B7855=\"\",E7854,IF(D7855=\"\",E7854,D7855/MAX($D$8:D7855)-1)))","v":""}]
[null,null,null,null,{"$f":"IF(A7856=\"\",\"\",IF(B7856=\"\",E7855,IF(D7856=\"\",E7855,D7856/MAX($D$8:D7856)-1)))","v":""}]
[null,null,null,null,{"$f":"IF(A7857=\"\",\"\",IF(B7857=\"\",E7856,IF(D7857=\"\",E7856,D7857/MAX($D$8:D7857)-1)))","v":""}]
[null,null,null,null,{"$f":"IF(A7858=\"\",\"\",IF(B7858=\"\",E7857,IF(D7858=\"\",E7857,D7858/MAX($D$8:D7858)-1)))","v":""}]
[null,null,null,null,{"$f":"IF(A7859=\"\",\"\",IF(B7859=\"\",E7858,IF(D7859=\"\",E7858,D7859/MAX($D$8:D7859)-1)))","v":""}]
[null,null,null,null,{"$f":"IF(A7860=\"\",\"\",IF(B7860=\"\",E7859,IF(D7860=\"\",E7859,D7860/MAX($D$8:D7860)-1)))","v":""}]
[null,null,null,null,{"$f":"IF(A7861=\"\",\"\",IF(B7861=\"\",E7860,IF(D7861=\"\",E7860,D7861/MAX($D$8:D7861)-1)))","v":""}]
[null,null,null,null,{"$f":"IF(A7862=\"\",\"\",IF(B7862=\"\",E7861,IF(D7862=\"\",E7861,D7862/MAX($D$8:D7862)-1)))","v":""}]
[null,null,null,null,{"$f":"IF(A7863=\"\",\"\",IF(B7863=\"\",E7862,IF(D7863=\"\",E7862,D7863/MAX($D$8:D7863)-1)))","v":""}]
[null,null,null,null,{"$f":"IF(A7864=\"\",\"\",IF(B7864=\"\",E7863,IF(D7864=\"\",E7863,D7864/MAX($D$8:D7864)-1)))","v":""}]
[null,null,null,null,{"$f":"IF(A7865=\"\",\"\",IF(B7865=\"\",E7864,IF(D7865=\"\",E7864,D7865/MAX($D$8:D7865)-1)))","v":""}]
[null,null,null,null,{"$f":"IF(A7866=\"\",\"\",IF(B7866=\"\",E7865,IF(D7866=\"\",E7865,D7866/MAX($D$8:D7866)-1)))","v":""}]
[null,null,null,null,{"$f":"IF(A7867=\"\",\"\",IF(B7867=\"\",E7866,IF(D7867=\"\",E7866,D7867/MAX($D$8:D7867)-1)))","v":""}]
[null,null,null,null,{"$f":"IF(A7868=\"\",\"\",IF(B7868=\"\",E7867,IF(D7868=\"\",E7867,D7868/MAX($D$8:D7868)-1)))","v":""}]
[null,null,null,null,{"$f":"IF(A7869=\"\",\"\",IF(B7869=\"\",E7868,IF(D7869=\"\",E7868,D7869/MAX($D$8:D7869)-1)))","v":""}]
[null,null,null,null,{"$f":"IF(A7870=\"\",\"\",IF(B7870=\"\",E7869,IF(D7870=\"\",E7869,D7870/MAX($D$8:D7870)-1)))","v":""}]
[null,null,null,null,{"$f":"IF(A7871=\"\",\"\",IF(B7871=\"\",E7870,IF(D7871=\"\",E7870,D7871/MAX($D$8:D7871)-1)))","v":""}]
[null,null,null,null,{"$f":"IF(A7872=\"\",\"\",IF(B7872=\"\",E7871,IF(D7872=\"\",E7871,D7872/MAX($D$8:D7872)-1)))","v":""}]
[null,null,null,null,{"$f":"IF(A7873=\"\",\"\",IF(B7873=\"\",E7872,IF(D7873=\"\",E7872,D7873/MAX($D$8:D7873)-1)))","v":""}]
[null,null,null,null,{"$f":"IF(A7874=\"\",\"\",IF(B7874=\"\",E7873,IF(D7874=\"\",E7873,D7874/MAX($D$8:D7874)-1)))","v":""}]
[null,null,null,null,{"$f":"IF(A7875=\"\",\"\",IF(B7875=\"\",E7874,IF(D7875=\"\",E7874,D7875/MAX($D$8:D7875)-1)))","v":""}]
[null,null,null,null,{"$f":"IF(A7876=\"\",\"\",IF(B7876=\"\",E7875,IF(D7876=\"\",E7875,D7876/MAX($D$8:D7876)-1)))","v":""}]
[null,null,null,null,{"$f":"IF(A7877=\"\",\"\",IF(B7877=\"\",E7876,IF(D7877=\"\",E7876,D7877/MAX($D$8:D7877)-1)))","v":""}]
[null,null,null,null,{"$f":"IF(A7878=\"\",\"\",IF(B7878=\"\",E7877,IF(D7878=\"\",E7877,D7878/MAX($D$8:D7878)-1)))","v":""}]
[null,null,null,null,{"$f":"IF(A7879=\"\",\"\",IF(B7879=\"\",E7878,IF(D7879=\"\",E7878,D7879/MAX($D$8:D7879)-1)))","v":""}]
[null,null,null,null,{"$f":"IF(A7880=\"\",\"\",IF(B7880=\"\",E7879,IF(D7880=\"\",E7879,D7880/MAX($D$8:D7880)-1)))","v":""}]
[null,null,null,null,{"$f":"IF(A7881=\"\",\"\",IF(B7881=\"\",E7880,IF(D7881=\"\",E7880,D7881/MAX($D$8:D7881)-1)))","v":""}]
[null,null,null,null,{"$f":"IF(A7882=\"\",\"\",IF(B7882=\"\",E7881,IF(D7882=\"\",E7881,D7882/MAX($D$8:D7882)-1)))","v":""}]
[null,null,null,null,{"$f":"IF(A7883=\"\",\"\",IF(B7883=\"\",E7882,IF(D7883=\"\",E7882,D7883/MAX($D$8:D7883)-1)))","v":""}]
[null,null,null,null,{"$f":"IF(A7884=\"\",\"\",IF(B7884=\"\",E7883,IF(D7884=\"\",E7883,D7884/MAX($D$8:D7884)-1)))","v":""}]
[null,null,null,null,{"$f":"IF(A7885=\"\",\"\",IF(B7885=\"\",E7884,IF(D7885=\"\",E7884,D7885/MAX($D$8:D7885)-1)))","v":""}]
[null,null,null,null,{"$f":"IF(A7886=\"\",\"\",IF(B7886=\"\",E7885,IF(D7886=\"\",E7885,D7886/MAX($D$8:D7886)-1)))","v":""}]
[null,null,null,null,{"$f":"IF(A7887=\"\",\"\",IF(B7887=\"\",E7886,IF(D7887=\"\",E7886,D7887/MAX($D$8:D7887)-1)))","v":""}]
[null,null,null,null,{"$f":"IF(A7888=\"\",\"\",IF(B7888=\"\",E7887,IF(D7888=\"\",E7887,D7888/MAX($D$8:D7888)-1)))","v":""}]
[null,null,null,null,{"$f":"IF(A7889=\"\",\"\",IF(B7889=\"\",E7888,IF(D7889=\"\",E7888,D7889/MAX($D$8:D7889)-1)))","v":""}]
[null,null,null,null,{"$f":"IF(A7890=\"\",\"\",IF(B7890=\"\",E7889,IF(D7890=\"\",E7889,D7890/MAX($D$8:D7890)-1)))","v":""}]
[null,null,null,null,{"$f":"IF(A7891=\"\",\"\",IF(B7891=\"\",E7890,IF(D7891=\"\",E7890,D7891/MAX($D$8:D7891)-1)))","v":""}]
[null,null,null,null,{"$f":"IF(A7892=\"\",\"\",IF(B7892=\"\",E7891,IF(D7892=\"\",E7891,D7892/MAX($D$8:D7892)-1)))","v":""}]
[null,null,null,null,{"$f":"IF(A7893=\"\",\"\",IF(B7893=\"\",E7892,IF(D7893=\"\",E7892,D7893/MAX($D$8:D7893)-1)))","v":""}]
[null,null,null,null,{"$f":"IF(A7894=\"\",\"\",IF(B7894=\"\",E7893,IF(D7894=\"\",E7893,D7894/MAX($D$8:D7894)-1)))","v":""}]
[null,null,null,null,{"$f":"IF(A7895=\"\",\"\",IF(B7895=\"\",E7894,IF(D7895=\"\",E7894,D7895/MAX($D$8:D7895)-1)))","v":""}]
[null,null,null,null,{"$f":"IF(A7896=\"\",\"\",IF(B7896=\"\",E7895,IF(D7896=\"\",E7895,D7896/MAX($D$8:D7896)-1)))","v":""}]
[null,null,null,null,{"$f":"IF(A7897=\"\",\"\",IF(B7897=\"\",E7896,IF(D7897=\"\",E7896,D7897/MAX($D$8:D7897)-1)))","v":""}]
[null,null,null,null,{"$f":"IF(A7898=\"\",\"\",IF(B7898=\"\",E7897,IF(D7898=\"\",E7897,D7898/MAX($D$8:D7898)-1)))","v":""}]
[null,null,null,null,{"$f":"IF(A7899=\"\",\"\",IF(B7899=\"\",E7898,IF(D7899=\"\",E7898,D7899/MAX($D$8:D7899)-1)))","v":""}]
[null,null,null,null,{"$f":"IF(A7900=\"\",\"\",IF(B7900=\"\",E7899,IF(D7900=\"\",E7899,D7900/MAX($D$8:D7900)-1)))","v":""}]
[null,null,null,null,{"$f":"IF(A7901=\"\",\"\",IF(B7901=\"\",E7900,IF(D7901=\"\",E7900,D7901/MAX($D$8:D7901)-1)))","v":""}]
[null,null,null,null,{"$f":"IF(A7902=\"\",\"\",IF(B7902=\"\",E7901,IF(D7902=\"\",E7901,D7902/MAX($D$8:D7902)-1)))","v":""}]
[null,null,null,null,{"$f":"IF(A7903=\"\",\"\",IF(B7903=\"\",E7902,IF(D7903=\"\",E7902,D7903/MAX($D$8:D7903)-1)))","v":""}]
[null,null,null,null,{"$f":"IF(A7904=\"\",\"\",IF(B7904=\"\",E7903,IF(D7904=\"\",E7903,D7904/MAX($D$8:D7904)-1)))","v":""}]
[null,null,null,null,{"$f":"IF(A7905=\"\",\"\",IF(B7905=\"\",E7904,IF(D7905=\"\",E7904,D7905/MAX($D$8:D7905)-1)))","v":""}]
[null,null,null,null,{"$f":"IF(A7906=\"\",\"\",IF(B7906=\"\",E7905,IF(D7906=\"\",E7905,D7906/MAX($D$8:D7906)-1)))","v":""}]
[null,null,null,null,{"$f":"IF(A7907=\"\",\"\",IF(B7907=\"\",E7906,IF(D7907=\"\",E7906,D7907/MAX($D$8:D7907)-1)))","v":""}]
[null,null,null,null,{"$f":"IF(A7908=\"\",\"\",IF(B7908=\"\",E7907,IF(D7908=\"\",E7907,D7908/MAX($D$8:D7908)-1)))","v":""}]
[null,null,null,null,{"$f":"IF(A7909=\"\",\"\",IF(B7909=\"\",E7908,IF(D7909=\"\",E7908,D7909/MAX($D$8:D7909)-1)))","v":""}]
[null,null,null,null,{"$f":"IF(A7910=\"\",\"\",IF(B7910=\"\",E7909,IF(D7910=\"\",E7909,D7910/MAX($D$8:D7910)-1)))","v":""}]
[null,null,null,null,{"$f":"IF(A7911=\"\",\"\",IF(B7911=\"\",E7910,IF(D7911=\"\",E7910,D7911/MAX($D$8:D7911)-1)))","v":""}]
[null,null,null,null,{"$f":"IF(A7912=\"\",\"\",IF(B7912=\"\",E7911,IF(D7912=\"\",E7911,D7912/MAX($D$8:D7912)-1)))","v":""}]
[null,null,null,null,{"$f":"IF(A7913=\"\",\"\",IF(B7913=\"\",E7912,IF(D7913=\"\",E7912,D7913/MAX($D$8:D7913)-1)))","v":""}]
[null,null,null,null,{"$f":"IF(A7914=\"\",\"\",IF(B7914=\"\",E7913,IF(D7914=\"\",E7913,D7914/MAX($D$8:D7914)-1)))","v":""}]
[null,null,null,null,{"$f":"IF(A7915=\"\",\"\",IF(B7915=\"\",E7914,IF(D7915=\"\",E7914,D7915/MAX($D$8:D7915)-1)))","v":""}]
[null,null,null,null,{"$f":"IF(A7916=\"\",\"\",IF(B7916=\"\",E7915,IF(D7916=\"\",E7915,D7916/MAX($D$8:D7916)-1)))","v":""}]
[null,null,null,null,{"$f":"IF(A7917=\"\",\"\",IF(B7917=\"\",E7916,IF(D7917=\"\",E7916,D7917/MAX($D$8:D7917)-1)))","v":""}]
[null,null,null,null,{"$f":"IF(A7918=\"\",\"\",IF(B7918=\"\",E7917,IF(D7918=\"\",E7917,D7918/MAX($D$8:D7918)-1)))","v":""}]
[null,null,null,null,{"$f":"IF(A7919=\"\",\"\",IF(B7919=\"\",E7918,IF(D7919=\"\",E7918,D7919/MAX($D$8:D7919)-1)))","v":""}]
[null,null,null,null,{"$f":"IF(A7920=\"\",\"\",IF(B7920=\"\",E7919,IF(D7920=\"\",E7919,D7920/MAX($D$8:D7920)-1)))","v":""}]
[null,null,null,null,{"$f":"IF(A7921=\"\",\"\",IF(B7921=\"\",E7920,IF(D7921=\"\",E7920,D7921/MAX($D$8:D7921)-1)))","v":""}]
[null,null,null,null,{"$f":"IF(A7922=\"\",\"\",IF(B7922=\"\",E7921,IF(D7922=\"\",E7921,D7922/MAX($D$8:D7922)-1)))","v":""}]
[null,null,null,null,{"$f":"IF(A7923=\"\",\"\",IF(B7923=\"\",E7922,IF(D7923=\"\",E7922,D7923/MAX($D$8:D7923)-1)))","v":""}]
[null,null,null,null,{"$f":"IF(A7924=\"\",\"\",IF(B7924=\"\",E7923,IF(D7924=\"\",E7923,D7924/MAX($D$8:D7924)-1)))","v":""}]
[null,null,null,null,{"$f":"IF(A7925=\"\",\"\",IF(B7925=\"\",E7924,IF(D7925=\"\",E7924,D7925/MAX($D$8:D7925)-1)))","v":""}]
[null,null,null,null,{"$f":"IF(A7926=\"\",\"\",IF(B7926=\"\",E7925,IF(D7926=\"\",E7925,D7926/MAX($D$8:D7926)-1)))","v":""}]
[null,null,null,null,{"$f":"IF(A7927=\"\",\"\",IF(B7927=\"\",E7926,IF(D7927=\"\",E7926,D7927/MAX($D$8:D7927)-1)))","v":""}]
[null,null,null,null,{"$f":"IF(A7928=\"\",\"\",IF(B7928=\"\",E7927,IF(D7928=\"\",E7927,D7928/MAX($D$8:D7928)-1)))","v":""}]
[null,null,null,null,{"$f":"IF(A7929=\"\",\"\",IF(B7929=\"\",E7928,IF(D7929=\"\",E7928,D7929/MAX($D$8:D7929)-1)))","v":""}]
[null,null,null,null,{"$f":"IF(A7930=\"\",\"\",IF(B7930=\"\",E7929,IF(D7930=\"\",E7929,D7930/MAX($D$8:D7930)-1)))","v":""}]
[null,null,null,null,{"$f":"IF(A7931=\"\",\"\",IF(B7931=\"\",E7930,IF(D7931=\"\",E7930,D7931/MAX($D$8:D7931)-1)))","v":""}]
[null,null,null,null,{"$f":"IF(A7932=\"\",\"\",IF(B7932=\"\",E7931,IF(D7932=\"\",E7931,D7932/MAX($D$8:D7932)-1)))","v":""}]
[null,null,null,null,{"$f":"IF(A7933=\"\",\"\",IF(B7933=\"\",E7932,IF(D7933=\"\",E7932,D7933/MAX($D$8:D7933)-1)))","v":""}]
[null,null,null,null,{"$f":"IF(A7934=\"\",\"\",IF(B7934=\"\",E7933,IF(D7934=\"\",E7933,D7934/MAX($D$8:D7934)-1)))","v":""}]
[null,null,null,null,{"$f":"IF(A7935=\"\",\"\",IF(B7935=\"\",E7934,IF(D7935=\"\",E7934,D7935/MAX($D$8:D7935)-1)))","v":""}]
[null,null,null,null,{"$f":"IF(A7936=\"\",\"\",IF(B7936=\"\",E7935,IF(D7936=\"\",E7935,D7936/MAX($D$8:D7936)-1)))","v":""}]
[null,null,null,null,{"$f":"IF(A7937=\"\",\"\",IF(B7937=\"\",E7936,IF(D7937=\"\",E7936,D7937/MAX($D$8:D7937)-1)))","v":""}]
[null,null,null,null,{"$f":"IF(A7938=\"\",\"\",IF(B7938=\"\",E7937,IF(D7938=\"\",E7937,D7938/MAX($D$8:D7938)-1)))","v":""}]
[null,null,null,null,{"$f":"IF(A7939=\"\",\"\",IF(B7939=\"\",E7938,IF(D7939=\"\",E7938,D7939/MAX($D$8:D7939)-1)))","v":""}]
[null,null,null,null,{"$f":"IF(A7940=\"\",\"\",IF(B7940=\"\",E7939,IF(D7940=\"\",E7939,D7940/MAX($D$8:D7940)-1)))","v":""}]
[null,null,null,null,{"$f":"IF(A7941=\"\",\"\",IF(B7941=\"\",E7940,IF(D7941=\"\",E7940,D7941/MAX($D$8:D7941)-1)))","v":""}]
[null,null,null,null,{"$f":"IF(A7942=\"\",\"\",IF(B7942=\"\",E7941,IF(D7942=\"\",E7941,D7942/MAX($D$8:D7942)-1)))","v":""}]
[null,null,null,null,{"$f":"IF(A7943=\"\",\"\",IF(B7943=\"\",E7942,IF(D7943=\"\",E7942,D7943/MAX($D$8:D7943)-1)))","v":""}]
[null,null,null,null,{"$f":"IF(A7944=\"\",\"\",IF(B7944=\"\",E7943,IF(D7944=\"\",E7943,D7944/MAX($D$8:D7944)-1)))","v":""}]
[null,null,null,null,{"$f":"IF(A7945=\"\",\"\",IF(B7945=\"\",E7944,IF(D7945=\"\",E7944,D7945/MAX($D$8:D7945)-1)))","v":""}]
[null,null,null,null,{"$f":"IF(A7946=\"\",\"\",IF(B7946=\"\",E7945,IF(D7946=\"\",E7945,D7946/MAX($D$8:D7946)-1)))","v":""}]
[null,null,null,null,{"$f":"IF(A7947=\"\",\"\",IF(B7947=\"\",E7946,IF(D7947=\"\",E7946,D7947/MAX($D$8:D7947)-1)))","v":""}]
[null,null,null,null,{"$f":"IF(A7948=\"\",\"\",IF(B7948=\"\",E7947,IF(D7948=\"\",E7947,D7948/MAX($D$8:D7948)-1)))","v":""}]
[null,null,null,null,{"$f":"IF(A7949=\"\",\"\",IF(B7949=\"\",E7948,IF(D7949=\"\",E7948,D7949/MAX($D$8:D7949)-1)))","v":""}]
[null,null,null,null,{"$f":"IF(A7950=\"\",\"\",IF(B7950=\"\",E7949,IF(D7950=\"\",E7949,D7950/MAX($D$8:D7950)-1)))","v":""}]
[null,null,null,null,{"$f":"IF(A7951=\"\",\"\",IF(B7951=\"\",E7950,IF(D7951=\"\",E7950,D7951/MAX($D$8:D7951)-1)))","v":""}]
[null,null,null,null,{"$f":"IF(A7952=\"\",\"\",IF(B7952=\"\",E7951,IF(D7952=\"\",E7951,D7952/MAX($D$8:D7952)-1)))","v":""}]
[null,null,null,null,{"$f":"IF(A7953=\"\",\"\",IF(B7953=\"\",E7952,IF(D7953=\"\",E7952,D7953/MAX($D$8:D7953)-1)))","v":""}]
[null,null,null,null,{"$f":"IF(A7954=\"\",\"\",IF(B7954=\"\",E7953,IF(D7954=\"\",E7953,D7954/MAX($D$8:D7954)-1)))","v":""}]
[null,null,null,null,{"$f":"IF(A7955=\"\",\"\",IF(B7955=\"\",E7954,IF(D7955=\"\",E7954,D7955/MAX($D$8:D7955)-1)))","v":""}]
[null,null,null,null,{"$f":"IF(A7956=\"\",\"\",IF(B7956=\"\",E7955,IF(D7956=\"\",E7955,D7956/MAX($D$8:D7956)-1)))","v":""}]
[null,null,null,null,{"$f":"IF(A7957=\"\",\"\",IF(B7957=\"\",E7956,IF(D7957=\"\",E7956,D7957/MAX($D$8:D7957)-1)))","v":""}]
[null,null,null,null,{"$f":"IF(A7958=\"\",\"\",IF(B7958=\"\",E7957,IF(D7958=\"\",E7957,D7958/MAX($D$8:D7958)-1)))","v":""}]
[null,null,null,null,{"$f":"IF(A7959=\"\",\"\",IF(B7959=\"\",E7958,IF(D7959=\"\",E7958,D7959/MAX($D$8:D7959)-1)))","v":""}]
[null,null,null,null,{"$f":"IF(A7960=\"\",\"\",IF(B7960=\"\",E7959,IF(D7960=\"\",E7959,D7960/MAX($D$8:D7960)-1)))","v":""}]
[null,null,null,null,{"$f":"IF(A7961=\"\",\"\",IF(B7961=\"\",E7960,IF(D7961=\"\",E7960,D7961/MAX($D$8:D7961)-1)))","v":""}]
[null,null,null,null,{"$f":"IF(A7962=\"\",\"\",IF(B7962=\"\",E7961,IF(D7962=\"\",E7961,D7962/MAX($D$8:D7962)-1)))","v":""}]
[null,null,null,null,{"$f":"IF(A7963=\"\",\"\",IF(B7963=\"\",E7962,IF(D7963=\"\",E7962,D7963/MAX($D$8:D7963)-1)))","v":""}]
[null,null,null,null,{"$f":"IF(A7964=\"\",\"\",IF(B7964=\"\",E7963,IF(D7964=\"\",E7963,D7964/MAX($D$8:D7964)-1)))","v":""}]
[null,null,null,null,{"$f":"IF(A7965=\"\",\"\",IF(B7965=\"\",E7964,IF(D7965=\"\",E7964,D7965/MAX($D$8:D7965)-1)))","v":""}]
[null,null,null,null,{"$f":"IF(A7966=\"\",\"\",IF(B7966=\"\",E7965,IF(D7966=\"\",E7965,D7966/MAX($D$8:D7966)-1)))","v":""}]
[null,null,null,null,{"$f":"IF(A7967=\"\",\"\",IF(B7967=\"\",E7966,IF(D7967=\"\",E7966,D7967/MAX($D$8:D7967)-1)))","v":""}]
[null,null,null,null,{"$f":"IF(A7968=\"\",\"\",IF(B7968=\"\",E7967,IF(D7968=\"\",E7967,D7968/MAX($D$8:D7968)-1)))","v":""}]
[null,null,null,null,{"$f":"IF(A7969=\"\",\"\",IF(B7969=\"\",E7968,IF(D7969=\"\",E7968,D7969/MAX($D$8:D7969)-1)))","v":""}]
[null,null,null,null,{"$f":"IF(A7970=\"\",\"\",IF(B7970=\"\",E7969,IF(D7970=\"\",E7969,D7970/MAX($D$8:D7970)-1)))","v":""}]
[null,null,null,null,{"$f":"IF(A7971=\"\",\"\",IF(B7971=\"\",E7970,IF(D7971=\"\",E7970,D7971/MAX($D$8:D7971)-1)))","v":""}]
[null,null,null,null,{"$f":"IF(A7972=\"\",\"\",IF(B7972=\"\",E7971,IF(D7972=\"\",E7971,D7972/MAX($D$8:D7972)-1)))","v":""}]
[null,null,null,null,{"$f":"IF(A7973=\"\",\"\",IF(B7973=\"\",E7972,IF(D7973=\"\",E7972,D7973/MAX($D$8:D7973)-1)))","v":""}]
[null,null,null,null,{"$f":"IF(A7974=\"\",\"\",IF(B7974=\"\",E7973,IF(D7974=\"\",E7973,D7974/MAX($D$8:D7974)-1)))","v":""}]
[null,null,null,null,{"$f":"IF(A7975=\"\",\"\",IF(B7975=\"\",E7974,IF(D7975=\"\",E7974,D7975/MAX($D$8:D7975)-1)))","v":""}]
[null,null,null,null,{"$f":"IF(A7976=\"\",\"\",IF(B7976=\"\",E7975,IF(D7976=\"\",E7975,D7976/MAX($D$8:D7976)-1)))","v":""}]
[null,null,null,null,{"$f":"IF(A7977=\"\",\"\",IF(B7977=\"\",E7976,IF(D7977=\"\",E7976,D7977/MAX($D$8:D7977)-1)))","v":""}]
[null,null,null,null,{"$f":"IF(A7978=\"\",\"\",IF(B7978=\"\",E7977,IF(D7978=\"\",E7977,D7978/MAX($D$8:D7978)-1)))","v":""}]
[null,null,null,null,{"$f":"IF(A7979=\"\",\"\",IF(B7979=\"\",E7978,IF(D7979=\"\",E7978,D7979/MAX($D$8:D7979)-1)))","v":""}]
[null,null,null,null,{"$f":"IF(A7980=\"\",\"\",IF(B7980=\"\",E7979,IF(D7980=\"\",E7979,D7980/MAX($D$8:D7980)-1)))","v":""}]
[null,null,null,null,{"$f":"IF(A7981=\"\",\"\",IF(B7981=\"\",E7980,IF(D7981=\"\",E7980,D7981/MAX($D$8:D7981)-1)))","v":""}]
[null,null,null,null,{"$f":"IF(A7982=\"\",\"\",IF(B7982=\"\",E7981,IF(D7982=\"\",E7981,D7982/MAX($D$8:D7982)-1)))","v":""}]
[null,null,null,null,{"$f":"IF(A7983=\"\",\"\",IF(B7983=\"\",E7982,IF(D7983=\"\",E7982,D7983/MAX($D$8:D7983)-1)))","v":""}]
[null,null,null,null,{"$f":"IF(A7984=\"\",\"\",IF(B7984=\"\",E7983,IF(D7984=\"\",E7983,D7984/MAX($D$8:D7984)-1)))","v":""}]
[null,null,null,null,{"$f":"IF(A7985=\"\",\"\",IF(B7985=\"\",E7984,IF(D7985=\"\",E7984,D7985/MAX($D$8:D7985)-1)))","v":""}]
[null,null,null,null,{"$f":"IF(A7986=\"\",\"\",IF(B7986=\"\",E7985,IF(D7986=\"\",E7985,D7986/MAX($D$8:D7986)-1)))","v":""}]
[null,null,null,null,{"$f":"IF(A7987=\"\",\"\",IF(B7987=\"\",E7986,IF(D7987=\"\",E7986,D7987/MAX($D$8:D7987)-1)))","v":""}]
[null,null,null,null,{"$f":"IF(A7988=\"\",\"\",IF(B7988=\"\",E7987,IF(D7988=\"\",E7987,D7988/MAX($D$8:D7988)-1)))","v":""}]
[null,null,null,null,{"$f":"IF(A7989=\"\",\"\",IF(B7989=\"\",E7988,IF(D7989=\"\",E7988,D7989/MAX($D$8:D7989)-1)))","v":""}]
[null,null,null,null,{"$f":"IF(A7990=\"\",\"\",IF(B7990=\"\",E7989,IF(D7990=\"\",E7989,D7990/MAX($D$8:D7990)-1)))","v":""}]
[null,null,null,null,{"$f":"IF(A7991=\"\",\"\",IF(B7991=\"\",E7990,IF(D7991=\"\",E7990,D7991/MAX($D$8:D7991)-1)))","v":""}]
[null,null,null,null,{"$f":"IF(A7992=\"\",\"\",IF(B7992=\"\",E7991,IF(D7992=\"\",E7991,D7992/MAX($D$8:D7992)-1)))","v":""}]
[null,null,null,null,{"$f":"IF(A7993=\"\",\"\",IF(B7993=\"\",E7992,IF(D7993=\"\",E7992,D7993/MAX($D$8:D7993)-1)))","v":""}]
[null,null,null,null,{"$f":"IF(A7994=\"\",\"\",IF(B7994=\"\",E7993,IF(D7994=\"\",E7993,D7994/MAX($D$8:D7994)-1)))","v":""}]
[null,null,null,null,{"$f":"IF(A7995=\"\",\"\",IF(B7995=\"\",E7994,IF(D7995=\"\",E7994,D7995/MAX($D$8:D7995)-1)))","v":""}]
[null,null,null,null,{"$f":"IF(A7996=\"\",\"\",IF(B7996=\"\",E7995,IF(D7996=\"\",E7995,D7996/MAX($D$8:D7996)-1)))","v":""}]
[null,null,null,null,{"$f":"IF(A7997=\"\",\"\",IF(B7997=\"\",E7996,IF(D7997=\"\",E7996,D7997/MAX($D$8:D7997)-1)))","v":""}]
[null,null,null,null,{"$f":"IF(A7998=\"\",\"\",IF(B7998=\"\",E7997,IF(D7998=\"\",E7997,D7998/MAX($D$8:D7998)-1)))","v":""}]
[null,null,null,null,{"$f":"IF(A7999=\"\",\"\",IF(B7999=\"\",E7998,IF(D7999=\"\",E7998,D7999/MAX($D$8:D7999)-1)))","v":""}]
[null,null,null,null,{"$f":"IF(A8000=\"\",\"\",IF(B8000=\"\",E7999,IF(D8000=\"\",E7999,D8000/MAX($D$8:D8000)-1)))","v":""}]
[null,null,null,null,{"$f":"IF(A8001=\"\",\"\",IF(B8001=\"\",E8000,IF(D8001=\"\",E8000,D8001/MAX($D$8:D8001)-1)))","v":""}]
[null,null,null,null,{"$f":"IF(A8002=\"\",\"\",IF(B8002=\"\",E8001,IF(D8002=\"\",E8001,D8002/MAX($D$8:D8002)-1)))","v":""}]
[null,null,null,null,{"$f":"IF(A8003=\"\",\"\",IF(B8003=\"\",E8002,IF(D8003=\"\",E8002,D8003/MAX($D$8:D8003)-1)))","v":""}]
[null,null,null,null,{"$f":"IF(A8004=\"\",\"\",IF(B8004=\"\",E8003,IF(D8004=\"\",E8003,D8004/MAX($D$8:D8004)-1)))","v":""}]
[null,null,null,null,{"$f":"IF(A8005=\"\",\"\",IF(B8005=\"\",E8004,IF(D8005=\"\",E8004,D8005/MAX($D$8:D8005)-1)))","v":""}]
[null,null,null,null,{"$f":"IF(A8006=\"\",\"\",IF(B8006=\"\",E8005,IF(D8006=\"\",E8005,D8006/MAX($D$8:D8006)-1)))","v":""}]
[null,null,null,null,{"$f":"IF(A8007=\"\",\"\",IF(B8007=\"\",E8006,IF(D8007=\"\",E8006,D8007/MAX($D$8:D8007)-1)))","v":""}]
[null,null,null,null,{"$f":"IF(A8008=\"\",\"\",IF(B8008=\"\",E8007,IF(D8008=\"\",E8007,D8008/MAX($D$8:D8008)-1)))","v":""}]
[null,null,null,null,{"$f":"IF(A8009=\"\",\"\",IF(B8009=\"\",E8008,IF(D8009=\"\",E8008,D8009/MAX($D$8:D8009)-1)))","v":""}]
[null,null,null,null,{"$f":"IF(A8010=\"\",\"\",IF(B8010=\"\",E8009,IF(D8010=\"\",E8009,D8010/MAX($D$8:D8010)-1)))","v":""}]
[null,null,null,null,{"$f":"IF(A8011=\"\",\"\",IF(B8011=\"\",E8010,IF(D8011=\"\",E8010,D8011/MAX($D$8:D8011)-1)))","v":""}]
[null,null,null,null,{"$f":"IF(A8012=\"\",\"\",IF(B8012=\"\",E8011,IF(D8012=\"\",E8011,D8012/MAX($D$8:D8012)-1)))","v":""}]
[null,null,null,null,{"$f":"IF(A8013=\"\",\"\",IF(B8013=\"\",E8012,IF(D8013=\"\",E8012,D8013/MAX($D$8:D8013)-1)))","v":""}]
[null,null,null,null,{"$f":"IF(A8014=\"\",\"\",IF(B8014=\"\",E8013,IF(D8014=\"\",E8013,D8014/MAX($D$8:D8014)-1)))","v":""}]
[null,null,null,null,{"$f":"IF(A8015=\"\",\"\",IF(B8015=\"\",E8014,IF(D8015=\"\",E8014,D8015/MAX($D$8:D8015)-1)))","v":""}]
[null,null,null,null,{"$f":"IF(A8016=\"\",\"\",IF(B8016=\"\",E8015,IF(D8016=\"\",E8015,D8016/MAX($D$8:D8016)-1)))","v":""}]
[null,null,null,null,{"$f":"IF(A8017=\"\",\"\",IF(B8017=\"\",E8016,IF(D8017=\"\",E8016,D8017/MAX($D$8:D8017)-1)))","v":""}]
[null,null,null,null,{"$f":"IF(A8018=\"\",\"\",IF(B8018=\"\",E8017,IF(D8018=\"\",E8017,D8018/MAX($D$8:D8018)-1)))","v":""}]
[null,null,null,null,{"$f":"IF(A8019=\"\",\"\",IF(B8019=\"\",E8018,IF(D8019=\"\",E8018,D8019/MAX($D$8:D8019)-1)))","v":""}]
[null,null,null,null,{"$f":"IF(A8020=\"\",\"\",IF(B8020=\"\",E8019,IF(D8020=\"\",E8019,D8020/MAX($D$8:D8020)-1)))","v":""}]
[null,null,null,null,{"$f":"IF(A8021=\"\",\"\",IF(B8021=\"\",E8020,IF(D8021=\"\",E8020,D8021/MAX($D$8:D8021)-1)))","v":""}]
[null,null,null,null,{"$f":"IF(A8022=\"\",\"\",IF(B8022=\"\",E8021,IF(D8022=\"\",E8021,D8022/MAX($D$8:D8022)-1)))","v":""}]
[null,null,null,null,{"$f":"IF(A8023=\"\",\"\",IF(B8023=\"\",E8022,IF(D8023=\"\",E8022,D8023/MAX($D$8:D8023)-1)))","v":""}]
[null,null,null,null,{"$f":"IF(A8024=\"\",\"\",IF(B8024=\"\",E8023,IF(D8024=\"\",E8023,D8024/MAX($D$8:D8024)-1)))","v":""}]
[null,null,null,null,{"$f":"IF(A8025=\"\",\"\",IF(B8025=\"\",E8024,IF(D8025=\"\",E8024,D8025/MAX($D$8:D8025)-1)))","v":""}]
[null,null,null,null,{"$f":"IF(A8026=\"\",\"\",IF(B8026=\"\",E8025,IF(D8026=\"\",E8025,D8026/MAX($D$8:D8026)-1)))","v":""}]
[null,null,null,null,{"$f":"IF(A8027=\"\",\"\",IF(B8027=\"\",E8026,IF(D8027=\"\",E8026,D8027/MAX($D$8:D8027)-1)))","v":""}]
[null,null,null,null,{"$f":"IF(A8028=\"\",\"\",IF(B8028=\"\",E8027,IF(D8028=\"\",E8027,D8028/MAX($D$8:D8028)-1)))","v":""}]
[null,null,null,null,{"$f":"IF(A8029=\"\",\"\",IF(B8029=\"\",E8028,IF(D8029=\"\",E8028,D8029/MAX($D$8:D8029)-1)))","v":""}]
[null,null,null,null,{"$f":"IF(A8030=\"\",\"\",IF(B8030=\"\",E8029,IF(D8030=\"\",E8029,D8030/MAX($D$8:D8030)-1)))","v":""}]
[null,null,null,null,{"$f":"IF(A8031=\"\",\"\",IF(B8031=\"\",E8030,IF(D8031=\"\",E8030,D8031/MAX($D$8:D8031)-1)))","v":""}]
[null,null,null,null,{"$f":"IF(A8032=\"\",\"\",IF(B8032=\"\",E8031,IF(D8032=\"\",E8031,D8032/MAX($D$8:D8032)-1)))","v":""}]
[null,null,null,null,{"$f":"IF(A8033=\"\",\"\",IF(B8033=\"\",E8032,IF(D8033=\"\",E8032,D8033/MAX($D$8:D8033)-1)))","v":""}]
[null,null,null,null,{"$f":"IF(A8034=\"\",\"\",IF(B8034=\"\",E8033,IF(D8034=\"\",E8033,D8034/MAX($D$8:D8034)-1)))","v":""}]
[null,null,null,null,{"$f":"IF(A8035=\"\",\"\",IF(B8035=\"\",E8034,IF(D8035=\"\",E8034,D8035/MAX($D$8:D8035)-1)))","v":""}]
[null,null,null,null,{"$f":"IF(A8036=\"\",\"\",IF(B8036=\"\",E8035,IF(D8036=\"\",E8035,D8036/MAX($D$8:D8036)-1)))","v":""}]
[null,null,null,null,{"$f":"IF(A8037=\"\",\"\",IF(B8037=\"\",E8036,IF(D8037=\"\",E8036,D8037/MAX($D$8:D8037)-1)))","v":""}]
[null,null,null,null,{"$f":"IF(A8038=\"\",\"\",IF(B8038=\"\",E8037,IF(D8038=\"\",E8037,D8038/MAX($D$8:D8038)-1)))","v":""}]
[null,null,null,null,{"$f":"IF(A8039=\"\",\"\",IF(B8039=\"\",E8038,IF(D8039=\"\",E8038,D8039/MAX($D$8:D8039)-1)))","v":""}]
[null,null,null,null,{"$f":"IF(A8040=\"\",\"\",IF(B8040=\"\",E8039,IF(D8040=\"\",E8039,D8040/MAX($D$8:D8040)-1)))","v":""}]
[null,null,null,null,{"$f":"IF(A8041=\"\",\"\",IF(B8041=\"\",E8040,IF(D8041=\"\",E8040,D8041/MAX($D$8:D8041)-1)))","v":""}]
[null,null,null,null,{"$f":"IF(A8042=\"\",\"\",IF(B8042=\"\",E8041,IF(D8042=\"\",E8041,D8042/MAX($D$8:D8042)-1)))","v":""}]
[null,null,null,null,{"$f":"IF(A8043=\"\",\"\",IF(B8043=\"\",E8042,IF(D8043=\"\",E8042,D8043/MAX($D$8:D8043)-1)))","v":""}]
[null,null,null,null,{"$f":"IF(A8044=\"\",\"\",IF(B8044=\"\",E8043,IF(D8044=\"\",E8043,D8044/MAX($D$8:D8044)-1)))","v":""}]
[null,null,null,null,{"$f":"IF(A8045=\"\",\"\",IF(B8045=\"\",E8044,IF(D8045=\"\",E8044,D8045/MAX($D$8:D8045)-1)))","v":""}]
[null,null,null,null,{"$f":"IF(A8046=\"\",\"\",IF(B8046=\"\",E8045,IF(D8046=\"\",E8045,D8046/MAX($D$8:D8046)-1)))","v":""}]
[null,null,null,null,{"$f":"IF(A8047=\"\",\"\",IF(B8047=\"\",E8046,IF(D8047=\"\",E8046,D8047/MAX($D$8:D8047)-1)))","v":""}]
[null,null,null,null,{"$f":"IF(A8048=\"\",\"\",IF(B8048=\"\",E8047,IF(D8048=\"\",E8047,D8048/MAX($D$8:D8048)-1)))","v":""}]
[null,null,null,null,{"$f":"IF(A8049=\"\",\"\",IF(B8049=\"\",E8048,IF(D8049=\"\",E8048,D8049/MAX($D$8:D8049)-1)))","v":""}]
[null,null,null,null,{"$f":"IF(A8050=\"\",\"\",IF(B8050=\"\",E8049,IF(D8050=\"\",E8049,D8050/MAX($D$8:D8050)-1)))","v":""}]
[null,null,null,null,{"$f":"IF(A8051=\"\",\"\",IF(B8051=\"\",E8050,IF(D8051=\"\",E8050,D8051/MAX($D$8:D8051)-1)))","v":""}]
[null,null,null,null,{"$f":"IF(A8052=\"\",\"\",IF(B8052=\"\",E8051,IF(D8052=\"\",E8051,D8052/MAX($D$8:D8052)-1)))","v":""}]
[null,null,null,null,{"$f":"IF(A8053=\"\",\"\",IF(B8053=\"\",E8052,IF(D8053=\"\",E8052,D8053/MAX($D$8:D8053)-1)))","v":""}]
[null,null,null,null,{"$f":"IF(A8054=\"\",\"\",IF(B8054=\"\",E8053,IF(D8054=\"\",E8053,D8054/MAX($D$8:D8054)-1)))","v":""}]
[null,null,null,null,{"$f":"IF(A8055=\"\",\"\",IF(B8055=\"\",E8054,IF(D8055=\"\",E8054,D8055/MAX($D$8:D8055)-1)))","v":""}]
[null,null,null,null,{"$f":"IF(A8056=\"\",\"\",IF(B8056=\"\",E8055,IF(D8056=\"\",E8055,D8056/MAX($D$8:D8056)-1)))","v":""}]
[null,null,null,null,{"$f":"IF(A8057=\"\",\"\",IF(B8057=\"\",E8056,IF(D8057=\"\",E8056,D8057/MAX($D$8:D8057)-1)))","v":""}]
[null,null,null,null,{"$f":"IF(A8058=\"\",\"\",IF(B8058=\"\",E8057,IF(D8058=\"\",E8057,D8058/MAX($D$8:D8058)-1)))","v":""}]
[null,null,null,null,{"$f":"IF(A8059=\"\",\"\",IF(B8059=\"\",E8058,IF(D8059=\"\",E8058,D8059/MAX($D$8:D8059)-1)))","v":""}]
[null,null,null,null,{"$f":"IF(A8060=\"\",\"\",IF(B8060=\"\",E8059,IF(D8060=\"\",E8059,D8060/MAX($D$8:D8060)-1)))","v":""}]
[null,null,null,null,{"$f":"IF(A8061=\"\",\"\",IF(B8061=\"\",E8060,IF(D8061=\"\",E8060,D8061/MAX($D$8:D8061)-1)))","v":""}]
[null,null,null,null,{"$f":"IF(A8062=\"\",\"\",IF(B8062=\"\",E8061,IF(D8062=\"\",E8061,D8062/MAX($D$8:D8062)-1)))","v":""}]
[null,null,null,null,{"$f":"IF(A8063=\"\",\"\",IF(B8063=\"\",E8062,IF(D8063=\"\",E8062,D8063/MAX($D$8:D8063)-1)))","v":""}]
[null,null,null,null,{"$f":"IF(A8064=\"\",\"\",IF(B8064=\"\",E8063,IF(D8064=\"\",E8063,D8064/MAX($D$8:D8064)-1)))","v":""}]
[null,null,null,null,{"$f":"IF(A8065=\"\",\"\",IF(B8065=\"\",E8064,IF(D8065=\"\",E8064,D8065/MAX($D$8:D8065)-1)))","v":""}]
[null,null,null,null,{"$f":"IF(A8066=\"\",\"\",IF(B8066=\"\",E8065,IF(D8066=\"\",E8065,D8066/MAX($D$8:D8066)-1)))","v":""}]
[null,null,null,null,{"$f":"IF(A8067=\"\",\"\",IF(B8067=\"\",E8066,IF(D8067=\"\",E8066,D8067/MAX($D$8:D8067)-1)))","v":""}]
[null,null,null,null,{"$f":"IF(A8068=\"\",\"\",IF(B8068=\"\",E8067,IF(D8068=\"\",E8067,D8068/MAX($D$8:D8068)-1)))","v":""}]
[null,null,null,null,{"$f":"IF(A8069=\"\",\"\",IF(B8069=\"\",E8068,IF(D8069=\"\",E8068,D8069/MAX($D$8:D8069)-1)))","v":""}]
[null,null,null,null,{"$f":"IF(A8070=\"\",\"\",IF(B8070=\"\",E8069,IF(D8070=\"\",E8069,D8070/MAX($D$8:D8070)-1)))","v":""}]
[null,null,null,null,{"$f":"IF(A8071=\"\",\"\",IF(B8071=\"\",E8070,IF(D8071=\"\",E8070,D8071/MAX($D$8:D8071)-1)))","v":""}]
[null,null,null,null,{"$f":"IF(A8072=\"\",\"\",IF(B8072=\"\",E8071,IF(D8072=\"\",E8071,D8072/MAX($D$8:D8072)-1)))","v":""}]
[null,null,null,null,{"$f":"IF(A8073=\"\",\"\",IF(B8073=\"\",E8072,IF(D8073=\"\",E8072,D8073/MAX($D$8:D8073)-1)))","v":""}]
[null,null,null,null,{"$f":"IF(A8074=\"\",\"\",IF(B8074=\"\",E8073,IF(D8074=\"\",E8073,D8074/MAX($D$8:D8074)-1)))","v":""}]
[null,null,null,null,{"$f":"IF(A8075=\"\",\"\",IF(B8075=\"\",E8074,IF(D8075=\"\",E8074,D8075/MAX($D$8:D8075)-1)))","v":""}]
[null,null,null,null,{"$f":"IF(A8076=\"\",\"\",IF(B8076=\"\",E8075,IF(D8076=\"\",E8075,D8076/MAX($D$8:D8076)-1)))","v":""}]
[null,null,null,null,{"$f":"IF(A8077=\"\",\"\",IF(B8077=\"\",E8076,IF(D8077=\"\",E8076,D8077/MAX($D$8:D8077)-1)))","v":""}]
[null,null,null,null,{"$f":"IF(A8078=\"\",\"\",IF(B8078=\"\",E8077,IF(D8078=\"\",E8077,D8078/MAX($D$8:D8078)-1)))","v":""}]
[null,null,null,null,{"$f":"IF(A8079=\"\",\"\",IF(B8079=\"\",E8078,IF(D8079=\"\",E8078,D8079/MAX($D$8:D8079)-1)))","v":""}]
[null,null,null,null,{"$f":"IF(A8080=\"\",\"\",IF(B8080=\"\",E8079,IF(D8080=\"\",E8079,D8080/MAX($D$8:D8080)-1)))","v":""}]
[null,null,null,null,{"$f":"IF(A8081=\"\",\"\",IF(B8081=\"\",E8080,IF(D8081=\"\",E8080,D8081/MAX($D$8:D8081)-1)))","v":""}]
[null,null,null,null,{"$f":"IF(A8082=\"\",\"\",IF(B8082=\"\",E8081,IF(D8082=\"\",E8081,D8082/MAX($D$8:D8082)-1)))","v":""}]
[null,null,null,null,{"$f":"IF(A8083=\"\",\"\",IF(B8083=\"\",E8082,IF(D8083=\"\",E8082,D8083/MAX($D$8:D8083)-1)))","v":""}]
[null,null,null,null,{"$f":"IF(A8084=\"\",\"\",IF(B8084=\"\",E8083,IF(D8084=\"\",E8083,D8084/MAX($D$8:D8084)-1)))","v":""}]
[null,null,null,null,{"$f":"IF(A8085=\"\",\"\",IF(B8085=\"\",E8084,IF(D8085=\"\",E8084,D8085/MAX($D$8:D8085)-1)))","v":""}]
[null,null,null,null,{"$f":"IF(A8086=\"\",\"\",IF(B8086=\"\",E8085,IF(D8086=\"\",E8085,D8086/MAX($D$8:D8086)-1)))","v":""}]
[null,null,null,null,{"$f":"IF(A8087=\"\",\"\",IF(B8087=\"\",E8086,IF(D8087=\"\",E8086,D8087/MAX($D$8:D8087)-1)))","v":""}]
[null,null,null,null,{"$f":"IF(A8088=\"\",\"\",IF(B8088=\"\",E8087,IF(D8088=\"\",E8087,D8088/MAX($D$8:D8088)-1)))","v":""}]
[null,null,null,null,{"$f":"IF(A8089=\"\",\"\",IF(B8089=\"\",E8088,IF(D8089=\"\",E8088,D8089/MAX($D$8:D8089)-1)))","v":""}]
[null,null,null,null,{"$f":"IF(A8090=\"\",\"\",IF(B8090=\"\",E8089,IF(D8090=\"\",E8089,D8090/MAX($D$8:D8090)-1)))","v":""}]
[null,null,null,null,{"$f":"IF(A8091=\"\",\"\",IF(B8091=\"\",E8090,IF(D8091=\"\",E8090,D8091/MAX($D$8:D8091)-1)))","v":""}]
[null,null,null,null,{"$f":"IF(A8092=\"\",\"\",IF(B8092=\"\",E8091,IF(D8092=\"\",E8091,D8092/MAX($D$8:D8092)-1)))","v":""}]
[null,null,null,null,{"$f":"IF(A8093=\"\",\"\",IF(B8093=\"\",E8092,IF(D8093=\"\",E8092,D8093/MAX($D$8:D8093)-1)))","v":""}]
[null,null,null,null,{"$f":"IF(A8094=\"\",\"\",IF(B8094=\"\",E8093,IF(D8094=\"\",E8093,D8094/MAX($D$8:D8094)-1)))","v":""}]
[null,null,null,null,{"$f":"IF(A8095=\"\",\"\",IF(B8095=\"\",E8094,IF(D8095=\"\",E8094,D8095/MAX($D$8:D8095)-1)))","v":""}]
[null,null,null,null,{"$f":"IF(A8096=\"\",\"\",IF(B8096=\"\",E8095,IF(D8096=\"\",E8095,D8096/MAX($D$8:D8096)-1)))","v":""}]
[null,null,null,null,{"$f":"IF(A8097=\"\",\"\",IF(B8097=\"\",E8096,IF(D8097=\"\",E8096,D8097/MAX($D$8:D8097)-1)))","v":""}]
[null,null,null,null,{"$f":"IF(A8098=\"\",\"\",IF(B8098=\"\",E8097,IF(D8098=\"\",E8097,D8098/MAX($D$8:D8098)-1)))","v":""}]
[null,null,null,null,{"$f":"IF(A8099=\"\",\"\",IF(B8099=\"\",E8098,IF(D8099=\"\",E8098,D8099/MAX($D$8:D8099)-1)))","v":""}]
[null,null,null,null,{"$f":"IF(A8100=\"\",\"\",IF(B8100=\"\",E8099,IF(D8100=\"\",E8099,D8100/MAX($D$8:D8100)-1)))","v":""}]
[null,null,null,null,{"$f":"IF(A8101=\"\",\"\",IF(B8101=\"\",E8100,IF(D8101=\"\",E8100,D8101/MAX($D$8:D8101)-1)))","v":""}]
[null,null,null,null,{"$f":"IF(A8102=\"\",\"\",IF(B8102=\"\",E8101,IF(D8102=\"\",E8101,D8102/MAX($D$8:D8102)-1)))","v":""}]
[null,null,null,null,{"$f":"IF(A8103=\"\",\"\",IF(B8103=\"\",E8102,IF(D8103=\"\",E8102,D8103/MAX($D$8:D8103)-1)))","v":""}]
[null,null,null,null,{"$f":"IF(A8104=\"\",\"\",IF(B8104=\"\",E8103,IF(D8104=\"\",E8103,D8104/MAX($D$8:D8104)-1)))","v":""}]
[null,null,null,null,{"$f":"IF(A8105=\"\",\"\",IF(B8105=\"\",E8104,IF(D8105=\"\",E8104,D8105/MAX($D$8:D8105)-1)))","v":""}]
[null,null,null,null,{"$f":"IF(A8106=\"\",\"\",IF(B8106=\"\",E8105,IF(D8106=\"\",E8105,D8106/MAX($D$8:D8106)-1)))","v":""}]
[null,null,null,null,{"$f":"IF(A8107=\"\",\"\",IF(B8107=\"\",E8106,IF(D8107=\"\",E8106,D8107/MAX($D$8:D8107)-1)))","v":""}]
[null,null,null,null,{"$f":"IF(A8108=\"\",\"\",IF(B8108=\"\",E8107,IF(D8108=\"\",E8107,D8108/MAX($D$8:D8108)-1)))","v":""}]
[null,null,null,null,{"$f":"IF(A8109=\"\",\"\",IF(B8109=\"\",E8108,IF(D8109=\"\",E8108,D8109/MAX($D$8:D8109)-1)))","v":""}]
[null,null,null,null,{"$f":"IF(A8110=\"\",\"\",IF(B8110=\"\",E8109,IF(D8110=\"\",E8109,D8110/MAX($D$8:D8110)-1)))","v":""}]
[null,null,null,null,{"$f":"IF(A8111=\"\",\"\",IF(B8111=\"\",E8110,IF(D8111=\"\",E8110,D8111/MAX($D$8:D8111)-1)))","v":""}]
[null,null,null,null,{"$f":"IF(A8112=\"\",\"\",IF(B8112=\"\",E8111,IF(D8112=\"\",E8111,D8112/MAX($D$8:D8112)-1)))","v":""}]
[null,null,null,null,{"$f":"IF(A8113=\"\",\"\",IF(B8113=\"\",E8112,IF(D8113=\"\",E8112,D8113/MAX($D$8:D8113)-1)))","v":""}]
[null,null,null,null,{"$f":"IF(A8114=\"\",\"\",IF(B8114=\"\",E8113,IF(D8114=\"\",E8113,D8114/MAX($D$8:D8114)-1)))","v":""}]
[null,null,null,null,{"$f":"IF(A8115=\"\",\"\",IF(B8115=\"\",E8114,IF(D8115=\"\",E8114,D8115/MAX($D$8:D8115)-1)))","v":""}]
[null,null,null,null,{"$f":"IF(A8116=\"\",\"\",IF(B8116=\"\",E8115,IF(D8116=\"\",E8115,D8116/MAX($D$8:D8116)-1)))","v":""}]
[null,null,null,null,{"$f":"IF(A8117=\"\",\"\",IF(B8117=\"\",E8116,IF(D8117=\"\",E8116,D8117/MAX($D$8:D8117)-1)))","v":""}]
[null,null,null,null,{"$f":"IF(A8118=\"\",\"\",IF(B8118=\"\",E8117,IF(D8118=\"\",E8117,D8118/MAX($D$8:D8118)-1)))","v":""}]
[null,null,null,null,{"$f":"IF(A8119=\"\",\"\",IF(B8119=\"\",E8118,IF(D8119=\"\",E8118,D8119/MAX($D$8:D8119)-1)))","v":""}]
[null,null,null,null,{"$f":"IF(A8120=\"\",\"\",IF(B8120=\"\",E8119,IF(D8120=\"\",E8119,D8120/MAX($D$8:D8120)-1)))","v":""}]
[null,null,null,null,{"$f":"IF(A8121=\"\",\"\",IF(B8121=\"\",E8120,IF(D8121=\"\",E8120,D8121/MAX($D$8:D8121)-1)))","v":""}]
[null,null,null,null,{"$f":"IF(A8122=\"\",\"\",IF(B8122=\"\",E8121,IF(D8122=\"\",E8121,D8122/MAX($D$8:D8122)-1)))","v":""}]
[null,null,null,null,{"$f":"IF(A8123=\"\",\"\",IF(B8123=\"\",E8122,IF(D8123=\"\",E8122,D8123/MAX($D$8:D8123)-1)))","v":""}]
[null,null,null,null,{"$f":"IF(A8124=\"\",\"\",IF(B8124=\"\",E8123,IF(D8124=\"\",E8123,D8124/MAX($D$8:D8124)-1)))","v":""}]
[null,null,null,null,{"$f":"IF(A8125=\"\",\"\",IF(B8125=\"\",E8124,IF(D8125=\"\",E8124,D8125/MAX($D$8:D8125)-1)))","v":""}]
[null,null,null,null,{"$f":"IF(A8126=\"\",\"\",IF(B8126=\"\",E8125,IF(D8126=\"\",E8125,D8126/MAX($D$8:D8126)-1)))","v":""}]
[null,null,null,null,{"$f":"IF(A8127=\"\",\"\",IF(B8127=\"\",E8126,IF(D8127=\"\",E8126,D8127/MAX($D$8:D8127)-1)))","v":""}]
[null,null,null,null,{"$f":"IF(A8128=\"\",\"\",IF(B8128=\"\",E8127,IF(D8128=\"\",E8127,D8128/MAX($D$8:D8128)-1)))","v":""}]
[null,null,null,null,{"$f":"IF(A8129=\"\",\"\",IF(B8129=\"\",E8128,IF(D8129=\"\",E8128,D8129/MAX($D$8:D8129)-1)))","v":""}]
[null,null,null,null,{"$f":"IF(A8130=\"\",\"\",IF(B8130=\"\",E8129,IF(D8130=\"\",E8129,D8130/MAX($D$8:D8130)-1)))","v":""}]
[null,null,null,null,{"$f":"IF(A8131=\"\",\"\",IF(B8131=\"\",E8130,IF(D8131=\"\",E8130,D8131/MAX($D$8:D8131)-1)))","v":""}]
[null,null,null,null,{"$f":"IF(A8132=\"\",\"\",IF(B8132=\"\",E8131,IF(D8132=\"\",E8131,D8132/MAX($D$8:D8132)-1)))","v":""}]
[null,null,null,null,{"$f":"IF(A8133=\"\",\"\",IF(B8133=\"\",E8132,IF(D8133=\"\",E8132,D8133/MAX($D$8:D8133)-1)))","v":""}]
[null,null,null,null,{"$f":"IF(A8134=\"\",\"\",IF(B8134=\"\",E8133,IF(D8134=\"\",E8133,D8134/MAX($D$8:D8134)-1)))","v":""}]
[null,null,null,null,{"$f":"IF(A8135=\"\",\"\",IF(B8135=\"\",E8134,IF(D8135=\"\",E8134,D8135/MAX($D$8:D8135)-1)))","v":""}]
[null,null,null,null,{"$f":"IF(A8136=\"\",\"\",IF(B8136=\"\",E8135,IF(D8136=\"\",E8135,D8136/MAX($D$8:D8136)-1)))","v":""}]
[null,null,null,null,{"$f":"IF(A8137=\"\",\"\",IF(B8137=\"\",E8136,IF(D8137=\"\",E8136,D8137/MAX($D$8:D8137)-1)))","v":""}]
[null,null,null,null,{"$f":"IF(A8138=\"\",\"\",IF(B8138=\"\",E8137,IF(D8138=\"\",E8137,D8138/MAX($D$8:D8138)-1)))","v":""}]
[null,null,null,null,{"$f":"IF(A8139=\"\",\"\",IF(B8139=\"\",E8138,IF(D8139=\"\",E8138,D8139/MAX($D$8:D8139)-1)))","v":""}]
[null,null,null,null,{"$f":"IF(A8140=\"\",\"\",IF(B8140=\"\",E8139,IF(D8140=\"\",E8139,D8140/MAX($D$8:D8140)-1)))","v":""}]
[null,null,null,null,{"$f":"IF(A8141=\"\",\"\",IF(B8141=\"\",E8140,IF(D8141=\"\",E8140,D8141/MAX($D$8:D8141)-1)))","v":""}]
[null,null,null,null,{"$f":"IF(A8142=\"\",\"\",IF(B8142=\"\",E8141,IF(D8142=\"\",E8141,D8142/MAX($D$8:D8142)-1)))","v":""}]
[null,null,null,null,{"$f":"IF(A8143=\"\",\"\",IF(B8143=\"\",E8142,IF(D8143=\"\",E8142,D8143/MAX($D$8:D8143)-1)))","v":""}]
[null,null,null,null,{"$f":"IF(A8144=\"\",\"\",IF(B8144=\"\",E8143,IF(D8144=\"\",E8143,D8144/MAX($D$8:D8144)-1)))","v":""}]
[null,null,null,null,{"$f":"IF(A8145=\"\",\"\",IF(B8145=\"\",E8144,IF(D8145=\"\",E8144,D8145/MAX($D$8:D8145)-1)))","v":""}]
[null,null,null,null,{"$f":"IF(A8146=\"\",\"\",IF(B8146=\"\",E8145,IF(D8146=\"\",E8145,D8146/MAX($D$8:D8146)-1)))","v":""}]
[null,null,null,null,{"$f":"IF(A8147=\"\",\"\",IF(B8147=\"\",E8146,IF(D8147=\"\",E8146,D8147/MAX($D$8:D8147)-1)))","v":""}]
[null,null,null,null,{"$f":"IF(A8148=\"\",\"\",IF(B8148=\"\",E8147,IF(D8148=\"\",E8147,D8148/MAX($D$8:D8148)-1)))","v":""}]
[null,null,null,null,{"$f":"IF(A8149=\"\",\"\",IF(B8149=\"\",E8148,IF(D8149=\"\",E8148,D8149/MAX($D$8:D8149)-1)))","v":""}]
[null,null,null,null,{"$f":"IF(A8150=\"\",\"\",IF(B8150=\"\",E8149,IF(D8150=\"\",E8149,D8150/MAX($D$8:D8150)-1)))","v":""}]
[null,null,null,null,{"$f":"IF(A8151=\"\",\"\",IF(B8151=\"\",E8150,IF(D8151=\"\",E8150,D8151/MAX($D$8:D8151)-1)))","v":""}]
[null,null,null,null,{"$f":"IF(A8152=\"\",\"\",IF(B8152=\"\",E8151,IF(D8152=\"\",E8151,D8152/MAX($D$8:D8152)-1)))","v":""}]
[null,null,null,null,{"$f":"IF(A8153=\"\",\"\",IF(B8153=\"\",E8152,IF(D8153=\"\",E8152,D8153/MAX($D$8:D8153)-1)))","v":""}]
[null,null,null,null,{"$f":"IF(A8154=\"\",\"\",IF(B8154=\"\",E8153,IF(D8154=\"\",E8153,D8154/MAX($D$8:D8154)-1)))","v":""}]
[null,null,null,null,{"$f":"IF(A8155=\"\",\"\",IF(B8155=\"\",E8154,IF(D8155=\"\",E8154,D8155/MAX($D$8:D8155)-1)))","v":""}]
[null,null,null,null,{"$f":"IF(A8156=\"\",\"\",IF(B8156=\"\",E8155,IF(D8156=\"\",E8155,D8156/MAX($D$8:D8156)-1)))","v":""}]
[null,null,null,null,{"$f":"IF(A8157=\"\",\"\",IF(B8157=\"\",E8156,IF(D8157=\"\",E8156,D8157/MAX($D$8:D8157)-1)))","v":""}]
[null,null,null,null,{"$f":"IF(A8158=\"\",\"\",IF(B8158=\"\",E8157,IF(D8158=\"\",E8157,D8158/MAX($D$8:D8158)-1)))","v":""}]
[null,null,null,null,{"$f":"IF(A8159=\"\",\"\",IF(B8159=\"\",E8158,IF(D8159=\"\",E8158,D8159/MAX($D$8:D8159)-1)))","v":""}]
[null,null,null,null,{"$f":"IF(A8160=\"\",\"\",IF(B8160=\"\",E8159,IF(D8160=\"\",E8159,D8160/MAX($D$8:D8160)-1)))","v":""}]
[null,null,null,null,{"$f":"IF(A8161=\"\",\"\",IF(B8161=\"\",E8160,IF(D8161=\"\",E8160,D8161/MAX($D$8:D8161)-1)))","v":""}]
[null,null,null,null,{"$f":"IF(A8162=\"\",\"\",IF(B8162=\"\",E8161,IF(D8162=\"\",E8161,D8162/MAX($D$8:D8162)-1)))","v":""}]
[null,null,null,null,{"$f":"IF(A8163=\"\",\"\",IF(B8163=\"\",E8162,IF(D8163=\"\",E8162,D8163/MAX($D$8:D8163)-1)))","v":""}]
[null,null,null,null,{"$f":"IF(A8164=\"\",\"\",IF(B8164=\"\",E8163,IF(D8164=\"\",E8163,D8164/MAX($D$8:D8164)-1)))","v":""}]
[null,null,null,null,{"$f":"IF(A8165=\"\",\"\",IF(B8165=\"\",E8164,IF(D8165=\"\",E8164,D8165/MAX($D$8:D8165)-1)))","v":""}]
[null,null,null,null,{"$f":"IF(A8166=\"\",\"\",IF(B8166=\"\",E8165,IF(D8166=\"\",E8165,D8166/MAX($D$8:D8166)-1)))","v":""}]
[null,null,null,null,{"$f":"IF(A8167=\"\",\"\",IF(B8167=\"\",E8166,IF(D8167=\"\",E8166,D8167/MAX($D$8:D8167)-1)))","v":""}]
[null,null,null,null,{"$f":"IF(A8168=\"\",\"\",IF(B8168=\"\",E8167,IF(D8168=\"\",E8167,D8168/MAX($D$8:D8168)-1)))","v":""}]
[null,null,null,null,{"$f":"IF(A8169=\"\",\"\",IF(B8169=\"\",E8168,IF(D8169=\"\",E8168,D8169/MAX($D$8:D8169)-1)))","v":""}]
[null,null,null,null,{"$f":"IF(A8170=\"\",\"\",IF(B8170=\"\",E8169,IF(D8170=\"\",E8169,D8170/MAX($D$8:D8170)-1)))","v":""}]
[null,null,null,null,{"$f":"IF(A8171=\"\",\"\",IF(B8171=\"\",E8170,IF(D8171=\"\",E8170,D8171/MAX($D$8:D8171)-1)))","v":""}]
[null,null,null,null,{"$f":"IF(A8172=\"\",\"\",IF(B8172=\"\",E8171,IF(D8172=\"\",E8171,D8172/MAX($D$8:D8172)-1)))","v":""}]
[null,null,null,null,{"$f":"IF(A8173=\"\",\"\",IF(B8173=\"\",E8172,IF(D8173=\"\",E8172,D8173/MAX($D$8:D8173)-1)))","v":""}]
[null,null,null,null,{"$f":"IF(A8174=\"\",\"\",IF(B8174=\"\",E8173,IF(D8174=\"\",E8173,D8174/MAX($D$8:D8174)-1)))","v":""}]
[null,null,null,null,{"$f":"IF(A8175=\"\",\"\",IF(B8175=\"\",E8174,IF(D8175=\"\",E8174,D8175/MAX($D$8:D8175)-1)))","v":""}]
[null,null,null,null,{"$f":"IF(A8176=\"\",\"\",IF(B8176=\"\",E8175,IF(D8176=\"\",E8175,D8176/MAX($D$8:D8176)-1)))","v":""}]
[null,null,null,null,{"$f":"IF(A8177=\"\",\"\",IF(B8177=\"\",E8176,IF(D8177=\"\",E8176,D8177/MAX($D$8:D8177)-1)))","v":""}]
[null,null,null,null,{"$f":"IF(A8178=\"\",\"\",IF(B8178=\"\",E8177,IF(D8178=\"\",E8177,D8178/MAX($D$8:D8178)-1)))","v":""}]
[null,null,null,null,{"$f":"IF(A8179=\"\",\"\",IF(B8179=\"\",E8178,IF(D8179=\"\",E8178,D8179/MAX($D$8:D8179)-1)))","v":""}]
[null,null,null,null,{"$f":"IF(A8180=\"\",\"\",IF(B8180=\"\",E8179,IF(D8180=\"\",E8179,D8180/MAX($D$8:D8180)-1)))","v":""}]
[null,null,null,null,{"$f":"IF(A8181=\"\",\"\",IF(B8181=\"\",E8180,IF(D8181=\"\",E8180,D8181/MAX($D$8:D8181)-1)))","v":""}]
[null,null,null,null,{"$f":"IF(A8182=\"\",\"\",IF(B8182=\"\",E8181,IF(D8182=\"\",E8181,D8182/MAX($D$8:D8182)-1)))","v":""}]
[null,null,null,null,{"$f":"IF(A8183=\"\",\"\",IF(B8183=\"\",E8182,IF(D8183=\"\",E8182,D8183/MAX($D$8:D8183)-1)))","v":""}]
[null,null,null,null,{"$f":"IF(A8184=\"\",\"\",IF(B8184=\"\",E8183,IF(D8184=\"\",E8183,D8184/MAX($D$8:D8184)-1)))","v":""}]
[null,null,null,null,{"$f":"IF(A8185=\"\",\"\",IF(B8185=\"\",E8184,IF(D8185=\"\",E8184,D8185/MAX($D$8:D8185)-1)))","v":""}]
[null,null,null,null,{"$f":"IF(A8186=\"\",\"\",IF(B8186=\"\",E8185,IF(D8186=\"\",E8185,D8186/MAX($D$8:D8186)-1)))","v":""}]
[null,null,null,null,{"$f":"IF(A8187=\"\",\"\",IF(B8187=\"\",E8186,IF(D8187=\"\",E8186,D8187/MAX($D$8:D8187)-1)))","v":""}]
[null,null,null,null,{"$f":"IF(A8188=\"\",\"\",IF(B8188=\"\",E8187,IF(D8188=\"\",E8187,D8188/MAX($D$8:D8188)-1)))","v":""}]
[null,null,null,null,{"$f":"IF(A8189=\"\",\"\",IF(B8189=\"\",E8188,IF(D8189=\"\",E8188,D8189/MAX($D$8:D8189)-1)))","v":""}]
[null,null,null,null,{"$f":"IF(A8190=\"\",\"\",IF(B8190=\"\",E8189,IF(D8190=\"\",E8189,D8190/MAX($D$8:D8190)-1)))","v":""}]
[null,null,null,null,{"$f":"IF(A8191=\"\",\"\",IF(B8191=\"\",E8190,IF(D8191=\"\",E8190,D8191/MAX($D$8:D8191)-1)))","v":""}]
[null,null,null,null,{"$f":"IF(A8192=\"\",\"\",IF(B8192=\"\",E8191,IF(D8192=\"\",E8191,D8192/MAX($D$8:D8192)-1)))","v":""}]
[null,null,null,null,{"$f":"IF(A8193=\"\",\"\",IF(B8193=\"\",E8192,IF(D8193=\"\",E8192,D8193/MAX($D$8:D8193)-1)))","v":""}]
[null,null,null,null,{"$f":"IF(A8194=\"\",\"\",IF(B8194=\"\",E8193,IF(D8194=\"\",E8193,D8194/MAX($D$8:D8194)-1)))","v":""}]
[null,null,null,null,{"$f":"IF(A8195=\"\",\"\",IF(B8195=\"\",E8194,IF(D8195=\"\",E8194,D8195/MAX($D$8:D8195)-1)))","v":""}]
[null,null,null,null,{"$f":"IF(A8196=\"\",\"\",IF(B8196=\"\",E8195,IF(D8196=\"\",E8195,D8196/MAX($D$8:D8196)-1)))","v":""}]
[null,null,null,null,{"$f":"IF(A8197=\"\",\"\",IF(B8197=\"\",E8196,IF(D8197=\"\",E8196,D8197/MAX($D$8:D8197)-1)))","v":""}]
[null,null,null,null,{"$f":"IF(A8198=\"\",\"\",IF(B8198=\"\",E8197,IF(D8198=\"\",E8197,D8198/MAX($D$8:D8198)-1)))","v":""}]
[null,null,null,null,{"$f":"IF(A8199=\"\",\"\",IF(B8199=\"\",E8198,IF(D8199=\"\",E8198,D8199/MAX($D$8:D8199)-1)))","v":""}]
[null,null,null,null,{"$f":"IF(A8200=\"\",\"\",IF(B8200=\"\",E8199,IF(D8200=\"\",E8199,D8200/MAX($D$8:D8200)-1)))","v":""}]
[null,null,null,null,{"$f":"IF(A8201=\"\",\"\",IF(B8201=\"\",E8200,IF(D8201=\"\",E8200,D8201/MAX($D$8:D8201)-1)))","v":""}]
[null,null,null,null,{"$f":"IF(A8202=\"\",\"\",IF(B8202=\"\",E8201,IF(D8202=\"\",E8201,D8202/MAX($D$8:D8202)-1)))","v":""}]
[null,null,null,null,{"$f":"IF(A8203=\"\",\"\",IF(B8203=\"\",E8202,IF(D8203=\"\",E8202,D8203/MAX($D$8:D8203)-1)))","v":""}]
[null,null,null,null,{"$f":"IF(A8204=\"\",\"\",IF(B8204=\"\",E8203,IF(D8204=\"\",E8203,D8204/MAX($D$8:D8204)-1)))","v":""}]
[null,null,null,null,{"$f":"IF(A8205=\"\",\"\",IF(B8205=\"\",E8204,IF(D8205=\"\",E8204,D8205/MAX($D$8:D8205)-1)))","v":""}]
[null,null,null,null,{"$f":"IF(A8206=\"\",\"\",IF(B8206=\"\",E8205,IF(D8206=\"\",E8205,D8206/MAX($D$8:D8206)-1)))","v":""}]
[null,null,null,null,{"$f":"IF(A8207=\"\",\"\",IF(B8207=\"\",E8206,IF(D8207=\"\",E8206,D8207/MAX($D$8:D8207)-1)))","v":""}]
[null,null,null,null,{"$f":"IF(A8208=\"\",\"\",IF(B8208=\"\",E8207,IF(D8208=\"\",E8207,D8208/MAX($D$8:D8208)-1)))","v":""}]
[null,null,null,null,{"$f":"IF(A8209=\"\",\"\",IF(B8209=\"\",E8208,IF(D8209=\"\",E8208,D8209/MAX($D$8:D8209)-1)))","v":""}]
[null,null,null,null,{"$f":"IF(A8210=\"\",\"\",IF(B8210=\"\",E8209,IF(D8210=\"\",E8209,D8210/MAX($D$8:D8210)-1)))","v":""}]
[null,null,null,null,{"$f":"IF(A8211=\"\",\"\",IF(B8211=\"\",E8210,IF(D8211=\"\",E8210,D8211/MAX($D$8:D8211)-1)))","v":""}]
[null,null,null,null,{"$f":"IF(A8212=\"\",\"\",IF(B8212=\"\",E8211,IF(D8212=\"\",E8211,D8212/MAX($D$8:D8212)-1)))","v":""}]
[null,null,null,null,{"$f":"IF(A8213=\"\",\"\",IF(B8213=\"\",E8212,IF(D8213=\"\",E8212,D8213/MAX($D$8:D8213)-1)))","v":""}]
[null,null,null,null,{"$f":"IF(A8214=\"\",\"\",IF(B8214=\"\",E8213,IF(D8214=\"\",E8213,D8214/MAX($D$8:D8214)-1)))","v":""}]
[null,null,null,null,{"$f":"IF(A8215=\"\",\"\",IF(B8215=\"\",E8214,IF(D8215=\"\",E8214,D8215/MAX($D$8:D8215)-1)))","v":""}]
[null,null,null,null,{"$f":"IF(A8216=\"\",\"\",IF(B8216=\"\",E8215,IF(D8216=\"\",E8215,D8216/MAX($D$8:D8216)-1)))","v":""}]
[null,null,null,null,{"$f":"IF(A8217=\"\",\"\",IF(B8217=\"\",E8216,IF(D8217=\"\",E8216,D8217/MAX($D$8:D8217)-1)))","v":""}]
[null,null,null,null,{"$f":"IF(A8218=\"\",\"\",IF(B8218=\"\",E8217,IF(D8218=\"\",E8217,D8218/MAX($D$8:D8218)-1)))","v":""}]
[null,null,null,null,{"$f":"IF(A8219=\"\",\"\",IF(B8219=\"\",E8218,IF(D8219=\"\",E8218,D8219/MAX($D$8:D8219)-1)))","v":""}]
[null,null,null,null,{"$f":"IF(A8220=\"\",\"\",IF(B8220=\"\",E8219,IF(D8220=\"\",E8219,D8220/MAX($D$8:D8220)-1)))","v":""}]
[null,null,null,null,{"$f":"IF(A8221=\"\",\"\",IF(B8221=\"\",E8220,IF(D8221=\"\",E8220,D8221/MAX($D$8:D8221)-1)))","v":""}]
[null,null,null,null,{"$f":"IF(A8222=\"\",\"\",IF(B8222=\"\",E8221,IF(D8222=\"\",E8221,D8222/MAX($D$8:D8222)-1)))","v":""}]
[null,null,null,null,{"$f":"IF(A8223=\"\",\"\",IF(B8223=\"\",E8222,IF(D8223=\"\",E8222,D8223/MAX($D$8:D8223)-1)))","v":""}]
[null,null,null,null,{"$f":"IF(A8224=\"\",\"\",IF(B8224=\"\",E8223,IF(D8224=\"\",E8223,D8224/MAX($D$8:D8224)-1)))","v":""}]
[null,null,null,null,{"$f":"IF(A8225=\"\",\"\",IF(B8225=\"\",E8224,IF(D8225=\"\",E8224,D8225/MAX($D$8:D8225)-1)))","v":""}]
[null,null,null,null,{"$f":"IF(A8226=\"\",\"\",IF(B8226=\"\",E8225,IF(D8226=\"\",E8225,D8226/MAX($D$8:D8226)-1)))","v":""}]
[null,null,null,null,{"$f":"IF(A8227=\"\",\"\",IF(B8227=\"\",E8226,IF(D8227=\"\",E8226,D8227/MAX($D$8:D8227)-1)))","v":""}]
[null,null,null,null,{"$f":"IF(A8228=\"\",\"\",IF(B8228=\"\",E8227,IF(D8228=\"\",E8227,D8228/MAX($D$8:D8228)-1)))","v":""}]
[null,null,null,null,{"$f":"IF(A8229=\"\",\"\",IF(B8229=\"\",E8228,IF(D8229=\"\",E8228,D8229/MAX($D$8:D8229)-1)))","v":""}]
[null,null,null,null,{"$f":"IF(A8230=\"\",\"\",IF(B8230=\"\",E8229,IF(D8230=\"\",E8229,D8230/MAX($D$8:D8230)-1)))","v":""}]
[null,null,null,null,{"$f":"IF(A8231=\"\",\"\",IF(B8231=\"\",E8230,IF(D8231=\"\",E8230,D8231/MAX($D$8:D8231)-1)))","v":""}]
[null,null,null,null,{"$f":"IF(A8232=\"\",\"\",IF(B8232=\"\",E8231,IF(D8232=\"\",E8231,D8232/MAX($D$8:D8232)-1)))","v":""}]
[null,null,null,null,{"$f":"IF(A8233=\"\",\"\",IF(B8233=\"\",E8232,IF(D8233=\"\",E8232,D8233/MAX($D$8:D8233)-1)))","v":""}]
[null,null,null,null,{"$f":"IF(A8234=\"\",\"\",IF(B8234=\"\",E8233,IF(D8234=\"\",E8233,D8234/MAX($D$8:D8234)-1)))","v":""}]
[null,null,null,null,{"$f":"IF(A8235=\"\",\"\",IF(B8235=\"\",E8234,IF(D8235=\"\",E8234,D8235/MAX($D$8:D8235)-1)))","v":""}]
[null,null,null,null,{"$f":"IF(A8236=\"\",\"\",IF(B8236=\"\",E8235,IF(D8236=\"\",E8235,D8236/MAX($D$8:D8236)-1)))","v":""}]
[null,null,null,null,{"$f":"IF(A8237=\"\",\"\",IF(B8237=\"\",E8236,IF(D8237=\"\",E8236,D8237/MAX($D$8:D8237)-1)))","v":""}]
[null,null,null,null,{"$f":"IF(A8238=\"\",\"\",IF(B8238=\"\",E8237,IF(D8238=\"\",E8237,D8238/MAX($D$8:D8238)-1)))","v":""}]
[null,null,null,null,{"$f":"IF(A8239=\"\",\"\",IF(B8239=\"\",E8238,IF(D8239=\"\",E8238,D8239/MAX($D$8:D8239)-1)))","v":""}]
[null,null,null,null,{"$f":"IF(A8240=\"\",\"\",IF(B8240=\"\",E8239,IF(D8240=\"\",E8239,D8240/MAX($D$8:D8240)-1)))","v":""}]
[null,null,null,null,{"$f":"IF(A8241=\"\",\"\",IF(B8241=\"\",E8240,IF(D8241=\"\",E8240,D8241/MAX($D$8:D8241)-1)))","v":""}]
[null,null,null,null,{"$f":"IF(A8242=\"\",\"\",IF(B8242=\"\",E8241,IF(D8242=\"\",E8241,D8242/MAX($D$8:D8242)-1)))","v":""}]
[null,null,null,null,{"$f":"IF(A8243=\"\",\"\",IF(B8243=\"\",E8242,IF(D8243=\"\",E8242,D8243/MAX($D$8:D8243)-1)))","v":""}]
[null,null,null,null,{"$f":"IF(A8244=\"\",\"\",IF(B8244=\"\",E8243,IF(D8244=\"\",E8243,D8244/MAX($D$8:D8244)-1)))","v":""}]
[null,null,null,null,{"$f":"IF(A8245=\"\",\"\",IF(B8245=\"\",E8244,IF(D8245=\"\",E8244,D8245/MAX($D$8:D8245)-1)))","v":""}]
[null,null,null,null,{"$f":"IF(A8246=\"\",\"\",IF(B8246=\"\",E8245,IF(D8246=\"\",E8245,D8246/MAX($D$8:D8246)-1)))","v":""}]
[null,null,null,null,{"$f":"IF(A8247=\"\",\"\",IF(B8247=\"\",E8246,IF(D8247=\"\",E8246,D8247/MAX($D$8:D8247)-1)))","v":""}]
[null,null,null,null,{"$f":"IF(A8248=\"\",\"\",IF(B8248=\"\",E8247,IF(D8248=\"\",E8247,D8248/MAX($D$8:D8248)-1)))","v":""}]
[null,null,null,null,{"$f":"IF(A8249=\"\",\"\",IF(B8249=\"\",E8248,IF(D8249=\"\",E8248,D8249/MAX($D$8:D8249)-1)))","v":""}]
[null,null,null,null,{"$f":"IF(A8250=\"\",\"\",IF(B8250=\"\",E8249,IF(D8250=\"\",E8249,D8250/MAX($D$8:D8250)-1)))","v":""}]
[null,null,null,null,{"$f":"IF(A8251=\"\",\"\",IF(B8251=\"\",E8250,IF(D8251=\"\",E8250,D8251/MAX($D$8:D8251)-1)))","v":""}]
[null,null,null,null,{"$f":"IF(A8252=\"\",\"\",IF(B8252=\"\",E8251,IF(D8252=\"\",E8251,D8252/MAX($D$8:D8252)-1)))","v":""}]
[null,null,null,null,{"$f":"IF(A8253=\"\",\"\",IF(B8253=\"\",E8252,IF(D8253=\"\",E8252,D8253/MAX($D$8:D8253)-1)))","v":""}]
[null,null,null,null,{"$f":"IF(A8254=\"\",\"\",IF(B8254=\"\",E8253,IF(D8254=\"\",E8253,D8254/MAX($D$8:D8254)-1)))","v":""}]
[null,null,null,null,{"$f":"IF(A8255=\"\",\"\",IF(B8255=\"\",E8254,IF(D8255=\"\",E8254,D8255/MAX($D$8:D8255)-1)))","v":""}]
[null,null,null,null,{"$f":"IF(A8256=\"\",\"\",IF(B8256=\"\",E8255,IF(D8256=\"\",E8255,D8256/MAX($D$8:D8256)-1)))","v":""}]
[null,null,null,null,{"$f":"IF(A8257=\"\",\"\",IF(B8257=\"\",E8256,IF(D8257=\"\",E8256,D8257/MAX($D$8:D8257)-1)))","v":""}]
[null,null,null,null,{"$f":"IF(A8258=\"\",\"\",IF(B8258=\"\",E8257,IF(D8258=\"\",E8257,D8258/MAX($D$8:D8258)-1)))","v":""}]
[null,null,null,null,{"$f":"IF(A8259=\"\",\"\",IF(B8259=\"\",E8258,IF(D8259=\"\",E8258,D8259/MAX($D$8:D8259)-1)))","v":""}]
[null,null,null,null,{"$f":"IF(A8260=\"\",\"\",IF(B8260=\"\",E8259,IF(D8260=\"\",E8259,D8260/MAX($D$8:D8260)-1)))","v":""}]
[null,null,null,null,{"$f":"IF(A8261=\"\",\"\",IF(B8261=\"\",E8260,IF(D8261=\"\",E8260,D8261/MAX($D$8:D8261)-1)))","v":""}]
[null,null,null,null,{"$f":"IF(A8262=\"\",\"\",IF(B8262=\"\",E8261,IF(D8262=\"\",E8261,D8262/MAX($D$8:D8262)-1)))","v":""}]
[null,null,null,null,{"$f":"IF(A8263=\"\",\"\",IF(B8263=\"\",E8262,IF(D8263=\"\",E8262,D8263/MAX($D$8:D8263)-1)))","v":""}]
[null,null,null,null,{"$f":"IF(A8264=\"\",\"\",IF(B8264=\"\",E8263,IF(D8264=\"\",E8263,D8264/MAX($D$8:D8264)-1)))","v":""}]
[null,null,null,null,{"$f":"IF(A8265=\"\",\"\",IF(B8265=\"\",E8264,IF(D8265=\"\",E8264,D8265/MAX($D$8:D8265)-1)))","v":""}]
[null,null,null,null,{"$f":"IF(A8266=\"\",\"\",IF(B8266=\"\",E8265,IF(D8266=\"\",E8265,D8266/MAX($D$8:D8266)-1)))","v":""}]
[null,null,null,null,{"$f":"IF(A8267=\"\",\"\",IF(B8267=\"\",E8266,IF(D8267=\"\",E8266,D8267/MAX($D$8:D8267)-1)))","v":""}]
[null,null,null,null,{"$f":"IF(A8268=\"\",\"\",IF(B8268=\"\",E8267,IF(D8268=\"\",E8267,D8268/MAX($D$8:D8268)-1)))","v":""}]
[null,null,null,null,{"$f":"IF(A8269=\"\",\"\",IF(B8269=\"\",E8268,IF(D8269=\"\",E8268,D8269/MAX($D$8:D8269)-1)))","v":""}]
[null,null,null,null,{"$f":"IF(A8270=\"\",\"\",IF(B8270=\"\",E8269,IF(D8270=\"\",E8269,D8270/MAX($D$8:D8270)-1)))","v":""}]
[null,null,null,null,{"$f":"IF(A8271=\"\",\"\",IF(B8271=\"\",E8270,IF(D8271=\"\",E8270,D8271/MAX($D$8:D8271)-1)))","v":""}]
[null,null,null,null,{"$f":"IF(A8272=\"\",\"\",IF(B8272=\"\",E8271,IF(D8272=\"\",E8271,D8272/MAX($D$8:D8272)-1)))","v":""}]
[null,null,null,null,{"$f":"IF(A8273=\"\",\"\",IF(B8273=\"\",E8272,IF(D8273=\"\",E8272,D8273/MAX($D$8:D8273)-1)))","v":""}]
[null,null,null,null,{"$f":"IF(A8274=\"\",\"\",IF(B8274=\"\",E8273,IF(D8274=\"\",E8273,D8274/MAX($D$8:D8274)-1)))","v":""}]
[null,null,null,null,{"$f":"IF(A8275=\"\",\"\",IF(B8275=\"\",E8274,IF(D8275=\"\",E8274,D8275/MAX($D$8:D8275)-1)))","v":""}]
[null,null,null,null,{"$f":"IF(A8276=\"\",\"\",IF(B8276=\"\",E8275,IF(D8276=\"\",E8275,D8276/MAX($D$8:D8276)-1)))","v":""}]
[null,null,null,null,{"$f":"IF(A8277=\"\",\"\",IF(B8277=\"\",E8276,IF(D8277=\"\",E8276,D8277/MAX($D$8:D8277)-1)))","v":""}]
[null,null,null,null,{"$f":"IF(A8278=\"\",\"\",IF(B8278=\"\",E8277,IF(D8278=\"\",E8277,D8278/MAX($D$8:D8278)-1)))","v":""}]
[null,null,null,null,{"$f":"IF(A8279=\"\",\"\",IF(B8279=\"\",E8278,IF(D8279=\"\",E8278,D8279/MAX($D$8:D8279)-1)))","v":""}]
[null,null,null,null,{"$f":"IF(A8280=\"\",\"\",IF(B8280=\"\",E8279,IF(D8280=\"\",E8279,D8280/MAX($D$8:D8280)-1)))","v":""}]
[null,null,null,null,{"$f":"IF(A8281=\"\",\"\",IF(B8281=\"\",E8280,IF(D8281=\"\",E8280,D8281/MAX($D$8:D8281)-1)))","v":""}]
[null,null,null,null,{"$f":"IF(A8282=\"\",\"\",IF(B8282=\"\",E8281,IF(D8282=\"\",E8281,D8282/MAX($D$8:D8282)-1)))","v":""}]
[null,null,null,null,{"$f":"IF(A8283=\"\",\"\",IF(B8283=\"\",E8282,IF(D8283=\"\",E8282,D8283/MAX($D$8:D8283)-1)))","v":""}]
[null,null,null,null,{"$f":"IF(A8284=\"\",\"\",IF(B8284=\"\",E8283,IF(D8284=\"\",E8283,D8284/MAX($D$8:D8284)-1)))","v":""}]
[null,null,null,null,{"$f":"IF(A8285=\"\",\"\",IF(B8285=\"\",E8284,IF(D8285=\"\",E8284,D8285/MAX($D$8:D8285)-1)))","v":""}]
[null,null,null,null,{"$f":"IF(A8286=\"\",\"\",IF(B8286=\"\",E8285,IF(D8286=\"\",E8285,D8286/MAX($D$8:D8286)-1)))","v":""}]
[null,null,null,null,{"$f":"IF(A8287=\"\",\"\",IF(B8287=\"\",E8286,IF(D8287=\"\",E8286,D8287/MAX($D$8:D8287)-1)))","v":""}]
[null,null,null,null,{"$f":"IF(A8288=\"\",\"\",IF(B8288=\"\",E8287,IF(D8288=\"\",E8287,D8288/MAX($D$8:D8288)-1)))","v":""}]
[null,null,null,null,{"$f":"IF(A8289=\"\",\"\",IF(B8289=\"\",E8288,IF(D8289=\"\",E8288,D8289/MAX($D$8:D8289)-1)))","v":""}]
[null,null,null,null,{"$f":"IF(A8290=\"\",\"\",IF(B8290=\"\",E8289,IF(D8290=\"\",E8289,D8290/MAX($D$8:D8290)-1)))","v":""}]
[null,null,null,null,{"$f":"IF(A8291=\"\",\"\",IF(B8291=\"\",E8290,IF(D8291=\"\",E8290,D8291/MAX($D$8:D8291)-1)))","v":""}]
[null,null,null,null,{"$f":"IF(A8292=\"\",\"\",IF(B8292=\"\",E8291,IF(D8292=\"\",E8291,D8292/MAX($D$8:D8292)-1)))","v":""}]
[null,null,null,null,{"$f":"IF(A8293=\"\",\"\",IF(B8293=\"\",E8292,IF(D8293=\"\",E8292,D8293/MAX($D$8:D8293)-1)))","v":""}]
[null,null,null,null,{"$f":"IF(A8294=\"\",\"\",IF(B8294=\"\",E8293,IF(D8294=\"\",E8293,D8294/MAX($D$8:D8294)-1)))","v":""}]
[null,null,null,null,{"$f":"IF(A8295=\"\",\"\",IF(B8295=\"\",E8294,IF(D8295=\"\",E8294,D8295/MAX($D$8:D8295)-1)))","v":""}]
[null,null,null,null,{"$f":"IF(A8296=\"\",\"\",IF(B8296=\"\",E8295,IF(D8296=\"\",E8295,D8296/MAX($D$8:D8296)-1)))","v":""}]
[null,null,null,null,{"$f":"IF(A8297=\"\",\"\",IF(B8297=\"\",E8296,IF(D8297=\"\",E8296,D8297/MAX($D$8:D8297)-1)))","v":""}]
[null,null,null,null,{"$f":"IF(A8298=\"\",\"\",IF(B8298=\"\",E8297,IF(D8298=\"\",E8297,D8298/MAX($D$8:D8298)-1)))","v":""}]
[null,null,null,null,{"$f":"IF(A8299=\"\",\"\",IF(B8299=\"\",E8298,IF(D8299=\"\",E8298,D8299/MAX($D$8:D8299)-1)))","v":""}]
[null,null,null,null,{"$f":"IF(A8300=\"\",\"\",IF(B8300=\"\",E8299,IF(D8300=\"\",E8299,D8300/MAX($D$8:D8300)-1)))","v":""}]
[null,null,null,null,{"$f":"IF(A8301=\"\",\"\",IF(B8301=\"\",E8300,IF(D8301=\"\",E8300,D8301/MAX($D$8:D8301)-1)))","v":""}]
[null,null,null,null,{"$f":"IF(A8302=\"\",\"\",IF(B8302=\"\",E8301,IF(D8302=\"\",E8301,D8302/MAX($D$8:D8302)-1)))","v":""}]
[null,null,null,null,{"$f":"IF(A8303=\"\",\"\",IF(B8303=\"\",E8302,IF(D8303=\"\",E8302,D8303/MAX($D$8:D8303)-1)))","v":""}]
[null,null,null,null,{"$f":"IF(A8304=\"\",\"\",IF(B8304=\"\",E8303,IF(D8304=\"\",E8303,D8304/MAX($D$8:D8304)-1)))","v":""}]
[null,null,null,null,{"$f":"IF(A8305=\"\",\"\",IF(B8305=\"\",E8304,IF(D8305=\"\",E8304,D8305/MAX($D$8:D8305)-1)))","v":""}]
[null,null,null,null,{"$f":"IF(A8306=\"\",\"\",IF(B8306=\"\",E8305,IF(D8306=\"\",E8305,D8306/MAX($D$8:D8306)-1)))","v":""}]
[null,null,null,null,{"$f":"IF(A8307=\"\",\"\",IF(B8307=\"\",E8306,IF(D8307=\"\",E8306,D8307/MAX($D$8:D8307)-1)))","v":""}]
[null,null,null,null,{"$f":"IF(A8308=\"\",\"\",IF(B8308=\"\",E8307,IF(D8308=\"\",E8307,D8308/MAX($D$8:D8308)-1)))","v":""}]
[null,null,null,null,{"$f":"IF(A8309=\"\",\"\",IF(B8309=\"\",E8308,IF(D8309=\"\",E8308,D8309/MAX($D$8:D8309)-1)))","v":""}]
[null,null,null,null,{"$f":"IF(A8310=\"\",\"\",IF(B8310=\"\",E8309,IF(D8310=\"\",E8309,D8310/MAX($D$8:D8310)-1)))","v":""}]
[null,null,null,null,{"$f":"IF(A8311=\"\",\"\",IF(B8311=\"\",E8310,IF(D8311=\"\",E8310,D8311/MAX($D$8:D8311)-1)))","v":""}]
[null,null,null,null,{"$f":"IF(A8312=\"\",\"\",IF(B8312=\"\",E8311,IF(D8312=\"\",E8311,D8312/MAX($D$8:D8312)-1)))","v":""}]
[null,null,null,null,{"$f":"IF(A8313=\"\",\"\",IF(B8313=\"\",E8312,IF(D8313=\"\",E8312,D8313/MAX($D$8:D8313)-1)))","v":""}]
[null,null,null,null,{"$f":"IF(A8314=\"\",\"\",IF(B8314=\"\",E8313,IF(D8314=\"\",E8313,D8314/MAX($D$8:D8314)-1)))","v":""}]
[null,null,null,null,{"$f":"IF(A8315=\"\",\"\",IF(B8315=\"\",E8314,IF(D8315=\"\",E8314,D8315/MAX($D$8:D8315)-1)))","v":""}]
[null,null,null,null,{"$f":"IF(A8316=\"\",\"\",IF(B8316=\"\",E8315,IF(D8316=\"\",E8315,D8316/MAX($D$8:D8316)-1)))","v":""}]
[null,null,null,null,{"$f":"IF(A8317=\"\",\"\",IF(B8317=\"\",E8316,IF(D8317=\"\",E8316,D8317/MAX($D$8:D8317)-1)))","v":""}]
[null,null,null,null,{"$f":"IF(A8318=\"\",\"\",IF(B8318=\"\",E8317,IF(D8318=\"\",E8317,D8318/MAX($D$8:D8318)-1)))","v":""}]
[null,null,null,null,{"$f":"IF(A8319=\"\",\"\",IF(B8319=\"\",E8318,IF(D8319=\"\",E8318,D8319/MAX($D$8:D8319)-1)))","v":""}]
[null,null,null,null,{"$f":"IF(A8320=\"\",\"\",IF(B8320=\"\",E8319,IF(D8320=\"\",E8319,D8320/MAX($D$8:D8320)-1)))","v":""}]
[null,null,null,null,{"$f":"IF(A8321=\"\",\"\",IF(B8321=\"\",E8320,IF(D8321=\"\",E8320,D8321/MAX($D$8:D8321)-1)))","v":""}]
[null,null,null,null,{"$f":"IF(A8322=\"\",\"\",IF(B8322=\"\",E8321,IF(D8322=\"\",E8321,D8322/MAX($D$8:D8322)-1)))","v":""}]
[null,null,null,null,{"$f":"IF(A8323=\"\",\"\",IF(B8323=\"\",E8322,IF(D8323=\"\",E8322,D8323/MAX($D$8:D8323)-1)))","v":""}]
[null,null,null,null,{"$f":"IF(A8324=\"\",\"\",IF(B8324=\"\",E8323,IF(D8324=\"\",E8323,D8324/MAX($D$8:D8324)-1)))","v":""}]
[null,null,null,null,{"$f":"IF(A8325=\"\",\"\",IF(B8325=\"\",E8324,IF(D8325=\"\",E8324,D8325/MAX($D$8:D8325)-1)))","v":""}]
[null,null,null,null,{"$f":"IF(A8326=\"\",\"\",IF(B8326=\"\",E8325,IF(D8326=\"\",E8325,D8326/MAX($D$8:D8326)-1)))","v":""}]
[null,null,null,null,{"$f":"IF(A8327=\"\",\"\",IF(B8327=\"\",E8326,IF(D8327=\"\",E8326,D8327/MAX($D$8:D8327)-1)))","v":""}]
[null,null,null,null,{"$f":"IF(A8328=\"\",\"\",IF(B8328=\"\",E8327,IF(D8328=\"\",E8327,D8328/MAX($D$8:D8328)-1)))","v":""}]
[null,null,null,null,{"$f":"IF(A8329=\"\",\"\",IF(B8329=\"\",E8328,IF(D8329=\"\",E8328,D8329/MAX($D$8:D8329)-1)))","v":""}]
[null,null,null,null,{"$f":"IF(A8330=\"\",\"\",IF(B8330=\"\",E8329,IF(D8330=\"\",E8329,D8330/MAX($D$8:D8330)-1)))","v":""}]
[null,null,null,null,{"$f":"IF(A8331=\"\",\"\",IF(B8331=\"\",E8330,IF(D8331=\"\",E8330,D8331/MAX($D$8:D8331)-1)))","v":""}]
[null,null,null,null,{"$f":"IF(A8332=\"\",\"\",IF(B8332=\"\",E8331,IF(D8332=\"\",E8331,D8332/MAX($D$8:D8332)-1)))","v":""}]
[null,null,null,null,{"$f":"IF(A8333=\"\",\"\",IF(B8333=\"\",E8332,IF(D8333=\"\",E8332,D8333/MAX($D$8:D8333)-1)))","v":""}]
[null,null,null,null,{"$f":"IF(A8334=\"\",\"\",IF(B8334=\"\",E8333,IF(D8334=\"\",E8333,D8334/MAX($D$8:D8334)-1)))","v":""}]
[null,null,null,null,{"$f":"IF(A8335=\"\",\"\",IF(B8335=\"\",E8334,IF(D8335=\"\",E8334,D8335/MAX($D$8:D8335)-1)))","v":""}]
[null,null,null,null,{"$f":"IF(A8336=\"\",\"\",IF(B8336=\"\",E8335,IF(D8336=\"\",E8335,D8336/MAX($D$8:D8336)-1)))","v":""}]
[null,null,null,null,{"$f":"IF(A8337=\"\",\"\",IF(B8337=\"\",E8336,IF(D8337=\"\",E8336,D8337/MAX($D$8:D8337)-1)))","v":""}]
[null,null,null,null,{"$f":"IF(A8338=\"\",\"\",IF(B8338=\"\",E8337,IF(D8338=\"\",E8337,D8338/MAX($D$8:D8338)-1)))","v":""}]
[null,null,null,null,{"$f":"IF(A8339=\"\",\"\",IF(B8339=\"\",E8338,IF(D8339=\"\",E8338,D8339/MAX($D$8:D8339)-1)))","v":""}]
[null,null,null,null,{"$f":"IF(A8340=\"\",\"\",IF(B8340=\"\",E8339,IF(D8340=\"\",E8339,D8340/MAX($D$8:D8340)-1)))","v":""}]
[null,null,null,null,{"$f":"IF(A8341=\"\",\"\",IF(B8341=\"\",E8340,IF(D8341=\"\",E8340,D8341/MAX($D$8:D8341)-1)))","v":""}]
[null,null,null,null,{"$f":"IF(A8342=\"\",\"\",IF(B8342=\"\",E8341,IF(D8342=\"\",E8341,D8342/MAX($D$8:D8342)-1)))","v":""}]
[null,null,null,null,{"$f":"IF(A8343=\"\",\"\",IF(B8343=\"\",E8342,IF(D8343=\"\",E8342,D8343/MAX($D$8:D8343)-1)))","v":""}]
[null,null,null,null,{"$f":"IF(A8344=\"\",\"\",IF(B8344=\"\",E8343,IF(D8344=\"\",E8343,D8344/MAX($D$8:D8344)-1)))","v":""}]
[null,null,null,null,{"$f":"IF(A8345=\"\",\"\",IF(B8345=\"\",E8344,IF(D8345=\"\",E8344,D8345/MAX($D$8:D8345)-1)))","v":""}]
[null,null,null,null,{"$f":"IF(A8346=\"\",\"\",IF(B8346=\"\",E8345,IF(D8346=\"\",E8345,D8346/MAX($D$8:D8346)-1)))","v":""}]
[null,null,null,null,{"$f":"IF(A8347=\"\",\"\",IF(B8347=\"\",E8346,IF(D8347=\"\",E8346,D8347/MAX($D$8:D8347)-1)))","v":""}]
[null,null,null,null,{"$f":"IF(A8348=\"\",\"\",IF(B8348=\"\",E8347,IF(D8348=\"\",E8347,D8348/MAX($D$8:D8348)-1)))","v":""}]
[null,null,null,null,{"$f":"IF(A8349=\"\",\"\",IF(B8349=\"\",E8348,IF(D8349=\"\",E8348,D8349/MAX($D$8:D8349)-1)))","v":""}]
[null,null,null,null,{"$f":"IF(A8350=\"\",\"\",IF(B8350=\"\",E8349,IF(D8350=\"\",E8349,D8350/MAX($D$8:D8350)-1)))","v":""}]
[null,null,null,null,{"$f":"IF(A8351=\"\",\"\",IF(B8351=\"\",E8350,IF(D8351=\"\",E8350,D8351/MAX($D$8:D8351)-1)))","v":""}]
[null,null,null,null,{"$f":"IF(A8352=\"\",\"\",IF(B8352=\"\",E8351,IF(D8352=\"\",E8351,D8352/MAX($D$8:D8352)-1)))","v":""}]
[null,null,null,null,{"$f":"IF(A8353=\"\",\"\",IF(B8353=\"\",E8352,IF(D8353=\"\",E8352,D8353/MAX($D$8:D8353)-1)))","v":""}]
[null,null,null,null,{"$f":"IF(A8354=\"\",\"\",IF(B8354=\"\",E8353,IF(D8354=\"\",E8353,D8354/MAX($D$8:D8354)-1)))","v":""}]
[null,null,null,null,{"$f":"IF(A8355=\"\",\"\",IF(B8355=\"\",E8354,IF(D8355=\"\",E8354,D8355/MAX($D$8:D8355)-1)))","v":""}]
[null,null,null,null,{"$f":"IF(A8356=\"\",\"\",IF(B8356=\"\",E8355,IF(D8356=\"\",E8355,D8356/MAX($D$8:D8356)-1)))","v":""}]
[null,null,null,null,{"$f":"IF(A8357=\"\",\"\",IF(B8357=\"\",E8356,IF(D8357=\"\",E8356,D8357/MAX($D$8:D8357)-1)))","v":""}]
[null,null,null,null,{"$f":"IF(A8358=\"\",\"\",IF(B8358=\"\",E8357,IF(D8358=\"\",E8357,D8358/MAX($D$8:D8358)-1)))","v":""}]
[null,null,null,null,{"$f":"IF(A8359=\"\",\"\",IF(B8359=\"\",E8358,IF(D8359=\"\",E8358,D8359/MAX($D$8:D8359)-1)))","v":""}]
[null,null,null,null,{"$f":"IF(A8360=\"\",\"\",IF(B8360=\"\",E8359,IF(D8360=\"\",E8359,D8360/MAX($D$8:D8360)-1)))","v":""}]
[null,null,null,null,{"$f":"IF(A8361=\"\",\"\",IF(B8361=\"\",E8360,IF(D8361=\"\",E8360,D8361/MAX($D$8:D8361)-1)))","v":""}]
[null,null,null,null,{"$f":"IF(A8362=\"\",\"\",IF(B8362=\"\",E8361,IF(D8362=\"\",E8361,D8362/MAX($D$8:D8362)-1)))","v":""}]
[null,null,null,null,{"$f":"IF(A8363=\"\",\"\",IF(B8363=\"\",E8362,IF(D8363=\"\",E8362,D8363/MAX($D$8:D8363)-1)))","v":""}]
[null,null,null,null,{"$f":"IF(A8364=\"\",\"\",IF(B8364=\"\",E8363,IF(D8364=\"\",E8363,D8364/MAX($D$8:D8364)-1)))","v":""}]
[null,null,null,null,{"$f":"IF(A8365=\"\",\"\",IF(B8365=\"\",E8364,IF(D8365=\"\",E8364,D8365/MAX($D$8:D8365)-1)))","v":""}]
[null,null,null,null,{"$f":"IF(A8366=\"\",\"\",IF(B8366=\"\",E8365,IF(D8366=\"\",E8365,D8366/MAX($D$8:D8366)-1)))","v":""}]
[null,null,null,null,{"$f":"IF(A8367=\"\",\"\",IF(B8367=\"\",E8366,IF(D8367=\"\",E8366,D8367/MAX($D$8:D8367)-1)))","v":""}]
[null,null,null,null,{"$f":"IF(A8368=\"\",\"\",IF(B8368=\"\",E8367,IF(D8368=\"\",E8367,D8368/MAX($D$8:D8368)-1)))","v":""}]
[null,null,null,null,{"$f":"IF(A8369=\"\",\"\",IF(B8369=\"\",E8368,IF(D8369=\"\",E8368,D8369/MAX($D$8:D8369)-1)))","v":""}]
[null,null,null,null,{"$f":"IF(A8370=\"\",\"\",IF(B8370=\"\",E8369,IF(D8370=\"\",E8369,D8370/MAX($D$8:D8370)-1)))","v":""}]
[null,null,null,null,{"$f":"IF(A8371=\"\",\"\",IF(B8371=\"\",E8370,IF(D8371=\"\",E8370,D8371/MAX($D$8:D8371)-1)))","v":""}]
[null,null,null,null,{"$f":"IF(A8372=\"\",\"\",IF(B8372=\"\",E8371,IF(D8372=\"\",E8371,D8372/MAX($D$8:D8372)-1)))","v":""}]
[null,null,null,null,{"$f":"IF(A8373=\"\",\"\",IF(B8373=\"\",E8372,IF(D8373=\"\",E8372,D8373/MAX($D$8:D8373)-1)))","v":""}]
[null,null,null,null,{"$f":"IF(A8374=\"\",\"\",IF(B8374=\"\",E8373,IF(D8374=\"\",E8373,D8374/MAX($D$8:D8374)-1)))","v":""}]
[null,null,null,null,{"$f":"IF(A8375=\"\",\"\",IF(B8375=\"\",E8374,IF(D8375=\"\",E8374,D8375/MAX($D$8:D8375)-1)))","v":""}]
[null,null,null,null,{"$f":"IF(A8376=\"\",\"\",IF(B8376=\"\",E8375,IF(D8376=\"\",E8375,D8376/MAX($D$8:D8376)-1)))","v":""}]
[null,null,null,null,{"$f":"IF(A8377=\"\",\"\",IF(B8377=\"\",E8376,IF(D8377=\"\",E8376,D8377/MAX($D$8:D8377)-1)))","v":""}]
[null,null,null,null,{"$f":"IF(A8378=\"\",\"\",IF(B8378=\"\",E8377,IF(D8378=\"\",E8377,D8378/MAX($D$8:D8378)-1)))","v":""}]
[null,null,null,null,{"$f":"IF(A8379=\"\",\"\",IF(B8379=\"\",E8378,IF(D8379=\"\",E8378,D8379/MAX($D$8:D8379)-1)))","v":""}]
[null,null,null,null,{"$f":"IF(A8380=\"\",\"\",IF(B8380=\"\",E8379,IF(D8380=\"\",E8379,D8380/MAX($D$8:D8380)-1)))","v":""}]
[null,null,null,null,{"$f":"IF(A8381=\"\",\"\",IF(B8381=\"\",E8380,IF(D8381=\"\",E8380,D8381/MAX($D$8:D8381)-1)))","v":""}]
[null,null,null,null,{"$f":"IF(A8382=\"\",\"\",IF(B8382=\"\",E8381,IF(D8382=\"\",E8381,D8382/MAX($D$8:D8382)-1)))","v":""}]
[null,null,null,null,{"$f":"IF(A8383=\"\",\"\",IF(B8383=\"\",E8382,IF(D8383=\"\",E8382,D8383/MAX($D$8:D8383)-1)))","v":""}]
[null,null,null,null,{"$f":"IF(A8384=\"\",\"\",IF(B8384=\"\",E8383,IF(D8384=\"\",E8383,D8384/MAX($D$8:D8384)-1)))","v":""}]
[null,null,null,null,{"$f":"IF(A8385=\"\",\"\",IF(B8385=\"\",E8384,IF(D8385=\"\",E8384,D8385/MAX($D$8:D8385)-1)))","v":""}]
[null,null,null,null,{"$f":"IF(A8386=\"\",\"\",IF(B8386=\"\",E8385,IF(D8386=\"\",E8385,D8386/MAX($D$8:D8386)-1)))","v":""}]
[null,null,null,null,{"$f":"IF(A8387=\"\",\"\",IF(B8387=\"\",E8386,IF(D8387=\"\",E8386,D8387/MAX($D$8:D8387)-1)))","v":""}]
[null,null,null,null,{"$f":"IF(A8388=\"\",\"\",IF(B8388=\"\",E8387,IF(D8388=\"\",E8387,D8388/MAX($D$8:D8388)-1)))","v":""}]
[null,null,null,null,{"$f":"IF(A8389=\"\",\"\",IF(B8389=\"\",E8388,IF(D8389=\"\",E8388,D8389/MAX($D$8:D8389)-1)))","v":""}]
[null,null,null,null,{"$f":"IF(A8390=\"\",\"\",IF(B8390=\"\",E8389,IF(D8390=\"\",E8389,D8390/MAX($D$8:D8390)-1)))","v":""}]
[null,null,null,null,{"$f":"IF(A8391=\"\",\"\",IF(B8391=\"\",E8390,IF(D8391=\"\",E8390,D8391/MAX($D$8:D8391)-1)))","v":""}]
[null,null,null,null,{"$f":"IF(A8392=\"\",\"\",IF(B8392=\"\",E8391,IF(D8392=\"\",E8391,D8392/MAX($D$8:D8392)-1)))","v":""}]
[null,null,null,null,{"$f":"IF(A8393=\"\",\"\",IF(B8393=\"\",E8392,IF(D8393=\"\",E8392,D8393/MAX($D$8:D8393)-1)))","v":""}]
[null,null,null,null,{"$f":"IF(A8394=\"\",\"\",IF(B8394=\"\",E8393,IF(D8394=\"\",E8393,D8394/MAX($D$8:D8394)-1)))","v":""}]
[null,null,null,null,{"$f":"IF(A8395=\"\",\"\",IF(B8395=\"\",E8394,IF(D8395=\"\",E8394,D8395/MAX($D$8:D8395)-1)))","v":""}]
[null,null,null,null,{"$f":"IF(A8396=\"\",\"\",IF(B8396=\"\",E8395,IF(D8396=\"\",E8395,D8396/MAX($D$8:D8396)-1)))","v":""}]
[null,null,null,null,{"$f":"IF(A8397=\"\",\"\",IF(B8397=\"\",E8396,IF(D8397=\"\",E8396,D8397/MAX($D$8:D8397)-1)))","v":""}]
[null,null,null,null,{"$f":"IF(A8398=\"\",\"\",IF(B8398=\"\",E8397,IF(D8398=\"\",E8397,D8398/MAX($D$8:D8398)-1)))","v":""}]
[null,null,null,null,{"$f":"IF(A8399=\"\",\"\",IF(B8399=\"\",E8398,IF(D8399=\"\",E8398,D8399/MAX($D$8:D8399)-1)))","v":""}]
[null,null,null,null,{"$f":"IF(A8400=\"\",\"\",IF(B8400=\"\",E8399,IF(D8400=\"\",E8399,D8400/MAX($D$8:D8400)-1)))","v":""}]
[null,null,null,null,{"$f":"IF(A8401=\"\",\"\",IF(B8401=\"\",E8400,IF(D8401=\"\",E8400,D8401/MAX($D$8:D8401)-1)))","v":""}]
[null,null,null,null,{"$f":"IF(A8402=\"\",\"\",IF(B8402=\"\",E8401,IF(D8402=\"\",E8401,D8402/MAX($D$8:D8402)-1)))","v":""}]
[null,null,null,null,{"$f":"IF(A8403=\"\",\"\",IF(B8403=\"\",E8402,IF(D8403=\"\",E8402,D8403/MAX($D$8:D8403)-1)))","v":""}]
[null,null,null,null,{"$f":"IF(A8404=\"\",\"\",IF(B8404=\"\",E8403,IF(D8404=\"\",E8403,D8404/MAX($D$8:D8404)-1)))","v":""}]
[null,null,null,null,{"$f":"IF(A8405=\"\",\"\",IF(B8405=\"\",E8404,IF(D8405=\"\",E8404,D8405/MAX($D$8:D8405)-1)))","v":""}]
[null,null,null,null,{"$f":"IF(A8406=\"\",\"\",IF(B8406=\"\",E8405,IF(D8406=\"\",E8405,D8406/MAX($D$8:D8406)-1)))","v":""}]
[null,null,null,null,{"$f":"IF(A8407=\"\",\"\",IF(B8407=\"\",E8406,IF(D8407=\"\",E8406,D8407/MAX($D$8:D8407)-1)))","v":""}]
[null,null,null,null,{"$f":"IF(A8408=\"\",\"\",IF(B8408=\"\",E8407,IF(D8408=\"\",E8407,D8408/MAX($D$8:D8408)-1)))","v":""}]
[null,null,null,null,{"$f":"IF(A8409=\"\",\"\",IF(B8409=\"\",E8408,IF(D8409=\"\",E8408,D8409/MAX($D$8:D8409)-1)))","v":""}]
[null,null,null,null,{"$f":"IF(A8410=\"\",\"\",IF(B8410=\"\",E8409,IF(D8410=\"\",E8409,D8410/MAX($D$8:D8410)-1)))","v":""}]
[null,null,null,null,{"$f":"IF(A8411=\"\",\"\",IF(B8411=\"\",E8410,IF(D8411=\"\",E8410,D8411/MAX($D$8:D8411)-1)))","v":""}]
[null,null,null,null,{"$f":"IF(A8412=\"\",\"\",IF(B8412=\"\",E8411,IF(D8412=\"\",E8411,D8412/MAX($D$8:D8412)-1)))","v":""}]
[null,null,null,null,{"$f":"IF(A8413=\"\",\"\",IF(B8413=\"\",E8412,IF(D8413=\"\",E8412,D8413/MAX($D$8:D8413)-1)))","v":""}]
[null,null,null,null,{"$f":"IF(A8414=\"\",\"\",IF(B8414=\"\",E8413,IF(D8414=\"\",E8413,D8414/MAX($D$8:D8414)-1)))","v":""}]
[null,null,null,null,{"$f":"IF(A8415=\"\",\"\",IF(B8415=\"\",E8414,IF(D8415=\"\",E8414,D8415/MAX($D$8:D8415)-1)))","v":""}]
[null,null,null,null,{"$f":"IF(A8416=\"\",\"\",IF(B8416=\"\",E8415,IF(D8416=\"\",E8415,D8416/MAX($D$8:D8416)-1)))","v":""}]
[null,null,null,null,{"$f":"IF(A8417=\"\",\"\",IF(B8417=\"\",E8416,IF(D8417=\"\",E8416,D8417/MAX($D$8:D8417)-1)))","v":""}]
[null,null,null,null,{"$f":"IF(A8418=\"\",\"\",IF(B8418=\"\",E8417,IF(D8418=\"\",E8417,D8418/MAX($D$8:D8418)-1)))","v":""}]
[null,null,null,null,{"$f":"IF(A8419=\"\",\"\",IF(B8419=\"\",E8418,IF(D8419=\"\",E8418,D8419/MAX($D$8:D8419)-1)))","v":""}]
[null,null,null,null,{"$f":"IF(A8420=\"\",\"\",IF(B8420=\"\",E8419,IF(D8420=\"\",E8419,D8420/MAX($D$8:D8420)-1)))","v":""}]
[null,null,null,null,{"$f":"IF(A8421=\"\",\"\",IF(B8421=\"\",E8420,IF(D8421=\"\",E8420,D8421/MAX($D$8:D8421)-1)))","v":""}]
[null,null,null,null,{"$f":"IF(A8422=\"\",\"\",IF(B8422=\"\",E8421,IF(D8422=\"\",E8421,D8422/MAX($D$8:D8422)-1)))","v":""}]
[null,null,null,null,{"$f":"IF(A8423=\"\",\"\",IF(B8423=\"\",E8422,IF(D8423=\"\",E8422,D8423/MAX($D$8:D8423)-1)))","v":""}]
[null,null,null,null,{"$f":"IF(A8424=\"\",\"\",IF(B8424=\"\",E8423,IF(D8424=\"\",E8423,D8424/MAX($D$8:D8424)-1)))","v":""}]
[null,null,null,null,{"$f":"IF(A8425=\"\",\"\",IF(B8425=\"\",E8424,IF(D8425=\"\",E8424,D8425/MAX($D$8:D8425)-1)))","v":""}]
[null,null,null,null,{"$f":"IF(A8426=\"\",\"\",IF(B8426=\"\",E8425,IF(D8426=\"\",E8425,D8426/MAX($D$8:D8426)-1)))","v":""}]
[null,null,null,null,{"$f":"IF(A8427=\"\",\"\",IF(B8427=\"\",E8426,IF(D8427=\"\",E8426,D8427/MAX($D$8:D8427)-1)))","v":""}]
[null,null,null,null,{"$f":"IF(A8428=\"\",\"\",IF(B8428=\"\",E8427,IF(D8428=\"\",E8427,D8428/MAX($D$8:D8428)-1)))","v":""}]
[null,null,null,null,{"$f":"IF(A8429=\"\",\"\",IF(B8429=\"\",E8428,IF(D8429=\"\",E8428,D8429/MAX($D$8:D8429)-1)))","v":""}]
[null,null,null,null,{"$f":"IF(A8430=\"\",\"\",IF(B8430=\"\",E8429,IF(D8430=\"\",E8429,D8430/MAX($D$8:D8430)-1)))","v":""}]
[null,null,null,null,{"$f":"IF(A8431=\"\",\"\",IF(B8431=\"\",E8430,IF(D8431=\"\",E8430,D8431/MAX($D$8:D8431)-1)))","v":""}]
[null,null,null,null,{"$f":"IF(A8432=\"\",\"\",IF(B8432=\"\",E8431,IF(D8432=\"\",E8431,D8432/MAX($D$8:D8432)-1)))","v":""}]
[null,null,null,null,{"$f":"IF(A8433=\"\",\"\",IF(B8433=\"\",E8432,IF(D8433=\"\",E8432,D8433/MAX($D$8:D8433)-1)))","v":""}]
[null,null,null,null,{"$f":"IF(A8434=\"\",\"\",IF(B8434=\"\",E8433,IF(D8434=\"\",E8433,D8434/MAX($D$8:D8434)-1)))","v":""}]
[null,null,null,null,{"$f":"IF(A8435=\"\",\"\",IF(B8435=\"\",E8434,IF(D8435=\"\",E8434,D8435/MAX($D$8:D8435)-1)))","v":""}]
[null,null,null,null,{"$f":"IF(A8436=\"\",\"\",IF(B8436=\"\",E8435,IF(D8436=\"\",E8435,D8436/MAX($D$8:D8436)-1)))","v":""}]
[null,null,null,null,{"$f":"IF(A8437=\"\",\"\",IF(B8437=\"\",E8436,IF(D8437=\"\",E8436,D8437/MAX($D$8:D8437)-1)))","v":""}]
[null,null,null,null,{"$f":"IF(A8438=\"\",\"\",IF(B8438=\"\",E8437,IF(D8438=\"\",E8437,D8438/MAX($D$8:D8438)-1)))","v":""}]
[null,null,null,null,{"$f":"IF(A8439=\"\",\"\",IF(B8439=\"\",E8438,IF(D8439=\"\",E8438,D8439/MAX($D$8:D8439)-1)))","v":""}]
[null,null,null,null,{"$f":"IF(A8440=\"\",\"\",IF(B8440=\"\",E8439,IF(D8440=\"\",E8439,D8440/MAX($D$8:D8440)-1)))","v":""}]
[null,null,null,null,{"$f":"IF(A8441=\"\",\"\",IF(B8441=\"\",E8440,IF(D8441=\"\",E8440,D8441/MAX($D$8:D8441)-1)))","v":""}]
[null,null,null,null,{"$f":"IF(A8442=\"\",\"\",IF(B8442=\"\",E8441,IF(D8442=\"\",E8441,D8442/MAX($D$8:D8442)-1)))","v":""}]
[null,null,null,null,{"$f":"IF(A8443=\"\",\"\",IF(B8443=\"\",E8442,IF(D8443=\"\",E8442,D8443/MAX($D$8:D8443)-1)))","v":""}]
[null,null,null,null,{"$f":"IF(A8444=\"\",\"\",IF(B8444=\"\",E8443,IF(D8444=\"\",E8443,D8444/MAX($D$8:D8444)-1)))","v":""}]
[null,null,null,null,{"$f":"IF(A8445=\"\",\"\",IF(B8445=\"\",E8444,IF(D8445=\"\",E8444,D8445/MAX($D$8:D8445)-1)))","v":""}]
[null,null,null,null,{"$f":"IF(A8446=\"\",\"\",IF(B8446=\"\",E8445,IF(D8446=\"\",E8445,D8446/MAX($D$8:D8446)-1)))","v":""}]
[null,null,null,null,{"$f":"IF(A8447=\"\",\"\",IF(B8447=\"\",E8446,IF(D8447=\"\",E8446,D8447/MAX($D$8:D8447)-1)))","v":""}]
[null,null,null,null,{"$f":"IF(A8448=\"\",\"\",IF(B8448=\"\",E8447,IF(D8448=\"\",E8447,D8448/MAX($D$8:D8448)-1)))","v":""}]
[null,null,null,null,{"$f":"IF(A8449=\"\",\"\",IF(B8449=\"\",E8448,IF(D8449=\"\",E8448,D8449/MAX($D$8:D8449)-1)))","v":""}]
[null,null,null,null,{"$f":"IF(A8450=\"\",\"\",IF(B8450=\"\",E8449,IF(D8450=\"\",E8449,D8450/MAX($D$8:D8450)-1)))","v":""}]
[null,null,null,null,{"$f":"IF(A8451=\"\",\"\",IF(B8451=\"\",E8450,IF(D8451=\"\",E8450,D8451/MAX($D$8:D8451)-1)))","v":""}]
[null,null,null,null,{"$f":"IF(A8452=\"\",\"\",IF(B8452=\"\",E8451,IF(D8452=\"\",E8451,D8452/MAX($D$8:D8452)-1)))","v":""}]
[null,null,null,null,{"$f":"IF(A8453=\"\",\"\",IF(B8453=\"\",E8452,IF(D8453=\"\",E8452,D8453/MAX($D$8:D8453)-1)))","v":""}]
[null,null,null,null,{"$f":"IF(A8454=\"\",\"\",IF(B8454=\"\",E8453,IF(D8454=\"\",E8453,D8454/MAX($D$8:D8454)-1)))","v":""}]
[null,null,null,null,{"$f":"IF(A8455=\"\",\"\",IF(B8455=\"\",E8454,IF(D8455=\"\",E8454,D8455/MAX($D$8:D8455)-1)))","v":""}]
[null,null,null,null,{"$f":"IF(A8456=\"\",\"\",IF(B8456=\"\",E8455,IF(D8456=\"\",E8455,D8456/MAX($D$8:D8456)-1)))","v":""}]
[null,null,null,null,{"$f":"IF(A8457=\"\",\"\",IF(B8457=\"\",E8456,IF(D8457=\"\",E8456,D8457/MAX($D$8:D8457)-1)))","v":""}]
[null,null,null,null,{"$f":"IF(A8458=\"\",\"\",IF(B8458=\"\",E8457,IF(D8458=\"\",E8457,D8458/MAX($D$8:D8458)-1)))","v":""}]
[null,null,null,null,{"$f":"IF(A8459=\"\",\"\",IF(B8459=\"\",E8458,IF(D8459=\"\",E8458,D8459/MAX($D$8:D8459)-1)))","v":""}]
[null,null,null,null,{"$f":"IF(A8460=\"\",\"\",IF(B8460=\"\",E8459,IF(D8460=\"\",E8459,D8460/MAX($D$8:D8460)-1)))","v":""}]
[null,null,null,null,{"$f":"IF(A8461=\"\",\"\",IF(B8461=\"\",E8460,IF(D8461=\"\",E8460,D8461/MAX($D$8:D8461)-1)))","v":""}]
[null,null,null,null,{"$f":"IF(A8462=\"\",\"\",IF(B8462=\"\",E8461,IF(D8462=\"\",E8461,D8462/MAX($D$8:D8462)-1)))","v":""}]
[null,null,null,null,{"$f":"IF(A8463=\"\",\"\",IF(B8463=\"\",E8462,IF(D8463=\"\",E8462,D8463/MAX($D$8:D8463)-1)))","v":""}]
[null,null,null,null,{"$f":"IF(A8464=\"\",\"\",IF(B8464=\"\",E8463,IF(D8464=\"\",E8463,D8464/MAX($D$8:D8464)-1)))","v":""}]
[null,null,null,null,{"$f":"IF(A8465=\"\",\"\",IF(B8465=\"\",E8464,IF(D8465=\"\",E8464,D8465/MAX($D$8:D8465)-1)))","v":""}]
[null,null,null,null,{"$f":"IF(A8466=\"\",\"\",IF(B8466=\"\",E8465,IF(D8466=\"\",E8465,D8466/MAX($D$8:D8466)-1)))","v":""}]
[null,null,null,null,{"$f":"IF(A8467=\"\",\"\",IF(B8467=\"\",E8466,IF(D8467=\"\",E8466,D8467/MAX($D$8:D8467)-1)))","v":""}]
[null,null,null,null,{"$f":"IF(A8468=\"\",\"\",IF(B8468=\"\",E8467,IF(D8468=\"\",E8467,D8468/MAX($D$8:D8468)-1)))","v":""}]
[null,null,null,null,{"$f":"IF(A8469=\"\",\"\",IF(B8469=\"\",E8468,IF(D8469=\"\",E8468,D8469/MAX($D$8:D8469)-1)))","v":""}]
[null,null,null,null,{"$f":"IF(A8470=\"\",\"\",IF(B8470=\"\",E8469,IF(D8470=\"\",E8469,D8470/MAX($D$8:D8470)-1)))","v":""}]
[null,null,null,null,{"$f":"IF(A8471=\"\",\"\",IF(B8471=\"\",E8470,IF(D8471=\"\",E8470,D8471/MAX($D$8:D8471)-1)))","v":""}]
[null,null,null,null,{"$f":"IF(A8472=\"\",\"\",IF(B8472=\"\",E8471,IF(D8472=\"\",E8471,D8472/MAX($D$8:D8472)-1)))","v":""}]
[null,null,null,null,{"$f":"IF(A8473=\"\",\"\",IF(B8473=\"\",E8472,IF(D8473=\"\",E8472,D8473/MAX($D$8:D8473)-1)))","v":""}]
[null,null,null,null,{"$f":"IF(A8474=\"\",\"\",IF(B8474=\"\",E8473,IF(D8474=\"\",E8473,D8474/MAX($D$8:D8474)-1)))","v":""}]
[null,null,null,null,{"$f":"IF(A8475=\"\",\"\",IF(B8475=\"\",E8474,IF(D8475=\"\",E8474,D8475/MAX($D$8:D8475)-1)))","v":""}]
[null,null,null,null,{"$f":"IF(A8476=\"\",\"\",IF(B8476=\"\",E8475,IF(D8476=\"\",E8475,D8476/MAX($D$8:D8476)-1)))","v":""}]
[null,null,null,null,{"$f":"IF(A8477=\"\",\"\",IF(B8477=\"\",E8476,IF(D8477=\"\",E8476,D8477/MAX($D$8:D8477)-1)))","v":""}]
[null,null,null,null,{"$f":"IF(A8478=\"\",\"\",IF(B8478=\"\",E8477,IF(D8478=\"\",E8477,D8478/MAX($D$8:D8478)-1)))","v":""}]
[null,null,null,null,{"$f":"IF(A8479=\"\",\"\",IF(B8479=\"\",E8478,IF(D8479=\"\",E8478,D8479/MAX($D$8:D8479)-1)))","v":""}]
[null,null,null,null,{"$f":"IF(A8480=\"\",\"\",IF(B8480=\"\",E8479,IF(D8480=\"\",E8479,D8480/MAX($D$8:D8480)-1)))","v":""}]
[null,null,null,null,{"$f":"IF(A8481=\"\",\"\",IF(B8481=\"\",E8480,IF(D8481=\"\",E8480,D8481/MAX($D$8:D8481)-1)))","v":""}]
[null,null,null,null,{"$f":"IF(A8482=\"\",\"\",IF(B8482=\"\",E8481,IF(D8482=\"\",E8481,D8482/MAX($D$8:D8482)-1)))","v":""}]
[null,null,null,null,{"$f":"IF(A8483=\"\",\"\",IF(B8483=\"\",E8482,IF(D8483=\"\",E8482,D8483/MAX($D$8:D8483)-1)))","v":""}]
[null,null,null,null,{"$f":"IF(A8484=\"\",\"\",IF(B8484=\"\",E8483,IF(D8484=\"\",E8483,D8484/MAX($D$8:D8484)-1)))","v":""}]
[null,null,null,null,{"$f":"IF(A8485=\"\",\"\",IF(B8485=\"\",E8484,IF(D8485=\"\",E8484,D8485/MAX($D$8:D8485)-1)))","v":""}]
[null,null,null,null,{"$f":"IF(A8486=\"\",\"\",IF(B8486=\"\",E8485,IF(D8486=\"\",E8485,D8486/MAX($D$8:D8486)-1)))","v":""}]
[null,null,null,null,{"$f":"IF(A8487=\"\",\"\",IF(B8487=\"\",E8486,IF(D8487=\"\",E8486,D8487/MAX($D$8:D8487)-1)))","v":""}]
[null,null,null,null,{"$f":"IF(A8488=\"\",\"\",IF(B8488=\"\",E8487,IF(D8488=\"\",E8487,D8488/MAX($D$8:D8488)-1)))","v":""}]
[null,null,null,null,{"$f":"IF(A8489=\"\",\"\",IF(B8489=\"\",E8488,IF(D8489=\"\",E8488,D8489/MAX($D$8:D8489)-1)))","v":""}]
[null,null,null,null,{"$f":"IF(A8490=\"\",\"\",IF(B8490=\"\",E8489,IF(D8490=\"\",E8489,D8490/MAX($D$8:D8490)-1)))","v":""}]
[null,null,null,null,{"$f":"IF(A8491=\"\",\"\",IF(B8491=\"\",E8490,IF(D8491=\"\",E8490,D8491/MAX($D$8:D8491)-1)))","v":""}]
[null,null,null,null,{"$f":"IF(A8492=\"\",\"\",IF(B8492=\"\",E8491,IF(D8492=\"\",E8491,D8492/MAX($D$8:D8492)-1)))","v":""}]
[null,null,null,null,{"$f":"IF(A8493=\"\",\"\",IF(B8493=\"\",E8492,IF(D8493=\"\",E8492,D8493/MAX($D$8:D8493)-1)))","v":""}]
[null,null,null,null,{"$f":"IF(A8494=\"\",\"\",IF(B8494=\"\",E8493,IF(D8494=\"\",E8493,D8494/MAX($D$8:D8494)-1)))","v":""}]
[null,null,null,null,{"$f":"IF(A8495=\"\",\"\",IF(B8495=\"\",E8494,IF(D8495=\"\",E8494,D8495/MAX($D$8:D8495)-1)))","v":""}]
[null,null,null,null,{"$f":"IF(A8496=\"\",\"\",IF(B8496=\"\",E8495,IF(D8496=\"\",E8495,D8496/MAX($D$8:D8496)-1)))","v":""}]
[null,null,null,null,{"$f":"IF(A8497=\"\",\"\",IF(B8497=\"\",E8496,IF(D8497=\"\",E8496,D8497/MAX($D$8:D8497)-1)))","v":""}]
[null,null,null,null,{"$f":"IF(A8498=\"\",\"\",IF(B8498=\"\",E8497,IF(D8498=\"\",E8497,D8498/MAX($D$8:D8498)-1)))","v":""}]
[null,null,null,null,{"$f":"IF(A8499=\"\",\"\",IF(B8499=\"\",E8498,IF(D8499=\"\",E8498,D8499/MAX($D$8:D8499)-1)))","v":""}]
[null,null,null,null,{"$f":"IF(A8500=\"\",\"\",IF(B8500=\"\",E8499,IF(D8500=\"\",E8499,D8500/MAX($D$8:D8500)-1)))","v":""}]
[null,null,null,null,{"$f":"IF(A8501=\"\",\"\",IF(B8501=\"\",E8500,IF(D8501=\"\",E8500,D8501/MAX($D$8:D8501)-1)))","v":""}]
[null,null,null,null,{"$f":"IF(A8502=\"\",\"\",IF(B8502=\"\",E8501,IF(D8502=\"\",E8501,D8502/MAX($D$8:D8502)-1)))","v":""}]
[null,null,null,null,{"$f":"IF(A8503=\"\",\"\",IF(B8503=\"\",E8502,IF(D8503=\"\",E8502,D8503/MAX($D$8:D8503)-1)))","v":""}]
[null,null,null,null,{"$f":"IF(A8504=\"\",\"\",IF(B8504=\"\",E8503,IF(D8504=\"\",E8503,D8504/MAX($D$8:D8504)-1)))","v":""}]
[null,null,null,null,{"$f":"IF(A8505=\"\",\"\",IF(B8505=\"\",E8504,IF(D8505=\"\",E8504,D8505/MAX($D$8:D8505)-1)))","v":""}]
[null,null,null,null,{"$f":"IF(A8506=\"\",\"\",IF(B8506=\"\",E8505,IF(D8506=\"\",E8505,D8506/MAX($D$8:D8506)-1)))","v":""}]
[null,null,null,null,{"$f":"IF(A8507=\"\",\"\",IF(B8507=\"\",E8506,IF(D8507=\"\",E8506,D8507/MAX($D$8:D8507)-1)))","v":""}]
[null,null,null,null,{"$f":"IF(A8508=\"\",\"\",IF(B8508=\"\",E8507,IF(D8508=\"\",E8507,D8508/MAX($D$8:D8508)-1)))","v":""}]
[null,null,null,null,{"$f":"IF(A8509=\"\",\"\",IF(B8509=\"\",E8508,IF(D8509=\"\",E8508,D8509/MAX($D$8:D8509)-1)))","v":""}]
[null,null,null,null,{"$f":"IF(A8510=\"\",\"\",IF(B8510=\"\",E8509,IF(D8510=\"\",E8509,D8510/MAX($D$8:D8510)-1)))","v":""}]
[null,null,null,null,{"$f":"IF(A8511=\"\",\"\",IF(B8511=\"\",E8510,IF(D8511=\"\",E8510,D8511/MAX($D$8:D8511)-1)))","v":""}]
[null,null,null,null,{"$f":"IF(A8512=\"\",\"\",IF(B8512=\"\",E8511,IF(D8512=\"\",E8511,D8512/MAX($D$8:D8512)-1)))","v":""}]
[null,null,null,null,{"$f":"IF(A8513=\"\",\"\",IF(B8513=\"\",E8512,IF(D8513=\"\",E8512,D8513/MAX($D$8:D8513)-1)))","v":""}]
[null,null,null,null,{"$f":"IF(A8514=\"\",\"\",IF(B8514=\"\",E8513,IF(D8514=\"\",E8513,D8514/MAX($D$8:D8514)-1)))","v":""}]
[null,null,null,null,{"$f":"IF(A8515=\"\",\"\",IF(B8515=\"\",E8514,IF(D8515=\"\",E8514,D8515/MAX($D$8:D8515)-1)))","v":""}]
[null,null,null,null,{"$f":"IF(A8516=\"\",\"\",IF(B8516=\"\",E8515,IF(D8516=\"\",E8515,D8516/MAX($D$8:D8516)-1)))","v":""}]
[null,null,null,null,{"$f":"IF(A8517=\"\",\"\",IF(B8517=\"\",E8516,IF(D8517=\"\",E8516,D8517/MAX($D$8:D8517)-1)))","v":""}]
[null,null,null,null,{"$f":"IF(A8518=\"\",\"\",IF(B8518=\"\",E8517,IF(D8518=\"\",E8517,D8518/MAX($D$8:D8518)-1)))","v":""}]
[null,null,null,null,{"$f":"IF(A8519=\"\",\"\",IF(B8519=\"\",E8518,IF(D8519=\"\",E8518,D8519/MAX($D$8:D8519)-1)))","v":""}]
[null,null,null,null,{"$f":"IF(A8520=\"\",\"\",IF(B8520=\"\",E8519,IF(D8520=\"\",E8519,D8520/MAX($D$8:D8520)-1)))","v":""}]
[null,null,null,null,{"$f":"IF(A8521=\"\",\"\",IF(B8521=\"\",E8520,IF(D8521=\"\",E8520,D8521/MAX($D$8:D8521)-1)))","v":""}]
[null,null,null,null,{"$f":"IF(A8522=\"\",\"\",IF(B8522=\"\",E8521,IF(D8522=\"\",E8521,D8522/MAX($D$8:D8522)-1)))","v":""}]
[null,null,null,null,{"$f":"IF(A8523=\"\",\"\",IF(B8523=\"\",E8522,IF(D8523=\"\",E8522,D8523/MAX($D$8:D8523)-1)))","v":""}]
[null,null,null,null,{"$f":"IF(A8524=\"\",\"\",IF(B8524=\"\",E8523,IF(D8524=\"\",E8523,D8524/MAX($D$8:D8524)-1)))","v":""}]
[null,null,null,null,{"$f":"IF(A8525=\"\",\"\",IF(B8525=\"\",E8524,IF(D8525=\"\",E8524,D8525/MAX($D$8:D8525)-1)))","v":""}]
[null,null,null,null,{"$f":"IF(A8526=\"\",\"\",IF(B8526=\"\",E8525,IF(D8526=\"\",E8525,D8526/MAX($D$8:D8526)-1)))","v":""}]
[null,null,null,null,{"$f":"IF(A8527=\"\",\"\",IF(B8527=\"\",E8526,IF(D8527=\"\",E8526,D8527/MAX($D$8:D8527)-1)))","v":""}]
[null,null,null,null,{"$f":"IF(A8528=\"\",\"\",IF(B8528=\"\",E8527,IF(D8528=\"\",E8527,D8528/MAX($D$8:D8528)-1)))","v":""}]
[null,null,null,null,{"$f":"IF(A8529=\"\",\"\",IF(B8529=\"\",E8528,IF(D8529=\"\",E8528,D8529/MAX($D$8:D8529)-1)))","v":""}]
[null,null,null,null,{"$f":"IF(A8530=\"\",\"\",IF(B8530=\"\",E8529,IF(D8530=\"\",E8529,D8530/MAX($D$8:D8530)-1)))","v":""}]
[null,null,null,null,{"$f":"IF(A8531=\"\",\"\",IF(B8531=\"\",E8530,IF(D8531=\"\",E8530,D8531/MAX($D$8:D8531)-1)))","v":""}]
[null,null,null,null,{"$f":"IF(A8532=\"\",\"\",IF(B8532=\"\",E8531,IF(D8532=\"\",E8531,D8532/MAX($D$8:D8532)-1)))","v":""}]
[null,null,null,null,{"$f":"IF(A8533=\"\",\"\",IF(B8533=\"\",E8532,IF(D8533=\"\",E8532,D8533/MAX($D$8:D8533)-1)))","v":""}]
[null,null,null,null,{"$f":"IF(A8534=\"\",\"\",IF(B8534=\"\",E8533,IF(D8534=\"\",E8533,D8534/MAX($D$8:D8534)-1)))","v":""}]
[null,null,null,null,{"$f":"IF(A8535=\"\",\"\",IF(B8535=\"\",E8534,IF(D8535=\"\",E8534,D8535/MAX($D$8:D8535)-1)))","v":""}]
[null,null,null,null,{"$f":"IF(A8536=\"\",\"\",IF(B8536=\"\",E8535,IF(D8536=\"\",E8535,D8536/MAX($D$8:D8536)-1)))","v":""}]
[null,null,null,null,{"$f":"IF(A8537=\"\",\"\",IF(B8537=\"\",E8536,IF(D8537=\"\",E8536,D8537/MAX($D$8:D8537)-1)))","v":""}]
[null,null,null,null,{"$f":"IF(A8538=\"\",\"\",IF(B8538=\"\",E8537,IF(D8538=\"\",E8537,D8538/MAX($D$8:D8538)-1)))","v":""}]
[null,null,null,null,{"$f":"IF(A8539=\"\",\"\",IF(B8539=\"\",E8538,IF(D8539=\"\",E8538,D8539/MAX($D$8:D8539)-1)))","v":""}]
[null,null,null,null,{"$f":"IF(A8540=\"\",\"\",IF(B8540=\"\",E8539,IF(D8540=\"\",E8539,D8540/MAX($D$8:D8540)-1)))","v":""}]
[null,null,null,null,{"$f":"IF(A8541=\"\",\"\",IF(B8541=\"\",E8540,IF(D8541=\"\",E8540,D8541/MAX($D$8:D8541)-1)))","v":""}]
[null,null,null,null,{"$f":"IF(A8542=\"\",\"\",IF(B8542=\"\",E8541,IF(D8542=\"\",E8541,D8542/MAX($D$8:D8542)-1)))","v":""}]
[null,null,null,null,{"$f":"IF(A8543=\"\",\"\",IF(B8543=\"\",E8542,IF(D8543=\"\",E8542,D8543/MAX($D$8:D8543)-1)))","v":""}]
[null,null,null,null,{"$f":"IF(A8544=\"\",\"\",IF(B8544=\"\",E8543,IF(D8544=\"\",E8543,D8544/MAX($D$8:D8544)-1)))","v":""}]
[null,null,null,null,{"$f":"IF(A8545=\"\",\"\",IF(B8545=\"\",E8544,IF(D8545=\"\",E8544,D8545/MAX($D$8:D8545)-1)))","v":""}]
[null,null,null,null,{"$f":"IF(A8546=\"\",\"\",IF(B8546=\"\",E8545,IF(D8546=\"\",E8545,D8546/MAX($D$8:D8546)-1)))","v":""}]
[null,null,null,null,{"$f":"IF(A8547=\"\",\"\",IF(B8547=\"\",E8546,IF(D8547=\"\",E8546,D8547/MAX($D$8:D8547)-1)))","v":""}]
[null,null,null,null,{"$f":"IF(A8548=\"\",\"\",IF(B8548=\"\",E8547,IF(D8548=\"\",E8547,D8548/MAX($D$8:D8548)-1)))","v":""}]
[null,null,null,null,{"$f":"IF(A8549=\"\",\"\",IF(B8549=\"\",E8548,IF(D8549=\"\",E8548,D8549/MAX($D$8:D8549)-1)))","v":""}]
[null,null,null,null,{"$f":"IF(A8550=\"\",\"\",IF(B8550=\"\",E8549,IF(D8550=\"\",E8549,D8550/MAX($D$8:D8550)-1)))","v":""}]
[null,null,null,null,{"$f":"IF(A8551=\"\",\"\",IF(B8551=\"\",E8550,IF(D8551=\"\",E8550,D8551/MAX($D$8:D8551)-1)))","v":""}]
[null,null,null,null,{"$f":"IF(A8552=\"\",\"\",IF(B8552=\"\",E8551,IF(D8552=\"\",E8551,D8552/MAX($D$8:D8552)-1)))","v":""}]
[null,null,null,null,{"$f":"IF(A8553=\"\",\"\",IF(B8553=\"\",E8552,IF(D8553=\"\",E8552,D8553/MAX($D$8:D8553)-1)))","v":""}]
[null,null,null,null,{"$f":"IF(A8554=\"\",\"\",IF(B8554=\"\",E8553,IF(D8554=\"\",E8553,D8554/MAX($D$8:D8554)-1)))","v":""}]
[null,null,null,null,{"$f":"IF(A8555=\"\",\"\",IF(B8555=\"\",E8554,IF(D8555=\"\",E8554,D8555/MAX($D$8:D8555)-1)))","v":""}]
[null,null,null,null,{"$f":"IF(A8556=\"\",\"\",IF(B8556=\"\",E8555,IF(D8556=\"\",E8555,D8556/MAX($D$8:D8556)-1)))","v":""}]
[null,null,null,null,{"$f":"IF(A8557=\"\",\"\",IF(B8557=\"\",E8556,IF(D8557=\"\",E8556,D8557/MAX($D$8:D8557)-1)))","v":""}]
[null,null,null,null,{"$f":"IF(A8558=\"\",\"\",IF(B8558=\"\",E8557,IF(D8558=\"\",E8557,D8558/MAX($D$8:D8558)-1)))","v":""}]
[null,null,null,null,{"$f":"IF(A8559=\"\",\"\",IF(B8559=\"\",E8558,IF(D8559=\"\",E8558,D8559/MAX($D$8:D8559)-1)))","v":""}]
[null,null,null,null,{"$f":"IF(A8560=\"\",\"\",IF(B8560=\"\",E8559,IF(D8560=\"\",E8559,D8560/MAX($D$8:D8560)-1)))","v":""}]
[null,null,null,null,{"$f":"IF(A8561=\"\",\"\",IF(B8561=\"\",E8560,IF(D8561=\"\",E8560,D8561/MAX($D$8:D8561)-1)))","v":""}]
[null,null,null,null,{"$f":"IF(A8562=\"\",\"\",IF(B8562=\"\",E8561,IF(D8562=\"\",E8561,D8562/MAX($D$8:D8562)-1)))","v":""}]
[null,null,null,null,{"$f":"IF(A8563=\"\",\"\",IF(B8563=\"\",E8562,IF(D8563=\"\",E8562,D8563/MAX($D$8:D8563)-1)))","v":""}]
[null,null,null,null,{"$f":"IF(A8564=\"\",\"\",IF(B8564=\"\",E8563,IF(D8564=\"\",E8563,D8564/MAX($D$8:D8564)-1)))","v":""}]
[null,null,null,null,{"$f":"IF(A8565=\"\",\"\",IF(B8565=\"\",E8564,IF(D8565=\"\",E8564,D8565/MAX($D$8:D8565)-1)))","v":""}]
[null,null,null,null,{"$f":"IF(A8566=\"\",\"\",IF(B8566=\"\",E8565,IF(D8566=\"\",E8565,D8566/MAX($D$8:D8566)-1)))","v":""}]
[null,null,null,null,{"$f":"IF(A8567=\"\",\"\",IF(B8567=\"\",E8566,IF(D8567=\"\",E8566,D8567/MAX($D$8:D8567)-1)))","v":""}]
[null,null,null,null,{"$f":"IF(A8568=\"\",\"\",IF(B8568=\"\",E8567,IF(D8568=\"\",E8567,D8568/MAX($D$8:D8568)-1)))","v":""}]
[null,null,null,null,{"$f":"IF(A8569=\"\",\"\",IF(B8569=\"\",E8568,IF(D8569=\"\",E8568,D8569/MAX($D$8:D8569)-1)))","v":""}]
[null,null,null,null,{"$f":"IF(A8570=\"\",\"\",IF(B8570=\"\",E8569,IF(D8570=\"\",E8569,D8570/MAX($D$8:D8570)-1)))","v":""}]
[null,null,null,null,{"$f":"IF(A8571=\"\",\"\",IF(B8571=\"\",E8570,IF(D8571=\"\",E8570,D8571/MAX($D$8:D8571)-1)))","v":""}]
[null,null,null,null,{"$f":"IF(A8572=\"\",\"\",IF(B8572=\"\",E8571,IF(D8572=\"\",E8571,D8572/MAX($D$8:D8572)-1)))","v":""}]
[null,null,null,null,{"$f":"IF(A8573=\"\",\"\",IF(B8573=\"\",E8572,IF(D8573=\"\",E8572,D8573/MAX($D$8:D8573)-1)))","v":""}]
[null,null,null,null,{"$f":"IF(A8574=\"\",\"\",IF(B8574=\"\",E8573,IF(D8574=\"\",E8573,D8574/MAX($D$8:D8574)-1)))","v":""}]
[null,null,null,null,{"$f":"IF(A8575=\"\",\"\",IF(B8575=\"\",E8574,IF(D8575=\"\",E8574,D8575/MAX($D$8:D8575)-1)))","v":""}]
[null,null,null,null,{"$f":"IF(A8576=\"\",\"\",IF(B8576=\"\",E8575,IF(D8576=\"\",E8575,D8576/MAX($D$8:D8576)-1)))","v":""}]
[null,null,null,null,{"$f":"IF(A8577=\"\",\"\",IF(B8577=\"\",E8576,IF(D8577=\"\",E8576,D8577/MAX($D$8:D8577)-1)))","v":""}]
[null,null,null,null,{"$f":"IF(A8578=\"\",\"\",IF(B8578=\"\",E8577,IF(D8578=\"\",E8577,D8578/MAX($D$8:D8578)-1)))","v":""}]
[null,null,null,null,{"$f":"IF(A8579=\"\",\"\",IF(B8579=\"\",E8578,IF(D8579=\"\",E8578,D8579/MAX($D$8:D8579)-1)))","v":""}]
[null,null,null,null,{"$f":"IF(A8580=\"\",\"\",IF(B8580=\"\",E8579,IF(D8580=\"\",E8579,D8580/MAX($D$8:D8580)-1)))","v":""}]
[null,null,null,null,{"$f":"IF(A8581=\"\",\"\",IF(B8581=\"\",E8580,IF(D8581=\"\",E8580,D8581/MAX($D$8:D8581)-1)))","v":""}]
[null,null,null,null,{"$f":"IF(A8582=\"\",\"\",IF(B8582=\"\",E8581,IF(D8582=\"\",E8581,D8582/MAX($D$8:D8582)-1)))","v":""}]
[null,null,null,null,{"$f":"IF(A8583=\"\",\"\",IF(B8583=\"\",E8582,IF(D8583=\"\",E8582,D8583/MAX($D$8:D8583)-1)))","v":""}]
[null,null,null,null,{"$f":"IF(A8584=\"\",\"\",IF(B8584=\"\",E8583,IF(D8584=\"\",E8583,D8584/MAX($D$8:D8584)-1)))","v":""}]
[null,null,null,null,{"$f":"IF(A8585=\"\",\"\",IF(B8585=\"\",E8584,IF(D8585=\"\",E8584,D8585/MAX($D$8:D8585)-1)))","v":""}]
[null,null,null,null,{"$f":"IF(A8586=\"\",\"\",IF(B8586=\"\",E8585,IF(D8586=\"\",E8585,D8586/MAX($D$8:D8586)-1)))","v":""}]
[null,null,null,null,{"$f":"IF(A8587=\"\",\"\",IF(B8587=\"\",E8586,IF(D8587=\"\",E8586,D8587/MAX($D$8:D8587)-1)))","v":""}]
[null,null,null,null,{"$f":"IF(A8588=\"\",\"\",IF(B8588=\"\",E8587,IF(D8588=\"\",E8587,D8588/MAX($D$8:D8588)-1)))","v":""}]
[null,null,null,null,{"$f":"IF(A8589=\"\",\"\",IF(B8589=\"\",E8588,IF(D8589=\"\",E8588,D8589/MAX($D$8:D8589)-1)))","v":""}]
[null,null,null,null,{"$f":"IF(A8590=\"\",\"\",IF(B8590=\"\",E8589,IF(D8590=\"\",E8589,D8590/MAX($D$8:D8590)-1)))","v":""}]
[null,null,null,null,{"$f":"IF(A8591=\"\",\"\",IF(B8591=\"\",E8590,IF(D8591=\"\",E8590,D8591/MAX($D$8:D8591)-1)))","v":""}]
[null,null,null,null,{"$f":"IF(A8592=\"\",\"\",IF(B8592=\"\",E8591,IF(D8592=\"\",E8591,D8592/MAX($D$8:D8592)-1)))","v":""}]
[null,null,null,null,{"$f":"IF(A8593=\"\",\"\",IF(B8593=\"\",E8592,IF(D8593=\"\",E8592,D8593/MAX($D$8:D8593)-1)))","v":""}]
[null,null,null,null,{"$f":"IF(A8594=\"\",\"\",IF(B8594=\"\",E8593,IF(D8594=\"\",E8593,D8594/MAX($D$8:D8594)-1)))","v":""}]
[null,null,null,null,{"$f":"IF(A8595=\"\",\"\",IF(B8595=\"\",E8594,IF(D8595=\"\",E8594,D8595/MAX($D$8:D8595)-1)))","v":""}]
[null,null,null,null,{"$f":"IF(A8596=\"\",\"\",IF(B8596=\"\",E8595,IF(D8596=\"\",E8595,D8596/MAX($D$8:D8596)-1)))","v":""}]
[null,null,null,null,{"$f":"IF(A8597=\"\",\"\",IF(B8597=\"\",E8596,IF(D8597=\"\",E8596,D8597/MAX($D$8:D8597)-1)))","v":""}]
[null,null,null,null,{"$f":"IF(A8598=\"\",\"\",IF(B8598=\"\",E8597,IF(D8598=\"\",E8597,D8598/MAX($D$8:D8598)-1)))","v":""}]
[null,null,null,null,{"$f":"IF(A8599=\"\",\"\",IF(B8599=\"\",E8598,IF(D8599=\"\",E8598,D8599/MAX($D$8:D8599)-1)))","v":""}]
[null,null,null,null,{"$f":"IF(A8600=\"\",\"\",IF(B8600=\"\",E8599,IF(D8600=\"\",E8599,D8600/MAX($D$8:D8600)-1)))","v":""}]
[null,null,null,null,{"$f":"IF(A8601=\"\",\"\",IF(B8601=\"\",E8600,IF(D8601=\"\",E8600,D8601/MAX($D$8:D8601)-1)))","v":""}]
[null,null,null,null,{"$f":"IF(A8602=\"\",\"\",IF(B8602=\"\",E8601,IF(D8602=\"\",E8601,D8602/MAX($D$8:D8602)-1)))","v":""}]
[null,null,null,null,{"$f":"IF(A8603=\"\",\"\",IF(B8603=\"\",E8602,IF(D8603=\"\",E8602,D8603/MAX($D$8:D8603)-1)))","v":""}]
[null,null,null,null,{"$f":"IF(A8604=\"\",\"\",IF(B8604=\"\",E8603,IF(D8604=\"\",E8603,D8604/MAX($D$8:D8604)-1)))","v":""}]
[null,null,null,null,{"$f":"IF(A8605=\"\",\"\",IF(B8605=\"\",E8604,IF(D8605=\"\",E8604,D8605/MAX($D$8:D8605)-1)))","v":""}]
[null,null,null,null,{"$f":"IF(A8606=\"\",\"\",IF(B8606=\"\",E8605,IF(D8606=\"\",E8605,D8606/MAX($D$8:D8606)-1)))","v":""}]
[null,null,null,null,{"$f":"IF(A8607=\"\",\"\",IF(B8607=\"\",E8606,IF(D8607=\"\",E8606,D8607/MAX($D$8:D8607)-1)))","v":""}]
[null,null,null,null,{"$f":"IF(A8608=\"\",\"\",IF(B8608=\"\",E8607,IF(D8608=\"\",E8607,D8608/MAX($D$8:D8608)-1)))","v":""}]
[null,null,null,null,{"$f":"IF(A8609=\"\",\"\",IF(B8609=\"\",E8608,IF(D8609=\"\",E8608,D8609/MAX($D$8:D8609)-1)))","v":""}]
[null,null,null,null,{"$f":"IF(A8610=\"\",\"\",IF(B8610=\"\",E8609,IF(D8610=\"\",E8609,D8610/MAX($D$8:D8610)-1)))","v":""}]
[null,null,null,null,{"$f":"IF(A8611=\"\",\"\",IF(B8611=\"\",E8610,IF(D8611=\"\",E8610,D8611/MAX($D$8:D8611)-1)))","v":""}]
[null,null,null,null,{"$f":"IF(A8612=\"\",\"\",IF(B8612=\"\",E8611,IF(D8612=\"\",E8611,D8612/MAX($D$8:D8612)-1)))","v":""}]
[null,null,null,null,{"$f":"IF(A8613=\"\",\"\",IF(B8613=\"\",E8612,IF(D8613=\"\",E8612,D8613/MAX($D$8:D8613)-1)))","v":""}]
[null,null,null,null,{"$f":"IF(A8614=\"\",\"\",IF(B8614=\"\",E8613,IF(D8614=\"\",E8613,D8614/MAX($D$8:D8614)-1)))","v":""}]
[null,null,null,null,{"$f":"IF(A8615=\"\",\"\",IF(B8615=\"\",E8614,IF(D8615=\"\",E8614,D8615/MAX($D$8:D8615)-1)))","v":""}]
[null,null,null,null,{"$f":"IF(A8616=\"\",\"\",IF(B8616=\"\",E8615,IF(D8616=\"\",E8615,D8616/MAX($D$8:D8616)-1)))","v":""}]
[null,null,null,null,{"$f":"IF(A8617=\"\",\"\",IF(B8617=\"\",E8616,IF(D8617=\"\",E8616,D8617/MAX($D$8:D8617)-1)))","v":""}]
[null,null,null,null,{"$f":"IF(A8618=\"\",\"\",IF(B8618=\"\",E8617,IF(D8618=\"\",E8617,D8618/MAX($D$8:D8618)-1)))","v":""}]
[null,null,null,null,{"$f":"IF(A8619=\"\",\"\",IF(B8619=\"\",E8618,IF(D8619=\"\",E8618,D8619/MAX($D$8:D8619)-1)))","v":""}]
[null,null,null,null,{"$f":"IF(A8620=\"\",\"\",IF(B8620=\"\",E8619,IF(D8620=\"\",E8619,D8620/MAX($D$8:D8620)-1)))","v":""}]
[null,null,null,null,{"$f":"IF(A8621=\"\",\"\",IF(B8621=\"\",E8620,IF(D8621=\"\",E8620,D8621/MAX($D$8:D8621)-1)))","v":""}]
[null,null,null,null,{"$f":"IF(A8622=\"\",\"\",IF(B8622=\"\",E8621,IF(D8622=\"\",E8621,D8622/MAX($D$8:D8622)-1)))","v":""}]
[null,null,null,null,{"$f":"IF(A8623=\"\",\"\",IF(B8623=\"\",E8622,IF(D8623=\"\",E8622,D8623/MAX($D$8:D8623)-1)))","v":""}]
[null,null,null,null,{"$f":"IF(A8624=\"\",\"\",IF(B8624=\"\",E8623,IF(D8624=\"\",E8623,D8624/MAX($D$8:D8624)-1)))","v":""}]
[null,null,null,null,{"$f":"IF(A8625=\"\",\"\",IF(B8625=\"\",E8624,IF(D8625=\"\",E8624,D8625/MAX($D$8:D8625)-1)))","v":""}]
[null,null,null,null,{"$f":"IF(A8626=\"\",\"\",IF(B8626=\"\",E8625,IF(D8626=\"\",E8625,D8626/MAX($D$8:D8626)-1)))","v":""}]
[null,null,null,null,{"$f":"IF(A8627=\"\",\"\",IF(B8627=\"\",E8626,IF(D8627=\"\",E8626,D8627/MAX($D$8:D8627)-1)))","v":""}]
[null,null,null,null,{"$f":"IF(A8628=\"\",\"\",IF(B8628=\"\",E8627,IF(D8628=\"\",E8627,D8628/MAX($D$8:D8628)-1)))","v":""}]
[null,null,null,null,{"$f":"IF(A8629=\"\",\"\",IF(B8629=\"\",E8628,IF(D8629=\"\",E8628,D8629/MAX($D$8:D8629)-1)))","v":""}]
[null,null,null,null,{"$f":"IF(A8630=\"\",\"\",IF(B8630=\"\",E8629,IF(D8630=\"\",E8629,D8630/MAX($D$8:D8630)-1)))","v":""}]
[null,null,null,null,{"$f":"IF(A8631=\"\",\"\",IF(B8631=\"\",E8630,IF(D8631=\"\",E8630,D8631/MAX($D$8:D8631)-1)))","v":""}]
[null,null,null,null,{"$f":"IF(A8632=\"\",\"\",IF(B8632=\"\",E8631,IF(D8632=\"\",E8631,D8632/MAX($D$8:D8632)-1)))","v":""}]
[null,null,null,null,{"$f":"IF(A8633=\"\",\"\",IF(B8633=\"\",E8632,IF(D8633=\"\",E8632,D8633/MAX($D$8:D8633)-1)))","v":""}]
[null,null,null,null,{"$f":"IF(A8634=\"\",\"\",IF(B8634=\"\",E8633,IF(D8634=\"\",E8633,D8634/MAX($D$8:D8634)-1)))","v":""}]
[null,null,null,null,{"$f":"IF(A8635=\"\",\"\",IF(B8635=\"\",E8634,IF(D8635=\"\",E8634,D8635/MAX($D$8:D8635)-1)))","v":""}]
[null,null,null,null,{"$f":"IF(A8636=\"\",\"\",IF(B8636=\"\",E8635,IF(D8636=\"\",E8635,D8636/MAX($D$8:D8636)-1)))","v":""}]
[null,null,null,null,{"$f":"IF(A8637=\"\",\"\",IF(B8637=\"\",E8636,IF(D8637=\"\",E8636,D8637/MAX($D$8:D8637)-1)))","v":""}]
[null,null,null,null,{"$f":"IF(A8638=\"\",\"\",IF(B8638=\"\",E8637,IF(D8638=\"\",E8637,D8638/MAX($D$8:D8638)-1)))","v":""}]
[null,null,null,null,{"$f":"IF(A8639=\"\",\"\",IF(B8639=\"\",E8638,IF(D8639=\"\",E8638,D8639/MAX($D$8:D8639)-1)))","v":""}]
[null,null,null,null,{"$f":"IF(A8640=\"\",\"\",IF(B8640=\"\",E8639,IF(D8640=\"\",E8639,D8640/MAX($D$8:D8640)-1)))","v":""}]
[null,null,null,null,{"$f":"IF(A8641=\"\",\"\",IF(B8641=\"\",E8640,IF(D8641=\"\",E8640,D8641/MAX($D$8:D8641)-1)))","v":""}]
[null,null,null,null,{"$f":"IF(A8642=\"\",\"\",IF(B8642=\"\",E8641,IF(D8642=\"\",E8641,D8642/MAX($D$8:D8642)-1)))","v":""}]
[null,null,null,null,{"$f":"IF(A8643=\"\",\"\",IF(B8643=\"\",E8642,IF(D8643=\"\",E8642,D8643/MAX($D$8:D8643)-1)))","v":""}]
[null,null,null,null,{"$f":"IF(A8644=\"\",\"\",IF(B8644=\"\",E8643,IF(D8644=\"\",E8643,D8644/MAX($D$8:D8644)-1)))","v":""}]
[null,null,null,null,{"$f":"IF(A8645=\"\",\"\",IF(B8645=\"\",E8644,IF(D8645=\"\",E8644,D8645/MAX($D$8:D8645)-1)))","v":""}]
[null,null,null,null,{"$f":"IF(A8646=\"\",\"\",IF(B8646=\"\",E8645,IF(D8646=\"\",E8645,D8646/MAX($D$8:D8646)-1)))","v":""}]
[null,null,null,null,{"$f":"IF(A8647=\"\",\"\",IF(B8647=\"\",E8646,IF(D8647=\"\",E8646,D8647/MAX($D$8:D8647)-1)))","v":""}]
[null,null,null,null,{"$f":"IF(A8648=\"\",\"\",IF(B8648=\"\",E8647,IF(D8648=\"\",E8647,D8648/MAX($D$8:D8648)-1)))","v":""}]
[null,null,null,null,{"$f":"IF(A8649=\"\",\"\",IF(B8649=\"\",E8648,IF(D8649=\"\",E8648,D8649/MAX($D$8:D8649)-1)))","v":""}]
[null,null,null,null,{"$f":"IF(A8650=\"\",\"\",IF(B8650=\"\",E8649,IF(D8650=\"\",E8649,D8650/MAX($D$8:D8650)-1)))","v":""}]
[null,null,null,null,{"$f":"IF(A8651=\"\",\"\",IF(B8651=\"\",E8650,IF(D8651=\"\",E8650,D8651/MAX($D$8:D8651)-1)))","v":""}]
[null,null,null,null,{"$f":"IF(A8652=\"\",\"\",IF(B8652=\"\",E8651,IF(D8652=\"\",E8651,D8652/MAX($D$8:D8652)-1)))","v":""}]
[null,null,null,null,{"$f":"IF(A8653=\"\",\"\",IF(B8653=\"\",E8652,IF(D8653=\"\",E8652,D8653/MAX($D$8:D8653)-1)))","v":""}]
[null,null,null,null,{"$f":"IF(A8654=\"\",\"\",IF(B8654=\"\",E8653,IF(D8654=\"\",E8653,D8654/MAX($D$8:D8654)-1)))","v":""}]
[null,null,null,null,{"$f":"IF(A8655=\"\",\"\",IF(B8655=\"\",E8654,IF(D8655=\"\",E8654,D8655/MAX($D$8:D8655)-1)))","v":""}]
[null,null,null,null,{"$f":"IF(A8656=\"\",\"\",IF(B8656=\"\",E8655,IF(D8656=\"\",E8655,D8656/MAX($D$8:D8656)-1)))","v":""}]
[null,null,null,null,{"$f":"IF(A8657=\"\",\"\",IF(B8657=\"\",E8656,IF(D8657=\"\",E8656,D8657/MAX($D$8:D8657)-1)))","v":""}]
[null,null,null,null,{"$f":"IF(A8658=\"\",\"\",IF(B8658=\"\",E8657,IF(D8658=\"\",E8657,D8658/MAX($D$8:D8658)-1)))","v":""}]
[null,null,null,null,{"$f":"IF(A8659=\"\",\"\",IF(B8659=\"\",E8658,IF(D8659=\"\",E8658,D8659/MAX($D$8:D8659)-1)))","v":""}]
[null,null,null,null,{"$f":"IF(A8660=\"\",\"\",IF(B8660=\"\",E8659,IF(D8660=\"\",E8659,D8660/MAX($D$8:D8660)-1)))","v":""}]
[null,null,null,null,{"$f":"IF(A8661=\"\",\"\",IF(B8661=\"\",E8660,IF(D8661=\"\",E8660,D8661/MAX($D$8:D8661)-1)))","v":""}]
[null,null,null,null,{"$f":"IF(A8662=\"\",\"\",IF(B8662=\"\",E8661,IF(D8662=\"\",E8661,D8662/MAX($D$8:D8662)-1)))","v":""}]
[null,null,null,null,{"$f":"IF(A8663=\"\",\"\",IF(B8663=\"\",E8662,IF(D8663=\"\",E8662,D8663/MAX($D$8:D8663)-1)))","v":""}]
[null,null,null,null,{"$f":"IF(A8664=\"\",\"\",IF(B8664=\"\",E8663,IF(D8664=\"\",E8663,D8664/MAX($D$8:D8664)-1)))","v":""}]
[null,null,null,null,{"$f":"IF(A8665=\"\",\"\",IF(B8665=\"\",E8664,IF(D8665=\"\",E8664,D8665/MAX($D$8:D8665)-1)))","v":""}]
[null,null,null,null,{"$f":"IF(A8666=\"\",\"\",IF(B8666=\"\",E8665,IF(D8666=\"\",E8665,D8666/MAX($D$8:D8666)-1)))","v":""}]
[null,null,null,null,{"$f":"IF(A8667=\"\",\"\",IF(B8667=\"\",E8666,IF(D8667=\"\",E8666,D8667/MAX($D$8:D8667)-1)))","v":""}]
[null,null,null,null,{"$f":"IF(A8668=\"\",\"\",IF(B8668=\"\",E8667,IF(D8668=\"\",E8667,D8668/MAX($D$8:D8668)-1)))","v":""}]
[null,null,null,null,{"$f":"IF(A8669=\"\",\"\",IF(B8669=\"\",E8668,IF(D8669=\"\",E8668,D8669/MAX($D$8:D8669)-1)))","v":""}]
[null,null,null,null,{"$f":"IF(A8670=\"\",\"\",IF(B8670=\"\",E8669,IF(D8670=\"\",E8669,D8670/MAX($D$8:D8670)-1)))","v":""}]
[null,null,null,null,{"$f":"IF(A8671=\"\",\"\",IF(B8671=\"\",E8670,IF(D8671=\"\",E8670,D8671/MAX($D$8:D8671)-1)))","v":""}]
[null,null,null,null,{"$f":"IF(A8672=\"\",\"\",IF(B8672=\"\",E8671,IF(D8672=\"\",E8671,D8672/MAX($D$8:D8672)-1)))","v":""}]
[null,null,null,null,{"$f":"IF(A8673=\"\",\"\",IF(B8673=\"\",E8672,IF(D8673=\"\",E8672,D8673/MAX($D$8:D8673)-1)))","v":""}]
[null,null,null,null,{"$f":"IF(A8674=\"\",\"\",IF(B8674=\"\",E8673,IF(D8674=\"\",E8673,D8674/MAX($D$8:D8674)-1)))","v":""}]
[null,null,null,null,{"$f":"IF(A8675=\"\",\"\",IF(B8675=\"\",E8674,IF(D8675=\"\",E8674,D8675/MAX($D$8:D8675)-1)))","v":""}]
[null,null,null,null,{"$f":"IF(A8676=\"\",\"\",IF(B8676=\"\",E8675,IF(D8676=\"\",E8675,D8676/MAX($D$8:D8676)-1)))","v":""}]
[null,null,null,null,{"$f":"IF(A8677=\"\",\"\",IF(B8677=\"\",E8676,IF(D8677=\"\",E8676,D8677/MAX($D$8:D8677)-1)))","v":""}]
[null,null,null,null,{"$f":"IF(A8678=\"\",\"\",IF(B8678=\"\",E8677,IF(D8678=\"\",E8677,D8678/MAX($D$8:D8678)-1)))","v":""}]
[null,null,null,null,{"$f":"IF(A8679=\"\",\"\",IF(B8679=\"\",E8678,IF(D8679=\"\",E8678,D8679/MAX($D$8:D8679)-1)))","v":""}]
[null,null,null,null,{"$f":"IF(A8680=\"\",\"\",IF(B8680=\"\",E8679,IF(D8680=\"\",E8679,D8680/MAX($D$8:D8680)-1)))","v":""}]
[null,null,null,null,{"$f":"IF(A8681=\"\",\"\",IF(B8681=\"\",E8680,IF(D8681=\"\",E8680,D8681/MAX($D$8:D8681)-1)))","v":""}]
[null,null,null,null,{"$f":"IF(A8682=\"\",\"\",IF(B8682=\"\",E8681,IF(D8682=\"\",E8681,D8682/MAX($D$8:D8682)-1)))","v":""}]
[null,null,null,null,{"$f":"IF(A8683=\"\",\"\",IF(B8683=\"\",E8682,IF(D8683=\"\",E8682,D8683/MAX($D$8:D8683)-1)))","v":""}]
[null,null,null,null,{"$f":"IF(A8684=\"\",\"\",IF(B8684=\"\",E8683,IF(D8684=\"\",E8683,D8684/MAX($D$8:D8684)-1)))","v":""}]
[null,null,null,null,{"$f":"IF(A8685=\"\",\"\",IF(B8685=\"\",E8684,IF(D8685=\"\",E8684,D8685/MAX($D$8:D8685)-1)))","v":""}]
[null,null,null,null,{"$f":"IF(A8686=\"\",\"\",IF(B8686=\"\",E8685,IF(D8686=\"\",E8685,D8686/MAX($D$8:D8686)-1)))","v":""}]
[null,null,null,null,{"$f":"IF(A8687=\"\",\"\",IF(B8687=\"\",E8686,IF(D8687=\"\",E8686,D8687/MAX($D$8:D8687)-1)))","v":""}]
[null,null,null,null,{"$f":"IF(A8688=\"\",\"\",IF(B8688=\"\",E8687,IF(D8688=\"\",E8687,D8688/MAX($D$8:D8688)-1)))","v":""}]
[null,null,null,null,{"$f":"IF(A8689=\"\",\"\",IF(B8689=\"\",E8688,IF(D8689=\"\",E8688,D8689/MAX($D$8:D8689)-1)))","v":""}]
[null,null,null,null,{"$f":"IF(A8690=\"\",\"\",IF(B8690=\"\",E8689,IF(D8690=\"\",E8689,D8690/MAX($D$8:D8690)-1)))","v":""}]
[null,null,null,null,{"$f":"IF(A8691=\"\",\"\",IF(B8691=\"\",E8690,IF(D8691=\"\",E8690,D8691/MAX($D$8:D8691)-1)))","v":""}]
[null,null,null,null,{"$f":"IF(A8692=\"\",\"\",IF(B8692=\"\",E8691,IF(D8692=\"\",E8691,D8692/MAX($D$8:D8692)-1)))","v":""}]
[null,null,null,null,{"$f":"IF(A8693=\"\",\"\",IF(B8693=\"\",E8692,IF(D8693=\"\",E8692,D8693/MAX($D$8:D8693)-1)))","v":""}]
[null,null,null,null,{"$f":"IF(A8694=\"\",\"\",IF(B8694=\"\",E8693,IF(D8694=\"\",E8693,D8694/MAX($D$8:D8694)-1)))","v":""}]
[null,null,null,null,{"$f":"IF(A8695=\"\",\"\",IF(B8695=\"\",E8694,IF(D8695=\"\",E8694,D8695/MAX($D$8:D8695)-1)))","v":""}]
[null,null,null,null,{"$f":"IF(A8696=\"\",\"\",IF(B8696=\"\",E8695,IF(D8696=\"\",E8695,D8696/MAX($D$8:D8696)-1)))","v":""}]
[null,null,null,null,{"$f":"IF(A8697=\"\",\"\",IF(B8697=\"\",E8696,IF(D8697=\"\",E8696,D8697/MAX($D$8:D8697)-1)))","v":""}]
[null,null,null,null,{"$f":"IF(A8698=\"\",\"\",IF(B8698=\"\",E8697,IF(D8698=\"\",E8697,D8698/MAX($D$8:D8698)-1)))","v":""}]
[null,null,null,null,{"$f":"IF(A8699=\"\",\"\",IF(B8699=\"\",E8698,IF(D8699=\"\",E8698,D8699/MAX($D$8:D8699)-1)))","v":""}]
[null,null,null,null,{"$f":"IF(A8700=\"\",\"\",IF(B8700=\"\",E8699,IF(D8700=\"\",E8699,D8700/MAX($D$8:D8700)-1)))","v":""}]
[null,null,null,null,{"$f":"IF(A8701=\"\",\"\",IF(B8701=\"\",E8700,IF(D8701=\"\",E8700,D8701/MAX($D$8:D8701)-1)))","v":""}]
[null,null,null,null,{"$f":"IF(A8702=\"\",\"\",IF(B8702=\"\",E8701,IF(D8702=\"\",E8701,D8702/MAX($D$8:D8702)-1)))","v":""}]
[null,null,null,null,{"$f":"IF(A8703=\"\",\"\",IF(B8703=\"\",E8702,IF(D8703=\"\",E8702,D8703/MAX($D$8:D8703)-1)))","v":""}]
[null,null,null,null,{"$f":"IF(A8704=\"\",\"\",IF(B8704=\"\",E8703,IF(D8704=\"\",E8703,D8704/MAX($D$8:D8704)-1)))","v":""}]
[null,null,null,null,{"$f":"IF(A8705=\"\",\"\",IF(B8705=\"\",E8704,IF(D8705=\"\",E8704,D8705/MAX($D$8:D8705)-1)))","v":""}]
[null,null,null,null,{"$f":"IF(A8706=\"\",\"\",IF(B8706=\"\",E8705,IF(D8706=\"\",E8705,D8706/MAX($D$8:D8706)-1)))","v":""}]
[null,null,null,null,{"$f":"IF(A8707=\"\",\"\",IF(B8707=\"\",E8706,IF(D8707=\"\",E8706,D8707/MAX($D$8:D8707)-1)))","v":""}]
[null,null,null,null,{"$f":"IF(A8708=\"\",\"\",IF(B8708=\"\",E8707,IF(D8708=\"\",E8707,D8708/MAX($D$8:D8708)-1)))","v":""}]
[null,null,null,null,{"$f":"IF(A8709=\"\",\"\",IF(B8709=\"\",E8708,IF(D8709=\"\",E8708,D8709/MAX($D$8:D8709)-1)))","v":""}]
[null,null,null,null,{"$f":"IF(A8710=\"\",\"\",IF(B8710=\"\",E8709,IF(D8710=\"\",E8709,D8710/MAX($D$8:D8710)-1)))","v":""}]
[null,null,null,null,{"$f":"IF(A8711=\"\",\"\",IF(B8711=\"\",E8710,IF(D8711=\"\",E8710,D8711/MAX($D$8:D8711)-1)))","v":""}]
[null,null,null,null,{"$f":"IF(A8712=\"\",\"\",IF(B8712=\"\",E8711,IF(D8712=\"\",E8711,D8712/MAX($D$8:D8712)-1)))","v":""}]
[null,null,null,null,{"$f":"IF(A8713=\"\",\"\",IF(B8713=\"\",E8712,IF(D8713=\"\",E8712,D8713/MAX($D$8:D8713)-1)))","v":""}]
[null,null,null,null,{"$f":"IF(A8714=\"\",\"\",IF(B8714=\"\",E8713,IF(D8714=\"\",E8713,D8714/MAX($D$8:D8714)-1)))","v":""}]
[null,null,null,null,{"$f":"IF(A8715=\"\",\"\",IF(B8715=\"\",E8714,IF(D8715=\"\",E8714,D8715/MAX($D$8:D8715)-1)))","v":""}]
[null,null,null,null,{"$f":"IF(A8716=\"\",\"\",IF(B8716=\"\",E8715,IF(D8716=\"\",E8715,D8716/MAX($D$8:D8716)-1)))","v":""}]
[null,null,null,null,{"$f":"IF(A8717=\"\",\"\",IF(B8717=\"\",E8716,IF(D8717=\"\",E8716,D8717/MAX($D$8:D8717)-1)))","v":""}]
[null,null,null,null,{"$f":"IF(A8718=\"\",\"\",IF(B8718=\"\",E8717,IF(D8718=\"\",E8717,D8718/MAX($D$8:D8718)-1)))","v":""}]
[null,null,null,null,{"$f":"IF(A8719=\"\",\"\",IF(B8719=\"\",E8718,IF(D8719=\"\",E8718,D8719/MAX($D$8:D8719)-1)))","v":""}]
[null,null,null,null,{"$f":"IF(A8720=\"\",\"\",IF(B8720=\"\",E8719,IF(D8720=\"\",E8719,D8720/MAX($D$8:D8720)-1)))","v":""}]
[null,null,null,null,{"$f":"IF(A8721=\"\",\"\",IF(B8721=\"\",E8720,IF(D8721=\"\",E8720,D8721/MAX($D$8:D8721)-1)))","v":""}]
[null,null,null,null,{"$f":"IF(A8722=\"\",\"\",IF(B8722=\"\",E8721,IF(D8722=\"\",E8721,D8722/MAX($D$8:D8722)-1)))","v":""}]
[null,null,null,null,{"$f":"IF(A8723=\"\",\"\",IF(B8723=\"\",E8722,IF(D8723=\"\",E8722,D8723/MAX($D$8:D8723)-1)))","v":""}]
[null,null,null,null,{"$f":"IF(A8724=\"\",\"\",IF(B8724=\"\",E8723,IF(D8724=\"\",E8723,D8724/MAX($D$8:D8724)-1)))","v":""}]
[null,null,null,null,{"$f":"IF(A8725=\"\",\"\",IF(B8725=\"\",E8724,IF(D8725=\"\",E8724,D8725/MAX($D$8:D8725)-1)))","v":""}]
[null,null,null,null,{"$f":"IF(A8726=\"\",\"\",IF(B8726=\"\",E8725,IF(D8726=\"\",E8725,D8726/MAX($D$8:D8726)-1)))","v":""}]
[null,null,null,null,{"$f":"IF(A8727=\"\",\"\",IF(B8727=\"\",E8726,IF(D8727=\"\",E8726,D8727/MAX($D$8:D8727)-1)))","v":""}]
[null,null,null,null,{"$f":"IF(A8728=\"\",\"\",IF(B8728=\"\",E8727,IF(D8728=\"\",E8727,D8728/MAX($D$8:D8728)-1)))","v":""}]
[null,null,null,null,{"$f":"IF(A8729=\"\",\"\",IF(B8729=\"\",E8728,IF(D8729=\"\",E8728,D8729/MAX($D$8:D8729)-1)))","v":""}]
[null,null,null,null,{"$f":"IF(A8730=\"\",\"\",IF(B8730=\"\",E8729,IF(D8730=\"\",E8729,D8730/MAX($D$8:D8730)-1)))","v":""}]
[null,null,null,null,{"$f":"IF(A8731=\"\",\"\",IF(B8731=\"\",E8730,IF(D8731=\"\",E8730,D8731/MAX($D$8:D8731)-1)))","v":""}]
[null,null,null,null,{"$f":"IF(A8732=\"\",\"\",IF(B8732=\"\",E8731,IF(D8732=\"\",E8731,D8732/MAX($D$8:D8732)-1)))","v":""}]
[null,null,null,null,{"$f":"IF(A8733=\"\",\"\",IF(B8733=\"\",E8732,IF(D8733=\"\",E8732,D8733/MAX($D$8:D8733)-1)))","v":""}]
[null,null,null,null,{"$f":"IF(A8734=\"\",\"\",IF(B8734=\"\",E8733,IF(D8734=\"\",E8733,D8734/MAX($D$8:D8734)-1)))","v":""}]
[null,null,null,null,{"$f":"IF(A8735=\"\",\"\",IF(B8735=\"\",E8734,IF(D8735=\"\",E8734,D8735/MAX($D$8:D8735)-1)))","v":""}]
[null,null,null,null,{"$f":"IF(A8736=\"\",\"\",IF(B8736=\"\",E8735,IF(D8736=\"\",E8735,D8736/MAX($D$8:D8736)-1)))","v":""}]
[null,null,null,null,{"$f":"IF(A8737=\"\",\"\",IF(B8737=\"\",E8736,IF(D8737=\"\",E8736,D8737/MAX($D$8:D8737)-1)))","v":""}]
[null,null,null,null,{"$f":"IF(A8738=\"\",\"\",IF(B8738=\"\",E8737,IF(D8738=\"\",E8737,D8738/MAX($D$8:D8738)-1)))","v":""}]
[null,null,null,null,{"$f":"IF(A8739=\"\",\"\",IF(B8739=\"\",E8738,IF(D8739=\"\",E8738,D8739/MAX($D$8:D8739)-1)))","v":""}]
[null,null,null,null,{"$f":"IF(A8740=\"\",\"\",IF(B8740=\"\",E8739,IF(D8740=\"\",E8739,D8740/MAX($D$8:D8740)-1)))","v":""}]
[null,null,null,null,{"$f":"IF(A8741=\"\",\"\",IF(B8741=\"\",E8740,IF(D8741=\"\",E8740,D8741/MAX($D$8:D8741)-1)))","v":""}]
[null,null,null,null,{"$f":"IF(A8742=\"\",\"\",IF(B8742=\"\",E8741,IF(D8742=\"\",E8741,D8742/MAX($D$8:D8742)-1)))","v":""}]
[null,null,null,null,{"$f":"IF(A8743=\"\",\"\",IF(B8743=\"\",E8742,IF(D8743=\"\",E8742,D8743/MAX($D$8:D8743)-1)))","v":""}]
[null,null,null,null,{"$f":"IF(A8744=\"\",\"\",IF(B8744=\"\",E8743,IF(D8744=\"\",E8743,D8744/MAX($D$8:D8744)-1)))","v":""}]
[null,null,null,null,{"$f":"IF(A8745=\"\",\"\",IF(B8745=\"\",E8744,IF(D8745=\"\",E8744,D8745/MAX($D$8:D8745)-1)))","v":""}]
[null,null,null,null,{"$f":"IF(A8746=\"\",\"\",IF(B8746=\"\",E8745,IF(D8746=\"\",E8745,D8746/MAX($D$8:D8746)-1)))","v":""}]
[null,null,null,null,{"$f":"IF(A8747=\"\",\"\",IF(B8747=\"\",E8746,IF(D8747=\"\",E8746,D8747/MAX($D$8:D8747)-1)))","v":""}]
[null,null,null,null,{"$f":"IF(A8748=\"\",\"\",IF(B8748=\"\",E8747,IF(D8748=\"\",E8747,D8748/MAX($D$8:D8748)-1)))","v":""}]
[null,null,null,null,{"$f":"IF(A8749=\"\",\"\",IF(B8749=\"\",E8748,IF(D8749=\"\",E8748,D8749/MAX($D$8:D8749)-1)))","v":""}]
[null,null,null,null,{"$f":"IF(A8750=\"\",\"\",IF(B8750=\"\",E8749,IF(D8750=\"\",E8749,D8750/MAX($D$8:D8750)-1)))","v":""}]
[null,null,null,null,{"$f":"IF(A8751=\"\",\"\",IF(B8751=\"\",E8750,IF(D8751=\"\",E8750,D8751/MAX($D$8:D8751)-1)))","v":""}]
[null,null,null,null,{"$f":"IF(A8752=\"\",\"\",IF(B8752=\"\",E8751,IF(D8752=\"\",E8751,D8752/MAX($D$8:D8752)-1)))","v":""}]
[null,null,null,null,{"$f":"IF(A8753=\"\",\"\",IF(B8753=\"\",E8752,IF(D8753=\"\",E8752,D8753/MAX($D$8:D8753)-1)))","v":""}]
[null,null,null,null,{"$f":"IF(A8754=\"\",\"\",IF(B8754=\"\",E8753,IF(D8754=\"\",E8753,D8754/MAX($D$8:D8754)-1)))","v":""}]
[null,null,null,null,{"$f":"IF(A8755=\"\",\"\",IF(B8755=\"\",E8754,IF(D8755=\"\",E8754,D8755/MAX($D$8:D8755)-1)))","v":""}]
[null,null,null,null,{"$f":"IF(A8756=\"\",\"\",IF(B8756=\"\",E8755,IF(D8756=\"\",E8755,D8756/MAX($D$8:D8756)-1)))","v":""}]
[null,null,null,null,{"$f":"IF(A8757=\"\",\"\",IF(B8757=\"\",E8756,IF(D8757=\"\",E8756,D8757/MAX($D$8:D8757)-1)))","v":""}]
[null,null,null,null,{"$f":"IF(A8758=\"\",\"\",IF(B8758=\"\",E8757,IF(D8758=\"\",E8757,D8758/MAX($D$8:D8758)-1)))","v":""}]
[null,null,null,null,{"$f":"IF(A8759=\"\",\"\",IF(B8759=\"\",E8758,IF(D8759=\"\",E8758,D8759/MAX($D$8:D8759)-1)))","v":""}]
[null,null,null,null,{"$f":"IF(A8760=\"\",\"\",IF(B8760=\"\",E8759,IF(D8760=\"\",E8759,D8760/MAX($D$8:D8760)-1)))","v":""}]
[null,null,null,null,{"$f":"IF(A8761=\"\",\"\",IF(B8761=\"\",E8760,IF(D8761=\"\",E8760,D8761/MAX($D$8:D8761)-1)))","v":""}]
[null,null,null,null,{"$f":"IF(A8762=\"\",\"\",IF(B8762=\"\",E8761,IF(D8762=\"\",E8761,D8762/MAX($D$8:D8762)-1)))","v":""}]
[null,null,null,null,{"$f":"IF(A8763=\"\",\"\",IF(B8763=\"\",E8762,IF(D8763=\"\",E8762,D8763/MAX($D$8:D8763)-1)))","v":""}]
[null,null,null,null,{"$f":"IF(A8764=\"\",\"\",IF(B8764=\"\",E8763,IF(D8764=\"\",E8763,D8764/MAX($D$8:D8764)-1)))","v":""}]
[null,null,null,null,{"$f":"IF(A8765=\"\",\"\",IF(B8765=\"\",E8764,IF(D8765=\"\",E8764,D8765/MAX($D$8:D8765)-1)))","v":""}]
[null,null,null,null,{"$f":"IF(A8766=\"\",\"\",IF(B8766=\"\",E8765,IF(D8766=\"\",E8765,D8766/MAX($D$8:D8766)-1)))","v":""}]
[null,null,null,null,{"$f":"IF(A8767=\"\",\"\",IF(B8767=\"\",E8766,IF(D8767=\"\",E8766,D8767/MAX($D$8:D8767)-1)))","v":""}]
[null,null,null,null,{"$f":"IF(A8768=\"\",\"\",IF(B8768=\"\",E8767,IF(D8768=\"\",E8767,D8768/MAX($D$8:D8768)-1)))","v":""}]
[null,null,null,null,{"$f":"IF(A8769=\"\",\"\",IF(B8769=\"\",E8768,IF(D8769=\"\",E8768,D8769/MAX($D$8:D8769)-1)))","v":""}]
[null,null,null,null,{"$f":"IF(A8770=\"\",\"\",IF(B8770=\"\",E8769,IF(D8770=\"\",E8769,D8770/MAX($D$8:D8770)-1)))","v":""}]
[null,null,null,null,{"$f":"IF(A8771=\"\",\"\",IF(B8771=\"\",E8770,IF(D8771=\"\",E8770,D8771/MAX($D$8:D8771)-1)))","v":""}]
[null,null,null,null,{"$f":"IF(A8772=\"\",\"\",IF(B8772=\"\",E8771,IF(D8772=\"\",E8771,D8772/MAX($D$8:D8772)-1)))","v":""}]
[null,null,null,null,{"$f":"IF(A8773=\"\",\"\",IF(B8773=\"\",E8772,IF(D8773=\"\",E8772,D8773/MAX($D$8:D8773)-1)))","v":""}]
[null,null,null,null,{"$f":"IF(A8774=\"\",\"\",IF(B8774=\"\",E8773,IF(D8774=\"\",E8773,D8774/MAX($D$8:D8774)-1)))","v":""}]
[null,null,null,null,{"$f":"IF(A8775=\"\",\"\",IF(B8775=\"\",E8774,IF(D8775=\"\",E8774,D8775/MAX($D$8:D8775)-1)))","v":""}]
[null,null,null,null,{"$f":"IF(A8776=\"\",\"\",IF(B8776=\"\",E8775,IF(D8776=\"\",E8775,D8776/MAX($D$8:D8776)-1)))","v":""}]
[null,null,null,null,{"$f":"IF(A8777=\"\",\"\",IF(B8777=\"\",E8776,IF(D8777=\"\",E8776,D8777/MAX($D$8:D8777)-1)))","v":""}]
[null,null,null,null,{"$f":"IF(A8778=\"\",\"\",IF(B8778=\"\",E8777,IF(D8778=\"\",E8777,D8778/MAX($D$8:D8778)-1)))","v":""}]
[null,null,null,null,{"$f":"IF(A8779=\"\",\"\",IF(B8779=\"\",E8778,IF(D8779=\"\",E8778,D8779/MAX($D$8:D8779)-1)))","v":""}]
[null,null,null,null,{"$f":"IF(A8780=\"\",\"\",IF(B8780=\"\",E8779,IF(D8780=\"\",E8779,D8780/MAX($D$8:D8780)-1)))","v":""}]
[null,null,null,null,{"$f":"IF(A8781=\"\",\"\",IF(B8781=\"\",E8780,IF(D8781=\"\",E8780,D8781/MAX($D$8:D8781)-1)))","v":""}]
[null,null,null,null,{"$f":"IF(A8782=\"\",\"\",IF(B8782=\"\",E8781,IF(D8782=\"\",E8781,D8782/MAX($D$8:D8782)-1)))","v":""}]
[null,null,null,null,{"$f":"IF(A8783=\"\",\"\",IF(B8783=\"\",E8782,IF(D8783=\"\",E8782,D8783/MAX($D$8:D8783)-1)))","v":""}]
[null,null,null,null,{"$f":"IF(A8784=\"\",\"\",IF(B8784=\"\",E8783,IF(D8784=\"\",E8783,D8784/MAX($D$8:D8784)-1)))","v":""}]
[null,null,null,null,{"$f":"IF(A8785=\"\",\"\",IF(B8785=\"\",E8784,IF(D8785=\"\",E8784,D8785/MAX($D$8:D8785)-1)))","v":""}]
[null,null,null,null,{"$f":"IF(A8786=\"\",\"\",IF(B8786=\"\",E8785,IF(D8786=\"\",E8785,D8786/MAX($D$8:D8786)-1)))","v":""}]
[null,null,null,null,{"$f":"IF(A8787=\"\",\"\",IF(B8787=\"\",E8786,IF(D8787=\"\",E8786,D8787/MAX($D$8:D8787)-1)))","v":""}]
[null,null,null,null,{"$f":"IF(A8788=\"\",\"\",IF(B8788=\"\",E8787,IF(D8788=\"\",E8787,D8788/MAX($D$8:D8788)-1)))","v":""}]
[null,null,null,null,{"$f":"IF(A8789=\"\",\"\",IF(B8789=\"\",E8788,IF(D8789=\"\",E8788,D8789/MAX($D$8:D8789)-1)))","v":""}]
[null,null,null,null,{"$f":"IF(A8790=\"\",\"\",IF(B8790=\"\",E8789,IF(D8790=\"\",E8789,D8790/MAX($D$8:D8790)-1)))","v":""}]
[null,null,null,null,{"$f":"IF(A8791=\"\",\"\",IF(B8791=\"\",E8790,IF(D8791=\"\",E8790,D8791/MAX($D$8:D8791)-1)))","v":""}]
[null,null,null,null,{"$f":"IF(A8792=\"\",\"\",IF(B8792=\"\",E8791,IF(D8792=\"\",E8791,D8792/MAX($D$8:D8792)-1)))","v":""}]
[null,null,null,null,{"$f":"IF(A8793=\"\",\"\",IF(B8793=\"\",E8792,IF(D8793=\"\",E8792,D8793/MAX($D$8:D8793)-1)))","v":""}]
[null,null,null,null,{"$f":"IF(A8794=\"\",\"\",IF(B8794=\"\",E8793,IF(D8794=\"\",E8793,D8794/MAX($D$8:D8794)-1)))","v":""}]
[null,null,null,null,{"$f":"IF(A8795=\"\",\"\",IF(B8795=\"\",E8794,IF(D8795=\"\",E8794,D8795/MAX($D$8:D8795)-1)))","v":""}]
[null,null,null,null,{"$f":"IF(A8796=\"\",\"\",IF(B8796=\"\",E8795,IF(D8796=\"\",E8795,D8796/MAX($D$8:D8796)-1)))","v":""}]
[null,null,null,null,{"$f":"IF(A8797=\"\",\"\",IF(B8797=\"\",E8796,IF(D8797=\"\",E8796,D8797/MAX($D$8:D8797)-1)))","v":""}]
[null,null,null,null,{"$f":"IF(A8798=\"\",\"\",IF(B8798=\"\",E8797,IF(D8798=\"\",E8797,D8798/MAX($D$8:D8798)-1)))","v":""}]
[null,null,null,null,{"$f":"IF(A8799=\"\",\"\",IF(B8799=\"\",E8798,IF(D8799=\"\",E8798,D8799/MAX($D$8:D8799)-1)))","v":""}]
[null,null,null,null,{"$f":"IF(A8800=\"\",\"\",IF(B8800=\"\",E8799,IF(D8800=\"\",E8799,D8800/MAX($D$8:D8800)-1)))","v":""}]
[null,null,null,null,{"$f":"IF(A8801=\"\",\"\",IF(B8801=\"\",E8800,IF(D8801=\"\",E8800,D8801/MAX($D$8:D8801)-1)))","v":""}]
[null,null,null,null,{"$f":"IF(A8802=\"\",\"\",IF(B8802=\"\",E8801,IF(D8802=\"\",E8801,D8802/MAX($D$8:D8802)-1)))","v":""}]
[null,null,null,null,{"$f":"IF(A8803=\"\",\"\",IF(B8803=\"\",E8802,IF(D8803=\"\",E8802,D8803/MAX($D$8:D8803)-1)))","v":""}]
[null,null,null,null,{"$f":"IF(A8804=\"\",\"\",IF(B8804=\"\",E8803,IF(D8804=\"\",E8803,D8804/MAX($D$8:D8804)-1)))","v":""}]
[null,null,null,null,{"$f":"IF(A8805=\"\",\"\",IF(B8805=\"\",E8804,IF(D8805=\"\",E8804,D8805/MAX($D$8:D8805)-1)))","v":""}]
[null,null,null,null,{"$f":"IF(A8806=\"\",\"\",IF(B8806=\"\",E8805,IF(D8806=\"\",E8805,D8806/MAX($D$8:D8806)-1)))","v":""}]
[null,null,null,null,{"$f":"IF(A8807=\"\",\"\",IF(B8807=\"\",E8806,IF(D8807=\"\",E8806,D8807/MAX($D$8:D8807)-1)))","v":""}]
[null,null,null,null,{"$f":"IF(A8808=\"\",\"\",IF(B8808=\"\",E8807,IF(D8808=\"\",E8807,D8808/MAX($D$8:D8808)-1)))","v":""}]
[null,null,null,null,{"$f":"IF(A8809=\"\",\"\",IF(B8809=\"\",E8808,IF(D8809=\"\",E8808,D8809/MAX($D$8:D8809)-1)))","v":""}]
[null,null,null,null,{"$f":"IF(A8810=\"\",\"\",IF(B8810=\"\",E8809,IF(D8810=\"\",E8809,D8810/MAX($D$8:D8810)-1)))","v":""}]
[null,null,null,null,{"$f":"IF(A8811=\"\",\"\",IF(B8811=\"\",E8810,IF(D8811=\"\",E8810,D8811/MAX($D$8:D8811)-1)))","v":""}]
[null,null,null,null,{"$f":"IF(A8812=\"\",\"\",IF(B8812=\"\",E8811,IF(D8812=\"\",E8811,D8812/MAX($D$8:D8812)-1)))","v":""}]
[null,null,null,null,{"$f":"IF(A8813=\"\",\"\",IF(B8813=\"\",E8812,IF(D8813=\"\",E8812,D8813/MAX($D$8:D8813)-1)))","v":""}]
[null,null,null,null,{"$f":"IF(A8814=\"\",\"\",IF(B8814=\"\",E8813,IF(D8814=\"\",E8813,D8814/MAX($D$8:D8814)-1)))","v":""}]
[null,null,null,null,{"$f":"IF(A8815=\"\",\"\",IF(B8815=\"\",E8814,IF(D8815=\"\",E8814,D8815/MAX($D$8:D8815)-1)))","v":""}]
[null,null,null,null,{"$f":"IF(A8816=\"\",\"\",IF(B8816=\"\",E8815,IF(D8816=\"\",E8815,D8816/MAX($D$8:D8816)-1)))","v":""}]
[null,null,null,null,{"$f":"IF(A8817=\"\",\"\",IF(B8817=\"\",E8816,IF(D8817=\"\",E8816,D8817/MAX($D$8:D8817)-1)))","v":""}]
[null,null,null,null,{"$f":"IF(A8818=\"\",\"\",IF(B8818=\"\",E8817,IF(D8818=\"\",E8817,D8818/MAX($D$8:D8818)-1)))","v":""}]
[null,null,null,null,{"$f":"IF(A8819=\"\",\"\",IF(B8819=\"\",E8818,IF(D8819=\"\",E8818,D8819/MAX($D$8:D8819)-1)))","v":""}]
[null,null,null,null,{"$f":"IF(A8820=\"\",\"\",IF(B8820=\"\",E8819,IF(D8820=\"\",E8819,D8820/MAX($D$8:D8820)-1)))","v":""}]
[null,null,null,null,{"$f":"IF(A8821=\"\",\"\",IF(B8821=\"\",E8820,IF(D8821=\"\",E8820,D8821/MAX($D$8:D8821)-1)))","v":""}]
[null,null,null,null,{"$f":"IF(A8822=\"\",\"\",IF(B8822=\"\",E8821,IF(D8822=\"\",E8821,D8822/MAX($D$8:D8822)-1)))","v":""}]
[null,null,null,null,{"$f":"IF(A8823=\"\",\"\",IF(B8823=\"\",E8822,IF(D8823=\"\",E8822,D8823/MAX($D$8:D8823)-1)))","v":""}]
[null,null,null,null,{"$f":"IF(A8824=\"\",\"\",IF(B8824=\"\",E8823,IF(D8824=\"\",E8823,D8824/MAX($D$8:D8824)-1)))","v":""}]
[null,null,null,null,{"$f":"IF(A8825=\"\",\"\",IF(B8825=\"\",E8824,IF(D8825=\"\",E8824,D8825/MAX($D$8:D8825)-1)))","v":""}]
[null,null,null,null,{"$f":"IF(A8826=\"\",\"\",IF(B8826=\"\",E8825,IF(D8826=\"\",E8825,D8826/MAX($D$8:D8826)-1)))","v":""}]
[null,null,null,null,{"$f":"IF(A8827=\"\",\"\",IF(B8827=\"\",E8826,IF(D8827=\"\",E8826,D8827/MAX($D$8:D8827)-1)))","v":""}]
[null,null,null,null,{"$f":"IF(A8828=\"\",\"\",IF(B8828=\"\",E8827,IF(D8828=\"\",E8827,D8828/MAX($D$8:D8828)-1)))","v":""}]
[null,null,null,null,{"$f":"IF(A8829=\"\",\"\",IF(B8829=\"\",E8828,IF(D8829=\"\",E8828,D8829/MAX($D$8:D8829)-1)))","v":""}]
[null,null,null,null,{"$f":"IF(A8830=\"\",\"\",IF(B8830=\"\",E8829,IF(D8830=\"\",E8829,D8830/MAX($D$8:D8830)-1)))","v":""}]
[null,null,null,null,{"$f":"IF(A8831=\"\",\"\",IF(B8831=\"\",E8830,IF(D8831=\"\",E8830,D8831/MAX($D$8:D8831)-1)))","v":""}]
[null,null,null,null,{"$f":"IF(A8832=\"\",\"\",IF(B8832=\"\",E8831,IF(D8832=\"\",E8831,D8832/MAX($D$8:D8832)-1)))","v":""}]
[null,null,null,null,{"$f":"IF(A8833=\"\",\"\",IF(B8833=\"\",E8832,IF(D8833=\"\",E8832,D8833/MAX($D$8:D8833)-1)))","v":""}]
[null,null,null,null,{"$f":"IF(A8834=\"\",\"\",IF(B8834=\"\",E8833,IF(D8834=\"\",E8833,D8834/MAX($D$8:D8834)-1)))","v":""}]
[null,null,null,null,{"$f":"IF(A8835=\"\",\"\",IF(B8835=\"\",E8834,IF(D8835=\"\",E8834,D8835/MAX($D$8:D8835)-1)))","v":""}]
[null,null,null,null,{"$f":"IF(A8836=\"\",\"\",IF(B8836=\"\",E8835,IF(D8836=\"\",E8835,D8836/MAX($D$8:D8836)-1)))","v":""}]
[null,null,null,null,{"$f":"IF(A8837=\"\",\"\",IF(B8837=\"\",E8836,IF(D8837=\"\",E8836,D8837/MAX($D$8:D8837)-1)))","v":""}]
[null,null,null,null,{"$f":"IF(A8838=\"\",\"\",IF(B8838=\"\",E8837,IF(D8838=\"\",E8837,D8838/MAX($D$8:D8838)-1)))","v":""}]
[null,null,null,null,{"$f":"IF(A8839=\"\",\"\",IF(B8839=\"\",E8838,IF(D8839=\"\",E8838,D8839/MAX($D$8:D8839)-1)))","v":""}]
[null,null,null,null,{"$f":"IF(A8840=\"\",\"\",IF(B8840=\"\",E8839,IF(D8840=\"\",E8839,D8840/MAX($D$8:D8840)-1)))","v":""}]
[null,null,null,null,{"$f":"IF(A8841=\"\",\"\",IF(B8841=\"\",E8840,IF(D8841=\"\",E8840,D8841/MAX($D$8:D8841)-1)))","v":""}]
[null,null,null,null,{"$f":"IF(A8842=\"\",\"\",IF(B8842=\"\",E8841,IF(D8842=\"\",E8841,D8842/MAX($D$8:D8842)-1)))","v":""}]
[null,null,null,null,{"$f":"IF(A8843=\"\",\"\",IF(B8843=\"\",E8842,IF(D8843=\"\",E8842,D8843/MAX($D$8:D8843)-1)))","v":""}]
[null,null,null,null,{"$f":"IF(A8844=\"\",\"\",IF(B8844=\"\",E8843,IF(D8844=\"\",E8843,D8844/MAX($D$8:D8844)-1)))","v":""}]
[null,null,null,null,{"$f":"IF(A8845=\"\",\"\",IF(B8845=\"\",E8844,IF(D8845=\"\",E8844,D8845/MAX($D$8:D8845)-1)))","v":""}]
[null,null,null,null,{"$f":"IF(A8846=\"\",\"\",IF(B8846=\"\",E8845,IF(D8846=\"\",E8845,D8846/MAX($D$8:D8846)-1)))","v":""}]
[null,null,null,null,{"$f":"IF(A8847=\"\",\"\",IF(B8847=\"\",E8846,IF(D8847=\"\",E8846,D8847/MAX($D$8:D8847)-1)))","v":""}]
[null,null,null,null,{"$f":"IF(A8848=\"\",\"\",IF(B8848=\"\",E8847,IF(D8848=\"\",E8847,D8848/MAX($D$8:D8848)-1)))","v":""}]
[null,null,null,null,{"$f":"IF(A8849=\"\",\"\",IF(B8849=\"\",E8848,IF(D8849=\"\",E8848,D8849/MAX($D$8:D8849)-1)))","v":""}]
[null,null,null,null,{"$f":"IF(A8850=\"\",\"\",IF(B8850=\"\",E8849,IF(D8850=\"\",E8849,D8850/MAX($D$8:D8850)-1)))","v":""}]
[null,null,null,null,{"$f":"IF(A8851=\"\",\"\",IF(B8851=\"\",E8850,IF(D8851=\"\",E8850,D8851/MAX($D$8:D8851)-1)))","v":""}]
[null,null,null,null,{"$f":"IF(A8852=\"\",\"\",IF(B8852=\"\",E8851,IF(D8852=\"\",E8851,D8852/MAX($D$8:D8852)-1)))","v":""}]
[null,null,null,null,{"$f":"IF(A8853=\"\",\"\",IF(B8853=\"\",E8852,IF(D8853=\"\",E8852,D8853/MAX($D$8:D8853)-1)))","v":""}]
[null,null,null,null,{"$f":"IF(A8854=\"\",\"\",IF(B8854=\"\",E8853,IF(D8854=\"\",E8853,D8854/MAX($D$8:D8854)-1)))","v":""}]
[null,null,null,null,{"$f":"IF(A8855=\"\",\"\",IF(B8855=\"\",E8854,IF(D8855=\"\",E8854,D8855/MAX($D$8:D8855)-1)))","v":""}]
[null,null,null,null,{"$f":"IF(A8856=\"\",\"\",IF(B8856=\"\",E8855,IF(D8856=\"\",E8855,D8856/MAX($D$8:D8856)-1)))","v":""}]
[null,null,null,null,{"$f":"IF(A8857=\"\",\"\",IF(B8857=\"\",E8856,IF(D8857=\"\",E8856,D8857/MAX($D$8:D8857)-1)))","v":""}]
[null,null,null,null,{"$f":"IF(A8858=\"\",\"\",IF(B8858=\"\",E8857,IF(D8858=\"\",E8857,D8858/MAX($D$8:D8858)-1)))","v":""}]
[null,null,null,null,{"$f":"IF(A8859=\"\",\"\",IF(B8859=\"\",E8858,IF(D8859=\"\",E8858,D8859/MAX($D$8:D8859)-1)))","v":""}]
[null,null,null,null,{"$f":"IF(A8860=\"\",\"\",IF(B8860=\"\",E8859,IF(D8860=\"\",E8859,D8860/MAX($D$8:D8860)-1)))","v":""}]
[null,null,null,null,{"$f":"IF(A8861=\"\",\"\",IF(B8861=\"\",E8860,IF(D8861=\"\",E8860,D8861/MAX($D$8:D8861)-1)))","v":""}]
[null,null,null,null,{"$f":"IF(A8862=\"\",\"\",IF(B8862=\"\",E8861,IF(D8862=\"\",E8861,D8862/MAX($D$8:D8862)-1)))","v":""}]
[null,null,null,null,{"$f":"IF(A8863=\"\",\"\",IF(B8863=\"\",E8862,IF(D8863=\"\",E8862,D8863/MAX($D$8:D8863)-1)))","v":""}]
[null,null,null,null,{"$f":"IF(A8864=\"\",\"\",IF(B8864=\"\",E8863,IF(D8864=\"\",E8863,D8864/MAX($D$8:D8864)-1)))","v":""}]
[null,null,null,null,{"$f":"IF(A8865=\"\",\"\",IF(B8865=\"\",E8864,IF(D8865=\"\",E8864,D8865/MAX($D$8:D8865)-1)))","v":""}]
[null,null,null,null,{"$f":"IF(A8866=\"\",\"\",IF(B8866=\"\",E8865,IF(D8866=\"\",E8865,D8866/MAX($D$8:D8866)-1)))","v":""}]
[null,null,null,null,{"$f":"IF(A8867=\"\",\"\",IF(B8867=\"\",E8866,IF(D8867=\"\",E8866,D8867/MAX($D$8:D8867)-1)))","v":""}]
[null,null,null,null,{"$f":"IF(A8868=\"\",\"\",IF(B8868=\"\",E8867,IF(D8868=\"\",E8867,D8868/MAX($D$8:D8868)-1)))","v":""}]
[null,null,null,null,{"$f":"IF(A8869=\"\",\"\",IF(B8869=\"\",E8868,IF(D8869=\"\",E8868,D8869/MAX($D$8:D8869)-1)))","v":""}]
[null,null,null,null,{"$f":"IF(A8870=\"\",\"\",IF(B8870=\"\",E8869,IF(D8870=\"\",E8869,D8870/MAX($D$8:D8870)-1)))","v":""}]
[null,null,null,null,{"$f":"IF(A8871=\"\",\"\",IF(B8871=\"\",E8870,IF(D8871=\"\",E8870,D8871/MAX($D$8:D8871)-1)))","v":""}]
[null,null,null,null,{"$f":"IF(A8872=\"\",\"\",IF(B8872=\"\",E8871,IF(D8872=\"\",E8871,D8872/MAX($D$8:D8872)-1)))","v":""}]
[null,null,null,null,{"$f":"IF(A8873=\"\",\"\",IF(B8873=\"\",E8872,IF(D8873=\"\",E8872,D8873/MAX($D$8:D8873)-1)))","v":""}]
[null,null,null,null,{"$f":"IF(A8874=\"\",\"\",IF(B8874=\"\",E8873,IF(D8874=\"\",E8873,D8874/MAX($D$8:D8874)-1)))","v":""}]
[null,null,null,null,{"$f":"IF(A8875=\"\",\"\",IF(B8875=\"\",E8874,IF(D8875=\"\",E8874,D8875/MAX($D$8:D8875)-1)))","v":""}]
[null,null,null,null,{"$f":"IF(A8876=\"\",\"\",IF(B8876=\"\",E8875,IF(D8876=\"\",E8875,D8876/MAX($D$8:D8876)-1)))","v":""}]
[null,null,null,null,{"$f":"IF(A8877=\"\",\"\",IF(B8877=\"\",E8876,IF(D8877=\"\",E8876,D8877/MAX($D$8:D8877)-1)))","v":""}]
[null,null,null,null,{"$f":"IF(A8878=\"\",\"\",IF(B8878=\"\",E8877,IF(D8878=\"\",E8877,D8878/MAX($D$8:D8878)-1)))","v":""}]
[null,null,null,null,{"$f":"IF(A8879=\"\",\"\",IF(B8879=\"\",E8878,IF(D8879=\"\",E8878,D8879/MAX($D$8:D8879)-1)))","v":""}]
[null,null,null,null,{"$f":"IF(A8880=\"\",\"\",IF(B8880=\"\",E8879,IF(D8880=\"\",E8879,D8880/MAX($D$8:D8880)-1)))","v":""}]
[null,null,null,null,{"$f":"IF(A8881=\"\",\"\",IF(B8881=\"\",E8880,IF(D8881=\"\",E8880,D8881/MAX($D$8:D8881)-1)))","v":""}]
[null,null,null,null,{"$f":"IF(A8882=\"\",\"\",IF(B8882=\"\",E8881,IF(D8882=\"\",E8881,D8882/MAX($D$8:D8882)-1)))","v":""}]
[null,null,null,null,{"$f":"IF(A8883=\"\",\"\",IF(B8883=\"\",E8882,IF(D8883=\"\",E8882,D8883/MAX($D$8:D8883)-1)))","v":""}]
[null,null,null,null,{"$f":"IF(A8884=\"\",\"\",IF(B8884=\"\",E8883,IF(D8884=\"\",E8883,D8884/MAX($D$8:D8884)-1)))","v":""}]
[null,null,null,null,{"$f":"IF(A8885=\"\",\"\",IF(B8885=\"\",E8884,IF(D8885=\"\",E8884,D8885/MAX($D$8:D8885)-1)))","v":""}]
[null,null,null,null,{"$f":"IF(A8886=\"\",\"\",IF(B8886=\"\",E8885,IF(D8886=\"\",E8885,D8886/MAX($D$8:D8886)-1)))","v":""}]
[null,null,null,null,{"$f":"IF(A8887=\"\",\"\",IF(B8887=\"\",E8886,IF(D8887=\"\",E8886,D8887/MAX($D$8:D8887)-1)))","v":""}]
[null,null,null,null,{"$f":"IF(A8888=\"\",\"\",IF(B8888=\"\",E8887,IF(D8888=\"\",E8887,D8888/MAX($D$8:D8888)-1)))","v":""}]
[null,null,null,null,{"$f":"IF(A8889=\"\",\"\",IF(B8889=\"\",E8888,IF(D8889=\"\",E8888,D8889/MAX($D$8:D8889)-1)))","v":""}]
[null,null,null,null,{"$f":"IF(A8890=\"\",\"\",IF(B8890=\"\",E8889,IF(D8890=\"\",E8889,D8890/MAX($D$8:D8890)-1)))","v":""}]
[null,null,null,null,{"$f":"IF(A8891=\"\",\"\",IF(B8891=\"\",E8890,IF(D8891=\"\",E8890,D8891/MAX($D$8:D8891)-1)))","v":""}]
[null,null,null,null,{"$f":"IF(A8892=\"\",\"\",IF(B8892=\"\",E8891,IF(D8892=\"\",E8891,D8892/MAX($D$8:D8892)-1)))","v":""}]
[null,null,null,null,{"$f":"IF(A8893=\"\",\"\",IF(B8893=\"\",E8892,IF(D8893=\"\",E8892,D8893/MAX($D$8:D8893)-1)))","v":""}]
[null,null,null,null,{"$f":"IF(A8894=\"\",\"\",IF(B8894=\"\",E8893,IF(D8894=\"\",E8893,D8894/MAX($D$8:D8894)-1)))","v":""}]
[null,null,null,null,{"$f":"IF(A8895=\"\",\"\",IF(B8895=\"\",E8894,IF(D8895=\"\",E8894,D8895/MAX($D$8:D8895)-1)))","v":""}]
[null,null,null,null,{"$f":"IF(A8896=\"\",\"\",IF(B8896=\"\",E8895,IF(D8896=\"\",E8895,D8896/MAX($D$8:D8896)-1)))","v":""}]
[null,null,null,null,{"$f":"IF(A8897=\"\",\"\",IF(B8897=\"\",E8896,IF(D8897=\"\",E8896,D8897/MAX($D$8:D8897)-1)))","v":""}]
[null,null,null,null,{"$f":"IF(A8898=\"\",\"\",IF(B8898=\"\",E8897,IF(D8898=\"\",E8897,D8898/MAX($D$8:D8898)-1)))","v":""}]
[null,null,null,null,{"$f":"IF(A8899=\"\",\"\",IF(B8899=\"\",E8898,IF(D8899=\"\",E8898,D8899/MAX($D$8:D8899)-1)))","v":""}]
[null,null,null,null,{"$f":"IF(A8900=\"\",\"\",IF(B8900=\"\",E8899,IF(D8900=\"\",E8899,D8900/MAX($D$8:D8900)-1)))","v":""}]
[null,null,null,null,{"$f":"IF(A8901=\"\",\"\",IF(B8901=\"\",E8900,IF(D8901=\"\",E8900,D8901/MAX($D$8:D8901)-1)))","v":""}]
[null,null,null,null,{"$f":"IF(A8902=\"\",\"\",IF(B8902=\"\",E8901,IF(D8902=\"\",E8901,D8902/MAX($D$8:D8902)-1)))","v":""}]
[null,null,null,null,{"$f":"IF(A8903=\"\",\"\",IF(B8903=\"\",E8902,IF(D8903=\"\",E8902,D8903/MAX($D$8:D8903)-1)))","v":""}]
[null,null,null,null,{"$f":"IF(A8904=\"\",\"\",IF(B8904=\"\",E8903,IF(D8904=\"\",E8903,D8904/MAX($D$8:D8904)-1)))","v":""}]
[null,null,null,null,{"$f":"IF(A8905=\"\",\"\",IF(B8905=\"\",E8904,IF(D8905=\"\",E8904,D8905/MAX($D$8:D8905)-1)))","v":""}]
[null,null,null,null,{"$f":"IF(A8906=\"\",\"\",IF(B8906=\"\",E8905,IF(D8906=\"\",E8905,D8906/MAX($D$8:D8906)-1)))","v":""}]
[null,null,null,null,{"$f":"IF(A8907=\"\",\"\",IF(B8907=\"\",E8906,IF(D8907=\"\",E8906,D8907/MAX($D$8:D8907)-1)))","v":""}]
[null,null,null,null,{"$f":"IF(A8908=\"\",\"\",IF(B8908=\"\",E8907,IF(D8908=\"\",E8907,D8908/MAX($D$8:D8908)-1)))","v":""}]
[null,null,null,null,{"$f":"IF(A8909=\"\",\"\",IF(B8909=\"\",E8908,IF(D8909=\"\",E8908,D8909/MAX($D$8:D8909)-1)))","v":""}]
[null,null,null,null,{"$f":"IF(A8910=\"\",\"\",IF(B8910=\"\",E8909,IF(D8910=\"\",E8909,D8910/MAX($D$8:D8910)-1)))","v":""}]
[null,null,null,null,{"$f":"IF(A8911=\"\",\"\",IF(B8911=\"\",E8910,IF(D8911=\"\",E8910,D8911/MAX($D$8:D8911)-1)))","v":""}]
[null,null,null,null,{"$f":"IF(A8912=\"\",\"\",IF(B8912=\"\",E8911,IF(D8912=\"\",E8911,D8912/MAX($D$8:D8912)-1)))","v":""}]
[null,null,null,null,{"$f":"IF(A8913=\"\",\"\",IF(B8913=\"\",E8912,IF(D8913=\"\",E8912,D8913/MAX($D$8:D8913)-1)))","v":""}]
[null,null,null,null,{"$f":"IF(A8914=\"\",\"\",IF(B8914=\"\",E8913,IF(D8914=\"\",E8913,D8914/MAX($D$8:D8914)-1)))","v":""}]
[null,null,null,null,{"$f":"IF(A8915=\"\",\"\",IF(B8915=\"\",E8914,IF(D8915=\"\",E8914,D8915/MAX($D$8:D8915)-1)))","v":""}]
[null,null,null,null,{"$f":"IF(A8916=\"\",\"\",IF(B8916=\"\",E8915,IF(D8916=\"\",E8915,D8916/MAX($D$8:D8916)-1)))","v":""}]
[null,null,null,null,{"$f":"IF(A8917=\"\",\"\",IF(B8917=\"\",E8916,IF(D8917=\"\",E8916,D8917/MAX($D$8:D8917)-1)))","v":""}]
[null,null,null,null,{"$f":"IF(A8918=\"\",\"\",IF(B8918=\"\",E8917,IF(D8918=\"\",E8917,D8918/MAX($D$8:D8918)-1)))","v":""}]
[null,null,null,null,{"$f":"IF(A8919=\"\",\"\",IF(B8919=\"\",E8918,IF(D8919=\"\",E8918,D8919/MAX($D$8:D8919)-1)))","v":""}]
[null,null,null,null,{"$f":"IF(A8920=\"\",\"\",IF(B8920=\"\",E8919,IF(D8920=\"\",E8919,D8920/MAX($D$8:D8920)-1)))","v":""}]
[null,null,null,null,{"$f":"IF(A8921=\"\",\"\",IF(B8921=\"\",E8920,IF(D8921=\"\",E8920,D8921/MAX($D$8:D8921)-1)))","v":""}]
[null,null,null,null,{"$f":"IF(A8922=\"\",\"\",IF(B8922=\"\",E8921,IF(D8922=\"\",E8921,D8922/MAX($D$8:D8922)-1)))","v":""}]
[null,null,null,null,{"$f":"IF(A8923=\"\",\"\",IF(B8923=\"\",E8922,IF(D8923=\"\",E8922,D8923/MAX($D$8:D8923)-1)))","v":""}]
[null,null,null,null,{"$f":"IF(A8924=\"\",\"\",IF(B8924=\"\",E8923,IF(D8924=\"\",E8923,D8924/MAX($D$8:D8924)-1)))","v":""}]
[null,null,null,null,{"$f":"IF(A8925=\"\",\"\",IF(B8925=\"\",E8924,IF(D8925=\"\",E8924,D8925/MAX($D$8:D8925)-1)))","v":""}]
[null,null,null,null,{"$f":"IF(A8926=\"\",\"\",IF(B8926=\"\",E8925,IF(D8926=\"\",E8925,D8926/MAX($D$8:D8926)-1)))","v":""}]
[null,null,null,null,{"$f":"IF(A8927=\"\",\"\",IF(B8927=\"\",E8926,IF(D8927=\"\",E8926,D8927/MAX($D$8:D8927)-1)))","v":""}]
[null,null,null,null,{"$f":"IF(A8928=\"\",\"\",IF(B8928=\"\",E8927,IF(D8928=\"\",E8927,D8928/MAX($D$8:D8928)-1)))","v":""}]
[null,null,null,null,{"$f":"IF(A8929=\"\",\"\",IF(B8929=\"\",E8928,IF(D8929=\"\",E8928,D8929/MAX($D$8:D8929)-1)))","v":""}]
[null,null,null,null,{"$f":"IF(A8930=\"\",\"\",IF(B8930=\"\",E8929,IF(D8930=\"\",E8929,D8930/MAX($D$8:D8930)-1)))","v":""}]
[null,null,null,null,{"$f":"IF(A8931=\"\",\"\",IF(B8931=\"\",E8930,IF(D8931=\"\",E8930,D8931/MAX($D$8:D8931)-1)))","v":""}]
[null,null,null,null,{"$f":"IF(A8932=\"\",\"\",IF(B8932=\"\",E8931,IF(D8932=\"\",E8931,D8932/MAX($D$8:D8932)-1)))","v":""}]
[null,null,null,null,{"$f":"IF(A8933=\"\",\"\",IF(B8933=\"\",E8932,IF(D8933=\"\",E8932,D8933/MAX($D$8:D8933)-1)))","v":""}]
[null,null,null,null,{"$f":"IF(A8934=\"\",\"\",IF(B8934=\"\",E8933,IF(D8934=\"\",E8933,D8934/MAX($D$8:D8934)-1)))","v":""}]
[null,null,null,null,{"$f":"IF(A8935=\"\",\"\",IF(B8935=\"\",E8934,IF(D8935=\"\",E8934,D8935/MAX($D$8:D8935)-1)))","v":""}]
[null,null,null,null,{"$f":"IF(A8936=\"\",\"\",IF(B8936=\"\",E8935,IF(D8936=\"\",E8935,D8936/MAX($D$8:D8936)-1)))","v":""}]
[null,null,null,null,{"$f":"IF(A8937=\"\",\"\",IF(B8937=\"\",E8936,IF(D8937=\"\",E8936,D8937/MAX($D$8:D8937)-1)))","v":""}]
[null,null,null,null,{"$f":"IF(A8938=\"\",\"\",IF(B8938=\"\",E8937,IF(D8938=\"\",E8937,D8938/MAX($D$8:D8938)-1)))","v":""}]
[null,null,null,null,{"$f":"IF(A8939=\"\",\"\",IF(B8939=\"\",E8938,IF(D8939=\"\",E8938,D8939/MAX($D$8:D8939)-1)))","v":""}]
[null,null,null,null,{"$f":"IF(A8940=\"\",\"\",IF(B8940=\"\",E8939,IF(D8940=\"\",E8939,D8940/MAX($D$8:D8940)-1)))","v":""}]
[null,null,null,null,{"$f":"IF(A8941=\"\",\"\",IF(B8941=\"\",E8940,IF(D8941=\"\",E8940,D8941/MAX($D$8:D8941)-1)))","v":""}]
[null,null,null,null,{"$f":"IF(A8942=\"\",\"\",IF(B8942=\"\",E8941,IF(D8942=\"\",E8941,D8942/MAX($D$8:D8942)-1)))","v":""}]
[null,null,null,null,{"$f":"IF(A8943=\"\",\"\",IF(B8943=\"\",E8942,IF(D8943=\"\",E8942,D8943/MAX($D$8:D8943)-1)))","v":""}]
[null,null,null,null,{"$f":"IF(A8944=\"\",\"\",IF(B8944=\"\",E8943,IF(D8944=\"\",E8943,D8944/MAX($D$8:D8944)-1)))","v":""}]
[null,null,null,null,{"$f":"IF(A8945=\"\",\"\",IF(B8945=\"\",E8944,IF(D8945=\"\",E8944,D8945/MAX($D$8:D8945)-1)))","v":""}]
[null,null,null,null,{"$f":"IF(A8946=\"\",\"\",IF(B8946=\"\",E8945,IF(D8946=\"\",E8945,D8946/MAX($D$8:D8946)-1)))","v":""}]
[null,null,null,null,{"$f":"IF(A8947=\"\",\"\",IF(B8947=\"\",E8946,IF(D8947=\"\",E8946,D8947/MAX($D$8:D8947)-1)))","v":""}]
[null,null,null,null,{"$f":"IF(A8948=\"\",\"\",IF(B8948=\"\",E8947,IF(D8948=\"\",E8947,D8948/MAX($D$8:D8948)-1)))","v":""}]
[null,null,null,null,{"$f":"IF(A8949=\"\",\"\",IF(B8949=\"\",E8948,IF(D8949=\"\",E8948,D8949/MAX($D$8:D8949)-1)))","v":""}]
[null,null,null,null,{"$f":"IF(A8950=\"\",\"\",IF(B8950=\"\",E8949,IF(D8950=\"\",E8949,D8950/MAX($D$8:D8950)-1)))","v":""}]
[null,null,null,null,{"$f":"IF(A8951=\"\",\"\",IF(B8951=\"\",E8950,IF(D8951=\"\",E8950,D8951/MAX($D$8:D8951)-1)))","v":""}]
[null,null,null,null,{"$f":"IF(A8952=\"\",\"\",IF(B8952=\"\",E8951,IF(D8952=\"\",E8951,D8952/MAX($D$8:D8952)-1)))","v":""}]
[null,null,null,null,{"$f":"IF(A8953=\"\",\"\",IF(B8953=\"\",E8952,IF(D8953=\"\",E8952,D8953/MAX($D$8:D8953)-1)))","v":""}]
[null,null,null,null,{"$f":"IF(A8954=\"\",\"\",IF(B8954=\"\",E8953,IF(D8954=\"\",E8953,D8954/MAX($D$8:D8954)-1)))","v":""}]
[null,null,null,null,{"$f":"IF(A8955=\"\",\"\",IF(B8955=\"\",E8954,IF(D8955=\"\",E8954,D8955/MAX($D$8:D8955)-1)))","v":""}]
[null,null,null,null,{"$f":"IF(A8956=\"\",\"\",IF(B8956=\"\",E8955,IF(D8956=\"\",E8955,D8956/MAX($D$8:D8956)-1)))","v":""}]
[null,null,null,null,{"$f":"IF(A8957=\"\",\"\",IF(B8957=\"\",E8956,IF(D8957=\"\",E8956,D8957/MAX($D$8:D8957)-1)))","v":""}]
[null,null,null,null,{"$f":"IF(A8958=\"\",\"\",IF(B8958=\"\",E8957,IF(D8958=\"\",E8957,D8958/MAX($D$8:D8958)-1)))","v":""}]
[null,null,null,null,{"$f":"IF(A8959=\"\",\"\",IF(B8959=\"\",E8958,IF(D8959=\"\",E8958,D8959/MAX($D$8:D8959)-1)))","v":""}]
[null,null,null,null,{"$f":"IF(A8960=\"\",\"\",IF(B8960=\"\",E8959,IF(D8960=\"\",E8959,D8960/MAX($D$8:D8960)-1)))","v":""}]
[null,null,null,null,{"$f":"IF(A8961=\"\",\"\",IF(B8961=\"\",E8960,IF(D8961=\"\",E8960,D8961/MAX($D$8:D8961)-1)))","v":""}]
[null,null,null,null,{"$f":"IF(A8962=\"\",\"\",IF(B8962=\"\",E8961,IF(D8962=\"\",E8961,D8962/MAX($D$8:D8962)-1)))","v":""}]
[null,null,null,null,{"$f":"IF(A8963=\"\",\"\",IF(B8963=\"\",E8962,IF(D8963=\"\",E8962,D8963/MAX($D$8:D8963)-1)))","v":""}]
[null,null,null,null,{"$f":"IF(A8964=\"\",\"\",IF(B8964=\"\",E8963,IF(D8964=\"\",E8963,D8964/MAX($D$8:D8964)-1)))","v":""}]
[null,null,null,null,{"$f":"IF(A8965=\"\",\"\",IF(B8965=\"\",E8964,IF(D8965=\"\",E8964,D8965/MAX($D$8:D8965)-1)))","v":""}]
[null,null,null,null,{"$f":"IF(A8966=\"\",\"\",IF(B8966=\"\",E8965,IF(D8966=\"\",E8965,D8966/MAX($D$8:D8966)-1)))","v":""}]
[null,null,null,null,{"$f":"IF(A8967=\"\",\"\",IF(B8967=\"\",E8966,IF(D8967=\"\",E8966,D8967/MAX($D$8:D8967)-1)))","v":""}]
[null,null,null,null,{"$f":"IF(A8968=\"\",\"\",IF(B8968=\"\",E8967,IF(D8968=\"\",E8967,D8968/MAX($D$8:D8968)-1)))","v":""}]
[null,null,null,null,{"$f":"IF(A8969=\"\",\"\",IF(B8969=\"\",E8968,IF(D8969=\"\",E8968,D8969/MAX($D$8:D8969)-1)))","v":""}]
[null,null,null,null,{"$f":"IF(A8970=\"\",\"\",IF(B8970=\"\",E8969,IF(D8970=\"\",E8969,D8970/MAX($D$8:D8970)-1)))","v":""}]
[null,null,null,null,{"$f":"IF(A8971=\"\",\"\",IF(B8971=\"\",E8970,IF(D8971=\"\",E8970,D8971/MAX($D$8:D8971)-1)))","v":""}]
[null,null,null,null,{"$f":"IF(A8972=\"\",\"\",IF(B8972=\"\",E8971,IF(D8972=\"\",E8971,D8972/MAX($D$8:D8972)-1)))","v":""}]
[null,null,null,null,{"$f":"IF(A8973=\"\",\"\",IF(B8973=\"\",E8972,IF(D8973=\"\",E8972,D8973/MAX($D$8:D8973)-1)))","v":""}]
[null,null,null,null,{"$f":"IF(A8974=\"\",\"\",IF(B8974=\"\",E8973,IF(D8974=\"\",E8973,D8974/MAX($D$8:D8974)-1)))","v":""}]
[null,null,null,null,{"$f":"IF(A8975=\"\",\"\",IF(B8975=\"\",E8974,IF(D8975=\"\",E8974,D8975/MAX($D$8:D8975)-1)))","v":""}]
[null,null,null,null,{"$f":"IF(A8976=\"\",\"\",IF(B8976=\"\",E8975,IF(D8976=\"\",E8975,D8976/MAX($D$8:D8976)-1)))","v":""}]
[null,null,null,null,{"$f":"IF(A8977=\"\",\"\",IF(B8977=\"\",E8976,IF(D8977=\"\",E8976,D8977/MAX($D$8:D8977)-1)))","v":""}]
[null,null,null,null,{"$f":"IF(A8978=\"\",\"\",IF(B8978=\"\",E8977,IF(D8978=\"\",E8977,D8978/MAX($D$8:D8978)-1)))","v":""}]
[null,null,null,null,{"$f":"IF(A8979=\"\",\"\",IF(B8979=\"\",E8978,IF(D8979=\"\",E8978,D8979/MAX($D$8:D8979)-1)))","v":""}]
[null,null,null,null,{"$f":"IF(A8980=\"\",\"\",IF(B8980=\"\",E8979,IF(D8980=\"\",E8979,D8980/MAX($D$8:D8980)-1)))","v":""}]
[null,null,null,null,{"$f":"IF(A8981=\"\",\"\",IF(B8981=\"\",E8980,IF(D8981=\"\",E8980,D8981/MAX($D$8:D8981)-1)))","v":""}]
[null,null,null,null,{"$f":"IF(A8982=\"\",\"\",IF(B8982=\"\",E8981,IF(D8982=\"\",E8981,D8982/MAX($D$8:D8982)-1)))","v":""}]
[null,null,null,null,{"$f":"IF(A8983=\"\",\"\",IF(B8983=\"\",E8982,IF(D8983=\"\",E8982,D8983/MAX($D$8:D8983)-1)))","v":""}]
[null,null,null,null,{"$f":"IF(A8984=\"\",\"\",IF(B8984=\"\",E8983,IF(D8984=\"\",E8983,D8984/MAX($D$8:D8984)-1)))","v":""}]
[null,null,null,null,{"$f":"IF(A8985=\"\",\"\",IF(B8985=\"\",E8984,IF(D8985=\"\",E8984,D8985/MAX($D$8:D8985)-1)))","v":""}]
[null,null,null,null,{"$f":"IF(A8986=\"\",\"\",IF(B8986=\"\",E8985,IF(D8986=\"\",E8985,D8986/MAX($D$8:D8986)-1)))","v":""}]
[null,null,null,null,{"$f":"IF(A8987=\"\",\"\",IF(B8987=\"\",E8986,IF(D8987=\"\",E8986,D8987/MAX($D$8:D8987)-1)))","v":""}]
[null,null,null,null,{"$f":"IF(A8988=\"\",\"\",IF(B8988=\"\",E8987,IF(D8988=\"\",E8987,D8988/MAX($D$8:D8988)-1)))","v":""}]
[null,null,null,null,{"$f":"IF(A8989=\"\",\"\",IF(B8989=\"\",E8988,IF(D8989=\"\",E8988,D8989/MAX($D$8:D8989)-1)))","v":""}]
[null,null,null,null,{"$f":"IF(A8990=\"\",\"\",IF(B8990=\"\",E8989,IF(D8990=\"\",E8989,D8990/MAX($D$8:D8990)-1)))","v":""}]
[null,null,null,null,{"$f":"IF(A8991=\"\",\"\",IF(B8991=\"\",E8990,IF(D8991=\"\",E8990,D8991/MAX($D$8:D8991)-1)))","v":""}]
[null,null,null,null,{"$f":"IF(A8992=\"\",\"\",IF(B8992=\"\",E8991,IF(D8992=\"\",E8991,D8992/MAX($D$8:D8992)-1)))","v":""}]
[null,null,null,null,{"$f":"IF(A8993=\"\",\"\",IF(B8993=\"\",E8992,IF(D8993=\"\",E8992,D8993/MAX($D$8:D8993)-1)))","v":""}]
[null,null,null,null,{"$f":"IF(A8994=\"\",\"\",IF(B8994=\"\",E8993,IF(D8994=\"\",E8993,D8994/MAX($D$8:D8994)-1)))","v":""}]
[null,null,null,null,{"$f":"IF(A8995=\"\",\"\",IF(B8995=\"\",E8994,IF(D8995=\"\",E8994,D8995/MAX($D$8:D8995)-1)))","v":""}]
[null,null,null,null,{"$f":"IF(A8996=\"\",\"\",IF(B8996=\"\",E8995,IF(D8996=\"\",E8995,D8996/MAX($D$8:D8996)-1)))","v":""}]
[null,null,null,null,{"$f":"IF(A8997=\"\",\"\",IF(B8997=\"\",E8996,IF(D8997=\"\",E8996,D8997/MAX($D$8:D8997)-1)))","v":""}]
[null,null,null,null,{"$f":"IF(A8998=\"\",\"\",IF(B8998=\"\",E8997,IF(D8998=\"\",E8997,D8998/MAX($D$8:D8998)-1)))","v":""}]
[null,null,null,null,{"$f":"IF(A8999=\"\",\"\",IF(B8999=\"\",E8998,IF(D8999=\"\",E8998,D8999/MAX($D$8:D8999)-1)))","v":""}]
[null,null,null,null,{"$f":"IF(A9000=\"\",\"\",IF(B9000=\"\",E8999,IF(D9000=\"\",E8999,D9000/MAX($D$8:D9000)-1)))","v":""}]
[null,null,null,null,{"$f":"IF(A9001=\"\",\"\",IF(B9001=\"\",E9000,IF(D9001=\"\",E9000,D9001/MAX($D$8:D9001)-1)))","v":""}]
[null,null,null,null,{"$f":"IF(A9002=\"\",\"\",IF(B9002=\"\",E9001,IF(D9002=\"\",E9001,D9002/MAX($D$8:D9002)-1)))","v":""}]
[null,null,null,null,{"$f":"IF(A9003=\"\",\"\",IF(B9003=\"\",E9002,IF(D9003=\"\",E9002,D9003/MAX($D$8:D9003)-1)))","v":""}]
[null,null,null,null,{"$f":"IF(A9004=\"\",\"\",IF(B9004=\"\",E9003,IF(D9004=\"\",E9003,D9004/MAX($D$8:D9004)-1)))","v":""}]
[null,null,null,null,{"$f":"IF(A9005=\"\",\"\",IF(B9005=\"\",E9004,IF(D9005=\"\",E9004,D9005/MAX($D$8:D9005)-1)))","v":""}]
[null,null,null,null,{"$f":"IF(A9006=\"\",\"\",IF(B9006=\"\",E9005,IF(D9006=\"\",E9005,D9006/MAX($D$8:D9006)-1)))","v":""}]
[null,null,null,null,{"$f":"IF(A9007=\"\",\"\",IF(B9007=\"\",E9006,IF(D9007=\"\",E9006,D9007/MAX($D$8:D9007)-1)))","v":""}]
[null,null,null,null,{"$f":"IF(A9008=\"\",\"\",IF(B9008=\"\",E9007,IF(D9008=\"\",E9007,D9008/MAX($D$8:D9008)-1)))","v":""}]
[null,null,null,null,{"$f":"IF(A9009=\"\",\"\",IF(B9009=\"\",E9008,IF(D9009=\"\",E9008,D9009/MAX($D$8:D9009)-1)))","v":""}]
[null,null,null,null,{"$f":"IF(A9010=\"\",\"\",IF(B9010=\"\",E9009,IF(D9010=\"\",E9009,D9010/MAX($D$8:D9010)-1)))","v":""}]
[null,null,null,null,{"$f":"IF(A9011=\"\",\"\",IF(B9011=\"\",E9010,IF(D9011=\"\",E9010,D9011/MAX($D$8:D9011)-1)))","v":""}]
[null,null,null,null,{"$f":"IF(A9012=\"\",\"\",IF(B9012=\"\",E9011,IF(D9012=\"\",E9011,D9012/MAX($D$8:D9012)-1)))","v":""}]
[null,null,null,null,{"$f":"IF(A9013=\"\",\"\",IF(B9013=\"\",E9012,IF(D9013=\"\",E9012,D9013/MAX($D$8:D9013)-1)))","v":""}]
[null,null,null,null,{"$f":"IF(A9014=\"\",\"\",IF(B9014=\"\",E9013,IF(D9014=\"\",E9013,D9014/MAX($D$8:D9014)-1)))","v":""}]
[null,null,null,null,{"$f":"IF(A9015=\"\",\"\",IF(B9015=\"\",E9014,IF(D9015=\"\",E9014,D9015/MAX($D$8:D9015)-1)))","v":""}]
[null,null,null,null,{"$f":"IF(A9016=\"\",\"\",IF(B9016=\"\",E9015,IF(D9016=\"\",E9015,D9016/MAX($D$8:D9016)-1)))","v":""}]
[null,null,null,null,{"$f":"IF(A9017=\"\",\"\",IF(B9017=\"\",E9016,IF(D9017=\"\",E9016,D9017/MAX($D$8:D9017)-1)))","v":""}]
[null,null,null,null,{"$f":"IF(A9018=\"\",\"\",IF(B9018=\"\",E9017,IF(D9018=\"\",E9017,D9018/MAX($D$8:D9018)-1)))","v":""}]
[null,null,null,null,{"$f":"IF(A9019=\"\",\"\",IF(B9019=\"\",E9018,IF(D9019=\"\",E9018,D9019/MAX($D$8:D9019)-1)))","v":""}]
[null,null,null,null,{"$f":"IF(A9020=\"\",\"\",IF(B9020=\"\",E9019,IF(D9020=\"\",E9019,D9020/MAX($D$8:D9020)-1)))","v":""}]
[null,null,null,null,{"$f":"IF(A9021=\"\",\"\",IF(B9021=\"\",E9020,IF(D9021=\"\",E9020,D9021/MAX($D$8:D9021)-1)))","v":""}]
[null,null,null,null,{"$f":"IF(A9022=\"\",\"\",IF(B9022=\"\",E9021,IF(D9022=\"\",E9021,D9022/MAX($D$8:D9022)-1)))","v":""}]
[null,null,null,null,{"$f":"IF(A9023=\"\",\"\",IF(B9023=\"\",E9022,IF(D9023=\"\",E9022,D9023/MAX($D$8:D9023)-1)))","v":""}]
[null,null,null,null,{"$f":"IF(A9024=\"\",\"\",IF(B9024=\"\",E9023,IF(D9024=\"\",E9023,D9024/MAX($D$8:D9024)-1)))","v":""}]
[null,null,null,null,{"$f":"IF(A9025=\"\",\"\",IF(B9025=\"\",E9024,IF(D9025=\"\",E9024,D9025/MAX($D$8:D9025)-1)))","v":""}]
[null,null,null,null,{"$f":"IF(A9026=\"\",\"\",IF(B9026=\"\",E9025,IF(D9026=\"\",E9025,D9026/MAX($D$8:D9026)-1)))","v":""}]
[null,null,null,null,{"$f":"IF(A9027=\"\",\"\",IF(B9027=\"\",E9026,IF(D9027=\"\",E9026,D9027/MAX($D$8:D9027)-1)))","v":""}]
[null,null,null,null,{"$f":"IF(A9028=\"\",\"\",IF(B9028=\"\",E9027,IF(D9028=\"\",E9027,D9028/MAX($D$8:D9028)-1)))","v":""}]
[null,null,null,null,{"$f":"IF(A9029=\"\",\"\",IF(B9029=\"\",E9028,IF(D9029=\"\",E9028,D9029/MAX($D$8:D9029)-1)))","v":""}]
[null,null,null,null,{"$f":"IF(A9030=\"\",\"\",IF(B9030=\"\",E9029,IF(D9030=\"\",E9029,D9030/MAX($D$8:D9030)-1)))","v":""}]
[null,null,null,null,{"$f":"IF(A9031=\"\",\"\",IF(B9031=\"\",E9030,IF(D9031=\"\",E9030,D9031/MAX($D$8:D9031)-1)))","v":""}]
[null,null,null,null,{"$f":"IF(A9032=\"\",\"\",IF(B9032=\"\",E9031,IF(D9032=\"\",E9031,D9032/MAX($D$8:D9032)-1)))","v":""}]
[null,null,null,null,{"$f":"IF(A9033=\"\",\"\",IF(B9033=\"\",E9032,IF(D9033=\"\",E9032,D9033/MAX($D$8:D9033)-1)))","v":""}]
[null,null,null,null,{"$f":"IF(A9034=\"\",\"\",IF(B9034=\"\",E9033,IF(D9034=\"\",E9033,D9034/MAX($D$8:D9034)-1)))","v":""}]
[null,null,null,null,{"$f":"IF(A9035=\"\",\"\",IF(B9035=\"\",E9034,IF(D9035=\"\",E9034,D9035/MAX($D$8:D9035)-1)))","v":""}]
[null,null,null,null,{"$f":"IF(A9036=\"\",\"\",IF(B9036=\"\",E9035,IF(D9036=\"\",E9035,D9036/MAX($D$8:D9036)-1)))","v":""}]
[null,null,null,null,{"$f":"IF(A9037=\"\",\"\",IF(B9037=\"\",E9036,IF(D9037=\"\",E9036,D9037/MAX($D$8:D9037)-1)))","v":""}]
[null,null,null,null,{"$f":"IF(A9038=\"\",\"\",IF(B9038=\"\",E9037,IF(D9038=\"\",E9037,D9038/MAX($D$8:D9038)-1)))","v":""}]
[null,null,null,null,{"$f":"IF(A9039=\"\",\"\",IF(B9039=\"\",E9038,IF(D9039=\"\",E9038,D9039/MAX($D$8:D9039)-1)))","v":""}]
[null,null,null,null,{"$f":"IF(A9040=\"\",\"\",IF(B9040=\"\",E9039,IF(D9040=\"\",E9039,D9040/MAX($D$8:D9040)-1)))","v":""}]
[null,null,null,null,{"$f":"IF(A9041=\"\",\"\",IF(B9041=\"\",E9040,IF(D9041=\"\",E9040,D9041/MAX($D$8:D9041)-1)))","v":""}]
[null,null,null,null,{"$f":"IF(A9042=\"\",\"\",IF(B9042=\"\",E9041,IF(D9042=\"\",E9041,D9042/MAX($D$8:D9042)-1)))","v":""}]
[null,null,null,null,{"$f":"IF(A9043=\"\",\"\",IF(B9043=\"\",E9042,IF(D9043=\"\",E9042,D9043/MAX($D$8:D9043)-1)))","v":""}]
[null,null,null,null,{"$f":"IF(A9044=\"\",\"\",IF(B9044=\"\",E9043,IF(D9044=\"\",E9043,D9044/MAX($D$8:D9044)-1)))","v":""}]
[null,null,null,null,{"$f":"IF(A9045=\"\",\"\",IF(B9045=\"\",E9044,IF(D9045=\"\",E9044,D9045/MAX($D$8:D9045)-1)))","v":""}]
[null,null,null,null,{"$f":"IF(A9046=\"\",\"\",IF(B9046=\"\",E9045,IF(D9046=\"\",E9045,D9046/MAX($D$8:D9046)-1)))","v":""}]
[null,null,null,null,{"$f":"IF(A9047=\"\",\"\",IF(B9047=\"\",E9046,IF(D9047=\"\",E9046,D9047/MAX($D$8:D9047)-1)))","v":""}]
[null,null,null,null,{"$f":"IF(A9048=\"\",\"\",IF(B9048=\"\",E9047,IF(D9048=\"\",E9047,D9048/MAX($D$8:D9048)-1)))","v":""}]
[null,null,null,null,{"$f":"IF(A9049=\"\",\"\",IF(B9049=\"\",E9048,IF(D9049=\"\",E9048,D9049/MAX($D$8:D9049)-1)))","v":""}]
[null,null,null,null,{"$f":"IF(A9050=\"\",\"\",IF(B9050=\"\",E9049,IF(D9050=\"\",E9049,D9050/MAX($D$8:D9050)-1)))","v":""}]
[null,null,null,null,{"$f":"IF(A9051=\"\",\"\",IF(B9051=\"\",E9050,IF(D9051=\"\",E9050,D9051/MAX($D$8:D9051)-1)))","v":""}]
[null,null,null,null,{"$f":"IF(A9052=\"\",\"\",IF(B9052=\"\",E9051,IF(D9052=\"\",E9051,D9052/MAX($D$8:D9052)-1)))","v":""}]
[null,null,null,null,{"$f":"IF(A9053=\"\",\"\",IF(B9053=\"\",E9052,IF(D9053=\"\",E9052,D9053/MAX($D$8:D9053)-1)))","v":""}]
[null,null,null,null,{"$f":"IF(A9054=\"\",\"\",IF(B9054=\"\",E9053,IF(D9054=\"\",E9053,D9054/MAX($D$8:D9054)-1)))","v":""}]
[null,null,null,null,{"$f":"IF(A9055=\"\",\"\",IF(B9055=\"\",E9054,IF(D9055=\"\",E9054,D9055/MAX($D$8:D9055)-1)))","v":""}]
[null,null,null,null,{"$f":"IF(A9056=\"\",\"\",IF(B9056=\"\",E9055,IF(D9056=\"\",E9055,D9056/MAX($D$8:D9056)-1)))","v":""}]
[null,null,null,null,{"$f":"IF(A9057=\"\",\"\",IF(B9057=\"\",E9056,IF(D9057=\"\",E9056,D9057/MAX($D$8:D9057)-1)))","v":""}]
[null,null,null,null,{"$f":"IF(A9058=\"\",\"\",IF(B9058=\"\",E9057,IF(D9058=\"\",E9057,D9058/MAX($D$8:D9058)-1)))","v":""}]
[null,null,null,null,{"$f":"IF(A9059=\"\",\"\",IF(B9059=\"\",E9058,IF(D9059=\"\",E9058,D9059/MAX($D$8:D9059)-1)))","v":""}]
[null,null,null,null,{"$f":"IF(A9060=\"\",\"\",IF(B9060=\"\",E9059,IF(D9060=\"\",E9059,D9060/MAX($D$8:D9060)-1)))","v":""}]
[null,null,null,null,{"$f":"IF(A9061=\"\",\"\",IF(B9061=\"\",E9060,IF(D9061=\"\",E9060,D9061/MAX($D$8:D9061)-1)))","v":""}]
[null,null,null,null,{"$f":"IF(A9062=\"\",\"\",IF(B9062=\"\",E9061,IF(D9062=\"\",E9061,D9062/MAX($D$8:D9062)-1)))","v":""}]
[null,null,null,null,{"$f":"IF(A9063=\"\",\"\",IF(B9063=\"\",E9062,IF(D9063=\"\",E9062,D9063/MAX($D$8:D9063)-1)))","v":""}]
[null,null,null,null,{"$f":"IF(A9064=\"\",\"\",IF(B9064=\"\",E9063,IF(D9064=\"\",E9063,D9064/MAX($D$8:D9064)-1)))","v":""}]
[null,null,null,null,{"$f":"IF(A9065=\"\",\"\",IF(B9065=\"\",E9064,IF(D9065=\"\",E9064,D9065/MAX($D$8:D9065)-1)))","v":""}]
[null,null,null,null,{"$f":"IF(A9066=\"\",\"\",IF(B9066=\"\",E9065,IF(D9066=\"\",E9065,D9066/MAX($D$8:D9066)-1)))","v":""}]
[null,null,null,null,{"$f":"IF(A9067=\"\",\"\",IF(B9067=\"\",E9066,IF(D9067=\"\",E9066,D9067/MAX($D$8:D9067)-1)))","v":""}]
[null,null,null,null,{"$f":"IF(A9068=\"\",\"\",IF(B9068=\"\",E9067,IF(D9068=\"\",E9067,D9068/MAX($D$8:D9068)-1)))","v":""}]
[null,null,null,null,{"$f":"IF(A9069=\"\",\"\",IF(B9069=\"\",E9068,IF(D9069=\"\",E9068,D9069/MAX($D$8:D9069)-1)))","v":""}]
[null,null,null,null,{"$f":"IF(A9070=\"\",\"\",IF(B9070=\"\",E9069,IF(D9070=\"\",E9069,D9070/MAX($D$8:D9070)-1)))","v":""}]
[null,null,null,null,{"$f":"IF(A9071=\"\",\"\",IF(B9071=\"\",E9070,IF(D9071=\"\",E9070,D9071/MAX($D$8:D9071)-1)))","v":""}]
[null,null,null,null,{"$f":"IF(A9072=\"\",\"\",IF(B9072=\"\",E9071,IF(D9072=\"\",E9071,D9072/MAX($D$8:D9072)-1)))","v":""}]
[null,null,null,null,{"$f":"IF(A9073=\"\",\"\",IF(B9073=\"\",E9072,IF(D9073=\"\",E9072,D9073/MAX($D$8:D9073)-1)))","v":""}]
[null,null,null,null,{"$f":"IF(A9074=\"\",\"\",IF(B9074=\"\",E9073,IF(D9074=\"\",E9073,D9074/MAX($D$8:D9074)-1)))","v":""}]
[null,null,null,null,{"$f":"IF(A9075=\"\",\"\",IF(B9075=\"\",E9074,IF(D9075=\"\",E9074,D9075/MAX($D$8:D9075)-1)))","v":""}]
[null,null,null,null,{"$f":"IF(A9076=\"\",\"\",IF(B9076=\"\",E9075,IF(D9076=\"\",E9075,D9076/MAX($D$8:D9076)-1)))","v":""}]
[null,null,null,null,{"$f":"IF(A9077=\"\",\"\",IF(B9077=\"\",E9076,IF(D9077=\"\",E9076,D9077/MAX($D$8:D9077)-1)))","v":""}]
[null,null,null,null,{"$f":"IF(A9078=\"\",\"\",IF(B9078=\"\",E9077,IF(D9078=\"\",E9077,D9078/MAX($D$8:D9078)-1)))","v":""}]
[null,null,null,null,{"$f":"IF(A9079=\"\",\"\",IF(B9079=\"\",E9078,IF(D9079=\"\",E9078,D9079/MAX($D$8:D9079)-1)))","v":""}]
[null,null,null,null,{"$f":"IF(A9080=\"\",\"\",IF(B9080=\"\",E9079,IF(D9080=\"\",E9079,D9080/MAX($D$8:D9080)-1)))","v":""}]
[null,null,null,null,{"$f":"IF(A9081=\"\",\"\",IF(B9081=\"\",E9080,IF(D9081=\"\",E9080,D9081/MAX($D$8:D9081)-1)))","v":""}]
[null,null,null,null,{"$f":"IF(A9082=\"\",\"\",IF(B9082=\"\",E9081,IF(D9082=\"\",E9081,D9082/MAX($D$8:D9082)-1)))","v":""}]
[null,null,null,null,{"$f":"IF(A9083=\"\",\"\",IF(B9083=\"\",E9082,IF(D9083=\"\",E9082,D9083/MAX($D$8:D9083)-1)))","v":""}]
[null,null,null,null,{"$f":"IF(A9084=\"\",\"\",IF(B9084=\"\",E9083,IF(D9084=\"\",E9083,D9084/MAX($D$8:D9084)-1)))","v":""}]
[null,null,null,null,{"$f":"IF(A9085=\"\",\"\",IF(B9085=\"\",E9084,IF(D9085=\"\",E9084,D9085/MAX($D$8:D9085)-1)))","v":""}]
[null,null,null,null,{"$f":"IF(A9086=\"\",\"\",IF(B9086=\"\",E9085,IF(D9086=\"\",E9085,D9086/MAX($D$8:D9086)-1)))","v":""}]
[null,null,null,null,{"$f":"IF(A9087=\"\",\"\",IF(B9087=\"\",E9086,IF(D9087=\"\",E9086,D9087/MAX($D$8:D9087)-1)))","v":""}]
[null,null,null,null,{"$f":"IF(A9088=\"\",\"\",IF(B9088=\"\",E9087,IF(D9088=\"\",E9087,D9088/MAX($D$8:D9088)-1)))","v":""}]
[null,null,null,null,{"$f":"IF(A9089=\"\",\"\",IF(B9089=\"\",E9088,IF(D9089=\"\",E9088,D9089/MAX($D$8:D9089)-1)))","v":""}]
[null,null,null,null,{"$f":"IF(A9090=\"\",\"\",IF(B9090=\"\",E9089,IF(D9090=\"\",E9089,D9090/MAX($D$8:D9090)-1)))","v":""}]
[null,null,null,null,{"$f":"IF(A9091=\"\",\"\",IF(B9091=\"\",E9090,IF(D9091=\"\",E9090,D9091/MAX($D$8:D9091)-1)))","v":""}]
[null,null,null,null,{"$f":"IF(A9092=\"\",\"\",IF(B9092=\"\",E9091,IF(D9092=\"\",E9091,D9092/MAX($D$8:D9092)-1)))","v":""}]
[null,null,null,null,{"$f":"IF(A9093=\"\",\"\",IF(B9093=\"\",E9092,IF(D9093=\"\",E9092,D9093/MAX($D$8:D9093)-1)))","v":""}]
[null,null,null,null,{"$f":"IF(A9094=\"\",\"\",IF(B9094=\"\",E9093,IF(D9094=\"\",E9093,D9094/MAX($D$8:D9094)-1)))","v":""}]
[null,null,null,null,{"$f":"IF(A9095=\"\",\"\",IF(B9095=\"\",E9094,IF(D9095=\"\",E9094,D9095/MAX($D$8:D9095)-1)))","v":""}]
[null,null,null,null,{"$f":"IF(A9096=\"\",\"\",IF(B9096=\"\",E9095,IF(D9096=\"\",E9095,D9096/MAX($D$8:D9096)-1)))","v":""}]
[null,null,null,null,{"$f":"IF(A9097=\"\",\"\",IF(B9097=\"\",E9096,IF(D9097=\"\",E9096,D9097/MAX($D$8:D9097)-1)))","v":""}]
[null,null,null,null,{"$f":"IF(A9098=\"\",\"\",IF(B9098=\"\",E9097,IF(D9098=\"\",E9097,D9098/MAX($D$8:D9098)-1)))","v":""}]
[null,null,null,null,{"$f":"IF(A9099=\"\",\"\",IF(B9099=\"\",E9098,IF(D9099=\"\",E9098,D9099/MAX($D$8:D9099)-1)))","v":""}]
[null,null,null,null,{"$f":"IF(A9100=\"\",\"\",IF(B9100=\"\",E9099,IF(D9100=\"\",E9099,D9100/MAX($D$8:D9100)-1)))","v":""}]
[null,null,null,null,{"$f":"IF(A9101=\"\",\"\",IF(B9101=\"\",E9100,IF(D9101=\"\",E9100,D9101/MAX($D$8:D9101)-1)))","v":""}]
[null,null,null,null,{"$f":"IF(A9102=\"\",\"\",IF(B9102=\"\",E9101,IF(D9102=\"\",E9101,D9102/MAX($D$8:D9102)-1)))","v":""}]
[null,null,null,null,{"$f":"IF(A9103=\"\",\"\",IF(B9103=\"\",E9102,IF(D9103=\"\",E9102,D9103/MAX($D$8:D9103)-1)))","v":""}]
[null,null,null,null,{"$f":"IF(A9104=\"\",\"\",IF(B9104=\"\",E9103,IF(D9104=\"\",E9103,D9104/MAX($D$8:D9104)-1)))","v":""}]
[null,null,null,null,{"$f":"IF(A9105=\"\",\"\",IF(B9105=\"\",E9104,IF(D9105=\"\",E9104,D9105/MAX($D$8:D9105)-1)))","v":""}]
[null,null,null,null,{"$f":"IF(A9106=\"\",\"\",IF(B9106=\"\",E9105,IF(D9106=\"\",E9105,D9106/MAX($D$8:D9106)-1)))","v":""}]
[null,null,null,null,{"$f":"IF(A9107=\"\",\"\",IF(B9107=\"\",E9106,IF(D9107=\"\",E9106,D9107/MAX($D$8:D9107)-1)))","v":""}]
[null,null,null,null,{"$f":"IF(A9108=\"\",\"\",IF(B9108=\"\",E9107,IF(D9108=\"\",E9107,D9108/MAX($D$8:D9108)-1)))","v":""}]
[null,null,null,null,{"$f":"IF(A9109=\"\",\"\",IF(B9109=\"\",E9108,IF(D9109=\"\",E9108,D9109/MAX($D$8:D9109)-1)))","v":""}]
[null,null,null,null,{"$f":"IF(A9110=\"\",\"\",IF(B9110=\"\",E9109,IF(D9110=\"\",E9109,D9110/MAX($D$8:D9110)-1)))","v":""}]
[null,null,null,null,{"$f":"IF(A9111=\"\",\"\",IF(B9111=\"\",E9110,IF(D9111=\"\",E9110,D9111/MAX($D$8:D9111)-1)))","v":""}]
[null,null,null,null,{"$f":"IF(A9112=\"\",\"\",IF(B9112=\"\",E9111,IF(D9112=\"\",E9111,D9112/MAX($D$8:D9112)-1)))","v":""}]
[null,null,null,null,{"$f":"IF(A9113=\"\",\"\",IF(B9113=\"\",E9112,IF(D9113=\"\",E9112,D9113/MAX($D$8:D9113)-1)))","v":""}]
[null,null,null,null,{"$f":"IF(A9114=\"\",\"\",IF(B9114=\"\",E9113,IF(D9114=\"\",E9113,D9114/MAX($D$8:D9114)-1)))","v":""}]
[null,null,null,null,{"$f":"IF(A9115=\"\",\"\",IF(B9115=\"\",E9114,IF(D9115=\"\",E9114,D9115/MAX($D$8:D9115)-1)))","v":""}]
[null,null,null,null,{"$f":"IF(A9116=\"\",\"\",IF(B9116=\"\",E9115,IF(D9116=\"\",E9115,D9116/MAX($D$8:D9116)-1)))","v":""}]
[null,null,null,null,{"$f":"IF(A9117=\"\",\"\",IF(B9117=\"\",E9116,IF(D9117=\"\",E9116,D9117/MAX($D$8:D9117)-1)))","v":""}]
[null,null,null,null,{"$f":"IF(A9118=\"\",\"\",IF(B9118=\"\",E9117,IF(D9118=\"\",E9117,D9118/MAX($D$8:D9118)-1)))","v":""}]
[null,null,null,null,{"$f":"IF(A9119=\"\",\"\",IF(B9119=\"\",E9118,IF(D9119=\"\",E9118,D9119/MAX($D$8:D9119)-1)))","v":""}]
[null,null,null,null,{"$f":"IF(A9120=\"\",\"\",IF(B9120=\"\",E9119,IF(D9120=\"\",E9119,D9120/MAX($D$8:D9120)-1)))","v":""}]
[null,null,null,null,{"$f":"IF(A9121=\"\",\"\",IF(B9121=\"\",E9120,IF(D9121=\"\",E9120,D9121/MAX($D$8:D9121)-1)))","v":""}]
[null,null,null,null,{"$f":"IF(A9122=\"\",\"\",IF(B9122=\"\",E9121,IF(D9122=\"\",E9121,D9122/MAX($D$8:D9122)-1)))","v":""}]
[null,null,null,null,{"$f":"IF(A9123=\"\",\"\",IF(B9123=\"\",E9122,IF(D9123=\"\",E9122,D9123/MAX($D$8:D9123)-1)))","v":""}]
[null,null,null,null,{"$f":"IF(A9124=\"\",\"\",IF(B9124=\"\",E9123,IF(D9124=\"\",E9123,D9124/MAX($D$8:D9124)-1)))","v":""}]
[null,null,null,null,{"$f":"IF(A9125=\"\",\"\",IF(B9125=\"\",E9124,IF(D9125=\"\",E9124,D9125/MAX($D$8:D9125)-1)))","v":""}]
[null,null,null,null,{"$f":"IF(A9126=\"\",\"\",IF(B9126=\"\",E9125,IF(D9126=\"\",E9125,D9126/MAX($D$8:D9126)-1)))","v":""}]
[null,null,null,null,{"$f":"IF(A9127=\"\",\"\",IF(B9127=\"\",E9126,IF(D9127=\"\",E9126,D9127/MAX($D$8:D9127)-1)))","v":""}]
[null,null,null,null,{"$f":"IF(A9128=\"\",\"\",IF(B9128=\"\",E9127,IF(D9128=\"\",E9127,D9128/MAX($D$8:D9128)-1)))","v":""}]
[null,null,null,null,{"$f":"IF(A9129=\"\",\"\",IF(B9129=\"\",E9128,IF(D9129=\"\",E9128,D9129/MAX($D$8:D9129)-1)))","v":""}]
[null,null,null,null,{"$f":"IF(A9130=\"\",\"\",IF(B9130=\"\",E9129,IF(D9130=\"\",E9129,D9130/MAX($D$8:D9130)-1)))","v":""}]
[null,null,null,null,{"$f":"IF(A9131=\"\",\"\",IF(B9131=\"\",E9130,IF(D9131=\"\",E9130,D9131/MAX($D$8:D9131)-1)))","v":""}]
[null,null,null,null,{"$f":"IF(A9132=\"\",\"\",IF(B9132=\"\",E9131,IF(D9132=\"\",E9131,D9132/MAX($D$8:D9132)-1)))","v":""}]
[null,null,null,null,{"$f":"IF(A9133=\"\",\"\",IF(B9133=\"\",E9132,IF(D9133=\"\",E9132,D9133/MAX($D$8:D9133)-1)))","v":""}]
[null,null,null,null,{"$f":"IF(A9134=\"\",\"\",IF(B9134=\"\",E9133,IF(D9134=\"\",E9133,D9134/MAX($D$8:D9134)-1)))","v":""}]
[null,null,null,null,{"$f":"IF(A9135=\"\",\"\",IF(B9135=\"\",E9134,IF(D9135=\"\",E9134,D9135/MAX($D$8:D9135)-1)))","v":""}]
[null,null,null,null,{"$f":"IF(A9136=\"\",\"\",IF(B9136=\"\",E9135,IF(D9136=\"\",E9135,D9136/MAX($D$8:D9136)-1)))","v":""}]
[null,null,null,null,{"$f":"IF(A9137=\"\",\"\",IF(B9137=\"\",E9136,IF(D9137=\"\",E9136,D9137/MAX($D$8:D9137)-1)))","v":""}]
[null,null,null,null,{"$f":"IF(A9138=\"\",\"\",IF(B9138=\"\",E9137,IF(D9138=\"\",E9137,D9138/MAX($D$8:D9138)-1)))","v":""}]
[null,null,null,null,{"$f":"IF(A9139=\"\",\"\",IF(B9139=\"\",E9138,IF(D9139=\"\",E9138,D9139/MAX($D$8:D9139)-1)))","v":""}]
[null,null,null,null,{"$f":"IF(A9140=\"\",\"\",IF(B9140=\"\",E9139,IF(D9140=\"\",E9139,D9140/MAX($D$8:D9140)-1)))","v":""}]
[null,null,null,null,{"$f":"IF(A9141=\"\",\"\",IF(B9141=\"\",E9140,IF(D9141=\"\",E9140,D9141/MAX($D$8:D9141)-1)))","v":""}]
[null,null,null,null,{"$f":"IF(A9142=\"\",\"\",IF(B9142=\"\",E9141,IF(D9142=\"\",E9141,D9142/MAX($D$8:D9142)-1)))","v":""}]
[null,null,null,null,{"$f":"IF(A9143=\"\",\"\",IF(B9143=\"\",E9142,IF(D9143=\"\",E9142,D9143/MAX($D$8:D9143)-1)))","v":""}]
[null,null,null,null,{"$f":"IF(A9144=\"\",\"\",IF(B9144=\"\",E9143,IF(D9144=\"\",E9143,D9144/MAX($D$8:D9144)-1)))","v":""}]
[null,null,null,null,{"$f":"IF(A9145=\"\",\"\",IF(B9145=\"\",E9144,IF(D9145=\"\",E9144,D9145/MAX($D$8:D9145)-1)))","v":""}]
[null,null,null,null,{"$f":"IF(A9146=\"\",\"\",IF(B9146=\"\",E9145,IF(D9146=\"\",E9145,D9146/MAX($D$8:D9146)-1)))","v":""}]
[null,null,null,null,{"$f":"IF(A9147=\"\",\"\",IF(B9147=\"\",E9146,IF(D9147=\"\",E9146,D9147/MAX($D$8:D9147)-1)))","v":""}]
[null,null,null,null,{"$f":"IF(A9148=\"\",\"\",IF(B9148=\"\",E9147,IF(D9148=\"\",E9147,D9148/MAX($D$8:D9148)-1)))","v":""}]
[null,null,null,null,{"$f":"IF(A9149=\"\",\"\",IF(B9149=\"\",E9148,IF(D9149=\"\",E9148,D9149/MAX($D$8:D9149)-1)))","v":""}]
[null,null,null,null,{"$f":"IF(A9150=\"\",\"\",IF(B9150=\"\",E9149,IF(D9150=\"\",E9149,D9150/MAX($D$8:D9150)-1)))","v":""}]
[null,null,null,null,{"$f":"IF(A9151=\"\",\"\",IF(B9151=\"\",E9150,IF(D9151=\"\",E9150,D9151/MAX($D$8:D9151)-1)))","v":""}]
[null,null,null,null,{"$f":"IF(A9152=\"\",\"\",IF(B9152=\"\",E9151,IF(D9152=\"\",E9151,D9152/MAX($D$8:D9152)-1)))","v":""}]
[null,null,null,null,{"$f":"IF(A9153=\"\",\"\",IF(B9153=\"\",E9152,IF(D9153=\"\",E9152,D9153/MAX($D$8:D9153)-1)))","v":""}]
[null,null,null,null,{"$f":"IF(A9154=\"\",\"\",IF(B9154=\"\",E9153,IF(D9154=\"\",E9153,D9154/MAX($D$8:D9154)-1)))","v":""}]
[null,null,null,null,{"$f":"IF(A9155=\"\",\"\",IF(B9155=\"\",E9154,IF(D9155=\"\",E9154,D9155/MAX($D$8:D9155)-1)))","v":""}]
[null,null,null,null,{"$f":"IF(A9156=\"\",\"\",IF(B9156=\"\",E9155,IF(D9156=\"\",E9155,D9156/MAX($D$8:D9156)-1)))","v":""}]
[null,null,null,null,{"$f":"IF(A9157=\"\",\"\",IF(B9157=\"\",E9156,IF(D9157=\"\",E9156,D9157/MAX($D$8:D9157)-1)))","v":""}]
[null,null,null,null,{"$f":"IF(A9158=\"\",\"\",IF(B9158=\"\",E9157,IF(D9158=\"\",E9157,D9158/MAX($D$8:D9158)-1)))","v":""}]
[null,null,null,null,{"$f":"IF(A9159=\"\",\"\",IF(B9159=\"\",E9158,IF(D9159=\"\",E9158,D9159/MAX($D$8:D9159)-1)))","v":""}]
[null,null,null,null,{"$f":"IF(A9160=\"\",\"\",IF(B9160=\"\",E9159,IF(D9160=\"\",E9159,D9160/MAX($D$8:D9160)-1)))","v":""}]
[null,null,null,null,{"$f":"IF(A9161=\"\",\"\",IF(B9161=\"\",E9160,IF(D9161=\"\",E9160,D9161/MAX($D$8:D9161)-1)))","v":""}]
[null,null,null,null,{"$f":"IF(A9162=\"\",\"\",IF(B9162=\"\",E9161,IF(D9162=\"\",E9161,D9162/MAX($D$8:D9162)-1)))","v":""}]
[null,null,null,null,{"$f":"IF(A9163=\"\",\"\",IF(B9163=\"\",E9162,IF(D9163=\"\",E9162,D9163/MAX($D$8:D9163)-1)))","v":""}]
[null,null,null,null,{"$f":"IF(A9164=\"\",\"\",IF(B9164=\"\",E9163,IF(D9164=\"\",E9163,D9164/MAX($D$8:D9164)-1)))","v":""}]
[null,null,null,null,{"$f":"IF(A9165=\"\",\"\",IF(B9165=\"\",E9164,IF(D9165=\"\",E9164,D9165/MAX($D$8:D9165)-1)))","v":""}]
[null,null,null,null,{"$f":"IF(A9166=\"\",\"\",IF(B9166=\"\",E9165,IF(D9166=\"\",E9165,D9166/MAX($D$8:D9166)-1)))","v":""}]
[null,null,null,null,{"$f":"IF(A9167=\"\",\"\",IF(B9167=\"\",E9166,IF(D9167=\"\",E9166,D9167/MAX($D$8:D9167)-1)))","v":""}]
[null,null,null,null,{"$f":"IF(A9168=\"\",\"\",IF(B9168=\"\",E9167,IF(D9168=\"\",E9167,D9168/MAX($D$8:D9168)-1)))","v":""}]
[null,null,null,null,{"$f":"IF(A9169=\"\",\"\",IF(B9169=\"\",E9168,IF(D9169=\"\",E9168,D9169/MAX($D$8:D9169)-1)))","v":""}]
[null,null,null,null,{"$f":"IF(A9170=\"\",\"\",IF(B9170=\"\",E9169,IF(D9170=\"\",E9169,D9170/MAX($D$8:D9170)-1)))","v":""}]
[null,null,null,null,{"$f":"IF(A9171=\"\",\"\",IF(B9171=\"\",E9170,IF(D9171=\"\",E9170,D9171/MAX($D$8:D9171)-1)))","v":""}]
[null,null,null,null,{"$f":"IF(A9172=\"\",\"\",IF(B9172=\"\",E9171,IF(D9172=\"\",E9171,D9172/MAX($D$8:D9172)-1)))","v":""}]
[null,null,null,null,{"$f":"IF(A9173=\"\",\"\",IF(B9173=\"\",E9172,IF(D9173=\"\",E9172,D9173/MAX($D$8:D9173)-1)))","v":""}]
[null,null,null,null,{"$f":"IF(A9174=\"\",\"\",IF(B9174=\"\",E9173,IF(D9174=\"\",E9173,D9174/MAX($D$8:D9174)-1)))","v":""}]
[null,null,null,null,{"$f":"IF(A9175=\"\",\"\",IF(B9175=\"\",E9174,IF(D9175=\"\",E9174,D9175/MAX($D$8:D9175)-1)))","v":""}]
[null,null,null,null,{"$f":"IF(A9176=\"\",\"\",IF(B9176=\"\",E9175,IF(D9176=\"\",E9175,D9176/MAX($D$8:D9176)-1)))","v":""}]
[null,null,null,null,{"$f":"IF(A9177=\"\",\"\",IF(B9177=\"\",E9176,IF(D9177=\"\",E9176,D9177/MAX($D$8:D9177)-1)))","v":""}]
[null,null,null,null,{"$f":"IF(A9178=\"\",\"\",IF(B9178=\"\",E9177,IF(D9178=\"\",E9177,D9178/MAX($D$8:D9178)-1)))","v":""}]
[null,null,null,null,{"$f":"IF(A9179=\"\",\"\",IF(B9179=\"\",E9178,IF(D9179=\"\",E9178,D9179/MAX($D$8:D9179)-1)))","v":""}]
[null,null,null,null,{"$f":"IF(A9180=\"\",\"\",IF(B9180=\"\",E9179,IF(D9180=\"\",E9179,D9180/MAX($D$8:D9180)-1)))","v":""}]
[null,null,null,null,{"$f":"IF(A9181=\"\",\"\",IF(B9181=\"\",E9180,IF(D9181=\"\",E9180,D9181/MAX($D$8:D9181)-1)))","v":""}]
[null,null,null,null,{"$f":"IF(A9182=\"\",\"\",IF(B9182=\"\",E9181,IF(D9182=\"\",E9181,D9182/MAX($D$8:D9182)-1)))","v":""}]
[null,null,null,null,{"$f":"IF(A9183=\"\",\"\",IF(B9183=\"\",E9182,IF(D9183=\"\",E9182,D9183/MAX($D$8:D9183)-1)))","v":""}]
[null,null,null,null,{"$f":"IF(A9184=\"\",\"\",IF(B9184=\"\",E9183,IF(D9184=\"\",E9183,D9184/MAX($D$8:D9184)-1)))","v":""}]
[null,null,null,null,{"$f":"IF(A9185=\"\",\"\",IF(B9185=\"\",E9184,IF(D9185=\"\",E9184,D9185/MAX($D$8:D9185)-1)))","v":""}]
[null,null,null,null,{"$f":"IF(A9186=\"\",\"\",IF(B9186=\"\",E9185,IF(D9186=\"\",E9185,D9186/MAX($D$8:D9186)-1)))","v":""}]
[null,null,null,null,{"$f":"IF(A9187=\"\",\"\",IF(B9187=\"\",E9186,IF(D9187=\"\",E9186,D9187/MAX($D$8:D9187)-1)))","v":""}]
[null,null,null,null,{"$f":"IF(A9188=\"\",\"\",IF(B9188=\"\",E9187,IF(D9188=\"\",E9187,D9188/MAX($D$8:D9188)-1)))","v":""}]
[null,null,null,null,{"$f":"IF(A9189=\"\",\"\",IF(B9189=\"\",E9188,IF(D9189=\"\",E9188,D9189/MAX($D$8:D9189)-1)))","v":""}]
[null,null,null,null,{"$f":"IF(A9190=\"\",\"\",IF(B9190=\"\",E9189,IF(D9190=\"\",E9189,D9190/MAX($D$8:D9190)-1)))","v":""}]
[null,null,null,null,{"$f":"IF(A9191=\"\",\"\",IF(B9191=\"\",E9190,IF(D9191=\"\",E9190,D9191/MAX($D$8:D9191)-1)))","v":""}]
[null,null,null,null,{"$f":"IF(A9192=\"\",\"\",IF(B9192=\"\",E9191,IF(D9192=\"\",E9191,D9192/MAX($D$8:D9192)-1)))","v":""}]
[null,null,null,null,{"$f":"IF(A9193=\"\",\"\",IF(B9193=\"\",E9192,IF(D9193=\"\",E9192,D9193/MAX($D$8:D9193)-1)))","v":""}]
[null,null,null,null,{"$f":"IF(A9194=\"\",\"\",IF(B9194=\"\",E9193,IF(D9194=\"\",E9193,D9194/MAX($D$8:D9194)-1)))","v":""}]
[null,null,null,null,{"$f":"IF(A9195=\"\",\"\",IF(B9195=\"\",E9194,IF(D9195=\"\",E9194,D9195/MAX($D$8:D9195)-1)))","v":""}]
[null,null,null,null,{"$f":"IF(A9196=\"\",\"\",IF(B9196=\"\",E9195,IF(D9196=\"\",E9195,D9196/MAX($D$8:D9196)-1)))","v":""}]
[null,null,null,null,{"$f":"IF(A9197=\"\",\"\",IF(B9197=\"\",E9196,IF(D9197=\"\",E9196,D9197/MAX($D$8:D9197)-1)))","v":""}]
[null,null,null,null,{"$f":"IF(A9198=\"\",\"\",IF(B9198=\"\",E9197,IF(D9198=\"\",E9197,D9198/MAX($D$8:D9198)-1)))","v":""}]
[null,null,null,null,{"$f":"IF(A9199=\"\",\"\",IF(B9199=\"\",E9198,IF(D9199=\"\",E9198,D9199/MAX($D$8:D9199)-1)))","v":""}]
[null,null,null,null,{"$f":"IF(A9200=\"\",\"\",IF(B9200=\"\",E9199,IF(D9200=\"\",E9199,D9200/MAX($D$8:D9200)-1)))","v":""}]
[null,null,null,null,{"$f":"IF(A9201=\"\",\"\",IF(B9201=\"\",E9200,IF(D9201=\"\",E9200,D9201/MAX($D$8:D9201)-1)))","v":""}]
[null,null,null,null,{"$f":"IF(A9202=\"\",\"\",IF(B9202=\"\",E9201,IF(D9202=\"\",E9201,D9202/MAX($D$8:D9202)-1)))","v":""}]
[null,null,null,null,{"$f":"IF(A9203=\"\",\"\",IF(B9203=\"\",E9202,IF(D9203=\"\",E9202,D9203/MAX($D$8:D9203)-1)))","v":""}]
[null,null,null,null,{"$f":"IF(A9204=\"\",\"\",IF(B9204=\"\",E9203,IF(D9204=\"\",E9203,D9204/MAX($D$8:D9204)-1)))","v":""}]
[null,null,null,null,{"$f":"IF(A9205=\"\",\"\",IF(B9205=\"\",E9204,IF(D9205=\"\",E9204,D9205/MAX($D$8:D9205)-1)))","v":""}]
[null,null,null,null,{"$f":"IF(A9206=\"\",\"\",IF(B9206=\"\",E9205,IF(D9206=\"\",E9205,D9206/MAX($D$8:D9206)-1)))","v":""}]
[null,null,null,null,{"$f":"IF(A9207=\"\",\"\",IF(B9207=\"\",E9206,IF(D9207=\"\",E9206,D9207/MAX($D$8:D9207)-1)))","v":""}]
[null,null,null,null,{"$f":"IF(A9208=\"\",\"\",IF(B9208=\"\",E9207,IF(D9208=\"\",E9207,D9208/MAX($D$8:D9208)-1)))","v":""}]
[null,null,null,null,{"$f":"IF(A9209=\"\",\"\",IF(B9209=\"\",E9208,IF(D9209=\"\",E9208,D9209/MAX($D$8:D9209)-1)))","v":""}]
[null,null,null,null,{"$f":"IF(A9210=\"\",\"\",IF(B9210=\"\",E9209,IF(D9210=\"\",E9209,D9210/MAX($D$8:D9210)-1)))","v":""}]
[null,null,null,null,{"$f":"IF(A9211=\"\",\"\",IF(B9211=\"\",E9210,IF(D9211=\"\",E9210,D9211/MAX($D$8:D9211)-1)))","v":""}]
[null,null,null,null,{"$f":"IF(A9212=\"\",\"\",IF(B9212=\"\",E9211,IF(D9212=\"\",E9211,D9212/MAX($D$8:D9212)-1)))","v":""}]
[null,null,null,null,{"$f":"IF(A9213=\"\",\"\",IF(B9213=\"\",E9212,IF(D9213=\"\",E9212,D9213/MAX($D$8:D9213)-1)))","v":""}]
[null,null,null,null,{"$f":"IF(A9214=\"\",\"\",IF(B9214=\"\",E9213,IF(D9214=\"\",E9213,D9214/MAX($D$8:D9214)-1)))","v":""}]
[null,null,null,null,{"$f":"IF(A9215=\"\",\"\",IF(B9215=\"\",E9214,IF(D9215=\"\",E9214,D9215/MAX($D$8:D9215)-1)))","v":""}]
[null,null,null,null,{"$f":"IF(A9216=\"\",\"\",IF(B9216=\"\",E9215,IF(D9216=\"\",E9215,D9216/MAX($D$8:D9216)-1)))","v":""}]
[null,null,null,null,{"$f":"IF(A9217=\"\",\"\",IF(B9217=\"\",E9216,IF(D9217=\"\",E9216,D9217/MAX($D$8:D9217)-1)))","v":""}]
[null,null,null,null,{"$f":"IF(A9218=\"\",\"\",IF(B9218=\"\",E9217,IF(D9218=\"\",E9217,D9218/MAX($D$8:D9218)-1)))","v":""}]
[null,null,null,null,{"$f":"IF(A9219=\"\",\"\",IF(B9219=\"\",E9218,IF(D9219=\"\",E9218,D9219/MAX($D$8:D9219)-1)))","v":""}]
[null,null,null,null,{"$f":"IF(A9220=\"\",\"\",IF(B9220=\"\",E9219,IF(D9220=\"\",E9219,D9220/MAX($D$8:D9220)-1)))","v":""}]
[null,null,null,null,{"$f":"IF(A9221=\"\",\"\",IF(B9221=\"\",E9220,IF(D9221=\"\",E9220,D9221/MAX($D$8:D9221)-1)))","v":""}]
[null,null,null,null,{"$f":"IF(A9222=\"\",\"\",IF(B9222=\"\",E9221,IF(D9222=\"\",E9221,D9222/MAX($D$8:D9222)-1)))","v":""}]
[null,null,null,null,{"$f":"IF(A9223=\"\",\"\",IF(B9223=\"\",E9222,IF(D9223=\"\",E9222,D9223/MAX($D$8:D9223)-1)))","v":""}]
[null,null,null,null,{"$f":"IF(A9224=\"\",\"\",IF(B9224=\"\",E9223,IF(D9224=\"\",E9223,D9224/MAX($D$8:D9224)-1)))","v":""}]
[null,null,null,null,{"$f":"IF(A9225=\"\",\"\",IF(B9225=\"\",E9224,IF(D9225=\"\",E9224,D9225/MAX($D$8:D9225)-1)))","v":""}]
[null,null,null,null,{"$f":"IF(A9226=\"\",\"\",IF(B9226=\"\",E9225,IF(D9226=\"\",E9225,D9226/MAX($D$8:D9226)-1)))","v":""}]
[null,null,null,null,{"$f":"IF(A9227=\"\",\"\",IF(B9227=\"\",E9226,IF(D9227=\"\",E9226,D9227/MAX($D$8:D9227)-1)))","v":""}]
[null,null,null,null,{"$f":"IF(A9228=\"\",\"\",IF(B9228=\"\",E9227,IF(D9228=\"\",E9227,D9228/MAX($D$8:D9228)-1)))","v":""}]
[null,null,null,null,{"$f":"IF(A9229=\"\",\"\",IF(B9229=\"\",E9228,IF(D9229=\"\",E9228,D9229/MAX($D$8:D9229)-1)))","v":""}]
[null,null,null,null,{"$f":"IF(A9230=\"\",\"\",IF(B9230=\"\",E9229,IF(D9230=\"\",E9229,D9230/MAX($D$8:D9230)-1)))","v":""}]
[null,null,null,null,{"$f":"IF(A9231=\"\",\"\",IF(B9231=\"\",E9230,IF(D9231=\"\",E9230,D9231/MAX($D$8:D9231)-1)))","v":""}]
[null,null,null,null,{"$f":"IF(A9232=\"\",\"\",IF(B9232=\"\",E9231,IF(D9232=\"\",E9231,D9232/MAX($D$8:D9232)-1)))","v":""}]
[null,null,null,null,{"$f":"IF(A9233=\"\",\"\",IF(B9233=\"\",E9232,IF(D9233=\"\",E9232,D9233/MAX($D$8:D9233)-1)))","v":""}]
[null,null,null,null,{"$f":"IF(A9234=\"\",\"\",IF(B9234=\"\",E9233,IF(D9234=\"\",E9233,D9234/MAX($D$8:D9234)-1)))","v":""}]
[null,null,null,null,{"$f":"IF(A9235=\"\",\"\",IF(B9235=\"\",E9234,IF(D9235=\"\",E9234,D9235/MAX($D$8:D9235)-1)))","v":""}]
[null,null,null,null,{"$f":"IF(A9236=\"\",\"\",IF(B9236=\"\",E9235,IF(D9236=\"\",E9235,D9236/MAX($D$8:D9236)-1)))","v":""}]
[null,null,null,null,{"$f":"IF(A9237=\"\",\"\",IF(B9237=\"\",E9236,IF(D9237=\"\",E9236,D9237/MAX($D$8:D9237)-1)))","v":""}]
[null,null,null,null,{"$f":"IF(A9238=\"\",\"\",IF(B9238=\"\",E9237,IF(D9238=\"\",E9237,D9238/MAX($D$8:D9238)-1)))","v":""}]
[null,null,null,null,{"$f":"IF(A9239=\"\",\"\",IF(B9239=\"\",E9238,IF(D9239=\"\",E9238,D9239/MAX($D$8:D9239)-1)))","v":""}]
[null,null,null,null,{"$f":"IF(A9240=\"\",\"\",IF(B9240=\"\",E9239,IF(D9240=\"\",E9239,D9240/MAX($D$8:D9240)-1)))","v":""}]
[null,null,null,null,{"$f":"IF(A9241=\"\",\"\",IF(B9241=\"\",E9240,IF(D9241=\"\",E9240,D9241/MAX($D$8:D9241)-1)))","v":""}]
[null,null,null,null,{"$f":"IF(A9242=\"\",\"\",IF(B9242=\"\",E9241,IF(D9242=\"\",E9241,D9242/MAX($D$8:D9242)-1)))","v":""}]
[null,null,null,null,{"$f":"IF(A9243=\"\",\"\",IF(B9243=\"\",E9242,IF(D9243=\"\",E9242,D9243/MAX($D$8:D9243)-1)))","v":""}]
[null,null,null,null,{"$f":"IF(A9244=\"\",\"\",IF(B9244=\"\",E9243,IF(D9244=\"\",E9243,D9244/MAX($D$8:D9244)-1)))","v":""}]
[null,null,null,null,{"$f":"IF(A9245=\"\",\"\",IF(B9245=\"\",E9244,IF(D9245=\"\",E9244,D9245/MAX($D$8:D9245)-1)))","v":""}]
[null,null,null,null,{"$f":"IF(A9246=\"\",\"\",IF(B9246=\"\",E9245,IF(D9246=\"\",E9245,D9246/MAX($D$8:D9246)-1)))","v":""}]
[null,null,null,null,{"$f":"IF(A9247=\"\",\"\",IF(B9247=\"\",E9246,IF(D9247=\"\",E9246,D9247/MAX($D$8:D9247)-1)))","v":""}]
[null,null,null,null,{"$f":"IF(A9248=\"\",\"\",IF(B9248=\"\",E9247,IF(D9248=\"\",E9247,D9248/MAX($D$8:D9248)-1)))","v":""}]
[null,null,null,null,{"$f":"IF(A9249=\"\",\"\",IF(B9249=\"\",E9248,IF(D9249=\"\",E9248,D9249/MAX($D$8:D9249)-1)))","v":""}]
[null,null,null,null,{"$f":"IF(A9250=\"\",\"\",IF(B9250=\"\",E9249,IF(D9250=\"\",E9249,D9250/MAX($D$8:D9250)-1)))","v":""}]
[null,null,null,null,{"$f":"IF(A9251=\"\",\"\",IF(B9251=\"\",E9250,IF(D9251=\"\",E9250,D9251/MAX($D$8:D9251)-1)))","v":""}]
[null,null,null,null,{"$f":"IF(A9252=\"\",\"\",IF(B9252=\"\",E9251,IF(D9252=\"\",E9251,D9252/MAX($D$8:D9252)-1)))","v":""}]
[null,null,null,null,{"$f":"IF(A9253=\"\",\"\",IF(B9253=\"\",E9252,IF(D9253=\"\",E9252,D9253/MAX($D$8:D9253)-1)))","v":""}]
[null,null,null,null,{"$f":"IF(A9254=\"\",\"\",IF(B9254=\"\",E9253,IF(D9254=\"\",E9253,D9254/MAX($D$8:D9254)-1)))","v":""}]
[null,null,null,null,{"$f":"IF(A9255=\"\",\"\",IF(B9255=\"\",E9254,IF(D9255=\"\",E9254,D9255/MAX($D$8:D9255)-1)))","v":""}]
[null,null,null,null,{"$f":"IF(A9256=\"\",\"\",IF(B9256=\"\",E9255,IF(D9256=\"\",E9255,D9256/MAX($D$8:D9256)-1)))","v":""}]
[null,null,null,null,{"$f":"IF(A9257=\"\",\"\",IF(B9257=\"\",E9256,IF(D9257=\"\",E9256,D9257/MAX($D$8:D9257)-1)))","v":""}]
[null,null,null,null,{"$f":"IF(A9258=\"\",\"\",IF(B9258=\"\",E9257,IF(D9258=\"\",E9257,D9258/MAX($D$8:D9258)-1)))","v":""}]
[null,null,null,null,{"$f":"IF(A9259=\"\",\"\",IF(B9259=\"\",E9258,IF(D9259=\"\",E9258,D9259/MAX($D$8:D9259)-1)))","v":""}]
[null,null,null,null,{"$f":"IF(A9260=\"\",\"\",IF(B9260=\"\",E9259,IF(D9260=\"\",E9259,D9260/MAX($D$8:D9260)-1)))","v":""}]
[null,null,null,null,{"$f":"IF(A9261=\"\",\"\",IF(B9261=\"\",E9260,IF(D9261=\"\",E9260,D9261/MAX($D$8:D9261)-1)))","v":""}]
[null,null,null,null,{"$f":"IF(A9262=\"\",\"\",IF(B9262=\"\",E9261,IF(D9262=\"\",E9261,D9262/MAX($D$8:D9262)-1)))","v":""}]
[null,null,null,null,{"$f":"IF(A9263=\"\",\"\",IF(B9263=\"\",E9262,IF(D9263=\"\",E9262,D9263/MAX($D$8:D9263)-1)))","v":""}]
[null,null,null,null,{"$f":"IF(A9264=\"\",\"\",IF(B9264=\"\",E9263,IF(D9264=\"\",E9263,D9264/MAX($D$8:D9264)-1)))","v":""}]
[null,null,null,null,{"$f":"IF(A9265=\"\",\"\",IF(B9265=\"\",E9264,IF(D9265=\"\",E9264,D9265/MAX($D$8:D9265)-1)))","v":""}]
[null,null,null,null,{"$f":"IF(A9266=\"\",\"\",IF(B9266=\"\",E9265,IF(D9266=\"\",E9265,D9266/MAX($D$8:D9266)-1)))","v":""}]
[null,null,null,null,{"$f":"IF(A9267=\"\",\"\",IF(B9267=\"\",E9266,IF(D9267=\"\",E9266,D9267/MAX($D$8:D9267)-1)))","v":""}]
[null,null,null,null,{"$f":"IF(A9268=\"\",\"\",IF(B9268=\"\",E9267,IF(D9268=\"\",E9267,D9268/MAX($D$8:D9268)-1)))","v":""}]
[null,null,null,null,{"$f":"IF(A9269=\"\",\"\",IF(B9269=\"\",E9268,IF(D9269=\"\",E9268,D9269/MAX($D$8:D9269)-1)))","v":""}]
[null,null,null,null,{"$f":"IF(A9270=\"\",\"\",IF(B9270=\"\",E9269,IF(D9270=\"\",E9269,D9270/MAX($D$8:D9270)-1)))","v":""}]
[null,null,null,null,{"$f":"IF(A9271=\"\",\"\",IF(B9271=\"\",E9270,IF(D9271=\"\",E9270,D9271/MAX($D$8:D9271)-1)))","v":""}]
[null,null,null,null,{"$f":"IF(A9272=\"\",\"\",IF(B9272=\"\",E9271,IF(D9272=\"\",E9271,D9272/MAX($D$8:D9272)-1)))","v":""}]
[null,null,null,null,{"$f":"IF(A9273=\"\",\"\",IF(B9273=\"\",E9272,IF(D9273=\"\",E9272,D9273/MAX($D$8:D9273)-1)))","v":""}]
[null,null,null,null,{"$f":"IF(A9274=\"\",\"\",IF(B9274=\"\",E9273,IF(D9274=\"\",E9273,D9274/MAX($D$8:D9274)-1)))","v":""}]
[null,null,null,null,{"$f":"IF(A9275=\"\",\"\",IF(B9275=\"\",E9274,IF(D9275=\"\",E9274,D9275/MAX($D$8:D9275)-1)))","v":""}]
[null,null,null,null,{"$f":"IF(A9276=\"\",\"\",IF(B9276=\"\",E9275,IF(D9276=\"\",E9275,D9276/MAX($D$8:D9276)-1)))","v":""}]
[null,null,null,null,{"$f":"IF(A9277=\"\",\"\",IF(B9277=\"\",E9276,IF(D9277=\"\",E9276,D9277/MAX($D$8:D9277)-1)))","v":""}]
[null,null,null,null,{"$f":"IF(A9278=\"\",\"\",IF(B9278=\"\",E9277,IF(D9278=\"\",E9277,D9278/MAX($D$8:D9278)-1)))","v":""}]
[null,null,null,null,{"$f":"IF(A9279=\"\",\"\",IF(B9279=\"\",E9278,IF(D9279=\"\",E9278,D9279/MAX($D$8:D9279)-1)))","v":""}]
[null,null,null,null,{"$f":"IF(A9280=\"\",\"\",IF(B9280=\"\",E9279,IF(D9280=\"\",E9279,D9280/MAX($D$8:D9280)-1)))","v":""}]
[null,null,null,null,{"$f":"IF(A9281=\"\",\"\",IF(B9281=\"\",E9280,IF(D9281=\"\",E9280,D9281/MAX($D$8:D9281)-1)))","v":""}]
[null,null,null,null,{"$f":"IF(A9282=\"\",\"\",IF(B9282=\"\",E9281,IF(D9282=\"\",E9281,D9282/MAX($D$8:D9282)-1)))","v":""}]
[null,null,null,null,{"$f":"IF(A9283=\"\",\"\",IF(B9283=\"\",E9282,IF(D9283=\"\",E9282,D9283/MAX($D$8:D9283)-1)))","v":""}]
[null,null,null,null,{"$f":"IF(A9284=\"\",\"\",IF(B9284=\"\",E9283,IF(D9284=\"\",E9283,D9284/MAX($D$8:D9284)-1)))","v":""}]
[null,null,null,null,{"$f":"IF(A9285=\"\",\"\",IF(B9285=\"\",E9284,IF(D9285=\"\",E9284,D9285/MAX($D$8:D9285)-1)))","v":""}]
[null,null,null,null,{"$f":"IF(A9286=\"\",\"\",IF(B9286=\"\",E9285,IF(D9286=\"\",E9285,D9286/MAX($D$8:D9286)-1)))","v":""}]
[null,null,null,null,{"$f":"IF(A9287=\"\",\"\",IF(B9287=\"\",E9286,IF(D9287=\"\",E9286,D9287/MAX($D$8:D9287)-1)))","v":""}]
[null,null,null,null,{"$f":"IF(A9288=\"\",\"\",IF(B9288=\"\",E9287,IF(D9288=\"\",E9287,D9288/MAX($D$8:D9288)-1)))","v":""}]
[null,null,null,null,{"$f":"IF(A9289=\"\",\"\",IF(B9289=\"\",E9288,IF(D9289=\"\",E9288,D9289/MAX($D$8:D9289)-1)))","v":""}]
[null,null,null,null,{"$f":"IF(A9290=\"\",\"\",IF(B9290=\"\",E9289,IF(D9290=\"\",E9289,D9290/MAX($D$8:D9290)-1)))","v":""}]
[null,null,null,null,{"$f":"IF(A9291=\"\",\"\",IF(B9291=\"\",E9290,IF(D9291=\"\",E9290,D9291/MAX($D$8:D9291)-1)))","v":""}]
[null,null,null,null,{"$f":"IF(A9292=\"\",\"\",IF(B9292=\"\",E9291,IF(D9292=\"\",E9291,D9292/MAX($D$8:D9292)-1)))","v":""}]
[null,null,null,null,{"$f":"IF(A9293=\"\",\"\",IF(B9293=\"\",E9292,IF(D9293=\"\",E9292,D9293/MAX($D$8:D9293)-1)))","v":""}]
[null,null,null,null,{"$f":"IF(A9294=\"\",\"\",IF(B9294=\"\",E9293,IF(D9294=\"\",E9293,D9294/MAX($D$8:D9294)-1)))","v":""}]
[null,null,null,null,{"$f":"IF(A9295=\"\",\"\",IF(B9295=\"\",E9294,IF(D9295=\"\",E9294,D9295/MAX($D$8:D9295)-1)))","v":""}]
[null,null,null,null,{"$f":"IF(A9296=\"\",\"\",IF(B9296=\"\",E9295,IF(D9296=\"\",E9295,D9296/MAX($D$8:D9296)-1)))","v":""}]
[null,null,null,null,{"$f":"IF(A9297=\"\",\"\",IF(B9297=\"\",E9296,IF(D9297=\"\",E9296,D9297/MAX($D$8:D9297)-1)))","v":""}]
[null,null,null,null,{"$f":"IF(A9298=\"\",\"\",IF(B9298=\"\",E9297,IF(D9298=\"\",E9297,D9298/MAX($D$8:D9298)-1)))","v":""}]
[null,null,null,null,{"$f":"IF(A9299=\"\",\"\",IF(B9299=\"\",E9298,IF(D9299=\"\",E9298,D9299/MAX($D$8:D9299)-1)))","v":""}]
[null,null,null,null,{"$f":"IF(A9300=\"\",\"\",IF(B9300=\"\",E9299,IF(D9300=\"\",E9299,D9300/MAX($D$8:D9300)-1)))","v":""}]
[null,null,null,null,{"$f":"IF(A9301=\"\",\"\",IF(B9301=\"\",E9300,IF(D9301=\"\",E9300,D9301/MAX($D$8:D9301)-1)))","v":""}]
[null,null,null,null,{"$f":"IF(A9302=\"\",\"\",IF(B9302=\"\",E9301,IF(D9302=\"\",E9301,D9302/MAX($D$8:D9302)-1)))","v":""}]
[null,null,null,null,{"$f":"IF(A9303=\"\",\"\",IF(B9303=\"\",E9302,IF(D9303=\"\",E9302,D9303/MAX($D$8:D9303)-1)))","v":""}]
[null,null,null,null,{"$f":"IF(A9304=\"\",\"\",IF(B9304=\"\",E9303,IF(D9304=\"\",E9303,D9304/MAX($D$8:D9304)-1)))","v":""}]
[null,null,null,null,{"$f":"IF(A9305=\"\",\"\",IF(B9305=\"\",E9304,IF(D9305=\"\",E9304,D9305/MAX($D$8:D9305)-1)))","v":""}]
[null,null,null,null,{"$f":"IF(A9306=\"\",\"\",IF(B9306=\"\",E9305,IF(D9306=\"\",E9305,D9306/MAX($D$8:D9306)-1)))","v":""}]
[null,null,null,null,{"$f":"IF(A9307=\"\",\"\",IF(B9307=\"\",E9306,IF(D9307=\"\",E9306,D9307/MAX($D$8:D9307)-1)))","v":""}]
[null,null,null,null,{"$f":"IF(A9308=\"\",\"\",IF(B9308=\"\",E9307,IF(D9308=\"\",E9307,D9308/MAX($D$8:D9308)-1)))","v":""}]
[null,null,null,null,{"$f":"IF(A9309=\"\",\"\",IF(B9309=\"\",E9308,IF(D9309=\"\",E9308,D9309/MAX($D$8:D9309)-1)))","v":""}]
[null,null,null,null,{"$f":"IF(A9310=\"\",\"\",IF(B9310=\"\",E9309,IF(D9310=\"\",E9309,D9310/MAX($D$8:D9310)-1)))","v":""}]
[null,null,null,null,{"$f":"IF(A9311=\"\",\"\",IF(B9311=\"\",E9310,IF(D9311=\"\",E9310,D9311/MAX($D$8:D9311)-1)))","v":""}]
[null,null,null,null,{"$f":"IF(A9312=\"\",\"\",IF(B9312=\"\",E9311,IF(D9312=\"\",E9311,D9312/MAX($D$8:D9312)-1)))","v":""}]
[null,null,null,null,{"$f":"IF(A9313=\"\",\"\",IF(B9313=\"\",E9312,IF(D9313=\"\",E9312,D9313/MAX($D$8:D9313)-1)))","v":""}]
[null,null,null,null,{"$f":"IF(A9314=\"\",\"\",IF(B9314=\"\",E9313,IF(D9314=\"\",E9313,D9314/MAX($D$8:D9314)-1)))","v":""}]
[null,null,null,null,{"$f":"IF(A9315=\"\",\"\",IF(B9315=\"\",E9314,IF(D9315=\"\",E9314,D9315/MAX($D$8:D9315)-1)))","v":""}]
[null,null,null,null,{"$f":"IF(A9316=\"\",\"\",IF(B9316=\"\",E9315,IF(D9316=\"\",E9315,D9316/MAX($D$8:D9316)-1)))","v":""}]
[null,null,null,null,{"$f":"IF(A9317=\"\",\"\",IF(B9317=\"\",E9316,IF(D9317=\"\",E9316,D9317/MAX($D$8:D9317)-1)))","v":""}]
[null,null,null,null,{"$f":"IF(A9318=\"\",\"\",IF(B9318=\"\",E9317,IF(D9318=\"\",E9317,D9318/MAX($D$8:D9318)-1)))","v":""}]
[null,null,null,null,{"$f":"IF(A9319=\"\",\"\",IF(B9319=\"\",E9318,IF(D9319=\"\",E9318,D9319/MAX($D$8:D9319)-1)))","v":""}]
[null,null,null,null,{"$f":"IF(A9320=\"\",\"\",IF(B9320=\"\",E9319,IF(D9320=\"\",E9319,D9320/MAX($D$8:D9320)-1)))","v":""}]
[null,null,null,null,{"$f":"IF(A9321=\"\",\"\",IF(B9321=\"\",E9320,IF(D9321=\"\",E9320,D9321/MAX($D$8:D9321)-1)))","v":""}]
[null,null,null,null,{"$f":"IF(A9322=\"\",\"\",IF(B9322=\"\",E9321,IF(D9322=\"\",E9321,D9322/MAX($D$8:D9322)-1)))","v":""}]
[null,null,null,null,{"$f":"IF(A9323=\"\",\"\",IF(B9323=\"\",E9322,IF(D9323=\"\",E9322,D9323/MAX($D$8:D9323)-1)))","v":""}]
[null,null,null,null,{"$f":"IF(A9324=\"\",\"\",IF(B9324=\"\",E9323,IF(D9324=\"\",E9323,D9324/MAX($D$8:D9324)-1)))","v":""}]
[null,null,null,null,{"$f":"IF(A9325=\"\",\"\",IF(B9325=\"\",E9324,IF(D9325=\"\",E9324,D9325/MAX($D$8:D9325)-1)))","v":""}]
[null,null,null,null,{"$f":"IF(A9326=\"\",\"\",IF(B9326=\"\",E9325,IF(D9326=\"\",E9325,D9326/MAX($D$8:D9326)-1)))","v":""}]
[null,null,null,null,{"$f":"IF(A9327=\"\",\"\",IF(B9327=\"\",E9326,IF(D9327=\"\",E9326,D9327/MAX($D$8:D9327)-1)))","v":""}]
[null,null,null,null,{"$f":"IF(A9328=\"\",\"\",IF(B9328=\"\",E9327,IF(D9328=\"\",E9327,D9328/MAX($D$8:D9328)-1)))","v":""}]
[null,null,null,null,{"$f":"IF(A9329=\"\",\"\",IF(B9329=\"\",E9328,IF(D9329=\"\",E9328,D9329/MAX($D$8:D9329)-1)))","v":""}]
[null,null,null,null,{"$f":"IF(A9330=\"\",\"\",IF(B9330=\"\",E9329,IF(D9330=\"\",E9329,D9330/MAX($D$8:D9330)-1)))","v":""}]
[null,null,null,null,{"$f":"IF(A9331=\"\",\"\",IF(B9331=\"\",E9330,IF(D9331=\"\",E9330,D9331/MAX($D$8:D9331)-1)))","v":""}]
[null,null,null,null,{"$f":"IF(A9332=\"\",\"\",IF(B9332=\"\",E9331,IF(D9332=\"\",E9331,D9332/MAX($D$8:D9332)-1)))","v":""}]
[null,null,null,null,{"$f":"IF(A9333=\"\",\"\",IF(B9333=\"\",E9332,IF(D9333=\"\",E9332,D9333/MAX($D$8:D9333)-1)))","v":""}]
[null,null,null,null,{"$f":"IF(A9334=\"\",\"\",IF(B9334=\"\",E9333,IF(D9334=\"\",E9333,D9334/MAX($D$8:D9334)-1)))","v":""}]
[null,null,null,null,{"$f":"IF(A9335=\"\",\"\",IF(B9335=\"\",E9334,IF(D9335=\"\",E9334,D9335/MAX($D$8:D9335)-1)))","v":""}]
[null,null,null,null,{"$f":"IF(A9336=\"\",\"\",IF(B9336=\"\",E9335,IF(D9336=\"\",E9335,D9336/MAX($D$8:D9336)-1)))","v":""}]
[null,null,null,null,{"$f":"IF(A9337=\"\",\"\",IF(B9337=\"\",E9336,IF(D9337=\"\",E9336,D9337/MAX($D$8:D9337)-1)))","v":""}]
[null,null,null,null,{"$f":"IF(A9338=\"\",\"\",IF(B9338=\"\",E9337,IF(D9338=\"\",E9337,D9338/MAX($D$8:D9338)-1)))","v":""}]
[null,null,null,null,{"$f":"IF(A9339=\"\",\"\",IF(B9339=\"\",E9338,IF(D9339=\"\",E9338,D9339/MAX($D$8:D9339)-1)))","v":""}]
[null,null,null,null,{"$f":"IF(A9340=\"\",\"\",IF(B9340=\"\",E9339,IF(D9340=\"\",E9339,D9340/MAX($D$8:D9340)-1)))","v":""}]
[null,null,null,null,{"$f":"IF(A9341=\"\",\"\",IF(B9341=\"\",E9340,IF(D9341=\"\",E9340,D9341/MAX($D$8:D9341)-1)))","v":""}]
[null,null,null,null,{"$f":"IF(A9342=\"\",\"\",IF(B9342=\"\",E9341,IF(D9342=\"\",E9341,D9342/MAX($D$8:D9342)-1)))","v":""}]
[null,null,null,null,{"$f":"IF(A9343=\"\",\"\",IF(B9343=\"\",E9342,IF(D9343=\"\",E9342,D9343/MAX($D$8:D9343)-1)))","v":""}]
[null,null,null,null,{"$f":"IF(A9344=\"\",\"\",IF(B9344=\"\",E9343,IF(D9344=\"\",E9343,D9344/MAX($D$8:D9344)-1)))","v":""}]
[null,null,null,null,{"$f":"IF(A9345=\"\",\"\",IF(B9345=\"\",E9344,IF(D9345=\"\",E9344,D9345/MAX($D$8:D9345)-1)))","v":""}]
[null,null,null,null,{"$f":"IF(A9346=\"\",\"\",IF(B9346=\"\",E9345,IF(D9346=\"\",E9345,D9346/MAX($D$8:D9346)-1)))","v":""}]
[null,null,null,null,{"$f":"IF(A9347=\"\",\"\",IF(B9347=\"\",E9346,IF(D9347=\"\",E9346,D9347/MAX($D$8:D9347)-1)))","v":""}]
[null,null,null,null,{"$f":"IF(A9348=\"\",\"\",IF(B9348=\"\",E9347,IF(D9348=\"\",E9347,D9348/MAX($D$8:D9348)-1)))","v":""}]
[null,null,null,null,{"$f":"IF(A9349=\"\",\"\",IF(B9349=\"\",E9348,IF(D9349=\"\",E9348,D9349/MAX($D$8:D9349)-1)))","v":""}]
[null,null,null,null,{"$f":"IF(A9350=\"\",\"\",IF(B9350=\"\",E9349,IF(D9350=\"\",E9349,D9350/MAX($D$8:D9350)-1)))","v":""}]
[null,null,null,null,{"$f":"IF(A9351=\"\",\"\",IF(B9351=\"\",E9350,IF(D9351=\"\",E9350,D9351/MAX($D$8:D9351)-1)))","v":""}]
[null,null,null,null,{"$f":"IF(A9352=\"\",\"\",IF(B9352=\"\",E9351,IF(D9352=\"\",E9351,D9352/MAX($D$8:D9352)-1)))","v":""}]
[null,null,null,null,{"$f":"IF(A9353=\"\",\"\",IF(B9353=\"\",E9352,IF(D9353=\"\",E9352,D9353/MAX($D$8:D9353)-1)))","v":""}]
[null,null,null,null,{"$f":"IF(A9354=\"\",\"\",IF(B9354=\"\",E9353,IF(D9354=\"\",E9353,D9354/MAX($D$8:D9354)-1)))","v":""}]
[null,null,null,null,{"$f":"IF(A9355=\"\",\"\",IF(B9355=\"\",E9354,IF(D9355=\"\",E9354,D9355/MAX($D$8:D9355)-1)))","v":""}]
[null,null,null,null,{"$f":"IF(A9356=\"\",\"\",IF(B9356=\"\",E9355,IF(D9356=\"\",E9355,D9356/MAX($D$8:D9356)-1)))","v":""}]
[null,null,null,null,{"$f":"IF(A9357=\"\",\"\",IF(B9357=\"\",E9356,IF(D9357=\"\",E9356,D9357/MAX($D$8:D9357)-1)))","v":""}]
[null,null,null,null,{"$f":"IF(A9358=\"\",\"\",IF(B9358=\"\",E9357,IF(D9358=\"\",E9357,D9358/MAX($D$8:D9358)-1)))","v":""}]
[null,null,null,null,{"$f":"IF(A9359=\"\",\"\",IF(B9359=\"\",E9358,IF(D9359=\"\",E9358,D9359/MAX($D$8:D9359)-1)))","v":""}]
[null,null,null,null,{"$f":"IF(A9360=\"\",\"\",IF(B9360=\"\",E9359,IF(D9360=\"\",E9359,D9360/MAX($D$8:D9360)-1)))","v":""}]
[null,null,null,null,{"$f":"IF(A9361=\"\",\"\",IF(B9361=\"\",E9360,IF(D9361=\"\",E9360,D9361/MAX($D$8:D9361)-1)))","v":""}]
[null,null,null,null,{"$f":"IF(A9362=\"\",\"\",IF(B9362=\"\",E9361,IF(D9362=\"\",E9361,D9362/MAX($D$8:D9362)-1)))","v":""}]
[null,null,null,null,{"$f":"IF(A9363=\"\",\"\",IF(B9363=\"\",E9362,IF(D9363=\"\",E9362,D9363/MAX($D$8:D9363)-1)))","v":""}]
[null,null,null,null,{"$f":"IF(A9364=\"\",\"\",IF(B9364=\"\",E9363,IF(D9364=\"\",E9363,D9364/MAX($D$8:D9364)-1)))","v":""}]
[null,null,null,null,{"$f":"IF(A9365=\"\",\"\",IF(B9365=\"\",E9364,IF(D9365=\"\",E9364,D9365/MAX($D$8:D9365)-1)))","v":""}]
[null,null,null,null,{"$f":"IF(A9366=\"\",\"\",IF(B9366=\"\",E9365,IF(D9366=\"\",E9365,D9366/MAX($D$8:D9366)-1)))","v":""}]
[null,null,null,null,{"$f":"IF(A9367=\"\",\"\",IF(B9367=\"\",E9366,IF(D9367=\"\",E9366,D9367/MAX($D$8:D9367)-1)))","v":""}]
[null,null,null,null,{"$f":"IF(A9368=\"\",\"\",IF(B9368=\"\",E9367,IF(D9368=\"\",E9367,D9368/MAX($D$8:D9368)-1)))","v":""}]
[null,null,null,null,{"$f":"IF(A9369=\"\",\"\",IF(B9369=\"\",E9368,IF(D9369=\"\",E9368,D9369/MAX($D$8:D9369)-1)))","v":""}]
[null,null,null,null,{"$f":"IF(A9370=\"\",\"\",IF(B9370=\"\",E9369,IF(D9370=\"\",E9369,D9370/MAX($D$8:D9370)-1)))","v":""}]
[null,null,null,null,{"$f":"IF(A9371=\"\",\"\",IF(B9371=\"\",E9370,IF(D9371=\"\",E9370,D9371/MAX($D$8:D9371)-1)))","v":""}]
[null,null,null,null,{"$f":"IF(A9372=\"\",\"\",IF(B9372=\"\",E9371,IF(D9372=\"\",E9371,D9372/MAX($D$8:D9372)-1)))","v":""}]
[null,null,null,null,{"$f":"IF(A9373=\"\",\"\",IF(B9373=\"\",E9372,IF(D9373=\"\",E9372,D9373/MAX($D$8:D9373)-1)))","v":""}]
[null,null,null,null,{"$f":"IF(A9374=\"\",\"\",IF(B9374=\"\",E9373,IF(D9374=\"\",E9373,D9374/MAX($D$8:D9374)-1)))","v":""}]
[null,null,null,null,{"$f":"IF(A9375=\"\",\"\",IF(B9375=\"\",E9374,IF(D9375=\"\",E9374,D9375/MAX($D$8:D9375)-1)))","v":""}]
[null,null,null,null,{"$f":"IF(A9376=\"\",\"\",IF(B9376=\"\",E9375,IF(D9376=\"\",E9375,D9376/MAX($D$8:D9376)-1)))","v":""}]
[null,null,null,null,{"$f":"IF(A9377=\"\",\"\",IF(B9377=\"\",E9376,IF(D9377=\"\",E9376,D9377/MAX($D$8:D9377)-1)))","v":""}]
[null,null,null,null,{"$f":"IF(A9378=\"\",\"\",IF(B9378=\"\",E9377,IF(D9378=\"\",E9377,D9378/MAX($D$8:D9378)-1)))","v":""}]
[null,null,null,null,{"$f":"IF(A9379=\"\",\"\",IF(B9379=\"\",E9378,IF(D9379=\"\",E9378,D9379/MAX($D$8:D9379)-1)))","v":""}]
[null,null,null,null,{"$f":"IF(A9380=\"\",\"\",IF(B9380=\"\",E9379,IF(D9380=\"\",E9379,D9380/MAX($D$8:D9380)-1)))","v":""}]
[null,null,null,null,{"$f":"IF(A9381=\"\",\"\",IF(B9381=\"\",E9380,IF(D9381=\"\",E9380,D9381/MAX($D$8:D9381)-1)))","v":""}]
[null,null,null,null,{"$f":"IF(A9382=\"\",\"\",IF(B9382=\"\",E9381,IF(D9382=\"\",E9381,D9382/MAX($D$8:D9382)-1)))","v":""}]
[null,null,null,null,{"$f":"IF(A9383=\"\",\"\",IF(B9383=\"\",E9382,IF(D9383=\"\",E9382,D9383/MAX($D$8:D9383)-1)))","v":""}]
[null,null,null,null,{"$f":"IF(A9384=\"\",\"\",IF(B9384=\"\",E9383,IF(D9384=\"\",E9383,D9384/MAX($D$8:D9384)-1)))","v":""}]
[null,null,null,null,{"$f":"IF(A9385=\"\",\"\",IF(B9385=\"\",E9384,IF(D9385=\"\",E9384,D9385/MAX($D$8:D9385)-1)))","v":""}]
[null,null,null,null,{"$f":"IF(A9386=\"\",\"\",IF(B9386=\"\",E9385,IF(D9386=\"\",E9385,D9386/MAX($D$8:D9386)-1)))","v":""}]
[null,null,null,null,{"$f":"IF(A9387=\"\",\"\",IF(B9387=\"\",E9386,IF(D9387=\"\",E9386,D9387/MAX($D$8:D9387)-1)))","v":""}]
[null,null,null,null,{"$f":"IF(A9388=\"\",\"\",IF(B9388=\"\",E9387,IF(D9388=\"\",E9387,D9388/MAX($D$8:D9388)-1)))","v":""}]
[null,null,null,null,{"$f":"IF(A9389=\"\",\"\",IF(B9389=\"\",E9388,IF(D9389=\"\",E9388,D9389/MAX($D$8:D9389)-1)))","v":""}]
[null,null,null,null,{"$f":"IF(A9390=\"\",\"\",IF(B9390=\"\",E9389,IF(D9390=\"\",E9389,D9390/MAX($D$8:D9390)-1)))","v":""}]
[null,null,null,null,{"$f":"IF(A9391=\"\",\"\",IF(B9391=\"\",E9390,IF(D9391=\"\",E9390,D9391/MAX($D$8:D9391)-1)))","v":""}]
[null,null,null,null,{"$f":"IF(A9392=\"\",\"\",IF(B9392=\"\",E9391,IF(D9392=\"\",E9391,D9392/MAX($D$8:D9392)-1)))","v":""}]
[null,null,null,null,{"$f":"IF(A9393=\"\",\"\",IF(B9393=\"\",E9392,IF(D9393=\"\",E9392,D9393/MAX($D$8:D9393)-1)))","v":""}]
[null,null,null,null,{"$f":"IF(A9394=\"\",\"\",IF(B9394=\"\",E9393,IF(D9394=\"\",E9393,D9394/MAX($D$8:D9394)-1)))","v":""}]
[null,null,null,null,{"$f":"IF(A9395=\"\",\"\",IF(B9395=\"\",E9394,IF(D9395=\"\",E9394,D9395/MAX($D$8:D9395)-1)))","v":""}]
[null,null,null,null,{"$f":"IF(A9396=\"\",\"\",IF(B9396=\"\",E9395,IF(D9396=\"\",E9395,D9396/MAX($D$8:D9396)-1)))","v":""}]
[null,null,null,null,{"$f":"IF(A9397=\"\",\"\",IF(B9397=\"\",E9396,IF(D9397=\"\",E9396,D9397/MAX($D$8:D9397)-1)))","v":""}]
[null,null,null,null,{"$f":"IF(A9398=\"\",\"\",IF(B9398=\"\",E9397,IF(D9398=\"\",E9397,D9398/MAX($D$8:D9398)-1)))","v":""}]
[null,null,null,null,{"$f":"IF(A9399=\"\",\"\",IF(B9399=\"\",E9398,IF(D9399=\"\",E9398,D9399/MAX($D$8:D9399)-1)))","v":""}]
[null,null,null,null,{"$f":"IF(A9400=\"\",\"\",IF(B9400=\"\",E9399,IF(D9400=\"\",E9399,D9400/MAX($D$8:D9400)-1)))","v":""}]
[null,null,null,null,{"$f":"IF(A9401=\"\",\"\",IF(B9401=\"\",E9400,IF(D9401=\"\",E9400,D9401/MAX($D$8:D9401)-1)))","v":""}]
[null,null,null,null,{"$f":"IF(A9402=\"\",\"\",IF(B9402=\"\",E9401,IF(D9402=\"\",E9401,D9402/MAX($D$8:D9402)-1)))","v":""}]
[null,null,null,null,{"$f":"IF(A9403=\"\",\"\",IF(B9403=\"\",E9402,IF(D9403=\"\",E9402,D9403/MAX($D$8:D9403)-1)))","v":""}]
[null,null,null,null,{"$f":"IF(A9404=\"\",\"\",IF(B9404=\"\",E9403,IF(D9404=\"\",E9403,D9404/MAX($D$8:D9404)-1)))","v":""}]
[null,null,null,null,{"$f":"IF(A9405=\"\",\"\",IF(B9405=\"\",E9404,IF(D9405=\"\",E9404,D9405/MAX($D$8:D9405)-1)))","v":""}]
[null,null,null,null,{"$f":"IF(A9406=\"\",\"\",IF(B9406=\"\",E9405,IF(D9406=\"\",E9405,D9406/MAX($D$8:D9406)-1)))","v":""}]
[null,null,null,null,{"$f":"IF(A9407=\"\",\"\",IF(B9407=\"\",E9406,IF(D9407=\"\",E9406,D9407/MAX($D$8:D9407)-1)))","v":""}]
[null,null,null,null,{"$f":"IF(A9408=\"\",\"\",IF(B9408=\"\",E9407,IF(D9408=\"\",E9407,D9408/MAX($D$8:D9408)-1)))","v":""}]
[null,null,null,null,{"$f":"IF(A9409=\"\",\"\",IF(B9409=\"\",E9408,IF(D9409=\"\",E9408,D9409/MAX($D$8:D9409)-1)))","v":""}]
[null,null,null,null,{"$f":"IF(A9410=\"\",\"\",IF(B9410=\"\",E9409,IF(D9410=\"\",E9409,D9410/MAX($D$8:D9410)-1)))","v":""}]
[null,null,null,null,{"$f":"IF(A9411=\"\",\"\",IF(B9411=\"\",E9410,IF(D9411=\"\",E9410,D9411/MAX($D$8:D9411)-1)))","v":""}]
[null,null,null,null,{"$f":"IF(A9412=\"\",\"\",IF(B9412=\"\",E9411,IF(D9412=\"\",E9411,D9412/MAX($D$8:D9412)-1)))","v":""}]
[null,null,null,null,{"$f":"IF(A9413=\"\",\"\",IF(B9413=\"\",E9412,IF(D9413=\"\",E9412,D9413/MAX($D$8:D9413)-1)))","v":""}]
[null,null,null,null,{"$f":"IF(A9414=\"\",\"\",IF(B9414=\"\",E9413,IF(D9414=\"\",E9413,D9414/MAX($D$8:D9414)-1)))","v":""}]
[null,null,null,null,{"$f":"IF(A9415=\"\",\"\",IF(B9415=\"\",E9414,IF(D9415=\"\",E9414,D9415/MAX($D$8:D9415)-1)))","v":""}]
[null,null,null,null,{"$f":"IF(A9416=\"\",\"\",IF(B9416=\"\",E9415,IF(D9416=\"\",E9415,D9416/MAX($D$8:D9416)-1)))","v":""}]
[null,null,null,null,{"$f":"IF(A9417=\"\",\"\",IF(B9417=\"\",E9416,IF(D9417=\"\",E9416,D9417/MAX($D$8:D9417)-1)))","v":""}]
[null,null,null,null,{"$f":"IF(A9418=\"\",\"\",IF(B9418=\"\",E9417,IF(D9418=\"\",E9417,D9418/MAX($D$8:D9418)-1)))","v":""}]
[null,null,null,null,{"$f":"IF(A9419=\"\",\"\",IF(B9419=\"\",E9418,IF(D9419=\"\",E9418,D9419/MAX($D$8:D9419)-1)))","v":""}]
[null,null,null,null,{"$f":"IF(A9420=\"\",\"\",IF(B9420=\"\",E9419,IF(D9420=\"\",E9419,D9420/MAX($D$8:D9420)-1)))","v":""}]
[null,null,null,null,{"$f":"IF(A9421=\"\",\"\",IF(B9421=\"\",E9420,IF(D9421=\"\",E9420,D9421/MAX($D$8:D9421)-1)))","v":""}]
[null,null,null,null,{"$f":"IF(A9422=\"\",\"\",IF(B9422=\"\",E9421,IF(D9422=\"\",E9421,D9422/MAX($D$8:D9422)-1)))","v":""}]
[null,null,null,null,{"$f":"IF(A9423=\"\",\"\",IF(B9423=\"\",E9422,IF(D9423=\"\",E9422,D9423/MAX($D$8:D9423)-1)))","v":""}]
[null,null,null,null,{"$f":"IF(A9424=\"\",\"\",IF(B9424=\"\",E9423,IF(D9424=\"\",E9423,D9424/MAX($D$8:D9424)-1)))","v":""}]
[null,null,null,null,{"$f":"IF(A9425=\"\",\"\",IF(B9425=\"\",E9424,IF(D9425=\"\",E9424,D9425/MAX($D$8:D9425)-1)))","v":""}]
[null,null,null,null,{"$f":"IF(A9426=\"\",\"\",IF(B9426=\"\",E9425,IF(D9426=\"\",E9425,D9426/MAX($D$8:D9426)-1)))","v":""}]
[null,null,null,null,{"$f":"IF(A9427=\"\",\"\",IF(B9427=\"\",E9426,IF(D9427=\"\",E9426,D9427/MAX($D$8:D9427)-1)))","v":""}]
[null,null,null,null,{"$f":"IF(A9428=\"\",\"\",IF(B9428=\"\",E9427,IF(D9428=\"\",E9427,D9428/MAX($D$8:D9428)-1)))","v":""}]
[null,null,null,null,{"$f":"IF(A9429=\"\",\"\",IF(B9429=\"\",E9428,IF(D9429=\"\",E9428,D9429/MAX($D$8:D9429)-1)))","v":""}]
[null,null,null,null,{"$f":"IF(A9430=\"\",\"\",IF(B9430=\"\",E9429,IF(D9430=\"\",E9429,D9430/MAX($D$8:D9430)-1)))","v":""}]
[null,null,null,null,{"$f":"IF(A9431=\"\",\"\",IF(B9431=\"\",E9430,IF(D9431=\"\",E9430,D9431/MAX($D$8:D9431)-1)))","v":""}]
[null,null,null,null,{"$f":"IF(A9432=\"\",\"\",IF(B9432=\"\",E9431,IF(D9432=\"\",E9431,D9432/MAX($D$8:D9432)-1)))","v":""}]
[null,null,null,null,{"$f":"IF(A9433=\"\",\"\",IF(B9433=\"\",E9432,IF(D9433=\"\",E9432,D9433/MAX($D$8:D9433)-1)))","v":""}]
[null,null,null,null,{"$f":"IF(A9434=\"\",\"\",IF(B9434=\"\",E9433,IF(D9434=\"\",E9433,D9434/MAX($D$8:D9434)-1)))","v":""}]
[null,null,null,null,{"$f":"IF(A9435=\"\",\"\",IF(B9435=\"\",E9434,IF(D9435=\"\",E9434,D9435/MAX($D$8:D9435)-1)))","v":""}]
[null,null,null,null,{"$f":"IF(A9436=\"\",\"\",IF(B9436=\"\",E9435,IF(D9436=\"\",E9435,D9436/MAX($D$8:D9436)-1)))","v":""}]
[null,null,null,null,{"$f":"IF(A9437=\"\",\"\",IF(B9437=\"\",E9436,IF(D9437=\"\",E9436,D9437/MAX($D$8:D9437)-1)))","v":""}]
[null,null,null,null,{"$f":"IF(A9438=\"\",\"\",IF(B9438=\"\",E9437,IF(D9438=\"\",E9437,D9438/MAX($D$8:D9438)-1)))","v":""}]
[null,null,null,null,{"$f":"IF(A9439=\"\",\"\",IF(B9439=\"\",E9438,IF(D9439=\"\",E9438,D9439/MAX($D$8:D9439)-1)))","v":""}]
[null,null,null,null,{"$f":"IF(A9440=\"\",\"\",IF(B9440=\"\",E9439,IF(D9440=\"\",E9439,D9440/MAX($D$8:D9440)-1)))","v":""}]
[null,null,null,null,{"$f":"IF(A9441=\"\",\"\",IF(B9441=\"\",E9440,IF(D9441=\"\",E9440,D9441/MAX($D$8:D9441)-1)))","v":""}]
[null,null,null,null,{"$f":"IF(A9442=\"\",\"\",IF(B9442=\"\",E9441,IF(D9442=\"\",E9441,D9442/MAX($D$8:D9442)-1)))","v":""}]
[null,null,null,null,{"$f":"IF(A9443=\"\",\"\",IF(B9443=\"\",E9442,IF(D9443=\"\",E9442,D9443/MAX($D$8:D9443)-1)))","v":""}]
[null,null,null,null,{"$f":"IF(A9444=\"\",\"\",IF(B9444=\"\",E9443,IF(D9444=\"\",E9443,D9444/MAX($D$8:D9444)-1)))","v":""}]
[null,null,null,null,{"$f":"IF(A9445=\"\",\"\",IF(B9445=\"\",E9444,IF(D9445=\"\",E9444,D9445/MAX($D$8:D9445)-1)))","v":""}]
[null,null,null,null,{"$f":"IF(A9446=\"\",\"\",IF(B9446=\"\",E9445,IF(D9446=\"\",E9445,D9446/MAX($D$8:D9446)-1)))","v":""}]
[null,null,null,null,{"$f":"IF(A9447=\"\",\"\",IF(B9447=\"\",E9446,IF(D9447=\"\",E9446,D9447/MAX($D$8:D9447)-1)))","v":""}]
[null,null,null,null,{"$f":"IF(A9448=\"\",\"\",IF(B9448=\"\",E9447,IF(D9448=\"\",E9447,D9448/MAX($D$8:D9448)-1)))","v":""}]
[null,null,null,null,{"$f":"IF(A9449=\"\",\"\",IF(B9449=\"\",E9448,IF(D9449=\"\",E9448,D9449/MAX($D$8:D9449)-1)))","v":""}]
[null,null,null,null,{"$f":"IF(A9450=\"\",\"\",IF(B9450=\"\",E9449,IF(D9450=\"\",E9449,D9450/MAX($D$8:D9450)-1)))","v":""}]
[null,null,null,null,{"$f":"IF(A9451=\"\",\"\",IF(B9451=\"\",E9450,IF(D9451=\"\",E9450,D9451/MAX($D$8:D9451)-1)))","v":""}]
[null,null,null,null,{"$f":"IF(A9452=\"\",\"\",IF(B9452=\"\",E9451,IF(D9452=\"\",E9451,D9452/MAX($D$8:D9452)-1)))","v":""}]
[null,null,null,null,{"$f":"IF(A9453=\"\",\"\",IF(B9453=\"\",E9452,IF(D9453=\"\",E9452,D9453/MAX($D$8:D9453)-1)))","v":""}]
[null,null,null,null,{"$f":"IF(A9454=\"\",\"\",IF(B9454=\"\",E9453,IF(D9454=\"\",E9453,D9454/MAX($D$8:D9454)-1)))","v":""}]
[null,null,null,null,{"$f":"IF(A9455=\"\",\"\",IF(B9455=\"\",E9454,IF(D9455=\"\",E9454,D9455/MAX($D$8:D9455)-1)))","v":""}]
[null,null,null,null,{"$f":"IF(A9456=\"\",\"\",IF(B9456=\"\",E9455,IF(D9456=\"\",E9455,D9456/MAX($D$8:D9456)-1)))","v":""}]
[null,null,null,null,{"$f":"IF(A9457=\"\",\"\",IF(B9457=\"\",E9456,IF(D9457=\"\",E9456,D9457/MAX($D$8:D9457)-1)))","v":""}]
[null,null,null,null,{"$f":"IF(A9458=\"\",\"\",IF(B9458=\"\",E9457,IF(D9458=\"\",E9457,D9458/MAX($D$8:D9458)-1)))","v":""}]
[null,null,null,null,{"$f":"IF(A9459=\"\",\"\",IF(B9459=\"\",E9458,IF(D9459=\"\",E9458,D9459/MAX($D$8:D9459)-1)))","v":""}]
[null,null,null,null,{"$f":"IF(A9460=\"\",\"\",IF(B9460=\"\",E9459,IF(D9460=\"\",E9459,D9460/MAX($D$8:D9460)-1)))","v":""}]
[null,null,null,null,{"$f":"IF(A9461=\"\",\"\",IF(B9461=\"\",E9460,IF(D9461=\"\",E9460,D9461/MAX($D$8:D9461)-1)))","v":""}]
[null,null,null,null,{"$f":"IF(A9462=\"\",\"\",IF(B9462=\"\",E9461,IF(D9462=\"\",E9461,D9462/MAX($D$8:D9462)-1)))","v":""}]
[null,null,null,null,{"$f":"IF(A9463=\"\",\"\",IF(B9463=\"\",E9462,IF(D9463=\"\",E9462,D9463/MAX($D$8:D9463)-1)))","v":""}]
[null,null,null,null,{"$f":"IF(A9464=\"\",\"\",IF(B9464=\"\",E9463,IF(D9464=\"\",E9463,D9464/MAX($D$8:D9464)-1)))","v":""}]
[null,null,null,null,{"$f":"IF(A9465=\"\",\"\",IF(B9465=\"\",E9464,IF(D9465=\"\",E9464,D9465/MAX($D$8:D9465)-1)))","v":""}]
[null,null,null,null,{"$f":"IF(A9466=\"\",\"\",IF(B9466=\"\",E9465,IF(D9466=\"\",E9465,D9466/MAX($D$8:D9466)-1)))","v":""}]
[null,null,null,null,{"$f":"IF(A9467=\"\",\"\",IF(B9467=\"\",E9466,IF(D9467=\"\",E9466,D9467/MAX($D$8:D9467)-1)))","v":""}]
[null,null,null,null,{"$f":"IF(A9468=\"\",\"\",IF(B9468=\"\",E9467,IF(D9468=\"\",E9467,D9468/MAX($D$8:D9468)-1)))","v":""}]
[null,null,null,null,{"$f":"IF(A9469=\"\",\"\",IF(B9469=\"\",E9468,IF(D9469=\"\",E9468,D9469/MAX($D$8:D9469)-1)))","v":""}]
[null,null,null,null,{"$f":"IF(A9470=\"\",\"\",IF(B9470=\"\",E9469,IF(D9470=\"\",E9469,D9470/MAX($D$8:D9470)-1)))","v":""}]
[null,null,null,null,{"$f":"IF(A9471=\"\",\"\",IF(B9471=\"\",E9470,IF(D9471=\"\",E9470,D9471/MAX($D$8:D9471)-1)))","v":""}]
[null,null,null,null,{"$f":"IF(A9472=\"\",\"\",IF(B9472=\"\",E9471,IF(D9472=\"\",E9471,D9472/MAX($D$8:D9472)-1)))","v":""}]
[null,null,null,null,{"$f":"IF(A9473=\"\",\"\",IF(B9473=\"\",E9472,IF(D9473=\"\",E9472,D9473/MAX($D$8:D9473)-1)))","v":""}]
[null,null,null,null,{"$f":"IF(A9474=\"\",\"\",IF(B9474=\"\",E9473,IF(D9474=\"\",E9473,D9474/MAX($D$8:D9474)-1)))","v":""}]
[null,null,null,null,{"$f":"IF(A9475=\"\",\"\",IF(B9475=\"\",E9474,IF(D9475=\"\",E9474,D9475/MAX($D$8:D9475)-1)))","v":""}]
[null,null,null,null,{"$f":"IF(A9476=\"\",\"\",IF(B9476=\"\",E9475,IF(D9476=\"\",E9475,D9476/MAX($D$8:D9476)-1)))","v":""}]
[null,null,null,null,{"$f":"IF(A9477=\"\",\"\",IF(B9477=\"\",E9476,IF(D9477=\"\",E9476,D9477/MAX($D$8:D9477)-1)))","v":""}]
[null,null,null,null,{"$f":"IF(A9478=\"\",\"\",IF(B9478=\"\",E9477,IF(D9478=\"\",E9477,D9478/MAX($D$8:D9478)-1)))","v":""}]
[null,null,null,null,{"$f":"IF(A9479=\"\",\"\",IF(B9479=\"\",E9478,IF(D9479=\"\",E9478,D9479/MAX($D$8:D9479)-1)))","v":""}]
[null,null,null,null,{"$f":"IF(A9480=\"\",\"\",IF(B9480=\"\",E9479,IF(D9480=\"\",E9479,D9480/MAX($D$8:D9480)-1)))","v":""}]
[null,null,null,null,{"$f":"IF(A9481=\"\",\"\",IF(B9481=\"\",E9480,IF(D9481=\"\",E9480,D9481/MAX($D$8:D9481)-1)))","v":""}]
[null,null,null,null,{"$f":"IF(A9482=\"\",\"\",IF(B9482=\"\",E9481,IF(D9482=\"\",E9481,D9482/MAX($D$8:D9482)-1)))","v":""}]
[null,null,null,null,{"$f":"IF(A9483=\"\",\"\",IF(B9483=\"\",E9482,IF(D9483=\"\",E9482,D9483/MAX($D$8:D9483)-1)))","v":""}]
[null,null,null,null,{"$f":"IF(A9484=\"\",\"\",IF(B9484=\"\",E9483,IF(D9484=\"\",E9483,D9484/MAX($D$8:D9484)-1)))","v":""}]
[null,null,null,null,{"$f":"IF(A9485=\"\",\"\",IF(B9485=\"\",E9484,IF(D9485=\"\",E9484,D9485/MAX($D$8:D9485)-1)))","v":""}]
[null,null,null,null,{"$f":"IF(A9486=\"\",\"\",IF(B9486=\"\",E9485,IF(D9486=\"\",E9485,D9486/MAX($D$8:D9486)-1)))","v":""}]
[null,null,null,null,{"$f":"IF(A9487=\"\",\"\",IF(B9487=\"\",E9486,IF(D9487=\"\",E9486,D9487/MAX($D$8:D9487)-1)))","v":""}]
[null,null,null,null,{"$f":"IF(A9488=\"\",\"\",IF(B9488=\"\",E9487,IF(D9488=\"\",E9487,D9488/MAX($D$8:D9488)-1)))","v":""}]
[null,null,null,null,{"$f":"IF(A9489=\"\",\"\",IF(B9489=\"\",E9488,IF(D9489=\"\",E9488,D9489/MAX($D$8:D9489)-1)))","v":""}]
[null,null,null,null,{"$f":"IF(A9490=\"\",\"\",IF(B9490=\"\",E9489,IF(D9490=\"\",E9489,D9490/MAX($D$8:D9490)-1)))","v":""}]
[null,null,null,null,{"$f":"IF(A9491=\"\",\"\",IF(B9491=\"\",E9490,IF(D9491=\"\",E9490,D9491/MAX($D$8:D9491)-1)))","v":""}]
[null,null,null,null,{"$f":"IF(A9492=\"\",\"\",IF(B9492=\"\",E9491,IF(D9492=\"\",E9491,D9492/MAX($D$8:D9492)-1)))","v":""}]
[null,null,null,null,{"$f":"IF(A9493=\"\",\"\",IF(B9493=\"\",E9492,IF(D9493=\"\",E9492,D9493/MAX($D$8:D9493)-1)))","v":""}]
[null,null,null,null,{"$f":"IF(A9494=\"\",\"\",IF(B9494=\"\",E9493,IF(D9494=\"\",E9493,D9494/MAX($D$8:D9494)-1)))","v":""}]
[null,null,null,null,{"$f":"IF(A9495=\"\",\"\",IF(B9495=\"\",E9494,IF(D9495=\"\",E9494,D9495/MAX($D$8:D9495)-1)))","v":""}]
[null,null,null,null,{"$f":"IF(A9496=\"\",\"\",IF(B9496=\"\",E9495,IF(D9496=\"\",E9495,D9496/MAX($D$8:D9496)-1)))","v":""}]
[null,null,null,null,{"$f":"IF(A9497=\"\",\"\",IF(B9497=\"\",E9496,IF(D9497=\"\",E9496,D9497/MAX($D$8:D9497)-1)))","v":""}]
[null,null,null,null,{"$f":"IF(A9498=\"\",\"\",IF(B9498=\"\",E9497,IF(D9498=\"\",E9497,D9498/MAX($D$8:D9498)-1)))","v":""}]
[null,null,null,null,{"$f":"IF(A9499=\"\",\"\",IF(B9499=\"\",E9498,IF(D9499=\"\",E9498,D9499/MAX($D$8:D9499)-1)))","v":""}]
[null,null,null,null,{"$f":"IF(A9500=\"\",\"\",IF(B9500=\"\",E9499,IF(D9500=\"\",E9499,D9500/MAX($D$8:D9500)-1)))","v":""}]
[null,null,null,null,{"$f":"IF(A9501=\"\",\"\",IF(B9501=\"\",E9500,IF(D9501=\"\",E9500,D9501/MAX($D$8:D9501)-1)))","v":""}]
[null,null,null,null,{"$f":"IF(A9502=\"\",\"\",IF(B9502=\"\",E9501,IF(D9502=\"\",E9501,D9502/MAX($D$8:D9502)-1)))","v":""}]
[null,null,null,null,{"$f":"IF(A9503=\"\",\"\",IF(B9503=\"\",E9502,IF(D9503=\"\",E9502,D9503/MAX($D$8:D9503)-1)))","v":""}]
[null,null,null,null,{"$f":"IF(A9504=\"\",\"\",IF(B9504=\"\",E9503,IF(D9504=\"\",E9503,D9504/MAX($D$8:D9504)-1)))","v":""}]
[null,null,null,null,{"$f":"IF(A9505=\"\",\"\",IF(B9505=\"\",E9504,IF(D9505=\"\",E9504,D9505/MAX($D$8:D9505)-1)))","v":""}]
[null,null,null,null,{"$f":"IF(A9506=\"\",\"\",IF(B9506=\"\",E9505,IF(D9506=\"\",E9505,D9506/MAX($D$8:D9506)-1)))","v":""}]
[null,null,null,null,{"$f":"IF(A9507=\"\",\"\",IF(B9507=\"\",E9506,IF(D9507=\"\",E9506,D9507/MAX($D$8:D9507)-1)))","v":""}]
[null,null,null,null,{"$f":"IF(A9508=\"\",\"\",IF(B9508=\"\",E9507,IF(D9508=\"\",E9507,D9508/MAX($D$8:D9508)-1)))","v":""}]
[null,null,null,null,{"$f":"IF(A9509=\"\",\"\",IF(B9509=\"\",E9508,IF(D9509=\"\",E9508,D9509/MAX($D$8:D9509)-1)))","v":""}]
[null,null,null,null,{"$f":"IF(A9510=\"\",\"\",IF(B9510=\"\",E9509,IF(D9510=\"\",E9509,D9510/MAX($D$8:D9510)-1)))","v":""}]
[null,null,null,null,{"$f":"IF(A9511=\"\",\"\",IF(B9511=\"\",E9510,IF(D9511=\"\",E9510,D9511/MAX($D$8:D9511)-1)))","v":""}]
[null,null,null,null,{"$f":"IF(A9512=\"\",\"\",IF(B9512=\"\",E9511,IF(D9512=\"\",E9511,D9512/MAX($D$8:D9512)-1)))","v":""}]
[null,null,null,null,{"$f":"IF(A9513=\"\",\"\",IF(B9513=\"\",E9512,IF(D9513=\"\",E9512,D9513/MAX($D$8:D9513)-1)))","v":""}]
[null,null,null,null,{"$f":"IF(A9514=\"\",\"\",IF(B9514=\"\",E9513,IF(D9514=\"\",E9513,D9514/MAX($D$8:D9514)-1)))","v":""}]
[null,null,null,null,{"$f":"IF(A9515=\"\",\"\",IF(B9515=\"\",E9514,IF(D9515=\"\",E9514,D9515/MAX($D$8:D9515)-1)))","v":""}]
[null,null,null,null,{"$f":"IF(A9516=\"\",\"\",IF(B9516=\"\",E9515,IF(D9516=\"\",E9515,D9516/MAX($D$8:D9516)-1)))","v":""}]
[null,null,null,null,{"$f":"IF(A9517=\"\",\"\",IF(B9517=\"\",E9516,IF(D9517=\"\",E9516,D9517/MAX($D$8:D9517)-1)))","v":""}]
[null,null,null,null,{"$f":"IF(A9518=\"\",\"\",IF(B9518=\"\",E9517,IF(D9518=\"\",E9517,D9518/MAX($D$8:D9518)-1)))","v":""}]
[null,null,null,null,{"$f":"IF(A9519=\"\",\"\",IF(B9519=\"\",E9518,IF(D9519=\"\",E9518,D9519/MAX($D$8:D9519)-1)))","v":""}]
[null,null,null,null,{"$f":"IF(A9520=\"\",\"\",IF(B9520=\"\",E9519,IF(D9520=\"\",E9519,D9520/MAX($D$8:D9520)-1)))","v":""}]
[null,null,null,null,{"$f":"IF(A9521=\"\",\"\",IF(B9521=\"\",E9520,IF(D9521=\"\",E9520,D9521/MAX($D$8:D9521)-1)))","v":""}]
[null,null,null,null,{"$f":"IF(A9522=\"\",\"\",IF(B9522=\"\",E9521,IF(D9522=\"\",E9521,D9522/MAX($D$8:D9522)-1)))","v":""}]
[null,null,null,null,{"$f":"IF(A9523=\"\",\"\",IF(B9523=\"\",E9522,IF(D9523=\"\",E9522,D9523/MAX($D$8:D9523)-1)))","v":""}]
[null,null,null,null,{"$f":"IF(A9524=\"\",\"\",IF(B9524=\"\",E9523,IF(D9524=\"\",E9523,D9524/MAX($D$8:D9524)-1)))","v":""}]
[null,null,null,null,{"$f":"IF(A9525=\"\",\"\",IF(B9525=\"\",E9524,IF(D9525=\"\",E9524,D9525/MAX($D$8:D9525)-1)))","v":""}]
[null,null,null,null,{"$f":"IF(A9526=\"\",\"\",IF(B9526=\"\",E9525,IF(D9526=\"\",E9525,D9526/MAX($D$8:D9526)-1)))","v":""}]
[null,null,null,null,{"$f":"IF(A9527=\"\",\"\",IF(B9527=\"\",E9526,IF(D9527=\"\",E9526,D9527/MAX($D$8:D9527)-1)))","v":""}]
[null,null,null,null,{"$f":"IF(A9528=\"\",\"\",IF(B9528=\"\",E9527,IF(D9528=\"\",E9527,D9528/MAX($D$8:D9528)-1)))","v":""}]
[null,null,null,null,{"$f":"IF(A9529=\"\",\"\",IF(B9529=\"\",E9528,IF(D9529=\"\",E9528,D9529/MAX($D$8:D9529)-1)))","v":""}]
[null,null,null,null,{"$f":"IF(A9530=\"\",\"\",IF(B9530=\"\",E9529,IF(D9530=\"\",E9529,D9530/MAX($D$8:D9530)-1)))","v":""}]
[null,null,null,null,{"$f":"IF(A9531=\"\",\"\",IF(B9531=\"\",E9530,IF(D9531=\"\",E9530,D9531/MAX($D$8:D9531)-1)))","v":""}]
[null,null,null,null,{"$f":"IF(A9532=\"\",\"\",IF(B9532=\"\",E9531,IF(D9532=\"\",E9531,D9532/MAX($D$8:D9532)-1)))","v":""}]
[null,null,null,null,{"$f":"IF(A9533=\"\",\"\",IF(B9533=\"\",E9532,IF(D9533=\"\",E9532,D9533/MAX($D$8:D9533)-1)))","v":""}]
[null,null,null,null,{"$f":"IF(A9534=\"\",\"\",IF(B9534=\"\",E9533,IF(D9534=\"\",E9533,D9534/MAX($D$8:D9534)-1)))","v":""}]
[null,null,null,null,{"$f":"IF(A9535=\"\",\"\",IF(B9535=\"\",E9534,IF(D9535=\"\",E9534,D9535/MAX($D$8:D9535)-1)))","v":""}]
[null,null,null,null,{"$f":"IF(A9536=\"\",\"\",IF(B9536=\"\",E9535,IF(D9536=\"\",E9535,D9536/MAX($D$8:D9536)-1)))","v":""}]
[null,null,null,null,{"$f":"IF(A9537=\"\",\"\",IF(B9537=\"\",E9536,IF(D9537=\"\",E9536,D9537/MAX($D$8:D9537)-1)))","v":""}]
[null,null,null,null,{"$f":"IF(A9538=\"\",\"\",IF(B9538=\"\",E9537,IF(D9538=\"\",E9537,D9538/MAX($D$8:D9538)-1)))","v":""}]
[null,null,null,null,{"$f":"IF(A9539=\"\",\"\",IF(B9539=\"\",E9538,IF(D9539=\"\",E9538,D9539/MAX($D$8:D9539)-1)))","v":""}]
[null,null,null,null,{"$f":"IF(A9540=\"\",\"\",IF(B9540=\"\",E9539,IF(D9540=\"\",E9539,D9540/MAX($D$8:D9540)-1)))","v":""}]
[null,null,null,null,{"$f":"IF(A9541=\"\",\"\",IF(B9541=\"\",E9540,IF(D9541=\"\",E9540,D9541/MAX($D$8:D9541)-1)))","v":""}]
[null,null,null,null,{"$f":"IF(A9542=\"\",\"\",IF(B9542=\"\",E9541,IF(D9542=\"\",E9541,D9542/MAX($D$8:D9542)-1)))","v":""}]
[null,null,null,null,{"$f":"IF(A9543=\"\",\"\",IF(B9543=\"\",E9542,IF(D9543=\"\",E9542,D9543/MAX($D$8:D9543)-1)))","v":""}]
[null,null,null,null,{"$f":"IF(A9544=\"\",\"\",IF(B9544=\"\",E9543,IF(D9544=\"\",E9543,D9544/MAX($D$8:D9544)-1)))","v":""}]
[null,null,null,null,{"$f":"IF(A9545=\"\",\"\",IF(B9545=\"\",E9544,IF(D9545=\"\",E9544,D9545/MAX($D$8:D9545)-1)))","v":""}]
[null,null,null,null,{"$f":"IF(A9546=\"\",\"\",IF(B9546=\"\",E9545,IF(D9546=\"\",E9545,D9546/MAX($D$8:D9546)-1)))","v":""}]
[null,null,null,null,{"$f":"IF(A9547=\"\",\"\",IF(B9547=\"\",E9546,IF(D9547=\"\",E9546,D9547/MAX($D$8:D9547)-1)))","v":""}]
[null,null,null,null,{"$f":"IF(A9548=\"\",\"\",IF(B9548=\"\",E9547,IF(D9548=\"\",E9547,D9548/MAX($D$8:D9548)-1)))","v":""}]
[null,null,null,null,{"$f":"IF(A9549=\"\",\"\",IF(B9549=\"\",E9548,IF(D9549=\"\",E9548,D9549/MAX($D$8:D9549)-1)))","v":""}]
[null,null,null,null,{"$f":"IF(A9550=\"\",\"\",IF(B9550=\"\",E9549,IF(D9550=\"\",E9549,D9550/MAX($D$8:D9550)-1)))","v":""}]
[null,null,null,null,{"$f":"IF(A9551=\"\",\"\",IF(B9551=\"\",E9550,IF(D9551=\"\",E9550,D9551/MAX($D$8:D9551)-1)))","v":""}]
[null,null,null,null,{"$f":"IF(A9552=\"\",\"\",IF(B9552=\"\",E9551,IF(D9552=\"\",E9551,D9552/MAX($D$8:D9552)-1)))","v":""}]
[null,null,null,null,{"$f":"IF(A9553=\"\",\"\",IF(B9553=\"\",E9552,IF(D9553=\"\",E9552,D9553/MAX($D$8:D9553)-1)))","v":""}]
[null,null,null,null,{"$f":"IF(A9554=\"\",\"\",IF(B9554=\"\",E9553,IF(D9554=\"\",E9553,D9554/MAX($D$8:D9554)-1)))","v":""}]
[null,null,null,null,{"$f":"IF(A9555=\"\",\"\",IF(B9555=\"\",E9554,IF(D9555=\"\",E9554,D9555/MAX($D$8:D9555)-1)))","v":""}]
[null,null,null,null,{"$f":"IF(A9556=\"\",\"\",IF(B9556=\"\",E9555,IF(D9556=\"\",E9555,D9556/MAX($D$8:D9556)-1)))","v":""}]
[null,null,null,null,{"$f":"IF(A9557=\"\",\"\",IF(B9557=\"\",E9556,IF(D9557=\"\",E9556,D9557/MAX($D$8:D9557)-1)))","v":""}]
[null,null,null,null,{"$f":"IF(A9558=\"\",\"\",IF(B9558=\"\",E9557,IF(D9558=\"\",E9557,D9558/MAX($D$8:D9558)-1)))","v":""}]
[null,null,null,null,{"$f":"IF(A9559=\"\",\"\",IF(B9559=\"\",E9558,IF(D9559=\"\",E9558,D9559/MAX($D$8:D9559)-1)))","v":""}]
[null,null,null,null,{"$f":"IF(A9560=\"\",\"\",IF(B9560=\"\",E9559,IF(D9560=\"\",E9559,D9560/MAX($D$8:D9560)-1)))","v":""}]
[null,null,null,null,{"$f":"IF(A9561=\"\",\"\",IF(B9561=\"\",E9560,IF(D9561=\"\",E9560,D9561/MAX($D$8:D9561)-1)))","v":""}]
[null,null,null,null,{"$f":"IF(A9562=\"\",\"\",IF(B9562=\"\",E9561,IF(D9562=\"\",E9561,D9562/MAX($D$8:D9562)-1)))","v":""}]
[null,null,null,null,{"$f":"IF(A9563=\"\",\"\",IF(B9563=\"\",E9562,IF(D9563=\"\",E9562,D9563/MAX($D$8:D9563)-1)))","v":""}]
[null,null,null,null,{"$f":"IF(A9564=\"\",\"\",IF(B9564=\"\",E9563,IF(D9564=\"\",E9563,D9564/MAX($D$8:D9564)-1)))","v":""}]
[null,null,null,null,{"$f":"IF(A9565=\"\",\"\",IF(B9565=\"\",E9564,IF(D9565=\"\",E9564,D9565/MAX($D$8:D9565)-1)))","v":""}]
[null,null,null,null,{"$f":"IF(A9566=\"\",\"\",IF(B9566=\"\",E9565,IF(D9566=\"\",E9565,D9566/MAX($D$8:D9566)-1)))","v":""}]
[null,null,null,null,{"$f":"IF(A9567=\"\",\"\",IF(B9567=\"\",E9566,IF(D9567=\"\",E9566,D9567/MAX($D$8:D9567)-1)))","v":""}]
[null,null,null,null,{"$f":"IF(A9568=\"\",\"\",IF(B9568=\"\",E9567,IF(D9568=\"\",E9567,D9568/MAX($D$8:D9568)-1)))","v":""}]
[null,null,null,null,{"$f":"IF(A9569=\"\",\"\",IF(B9569=\"\",E9568,IF(D9569=\"\",E9568,D9569/MAX($D$8:D9569)-1)))","v":""}]
[null,null,null,null,{"$f":"IF(A9570=\"\",\"\",IF(B9570=\"\",E9569,IF(D9570=\"\",E9569,D9570/MAX($D$8:D9570)-1)))","v":""}]
[null,null,null,null,{"$f":"IF(A9571=\"\",\"\",IF(B9571=\"\",E9570,IF(D9571=\"\",E9570,D9571/MAX($D$8:D9571)-1)))","v":""}]
[null,null,null,null,{"$f":"IF(A9572=\"\",\"\",IF(B9572=\"\",E9571,IF(D9572=\"\",E9571,D9572/MAX($D$8:D9572)-1)))","v":""}]
[null,null,null,null,{"$f":"IF(A9573=\"\",\"\",IF(B9573=\"\",E9572,IF(D9573=\"\",E9572,D9573/MAX($D$8:D9573)-1)))","v":""}]
[null,null,null,null,{"$f":"IF(A9574=\"\",\"\",IF(B9574=\"\",E9573,IF(D9574=\"\",E9573,D9574/MAX($D$8:D9574)-1)))","v":""}]
[null,null,null,null,{"$f":"IF(A9575=\"\",\"\",IF(B9575=\"\",E9574,IF(D9575=\"\",E9574,D9575/MAX($D$8:D9575)-1)))","v":""}]
[null,null,null,null,{"$f":"IF(A9576=\"\",\"\",IF(B9576=\"\",E9575,IF(D9576=\"\",E9575,D9576/MAX($D$8:D9576)-1)))","v":""}]
[null,null,null,null,{"$f":"IF(A9577=\"\",\"\",IF(B9577=\"\",E9576,IF(D9577=\"\",E9576,D9577/MAX($D$8:D9577)-1)))","v":""}]
[null,null,null,null,{"$f":"IF(A9578=\"\",\"\",IF(B9578=\"\",E9577,IF(D9578=\"\",E9577,D9578/MAX($D$8:D9578)-1)))","v":""}]
[null,null,null,null,{"$f":"IF(A9579=\"\",\"\",IF(B9579=\"\",E9578,IF(D9579=\"\",E9578,D9579/MAX($D$8:D9579)-1)))","v":""}]
[null,null,null,null,{"$f":"IF(A9580=\"\",\"\",IF(B9580=\"\",E9579,IF(D9580=\"\",E9579,D9580/MAX($D$8:D9580)-1)))","v":""}]
[null,null,null,null,{"$f":"IF(A9581=\"\",\"\",IF(B9581=\"\",E9580,IF(D9581=\"\",E9580,D9581/MAX($D$8:D9581)-1)))","v":""}]
[null,null,null,null,{"$f":"IF(A9582=\"\",\"\",IF(B9582=\"\",E9581,IF(D9582=\"\",E9581,D9582/MAX($D$8:D9582)-1)))","v":""}]
[null,null,null,null,{"$f":"IF(A9583=\"\",\"\",IF(B9583=\"\",E9582,IF(D9583=\"\",E9582,D9583/MAX($D$8:D9583)-1)))","v":""}]
[null,null,null,null,{"$f":"IF(A9584=\"\",\"\",IF(B9584=\"\",E9583,IF(D9584=\"\",E9583,D9584/MAX($D$8:D9584)-1)))","v":""}]
[null,null,null,null,{"$f":"IF(A9585=\"\",\"\",IF(B9585=\"\",E9584,IF(D9585=\"\",E9584,D9585/MAX($D$8:D9585)-1)))","v":""}]
[null,null,null,null,{"$f":"IF(A9586=\"\",\"\",IF(B9586=\"\",E9585,IF(D9586=\"\",E9585,D9586/MAX($D$8:D9586)-1)))","v":""}]
[null,null,null,null,{"$f":"IF(A9587=\"\",\"\",IF(B9587=\"\",E9586,IF(D9587=\"\",E9586,D9587/MAX($D$8:D9587)-1)))","v":""}]
[null,null,null,null,{"$f":"IF(A9588=\"\",\"\",IF(B9588=\"\",E9587,IF(D9588=\"\",E9587,D9588/MAX($D$8:D9588)-1)))","v":""}]
[null,null,null,null,{"$f":"IF(A9589=\"\",\"\",IF(B9589=\"\",E9588,IF(D9589=\"\",E9588,D9589/MAX($D$8:D9589)-1)))","v":""}]
[null,null,null,null,{"$f":"IF(A9590=\"\",\"\",IF(B9590=\"\",E9589,IF(D9590=\"\",E9589,D9590/MAX($D$8:D9590)-1)))","v":""}]
[null,null,null,null,{"$f":"IF(A9591=\"\",\"\",IF(B9591=\"\",E9590,IF(D9591=\"\",E9590,D9591/MAX($D$8:D9591)-1)))","v":""}]
[null,null,null,null,{"$f":"IF(A9592=\"\",\"\",IF(B9592=\"\",E9591,IF(D9592=\"\",E9591,D9592/MAX($D$8:D9592)-1)))","v":""}]
[null,null,null,null,{"$f":"IF(A9593=\"\",\"\",IF(B9593=\"\",E9592,IF(D9593=\"\",E9592,D9593/MAX($D$8:D9593)-1)))","v":""}]
[null,null,null,null,{"$f":"IF(A9594=\"\",\"\",IF(B9594=\"\",E9593,IF(D9594=\"\",E9593,D9594/MAX($D$8:D9594)-1)))","v":""}]
[null,null,null,null,{"$f":"IF(A9595=\"\",\"\",IF(B9595=\"\",E9594,IF(D9595=\"\",E9594,D9595/MAX($D$8:D9595)-1)))","v":""}]
[null,null,null,null,{"$f":"IF(A9596=\"\",\"\",IF(B9596=\"\",E9595,IF(D9596=\"\",E9595,D9596/MAX($D$8:D9596)-1)))","v":""}]
[null,null,null,null,{"$f":"IF(A9597=\"\",\"\",IF(B9597=\"\",E9596,IF(D9597=\"\",E9596,D9597/MAX($D$8:D9597)-1)))","v":""}]
[null,null,null,null,{"$f":"IF(A9598=\"\",\"\",IF(B9598=\"\",E9597,IF(D9598=\"\",E9597,D9598/MAX($D$8:D9598)-1)))","v":""}]
[null,null,null,null,{"$f":"IF(A9599=\"\",\"\",IF(B9599=\"\",E9598,IF(D9599=\"\",E9598,D9599/MAX($D$8:D9599)-1)))","v":""}]
[null,null,null,null,{"$f":"IF(A9600=\"\",\"\",IF(B9600=\"\",E9599,IF(D9600=\"\",E9599,D9600/MAX($D$8:D9600)-1)))","v":""}]
[null,null,null,null,{"$f":"IF(A9601=\"\",\"\",IF(B9601=\"\",E9600,IF(D9601=\"\",E9600,D9601/MAX($D$8:D9601)-1)))","v":""}]
[null,null,null,null,{"$f":"IF(A9602=\"\",\"\",IF(B9602=\"\",E9601,IF(D9602=\"\",E9601,D9602/MAX($D$8:D9602)-1)))","v":""}]
[null,null,null,null,{"$f":"IF(A9603=\"\",\"\",IF(B9603=\"\",E9602,IF(D9603=\"\",E9602,D9603/MAX($D$8:D9603)-1)))","v":""}]
[null,null,null,null,{"$f":"IF(A9604=\"\",\"\",IF(B9604=\"\",E9603,IF(D9604=\"\",E9603,D9604/MAX($D$8:D9604)-1)))","v":""}]
[null,null,null,null,{"$f":"IF(A9605=\"\",\"\",IF(B9605=\"\",E9604,IF(D9605=\"\",E9604,D9605/MAX($D$8:D9605)-1)))","v":""}]
[null,null,null,null,{"$f":"IF(A9606=\"\",\"\",IF(B9606=\"\",E9605,IF(D9606=\"\",E9605,D9606/MAX($D$8:D9606)-1)))","v":""}]
[null,null,null,null,{"$f":"IF(A9607=\"\",\"\",IF(B9607=\"\",E9606,IF(D9607=\"\",E9606,D9607/MAX($D$8:D9607)-1)))","v":""}]
[null,null,null,null,{"$f":"IF(A9608=\"\",\"\",IF(B9608=\"\",E9607,IF(D9608=\"\",E9607,D9608/MAX($D$8:D9608)-1)))","v":""}]
[null,null,null,null,{"$f":"IF(A9609=\"\",\"\",IF(B9609=\"\",E9608,IF(D9609=\"\",E9608,D9609/MAX($D$8:D9609)-1)))","v":""}]
[null,null,null,null,{"$f":"IF(A9610=\"\",\"\",IF(B9610=\"\",E9609,IF(D9610=\"\",E9609,D9610/MAX($D$8:D9610)-1)))","v":""}]
[null,null,null,null,{"$f":"IF(A9611=\"\",\"\",IF(B9611=\"\",E9610,IF(D9611=\"\",E9610,D9611/MAX($D$8:D9611)-1)))","v":""}]
[null,null,null,null,{"$f":"IF(A9612=\"\",\"\",IF(B9612=\"\",E9611,IF(D9612=\"\",E9611,D9612/MAX($D$8:D9612)-1)))","v":""}]
[null,null,null,null,{"$f":"IF(A9613=\"\",\"\",IF(B9613=\"\",E9612,IF(D9613=\"\",E9612,D9613/MAX($D$8:D9613)-1)))","v":""}]
[null,null,null,null,{"$f":"IF(A9614=\"\",\"\",IF(B9614=\"\",E9613,IF(D9614=\"\",E9613,D9614/MAX($D$8:D9614)-1)))","v":""}]
[null,null,null,null,{"$f":"IF(A9615=\"\",\"\",IF(B9615=\"\",E9614,IF(D9615=\"\",E9614,D9615/MAX($D$8:D9615)-1)))","v":""}]
[null,null,null,null,{"$f":"IF(A9616=\"\",\"\",IF(B9616=\"\",E9615,IF(D9616=\"\",E9615,D9616/MAX($D$8:D9616)-1)))","v":""}]
[null,null,null,null,{"$f":"IF(A9617=\"\",\"\",IF(B9617=\"\",E9616,IF(D9617=\"\",E9616,D9617/MAX($D$8:D9617)-1)))","v":""}]
[null,null,null,null,{"$f":"IF(A9618=\"\",\"\",IF(B9618=\"\",E9617,IF(D9618=\"\",E9617,D9618/MAX($D$8:D9618)-1)))","v":""}]
[null,null,null,null,{"$f":"IF(A9619=\"\",\"\",IF(B9619=\"\",E9618,IF(D9619=\"\",E9618,D9619/MAX($D$8:D9619)-1)))","v":""}]
[null,null,null,null,{"$f":"IF(A9620=\"\",\"\",IF(B9620=\"\",E9619,IF(D9620=\"\",E9619,D9620/MAX($D$8:D9620)-1)))","v":""}]
[null,null,null,null,{"$f":"IF(A9621=\"\",\"\",IF(B9621=\"\",E9620,IF(D9621=\"\",E9620,D9621/MAX($D$8:D9621)-1)))","v":""}]
[null,null,null,null,{"$f":"IF(A9622=\"\",\"\",IF(B9622=\"\",E9621,IF(D9622=\"\",E9621,D9622/MAX($D$8:D9622)-1)))","v":""}]
[null,null,null,null,{"$f":"IF(A9623=\"\",\"\",IF(B9623=\"\",E9622,IF(D9623=\"\",E9622,D9623/MAX($D$8:D9623)-1)))","v":""}]
[null,null,null,null,{"$f":"IF(A9624=\"\",\"\",IF(B9624=\"\",E9623,IF(D9624=\"\",E9623,D9624/MAX($D$8:D9624)-1)))","v":""}]
[null,null,null,null,{"$f":"IF(A9625=\"\",\"\",IF(B9625=\"\",E9624,IF(D9625=\"\",E9624,D9625/MAX($D$8:D9625)-1)))","v":""}]
[null,null,null,null,{"$f":"IF(A9626=\"\",\"\",IF(B9626=\"\",E9625,IF(D9626=\"\",E9625,D9626/MAX($D$8:D9626)-1)))","v":""}]
[null,null,null,null,{"$f":"IF(A9627=\"\",\"\",IF(B9627=\"\",E9626,IF(D9627=\"\",E9626,D9627/MAX($D$8:D9627)-1)))","v":""}]
[null,null,null,null,{"$f":"IF(A9628=\"\",\"\",IF(B9628=\"\",E9627,IF(D9628=\"\",E9627,D9628/MAX($D$8:D9628)-1)))","v":""}]
[null,null,null,null,{"$f":"IF(A9629=\"\",\"\",IF(B9629=\"\",E9628,IF(D9629=\"\",E9628,D9629/MAX($D$8:D9629)-1)))","v":""}]
[null,null,null,null,{"$f":"IF(A9630=\"\",\"\",IF(B9630=\"\",E9629,IF(D9630=\"\",E9629,D9630/MAX($D$8:D9630)-1)))","v":""}]
[null,null,null,null,{"$f":"IF(A9631=\"\",\"\",IF(B9631=\"\",E9630,IF(D9631=\"\",E9630,D9631/MAX($D$8:D9631)-1)))","v":""}]
[null,null,null,null,{"$f":"IF(A9632=\"\",\"\",IF(B9632=\"\",E9631,IF(D9632=\"\",E9631,D9632/MAX($D$8:D9632)-1)))","v":""}]
[null,null,null,null,{"$f":"IF(A9633=\"\",\"\",IF(B9633=\"\",E9632,IF(D9633=\"\",E9632,D9633/MAX($D$8:D9633)-1)))","v":""}]
[null,null,null,null,{"$f":"IF(A9634=\"\",\"\",IF(B9634=\"\",E9633,IF(D9634=\"\",E9633,D9634/MAX($D$8:D9634)-1)))","v":""}]
[null,null,null,null,{"$f":"IF(A9635=\"\",\"\",IF(B9635=\"\",E9634,IF(D9635=\"\",E9634,D9635/MAX($D$8:D9635)-1)))","v":""}]
[null,null,null,null,{"$f":"IF(A9636=\"\",\"\",IF(B9636=\"\",E9635,IF(D9636=\"\",E9635,D9636/MAX($D$8:D9636)-1)))","v":""}]
[null,null,null,null,{"$f":"IF(A9637=\"\",\"\",IF(B9637=\"\",E9636,IF(D9637=\"\",E9636,D9637/MAX($D$8:D9637)-1)))","v":""}]
[null,null,null,null,{"$f":"IF(A9638=\"\",\"\",IF(B9638=\"\",E9637,IF(D9638=\"\",E9637,D9638/MAX($D$8:D9638)-1)))","v":""}]
[null,null,null,null,{"$f":"IF(A9639=\"\",\"\",IF(B9639=\"\",E9638,IF(D9639=\"\",E9638,D9639/MAX($D$8:D9639)-1)))","v":""}]
[null,null,null,null,{"$f":"IF(A9640=\"\",\"\",IF(B9640=\"\",E9639,IF(D9640=\"\",E9639,D9640/MAX($D$8:D9640)-1)))","v":""}]
[null,null,null,null,{"$f":"IF(A9641=\"\",\"\",IF(B9641=\"\",E9640,IF(D9641=\"\",E9640,D9641/MAX($D$8:D9641)-1)))","v":""}]
[null,null,null,null,{"$f":"IF(A9642=\"\",\"\",IF(B9642=\"\",E9641,IF(D9642=\"\",E9641,D9642/MAX($D$8:D9642)-1)))","v":""}]
[null,null,null,null,{"$f":"IF(A9643=\"\",\"\",IF(B9643=\"\",E9642,IF(D9643=\"\",E9642,D9643/MAX($D$8:D9643)-1)))","v":""}]
[null,null,null,null,{"$f":"IF(A9644=\"\",\"\",IF(B9644=\"\",E9643,IF(D9644=\"\",E9643,D9644/MAX($D$8:D9644)-1)))","v":""}]
[null,null,null,null,{"$f":"IF(A9645=\"\",\"\",IF(B9645=\"\",E9644,IF(D9645=\"\",E9644,D9645/MAX($D$8:D9645)-1)))","v":""}]
[null,null,null,null,{"$f":"IF(A9646=\"\",\"\",IF(B9646=\"\",E9645,IF(D9646=\"\",E9645,D9646/MAX($D$8:D9646)-1)))","v":""}]
[null,null,null,null,{"$f":"IF(A9647=\"\",\"\",IF(B9647=\"\",E9646,IF(D9647=\"\",E9646,D9647/MAX($D$8:D9647)-1)))","v":""}]
[null,null,null,null,{"$f":"IF(A9648=\"\",\"\",IF(B9648=\"\",E9647,IF(D9648=\"\",E9647,D9648/MAX($D$8:D9648)-1)))","v":""}]
[null,null,null,null,{"$f":"IF(A9649=\"\",\"\",IF(B9649=\"\",E9648,IF(D9649=\"\",E9648,D9649/MAX($D$8:D9649)-1)))","v":""}]
[null,null,null,null,{"$f":"IF(A9650=\"\",\"\",IF(B9650=\"\",E9649,IF(D9650=\"\",E9649,D9650/MAX($D$8:D9650)-1)))","v":""}]
[null,null,null,null,{"$f":"IF(A9651=\"\",\"\",IF(B9651=\"\",E9650,IF(D9651=\"\",E9650,D9651/MAX($D$8:D9651)-1)))","v":""}]
[null,null,null,null,{"$f":"IF(A9652=\"\",\"\",IF(B9652=\"\",E9651,IF(D9652=\"\",E9651,D9652/MAX($D$8:D9652)-1)))","v":""}]
[null,null,null,null,{"$f":"IF(A9653=\"\",\"\",IF(B9653=\"\",E9652,IF(D9653=\"\",E9652,D9653/MAX($D$8:D9653)-1)))","v":""}]
[null,null,null,null,{"$f":"IF(A9654=\"\",\"\",IF(B9654=\"\",E9653,IF(D9654=\"\",E9653,D9654/MAX($D$8:D9654)-1)))","v":""}]
[null,null,null,null,{"$f":"IF(A9655=\"\",\"\",IF(B9655=\"\",E9654,IF(D9655=\"\",E9654,D9655/MAX($D$8:D9655)-1)))","v":""}]
[null,null,null,null,{"$f":"IF(A9656=\"\",\"\",IF(B9656=\"\",E9655,IF(D9656=\"\",E9655,D9656/MAX($D$8:D9656)-1)))","v":""}]
[null,null,null,null,{"$f":"IF(A9657=\"\",\"\",IF(B9657=\"\",E9656,IF(D9657=\"\",E9656,D9657/MAX($D$8:D9657)-1)))","v":""}]
[null,null,null,null,{"$f":"IF(A9658=\"\",\"\",IF(B9658=\"\",E9657,IF(D9658=\"\",E9657,D9658/MAX($D$8:D9658)-1)))","v":""}]
[null,null,null,null,{"$f":"IF(A9659=\"\",\"\",IF(B9659=\"\",E9658,IF(D9659=\"\",E9658,D9659/MAX($D$8:D9659)-1)))","v":""}]
[null,null,null,null,{"$f":"IF(A9660=\"\",\"\",IF(B9660=\"\",E9659,IF(D9660=\"\",E9659,D9660/MAX($D$8:D9660)-1)))","v":""}]
[null,null,null,null,{"$f":"IF(A9661=\"\",\"\",IF(B9661=\"\",E9660,IF(D9661=\"\",E9660,D9661/MAX($D$8:D9661)-1)))","v":""}]
[null,null,null,null,{"$f":"IF(A9662=\"\",\"\",IF(B9662=\"\",E9661,IF(D9662=\"\",E9661,D9662/MAX($D$8:D9662)-1)))","v":""}]
[null,null,null,null,{"$f":"IF(A9663=\"\",\"\",IF(B9663=\"\",E9662,IF(D9663=\"\",E9662,D9663/MAX($D$8:D9663)-1)))","v":""}]
[null,null,null,null,{"$f":"IF(A9664=\"\",\"\",IF(B9664=\"\",E9663,IF(D9664=\"\",E9663,D9664/MAX($D$8:D9664)-1)))","v":""}]
[null,null,null,null,{"$f":"IF(A9665=\"\",\"\",IF(B9665=\"\",E9664,IF(D9665=\"\",E9664,D9665/MAX($D$8:D9665)-1)))","v":""}]
[null,null,null,null,{"$f":"IF(A9666=\"\",\"\",IF(B9666=\"\",E9665,IF(D9666=\"\",E9665,D9666/MAX($D$8:D9666)-1)))","v":""}]
[null,null,null,null,{"$f":"IF(A9667=\"\",\"\",IF(B9667=\"\",E9666,IF(D9667=\"\",E9666,D9667/MAX($D$8:D9667)-1)))","v":""}]
[null,null,null,null,{"$f":"IF(A9668=\"\",\"\",IF(B9668=\"\",E9667,IF(D9668=\"\",E9667,D9668/MAX($D$8:D9668)-1)))","v":""}]
[null,null,null,null,{"$f":"IF(A9669=\"\",\"\",IF(B9669=\"\",E9668,IF(D9669=\"\",E9668,D9669/MAX($D$8:D9669)-1)))","v":""}]
[null,null,null,null,{"$f":"IF(A9670=\"\",\"\",IF(B9670=\"\",E9669,IF(D9670=\"\",E9669,D9670/MAX($D$8:D9670)-1)))","v":""}]
[null,null,null,null,{"$f":"IF(A9671=\"\",\"\",IF(B9671=\"\",E9670,IF(D9671=\"\",E9670,D9671/MAX($D$8:D9671)-1)))","v":""}]
[null,null,null,null,{"$f":"IF(A9672=\"\",\"\",IF(B9672=\"\",E9671,IF(D9672=\"\",E9671,D9672/MAX($D$8:D9672)-1)))","v":""}]
[null,null,null,null,{"$f":"IF(A9673=\"\",\"\",IF(B9673=\"\",E9672,IF(D9673=\"\",E9672,D9673/MAX($D$8:D9673)-1)))","v":""}]
[null,null,null,null,{"$f":"IF(A9674=\"\",\"\",IF(B9674=\"\",E9673,IF(D9674=\"\",E9673,D9674/MAX($D$8:D9674)-1)))","v":""}]
[null,null,null,null,{"$f":"IF(A9675=\"\",\"\",IF(B9675=\"\",E9674,IF(D9675=\"\",E9674,D9675/MAX($D$8:D9675)-1)))","v":""}]
[null,null,null,null,{"$f":"IF(A9676=\"\",\"\",IF(B9676=\"\",E9675,IF(D9676=\"\",E9675,D9676/MAX($D$8:D9676)-1)))","v":""}]
[null,null,null,null,{"$f":"IF(A9677=\"\",\"\",IF(B9677=\"\",E9676,IF(D9677=\"\",E9676,D9677/MAX($D$8:D9677)-1)))","v":""}]
[null,null,null,null,{"$f":"IF(A9678=\"\",\"\",IF(B9678=\"\",E9677,IF(D9678=\"\",E9677,D9678/MAX($D$8:D9678)-1)))","v":""}]
[null,null,null,null,{"$f":"IF(A9679=\"\",\"\",IF(B9679=\"\",E9678,IF(D9679=\"\",E9678,D9679/MAX($D$8:D9679)-1)))","v":""}]
[null,null,null,null,{"$f":"IF(A9680=\"\",\"\",IF(B9680=\"\",E9679,IF(D9680=\"\",E9679,D9680/MAX($D$8:D9680)-1)))","v":""}]
[null,null,null,null,{"$f":"IF(A9681=\"\",\"\",IF(B9681=\"\",E9680,IF(D9681=\"\",E9680,D9681/MAX($D$8:D9681)-1)))","v":""}]
[null,null,null,null,{"$f":"IF(A9682=\"\",\"\",IF(B9682=\"\",E9681,IF(D9682=\"\",E9681,D9682/MAX($D$8:D9682)-1)))","v":""}]
[null,null,null,null,{"$f":"IF(A9683=\"\",\"\",IF(B9683=\"\",E9682,IF(D9683=\"\",E9682,D9683/MAX($D$8:D9683)-1)))","v":""}]
[null,null,null,null,{"$f":"IF(A9684=\"\",\"\",IF(B9684=\"\",E9683,IF(D9684=\"\",E9683,D9684/MAX($D$8:D9684)-1)))","v":""}]
[null,null,null,null,{"$f":"IF(A9685=\"\",\"\",IF(B9685=\"\",E9684,IF(D9685=\"\",E9684,D9685/MAX($D$8:D9685)-1)))","v":""}]
[null,null,null,null,{"$f":"IF(A9686=\"\",\"\",IF(B9686=\"\",E9685,IF(D9686=\"\",E9685,D9686/MAX($D$8:D9686)-1)))","v":""}]
[null,null,null,null,{"$f":"IF(A9687=\"\",\"\",IF(B9687=\"\",E9686,IF(D9687=\"\",E9686,D9687/MAX($D$8:D9687)-1)))","v":""}]
[null,null,null,null,{"$f":"IF(A9688=\"\",\"\",IF(B9688=\"\",E9687,IF(D9688=\"\",E9687,D9688/MAX($D$8:D9688)-1)))","v":""}]
[null,null,null,null,{"$f":"IF(A9689=\"\",\"\",IF(B9689=\"\",E9688,IF(D9689=\"\",E9688,D9689/MAX($D$8:D9689)-1)))","v":""}]
[null,null,null,null,{"$f":"IF(A9690=\"\",\"\",IF(B9690=\"\",E9689,IF(D9690=\"\",E9689,D9690/MAX($D$8:D9690)-1)))","v":""}]
[null,null,null,null,{"$f":"IF(A9691=\"\",\"\",IF(B9691=\"\",E9690,IF(D9691=\"\",E9690,D9691/MAX($D$8:D9691)-1)))","v":""}]
[null,null,null,null,{"$f":"IF(A9692=\"\",\"\",IF(B9692=\"\",E9691,IF(D9692=\"\",E9691,D9692/MAX($D$8:D9692)-1)))","v":""}]
[null,null,null,null,{"$f":"IF(A9693=\"\",\"\",IF(B9693=\"\",E9692,IF(D9693=\"\",E9692,D9693/MAX($D$8:D9693)-1)))","v":""}]
[null,null,null,null,{"$f":"IF(A9694=\"\",\"\",IF(B9694=\"\",E9693,IF(D9694=\"\",E9693,D9694/MAX($D$8:D9694)-1)))","v":""}]
[null,null,null,null,{"$f":"IF(A9695=\"\",\"\",IF(B9695=\"\",E9694,IF(D9695=\"\",E9694,D9695/MAX($D$8:D9695)-1)))","v":""}]
[null,null,null,null,{"$f":"IF(A9696=\"\",\"\",IF(B9696=\"\",E9695,IF(D9696=\"\",E9695,D9696/MAX($D$8:D9696)-1)))","v":""}]
[null,null,null,null,{"$f":"IF(A9697=\"\",\"\",IF(B9697=\"\",E9696,IF(D9697=\"\",E9696,D9697/MAX($D$8:D9697)-1)))","v":""}]
[null,null,null,null,{"$f":"IF(A9698=\"\",\"\",IF(B9698=\"\",E9697,IF(D9698=\"\",E9697,D9698/MAX($D$8:D9698)-1)))","v":""}]
[null,null,null,null,{"$f":"IF(A9699=\"\",\"\",IF(B9699=\"\",E9698,IF(D9699=\"\",E9698,D9699/MAX($D$8:D9699)-1)))","v":""}]
[null,null,null,null,{"$f":"IF(A9700=\"\",\"\",IF(B9700=\"\",E9699,IF(D9700=\"\",E9699,D9700/MAX($D$8:D9700)-1)))","v":""}]
[null,null,null,null,{"$f":"IF(A9701=\"\",\"\",IF(B9701=\"\",E9700,IF(D9701=\"\",E9700,D9701/MAX($D$8:D9701)-1)))","v":""}]
[null,null,null,null,{"$f":"IF(A9702=\"\",\"\",IF(B9702=\"\",E9701,IF(D9702=\"\",E9701,D9702/MAX($D$8:D9702)-1)))","v":""}]
[null,null,null,null,{"$f":"IF(A9703=\"\",\"\",IF(B9703=\"\",E9702,IF(D9703=\"\",E9702,D9703/MAX($D$8:D9703)-1)))","v":""}]
[null,null,null,null,{"$f":"IF(A9704=\"\",\"\",IF(B9704=\"\",E9703,IF(D9704=\"\",E9703,D9704/MAX($D$8:D9704)-1)))","v":""}]
[null,null,null,null,{"$f":"IF(A9705=\"\",\"\",IF(B9705=\"\",E9704,IF(D9705=\"\",E9704,D9705/MAX($D$8:D9705)-1)))","v":""}]
[null,null,null,null,{"$f":"IF(A9706=\"\",\"\",IF(B9706=\"\",E9705,IF(D9706=\"\",E9705,D9706/MAX($D$8:D9706)-1)))","v":""}]
[null,null,null,null,{"$f":"IF(A9707=\"\",\"\",IF(B9707=\"\",E9706,IF(D9707=\"\",E9706,D9707/MAX($D$8:D9707)-1)))","v":""}]
[null,null,null,null,{"$f":"IF(A9708=\"\",\"\",IF(B9708=\"\",E9707,IF(D9708=\"\",E9707,D9708/MAX($D$8:D9708)-1)))","v":""}]
[null,null,null,null,{"$f":"IF(A9709=\"\",\"\",IF(B9709=\"\",E9708,IF(D9709=\"\",E9708,D9709/MAX($D$8:D9709)-1)))","v":""}]
[null,null,null,null,{"$f":"IF(A9710=\"\",\"\",IF(B9710=\"\",E9709,IF(D9710=\"\",E9709,D9710/MAX($D$8:D9710)-1)))","v":""}]
[null,null,null,null,{"$f":"IF(A9711=\"\",\"\",IF(B9711=\"\",E9710,IF(D9711=\"\",E9710,D9711/MAX($D$8:D9711)-1)))","v":""}]
[null,null,null,null,{"$f":"IF(A9712=\"\",\"\",IF(B9712=\"\",E9711,IF(D9712=\"\",E9711,D9712/MAX($D$8:D9712)-1)))","v":""}]
[null,null,null,null,{"$f":"IF(A9713=\"\",\"\",IF(B9713=\"\",E9712,IF(D9713=\"\",E9712,D9713/MAX($D$8:D9713)-1)))","v":""}]
[null,null,null,null,{"$f":"IF(A9714=\"\",\"\",IF(B9714=\"\",E9713,IF(D9714=\"\",E9713,D9714/MAX($D$8:D9714)-1)))","v":""}]
[null,null,null,null,{"$f":"IF(A9715=\"\",\"\",IF(B9715=\"\",E9714,IF(D9715=\"\",E9714,D9715/MAX($D$8:D9715)-1)))","v":""}]
[null,null,null,null,{"$f":"IF(A9716=\"\",\"\",IF(B9716=\"\",E9715,IF(D9716=\"\",E9715,D9716/MAX($D$8:D9716)-1)))","v":""}]
[null,null,null,null,{"$f":"IF(A9717=\"\",\"\",IF(B9717=\"\",E9716,IF(D9717=\"\",E9716,D9717/MAX($D$8:D9717)-1)))","v":""}]
[null,null,null,null,{"$f":"IF(A9718=\"\",\"\",IF(B9718=\"\",E9717,IF(D9718=\"\",E9717,D9718/MAX($D$8:D9718)-1)))","v":""}]
[null,null,null,null,{"$f":"IF(A9719=\"\",\"\",IF(B9719=\"\",E9718,IF(D9719=\"\",E9718,D9719/MAX($D$8:D9719)-1)))","v":""}]
[null,null,null,null,{"$f":"IF(A9720=\"\",\"\",IF(B9720=\"\",E9719,IF(D9720=\"\",E9719,D9720/MAX($D$8:D9720)-1)))","v":""}]
[null,null,null,null,{"$f":"IF(A9721=\"\",\"\",IF(B9721=\"\",E9720,IF(D9721=\"\",E9720,D9721/MAX($D$8:D9721)-1)))","v":""}]
[null,null,null,null,{"$f":"IF(A9722=\"\",\"\",IF(B9722=\"\",E9721,IF(D9722=\"\",E9721,D9722/MAX($D$8:D9722)-1)))","v":""}]
[null,null,null,null,{"$f":"IF(A9723=\"\",\"\",IF(B9723=\"\",E9722,IF(D9723=\"\",E9722,D9723/MAX($D$8:D9723)-1)))","v":""}]
[null,null,null,null,{"$f":"IF(A9724=\"\",\"\",IF(B9724=\"\",E9723,IF(D9724=\"\",E9723,D9724/MAX($D$8:D9724)-1)))","v":""}]
[null,null,null,null,{"$f":"IF(A9725=\"\",\"\",IF(B9725=\"\",E9724,IF(D9725=\"\",E9724,D9725/MAX($D$8:D9725)-1)))","v":""}]
[null,null,null,null,{"$f":"IF(A9726=\"\",\"\",IF(B9726=\"\",E9725,IF(D9726=\"\",E9725,D9726/MAX($D$8:D9726)-1)))","v":""}]
[null,null,null,null,{"$f":"IF(A9727=\"\",\"\",IF(B9727=\"\",E9726,IF(D9727=\"\",E9726,D9727/MAX($D$8:D9727)-1)))","v":""}]
[null,null,null,null,{"$f":"IF(A9728=\"\",\"\",IF(B9728=\"\",E9727,IF(D9728=\"\",E9727,D9728/MAX($D$8:D9728)-1)))","v":""}]
[null,null,null,null,{"$f":"IF(A9729=\"\",\"\",IF(B9729=\"\",E9728,IF(D9729=\"\",E9728,D9729/MAX($D$8:D9729)-1)))","v":""}]
[null,null,null,null,{"$f":"IF(A9730=\"\",\"\",IF(B9730=\"\",E9729,IF(D9730=\"\",E9729,D9730/MAX($D$8:D9730)-1)))","v":""}]
[null,null,null,null,{"$f":"IF(A9731=\"\",\"\",IF(B9731=\"\",E9730,IF(D9731=\"\",E9730,D9731/MAX($D$8:D9731)-1)))","v":""}]
[null,null,null,null,{"$f":"IF(A9732=\"\",\"\",IF(B9732=\"\",E9731,IF(D9732=\"\",E9731,D9732/MAX($D$8:D9732)-1)))","v":""}]
[null,null,null,null,{"$f":"IF(A9733=\"\",\"\",IF(B9733=\"\",E9732,IF(D9733=\"\",E9732,D9733/MAX($D$8:D9733)-1)))","v":""}]
[null,null,null,null,{"$f":"IF(A9734=\"\",\"\",IF(B9734=\"\",E9733,IF(D9734=\"\",E9733,D9734/MAX($D$8:D9734)-1)))","v":""}]
[null,null,null,null,{"$f":"IF(A9735=\"\",\"\",IF(B9735=\"\",E9734,IF(D9735=\"\",E9734,D9735/MAX($D$8:D9735)-1)))","v":""}]
[null,null,null,null,{"$f":"IF(A9736=\"\",\"\",IF(B9736=\"\",E9735,IF(D9736=\"\",E9735,D9736/MAX($D$8:D9736)-1)))","v":""}]
[null,null,null,null,{"$f":"IF(A9737=\"\",\"\",IF(B9737=\"\",E9736,IF(D9737=\"\",E9736,D9737/MAX($D$8:D9737)-1)))","v":""}]
[null,null,null,null,{"$f":"IF(A9738=\"\",\"\",IF(B9738=\"\",E9737,IF(D9738=\"\",E9737,D9738/MAX($D$8:D9738)-1)))","v":""}]
[null,null,null,null,{"$f":"IF(A9739=\"\",\"\",IF(B9739=\"\",E9738,IF(D9739=\"\",E9738,D9739/MAX($D$8:D9739)-1)))","v":""}]
[null,null,null,null,{"$f":"IF(A9740=\"\",\"\",IF(B9740=\"\",E9739,IF(D9740=\"\",E9739,D9740/MAX($D$8:D9740)-1)))","v":""}]
[null,null,null,null,{"$f":"IF(A9741=\"\",\"\",IF(B9741=\"\",E9740,IF(D9741=\"\",E9740,D9741/MAX($D$8:D9741)-1)))","v":""}]
[null,null,null,null,{"$f":"IF(A9742=\"\",\"\",IF(B9742=\"\",E9741,IF(D9742=\"\",E9741,D9742/MAX($D$8:D9742)-1)))","v":""}]
[null,null,null,null,{"$f":"IF(A9743=\"\",\"\",IF(B9743=\"\",E9742,IF(D9743=\"\",E9742,D9743/MAX($D$8:D9743)-1)))","v":""}]
[null,null,null,null,{"$f":"IF(A9744=\"\",\"\",IF(B9744=\"\",E9743,IF(D9744=\"\",E9743,D9744/MAX($D$8:D9744)-1)))","v":""}]
[null,null,null,null,{"$f":"IF(A9745=\"\",\"\",IF(B9745=\"\",E9744,IF(D9745=\"\",E9744,D9745/MAX($D$8:D9745)-1)))","v":""}]
[null,null,null,null,{"$f":"IF(A9746=\"\",\"\",IF(B9746=\"\",E9745,IF(D9746=\"\",E9745,D9746/MAX($D$8:D9746)-1)))","v":""}]
[null,null,null,null,{"$f":"IF(A9747=\"\",\"\",IF(B9747=\"\",E9746,IF(D9747=\"\",E9746,D9747/MAX($D$8:D9747)-1)))","v":""}]
[null,null,null,null,{"$f":"IF(A9748=\"\",\"\",IF(B9748=\"\",E9747,IF(D9748=\"\",E9747,D9748/MAX($D$8:D9748)-1)))","v":""}]
[null,null,null,null,{"$f":"IF(A9749=\"\",\"\",IF(B9749=\"\",E9748,IF(D9749=\"\",E9748,D9749/MAX($D$8:D9749)-1)))","v":""}]
[null,null,null,null,{"$f":"IF(A9750=\"\",\"\",IF(B9750=\"\",E9749,IF(D9750=\"\",E9749,D9750/MAX($D$8:D9750)-1)))","v":""}]
[null,null,null,null,{"$f":"IF(A9751=\"\",\"\",IF(B9751=\"\",E9750,IF(D9751=\"\",E9750,D9751/MAX($D$8:D9751)-1)))","v":""}]
[null,null,null,null,{"$f":"IF(A9752=\"\",\"\",IF(B9752=\"\",E9751,IF(D9752=\"\",E9751,D9752/MAX($D$8:D9752)-1)))","v":""}]
[null,null,null,null,{"$f":"IF(A9753=\"\",\"\",IF(B9753=\"\",E9752,IF(D9753=\"\",E9752,D9753/MAX($D$8:D9753)-1)))","v":""}]
[null,null,null,null,{"$f":"IF(A9754=\"\",\"\",IF(B9754=\"\",E9753,IF(D9754=\"\",E9753,D9754/MAX($D$8:D9754)-1)))","v":""}]
[null,null,null,null,{"$f":"IF(A9755=\"\",\"\",IF(B9755=\"\",E9754,IF(D9755=\"\",E9754,D9755/MAX($D$8:D9755)-1)))","v":""}]
[null,null,null,null,{"$f":"IF(A9756=\"\",\"\",IF(B9756=\"\",E9755,IF(D9756=\"\",E9755,D9756/MAX($D$8:D9756)-1)))","v":""}]
[null,null,null,null,{"$f":"IF(A9757=\"\",\"\",IF(B9757=\"\",E9756,IF(D9757=\"\",E9756,D9757/MAX($D$8:D9757)-1)))","v":""}]
[null,null,null,null,{"$f":"IF(A9758=\"\",\"\",IF(B9758=\"\",E9757,IF(D9758=\"\",E9757,D9758/MAX($D$8:D9758)-1)))","v":""}]
[null,null,null,null,{"$f":"IF(A9759=\"\",\"\",IF(B9759=\"\",E9758,IF(D9759=\"\",E9758,D9759/MAX($D$8:D9759)-1)))","v":""}]
[null,null,null,null,{"$f":"IF(A9760=\"\",\"\",IF(B9760=\"\",E9759,IF(D9760=\"\",E9759,D9760/MAX($D$8:D9760)-1)))","v":""}]
[null,null,null,null,{"$f":"IF(A9761=\"\",\"\",IF(B9761=\"\",E9760,IF(D9761=\"\",E9760,D9761/MAX($D$8:D9761)-1)))","v":""}]
[null,null,null,null,{"$f":"IF(A9762=\"\",\"\",IF(B9762=\"\",E9761,IF(D9762=\"\",E9761,D9762/MAX($D$8:D9762)-1)))","v":""}]
[null,null,null,null,{"$f":"IF(A9763=\"\",\"\",IF(B9763=\"\",E9762,IF(D9763=\"\",E9762,D9763/MAX($D$8:D9763)-1)))","v":""}]
[null,null,null,null,{"$f":"IF(A9764=\"\",\"\",IF(B9764=\"\",E9763,IF(D9764=\"\",E9763,D9764/MAX($D$8:D9764)-1)))","v":""}]
[null,null,null,null,{"$f":"IF(A9765=\"\",\"\",IF(B9765=\"\",E9764,IF(D9765=\"\",E9764,D9765/MAX($D$8:D9765)-1)))","v":""}]
[null,null,null,null,{"$f":"IF(A9766=\"\",\"\",IF(B9766=\"\",E9765,IF(D9766=\"\",E9765,D9766/MAX($D$8:D9766)-1)))","v":""}]
[null,null,null,null,{"$f":"IF(A9767=\"\",\"\",IF(B9767=\"\",E9766,IF(D9767=\"\",E9766,D9767/MAX($D$8:D9767)-1)))","v":""}]
[null,null,null,null,{"$f":"IF(A9768=\"\",\"\",IF(B9768=\"\",E9767,IF(D9768=\"\",E9767,D9768/MAX($D$8:D9768)-1)))","v":""}]
[null,null,null,null,{"$f":"IF(A9769=\"\",\"\",IF(B9769=\"\",E9768,IF(D9769=\"\",E9768,D9769/MAX($D$8:D9769)-1)))","v":""}]
[null,null,null,null,{"$f":"IF(A9770=\"\",\"\",IF(B9770=\"\",E9769,IF(D9770=\"\",E9769,D9770/MAX($D$8:D9770)-1)))","v":""}]
[null,null,null,null,{"$f":"IF(A9771=\"\",\"\",IF(B9771=\"\",E9770,IF(D9771=\"\",E9770,D9771/MAX($D$8:D9771)-1)))","v":""}]
[null,null,null,null,{"$f":"IF(A9772=\"\",\"\",IF(B9772=\"\",E9771,IF(D9772=\"\",E9771,D9772/MAX($D$8:D9772)-1)))","v":""}]
[null,null,null,null,{"$f":"IF(A9773=\"\",\"\",IF(B9773=\"\",E9772,IF(D9773=\"\",E9772,D9773/MAX($D$8:D9773)-1)))","v":""}]
[null,null,null,null,{"$f":"IF(A9774=\"\",\"\",IF(B9774=\"\",E9773,IF(D9774=\"\",E9773,D9774/MAX($D$8:D9774)-1)))","v":""}]
[null,null,null,null,{"$f":"IF(A9775=\"\",\"\",IF(B9775=\"\",E9774,IF(D9775=\"\",E9774,D9775/MAX($D$8:D9775)-1)))","v":""}]
[null,null,null,null,{"$f":"IF(A9776=\"\",\"\",IF(B9776=\"\",E9775,IF(D9776=\"\",E9775,D9776/MAX($D$8:D9776)-1)))","v":""}]
[null,null,null,null,{"$f":"IF(A9777=\"\",\"\",IF(B9777=\"\",E9776,IF(D9777=\"\",E9776,D9777/MAX($D$8:D9777)-1)))","v":""}]
[null,null,null,null,{"$f":"IF(A9778=\"\",\"\",IF(B9778=\"\",E9777,IF(D9778=\"\",E9777,D9778/MAX($D$8:D9778)-1)))","v":""}]
[null,null,null,null,{"$f":"IF(A9779=\"\",\"\",IF(B9779=\"\",E9778,IF(D9779=\"\",E9778,D9779/MAX($D$8:D9779)-1)))","v":""}]
[null,null,null,null,{"$f":"IF(A9780=\"\",\"\",IF(B9780=\"\",E9779,IF(D9780=\"\",E9779,D9780/MAX($D$8:D9780)-1)))","v":""}]
[null,null,null,null,{"$f":"IF(A9781=\"\",\"\",IF(B9781=\"\",E9780,IF(D9781=\"\",E9780,D9781/MAX($D$8:D9781)-1)))","v":""}]
[null,null,null,null,{"$f":"IF(A9782=\"\",\"\",IF(B9782=\"\",E9781,IF(D9782=\"\",E9781,D9782/MAX($D$8:D9782)-1)))","v":""}]
[null,null,null,null,{"$f":"IF(A9783=\"\",\"\",IF(B9783=\"\",E9782,IF(D9783=\"\",E9782,D9783/MAX($D$8:D9783)-1)))","v":""}]
[null,null,null,null,{"$f":"IF(A9784=\"\",\"\",IF(B9784=\"\",E9783,IF(D9784=\"\",E9783,D9784/MAX($D$8:D9784)-1)))","v":""}]
[null,null,null,null,{"$f":"IF(A9785=\"\",\"\",IF(B9785=\"\",E9784,IF(D9785=\"\",E9784,D9785/MAX($D$8:D9785)-1)))","v":""}]
[null,null,null,null,{"$f":"IF(A9786=\"\",\"\",IF(B9786=\"\",E9785,IF(D9786=\"\",E9785,D9786/MAX($D$8:D9786)-1)))","v":""}]
[null,null,null,null,{"$f":"IF(A9787=\"\",\"\",IF(B9787=\"\",E9786,IF(D9787=\"\",E9786,D9787/MAX($D$8:D9787)-1)))","v":""}]
[null,null,null,null,{"$f":"IF(A9788=\"\",\"\",IF(B9788=\"\",E9787,IF(D9788=\"\",E9787,D9788/MAX($D$8:D9788)-1)))","v":""}]
[null,null,null,null,{"$f":"IF(A9789=\"\",\"\",IF(B9789=\"\",E9788,IF(D9789=\"\",E9788,D9789/MAX($D$8:D9789)-1)))","v":""}]
[null,null,null,null,{"$f":"IF(A9790=\"\",\"\",IF(B9790=\"\",E9789,IF(D9790=\"\",E9789,D9790/MAX($D$8:D9790)-1)))","v":""}]
[null,null,null,null,{"$f":"IF(A9791=\"\",\"\",IF(B9791=\"\",E9790,IF(D9791=\"\",E9790,D9791/MAX($D$8:D9791)-1)))","v":""}]
[null,null,null,null,{"$f":"IF(A9792=\"\",\"\",IF(B9792=\"\",E9791,IF(D9792=\"\",E9791,D9792/MAX($D$8:D9792)-1)))","v":""}]
[null,null,null,null,{"$f":"IF(A9793=\"\",\"\",IF(B9793=\"\",E9792,IF(D9793=\"\",E9792,D9793/MAX($D$8:D9793)-1)))","v":""}]
[null,null,null,null,{"$f":"IF(A9794=\"\",\"\",IF(B9794=\"\",E9793,IF(D9794=\"\",E9793,D9794/MAX($D$8:D9794)-1)))","v":""}]
[null,null,null,null,{"$f":"IF(A9795=\"\",\"\",IF(B9795=\"\",E9794,IF(D9795=\"\",E9794,D9795/MAX($D$8:D9795)-1)))","v":""}]
[null,null,null,null,{"$f":"IF(A9796=\"\",\"\",IF(B9796=\"\",E9795,IF(D9796=\"\",E9795,D9796/MAX($D$8:D9796)-1)))","v":""}]
[null,null,null,null,{"$f":"IF(A9797=\"\",\"\",IF(B9797=\"\",E9796,IF(D9797=\"\",E9796,D9797/MAX($D$8:D9797)-1)))","v":""}]
[null,null,null,null,{"$f":"IF(A9798=\"\",\"\",IF(B9798=\"\",E9797,IF(D9798=\"\",E9797,D9798/MAX($D$8:D9798)-1)))","v":""}]
[null,null,null,null,{"$f":"IF(A9799=\"\",\"\",IF(B9799=\"\",E9798,IF(D9799=\"\",E9798,D9799/MAX($D$8:D9799)-1)))","v":""}]
[null,null,null,null,{"$f":"IF(A9800=\"\",\"\",IF(B9800=\"\",E9799,IF(D9800=\"\",E9799,D9800/MAX($D$8:D9800)-1)))","v":""}]
[null,null,null,null,{"$f":"IF(A9801=\"\",\"\",IF(B9801=\"\",E9800,IF(D9801=\"\",E9800,D9801/MAX($D$8:D9801)-1)))","v":""}]
[null,null,null,null,{"$f":"IF(A9802=\"\",\"\",IF(B9802=\"\",E9801,IF(D9802=\"\",E9801,D9802/MAX($D$8:D9802)-1)))","v":""}]
[null,null,null,null,{"$f":"IF(A9803=\"\",\"\",IF(B9803=\"\",E9802,IF(D9803=\"\",E9802,D9803/MAX($D$8:D9803)-1)))","v":""}]
[null,null,null,null,{"$f":"IF(A9804=\"\",\"\",IF(B9804=\"\",E9803,IF(D9804=\"\",E9803,D9804/MAX($D$8:D9804)-1)))","v":""}]
[null,null,null,null,{"$f":"IF(A9805=\"\",\"\",IF(B9805=\"\",E9804,IF(D9805=\"\",E9804,D9805/MAX($D$8:D9805)-1)))","v":""}]
[null,null,null,null,{"$f":"IF(A9806=\"\",\"\",IF(B9806=\"\",E9805,IF(D9806=\"\",E9805,D9806/MAX($D$8:D9806)-1)))","v":""}]
[null,null,null,null,{"$f":"IF(A9807=\"\",\"\",IF(B9807=\"\",E9806,IF(D9807=\"\",E9806,D9807/MAX($D$8:D9807)-1)))","v":""}]
[null,null,null,null,{"$f":"IF(A9808=\"\",\"\",IF(B9808=\"\",E9807,IF(D9808=\"\",E9807,D9808/MAX($D$8:D9808)-1)))","v":""}]
[null,null,null,null,{"$f":"IF(A9809=\"\",\"\",IF(B9809=\"\",E9808,IF(D9809=\"\",E9808,D9809/MAX($D$8:D9809)-1)))","v":""}]
[null,null,null,null,{"$f":"IF(A9810=\"\",\"\",IF(B9810=\"\",E9809,IF(D9810=\"\",E9809,D9810/MAX($D$8:D9810)-1)))","v":""}]
[null,null,null,null,{"$f":"IF(A9811=\"\",\"\",IF(B9811=\"\",E9810,IF(D9811=\"\",E9810,D9811/MAX($D$8:D9811)-1)))","v":""}]
[null,null,null,null,{"$f":"IF(A9812=\"\",\"\",IF(B9812=\"\",E9811,IF(D9812=\"\",E9811,D9812/MAX($D$8:D9812)-1)))","v":""}]
[null,null,null,null,{"$f":"IF(A9813=\"\",\"\",IF(B9813=\"\",E9812,IF(D9813=\"\",E9812,D9813/MAX($D$8:D9813)-1)))","v":""}]
[null,null,null,null,{"$f":"IF(A9814=\"\",\"\",IF(B9814=\"\",E9813,IF(D9814=\"\",E9813,D9814/MAX($D$8:D9814)-1)))","v":""}]
[null,null,null,null,{"$f":"IF(A9815=\"\",\"\",IF(B9815=\"\",E9814,IF(D9815=\"\",E9814,D9815/MAX($D$8:D9815)-1)))","v":""}]
[null,null,null,null,{"$f":"IF(A9816=\"\",\"\",IF(B9816=\"\",E9815,IF(D9816=\"\",E9815,D9816/MAX($D$8:D9816)-1)))","v":""}]
[null,null,null,null,{"$f":"IF(A9817=\"\",\"\",IF(B9817=\"\",E9816,IF(D9817=\"\",E9816,D9817/MAX($D$8:D9817)-1)))","v":""}]
[null,null,null,null,{"$f":"IF(A9818=\"\",\"\",IF(B9818=\"\",E9817,IF(D9818=\"\",E9817,D9818/MAX($D$8:D9818)-1)))","v":""}]
[null,null,null,null,{"$f":"IF(A9819=\"\",\"\",IF(B9819=\"\",E9818,IF(D9819=\"\",E9818,D9819/MAX($D$8:D9819)-1)))","v":""}]
[null,null,null,null,{"$f":"IF(A9820=\"\",\"\",IF(B9820=\"\",E9819,IF(D9820=\"\",E9819,D9820/MAX($D$8:D9820)-1)))","v":""}]
[null,null,null,null,{"$f":"IF(A9821=\"\",\"\",IF(B9821=\"\",E9820,IF(D9821=\"\",E9820,D9821/MAX($D$8:D9821)-1)))","v":""}]
[null,null,null,null,{"$f":"IF(A9822=\"\",\"\",IF(B9822=\"\",E9821,IF(D9822=\"\",E9821,D9822/MAX($D$8:D9822)-1)))","v":""}]
[null,null,null,null,{"$f":"IF(A9823=\"\",\"\",IF(B9823=\"\",E9822,IF(D9823=\"\",E9822,D9823/MAX($D$8:D9823)-1)))","v":""}]
[null,null,null,null,{"$f":"IF(A9824=\"\",\"\",IF(B9824=\"\",E9823,IF(D9824=\"\",E9823,D9824/MAX($D$8:D9824)-1)))","v":""}]
[null,null,null,null,{"$f":"IF(A9825=\"\",\"\",IF(B9825=\"\",E9824,IF(D9825=\"\",E9824,D9825/MAX($D$8:D9825)-1)))","v":""}]
[null,null,null,null,{"$f":"IF(A9826=\"\",\"\",IF(B9826=\"\",E9825,IF(D9826=\"\",E9825,D9826/MAX($D$8:D9826)-1)))","v":""}]
[null,null,null,null,{"$f":"IF(A9827=\"\",\"\",IF(B9827=\"\",E9826,IF(D9827=\"\",E9826,D9827/MAX($D$8:D9827)-1)))","v":""}]
[null,null,null,null,{"$f":"IF(A9828=\"\",\"\",IF(B9828=\"\",E9827,IF(D9828=\"\",E9827,D9828/MAX($D$8:D9828)-1)))","v":""}]
[null,null,null,null,{"$f":"IF(A9829=\"\",\"\",IF(B9829=\"\",E9828,IF(D9829=\"\",E9828,D9829/MAX($D$8:D9829)-1)))","v":""}]
[null,null,null,null,{"$f":"IF(A9830=\"\",\"\",IF(B9830=\"\",E9829,IF(D9830=\"\",E9829,D9830/MAX($D$8:D9830)-1)))","v":""}]
[null,null,null,null,{"$f":"IF(A9831=\"\",\"\",IF(B9831=\"\",E9830,IF(D9831=\"\",E9830,D9831/MAX($D$8:D9831)-1)))","v":""}]
[null,null,null,null,{"$f":"IF(A9832=\"\",\"\",IF(B9832=\"\",E9831,IF(D9832=\"\",E9831,D9832/MAX($D$8:D9832)-1)))","v":""}]
[null,null,null,null,{"$f":"IF(A9833=\"\",\"\",IF(B9833=\"\",E9832,IF(D9833=\"\",E9832,D9833/MAX($D$8:D9833)-1)))","v":""}]
[null,null,null,null,{"$f":"IF(A9834=\"\",\"\",IF(B9834=\"\",E9833,IF(D9834=\"\",E9833,D9834/MAX($D$8:D9834)-1)))","v":""}]
[null,null,null,null,{"$f":"IF(A9835=\"\",\"\",IF(B9835=\"\",E9834,IF(D9835=\"\",E9834,D9835/MAX($D$8:D9835)-1)))","v":""}]
[null,null,null,null,{"$f":"IF(A9836=\"\",\"\",IF(B9836=\"\",E9835,IF(D9836=\"\",E9835,D9836/MAX($D$8:D9836)-1)))","v":""}]
[null,null,null,null,{"$f":"IF(A9837=\"\",\"\",IF(B9837=\"\",E9836,IF(D9837=\"\",E9836,D9837/MAX($D$8:D9837)-1)))","v":""}]
[null,null,null,null,{"$f":"IF(A9838=\"\",\"\",IF(B9838=\"\",E9837,IF(D9838=\"\",E9837,D9838/MAX($D$8:D9838)-1)))","v":""}]
[null,null,null,null,{"$f":"IF(A9839=\"\",\"\",IF(B9839=\"\",E9838,IF(D9839=\"\",E9838,D9839/MAX($D$8:D9839)-1)))","v":""}]
[null,null,null,null,{"$f":"IF(A9840=\"\",\"\",IF(B9840=\"\",E9839,IF(D9840=\"\",E9839,D9840/MAX($D$8:D9840)-1)))","v":""}]
[null,null,null,null,{"$f":"IF(A9841=\"\",\"\",IF(B9841=\"\",E9840,IF(D9841=\"\",E9840,D9841/MAX($D$8:D9841)-1)))","v":""}]
[null,null,null,null,{"$f":"IF(A9842=\"\",\"\",IF(B9842=\"\",E9841,IF(D9842=\"\",E9841,D9842/MAX($D$8:D9842)-1)))","v":""}]
[null,null,null,null,{"$f":"IF(A9843=\"\",\"\",IF(B9843=\"\",E9842,IF(D9843=\"\",E9842,D9843/MAX($D$8:D9843)-1)))","v":""}]
[null,null,null,null,{"$f":"IF(A9844=\"\",\"\",IF(B9844=\"\",E9843,IF(D9844=\"\",E9843,D9844/MAX($D$8:D9844)-1)))","v":""}]
[null,null,null,null,{"$f":"IF(A9845=\"\",\"\",IF(B9845=\"\",E9844,IF(D9845=\"\",E9844,D9845/MAX($D$8:D9845)-1)))","v":""}]
[null,null,null,null,{"$f":"IF(A9846=\"\",\"\",IF(B9846=\"\",E9845,IF(D9846=\"\",E9845,D9846/MAX($D$8:D9846)-1)))","v":""}]
[null,null,null,null,{"$f":"IF(A9847=\"\",\"\",IF(B9847=\"\",E9846,IF(D9847=\"\",E9846,D9847/MAX($D$8:D9847)-1)))","v":""}]
[null,null,null,null,{"$f":"IF(A9848=\"\",\"\",IF(B9848=\"\",E9847,IF(D9848=\"\",E9847,D9848/MAX($D$8:D9848)-1)))","v":""}]
[null,null,null,null,{"$f":"IF(A9849=\"\",\"\",IF(B9849=\"\",E9848,IF(D9849=\"\",E9848,D9849/MAX($D$8:D9849)-1)))","v":""}]
[null,null,null,null,{"$f":"IF(A9850=\"\",\"\",IF(B9850=\"\",E9849,IF(D9850=\"\",E9849,D9850/MAX($D$8:D9850)-1)))","v":""}]
[null,null,null,null,{"$f":"IF(A9851=\"\",\"\",IF(B9851=\"\",E9850,IF(D9851=\"\",E9850,D9851/MAX($D$8:D9851)-1)))","v":""}]
[null,null,null,null,{"$f":"IF(A9852=\"\",\"\",IF(B9852=\"\",E9851,IF(D9852=\"\",E9851,D9852/MAX($D$8:D9852)-1)))","v":""}]
[null,null,null,null,{"$f":"IF(A9853=\"\",\"\",IF(B9853=\"\",E9852,IF(D9853=\"\",E9852,D9853/MAX($D$8:D9853)-1)))","v":""}]
[null,null,null,null,{"$f":"IF(A9854=\"\",\"\",IF(B9854=\"\",E9853,IF(D9854=\"\",E9853,D9854/MAX($D$8:D9854)-1)))","v":""}]
[null,null,null,null,{"$f":"IF(A9855=\"\",\"\",IF(B9855=\"\",E9854,IF(D9855=\"\",E9854,D9855/MAX($D$8:D9855)-1)))","v":""}]
[null,null,null,null,{"$f":"IF(A9856=\"\",\"\",IF(B9856=\"\",E9855,IF(D9856=\"\",E9855,D9856/MAX($D$8:D9856)-1)))","v":""}]
[null,null,null,null,{"$f":"IF(A9857=\"\",\"\",IF(B9857=\"\",E9856,IF(D9857=\"\",E9856,D9857/MAX($D$8:D9857)-1)))","v":""}]
[null,null,null,null,{"$f":"IF(A9858=\"\",\"\",IF(B9858=\"\",E9857,IF(D9858=\"\",E9857,D9858/MAX($D$8:D9858)-1)))","v":""}]
[null,null,null,null,{"$f":"IF(A9859=\"\",\"\",IF(B9859=\"\",E9858,IF(D9859=\"\",E9858,D9859/MAX($D$8:D9859)-1)))","v":""}]
[null,null,null,null,{"$f":"IF(A9860=\"\",\"\",IF(B9860=\"\",E9859,IF(D9860=\"\",E9859,D9860/MAX($D$8:D9860)-1)))","v":""}]
[null,null,null,null,{"$f":"IF(A9861=\"\",\"\",IF(B9861=\"\",E9860,IF(D9861=\"\",E9860,D9861/MAX($D$8:D9861)-1)))","v":""}]
[null,null,null,null,{"$f":"IF(A9862=\"\",\"\",IF(B9862=\"\",E9861,IF(D9862=\"\",E9861,D9862/MAX($D$8:D9862)-1)))","v":""}]
[null,null,null,null,{"$f":"IF(A9863=\"\",\"\",IF(B9863=\"\",E9862,IF(D9863=\"\",E9862,D9863/MAX($D$8:D9863)-1)))","v":""}]
[null,null,null,null,{"$f":"IF(A9864=\"\",\"\",IF(B9864=\"\",E9863,IF(D9864=\"\",E9863,D9864/MAX($D$8:D9864)-1)))","v":""}]
[null,null,null,null,{"$f":"IF(A9865=\"\",\"\",IF(B9865=\"\",E9864,IF(D9865=\"\",E9864,D9865/MAX($D$8:D9865)-1)))","v":""}]
[null,null,null,null,{"$f":"IF(A9866=\"\",\"\",IF(B9866=\"\",E9865,IF(D9866=\"\",E9865,D9866/MAX($D$8:D9866)-1)))","v":""}]
[null,null,null,null,{"$f":"IF(A9867=\"\",\"\",IF(B9867=\"\",E9866,IF(D9867=\"\",E9866,D9867/MAX($D$8:D9867)-1)))","v":""}]
[null,null,null,null,{"$f":"IF(A9868=\"\",\"\",IF(B9868=\"\",E9867,IF(D9868=\"\",E9867,D9868/MAX($D$8:D9868)-1)))","v":""}]
[null,null,null,null,{"$f":"IF(A9869=\"\",\"\",IF(B9869=\"\",E9868,IF(D9869=\"\",E9868,D9869/MAX($D$8:D9869)-1)))","v":""}]
[null,null,null,null,{"$f":"IF(A9870=\"\",\"\",IF(B9870=\"\",E9869,IF(D9870=\"\",E9869,D9870/MAX($D$8:D9870)-1)))","v":""}]
[null,null,null,null,{"$f":"IF(A9871=\"\",\"\",IF(B9871=\"\",E9870,IF(D9871=\"\",E9870,D9871/MAX($D$8:D9871)-1)))","v":""}]
[null,null,null,null,{"$f":"IF(A9872=\"\",\"\",IF(B9872=\"\",E9871,IF(D9872=\"\",E9871,D9872/MAX($D$8:D9872)-1)))","v":""}]
[null,null,null,null,{"$f":"IF(A9873=\"\",\"\",IF(B9873=\"\",E9872,IF(D9873=\"\",E9872,D9873/MAX($D$8:D9873)-1)))","v":""}]
[null,null,null,null,{"$f":"IF(A9874=\"\",\"\",IF(B9874=\"\",E9873,IF(D9874=\"\",E9873,D9874/MAX($D$8:D9874)-1)))","v":""}]
[null,null,null,null,{"$f":"IF(A9875=\"\",\"\",IF(B9875=\"\",E9874,IF(D9875=\"\",E9874,D9875/MAX($D$8:D9875)-1)))","v":""}]
[null,null,null,null,{"$f":"IF(A9876=\"\",\"\",IF(B9876=\"\",E9875,IF(D9876=\"\",E9875,D9876/MAX($D$8:D9876)-1)))","v":""}]
[null,null,null,null,{"$f":"IF(A9877=\"\",\"\",IF(B9877=\"\",E9876,IF(D9877=\"\",E9876,D9877/MAX($D$8:D9877)-1)))","v":""}]
[null,null,null,null,{"$f":"IF(A9878=\"\",\"\",IF(B9878=\"\",E9877,IF(D9878=\"\",E9877,D9878/MAX($D$8:D9878)-1)))","v":""}]
[null,null,null,null,{"$f":"IF(A9879=\"\",\"\",IF(B9879=\"\",E9878,IF(D9879=\"\",E9878,D9879/MAX($D$8:D9879)-1)))","v":""}]
[null,null,null,null,{"$f":"IF(A9880=\"\",\"\",IF(B9880=\"\",E9879,IF(D9880=\"\",E9879,D9880/MAX($D$8:D9880)-1)))","v":""}]
[null,null,null,null,{"$f":"IF(A9881=\"\",\"\",IF(B9881=\"\",E9880,IF(D9881=\"\",E9880,D9881/MAX($D$8:D9881)-1)))","v":""}]
[null,null,null,null,{"$f":"IF(A9882=\"\",\"\",IF(B9882=\"\",E9881,IF(D9882=\"\",E9881,D9882/MAX($D$8:D9882)-1)))","v":""}]
[null,null,null,null,{"$f":"IF(A9883=\"\",\"\",IF(B9883=\"\",E9882,IF(D9883=\"\",E9882,D9883/MAX($D$8:D9883)-1)))","v":""}]
[null,null,null,null,{"$f":"IF(A9884=\"\",\"\",IF(B9884=\"\",E9883,IF(D9884=\"\",E9883,D9884/MAX($D$8:D9884)-1)))","v":""}]
[null,null,null,null,{"$f":"IF(A9885=\"\",\"\",IF(B9885=\"\",E9884,IF(D9885=\"\",E9884,D9885/MAX($D$8:D9885)-1)))","v":""}]
[null,null,null,null,{"$f":"IF(A9886=\"\",\"\",IF(B9886=\"\",E9885,IF(D9886=\"\",E9885,D9886/MAX($D$8:D9886)-1)))","v":""}]
[null,null,null,null,{"$f":"IF(A9887=\"\",\"\",IF(B9887=\"\",E9886,IF(D9887=\"\",E9886,D9887/MAX($D$8:D9887)-1)))","v":""}]
[null,null,null,null,{"$f":"IF(A9888=\"\",\"\",IF(B9888=\"\",E9887,IF(D9888=\"\",E9887,D9888/MAX($D$8:D9888)-1)))","v":""}]
[null,null,null,null,{"$f":"IF(A9889=\"\",\"\",IF(B9889=\"\",E9888,IF(D9889=\"\",E9888,D9889/MAX($D$8:D9889)-1)))","v":""}]
[null,null,null,null,{"$f":"IF(A9890=\"\",\"\",IF(B9890=\"\",E9889,IF(D9890=\"\",E9889,D9890/MAX($D$8:D9890)-1)))","v":""}]
[null,null,null,null,{"$f":"IF(A9891=\"\",\"\",IF(B9891=\"\",E9890,IF(D9891=\"\",E9890,D9891/MAX($D$8:D9891)-1)))","v":""}]
[null,null,null,null,{"$f":"IF(A9892=\"\",\"\",IF(B9892=\"\",E9891,IF(D9892=\"\",E9891,D9892/MAX($D$8:D9892)-1)))","v":""}]
[null,null,null,null,{"$f":"IF(A9893=\"\",\"\",IF(B9893=\"\",E9892,IF(D9893=\"\",E9892,D9893/MAX($D$8:D9893)-1)))","v":""}]
[null,null,null,null,{"$f":"IF(A9894=\"\",\"\",IF(B9894=\"\",E9893,IF(D9894=\"\",E9893,D9894/MAX($D$8:D9894)-1)))","v":""}]
[null,null,null,null,{"$f":"IF(A9895=\"\",\"\",IF(B9895=\"\",E9894,IF(D9895=\"\",E9894,D9895/MAX($D$8:D9895)-1)))","v":""}]
[null,null,null,null,{"$f":"IF(A9896=\"\",\"\",IF(B9896=\"\",E9895,IF(D9896=\"\",E9895,D9896/MAX($D$8:D9896)-1)))","v":""}]
[null,null,null,null,{"$f":"IF(A9897=\"\",\"\",IF(B9897=\"\",E9896,IF(D9897=\"\",E9896,D9897/MAX($D$8:D9897)-1)))","v":""}]
[null,null,null,null,{"$f":"IF(A9898=\"\",\"\",IF(B9898=\"\",E9897,IF(D9898=\"\",E9897,D9898/MAX($D$8:D9898)-1)))","v":""}]
[null,null,null,null,{"$f":"IF(A9899=\"\",\"\",IF(B9899=\"\",E9898,IF(D9899=\"\",E9898,D9899/MAX($D$8:D9899)-1)))","v":""}]
[null,null,null,null,{"$f":"IF(A9900=\"\",\"\",IF(B9900=\"\",E9899,IF(D9900=\"\",E9899,D9900/MAX($D$8:D9900)-1)))","v":""}]
[null,null,null,null,{"$f":"IF(A9901=\"\",\"\",IF(B9901=\"\",E9900,IF(D9901=\"\",E9900,D9901/MAX($D$8:D9901)-1)))","v":""}]
[null,null,null,null,{"$f":"IF(A9902=\"\",\"\",IF(B9902=\"\",E9901,IF(D9902=\"\",E9901,D9902/MAX($D$8:D9902)-1)))","v":""}]
[null,null,null,null,{"$f":"IF(A9903=\"\",\"\",IF(B9903=\"\",E9902,IF(D9903=\"\",E9902,D9903/MAX($D$8:D9903)-1)))","v":""}]
[null,null,null,null,{"$f":"IF(A9904=\"\",\"\",IF(B9904=\"\",E9903,IF(D9904=\"\",E9903,D9904/MAX($D$8:D9904)-1)))","v":""}]
[null,null,null,null,{"$f":"IF(A9905=\"\",\"\",IF(B9905=\"\",E9904,IF(D9905=\"\",E9904,D9905/MAX($D$8:D9905)-1)))","v":""}]
[null,null,null,null,{"$f":"IF(A9906=\"\",\"\",IF(B9906=\"\",E9905,IF(D9906=\"\",E9905,D9906/MAX($D$8:D9906)-1)))","v":""}]
[null,null,null,null,{"$f":"IF(A9907=\"\",\"\",IF(B9907=\"\",E9906,IF(D9907=\"\",E9906,D9907/MAX($D$8:D9907)-1)))","v":""}]
[null,null,null,null,{"$f":"IF(A9908=\"\",\"\",IF(B9908=\"\",E9907,IF(D9908=\"\",E9907,D9908/MAX($D$8:D9908)-1)))","v":""}]
[null,null,null,null,{"$f":"IF(A9909=\"\",\"\",IF(B9909=\"\",E9908,IF(D9909=\"\",E9908,D9909/MAX($D$8:D9909)-1)))","v":""}]
[null,null,null,null,{"$f":"IF(A9910=\"\",\"\",IF(B9910=\"\",E9909,IF(D9910=\"\",E9909,D9910/MAX($D$8:D9910)-1)))","v":""}]
[null,null,null,null,{"$f":"IF(A9911=\"\",\"\",IF(B9911=\"\",E9910,IF(D9911=\"\",E9910,D9911/MAX($D$8:D9911)-1)))","v":""}]
[null,null,null,null,{"$f":"IF(A9912=\"\",\"\",IF(B9912=\"\",E9911,IF(D9912=\"\",E9911,D9912/MAX($D$8:D9912)-1)))","v":""}]
[null,null,null,null,{"$f":"IF(A9913=\"\",\"\",IF(B9913=\"\",E9912,IF(D9913=\"\",E9912,D9913/MAX($D$8:D9913)-1)))","v":""}]
[null,null,null,null,{"$f":"IF(A9914=\"\",\"\",IF(B9914=\"\",E9913,IF(D9914=\"\",E9913,D9914/MAX($D$8:D9914)-1)))","v":""}]
[null,null,null,null,{"$f":"IF(A9915=\"\",\"\",IF(B9915=\"\",E9914,IF(D9915=\"\",E9914,D9915/MAX($D$8:D9915)-1)))","v":""}]
[null,null,null,null,{"$f":"IF(A9916=\"\",\"\",IF(B9916=\"\",E9915,IF(D9916=\"\",E9915,D9916/MAX($D$8:D9916)-1)))","v":""}]
[null,null,null,null,{"$f":"IF(A9917=\"\",\"\",IF(B9917=\"\",E9916,IF(D9917=\"\",E9916,D9917/MAX($D$8:D9917)-1)))","v":""}]
[null,null,null,null,{"$f":"IF(A9918=\"\",\"\",IF(B9918=\"\",E9917,IF(D9918=\"\",E9917,D9918/MAX($D$8:D9918)-1)))","v":""}]
[null,null,null,null,{"$f":"IF(A9919=\"\",\"\",IF(B9919=\"\",E9918,IF(D9919=\"\",E9918,D9919/MAX($D$8:D9919)-1)))","v":""}]
[null,null,null,null,{"$f":"IF(A9920=\"\",\"\",IF(B9920=\"\",E9919,IF(D9920=\"\",E9919,D9920/MAX($D$8:D9920)-1)))","v":""}]
[null,null,null,null,{"$f":"IF(A9921=\"\",\"\",IF(B9921=\"\",E9920,IF(D9921=\"\",E9920,D9921/MAX($D$8:D9921)-1)))","v":""}]
[null,null,null,null,{"$f":"IF(A9922=\"\",\"\",IF(B9922=\"\",E9921,IF(D9922=\"\",E9921,D9922/MAX($D$8:D9922)-1)))","v":""}]
[null,null,null,null,{"$f":"IF(A9923=\"\",\"\",IF(B9923=\"\",E9922,IF(D9923=\"\",E9922,D9923/MAX($D$8:D9923)-1)))","v":""}]
[null,null,null,null,{"$f":"IF(A9924=\"\",\"\",IF(B9924=\"\",E9923,IF(D9924=\"\",E9923,D9924/MAX($D$8:D9924)-1)))","v":""}]
[null,null,null,null,{"$f":"IF(A9925=\"\",\"\",IF(B9925=\"\",E9924,IF(D9925=\"\",E9924,D9925/MAX($D$8:D9925)-1)))","v":""}]
[null,null,null,null,{"$f":"IF(A9926=\"\",\"\",IF(B9926=\"\",E9925,IF(D9926=\"\",E9925,D9926/MAX($D$8:D9926)-1)))","v":""}]
[null,null,null,null,{"$f":"IF(A9927=\"\",\"\",IF(B9927=\"\",E9926,IF(D9927=\"\",E9926,D9927/MAX($D$8:D9927)-1)))","v":""}]
[null,null,null,null,{"$f":"IF(A9928=\"\",\"\",IF(B9928=\"\",E9927,IF(D9928=\"\",E9927,D9928/MAX($D$8:D9928)-1)))","v":""}]
[null,null,null,null,{"$f":"IF(A9929=\"\",\"\",IF(B9929=\"\",E9928,IF(D9929=\"\",E9928,D9929/MAX($D$8:D9929)-1)))","v":""}]
[null,null,null,null,{"$f":"IF(A9930=\"\",\"\",IF(B9930=\"\",E9929,IF(D9930=\"\",E9929,D9930/MAX($D$8:D9930)-1)))","v":""}]
[null,null,null,null,{"$f":"IF(A9931=\"\",\"\",IF(B9931=\"\",E9930,IF(D9931=\"\",E9930,D9931/MAX($D$8:D9931)-1)))","v":""}]
[null,null,null,null,{"$f":"IF(A9932=\"\",\"\",IF(B9932=\"\",E9931,IF(D9932=\"\",E9931,D9932/MAX($D$8:D9932)-1)))","v":""}]
[null,null,null,null,{"$f":"IF(A9933=\"\",\"\",IF(B9933=\"\",E9932,IF(D9933=\"\",E9932,D9933/MAX($D$8:D9933)-1)))","v":""}]
[null,null,null,null,{"$f":"IF(A9934=\"\",\"\",IF(B9934=\"\",E9933,IF(D9934=\"\",E9933,D9934/MAX($D$8:D9934)-1)))","v":""}]
[null,null,null,null,{"$f":"IF(A9935=\"\",\"\",IF(B9935=\"\",E9934,IF(D9935=\"\",E9934,D9935/MAX($D$8:D9935)-1)))","v":""}]
[null,null,null,null,{"$f":"IF(A9936=\"\",\"\",IF(B9936=\"\",E9935,IF(D9936=\"\",E9935,D9936/MAX($D$8:D9936)-1)))","v":""}]
[null,null,null,null,{"$f":"IF(A9937=\"\",\"\",IF(B9937=\"\",E9936,IF(D9937=\"\",E9936,D9937/MAX($D$8:D9937)-1)))","v":""}]
[null,null,null,null,{"$f":"IF(A9938=\"\",\"\",IF(B9938=\"\",E9937,IF(D9938=\"\",E9937,D9938/MAX($D$8:D9938)-1)))","v":""}]
[null,null,null,null,{"$f":"IF(A9939=\"\",\"\",IF(B9939=\"\",E9938,IF(D9939=\"\",E9938,D9939/MAX($D$8:D9939)-1)))","v":""}]
[null,null,null,null,{"$f":"IF(A9940=\"\",\"\",IF(B9940=\"\",E9939,IF(D9940=\"\",E9939,D9940/MAX($D$8:D9940)-1)))","v":""}]
[null,null,null,null,{"$f":"IF(A9941=\"\",\"\",IF(B9941=\"\",E9940,IF(D9941=\"\",E9940,D9941/MAX($D$8:D9941)-1)))","v":""}]
[null,null,null,null,{"$f":"IF(A9942=\"\",\"\",IF(B9942=\"\",E9941,IF(D9942=\"\",E9941,D9942/MAX($D$8:D9942)-1)))","v":""}]
[null,null,null,null,{"$f":"IF(A9943=\"\",\"\",IF(B9943=\"\",E9942,IF(D9943=\"\",E9942,D9943/MAX($D$8:D9943)-1)))","v":""}]
[null,null,null,null,{"$f":"IF(A9944=\"\",\"\",IF(B9944=\"\",E9943,IF(D9944=\"\",E9943,D9944/MAX($D$8:D9944)-1)))","v":""}]
[null,null,null,null,{"$f":"IF(A9945=\"\",\"\",IF(B9945=\"\",E9944,IF(D9945=\"\",E9944,D9945/MAX($D$8:D9945)-1)))","v":""}]
[null,null,null,null,{"$f":"IF(A9946=\"\",\"\",IF(B9946=\"\",E9945,IF(D9946=\"\",E9945,D9946/MAX($D$8:D9946)-1)))","v":""}]
[null,null,null,null,{"$f":"IF(A9947=\"\",\"\",IF(B9947=\"\",E9946,IF(D9947=\"\",E9946,D9947/MAX($D$8:D9947)-1)))","v":""}]
[null,null,null,null,{"$f":"IF(A9948=\"\",\"\",IF(B9948=\"\",E9947,IF(D9948=\"\",E9947,D9948/MAX($D$8:D9948)-1)))","v":""}]
[null,null,null,null,{"$f":"IF(A9949=\"\",\"\",IF(B9949=\"\",E9948,IF(D9949=\"\",E9948,D9949/MAX($D$8:D9949)-1)))","v":""}]
[null,null,null,null,{"$f":"IF(A9950=\"\",\"\",IF(B9950=\"\",E9949,IF(D9950=\"\",E9949,D9950/MAX($D$8:D9950)-1)))","v":""}]
[null,null,null,null,{"$f":"IF(A9951=\"\",\"\",IF(B9951=\"\",E9950,IF(D9951=\"\",E9950,D9951/MAX($D$8:D9951)-1)))","v":""}]
[null,null,null,null,{"$f":"IF(A9952=\"\",\"\",IF(B9952=\"\",E9951,IF(D9952=\"\",E9951,D9952/MAX($D$8:D9952)-1)))","v":""}]
[null,null,null,null,{"$f":"IF(A9953=\"\",\"\",IF(B9953=\"\",E9952,IF(D9953=\"\",E9952,D9953/MAX($D$8:D9953)-1)))","v":""}]
[null,null,null,null,{"$f":"IF(A9954=\"\",\"\",IF(B9954=\"\",E9953,IF(D9954=\"\",E9953,D9954/MAX($D$8:D9954)-1)))","v":""}]
[null,null,null,null,{"$f":"IF(A9955=\"\",\"\",IF(B9955=\"\",E9954,IF(D9955=\"\",E9954,D9955/MAX($D$8:D9955)-1)))","v":""}]
[null,null,null,null,{"$f":"IF(A9956=\"\",\"\",IF(B9956=\"\",E9955,IF(D9956=\"\",E9955,D9956/MAX($D$8:D9956)-1)))","v":""}]
[null,null,null,null,{"$f":"IF(A9957=\"\",\"\",IF(B9957=\"\",E9956,IF(D9957=\"\",E9956,D9957/MAX($D$8:D9957)-1)))","v":""}]
[null,null,null,null,{"$f":"IF(A9958=\"\",\"\",IF(B9958=\"\",E9957,IF(D9958=\"\",E9957,D9958/MAX($D$8:D9958)-1)))","v":""}]
[null,null,null,null,{"$f":"IF(A9959=\"\",\"\",IF(B9959=\"\",E9958,IF(D9959=\"\",E9958,D9959/MAX($D$8:D9959)-1)))","v":""}]
[null,null,null,null,{"$f":"IF(A9960=\"\",\"\",IF(B9960=\"\",E9959,IF(D9960=\"\",E9959,D9960/MAX($D$8:D9960)-1)))","v":""}]
[null,null,null,null,{"$f":"IF(A9961=\"\",\"\",IF(B9961=\"\",E9960,IF(D9961=\"\",E9960,D9961/MAX($D$8:D9961)-1)))","v":""}]
[null,null,null,null,{"$f":"IF(A9962=\"\",\"\",IF(B9962=\"\",E9961,IF(D9962=\"\",E9961,D9962/MAX($D$8:D9962)-1)))","v":""}]
[null,null,null,null,{"$f":"IF(A9963=\"\",\"\",IF(B9963=\"\",E9962,IF(D9963=\"\",E9962,D9963/MAX($D$8:D9963)-1)))","v":""}]
[null,null,null,null,{"$f":"IF(A9964=\"\",\"\",IF(B9964=\"\",E9963,IF(D9964=\"\",E9963,D9964/MAX($D$8:D9964)-1)))","v":""}]
[null,null,null,null,{"$f":"IF(A9965=\"\",\"\",IF(B9965=\"\",E9964,IF(D9965=\"\",E9964,D9965/MAX($D$8:D9965)-1)))","v":""}]
[null,null,null,null,{"$f":"IF(A9966=\"\",\"\",IF(B9966=\"\",E9965,IF(D9966=\"\",E9965,D9966/MAX($D$8:D9966)-1)))","v":""}]
[null,null,null,null,{"$f":"IF(A9967=\"\",\"\",IF(B9967=\"\",E9966,IF(D9967=\"\",E9966,D9967/MAX($D$8:D9967)-1)))","v":""}]
[null,null,null,null,{"$f":"IF(A9968=\"\",\"\",IF(B9968=\"\",E9967,IF(D9968=\"\",E9967,D9968/MAX($D$8:D9968)-1)))","v":""}]
[null,null,null,null,{"$f":"IF(A9969=\"\",\"\",IF(B9969=\"\",E9968,IF(D9969=\"\",E9968,D9969/MAX($D$8:D9969)-1)))","v":""}]
[null,null,null,null,{"$f":"IF(A9970=\"\",\"\",IF(B9970=\"\",E9969,IF(D9970=\"\",E9969,D9970/MAX($D$8:D9970)-1)))","v":""}]
[null,null,null,null,{"$f":"IF(A9971=\"\",\"\",IF(B9971=\"\",E9970,IF(D9971=\"\",E9970,D9971/MAX($D$8:D9971)-1)))","v":""}]
[null,null,null,null,{"$f":"IF(A9972=\"\",\"\",IF(B9972=\"\",E9971,IF(D9972=\"\",E9971,D9972/MAX($D$8:D9972)-1)))","v":""}]
[null,null,null,null,{"$f":"IF(A9973=\"\",\"\",IF(B9973=\"\",E9972,IF(D9973=\"\",E9972,D9973/MAX($D$8:D9973)-1)))","v":""}]
[null,null,null,null,{"$f":"IF(A9974=\"\",\"\",IF(B9974=\"\",E9973,IF(D9974=\"\",E9973,D9974/MAX($D$8:D9974)-1)))","v":""}]
[null,null,null,null,{"$f":"IF(A9975=\"\",\"\",IF(B9975=\"\",E9974,IF(D9975=\"\",E9974,D9975/MAX($D$8:D9975)-1)))","v":""}]
[null,null,null,null,{"$f":"IF(A9976=\"\",\"\",IF(B9976=\"\",E9975,IF(D9976=\"\",E9975,D9976/MAX($D$8:D9976)-1)))","v":""}]
[null,null,null,null,{"$f":"IF(A9977=\"\",\"\",IF(B9977=\"\",E9976,IF(D9977=\"\",E9976,D9977/MAX($D$8:D9977)-1)))","v":""}]
[null,null,null,null,{"$f":"IF(A9978=\"\",\"\",IF(B9978=\"\",E9977,IF(D9978=\"\",E9977,D9978/MAX($D$8:D9978)-1)))","v":""}]
[null,null,null,null,{"$f":"IF(A9979=\"\",\"\",IF(B9979=\"\",E9978,IF(D9979=\"\",E9978,D9979/MAX($D$8:D9979)-1)))","v":""}]
[null,null,null,null,{"$f":"IF(A9980=\"\",\"\",IF(B9980=\"\",E9979,IF(D9980=\"\",E9979,D9980/MAX($D$8:D9980)-1)))","v":""}]
[null,null,null,null,{"$f":"IF(A9981=\"\",\"\",IF(B9981=\"\",E9980,IF(D9981=\"\",E9980,D9981/MAX($D$8:D9981)-1)))","v":""}]
[null,null,null,null,{"$f":"IF(A9982=\"\",\"\",IF(B9982=\"\",E9981,IF(D9982=\"\",E9981,D9982/MAX($D$8:D9982)-1)))","v":""}]
[null,null,null,null,{"$f":"IF(A9983=\"\",\"\",IF(B9983=\"\",E9982,IF(D9983=\"\",E9982,D9983/MAX($D$8:D9983)-1)))","v":""}]
[null,null,null,null,{"$f":"IF(A9984=\"\",\"\",IF(B9984=\"\",E9983,IF(D9984=\"\",E9983,D9984/MAX($D$8:D9984)-1)))","v":""}]
[null,null,null,null,{"$f":"IF(A9985=\"\",\"\",IF(B9985=\"\",E9984,IF(D9985=\"\",E9984,D9985/MAX($D$8:D9985)-1)))","v":""}]
[null,null,null,null,{"$f":"IF(A9986=\"\",\"\",IF(B9986=\"\",E9985,IF(D9986=\"\",E9985,D9986/MAX($D$8:D9986)-1)))","v":""}]
[null,null,null,null,{"$f":"IF(A9987=\"\",\"\",IF(B9987=\"\",E9986,IF(D9987=\"\",E9986,D9987/MAX($D$8:D9987)-1)))","v":""}]
[null,null,null,null,{"$f":"IF(A9988=\"\",\"\",IF(B9988=\"\",E9987,IF(D9988=\"\",E9987,D9988/MAX($D$8:D9988)-1)))","v":""}]
[null,null,null,null,{"$f":"IF(A9989=\"\",\"\",IF(B9989=\"\",E9988,IF(D9989=\"\",E9988,D9989/MAX($D$8:D9989)-1)))","v":""}]
[null,null,null,null,{"$f":"IF(A9990=\"\",\"\",IF(B9990=\"\",E9989,IF(D9990=\"\",E9989,D9990/MAX($D$8:D9990)-1)))","v":""}]
[null,null,null,null,{"$f":"IF(A9991=\"\",\"\",IF(B9991=\"\",E9990,IF(D9991=\"\",E9990,D9991/MAX($D$8:D9991)-1)))","v":""}]
[null,null,null,null,{"$f":"IF(A9992=\"\",\"\",IF(B9992=\"\",E9991,IF(D9992=\"\",E9991,D9992/MAX($D$8:D9992)-1)))","v":""}]
[null,null,null,null,{"$f":"IF(A9993=\"\",\"\",IF(B9993=\"\",E9992,IF(D9993=\"\",E9992,D9993/MAX($D$8:D9993)-1)))","v":""}]
[null,null,null,null,{"$f":"IF(A9994=\"\",\"\",IF(B9994=\"\",E9993,IF(D9994=\"\",E9993,D9994/MAX($D$8:D9994)-1)))","v":""}]
[null,null,null,null,{"$f":"IF(A9995=\"\",\"\",IF(B9995=\"\",E9994,IF(D9995=\"\",E9994,D9995/MAX($D$8:D9995)-1)))","v":""}]
[null,null,null,null,{"$f":"IF(A9996=\"\",\"\",IF(B9996=\"\",E9995,IF(D9996=\"\",E9995,D9996/MAX($D$8:D9996)-1)))","v":""}]
[null,null,null,null,{"$f":"IF(A9997=\"\",\"\",IF(B9997=\"\",E9996,IF(D9997=\"\",E9996,D9997/MAX($D$8:D9997)-1)))","v":""}]
[null,null,null,null,{"$f":"IF(A9998=\"\",\"\",IF(B9998=\"\",E9997,IF(D9998=\"\",E9997,D9998/MAX($D$8:D9998)-1)))","v":""}]
[null,null,null,null,{"$f":"IF(A9999=\"\",\"\",IF(B9999=\"\",E9998,IF(D9999=\"\",E9998,D9999/MAX($D$8:D9999)-1)))","v":""}]
[null,null,null,null,{"$f":"IF(A10000=\"\",\"\",IF(B10000=\"\",E9999,IF(D10000=\"\",E9999,D10000/MAX($D$8:D10000)-1)))","v":""}]
[null,null,null,null,{"$f":"IF(A10001=\"\",\"\",IF(B10001=\"\",E10000,IF(D10001=\"\",E10000,D10001/MAX($D$8:D10001)-1)))","v":""}]
[null,null,null,null,{"$f":"IF(A10002=\"\",\"\",IF(B10002=\"\",E10001,IF(D10002=\"\",E10001,D10002/MAX($D$8:D10002)-1)))","v":""}]
[null,null,null,null,{"$f":"IF(A10003=\"\",\"\",IF(B10003=\"\",E10002,IF(D10003=\"\",E10002,D10003/MAX($D$8:D10003)-1)))","v":""}]
[null,null,null,null,{"$f":"IF(A10004=\"\",\"\",IF(B10004=\"\",E10003,IF(D10004=\"\",E10003,D10004/MAX($D$8:D10004)-1)))","v":""}]
[null,null,null,null,{"$f":"IF(A10005=\"\",\"\",IF(B10005=\"\",E10004,IF(D10005=\"\",E10004,D10005/MAX($D$8:D10005)-1)))","v":""}]
[null,null,null,null,{"$f":"IF(A10006=\"\",\"\",IF(B10006=\"\",E10005,IF(D10006=\"\",E10005,D10006/MAX($D$8:D10006)-1)))","v":""}]
[null,null,null,null,{"$f":"IF(A10007=\"\",\"\",IF(B10007=\"\",E10006,IF(D10007=\"\",E10006,D10007/MAX($D$8:D10007)-1)))","v":""}]
[null,null,null,null,{"$f":"IF(A10008=\"\",\"\",IF(B10008=\"\",E10007,IF(D10008=\"\",E10007,D10008/MAX($D$8:D10008)-1)))","v":""}]
[null,null,null,null,{"$f":"IF(A10009=\"\",\"\",IF(B10009=\"\",E10008,IF(D10009=\"\",E10008,D10009/MAX($D$8:D10009)-1)))","v":""}]
[null,null,null,null,{"$f":"IF(A10010=\"\",\"\",IF(B10010=\"\",E10009,IF(D10010=\"\",E10009,D10010/MAX($D$8:D10010)-1)))","v":""}]
[null,null,null,null,{"$f":"IF(A10011=\"\",\"\",IF(B10011=\"\",E10010,IF(D10011=\"\",E10010,D10011/MAX($D$8:D10011)-1)))","v":""}]
[null,null,null,null,{"$f":"IF(A10012=\"\",\"\",IF(B10012=\"\",E10011,IF(D10012=\"\",E10011,D10012/MAX($D$8:D10012)-1)))","v":""}]
[null,null,null,null,{"$f":"IF(A10013=\"\",\"\",IF(B10013=\"\",E10012,IF(D10013=\"\",E10012,D10013/MAX($D$8:D10013)-1)))","v":""}]
[null,null,null,null,{"$f":"IF(A10014=\"\",\"\",IF(B10014=\"\",E10013,IF(D10014=\"\",E10013,D10014/MAX($D$8:D10014)-1)))","v":""}]
[null,null,null,null,{"$f":"IF(A10015=\"\",\"\",IF(B10015=\"\",E10014,IF(D10015=\"\",E10014,D10015/MAX($D$8:D10015)-1)))","v":""}]
[null,null,null,null,{"$f":"IF(A10016=\"\",\"\",IF(B10016=\"\",E10015,IF(D10016=\"\",E10015,D10016/MAX($D$8:D10016)-1)))","v":""}]
[null,null,null,null,{"$f":"IF(A10017=\"\",\"\",IF(B10017=\"\",E10016,IF(D10017=\"\",E10016,D10017/MAX($D$8:D10017)-1)))","v":""}]
[null,null,null,null,{"$f":"IF(A10018=\"\",\"\",IF(B10018=\"\",E10017,IF(D10018=\"\",E10017,D10018/MAX($D$8:D10018)-1)))","v":""}]
[null,null,null,null,{"$f":"IF(A10019=\"\",\"\",IF(B10019=\"\",E10018,IF(D10019=\"\",E10018,D10019/MAX($D$8:D10019)-1)))","v":""}]
[null,null,null,null,{"$f":"IF(A10020=\"\",\"\",IF(B10020=\"\",E10019,IF(D10020=\"\",E10019,D10020/MAX($D$8:D10020)-1)))","v":""}]
[null,null,null,null,{"$f":"IF(A10021=\"\",\"\",IF(B10021=\"\",E10020,IF(D10021=\"\",E10020,D10021/MAX($D$8:D10021)-1)))","v":""}]
[null,null,null,null,{"$f":"IF(A10022=\"\",\"\",IF(B10022=\"\",E10021,IF(D10022=\"\",E10021,D10022/MAX($D$8:D10022)-1)))","v":""}]
[null,null,null,null,{"$f":"IF(A10023=\"\",\"\",IF(B10023=\"\",E10022,IF(D10023=\"\",E10022,D10023/MAX($D$8:D10023)-1)))","v":""}]
[null,null,null,null,{"$f":"IF(A10024=\"\",\"\",IF(B10024=\"\",E10023,IF(D10024=\"\",E10023,D10024/MAX($D$8:D10024)-1)))","v":""}]
[null,null,null,null,{"$f":"IF(A10025=\"\",\"\",IF(B10025=\"\",E10024,IF(D10025=\"\",E10024,D10025/MAX($D$8:D10025)-1)))","v":""}]
[null,null,null,null,{"$f":"IF(A10026=\"\",\"\",IF(B10026=\"\",E10025,IF(D10026=\"\",E10025,D10026/MAX($D$8:D10026)-1)))","v":""}]
[null,null,null,null,{"$f":"IF(A10027=\"\",\"\",IF(B10027=\"\",E10026,IF(D10027=\"\",E10026,D10027/MAX($D$8:D10027)-1)))","v":""}]
[null,null,null,null,{"$f":"IF(A10028=\"\",\"\",IF(B10028=\"\",E10027,IF(D10028=\"\",E10027,D10028/MAX($D$8:D10028)-1)))","v":""}]
[null,null,null,null,{"$f":"IF(A10029=\"\",\"\",IF(B10029=\"\",E10028,IF(D10029=\"\",E10028,D10029/MAX($D$8:D10029)-1)))","v":""}]
[null,null,null,null,{"$f":"IF(A10030=\"\",\"\",IF(B10030=\"\",E10029,IF(D10030=\"\",E10029,D10030/MAX($D$8:D10030)-1)))","v":""}]
[null,null,null,null,{"$f":"IF(A10031=\"\",\"\",IF(B10031=\"\",E10030,IF(D10031=\"\",E10030,D10031/MAX($D$8:D10031)-1)))","v":""}]
[null,null,null,null,{"$f":"IF(A10032=\"\",\"\",IF(B10032=\"\",E10031,IF(D10032=\"\",E10031,D10032/MAX($D$8:D10032)-1)))","v":""}]
[null,null,null,null,{"$f":"IF(A10033=\"\",\"\",IF(B10033=\"\",E10032,IF(D10033=\"\",E10032,D10033/MAX($D$8:D10033)-1)))","v":""}]
[null,null,null,null,{"$f":"IF(A10034=\"\",\"\",IF(B10034=\"\",E10033,IF(D10034=\"\",E10033,D10034/MAX($D$8:D10034)-1)))","v":""}]
[null,null,null,null,{"$f":"IF(A10035=\"\",\"\",IF(B10035=\"\",E10034,IF(D10035=\"\",E10034,D10035/MAX($D$8:D10035)-1)))","v":""}]
[null,null,null,null,{"$f":"IF(A10036=\"\",\"\",IF(B10036=\"\",E10035,IF(D10036=\"\",E10035,D10036/MAX($D$8:D10036)-1)))","v":""}]
[null,null,null,null,{"$f":"IF(A10037=\"\",\"\",IF(B10037=\"\",E10036,IF(D10037=\"\",E10036,D10037/MAX($D$8:D10037)-1)))","v":""}]
[null,null,null,null,{"$f":"IF(A10038=\"\",\"\",IF(B10038=\"\",E10037,IF(D10038=\"\",E10037,D10038/MAX($D$8:D10038)-1)))","v":""}]
[null,null,null,null,{"$f":"IF(A10039=\"\",\"\",IF(B10039=\"\",E10038,IF(D10039=\"\",E10038,D10039/MAX($D$8:D10039)-1)))","v":""}]
[null,null,null,null,{"$f":"IF(A10040=\"\",\"\",IF(B10040=\"\",E10039,IF(D10040=\"\",E10039,D10040/MAX($D$8:D10040)-1)))","v":""}]
[null,null,null,null,{"$f":"IF(A10041=\"\",\"\",IF(B10041=\"\",E10040,IF(D10041=\"\",E10040,D10041/MAX($D$8:D10041)-1)))","v":""}]
[null,null,null,null,{"$f":"IF(A10042=\"\",\"\",IF(B10042=\"\",E10041,IF(D10042=\"\",E10041,D10042/MAX($D$8:D10042)-1)))","v":""}]
[null,null,null,null,{"$f":"IF(A10043=\"\",\"\",IF(B10043=\"\",E10042,IF(D10043=\"\",E10042,D10043/MAX($D$8:D10043)-1)))","v":""}]
[null,null,null,null,{"$f":"IF(A10044=\"\",\"\",IF(B10044=\"\",E10043,IF(D10044=\"\",E10043,D10044/MAX($D$8:D10044)-1)))","v":""}]
[null,null,null,null,{"$f":"IF(A10045=\"\",\"\",IF(B10045=\"\",E10044,IF(D10045=\"\",E10044,D10045/MAX($D$8:D10045)-1)))","v":""}]
[null,null,null,null,{"$f":"IF(A10046=\"\",\"\",IF(B10046=\"\",E10045,IF(D10046=\"\",E10045,D10046/MAX($D$8:D10046)-1)))","v":""}]
[null,null,null,null,{"$f":"IF(A10047=\"\",\"\",IF(B10047=\"\",E10046,IF(D10047=\"\",E10046,D10047/MAX($D$8:D10047)-1)))","v":""}]
[null,null,null,null,{"$f":"IF(A10048=\"\",\"\",IF(B10048=\"\",E10047,IF(D10048=\"\",E10047,D10048/MAX($D$8:D10048)-1)))","v":""}]
[null,null,null,null,{"$f":"IF(A10049=\"\",\"\",IF(B10049=\"\",E10048,IF(D10049=\"\",E10048,D10049/MAX($D$8:D10049)-1)))","v":""}]
[null,null,null,null,{"$f":"IF(A10050=\"\",\"\",IF(B10050=\"\",E10049,IF(D10050=\"\",E10049,D10050/MAX($D$8:D10050)-1)))","v":""}]
[null,null,null,null,{"$f":"IF(A10051=\"\",\"\",IF(B10051=\"\",E10050,IF(D10051=\"\",E10050,D10051/MAX($D$8:D10051)-1)))","v":""}]
[null,null,null,null,{"$f":"IF(A10052=\"\",\"\",IF(B10052=\"\",E10051,IF(D10052=\"\",E10051,D10052/MAX($D$8:D10052)-1)))","v":""}]
[null,null,null,null,{"$f":"IF(A10053=\"\",\"\",IF(B10053=\"\",E10052,IF(D10053=\"\",E10052,D10053/MAX($D$8:D10053)-1)))","v":""}]
[null,null,null,null,{"$f":"IF(A10054=\"\",\"\",IF(B10054=\"\",E10053,IF(D10054=\"\",E10053,D10054/MAX($D$8:D10054)-1)))","v":""}]
[null,null,null,null,{"$f":"IF(A10055=\"\",\"\",IF(B10055=\"\",E10054,IF(D10055=\"\",E10054,D10055/MAX($D$8:D10055)-1)))","v":""}]
[null,null,null,null,{"$f":"IF(A10056=\"\",\"\",IF(B10056=\"\",E10055,IF(D10056=\"\",E10055,D10056/MAX($D$8:D10056)-1)))","v":""}]
[null,null,null,null,{"$f":"IF(A10057=\"\",\"\",IF(B10057=\"\",E10056,IF(D10057=\"\",E10056,D10057/MAX($D$8:D10057)-1)))","v":""}]
[null,null,null,null,{"$f":"IF(A10058=\"\",\"\",IF(B10058=\"\",E10057,IF(D10058=\"\",E10057,D10058/MAX($D$8:D10058)-1)))","v":""}]
[null,null,null,null,{"$f":"IF(A10059=\"\",\"\",IF(B10059=\"\",E10058,IF(D10059=\"\",E10058,D10059/MAX($D$8:D10059)-1)))","v":""}]
[null,null,null,null,{"$f":"IF(A10060=\"\",\"\",IF(B10060=\"\",E10059,IF(D10060=\"\",E10059,D10060/MAX($D$8:D10060)-1)))","v":""}]
[null,null,null,null,{"$f":"IF(A10061=\"\",\"\",IF(B10061=\"\",E10060,IF(D10061=\"\",E10060,D10061/MAX($D$8:D10061)-1)))","v":""}]
[null,null,null,null,{"$f":"IF(A10062=\"\",\"\",IF(B10062=\"\",E10061,IF(D10062=\"\",E10061,D10062/MAX($D$8:D10062)-1)))","v":""}]
[null,null,null,null,{"$f":"IF(A10063=\"\",\"\",IF(B10063=\"\",E10062,IF(D10063=\"\",E10062,D10063/MAX($D$8:D10063)-1)))","v":""}]
[null,null,null,null,{"$f":"IF(A10064=\"\",\"\",IF(B10064=\"\",E10063,IF(D10064=\"\",E10063,D10064/MAX($D$8:D10064)-1)))","v":""}]
[null,null,null,null,{"$f":"IF(A10065=\"\",\"\",IF(B10065=\"\",E10064,IF(D10065=\"\",E10064,D10065/MAX($D$8:D10065)-1)))","v":""}]
[null,null,null,null,{"$f":"IF(A10066=\"\",\"\",IF(B10066=\"\",E10065,IF(D10066=\"\",E10065,D10066/MAX($D$8:D10066)-1)))","v":""}]
[null,null,null,null,{"$f":"IF(A10067=\"\",\"\",IF(B10067=\"\",E10066,IF(D10067=\"\",E10066,D10067/MAX($D$8:D10067)-1)))","v":""}]
[null,null,null,null,{"$f":"IF(A10068=\"\",\"\",IF(B10068=\"\",E10067,IF(D10068=\"\",E10067,D10068/MAX($D$8:D10068)-1)))","v":""}]
[null,null,null,null,{"$f":"IF(A10069=\"\",\"\",IF(B10069=\"\",E10068,IF(D10069=\"\",E10068,D10069/MAX($D$8:D10069)-1)))","v":""}]
[null,null,null,null,{"$f":"IF(A10070=\"\",\"\",IF(B10070=\"\",E10069,IF(D10070=\"\",E10069,D10070/MAX($D$8:D10070)-1)))","v":""}]
[null,null,null,null,{"$f":"IF(A10071=\"\",\"\",IF(B10071=\"\",E10070,IF(D10071=\"\",E10070,D10071/MAX($D$8:D10071)-1)))","v":""}]
[null,null,null,null,{"$f":"IF(A10072=\"\",\"\",IF(B10072=\"\",E10071,IF(D10072=\"\",E10071,D10072/MAX($D$8:D10072)-1)))","v":""}]
[null,null,null,null,{"$f":"IF(A10073=\"\",\"\",IF(B10073=\"\",E10072,IF(D10073=\"\",E10072,D10073/MAX($D$8:D10073)-1)))","v":""}]
[null,null,null,null,{"$f":"IF(A10074=\"\",\"\",IF(B10074=\"\",E10073,IF(D10074=\"\",E10073,D10074/MAX($D$8:D10074)-1)))","v":""}]
[null,null,null,null,{"$f":"IF(A10075=\"\",\"\",IF(B10075=\"\",E10074,IF(D10075=\"\",E10074,D10075/MAX($D$8:D10075)-1)))","v":""}]
[null,null,null,null,{"$f":"IF(A10076=\"\",\"\",IF(B10076=\"\",E10075,IF(D10076=\"\",E10075,D10076/MAX($D$8:D10076)-1)))","v":""}]
[null,null,null,null,{"$f":"IF(A10077=\"\",\"\",IF(B10077=\"\",E10076,IF(D10077=\"\",E10076,D10077/MAX($D$8:D10077)-1)))","v":""}]
[null,null,null,null,{"$f":"IF(A10078=\"\",\"\",IF(B10078=\"\",E10077,IF(D10078=\"\",E10077,D10078/MAX($D$8:D10078)-1)))","v":""}]
[null,null,null,null,{"$f":"IF(A10079=\"\",\"\",IF(B10079=\"\",E10078,IF(D10079=\"\",E10078,D10079/MAX($D$8:D10079)-1)))","v":""}]
[null,null,null,null,{"$f":"IF(A10080=\"\",\"\",IF(B10080=\"\",E10079,IF(D10080=\"\",E10079,D10080/MAX($D$8:D10080)-1)))","v":""}]
[null,null,null,null,{"$f":"IF(A10081=\"\",\"\",IF(B10081=\"\",E10080,IF(D10081=\"\",E10080,D10081/MAX($D$8:D10081)-1)))","v":""}]
[null,null,null,null,{"$f":"IF(A10082=\"\",\"\",IF(B10082=\"\",E10081,IF(D10082=\"\",E10081,D10082/MAX($D$8:D10082)-1)))","v":""}]
[null,null,null,null,{"$f":"IF(A10083=\"\",\"\",IF(B10083=\"\",E10082,IF(D10083=\"\",E10082,D10083/MAX($D$8:D10083)-1)))","v":""}]
[null,null,null,null,{"$f":"IF(A10084=\"\",\"\",IF(B10084=\"\",E10083,IF(D10084=\"\",E10083,D10084/MAX($D$8:D10084)-1)))","v":""}]
[null,null,null,null,{"$f":"IF(A10085=\"\",\"\",IF(B10085=\"\",E10084,IF(D10085=\"\",E10084,D10085/MAX($D$8:D10085)-1)))","v":""}]
[null,null,null,null,{"$f":"IF(A10086=\"\",\"\",IF(B10086=\"\",E10085,IF(D10086=\"\",E10085,D10086/MAX($D$8:D10086)-1)))","v":""}]
[null,null,null,null,{"$f":"IF(A10087=\"\",\"\",IF(B10087=\"\",E10086,IF(D10087=\"\",E10086,D10087/MAX($D$8:D10087)-1)))","v":""}]
[null,null,null,null,{"$f":"IF(A10088=\"\",\"\",IF(B10088=\"\",E10087,IF(D10088=\"\",E10087,D10088/MAX($D$8:D10088)-1)))","v":""}]
[null,null,null,null,{"$f":"IF(A10089=\"\",\"\",IF(B10089=\"\",E10088,IF(D10089=\"\",E10088,D10089/MAX($D$8:D10089)-1)))","v":""}]
[null,null,null,null,{"$f":"IF(A10090=\"\",\"\",IF(B10090=\"\",E10089,IF(D10090=\"\",E10089,D10090/MAX($D$8:D10090)-1)))","v":""}]
[null,null,null,null,{"$f":"IF(A10091=\"\",\"\",IF(B10091=\"\",E10090,IF(D10091=\"\",E10090,D10091/MAX($D$8:D10091)-1)))","v":""}]
[null,null,null,null,{"$f":"IF(A10092=\"\",\"\",IF(B10092=\"\",E10091,IF(D10092=\"\",E10091,D10092/MAX($D$8:D10092)-1)))","v":""}]
[null,null,null,null,{"$f":"IF(A10093=\"\",\"\",IF(B10093=\"\",E10092,IF(D10093=\"\",E10092,D10093/MAX($D$8:D10093)-1)))","v":""}]
[null,null,null,null,{"$f":"IF(A10094=\"\",\"\",IF(B10094=\"\",E10093,IF(D10094=\"\",E10093,D10094/MAX($D$8:D10094)-1)))","v":""}]
[null,null,null,null,{"$f":"IF(A10095=\"\",\"\",IF(B10095=\"\",E10094,IF(D10095=\"\",E10094,D10095/MAX($D$8:D10095)-1)))","v":""}]
[null,null,null,null,{"$f":"IF(A10096=\"\",\"\",IF(B10096=\"\",E10095,IF(D10096=\"\",E10095,D10096/MAX($D$8:D10096)-1)))","v":""}]
[null,null,null,null,{"$f":"IF(A10097=\"\",\"\",IF(B10097=\"\",E10096,IF(D10097=\"\",E10096,D10097/MAX($D$8:D10097)-1)))","v":""}]
[null,null,null,null,{"$f":"IF(A10098=\"\",\"\",IF(B10098=\"\",E10097,IF(D10098=\"\",E10097,D10098/MAX($D$8:D10098)-1)))","v":""}]
[null,null,null,null,{"$f":"IF(A10099=\"\",\"\",IF(B10099=\"\",E10098,IF(D10099=\"\",E10098,D10099/MAX($D$8:D10099)-1)))","v":""}]
[null,null,null,null,{"$f":"IF(A10100=\"\",\"\",IF(B10100=\"\",E10099,IF(D10100=\"\",E10099,D10100/MAX($D$8:D10100)-1)))","v":""}]
[null,null,null,null,{"$f":"IF(A10101=\"\",\"\",IF(B10101=\"\",E10100,IF(D10101=\"\",E10100,D10101/MAX($D$8:D10101)-1)))","v":""}]
[null,null,null,null,{"$f":"IF(A10102=\"\",\"\",IF(B10102=\"\",E10101,IF(D10102=\"\",E10101,D10102/MAX($D$8:D10102)-1)))","v":""}]
[null,null,null,null,{"$f":"IF(A10103=\"\",\"\",IF(B10103=\"\",E10102,IF(D10103=\"\",E10102,D10103/MAX($D$8:D10103)-1)))","v":""}]
[null,null,null,null,{"$f":"IF(A10104=\"\",\"\",IF(B10104=\"\",E10103,IF(D10104=\"\",E10103,D10104/MAX($D$8:D10104)-1)))","v":""}]
[null,null,null,null,{"$f":"IF(A10105=\"\",\"\",IF(B10105=\"\",E10104,IF(D10105=\"\",E10104,D10105/MAX($D$8:D10105)-1)))","v":""}]
[null,null,null,null,{"$f":"IF(A10106=\"\",\"\",IF(B10106=\"\",E10105,IF(D10106=\"\",E10105,D10106/MAX($D$8:D10106)-1)))","v":""}]
[null,null,null,null,{"$f":"IF(A10107=\"\",\"\",IF(B10107=\"\",E10106,IF(D10107=\"\",E10106,D10107/MAX($D$8:D10107)-1)))","v":""}]
[null,null,null,null,{"$f":"IF(A10108=\"\",\"\",IF(B10108=\"\",E10107,IF(D10108=\"\",E10107,D10108/MAX($D$8:D10108)-1)))","v":""}]
[null,null,null,null,{"$f":"IF(A10109=\"\",\"\",IF(B10109=\"\",E10108,IF(D10109=\"\",E10108,D10109/MAX($D$8:D10109)-1)))","v":""}]
[null,null,null,null,{"$f":"IF(A10110=\"\",\"\",IF(B10110=\"\",E10109,IF(D10110=\"\",E10109,D10110/MAX($D$8:D10110)-1)))","v":""}]
[null,null,null,null,{"$f":"IF(A10111=\"\",\"\",IF(B10111=\"\",E10110,IF(D10111=\"\",E10110,D10111/MAX($D$8:D10111)-1)))","v":""}]
[null,null,null,null,{"$f":"IF(A10112=\"\",\"\",IF(B10112=\"\",E10111,IF(D10112=\"\",E10111,D10112/MAX($D$8:D10112)-1)))","v":""}]
[null,null,null,null,{"$f":"IF(A10113=\"\",\"\",IF(B10113=\"\",E10112,IF(D10113=\"\",E10112,D10113/MAX($D$8:D10113)-1)))","v":""}]
[null,null,null,null,{"$f":"IF(A10114=\"\",\"\",IF(B10114=\"\",E10113,IF(D10114=\"\",E10113,D10114/MAX($D$8:D10114)-1)))","v":""}]
[null,null,null,null,{"$f":"IF(A10115=\"\",\"\",IF(B10115=\"\",E10114,IF(D10115=\"\",E10114,D10115/MAX($D$8:D10115)-1)))","v":""}]
[null,null,null,null,{"$f":"IF(A10116=\"\",\"\",IF(B10116=\"\",E10115,IF(D10116=\"\",E10115,D10116/MAX($D$8:D10116)-1)))","v":""}]
[null,null,null,null,{"$f":"IF(A10117=\"\",\"\",IF(B10117=\"\",E10116,IF(D10117=\"\",E10116,D10117/MAX($D$8:D10117)-1)))","v":""}]
[null,null,null,null,{"$f":"IF(A10118=\"\",\"\",IF(B10118=\"\",E10117,IF(D10118=\"\",E10117,D10118/MAX($D$8:D10118)-1)))","v":""}]
[null,null,null,null,{"$f":"IF(A10119=\"\",\"\",IF(B10119=\"\",E10118,IF(D10119=\"\",E10118,D10119/MAX($D$8:D10119)-1)))","v":""}]
[null,null,null,null,{"$f":"IF(A10120=\"\",\"\",IF(B10120=\"\",E10119,IF(D10120=\"\",E10119,D10120/MAX($D$8:D10120)-1)))","v":""}]
[null,null,null,null,{"$f":"IF(A10121=\"\",\"\",IF(B10121=\"\",E10120,IF(D10121=\"\",E10120,D10121/MAX($D$8:D10121)-1)))","v":""}]
[null,null,null,null,{"$f":"IF(A10122=\"\",\"\",IF(B10122=\"\",E10121,IF(D10122=\"\",E10121,D10122/MAX($D$8:D10122)-1)))","v":""}]
[null,null,null,null,{"$f":"IF(A10123=\"\",\"\",IF(B10123=\"\",E10122,IF(D10123=\"\",E10122,D10123/MAX($D$8:D10123)-1)))","v":""}]
[null,null,null,null,{"$f":"IF(A10124=\"\",\"\",IF(B10124=\"\",E10123,IF(D10124=\"\",E10123,D10124/MAX($D$8:D10124)-1)))","v":""}]
[null,null,null,null,{"$f":"IF(A10125=\"\",\"\",IF(B10125=\"\",E10124,IF(D10125=\"\",E10124,D10125/MAX($D$8:D10125)-1)))","v":""}]
[null,null,null,null,{"$f":"IF(A10126=\"\",\"\",IF(B10126=\"\",E10125,IF(D10126=\"\",E10125,D10126/MAX($D$8:D10126)-1)))","v":""}]
[null,null,null,null,{"$f":"IF(A10127=\"\",\"\",IF(B10127=\"\",E10126,IF(D10127=\"\",E10126,D10127/MAX($D$8:D10127)-1)))","v":""}]
[null,null,null,null,{"$f":"IF(A10128=\"\",\"\",IF(B10128=\"\",E10127,IF(D10128=\"\",E10127,D10128/MAX($D$8:D10128)-1)))","v":""}]
[null,null,null,null,{"$f":"IF(A10129=\"\",\"\",IF(B10129=\"\",E10128,IF(D10129=\"\",E10128,D10129/MAX($D$8:D10129)-1)))","v":""}]
[null,null,null,null,{"$f":"IF(A10130=\"\",\"\",IF(B10130=\"\",E10129,IF(D10130=\"\",E10129,D10130/MAX($D$8:D10130)-1)))","v":""}]
[null,null,null,null,{"$f":"IF(A10131=\"\",\"\",IF(B10131=\"\",E10130,IF(D10131=\"\",E10130,D10131/MAX($D$8:D10131)-1)))","v":""}]
[null,null,null,null,{"$f":"IF(A10132=\"\",\"\",IF(B10132=\"\",E10131,IF(D10132=\"\",E10131,D10132/MAX($D$8:D10132)-1)))","v":""}]
[null,null,null,null,{"$f":"IF(A10133=\"\",\"\",IF(B10133=\"\",E10132,IF(D10133=\"\",E10132,D10133/MAX($D$8:D10133)-1)))","v":""}]
[null,null,null,null,{"$f":"IF(A10134=\"\",\"\",IF(B10134=\"\",E10133,IF(D10134=\"\",E10133,D10134/MAX($D$8:D10134)-1)))","v":""}]
[null,null,null,null,{"$f":"IF(A10135=\"\",\"\",IF(B10135=\"\",E10134,IF(D10135=\"\",E10134,D10135/MAX($D$8:D10135)-1)))","v":""}]
[null,null,null,null,{"$f":"IF(A10136=\"\",\"\",IF(B10136=\"\",E10135,IF(D10136=\"\",E10135,D10136/MAX($D$8:D10136)-1)))","v":""}]
[null,null,null,null,{"$f":"IF(A10137=\"\",\"\",IF(B10137=\"\",E10136,IF(D10137=\"\",E10136,D10137/MAX($D$8:D10137)-1)))","v":""}]
[null,null,null,null,{"$f":"IF(A10138=\"\",\"\",IF(B10138=\"\",E10137,IF(D10138=\"\",E10137,D10138/MAX($D$8:D10138)-1)))","v":""}]
[null,null,null,null,{"$f":"IF(A10139=\"\",\"\",IF(B10139=\"\",E10138,IF(D10139=\"\",E10138,D10139/MAX($D$8:D10139)-1)))","v":""}]
[null,null,null,null,{"$f":"IF(A10140=\"\",\"\",IF(B10140=\"\",E10139,IF(D10140=\"\",E10139,D10140/MAX($D$8:D10140)-1)))","v":""}]
[null,null,null,null,{"$f":"IF(A10141=\"\",\"\",IF(B10141=\"\",E10140,IF(D10141=\"\",E10140,D10141/MAX($D$8:D10141)-1)))","v":""}]
[null,null,null,null,{"$f":"IF(A10142=\"\",\"\",IF(B10142=\"\",E10141,IF(D10142=\"\",E10141,D10142/MAX($D$8:D10142)-1)))","v":""}]
[null,null,null,null,{"$f":"IF(A10143=\"\",\"\",IF(B10143=\"\",E10142,IF(D10143=\"\",E10142,D10143/MAX($D$8:D10143)-1)))","v":""}]
[null,null,null,null,{"$f":"IF(A10144=\"\",\"\",IF(B10144=\"\",E10143,IF(D10144=\"\",E10143,D10144/MAX($D$8:D10144)-1)))","v":""}]
[null,null,null,null,{"$f":"IF(A10145=\"\",\"\",IF(B10145=\"\",E10144,IF(D10145=\"\",E10144,D10145/MAX($D$8:D10145)-1)))","v":""}]
[null,null,null,null,{"$f":"IF(A10146=\"\",\"\",IF(B10146=\"\",E10145,IF(D10146=\"\",E10145,D10146/MAX($D$8:D10146)-1)))","v":""}]
[null,null,null,null,{"$f":"IF(A10147=\"\",\"\",IF(B10147=\"\",E10146,IF(D10147=\"\",E10146,D10147/MAX($D$8:D10147)-1)))","v":""}]
[null,null,null,null,{"$f":"IF(A10148=\"\",\"\",IF(B10148=\"\",E10147,IF(D10148=\"\",E10147,D10148/MAX($D$8:D10148)-1)))","v":""}]
[null,null,null,null,{"$f":"IF(A10149=\"\",\"\",IF(B10149=\"\",E10148,IF(D10149=\"\",E10148,D10149/MAX($D$8:D10149)-1)))","v":""}]
[null,null,null,null,{"$f":"IF(A10150=\"\",\"\",IF(B10150=\"\",E10149,IF(D10150=\"\",E10149,D10150/MAX($D$8:D10150)-1)))","v":""}]
[null,null,null,null,{"$f":"IF(A10151=\"\",\"\",IF(B10151=\"\",E10150,IF(D10151=\"\",E10150,D10151/MAX($D$8:D10151)-1)))","v":""}]
[null,null,null,null,{"$f":"IF(A10152=\"\",\"\",IF(B10152=\"\",E10151,IF(D10152=\"\",E10151,D10152/MAX($D$8:D10152)-1)))","v":""}]
[null,null,null,null,{"$f":"IF(A10153=\"\",\"\",IF(B10153=\"\",E10152,IF(D10153=\"\",E10152,D10153/MAX($D$8:D10153)-1)))","v":""}]
[null,null,null,null,{"$f":"IF(A10154=\"\",\"\",IF(B10154=\"\",E10153,IF(D10154=\"\",E10153,D10154/MAX($D$8:D10154)-1)))","v":""}]
[null,null,null,null,{"$f":"IF(A10155=\"\",\"\",IF(B10155=\"\",E10154,IF(D10155=\"\",E10154,D10155/MAX($D$8:D10155)-1)))","v":""}]
[null,null,null,null,{"$f":"IF(A10156=\"\",\"\",IF(B10156=\"\",E10155,IF(D10156=\"\",E10155,D10156/MAX($D$8:D10156)-1)))","v":""}]
[null,null,null,null,{"$f":"IF(A10157=\"\",\"\",IF(B10157=\"\",E10156,IF(D10157=\"\",E10156,D10157/MAX($D$8:D10157)-1)))","v":""}]
[null,null,null,null,{"$f":"IF(A10158=\"\",\"\",IF(B10158=\"\",E10157,IF(D10158=\"\",E10157,D10158/MAX($D$8:D10158)-1)))","v":""}]
[null,null,null,null,{"$f":"IF(A10159=\"\",\"\",IF(B10159=\"\",E10158,IF(D10159=\"\",E10158,D10159/MAX($D$8:D10159)-1)))","v":""}]
[null,null,null,null,{"$f":"IF(A10160=\"\",\"\",IF(B10160=\"\",E10159,IF(D10160=\"\",E10159,D10160/MAX($D$8:D10160)-1)))","v":""}]
[null,null,null,null,{"$f":"IF(A10161=\"\",\"\",IF(B10161=\"\",E10160,IF(D10161=\"\",E10160,D10161/MAX($D$8:D10161)-1)))","v":""}]
[null,null,null,null,{"$f":"IF(A10162=\"\",\"\",IF(B10162=\"\",E10161,IF(D10162=\"\",E10161,D10162/MAX($D$8:D10162)-1)))","v":""}]
[null,null,null,null,{"$f":"IF(A10163=\"\",\"\",IF(B10163=\"\",E10162,IF(D10163=\"\",E10162,D10163/MAX($D$8:D10163)-1)))","v":""}]
[null,null,null,null,{"$f":"IF(A10164=\"\",\"\",IF(B10164=\"\",E10163,IF(D10164=\"\",E10163,D10164/MAX($D$8:D10164)-1)))","v":""}]
[null,null,null,null,{"$f":"IF(A10165=\"\",\"\",IF(B10165=\"\",E10164,IF(D10165=\"\",E10164,D10165/MAX($D$8:D10165)-1)))","v":""}]
[null,null,null,null,{"$f":"IF(A10166=\"\",\"\",IF(B10166=\"\",E10165,IF(D10166=\"\",E10165,D10166/MAX($D$8:D10166)-1)))","v":""}]
[null,null,null,null,{"$f":"IF(A10167=\"\",\"\",IF(B10167=\"\",E10166,IF(D10167=\"\",E10166,D10167/MAX($D$8:D10167)-1)))","v":""}]
[null,null,null,null,{"$f":"IF(A10168=\"\",\"\",IF(B10168=\"\",E10167,IF(D10168=\"\",E10167,D10168/MAX($D$8:D10168)-1)))","v":""}]
[null,null,null,null,{"$f":"IF(A10169=\"\",\"\",IF(B10169=\"\",E10168,IF(D10169=\"\",E10168,D10169/MAX($D$8:D10169)-1)))","v":""}]
[null,null,null,null,{"$f":"IF(A10170=\"\",\"\",IF(B10170=\"\",E10169,IF(D10170=\"\",E10169,D10170/MAX($D$8:D10170)-1)))","v":""}]
[null,null,null,null,{"$f":"IF(A10171=\"\",\"\",IF(B10171=\"\",E10170,IF(D10171=\"\",E10170,D10171/MAX($D$8:D10171)-1)))","v":""}]
[null,null,null,null,{"$f":"IF(A10172=\"\",\"\",IF(B10172=\"\",E10171,IF(D10172=\"\",E10171,D10172/MAX($D$8:D10172)-1)))","v":""}]
[null,null,null,null,{"$f":"IF(A10173=\"\",\"\",IF(B10173=\"\",E10172,IF(D10173=\"\",E10172,D10173/MAX($D$8:D10173)-1)))","v":""}]
[null,null,null,null,{"$f":"IF(A10174=\"\",\"\",IF(B10174=\"\",E10173,IF(D10174=\"\",E10173,D10174/MAX($D$8:D10174)-1)))","v":""}]
[null,null,null,null,{"$f":"IF(A10175=\"\",\"\",IF(B10175=\"\",E10174,IF(D10175=\"\",E10174,D10175/MAX($D$8:D10175)-1)))","v":""}]
[null,null,null,null,{"$f":"IF(A10176=\"\",\"\",IF(B10176=\"\",E10175,IF(D10176=\"\",E10175,D10176/MAX($D$8:D10176)-1)))","v":""}]
[null,null,null,null,{"$f":"IF(A10177=\"\",\"\",IF(B10177=\"\",E10176,IF(D10177=\"\",E10176,D10177/MAX($D$8:D10177)-1)))","v":""}]
[null,null,null,null,{"$f":"IF(A10178=\"\",\"\",IF(B10178=\"\",E10177,IF(D10178=\"\",E10177,D10178/MAX($D$8:D10178)-1)))","v":""}]
[null,null,null,null,{"$f":"IF(A10179=\"\",\"\",IF(B10179=\"\",E10178,IF(D10179=\"\",E10178,D10179/MAX($D$8:D10179)-1)))","v":""}]
[null,null,null,null,{"$f":"IF(A10180=\"\",\"\",IF(B10180=\"\",E10179,IF(D10180=\"\",E10179,D10180/MAX($D$8:D10180)-1)))","v":""}]
[null,null,null,null,{"$f":"IF(A10181=\"\",\"\",IF(B10181=\"\",E10180,IF(D10181=\"\",E10180,D10181/MAX($D$8:D10181)-1)))","v":""}]
[null,null,null,null,{"$f":"IF(A10182=\"\",\"\",IF(B10182=\"\",E10181,IF(D10182=\"\",E10181,D10182/MAX($D$8:D10182)-1)))","v":""}]
[null,null,null,null,{"$f":"IF(A10183=\"\",\"\",IF(B10183=\"\",E10182,IF(D10183=\"\",E10182,D10183/MAX($D$8:D10183)-1)))","v":""}]
[null,null,null,null,{"$f":"IF(A10184=\"\",\"\",IF(B10184=\"\",E10183,IF(D10184=\"\",E10183,D10184/MAX($D$8:D10184)-1)))","v":""}]
[null,null,null,null,{"$f":"IF(A10185=\"\",\"\",IF(B10185=\"\",E10184,IF(D10185=\"\",E10184,D10185/MAX($D$8:D10185)-1)))","v":""}]
[null,null,null,null,{"$f":"IF(A10186=\"\",\"\",IF(B10186=\"\",E10185,IF(D10186=\"\",E10185,D10186/MAX($D$8:D10186)-1)))","v":""}]
[null,null,null,null,{"$f":"IF(A10187=\"\",\"\",IF(B10187=\"\",E10186,IF(D10187=\"\",E10186,D10187/MAX($D$8:D10187)-1)))","v":""}]
[null,null,null,null,{"$f":"IF(A10188=\"\",\"\",IF(B10188=\"\",E10187,IF(D10188=\"\",E10187,D10188/MAX($D$8:D10188)-1)))","v":""}]
[null,null,null,null,{"$f":"IF(A10189=\"\",\"\",IF(B10189=\"\",E10188,IF(D10189=\"\",E10188,D10189/MAX($D$8:D10189)-1)))","v":""}]
[null,null,null,null,{"$f":"IF(A10190=\"\",\"\",IF(B10190=\"\",E10189,IF(D10190=\"\",E10189,D10190/MAX($D$8:D10190)-1)))","v":""}]
[null,null,null,null,{"$f":"IF(A10191=\"\",\"\",IF(B10191=\"\",E10190,IF(D10191=\"\",E10190,D10191/MAX($D$8:D10191)-1)))","v":""}]
[null,null,null,null,{"$f":"IF(A10192=\"\",\"\",IF(B10192=\"\",E10191,IF(D10192=\"\",E10191,D10192/MAX($D$8:D10192)-1)))","v":""}]
[null,null,null,null,{"$f":"IF(A10193=\"\",\"\",IF(B10193=\"\",E10192,IF(D10193=\"\",E10192,D10193/MAX($D$8:D10193)-1)))","v":""}]
[null,null,null,null,{"$f":"IF(A10194=\"\",\"\",IF(B10194=\"\",E10193,IF(D10194=\"\",E10193,D10194/MAX($D$8:D10194)-1)))","v":""}]
[null,null,null,null,{"$f":"IF(A10195=\"\",\"\",IF(B10195=\"\",E10194,IF(D10195=\"\",E10194,D10195/MAX($D$8:D10195)-1)))","v":""}]
[null,null,null,null,{"$f":"IF(A10196=\"\",\"\",IF(B10196=\"\",E10195,IF(D10196=\"\",E10195,D10196/MAX($D$8:D10196)-1)))","v":""}]
[null,null,null,null,{"$f":"IF(A10197=\"\",\"\",IF(B10197=\"\",E10196,IF(D10197=\"\",E10196,D10197/MAX($D$8:D10197)-1)))","v":""}]
[null,null,null,null,{"$f":"IF(A10198=\"\",\"\",IF(B10198=\"\",E10197,IF(D10198=\"\",E10197,D10198/MAX($D$8:D10198)-1)))","v":""}]
[null,null,null,null,{"$f":"IF(A10199=\"\",\"\",IF(B10199=\"\",E10198,IF(D10199=\"\",E10198,D10199/MAX($D$8:D10199)-1)))","v":""}]
[null,null,null,null,{"$f":"IF(A10200=\"\",\"\",IF(B10200=\"\",E10199,IF(D10200=\"\",E10199,D10200/MAX($D$8:D10200)-1)))","v":""}]
[null,null,null,null,{"$f":"IF(A10201=\"\",\"\",IF(B10201=\"\",E10200,IF(D10201=\"\",E10200,D10201/MAX($D$8:D10201)-1)))","v":""}]
[null,null,null,null,{"$f":"IF(A10202=\"\",\"\",IF(B10202=\"\",E10201,IF(D10202=\"\",E10201,D10202/MAX($D$8:D10202)-1)))","v":""}]
[null,null,null,null,{"$f":"IF(A10203=\"\",\"\",IF(B10203=\"\",E10202,IF(D10203=\"\",E10202,D10203/MAX($D$8:D10203)-1)))","v":""}]
[null,null,null,null,{"$f":"IF(A10204=\"\",\"\",IF(B10204=\"\",E10203,IF(D10204=\"\",E10203,D10204/MAX($D$8:D10204)-1)))","v":""}]
[null,null,null,null,{"$f":"IF(A10205=\"\",\"\",IF(B10205=\"\",E10204,IF(D10205=\"\",E10204,D10205/MAX($D$8:D10205)-1)))","v":""}]
[null,null,null,null,{"$f":"IF(A10206=\"\",\"\",IF(B10206=\"\",E10205,IF(D10206=\"\",E10205,D10206/MAX($D$8:D10206)-1)))","v":""}]
[null,null,null,null,{"$f":"IF(A10207=\"\",\"\",IF(B10207=\"\",E10206,IF(D10207=\"\",E10206,D10207/MAX($D$8:D10207)-1)))","v":""}]
[null,null,null,null,{"$f":"IF(A10208=\"\",\"\",IF(B10208=\"\",E10207,IF(D10208=\"\",E10207,D10208/MAX($D$8:D10208)-1)))","v":""}]
[null,null,null,null,{"$f":"IF(A10209=\"\",\"\",IF(B10209=\"\",E10208,IF(D10209=\"\",E10208,D10209/MAX($D$8:D10209)-1)))","v":""}]
[null,null,null,null,{"$f":"IF(A10210=\"\",\"\",IF(B10210=\"\",E10209,IF(D10210=\"\",E10209,D10210/MAX($D$8:D10210)-1)))","v":""}]
[null,null,null,null,{"$f":"IF(A10211=\"\",\"\",IF(B10211=\"\",E10210,IF(D10211=\"\",E10210,D10211/MAX($D$8:D10211)-1)))","v":""}]
[null,null,null,null,{"$f":"IF(A10212=\"\",\"\",IF(B10212=\"\",E10211,IF(D10212=\"\",E10211,D10212/MAX($D$8:D10212)-1)))","v":""}]
[null,null,null,null,{"$f":"IF(A10213=\"\",\"\",IF(B10213=\"\",E10212,IF(D10213=\"\",E10212,D10213/MAX($D$8:D10213)-1)))","v":""}]
[null,null,null,null,{"$f":"IF(A10214=\"\",\"\",IF(B10214=\"\",E10213,IF(D10214=\"\",E10213,D10214/MAX($D$8:D10214)-1)))","v":""}]
[null,null,null,null,{"$f":"IF(A10215=\"\",\"\",IF(B10215=\"\",E10214,IF(D10215=\"\",E10214,D10215/MAX($D$8:D10215)-1)))","v":""}]
[null,null,null,null,{"$f":"IF(A10216=\"\",\"\",IF(B10216=\"\",E10215,IF(D10216=\"\",E10215,D10216/MAX($D$8:D10216)-1)))","v":""}]
[null,null,null,null,{"$f":"IF(A10217=\"\",\"\",IF(B10217=\"\",E10216,IF(D10217=\"\",E10216,D10217/MAX($D$8:D10217)-1)))","v":""}]
[null,null,null,null,{"$f":"IF(A10218=\"\",\"\",IF(B10218=\"\",E10217,IF(D10218=\"\",E10217,D10218/MAX($D$8:D10218)-1)))","v":""}]
[null,null,null,null,{"$f":"IF(A10219=\"\",\"\",IF(B10219=\"\",E10218,IF(D10219=\"\",E10218,D10219/MAX($D$8:D10219)-1)))","v":""}]
[null,null,null,null,{"$f":"IF(A10220=\"\",\"\",IF(B10220=\"\",E10219,IF(D10220=\"\",E10219,D10220/MAX($D$8:D10220)-1)))","v":""}]
[null,null,null,null,{"$f":"IF(A10221=\"\",\"\",IF(B10221=\"\",E10220,IF(D10221=\"\",E10220,D10221/MAX($D$8:D10221)-1)))","v":""}]
[null,null,null,null,{"$f":"IF(A10222=\"\",\"\",IF(B10222=\"\",E10221,IF(D10222=\"\",E10221,D10222/MAX($D$8:D10222)-1)))","v":""}]
[null,null,null,null,{"$f":"IF(A10223=\"\",\"\",IF(B10223=\"\",E10222,IF(D10223=\"\",E10222,D10223/MAX($D$8:D10223)-1)))","v":""}]
[null,null,null,null,{"$f":"IF(A10224=\"\",\"\",IF(B10224=\"\",E10223,IF(D10224=\"\",E10223,D10224/MAX($D$8:D10224)-1)))","v":""}]
[null,null,null,null,{"$f":"IF(A10225=\"\",\"\",IF(B10225=\"\",E10224,IF(D10225=\"\",E10224,D10225/MAX($D$8:D10225)-1)))","v":""}]
[null,null,null,null,{"$f":"IF(A10226=\"\",\"\",IF(B10226=\"\",E10225,IF(D10226=\"\",E10225,D10226/MAX($D$8:D10226)-1)))","v":""}]
[null,null,null,null,{"$f":"IF(A10227=\"\",\"\",IF(B10227=\"\",E10226,IF(D10227=\"\",E10226,D10227/MAX($D$8:D10227)-1)))","v":""}]
[null,null,null,null,{"$f":"IF(A10228=\"\",\"\",IF(B10228=\"\",E10227,IF(D10228=\"\",E10227,D10228/MAX($D$8:D10228)-1)))","v":""}]
[null,null,null,null,{"$f":"IF(A10229=\"\",\"\",IF(B10229=\"\",E10228,IF(D10229=\"\",E10228,D10229/MAX($D$8:D10229)-1)))","v":""}]
[null,null,null,null,{"$f":"IF(A10230=\"\",\"\",IF(B10230=\"\",E10229,IF(D10230=\"\",E10229,D10230/MAX($D$8:D10230)-1)))","v":""}]
[null,null,null,null,{"$f":"IF(A10231=\"\",\"\",IF(B10231=\"\",E10230,IF(D10231=\"\",E10230,D10231/MAX($D$8:D10231)-1)))","v":""}]
[null,null,null,null,{"$f":"IF(A10232=\"\",\"\",IF(B10232=\"\",E10231,IF(D10232=\"\",E10231,D10232/MAX($D$8:D10232)-1)))","v":""}]
[null,null,null,null,{"$f":"IF(A10233=\"\",\"\",IF(B10233=\"\",E10232,IF(D10233=\"\",E10232,D10233/MAX($D$8:D10233)-1)))","v":""}]
[null,null,null,null,{"$f":"IF(A10234=\"\",\"\",IF(B10234=\"\",E10233,IF(D10234=\"\",E10233,D10234/MAX($D$8:D10234)-1)))","v":""}]
[null,null,null,null,{"$f":"IF(A10235=\"\",\"\",IF(B10235=\"\",E10234,IF(D10235=\"\",E10234,D10235/MAX($D$8:D10235)-1)))","v":""}]
[null,null,null,null,{"$f":"IF(A10236=\"\",\"\",IF(B10236=\"\",E10235,IF(D10236=\"\",E10235,D10236/MAX($D$8:D10236)-1)))","v":""}]
[null,null,null,null,{"$f":"IF(A10237=\"\",\"\",IF(B10237=\"\",E10236,IF(D10237=\"\",E10236,D10237/MAX($D$8:D10237)-1)))","v":""}]
[null,null,null,null,{"$f":"IF(A10238=\"\",\"\",IF(B10238=\"\",E10237,IF(D10238=\"\",E10237,D10238/MAX($D$8:D10238)-1)))","v":""}]
[null,null,null,null,{"$f":"IF(A10239=\"\",\"\",IF(B10239=\"\",E10238,IF(D10239=\"\",E10238,D10239/MAX($D$8:D10239)-1)))","v":""}]
[null,null,null,null,{"$f":"IF(A10240=\"\",\"\",IF(B10240=\"\",E10239,IF(D10240=\"\",E10239,D10240/MAX($D$8:D10240)-1)))","v":""}]
[null,null,null,null,{"$f":"IF(A10241=\"\",\"\",IF(B10241=\"\",E10240,IF(D10241=\"\",E10240,D10241/MAX($D$8:D10241)-1)))","v":""}]
[null,null,null,null,{"$f":"IF(A10242=\"\",\"\",IF(B10242=\"\",E10241,IF(D10242=\"\",E10241,D10242/MAX($D$8:D10242)-1)))","v":""}]
[null,null,null,null,{"$f":"IF(A10243=\"\",\"\",IF(B10243=\"\",E10242,IF(D10243=\"\",E10242,D10243/MAX($D$8:D10243)-1)))","v":""}]
[null,null,null,null,{"$f":"IF(A10244=\"\",\"\",IF(B10244=\"\",E10243,IF(D10244=\"\",E10243,D10244/MAX($D$8:D10244)-1)))","v":""}]
[null,null,null,null,{"$f":"IF(A10245=\"\",\"\",IF(B10245=\"\",E10244,IF(D10245=\"\",E10244,D10245/MAX($D$8:D10245)-1)))","v":""}]
[null,null,null,null,{"$f":"IF(A10246=\"\",\"\",IF(B10246=\"\",E10245,IF(D10246=\"\",E10245,D10246/MAX($D$8:D10246)-1)))","v":""}]
[null,null,null,null,{"$f":"IF(A10247=\"\",\"\",IF(B10247=\"\",E10246,IF(D10247=\"\",E10246,D10247/MAX($D$8:D10247)-1)))","v":""}]
[null,null,null,null,{"$f":"IF(A10248=\"\",\"\",IF(B10248=\"\",E10247,IF(D10248=\"\",E10247,D10248/MAX($D$8:D10248)-1)))","v":""}]
[null,null,null,null,{"$f":"IF(A10249=\"\",\"\",IF(B10249=\"\",E10248,IF(D10249=\"\",E10248,D10249/MAX($D$8:D10249)-1)))","v":""}]
[null,null,null,null,{"$f":"IF(A10250=\"\",\"\",IF(B10250=\"\",E10249,IF(D10250=\"\",E10249,D10250/MAX($D$8:D10250)-1)))","v":""}]
[null,null,null,null,{"$f":"IF(A10251=\"\",\"\",IF(B10251=\"\",E10250,IF(D10251=\"\",E10250,D10251/MAX($D$8:D10251)-1)))","v":""}]
[null,null,null,null,{"$f":"IF(A10252=\"\",\"\",IF(B10252=\"\",E10251,IF(D10252=\"\",E10251,D10252/MAX($D$8:D10252)-1)))","v":""}]
[null,null,null,null,{"$f":"IF(A10253=\"\",\"\",IF(B10253=\"\",E10252,IF(D10253=\"\",E10252,D10253/MAX($D$8:D10253)-1)))","v":""}]
[null,null,null,null,{"$f":"IF(A10254=\"\",\"\",IF(B10254=\"\",E10253,IF(D10254=\"\",E10253,D10254/MAX($D$8:D10254)-1)))","v":""}]
[null,null,null,null,{"$f":"IF(A10255=\"\",\"\",IF(B10255=\"\",E10254,IF(D10255=\"\",E10254,D10255/MAX($D$8:D10255)-1)))","v":""}]
[null,null,null,null,{"$f":"IF(A10256=\"\",\"\",IF(B10256=\"\",E10255,IF(D10256=\"\",E10255,D10256/MAX($D$8:D10256)-1)))","v":""}]
[null,null,null,null,{"$f":"IF(A10257=\"\",\"\",IF(B10257=\"\",E10256,IF(D10257=\"\",E10256,D10257/MAX($D$8:D10257)-1)))","v":""}]
[null,null,null,null,{"$f":"IF(A10258=\"\",\"\",IF(B10258=\"\",E10257,IF(D10258=\"\",E10257,D10258/MAX($D$8:D10258)-1)))","v":""}]
[null,null,null,null,{"$f":"IF(A10259=\"\",\"\",IF(B10259=\"\",E10258,IF(D10259=\"\",E10258,D10259/MAX($D$8:D10259)-1)))","v":""}]
[null,null,null,null,{"$f":"IF(A10260=\"\",\"\",IF(B10260=\"\",E10259,IF(D10260=\"\",E10259,D10260/MAX($D$8:D10260)-1)))","v":""}]
[null,null,null,null,{"$f":"IF(A10261=\"\",\"\",IF(B10261=\"\",E10260,IF(D10261=\"\",E10260,D10261/MAX($D$8:D10261)-1)))","v":""}]
[null,null,null,null,{"$f":"IF(A10262=\"\",\"\",IF(B10262=\"\",E10261,IF(D10262=\"\",E10261,D10262/MAX($D$8:D10262)-1)))","v":""}]
[null,null,null,null,{"$f":"IF(A10263=\"\",\"\",IF(B10263=\"\",E10262,IF(D10263=\"\",E10262,D10263/MAX($D$8:D10263)-1)))","v":""}]
[null,null,null,null,{"$f":"IF(A10264=\"\",\"\",IF(B10264=\"\",E10263,IF(D10264=\"\",E10263,D10264/MAX($D$8:D10264)-1)))","v":""}]
[null,null,null,null,{"$f":"IF(A10265=\"\",\"\",IF(B10265=\"\",E10264,IF(D10265=\"\",E10264,D10265/MAX($D$8:D10265)-1)))","v":""}]
[null,null,null,null,{"$f":"IF(A10266=\"\",\"\",IF(B10266=\"\",E10265,IF(D10266=\"\",E10265,D10266/MAX($D$8:D10266)-1)))","v":""}]
[null,null,null,null,{"$f":"IF(A10267=\"\",\"\",IF(B10267=\"\",E10266,IF(D10267=\"\",E10266,D10267/MAX($D$8:D10267)-1)))","v":""}]
[null,null,null,null,{"$f":"IF(A10268=\"\",\"\",IF(B10268=\"\",E10267,IF(D10268=\"\",E10267,D10268/MAX($D$8:D10268)-1)))","v":""}]
[null,null,null,null,{"$f":"IF(A10269=\"\",\"\",IF(B10269=\"\",E10268,IF(D10269=\"\",E10268,D10269/MAX($D$8:D10269)-1)))","v":""}]
[null,null,null,null,{"$f":"IF(A10270=\"\",\"\",IF(B10270=\"\",E10269,IF(D10270=\"\",E10269,D10270/MAX($D$8:D10270)-1)))","v":""}]
[null,null,null,null,{"$f":"IF(A10271=\"\",\"\",IF(B10271=\"\",E10270,IF(D10271=\"\",E10270,D10271/MAX($D$8:D10271)-1)))","v":""}]
[null,null,null,null,{"$f":"IF(A10272=\"\",\"\",IF(B10272=\"\",E10271,IF(D10272=\"\",E10271,D10272/MAX($D$8:D10272)-1)))","v":""}]
[null,null,null,null,{"$f":"IF(A10273=\"\",\"\",IF(B10273=\"\",E10272,IF(D10273=\"\",E10272,D10273/MAX($D$8:D10273)-1)))","v":""}]
[null,null,null,null,{"$f":"IF(A10274=\"\",\"\",IF(B10274=\"\",E10273,IF(D10274=\"\",E10273,D10274/MAX($D$8:D10274)-1)))","v":""}]
[null,null,null,null,{"$f":"IF(A10275=\"\",\"\",IF(B10275=\"\",E10274,IF(D10275=\"\",E10274,D10275/MAX($D$8:D10275)-1)))","v":""}]
[null,null,null,null,{"$f":"IF(A10276=\"\",\"\",IF(B10276=\"\",E10275,IF(D10276=\"\",E10275,D10276/MAX($D$8:D10276)-1)))","v":""}]
[null,null,null,null,{"$f":"IF(A10277=\"\",\"\",IF(B10277=\"\",E10276,IF(D10277=\"\",E10276,D10277/MAX($D$8:D10277)-1)))","v":""}]
[null,null,null,null,{"$f":"IF(A10278=\"\",\"\",IF(B10278=\"\",E10277,IF(D10278=\"\",E10277,D10278/MAX($D$8:D10278)-1)))","v":""}]
[null,null,null,null,{"$f":"IF(A10279=\"\",\"\",IF(B10279=\"\",E10278,IF(D10279=\"\",E10278,D10279/MAX($D$8:D10279)-1)))","v":""}]
[null,null,null,null,{"$f":"IF(A10280=\"\",\"\",IF(B10280=\"\",E10279,IF(D10280=\"\",E10279,D10280/MAX($D$8:D10280)-1)))","v":""}]
[null,null,null,null,{"$f":"IF(A10281=\"\",\"\",IF(B10281=\"\",E10280,IF(D10281=\"\",E10280,D10281/MAX($D$8:D10281)-1)))","v":""}]
[null,null,null,null,{"$f":"IF(A10282=\"\",\"\",IF(B10282=\"\",E10281,IF(D10282=\"\",E10281,D10282/MAX($D$8:D10282)-1)))","v":""}]
[null,null,null,null,{"$f":"IF(A10283=\"\",\"\",IF(B10283=\"\",E10282,IF(D10283=\"\",E10282,D10283/MAX($D$8:D10283)-1)))","v":""}]
[null,null,null,null,{"$f":"IF(A10284=\"\",\"\",IF(B10284=\"\",E10283,IF(D10284=\"\",E10283,D10284/MAX($D$8:D10284)-1)))","v":""}]
[null,null,null,null,{"$f":"IF(A10285=\"\",\"\",IF(B10285=\"\",E10284,IF(D10285=\"\",E10284,D10285/MAX($D$8:D10285)-1)))","v":""}]
[null,null,null,null,{"$f":"IF(A10286=\"\",\"\",IF(B10286=\"\",E10285,IF(D10286=\"\",E10285,D10286/MAX($D$8:D10286)-1)))","v":""}]
[null,null,null,null,{"$f":"IF(A10287=\"\",\"\",IF(B10287=\"\",E10286,IF(D10287=\"\",E10286,D10287/MAX($D$8:D10287)-1)))","v":""}]
[null,null,null,null,{"$f":"IF(A10288=\"\",\"\",IF(B10288=\"\",E10287,IF(D10288=\"\",E10287,D10288/MAX($D$8:D10288)-1)))","v":""}]
[null,null,null,null,{"$f":"IF(A10289=\"\",\"\",IF(B10289=\"\",E10288,IF(D10289=\"\",E10288,D10289/MAX($D$8:D10289)-1)))","v":""}]
[null,null,null,null,{"$f":"IF(A10290=\"\",\"\",IF(B10290=\"\",E10289,IF(D10290=\"\",E10289,D10290/MAX($D$8:D10290)-1)))","v":""}]
[null,null,null,null,{"$f":"IF(A10291=\"\",\"\",IF(B10291=\"\",E10290,IF(D10291=\"\",E10290,D10291/MAX($D$8:D10291)-1)))","v":""}]
[null,null,null,null,{"$f":"IF(A10292=\"\",\"\",IF(B10292=\"\",E10291,IF(D10292=\"\",E10291,D10292/MAX($D$8:D10292)-1)))","v":""}]
[null,null,null,null,{"$f":"IF(A10293=\"\",\"\",IF(B10293=\"\",E10292,IF(D10293=\"\",E10292,D10293/MAX($D$8:D10293)-1)))","v":""}]
[null,null,null,null,{"$f":"IF(A10294=\"\",\"\",IF(B10294=\"\",E10293,IF(D10294=\"\",E10293,D10294/MAX($D$8:D10294)-1)))","v":""}]
[null,null,null,null,{"$f":"IF(A10295=\"\",\"\",IF(B10295=\"\",E10294,IF(D10295=\"\",E10294,D10295/MAX($D$8:D10295)-1)))","v":""}]
[null,null,null,null,{"$f":"IF(A10296=\"\",\"\",IF(B10296=\"\",E10295,IF(D10296=\"\",E10295,D10296/MAX($D$8:D10296)-1)))","v":""}]
[null,null,null,null,{"$f":"IF(A10297=\"\",\"\",IF(B10297=\"\",E10296,IF(D10297=\"\",E10296,D10297/MAX($D$8:D10297)-1)))","v":""}]
[null,null,null,null,{"$f":"IF(A10298=\"\",\"\",IF(B10298=\"\",E10297,IF(D10298=\"\",E10297,D10298/MAX($D$8:D10298)-1)))","v":""}]
[null,null,null,null,{"$f":"IF(A10299=\"\",\"\",IF(B10299=\"\",E10298,IF(D10299=\"\",E10298,D10299/MAX($D$8:D10299)-1)))","v":""}]
[null,null,null,null,{"$f":"IF(A10300=\"\",\"\",IF(B10300=\"\",E10299,IF(D10300=\"\",E10299,D10300/MAX($D$8:D10300)-1)))","v":""}]
[null,null,null,null,{"$f":"IF(A10301=\"\",\"\",IF(B10301=\"\",E10300,IF(D10301=\"\",E10300,D10301/MAX($D$8:D10301)-1)))","v":""}]
[null,null,null,null,{"$f":"IF(A10302=\"\",\"\",IF(B10302=\"\",E10301,IF(D10302=\"\",E10301,D10302/MAX($D$8:D10302)-1)))","v":""}]
[null,null,null,null,{"$f":"IF(A10303=\"\",\"\",IF(B10303=\"\",E10302,IF(D10303=\"\",E10302,D10303/MAX($D$8:D10303)-1)))","v":""}]

{"sheet":"mm","index":6,"n_rows":4,"n_cols":8,"rows_kept":4,"cut":false,"hidden":true,"merged":[]}
["Ticker",{"$f":"#REF!","v":{"$error":"#REF!"}}]
["INICIO",{"$f":"#REF!","v":{"$error":"#REF!"}}]
["FIM","LATEST"]
["INTERVALO","D",null,null,{"$f":"_xll.ECONOMATICA($B$1,\"CLOSE\",,$B$3,$B$2,\"D\",,,\"TRUE\",\"TRUE\",\"MÉDIA MÓVEL\")","v":{"$error":"#VALUE!"}},null,{"$f":"_xll.ECONOMATICA($B$1,\"Hist Average\",,$B$3,$B$2,$B$4,\"ORIGINAL CURRENCY\",,\"false\",\"true\",\"MÉDIA MÓVEL 2\",optionals!$A$2:$A$5)","v":{"$error":"#VALUE!"}},{"$f":"_xll.ECONOMATICA($B$1,\"Hist Average\",,$B$3,$B$2,$B$4,\"ORIGINAL CURRENCY\",,\"false\",\"true\",\"MÉDIA MÓVEL 3\",optionals!$A$13:$A$17)","v":{"$error":"#VALUE!"}}]

{"sheet":"optionals","index":7,"n_rows":17,"n_cols":1,"rows_kept":17,"cut":false,"hidden":true,"merged":[]}
["Optionals"]
["dip.c=2"]
["dip.dt=-"]
[{"$f":"\"dip.pers=\"&#REF!","v":{"$error":"#REF!"}}]
["dip.per=0"]
[]
["std.tec.cals=7"]
["dip.c=2"]
["dip.dt=-"]
[{"$f":"\"dip.pers=\"&#REF!","v":{"$error":"#REF!"}}]
["dip.per=0"]
[]
["Optionals"]
["dip.c=2"]
["dip.dt=-"]
[{"$f":"\"dip.pers=\"&#REF!","v":{"$error":"#REF!"}}]
["dip.per=0"]

{"sheet":"Base Auxiliar","index":8,"n_rows":608,"n_cols":33,"rows_kept":608,"cut":false,"hidden":true,"merged":[[3,30,6,32],[3,21,6,28],[3,1,3,2],[3,15,3,17],[6,16,6,17],[4,16,4,17],[5,16,5,17],[3,8,3,10]]}
[]
[]
[]
[null,"Referências",null,null,"Data Base",{"$f":"_xll.ECONOMATICA(#REF!,\"DATE OF LAST QUOTE\")","v":{"$error":"#VALUE!"}},null,null,"FECHAMENTO",null,null,null,null,null,null,"BASE 100",null,null,null,null,null,"VOLUME",null,null,null,null,null,null,null,null,"RISCO X RETORNO"]
[null,"Ticker",{"$f":"#REF!","v":{"$error":"#REF!"}},null,null,null,null,null,"Máx ",{"$f":"ROUNDUP(MAX($K$12:$K$2002),0)+0.5","v":0.5},null,null,null,null,null,"Máx ",{"$f":"ROUNDUP(MAX($Q$12:$R$2002),0)+5","v":5}]
[null,"Benchmark",{"$f":"VLOOKUP('Base Auxiliar'!$F$6,'Base Auxiliar'!$B$11:$C$46,2,0)","v":{"$error":"#REF!"}},null,"Benchmark",{"$f":"#REF!","v":{"$error":"#REF!"}},null,null,"Mín",{"$f":"ROUNDUP(MIN($K$12:$K$2002),0)-0.5","v":-0.5},null,null,null,null,null,"Mín",{"$f":"ROUNDUP(MIN($Q$12:$R$2002),0)-5","v":-5}]
[null,"Data Fim",{"$f":"'Base Auxiliar'!$F$4","v":{"$error":"#VALUE!"}},null,"Unidades","Units",null,null,"VBA",{"$f":"AtualizarLimitesGrafico(\"COMPILADO\",\"FECHAMENTO\",$J$6,$J$5)","v":{"$error":"#VALUE!"}},null,null,null,null,".","VBA",{"$f":"AtualizarLimitesGrafico(\"COMPILADO\",\"BASE100\",$Q$6,$Q$5)","v":{"$error":"#VALUE!"}}]
[null,"UNIDADES",{"$f":"'Base Auxiliar'!$F$7","v":"Units"}]
[null,null,null,null,null,null,null,null,"12M",null,null,null,null,null,null,null,null,null,null,null,null,"12M"]
[null,{"$f":"_xll.ECONOMATICA($C$11:$C$46,\"NAME\")","v":{"$error":"#VALUE!"}},"Benchmarks",null,{"$f":"_xll.ECONOMATICA($F$11:$F$700,\"Ticker\")","v":{"$error":"#VALUE!"}},{"$f":"_xll.ECOSECURITIES(\"stock\",\"active\",,\"bra\",\"xbsp\",\"true\",\"LISTA AÇÕES\")","v":{"$error":"#VALUE!"}},null,null,{"$f":"_xll.ECONOMATICA($C$5,\"close\",,$C$7,$I$9,\"d\",,,\"true\",\"true\",\"Fechamento\")","v":{"$error":"#VALUE!"}},null,"Fechamento Sem Lacuna",null,null,null,null,{"$f":"_xll.ECONOMATICA($C$5,\"close\",,$C$7,$I$9,\"d\",\"REBASED TO 100\",,\"true\",\"true\",\"Fechamento\")","v":{"$error":"#VALUE!"}},null,{"$f":"_xll.ECONOMATICA($C$6,\"close\",,$C$7,$I$9,\"d\",\"REBASED TO 100\",,\"FALSE\",\"true\",\"Fechamento\")","v":{"$error":"#VALUE!"}},null,null,null,{"$f":"_xll.ECONOMATICA($C$5,\"close\",,$C$7,$V$9,\"d\",,,\"true\",\"true\",\"FECHAMENTO\")","v":{"$error":"#VALUE!"}},null,{"$f":"_xll.ECONOMATICA($C$5,\"VOLUME$\",,$C$7,$V$9,\"d\",,$C$8,\"FALSE\",\"true\",\"VOLUME DIÁRIO\")","v":{"$error":"#VALUE!"}},"Volume Ajustado","Volume Médio","Volume Médio Ajustado",{"$f":"_xll.ECONOMATICA($C$5,\"Hist Average\",\"3M\",$C$7,\"20m\",\"D\",\"ORIGINAL CURRENCY\",$C$8,\"true\",\"true\",\"Volume Médio 3M\",{\"std.tec.cals=7\"})","v":{"$error":"#VALUE!"}},null,null,null,{"$f":"_xll.ECONOMATICA($AE$11:$AE$13,\"risk\",\"12m\",$C$7,,,,,,\"true\",\"RISCO\")","v":{"$error":"#VALUE!"}},{"$f":"_xll.ECONOMATICA($AE$11:$AE$13,\"RETURN\",\"12m\",$C$7,,,,,,\"true\",\"RETORNO\")","v":{"$error":"#VALUE!"}}]
[null,null,"IBOV",null,null,null,null,null,null,null,{"$f":"J11","v":0},"MM5","MM20",null,null,null,null,null,null,null,null,null,null,null,{"$f":"X11","v":0},{"$f":"Y11","v":0},null,null,null,null,{"$f":"$C$5","v":{"$error":"#REF!"}}]
[null,null,"BDRX<XBSP>",null,null,null,null,null,null,null,{"$f":"IF(I12=\"\",\"\",IF(J12=\"\",0,J12))","v":""},null,null,null,null,null,null,null,null,null,null,null,null,null,{"$f":"IF(V12=\"\",\"\",IF(X12=\"\",0,X12))","v":""},{"$f":"IFERROR(VLOOKUP($V12,$AB:$AC,2,0),\"\")","v":""},{"$f":"IF(V12=\"\",\"\",Z12)","v":""},null,null,null,"IBOV"]
[null,null,"IDIV<XBSP>",null,null,null,null,null,null,null,{"$f":"IF(I13=\"\",\"\",IF(J13=\"\",0,J13))","v":""},null,null,null,null,null,null,null,null,null,null,null,null,null,{"$f":"IF(V13=\"\",\"\",IF(X13=\"\",0,X13))","v":""},"",{"$f":"IF(W13=\"\",Z12,Z13)","v":""},null,null,null,"DOLOF"]
[null,null,"IBOV<XBSP>",null,null,null,null,null,null,null,{"$f":"IF(I14=\"\",\"\",IF(J14=\"\",K13,J14))","v":""},null,null,null,null,null,null,null,null,null,null,null,null,null,{"$f":"IF(V14=\"\",\"\",IF(X14=\"\",Y13,X14))","v":""},"",{"$f":"IF(W14=\"\",Z13,Z14)","v":""}]
[null,null,"IBRA<XBSP>",null,null,null,null,null,null,null,{"$f":"IF(I15=\"\",\"\",IF(J15=\"\",K14,J15))","v":""},null,null,null,null,null,null,null,null,null,null,null,null,null,{"$f":"IF(V15=\"\",\"\",IF(X15=\"\",Y14,X15))","v":""},"",{"$f":"IF(W15=\"\",AA14,Z15)","v":""}]
[null,null,"IBXL<XBSP>",null,null,null,null,null,null,null,"",{"$f":"IFERROR(AVERAGE(K12:K16),\"\")","v":""},null,null,null,null,null,null,null,null,null,null,null,null,{"$f":"IF(V16=\"\",\"\",IF(X16=\"\",Y15,X16))","v":""},"",{"$f":"IF(W16=\"\",AA15,Z16)","v":""}]
[null,null,"IBXX<XBSP>",null,null,null,null,null,null,null,"",{"$f":"IFERROR(AVERAGE(K13:K17),\"\")","v":""},null,null,null,null,null,null,null,null,null,null,null,null,"","",""]
[null,null,"ICO2<XBSP>",null,null,null,null,null,null,null,"",{"$f":"IFERROR(AVERAGE(K14:K18),\"\")","v":""},null,null,null,null,null,null,null,null,null,null,null,null,"","",""]
[null,null,"ICON<XBSP>",null,null,null,null,null,null,null,"",{"$f":"IFERROR(AVERAGE(K15:K19),\"\")","v":""},null,null,null,null,null,null,null,null,null,null,null,null,"","",""]
[null,null,"IEEX<XBSP>",null,null,null,null,null,null,null,"","",null,null,null,null,null,null,null,null,null,null,null,null,"","",""]
[null,null,"IFNC<XBSP>",null,null,null,null,null,null,null,"","",null,null,null,null,null,null,null,null,null,null,null,null,"","",""]
[null,null,"IGNM<XBSP>",null,null,null,null,null,null,null,"","",null,null,null,null,null,null,null,null,null,null,null,null,{"$f":"IF(V22=\"\",\"\",IF(X22=\"\",Y21,X22))","v":""},"",""]
[null,null,"IGCT<XBSP>",null,null,null,null,null,null,null,"","",null,null,null,null,null,null,null,null,null,null,null,null,"","",""]
[null,null,"IGCX<XBSP>",null,null,null,null,null,null,null,"","",null,null,null,null,null,null,null,null,null,null,null,null,"","",""]
[null,null,"IMAT<XBSP>",null,null,null,null,null,null,null,"","",null,null,null,null,null,null,null,null,null,null,null,null,"","",""]
[null,null,"IMOB<XBSP>",null,null,null,null,null,null,null,"","",null,null,null,null,null,null,null,null,null,null,null,null,"","",""]
[null,null,"IFIX<XBSP>",null,null,null,null,null,null,null,"","",null,null,null,null,null,null,null,null,null,null,null,null,"","",""]
[null,null,"INDX<XBSP>",null,null,null,null,null,null,null,"","",null,null,null,null,null,null,null,null,null,null,null,null,"","",""]
[null,null,"ISEE<XBSP>",null,null,null,null,null,null,null,"","",null,null,null,null,null,null,null,null,null,null,null,null,"","",""]
[null,null,"ITAG<XBSP>",null,null,null,null,null,null,null,"","",null,null,null,null,null,null,null,null,null,null,null,null,"","",""]
[null,null,"MLCX<XBSP>",null,null,null,null,null,null,null,"","",{"$f":"IFERROR(AVERAGE(K12:K31),\"\")","v":""},null,null,null,null,null,null,null,null,null,null,null,"","",""]
[null,null,"SMLL<XBSP>",null,null,null,null,null,null,null,"","",{"$f":"IFERROR(AVERAGE(K13:K32),\"\")","v":""},null,null,null,null,null,null,null,null,null,null,null,"","",""]
[null,null,"UTIL<XBSP>",null,null,null,null,null,null,null,"","","",null,null,null,null,null,null,null,null,null,null,null,"","",""]
[null,null,"IGPDI<BraNa>",null,null,null,null,null,null,null,"","","",null,null,null,null,null,null,null,null,null,null,null,"","",""]
[null,null,"IGPM<BraNa>",null,null,null,null,null,null,null,"","","",null,null,null,null,null,null,null,null,null,null,null,"","",""]
[null,null,"INCC-DI<BraNa>",null,null,null,null,null,null,null,"","","",null,null,null,null,null,null,null,null,null,null,null,"","",""]
[null,null,"INPC<BraNa>",null,null,null,null,null,null,null,"","","",null,null,null,null,null,null,null,null,null,null,null,"","",""]
[null,null,"IPC<BraNa>",null,null,null,null,null,null,null,"","","",null,null,null,null,null,null,null,null,null,null,null,"","",""]
[null,null,"IPCA<BraNa>",null,null,null,null,null,null,null,"","","",null,null,null,null,null,null,null,null,null,null,null,"","",""]
[null,null,"CDI Acumulado<BraNa>",null,null,null,null,null,null,null,"","","",null,null,null,null,null,null,null,null,null,null,null,"","",""]
[null,null,"IHFA<BraANB>",null,null,null,null,null,null,null,"","","",null,null,null,null,null,null,null,null,null,null,null,"","",""]
[null,null,"IMA-B<BraANB>",null,null,null,null,null,null,null,"","","",null,null,null,null,null,null,null,null,null,null,null,"","",""]
[null,null,"PoupAcum<BraNa>",null,null,null,null,null,null,null,"","","",null,null,null,null,null,null,null,null,null,null,null,"","",""]
[null,null,"LFT Acumulado<BraNa>",null,null,null,null,null,null,null,"","","",null,null,null,null,null,null,null,null,null,null,null,"","",""]
[null,null,"DOLOF<BraNa>",null,null,null,null,null,null,null,"","","",null,null,null,null,null,null,null,null,null,null,null,"","",""]
[null,null,"EUROBR<BraNa>",null,null,null,null,null,null,null,"","","",null,null,null,null,null,null,null,null,null,null,null,"","",""]
[null,null,null,null,null,null,null,null,null,null,"","","",null,null,null,null,null,null,null,null,null,null,null,"","",""]
[null,null,null,null,null,null,null,null,null,null,"","","",null,null,null,null,null,null,null,null,null,null,null,"","",""]
[null,null,null,null,null,null,null,null,null,null,"","","",null,null,null,null,null,null,null,null,null,null,null,"","",""]
[null,null,null,null,null,null,null,null,null,null,"","","",null,null,null,null,null,null,null,null,null,null,null,"","",""]
[null,null,null,null,null,null,null,null,null,null,"","","",null,null,null,null,null,null,null,null,null,null,null,"","",""]
[null,null,null,null,null,null,null,null,null,null,"","","",null,null,null,null,null,null,null,null,null,null,null,"","",""]
[null,null,null,null,null,null,null,null,null,null,"","","",null,null,null,null,null,null,null,null,null,null,null,"","",""]
[null,null,null,null,null,null,null,null,null,null,"","","",null,null,null,null,null,null,null,null,null,null,null,"","",""]
[null,null,null,null,null,null,null,null,null,null,"","","",null,null,null,null,null,null,null,null,null,null,null,"","",""]
[null,null,null,null,null,null,null,null,null,null,"","","",null,null,null,null,null,null,null,null,null,null,null,"","",""]
[null,null,null,null,null,null,null,null,null,null,"","","",null,null,null,null,null,null,null,null,null,null,null,"","",""]
[null,null,null,null,null,null,null,null,null,null,"","","",null,null,null,null,null,null,null,null,null,null,null,"","",""]
[null,null,null,null,null,null,null,null,null,null,"","","",null,null,null,null,null,null,null,null,null,null,null,"","",""]
[null,null,null,null,null,null,null,null,null,null,"","","",null,null,null,null,null,null,null,null,null,null,null,"","",""]
[null,null,null,null,null,null,null,null,null,null,"","","",null,null,null,null,null,null,null,null,null,null,null,"","",""]
[null,null,null,null,null,null,null,null,null,null,"","","",null,null,null,null,null,null,null,null,null,null,null,"","",""]
[null,null,null,null,null,null,null,null,null,null,"","","",null,null,null,null,null,null,null,null,null,null,null,"","",""]
[null,null,null,null,null,null,null,null,null,null,"","","",null,null,null,null,null,null,null,null,null,null,null,"","",""]
[null,null,null,null,null,null,null,null,null,null,"","","",null,null,null,null,null,null,null,null,null,null,null,"","",""]
[null,null,null,null,null,null,null,null,null,null,"","","",null,null,null,null,null,null,null,null,null,null,null,"","",""]
[null,null,null,null,null,null,null,null,null,null,"","","",null,null,null,null,null,null,null,null,null,null,null,"","",""]
[null,null,null,null,null,null,null,null,null,null,"","","",null,null,null,null,null,null,null,null,null,null,null,"","",""]
[null,null,null,null,null,null,null,null,null,null,"","","",null,null,null,null,null,null,null,null,null,null,null,"","",""]
[null,null,null,null,null,null,null,null,null,null,"","","",null,null,null,null,null,null,null,null,null,null,null,"","",""]
[null,null,null,null,null,null,null,null,null,null,"","","",null,null,null,null,null,null,null,null,null,null,null,"","",""]
[null,null,null,null,null,null,null,null,null,null,"","","",null,null,null,null,null,null,null,null,null,null,null,"","",""]
[null,null,null,null,null,null,null,null,null,null,"","","",null,null,null,null,null,null,null,null,null,null,null,"","",""]
[null,null,null,null,null,null,null,null,null,null,"","","",null,null,null,null,null,null,null,null,null,null,null,"","",""]
[null,null,null,null,null,null,null,null,null,null,"","","",null,null,null,null,null,null,null,null,null,null,null,"","",""]
[null,null,null,null,null,null,null,null,null,null,"","","",null,null,null,null,null,null,null,null,null,null,null,"",{"$f":"IFERROR(VLOOKUP($V76,$AB:$AC,2,0),\"\")","v":""},""]
[null,null,null,null,null,null,null,null,null,null,"","","",null,null,null,null,null,null,null,null,null,null,null,"","",""]
[null,null,null,null,null,null,null,null,null,null,"","","",null,null,null,null,null,null,null,null,null,null,null,"","",""]
[null,null,null,null,null,null,null,null,null,null,{"$f":"IF(I79=\"\",\"\",IF(J79=\"\",K78,J79))","v":""},"","",null,null,null,null,null,null,null,null,null,null,null,{"$f":"IF(V79=\"\",\"\",IF(X79=\"\",Y78,X79))","v":""},"",""]
[null,null,null,null,null,null,null,null,null,null,"","","",null,null,null,null,null,null,null,null,null,null,null,"","",{"$f":"IF(W80=\"\",AA79,Z80)","v":""}]
[null,null,null,null,null,null,null,null,null,null,"",{"$f":"IFERROR(AVERAGE(K77:K81),\"\")","v":""},"",null,null,null,null,null,null,null,null,null,null,null,"","",""]
[null,null,null,null,null,null,null,null,null,null,"","","",null,null,null,null,null,null,null,null,null,null,null,"","",""]
[null,null,null,null,null,null,null,null,null,null,"","","",null,null,null,null,null,null,null,null,null,null,null,"","",""]
[null,null,null,null,null,null,null,null,null,null,"","","",null,null,null,null,null,null,null,null,null,null,null,"","",""]
[null,null,null,null,null,null,null,null,null,null,"","","",null,null,null,null,null,null,null,null,null,null,null,"","",""]
[null,null,null,null,null,null,null,null,null,null,"","","",null,null,null,null,null,null,null,null,null,null,null,"","",""]
[null,null,null,null,null,null,null,null,null,null,"","","",null,null,null,null,null,null,null,null,null,null,null,"","",""]
[null,null,null,null,null,null,null,null,null,null,"","","",null,null,null,null,null,null,null,null,null,null,null,"","",""]
[null,null,null,null,null,null,null,null,null,null,"","","",null,null,null,null,null,null,null,null,null,null,null,"","",""]
[null,null,null,null,null,null,null,null,null,null,"","","",null,null,null,null,null,null,null,null,null,null,null,"","",""]
[null,null,null,null,null,null,null,null,null,null,"","","",null,null,null,null,null,null,null,null,null,null,null,"","",""]
[null,null,null,null,null,null,null,null,null,null,"","","",null,null,null,null,null,null,null,null,null,null,null,"","",""]
[null,null,null,null,null,null,null,null,null,null,"","","",null,null,null,null,null,null,null,null,null,null,null,"","",""]
[null,null,null,null,null,null,null,null,null,null,"","","",null,null,null,null,null,null,null,null,null,null,null,"","",""]
[null,null,null,null,null,null,null,null,null,null,"","","",null,null,null,null,null,null,null,null,null,null,null,"","",""]
[null,null,null,null,null,null,null,null,null,null,"","",{"$f":"IFERROR(AVERAGE(K77:K96),\"\")","v":""},null,null,null,null,null,null,null,null,null,null,null,"","",""]
[null,null,null,null,null,null,null,null,null,null,"","","",null,null,null,null,null,null,null,null,null,null,null,"","",""]
[null,null,null,null,null,null,null,null,null,null,"","","",null,null,null,null,null,null,null,null,null,null,null,"","",""]
[null,null,null,null,null,null,null,null,null,null,"","","",null,null,null,null,null,null,null,null,null,null,null,"","",""]
[null,null,null,null,null,null,null,null,null,null,"","","",null,null,null,null,null,null,null,null,null,null,null,"","",""]
[null,null,null,null,null,null,null,null,null,null,"","","",null,null,null,null,null,null,null,null,null,null,null,"","",""]
[null,null,null,null,null,null,null,null,null,null,"","","",null,null,null,null,null,null,null,null,null,null,null,"","",""]
[null,null,null,null,null,null,null,null,null,null,"","","",null,null,null,null,null,null,null,null,null,null,null,"","",""]
[null,null,null,null,null,null,null,null,null,null,"","","",null,null,null,null,null,null,null,null,null,null,null,"","",""]
[null,null,null,null,null,null,null,null,null,null,"","","",null,null,null,null,null,null,null,null,null,null,null,"","",""]
[null,null,null,null,null,null,null,null,null,null,"","","",null,null,null,null,null,null,null,null,null,null,null,"","",""]
[null,null,null,null,null,null,null,null,null,null,"","","",null,null,null,null,null,null,null,null,null,null,null,"","",""]
[null,null,null,null,null,null,null,null,null,null,"","","",null,null,null,null,null,null,null,null,null,null,null,"","",""]
[null,null,null,null,null,null,null,null,null,null,"","","",null,null,null,null,null,null,null,null,null,null,null,"","",""]
[null,null,null,null,null,null,null,null,null,null,"","","",null,null,null,null,null,null,null,null,null,null,null,"","",""]
[null,null,null,null,null,null,null,null,null,null,"","","",null,null,null,null,null,null,null,null,null,null,null,"","",""]
[null,null,null,null,null,null,null,null,null,null,"","","",null,null,null,null,null,null,null,null,null,null,null,"","",""]
[null,null,null,null,null,null,null,null,null,null,"","","",null,null,null,null,null,null,null,null,null,null,null,"","",""]
[null,null,null,null,null,null,null,null,null,null,"","","",null,null,null,null,null,null,null,null,null,null,null,"","",""]
[null,null,null,null,null,null,null,null,null,null,"","","",null,null,null,null,null,null,null,null,null,null,null,"","",""]
[null,null,null,null,null,null,null,null,null,null,"","","",null,null,null,null,null,null,null,null,null,null,null,"","",""]
[null,null,null,null,null,null,null,null,null,null,"","","",null,null,null,null,null,null,null,null,null,null,null,"","",""]
[null,null,null,null,null,null,null,null,null,null,"","","",null,null,null,null,null,null,null,null,null,null,null,"","",""]
[null,null,null,null,null,null,null,null,null,null,"","","",null,null,null,null,null,null,null,null,null,null,null,"","",""]
[null,null,null,null,null,null,null,null,null,null,"","","",null,null,null,null,null,null,null,null,null,null,null,"","",""]
[null,null,null,null,null,null,null,null,null,null,"","","",null,null,null,null,null,null,null,null,null,null,null,"","",""]
[null,null,null,null,null,null,null,null,null,null,"","","",null,null,null,null,null,null,null,null,null,null,null,"","",""]
[null,null,null,null,null,null,null,null,null,null,"","","",null,null,null,null,null,null,null,null,null,null,null,"","",""]
[null,null,null,null,null,null,null,null,null,null,"","","",null,null,null,null,null,null,null,null,null,null,null,"","",""]
[null,null,null,null,null,null,null,null,null,null,"","","",null,null,null,null,null,null,null,null,null,null,null,"","",""]
[null,null,null,null,null,null,null,null,null,null,"","","",null,null,null,null,null,null,null,null,null,null,null,"","",""]
[null,null,null,null,null,null,null,null,null,null,"","","",null,null,null,null,null,null,null,null,null,null,null,"","",""]
[null,null,null,null,null,null,null,null,null,null,"","","",null,null,null,null,null,null,null,null,null,null,null,"","",""]
[null,null,null,null,null,null,null,null,null,null,"","","",null,null,null,null,null,null,null,null,null,null,null,"","",""]
[null,null,null,null,null,null,null,null,null,null,"","","",null,null,null,null,null,null,null,null,null,null,null,"","",""]
[null,null,null,null,null,null,null,null,null,null,"","","",null,null,null,null,null,null,null,null,null,null,null,"","",""]
[null,null,null,null,null,null,null,null,null,null,"","","",null,null,null,null,null,null,null,null,null,null,null,"","",""]
[null,null,null,null,null,null,null,null,null,null,"","","",null,null,null,null,null,null,null,null,null,null,null,"","",""]
[null,null,null,null,null,null,null,null,null,null,"","","",null,null,null,null,null,null,null,null,null,null,null,"","",""]
[null,null,null,null,null,null,null,null,null,null,"","","",null,null,null,null,null,null,null,null,null,null,null,"","",""]
[null,null,null,null,null,null,null,null,null,null,"","","",null,null,null,null,null,null,null,null,null,null,null,"","",""]
[null,null,null,null,null,null,null,null,null,null,"","","",null,null,null,null,null,null,null,null,null,null,null,"","",""]
[null,null,null,null,null,null,null,null,null,null,"","","",null,null,null,null,null,null,null,null,null,null,null,"","",""]
[null,null,null,null,null,null,null,null,null,null,"","","",null,null,null,null,null,null,null,null,null,null,null,"","",""]
[null,null,null,null,null,null,null,null,null,null,"","","",null,null,null,null,null,null,null,null,null,null,null,"",{"$f":"IFERROR(VLOOKUP($V140,$AB:$AC,2,0),\"\")","v":""},""]
[null,null,null,null,null,null,null,null,null,null,"","","",null,null,null,null,null,null,null,null,null,null,null,"","",""]
[null,null,null,null,null,null,null,null,null,null,"","","",null,null,null,null,null,null,null,null,null,null,null,"","",""]
[null,null,null,null,null,null,null,null,null,null,{"$f":"IF(I143=\"\",\"\",IF(J143=\"\",K142,J143))","v":""},"","",null,null,null,null,null,null,null,null,null,null,null,{"$f":"IF(V143=\"\",\"\",IF(X143=\"\",Y142,X143))","v":""},"",""]
[null,null,null,null,null,null,null,null,null,null,"","","",null,null,null,null,null,null,null,null,null,null,null,"","",{"$f":"IF(W144=\"\",AA143,Z144)","v":""}]
[null,null,null,null,null,null,null,null,null,null,"",{"$f":"IFERROR(AVERAGE(K141:K145),\"\")","v":""},"",null,null,null,null,null,null,null,null,null,null,null,"","",""]
[null,null,null,null,null,null,null,null,null,null,"","","",null,null,null,null,null,null,null,null,null,null,null,"","",""]
[null,null,null,null,null,null,null,null,null,null,"","","",null,null,null,null,null,null,null,null,null,null,null,"","",""]
[null,null,null,null,null,null,null,null,null,null,"","","",null,null,null,null,null,null,null,null,null,null,null,"","",""]
[null,null,null,null,null,null,null,null,null,null,"","","",null,null,null,null,null,null,null,null,null,null,null,"","",""]
[null,null,null,null,null,null,null,null,null,null,"","","",null,null,null,null,null,null,null,null,null,null,null,"","",""]
[null,null,null,null,null,null,null,null,null,null,"","","",null,null,null,null,null,null,null,null,null,null,null,"","",""]
[null,null,null,null,null,null,null,null,null,null,"","","",null,null,null,null,null,null,null,null,null,null,null,"","",""]
[null,null,null,null,null,null,null,null,null,null,"","","",null,null,null,null,null,null,null,null,null,null,null,"","",""]
[null,null,null,null,null,null,null,null,null,null,"","","",null,null,null,null,null,null,null,null,null,null,null,"","",""]
[null,null,null,null,null,null,null,null,null,null,"","","",null,null,null,null,null,null,null,null,null,null,null,"","",""]
[null,null,null,null,null,null,null,null,null,null,"","","",null,null,null,null,null,null,null,null,null,null,null,"","",""]
[null,null,null,null,null,null,null,null,null,null,"","","",null,null,null,null,null,null,null,null,null,null,null,"","",""]
[null,null,null,null,null,null,null,null,null,null,"","","",null,null,null,null,null,null,null,null,null,null,null,"","",""]
[null,null,null,null,null,null,null,null,null,null,"","","",null,null,null,null,null,null,null,null,null,null,null,"","",""]
[null,null,null,null,null,null,null,null,null,null,"","",{"$f":"IFERROR(AVERAGE(K141:K160),\"\")","v":""},null,null,null,null,null,null,null,null,null,null,null,"","",""]
[null,null,null,null,null,null,null,null,null,null,"","","",null,null,null,null,null,null,null,null,null,null,null,"","",""]
[null,null,null,null,null,null,null,null,null,null,"","","",null,null,null,null,null,null,null,null,null,null,null,"","",""]
[null,null,null,null,null,null,null,null,null,null,"","","",null,null,null,null,null,null,null,null,null,null,null,"","",""]
[null,null,null,null,null,null,null,null,null,null,"","","",null,null,null,null,null,null,null,null,null,null,null,"","",""]
[null,null,null,null,null,null,null,null,null,null,"","","",null,null,null,null,null,null,null,null,null,null,null,"","",""]
[null,null,null,null,null,null,null,null,null,null,"","","",null,null,null,null,null,null,null,null,null,null,null,"","",""]
[null,null,null,null,null,null,null,null,null,null,"","","",null,null,null,null,null,null,null,null,null,null,null,"","",""]
[null,null,null,null,null,null,null,null,null,null,"","","",null,null,null,null,null,null,null,null,null,null,null,"","",""]
[null,null,null,null,null,null,null,null,null,null,"","","",null,null,null,null,null,null,null,null,null,null,null,"","",""]
[null,null,null,null,null,null,null,null,null,null,"","","",null,null,null,null,null,null,null,null,null,null,null,"","",""]
[null,null,null,null,null,null,null,null,null,null,"","","",null,null,null,null,null,null,null,null,null,null,null,"","",""]
[null,null,null,null,null,null,null,null,null,null,"","","",null,null,null,null,null,null,null,null,null,null,null,"","",""]
[null,null,null,null,null,null,null,null,null,null,"","","",null,null,null,null,null,null,null,null,null,null,null,"","",""]
[null,null,null,null,null,null,null,null,null,null,"","","",null,null,null,null,null,null,null,null,null,null,null,"","",""]
[null,null,null,null,null,null,null,null,null,null,"","","",null,null,null,null,null,null,null,null,null,null,null,"","",""]
[null,null,null,null,null,null,null,null,null,null,"","","",null,null,null,null,null,null,null,null,null,null,null,"","",""]
[null,null,null,null,null,null,null,null,null,null,"","","",null,null,null,null,null,null,null,null,null,null,null,"","",""]
[null,null,null,null,null,null,null,null,null,null,"","","",null,null,null,null,null,null,null,null,null,null,null,"","",""]
[null,null,null,null,null,null,null,null,null,null,"","","",null,null,null,null,null,null,null,null,null,null,null,"","",""]
[null,null,null,null,null,null,null,null,null,null,"","","",null,null,null,null,null,null,null,null,null,null,null,"","",""]
[null,null,null,null,null,null,null,null,null,null,"","","",null,null,null,null,null,null,null,null,null,null,null,"","",""]
[null,null,null,null,null,null,null,null,null,null,"","","",null,null,null,null,null,null,null,null,null,null,null,"","",""]
[null,null,null,null,null,null,null,null,null,null,"","","",null,null,null,null,null,null,null,null,null,null,null,"","",""]
[null,null,null,null,null,null,null,null,null,null,"","","",null,null,null,null,null,null,null,null,null,null,null,"","",""]
[null,null,null,null,null,null,null,null,null,null,"","","",null,null,null,null,null,null,null,null,null,null,null,"","",""]
[null,null,null,null,null,null,null,null,null,null,"","","",null,null,null,null,null,null,null,null,null,null,null,"","",""]
[null,null,null,null,null,null,null,null,null,null,"","","",null,null,null,null,null,null,null,null,null,null,null,"","",""]
[null,null,null,null,null,null,null,null,null,null,"","","",null,null,null,null,null,null,null,null,null,null,null,"","",""]
[null,null,null,null,null,null,null,null,null,null,"","","",null,null,null,null,null,null,null,null,null,null,null,"","",""]
[null,null,null,null,null,null,null,null,null,null,"","","",null,null,null,null,null,null,null,null,null,null,null,"","",""]
[null,null,null,null,null,null,null,null,null,null,"","","",null,null,null,null,null,null,null,null,null,null,null,"","",""]
[null,null,null,null,null,null,null,null,null,null,"","","",null,null,null,null,null,null,null,null,null,null,null,"","",""]
[null,null,null,null,null,null,null,null,null,null,"","","",null,null,null,null,null,null,null,null,null,null,null,"","",""]
[null,null,null,null,null,null,null,null,null,null,"","","",null,null,null,null,null,null,null,null,null,null,null,"","",""]
[null,null,null,null,null,null,null,null,null,null,"","","",null,null,null,null,null,null,null,null,null,null,null,"","",""]
[null,null,null,null,null,null,null,null,null,null,"","","",null,null,null,null,null,null,null,null,null,null,null,"","",""]
[null,null,null,null,null,null,null,null,null,null,"","","",null,null,null,null,null,null,null,null,null,null,null,"","",""]
[null,null,null,null,null,null,null,null,null,null,"","","",null,null,null,null,null,null,null,null,null,null,null,"","",""]
[null,null,null,null,null,null,null,null,null,null,"","","",null,null,null,null,null,null,null,null,null,null,null,"","",""]
[null,null,null,null,null,null,null,null,null,null,"","","",null,null,null,null,null,null,null,null,null,null,null,"","",""]
[null,null,null,null,null,null,null,null,null,null,"","","",null,null,null,null,null,null,null,null,null,null,null,"","",""]
[null,null,null,null,null,null,null,null,null,null,"","","",null,null,null,null,null,null,null,null,null,null,null,"","",""]
[null,null,null,null,null,null,null,null,null,null,"","","",null,null,null,null,null,null,null,null,null,null,null,"","",""]
[null,null,null,null,null,null,null,null,null,null,"","","",null,null,null,null,null,null,null,null,null,null,null,"",{"$f":"IFERROR(VLOOKUP($V204,$AB:$AC,2,0),\"\")","v":""},""]
[null,null,null,null,null,null,null,null,null,null,"","","",null,null,null,null,null,null,null,null,null,null,null,"","",""]
[null,null,null,null,null,null,null,null,null,null,"","","",null,null,null,null,null,null,null,null,null,null,null,"","",""]
[null,null,null,null,null,null,null,null,null,null,{"$f":"IF(I207=\"\",\"\",IF(J207=\"\",K206,J207))","v":""},"","",null,null,null,null,null,null,null,null,null,null,null,{"$f":"IF(V207=\"\",\"\",IF(X207=\"\",Y206,X207))","v":""},"",""]
[null,null,null,null,null,null,null,null,null,null,"","","",null,null,null,null,null,null,null,null,null,null,null,"","",{"$f":"IF(W208=\"\",AA207,Z208)","v":""}]
[null,null,null,null,null,null,null,null,null,null,"",{"$f":"IFERROR(AVERAGE(K205:K209),\"\")","v":""},"",null,null,null,null,null,null,null,null,null,null,null,"","",""]
[null,null,null,null,null,null,null,null,null,null,"","","",null,null,null,null,null,null,null,null,null,null,null,"","",""]
[null,null,null,null,null,null,null,null,null,null,"","","",null,null,null,null,null,null,null,null,null,null,null,"","",""]
[null,null,null,null,null,null,null,null,null,null,"","","",null,null,null,null,null,null,null,null,null,null,null,"","",""]
[null,null,null,null,null,null,null,null,null,null,"","","",null,null,null,null,null,null,null,null,null,null,null,"","",""]
[null,null,null,null,null,null,null,null,null,null,"","","",null,null,null,null,null,null,null,null,null,null,null,"","",""]
[null,null,null,null,null,null,null,null,null,null,"","","",null,null,null,null,null,null,null,null,null,null,null,"","",""]
[null,null,null,null,null,null,null,null,null,null,"","","",null,null,null,null,null,null,null,null,null,null,null,"","",""]
[null,null,null,null,null,null,null,null,null,null,"","","",null,null,null,null,null,null,null,null,null,null,null,"","",""]
[null,null,null,null,null,null,null,null,null,null,"","","",null,null,null,null,null,null,null,null,null,null,null,"","",""]
[null,null,null,null,null,null,null,null,null,null,"","","",null,null,null,null,null,null,null,null,null,null,null,"","",""]
[null,null,null,null,null,null,null,null,null,null,"","","",null,null,null,null,null,null,null,null,null,null,null,"","",""]
[null,null,null,null,null,null,null,null,null,null,"","","",null,null,null,null,null,null,null,null,null,null,null,"","",""]
[null,null,null,null,null,null,null,null,null,null,"","","",null,null,null,null,null,null,null,null,null,null,null,"","",""]
[null,null,null,null,null,null,null,null,null,null,"","","",null,null,null,null,null,null,null,null,null,null,null,"","",""]
[null,null,null,null,null,null,null,null,null,null,"","",{"$f":"IFERROR(AVERAGE(K205:K224),\"\")","v":""},null,null,null,null,null,null,null,null,null,null,null,"","",""]
[null,null,null,null,null,null,null,null,null,null,"","","",null,null,null,null,null,null,null,null,null,null,null,"","",""]
[null,null,null,null,null,null,null,null,null,null,"","","",null,null,null,null,null,null,null,null,null,null,null,"","",""]
[null,null,null,null,null,null,null,null,null,null,"","","",null,null,null,null,null,null,null,null,null,null,null,"","",""]
[null,null,null,null,null,null,null,null,null,null,"","","",null,null,null,null,null,null,null,null,null,null,null,"","",""]
[null,null,null,null,null,null,null,null,null,null,"","","",null,null,null,null,null,null,null,null,null,null,null,"","",""]
[null,null,null,null,null,null,null,null,null,null,"","","",null,null,null,null,null,null,null,null,null,null,null,"","",""]
[null,null,null,null,null,null,null,null,null,null,"","","",null,null,null,null,null,null,null,null,null,null,null,"","",""]
[null,null,null,null,null,null,null,null,null,null,"","","",null,null,null,null,null,null,null,null,null,null,null,"","",""]
[null,null,null,null,null,null,null,null,null,null,"","","",null,null,null,null,null,null,null,null,null,null,null,"","",""]
[null,null,null,null,null,null,null,null,null,null,"","","",null,null,null,null,null,null,null,null,null,null,null,"","",""]
[null,null,null,null,null,null,null,null,null,null,"","","",null,null,null,null,null,null,null,null,null,null,null,"","",""]
[null,null,null,null,null,null,null,null,null,null,"","","",null,null,null,null,null,null,null,null,null,null,null,"","",""]
[null,null,null,null,null,null,null,null,null,null,"","","",null,null,null,null,null,null,null,null,null,null,null,"","",""]
[null,null,null,null,null,null,null,null,null,null,"","","",null,null,null,null,null,null,null,null,null,null,null,"","",""]
[null,null,null,null,null,null,null,null,null,null,"","","",null,null,null,null,null,null,null,null,null,null,null,"","",""]
[null,null,null,null,null,null,null,null,null,null,"","","",null,null,null,null,null,null,null,null,null,null,null,"","",""]
[null,null,null,null,null,null,null,null,null,null,"","","",null,null,null,null,null,null,null,null,null,null,null,"","",""]
[null,null,null,null,null,null,null,null,null,null,"","","",null,null,null,null,null,null,null,null,null,null,null,"","",""]
[null,null,null,null,null,null,null,null,null,null,"","","",null,null,null,null,null,null,null,null,null,null,null,"","",""]
[null,null,null,null,null,null,null,null,null,null,"","","",null,null,null,null,null,null,null,null,null,null,null,"","",""]
[null,null,null,null,null,null,null,null,null,null,"","","",null,null,null,null,null,null,null,null,null,null,null,"","",""]
[null,null,null,null,null,null,null,null,null,null,"","","",null,null,null,null,null,null,null,null,null,null,null,"","",""]
[null,null,null,null,null,null,null,null,null,null,"","","",null,null,null,null,null,null,null,null,null,null,null,"","",""]
[null,null,null,null,null,null,null,null,null,null,"","","",null,null,null,null,null,null,null,null,null,null,null,"","",""]
[null,null,null,null,null,null,null,null,null,null,"","","",null,null,null,null,null,null,null,null,null,null,null,"","",""]
[null,null,null,null,null,null,null,null,null,null,"","","",null,null,null,null,null,null,null,null,null,null,null,"","",""]
[null,null,null,null,null,null,null,null,null,null,"","","",null,null,null,null,null,null,null,null,null,null,null,"","",""]
[null,null,null,null,null,null,null,null,null,null,"","","",null,null,null,null,null,null,null,null,null,null,null,"","",""]
[null,null,null,null,null,null,null,null,null,null,"","","",null,null,null,null,null,null,null,null,null,null,null,"","",""]
[null,null,null,null,null,null,null,null,null,null,"","","",null,null,null,null,null,null,null,null,null,null,null,"","",""]
[null,null,null,null,null,null,null,null,null,null,"","","",null,null,null,null,null,null,null,null,null,null,null,"","",""]
[null,null,null,null,null,null,null,null,null,null,"","","",null,null,null,null,null,null,null,null,null,null,null,"","",""]
[null,null,null,null,null,null,null,null,null,null,"","","",null,null,null,null,null,null,null,null,null,null,null,"","",""]
[null,null,null,null,null,null,null,null,null,null,"","","",null,null,null,null,null,null,null,null,null,null,null,"","",""]
[null,null,null,null,null,null,null,null,null,null,"","","",null,null,null,null,null,null,null,null,null,null,null,"","",""]
[null,null,null,null,null,null,null,null,null,null,"","","",null,null,null,null,null,null,null,null,null,null,null,"","",""]
[null,null,null,null,null,null,null,null,null,null,"","","",null,null,null,null,null,null,null,null,null,null,null,"","",""]
[null,null,null,null,null,null,null,null,null,null,"","","",null,null,null,null,null,null,null,null,null,null,null,"","",""]
[null,null,null,null,null,null,null,null,null,null,"","","",null,null,null,null,null,null,null,null,null,null,null,"","",""]
[null,null,null,null,null,null,null,null,null,null,"","","",null,null,null,null,null,null,null,null,null,null,null,"","",""]
[null,null,null,null,null,null,null,null,null,null,"","","",null,null,null,null,null,null,null,null,null,null,null,"","",""]
[null,null,null,null,null,null,null,null,null,null,"","","",null,null,null,null,null,null,null,null,null,null,null,"","",""]
[null,null,null,null,null,null,null,null,null,null,"","","",null,null,null,null,null,null,null,null,null,null,null,"","",""]
[null,null,null,null,null,null,null,null,null,null,"","","",null,null,null,null,null,null,null,null,null,null,null,"",{"$f":"IFERROR(VLOOKUP($V268,$AB:$AC,2,0),\"\")","v":""},""]
[null,null,null,null,null,null,null,null,null,null,"","","",null,null,null,null,null,null,null,null,null,null,null,"","",""]
[null,null,null,null,null,null,null,null,null,null,"","","",null,null,null,null,null,null,null,null,null,null,null,"","",""]
[null,null,null,null,null,null,null,null,null,null,{"$f":"IF(I271=\"\",\"\",IF(J271=\"\",K270,J271))","v":""},"","",null,null,null,null,null,null,null,null,null,null,null,{"$f":"IF(V271=\"\",\"\",IF(X271=\"\",Y270,X271))","v":""},"",""]
[null,null,null,null,null,null,null,null,null,null,"","","",null,null,null,null,null,null,null,null,null,null,null,"","",{"$f":"IF(W272=\"\",AA271,Z272)","v":""}]
[null,null,null,null,null,null,null,null,null,null,"",{"$f":"IFERROR(AVERAGE(K269:K273),\"\")","v":""},"",null,null,null,null,null,null,null,null,null,null,null,"","",""]
[null,null,null,null,null,null,null,null,null,null,"","",""]
[null,null,null,null,null,null,null,null,null,null,"","",""]
[null,null,null,null,null,null,null,null,null,null,"","",""]
[null,null,null,null,null,null,null,null,null,null,"","",""]
[null,null,null,null,null,null,null,null,null,null,"","",""]
[null,null,null,null,null,null,null,null,null,null,"","",""]
[null,null,null,null,null,null,null,null,null,null,"","",""]
[null,null,null,null,null,null,null,null,null,null,"","",""]
[null,null,null,null,null,null,null,null,null,null,"","",""]
[null,null,null,null,null,null,null,null,null,null,"","",""]
[null,null,null,null,null,null,null,null,null,null,"","",""]
[null,null,null,null,null,null,null,null,null,null,"","",""]
[null,null,null,null,null,null,null,null,null,null,"","",""]
[null,null,null,null,null,null,null,null,null,null,"","",""]
[null,null,null,null,null,null,null,null,null,null,"","",{"$f":"IFERROR(AVERAGE(K269:K288),\"\")","v":""}]
[null,null,null,null,null,null,null,null,null,null,"","",""]
[null,null,null,null,null,null,null,null,null,null,"","",""]
[null,null,null,null,null,null,null,null,null,null,"","",""]
[null,null,null,null,null,null,null,null,null,null,"","",""]
[null,null,null,null,null,null,null,null,null,null,"","",""]
[null,null,null,null,null,null,null,null,null,null,"","",""]
[null,null,null,null,null,null,null,null,null,null,"","",""]
[null,null,null,null,null,null,null,null,null,null,"","",""]
[null,null,null,null,null,null,null,null,null,null,"","",""]
[null,null,null,null,null,null,null,null,null,null,"","",""]
[null,null,null,null,null,null,null,null,null,null,"","",""]
[null,null,null,null,null,null,null,null,null,null,"","",""]
[null,null,null,null,null,null,null,null,null,null,"","",""]
[null,null,null,null,null,null,null,null,null,null,"","",""]
[null,null,null,null,null,null,null,null,null,null,"","",""]
[null,null,null,null,null,null,null,null,null,null,"","",""]
[null,null,null,null,null,null,null,null,null,null,"","",""]
[null,null,null,null,null,null,null,null,null,null,"","",""]
[null,null,null,null,null,null,null,null,null,null,"","",""]
[null,null,null,null,null,null,null,null,null,null,"","",""]
[null,null,null,null,null,null,null,null,null,null,"","",""]
[null,null,null,null,null,null,null,null,null,null,"","",""]
[null,null,null,null,null,null,null,null,null,null,"","",""]
[null,null,null,null,null,null,null,null,null,null,"","",""]
[null,null,null,null,null,null,null,null,null,null,"","",""]
[null,null,null,null,null,null,null,null,null,null,"","",""]
[null,null,null,null,null,null,null,null,null,null,"","",""]
[null,null,null,null,null,null,null,null,null,null,"","",""]
[null,null,null,null,null,null,null,null,null,null,"","",""]
[null,null,null,null,null,null,null,null,null,null,"","",""]
[null,null,null,null,null,null,null,null,null,null,"","",""]
[null,null,null,null,null,null,null,null,null,null,"","",""]
[null,null,null,null,null,null,null,null,null,null,"","",""]
[null,null,null,null,null,null,null,null,null,null,"","",""]
[null,null,null,null,null,null,null,null,null,null,"","",""]
[null,null,null,null,null,null,null,null,null,null,"","",""]
[null,null,null,null,null,null,null,null,null,null,"","",""]
[null,null,null,null,null,null,null,null,null,null,"","",""]
[null,null,null,null,null,null,null,null,null,null,"","",""]
[null,null,null,null,null,null,null,null,null,null,"","",""]
[null,null,null,null,null,null,null,null,null,null,"","",""]
[null,null,null,null,null,null,null,null,null,null,"","",""]
[null,null,null,null,null,null,null,null,null,null,"","",""]
[null,null,null,null,null,null,null,null,null,null,"","",""]
[null,null,null,null,null,null,null,null,null,null,"","",""]
[null,null,null,null,null,null,null,null,null,null,"","",""]
[null,null,null,null,null,null,null,null,null,null,{"$f":"IF(I335=\"\",\"\",IF(J335=\"\",K334,J335))","v":""},"",""]
[null,null,null,null,null,null,null,null,null,null,"","",""]
[null,null,null,null,null,null,null,null,null,null,"",{"$f":"IFERROR(AVERAGE(K333:K337),\"\")","v":""},""]
[null,null,null,null,null,null,null,null,null,null,"","",""]
[null,null,null,null,null,null,null,null,null,null,"","",""]
[null,null,null,null,null,null,null,null,null,null,"","",""]
[null,null,null,null,null,null,null,null,null,null,"","",""]
[null,null,null,null,null,null,null,null,null,null,"","",""]
[null,null,null,null,null,null,null,null,null,null,"","",""]
[null,null,null,null,null,null,null,null,null,null,"","",""]
[null,null,null,null,null,null,null,null,null,null,"","",""]
[null,null,null,null,null,null,null,null,null,null,"","",""]
[null,null,null,null,null,null,null,null,null,null,"","",""]
[null,null,null,null,null,null,null,null,null,null,"","",""]
[null,null,null,null,null,null,null,null,null,null,"","",""]
[null,null,null,null,null,null,null,null,null,null,"","",""]
[null,null,null,null,null,null,null,null,null,null,"","",""]
[null,null,null,null,null,null,null,null,null,null,"","",{"$f":"IFERROR(AVERAGE(K333:K352),\"\")","v":""}]
[null,null,null,null,null,null,null,null,null,null,"","",""]
[null,null,null,null,null,null,null,null,null,null,"","",""]
[null,null,null,null,null,null,null,null,null,null,"","",""]
[null,null,null,null,null,null,null,null,null,null,"","",""]
[null,null,null,null,null,null,null,null,null,null,"","",""]
[null,null,null,null,null,null,null,null,null,null,"","",""]
[null,null,null,null,null,null,null,null,null,null,"","",""]
[null,null,null,null,null,null,null,null,null,null,"","",""]
[null,null,null,null,null,null,null,null,null,null,"","",""]
[null,null,null,null,null,null,null,null,null,null,"","",""]
[null,null,null,null,null,null,null,null,null,null,"","",""]
[null,null,null,null,null,null,null,null,null,null,"","",""]
[null,null,null,null,null,null,null,null,null,null,"","",""]
[null,null,null,null,null,null,null,null,null,null,"","",""]
[null,null,null,null,null,null,null,null,null,null,"","",""]
[null,null,null,null,null,null,null,null,null,null,"","",""]
[null,null,null,null,null,null,null,null,null,null,"","",""]
[null,null,null,null,null,null,null,null,null,null,"","",""]
[null,null,null,null,null,null,null,null,null,null,"","",""]
[null,null,null,null,null,null,null,null,null,null,"","",""]
[null,null,null,null,null,null,null,null,null,null,"","",""]
[null,null,null,null,null,null,null,null,null,null,"","",""]
[null,null,null,null,null,null,null,null,null,null,"","",""]
[null,null,null,null,null,null,null,null,null,null,"","",""]
[null,null,null,null,null,null,null,null,null,null,"","",""]
[null,null,null,null,null,null,null,null,null,null,"","",""]
[null,null,null,null,null,null,null,null,null,null,"","",""]
[null,null,null,null,null,null,null,null,null,null,"","",""]
[null,null,null,null,null,null,null,null,null,null,"","",""]
[null,null,null,null,null,null,null,null,null,null,"","",""]
[null,null,null,null,null,null,null,null,null,null,"","",""]
[null,null,null,null,null,null,null,null,null,null,"","",""]
[null,null,null,null,null,null,null,null,null,null,"","",""]
[null,null,null,null,null,null,null,null,null,null,"","",""]
[null,null,null,null,null,null,null,null,null,null,"","",""]
[null,null,null,null,null,null,null,null,null,null,"","",""]
[null,null,null,null,null,null,null,null,null,null,"","",""]
[null,null,null,null,null,null,null,null,null,null,"","",""]
[null,null,null,null,null,null,null,null,null,null,"","",""]
[null,null,null,null,null,null,null,null,null,null,"","",""]
[null,null,null,null,null,null,null,null,null,null,"","",""]
[null,null,null,null,null,null,null,null,null,null,"","",""]
[null,null,null,null,null,null,null,null,null,null,"","",""]
[null,null,null,null,null,null,null,null,null,null,"","",""]
[null,null,null,null,null,null,null,null,null,null,"","",""]
[null,null,null,null,null,null,null,null,null,null,"","",""]
[null,null,null,null,null,null,null,null,null,null,{"$f":"IF(I399=\"\",\"\",IF(J399=\"\",K398,J399))","v":""},"",""]
[null,null,null,null,null,null,null,null,null,null,"","",""]
[null,null,null,null,null,null,null,null,null,null,"",{"$f":"IFERROR(AVERAGE(K397:K401),\"\")","v":""},""]
[null,null,null,null,null,null,null,null,null,null,"","",""]
[null,null,null,null,null,null,null,null,null,null,"","",""]
[null,null,null,null,null,null,null,null,null,null,"","",""]
[null,null,null,null,null,null,null,null,null,null,"","",""]
[null,null,null,null,null,null,null,null,null,null,"","",""]
[null,null,null,null,null,null,null,null,null,null,"","",""]
[null,null,null,null,null,null,null,null,null,null,"","",""]
[null,null,null,null,null,null,null,null,null,null,"","",""]
[null,null,null,null,null,null,null,null,null,null,"","",""]
[null,null,null,null,null,null,null,null,null,null,"","",""]
[null,null,null,null,null,null,null,null,null,null,"","",""]
[null,null,null,null,null,null,null,null,null,null,"","",""]
[null,null,null,null,null,null,null,null,null,null,"","",""]
[null,null,null,null,null,null,null,null,null,null,"","",""]
[null,null,null,null,null,null,null,null,null,null,"","",{"$f":"IFERROR(AVERAGE(K397:K416),\"\")","v":""}]
[null,null,null,null,null,null,null,null,null,null,"","",""]
[null,null,null,null,null,null,null,null,null,null,"","",""]
[null,null,null,null,null,null,null,null,null,null,"","",""]
[null,null,null,null,null,null,null,null,null,null,"","",""]
[null,null,null,null,null,null,null,null,null,null,"","",""]
[null,null,null,null,null,null,null,null,null,null,"","",""]
[null,null,null,null,null,null,null,null,null,null,"","",""]
[null,null,null,null,null,null,null,null,null,null,"","",""]
[null,null,null,null,null,null,null,null,null,null,"","",""]
[null,null,null,null,null,null,null,null,null,null,"","",""]
[null,null,null,null,null,null,null,null,null,null,"","",""]
[null,null,null,null,null,null,null,null,null,null,"","",""]
[null,null,null,null,null,null,null,null,null,null,"","",""]
[null,null,null,null,null,null,null,null,null,null,"","",""]
[null,null,null,null,null,null,null,null,null,null,"","",""]
[null,null,null,null,null,null,null,null,null,null,"","",""]
[null,null,null,null,null,null,null,null,null,null,"","",""]
[null,null,null,null,null,null,null,null,null,null,"","",""]
[null,null,null,null,null,null,null,null,null,null,"","",""]
[null,null,null,null,null,null,null,null,null,null,"","",""]
[null,null,null,null,null,null,null,null,null,null,"","",""]
[null,null,null,null,null,null,null,null,null,null,"","",""]
[null,null,null,null,null,null,null,null,null,null,"","",""]
[null,null,null,null,null,null,null,null,null,null,"","",""]
[null,null,null,null,null,null,null,null,null,null,"","",""]
[null,null,null,null,null,null,null,null,null,null,"","",""]
[null,null,null,null,null,null,null,null,null,null,"","",""]
[null,null,null,null,null,null,null,null,null,null,"","",""]
[null,null,null,null,null,null,null,null,null,null,"","",""]
[null,null,null,null,null,null,null,null,null,null,"","",""]
[null,null,null,null,null,null,null,null,null,null,"","",""]
[null,null,null,null,null,null,null,null,null,null,"","",""]
[null,null,null,null,null,null,null,null,null,null,"","",""]
[null,null,null,null,null,null,null,null,null,null,"","",""]
[null,null,null,null,null,null,null,null,null,null,"","",""]
[null,null,null,null,null,null,null,null,null,null,"","",""]
[null,null,null,null,null,null,null,null,null,null,"","",""]
[null,null,null,null,null,null,null,null,null,null,"","",""]
[null,null,null,null,null,null,null,null,null,null,"","",""]
[null,null,null,null,null,null,null,null,null,null,"","",""]
[null,null,null,null,null,null,null,null,null,null,"","",""]
[null,null,null,null,null,null,null,null,null,null,"","",""]
[null,null,null,null,null,null,null,null,null,null,"","",""]
[null,null,null,null,null,null,null,null,null,null,"","",""]
[null,null,null,null,null,null,null,null,null,null,"","",""]
[null,null,null,null,null,null,null,null,null,null,"","",""]
[null,null,null,null,null,null,null,null,null,null,{"$f":"IF(I463=\"\",\"\",IF(J463=\"\",K462,J463))","v":""},"",""]
[null,null,null,null,null,null,null,null,null,null,"","",""]
[null,null,null,null,null,null,null,null,null,null,"",{"$f":"IFERROR(AVERAGE(K461:K465),\"\")","v":""},""]
[null,null,null,null,null,null,null,null,null,null,"","",""]
[null,null,null,null,null,null,null,null,null,null,"","",""]
[null,null,null,null,null,null,null,null,null,null,"","",""]
[null,null,null,null,null,null,null,null,null,null,"","",""]
[null,null,null,null,null,null,null,null,null,null,"","",""]
[null,null,null,null,null,null,null,null,null,null,"","",""]
[null,null,null,null,null,null,null,null,null,null,"","",""]
[null,null,null,null,null,null,null,null,null,null,"","",""]
[null,null,null,null,null,null,null,null,null,null,"","",""]
[null,null,null,null,null,null,null,null,null,null,"","",""]
[null,null,null,null,null,null,null,null,null,null,"","",""]
[null,null,null,null,null,null,null,null,null,null,"","",""]
[null,null,null,null,null,null,null,null,null,null,"","",""]
[null,null,null,null,null,null,null,null,null,null,"","",""]
[null,null,null,null,null,null,null,null,null,null,"","",{"$f":"IFERROR(AVERAGE(K461:K480),\"\")","v":""}]
[null,null,null,null,null,null,null,null,null,null,"","",""]
[null,null,null,null,null,null,null,null,null,null,"","",""]
[null,null,null,null,null,null,null,null,null,null,"","",""]
[null,null,null,null,null,null,null,null,null,null,"","",""]
[null,null,null,null,null,null,null,null,null,null,"","",""]
[null,null,null,null,null,null,null,null,null,null,"","",""]
[null,null,null,null,null,null,null,null,null,null,"","",""]
[null,null,null,null,null,null,null,null,null,null,"","",""]
[null,null,null,null,null,null,null,null,null,null,"","",""]
[null,null,null,null,null,null,null,null,null,null,"","",""]
[null,null,null,null,null,null,null,null,null,null,"","",""]
[null,null,null,null,null,null,null,null,null,null,"","",""]
[null,null,null,null,null,null,null,null,null,null,"","",""]
[null,null,null,null,null,null,null,null,null,null,"","",""]
[null,null,null,null,null,null,null,null,null,null,"","",""]
[null,null,null,null,null,null,null,null,null,null,"","",""]
[null,null,null,null,null,null,null,null,null,null,"","",""]
[null,null,null,null,null,null,null,null,null,null,"","",""]
[null,null,null,null,null,null,null,null,null,null,"","",""]
[null,null,null,null,null,null,null,null,null,null,"","",""]
[null,null,null,null,null,null,null,null,null,null,"","",""]
[null,null,null,null,null,null,null,null,null,null,"","",""]
[null,null,null,null,null,null,null,null,null,null,"","",""]
[null,null,null,null,null,null,null,null,null,null,"","",""]
[null,null,null,null,null,null,null,null,null,null,"","",""]
[null,null,null,null,null,null,null,null,null,null,"","",""]
[null,null,null,null,null,null,null,null,null,null,"","",""]
[null,null,null,null,null,null,null,null,null,null,"","",""]
[null,null,null,null,null,null,null,null,null,null,"","",""]
[null,null,null,null,null,null,null,null,null,null,"","",""]
[null,null,null,null,null,null,null,null,null,null,"","",""]
[null,null,null,null,null,null,null,null,null,null,"","",""]
[null,null,null,null,null,null,null,null,null,null,"","",""]
[null,null,null,null,null,null,null,null,null,null,"","",""]
[null,null,null,null,null,null,null,null,null,null,"","",""]
[null,null,null,null,null,null,null,null,null,null,"","",""]
[null,null,null,null,null,null,null,null,null,null,"","",""]
[null,null,null,null,null,null,null,null,null,null,"","",""]
[null,null,null,null,null,null,null,null,null,null,"","",""]
[null,null,null,null,null,null,null,null,null,null,"","",""]
[null,null,null,null,null,null,null,null,null,null,"","",""]
[null,null,null,null,null,null,null,null,null,null,"","",""]
[null,null,null,null,null,null,null,null,null,null,"","",""]
[null,null,null,null,null,null,null,null,null,null,"","",""]
[null,null,null,null,null,null,null,null,null,null,"","",""]
[null,null,null,null,null,null,null,null,null,null,"","",""]
[null,null,null,null,null,null,null,null,null,null,{"$f":"IF(I527=\"\",\"\",IF(J527=\"\",K526,J527))","v":""},"",""]
[null,null,null,null,null,null,null,null,null,null,"","",""]
[null,null,null,null,null,null,null,null,null,null,"",{"$f":"IFERROR(AVERAGE(K525:K529),\"\")","v":""},""]
[null,null,null,null,null,null,null,null,null,null,"","",""]
[null,null,null,null,null,null,null,null,null,null,"","",""]
[null,null,null,null,null,null,null,null,null,null,"","",""]
[null,null,null,null,null,null,null,null,null,null,"","",""]
[null,null,null,null,null,null,null,null,null,null,"","",""]
[null,null,null,null,null,null,null,null,null,null,"","",""]
[null,null,null,null,null,null,null,null,null,null,"","",""]
[null,null,null,null,null,null,null,null,null,null,"","",""]
[null,null,null,null,null,null,null,null,null,null,"","",""]
[null,null,null,null,null,null,null,null,null,null,"","",""]
[null,null,null,null,null,null,null,null,null,null,"","",""]
[null,null,null,null,null,null,null,null,null,null,"","",""]
[null,null,null,null,null,null,null,null,null,null,"","",""]
[null,null,null,null,null,null,null,null,null,null,"","",""]
[null,null,null,null,null,null,null,null,null,null,"","",{"$f":"IFERROR(AVERAGE(K525:K544),\"\")","v":""}]
[null,null,null,null,null,null,null,null,null,null,"","",""]
[null,null,null,null,null,null,null,null,null,null,"","",""]
[null,null,null,null,null,null,null,null,null,null,"","",""]
[null,null,null,null,null,null,null,null,null,null,"","",""]
[null,null,null,null,null,null,null,null,null,null,"","",""]
[null,null,null,null,null,null,null,null,null,null,"","",""]
[null,null,null,null,null,null,null,null,null,null,"","",""]
[null,null,null,null,null,null,null,null,null,null,"","",""]
[null,null,null,null,null,null,null,null,null,null,"","",""]
[null,null,null,null,null,null,null,null,null,null,"","",""]
[null,null,null,null,null,null,null,null,null,null,"","",""]
[null,null,null,null,null,null,null,null,null,null,"","",""]
[null,null,null,null,null,null,null,null,null,null,"","",""]
[null,null,null,null,null,null,null,null,null,null,"","",""]
[null,null,null,null,null,null,null,null,null,null,"","",""]
[null,null,null,null,null,null,null,null,null,null,"","",""]
[null,null,null,null,null,null,null,null,null,null,"","",""]
[null,null,null,null,null,null,null,null,null,null,"","",""]
[null,null,null,null,null,null,null,null,null,null,"","",""]
[null,null,null,null,null,null,null,null,null,null,"","",""]
[null,null,null,null,null,null,null,null,null,null,"","",""]
[null,null,null,null,null,null,null,null,null,null,"","",""]
[null,null,null,null,null,null,null,null,null,null,"","",""]
[null,null,null,null,null,null,null,null,null,null,"","",""]
[null,null,null,null,null,null,null,null,null,null,"","",""]
[null,null,null,null,null,null,null,null,null,null,"","",""]
[null,null,null,null,null,null,null,null,null,null,"","",""]
[null,null,null,null,null,null,null,null,null,null,"","",""]
[null,null,null,null,null,null,null,null,null,null,"","",""]
[null,null,null,null,null,null,null,null,null,null,"","",""]
[null,null,null,null,null,null,null,null,null,null,"","",""]
[null,null,null,null,null,null,null,null,null,null,"","",""]
[null,null,null,null,null,null,null,null,null,null,"","",""]
[null,null,null,null,null,null,null,null,null,null,"","",""]
[null,null,null,null,null,null,null,null,null,null,"","",""]
[null,null,null,null,null,null,null,null,null,null,"","",""]
[null,null,null,null,null,null,null,null,null,null,"","",""]
[null,null,null,null,null,null,null,null,null,null,"","",""]
[null,null,null,null,null,null,null,null,null,null,"","",""]
[null,null,null,null,null,null,null,null,null,null,"","",""]
[null,null,null,null,null,null,null,null,null,null,"","",""]
[null,null,null,null,null,null,null,null,null,null,"","",""]
[null,null,null,null,null,null,null,null,null,null,"","",""]
[null,null,null,null,null,null,null,null,null,null,"","",""]
[null,null,null,null,null,null,null,null,null,null,"","",""]
[null,null,null,null,null,null,null,null,null,null,"","",""]
[null,null,null,null,null,null,null,null,null,null,{"$f":"IF(I591=\"\",\"\",IF(J591=\"\",K590,J591))","v":""},"",""]
[null,null,null,null,null,null,null,null,null,null,"","",""]
[null,null,null,null,null,null,null,null,null,null,"",{"$f":"IFERROR(AVERAGE(K589:K593),\"\")","v":""},""]
[null,null,null,null,null,null,null,null,null,null,"","",""]
[null,null,null,null,null,null,null,null,null,null,"","",""]
[null,null,null,null,null,null,null,null,null,null,"","",""]
[null,null,null,null,null,null,null,null,null,null,"","",""]
[null,null,null,null,null,null,null,null,null,null,"","",""]
[null,null,null,null,null,null,null,null,null,null,"","",""]
[null,null,null,null,null,null,null,null,null,null,"","",""]
[null,null,null,null,null,null,null,null,null,null,"","",""]
[null,null,null,null,null,null,null,null,null,null,"","",""]
[null,null,null,null,null,null,null,null,null,null,"","",""]
[null,null,null,null,null,null,null,null,null,null,"","",""]
[null,null,null,null,null,null,null,null,null,null,"","",""]
[null,null,null,null,null,null,null,null,null,null,"","",""]
[null,null,null,null,null,null,null,null,null,null,"","",""]
[null,null,null,null,null,null,null,null,null,null,"","",{"$f":"IFERROR(AVERAGE(K589:K608),\"\")","v":""}]

{"sheet":"Base Auxiliar (2)","index":9,"n_rows":49,"n_cols":27,"rows_kept":49,"cut":false,"hidden":true,"merged":[[36,1,37,1],[7,25,7,26],[8,25,8,26],[9,25,9,26],[13,17,13,19],[16,17,16,19],[25,1,25,2],[26,1,27,1],[28,1,29,1],[30,1,31,1],[32,1,33,1],[34,1,35,1],[38,1,39,1],[40,1,41,1],[42,1,43,1],[44,1,45,1],[46,1,47,1]]}
[]
[]
[]
[]
[]
[null,"DATA ÚLT. PREGÃO",{"$f":"_xll.ECONOMATICA(\"IBOV\",\"DATE OF LAST QUOTE\")","v":{"$error":"#VALUE!"}}]
[]
[null,null,null,{"$f":"DATE(YEAR(E8)-1,12,31)","v":{"$error":"#VALUE!"}},{"$error":"#VALUE!"},{"$error":"#VALUE!"},{"$error":"#VALUE!"},{"$error":"#VALUE!"},{"$error":"#VALUE!"},{"$error":"#VALUE!"},{"$error":"#VALUE!"},{"$error":"#VALUE!"},{"$error":"#VALUE!"},{"$error":"#VALUE!"},{"$error":"#VALUE!"},{"$f":"C6","v":{"$error":"#VALUE!"}},null,"SIMULADOR BASE",null,null,null,"DATA INICIO",{"$f":"$S$11","v":{"$error":"#REF!"}},null,"Max",{"$f":"MAX(ROUNDUP($Z$13:$AA$30000,1)+1000)","v":1000}]
[null,null,null,{"$f":"_xll.ECONOMATICA($B$10:$B$20,\"Date of Last Quote\",,,,,,,,\"TRUE\",\"DATA ÚLTIMA COTAÇÃO\",\"TC.PEERS=45\")","v":{"$error":"#VALUE!"}},{"$f":"_xll.ECONOMATICA($B$10:$B$19,\"RETURN\",\"YTD\",E8,,,,\"DECIMAL\",,\"TRUE\",\"RETORNO YTD\",{\"tc.dft=false\";\"tc.tp=1\";\"tc.pers=15\";\"tc.per=4\"})","v":{"$error":"#VALUE!"}},{"$f":"_xll.ECONOMATICA($B$10:$B$19,\"RETURN\",\"YTD\",F8,,,,\"DECIMAL\",,\"TRUE\",\"RETORNO YTD\",{\"tc.dft=false\";\"tc.tp=1\";\"tc.pers=15\";\"tc.per=4\"})","v":{"$error":"#VALUE!"}},{"$f":"_xll.ECONOMATICA($B$10:$B$19,\"RETURN\",\"YTD\",G8,,,,\"DECIMAL\",,\"TRUE\",\"RETORNO YTD\",{\"tc.dft=false\";\"tc.tp=1\";\"tc.pers=15\";\"tc.per=4\"})","v":{"$error":"#VALUE!"}},{"$f":"_xll.ECONOMATICA($B$10:$B$19,\"RETURN\",\"YTD\",H8,,,,\"DECIMAL\",,\"TRUE\",\"RETORNO YTD\",{\"tc.dft=false\";\"tc.tp=1\";\"tc.pers=15\";\"tc.per=4\"})","v":{"$error":"#VALUE!"}},{"$f":"_xll.ECONOMATICA($B$10:$B$19,\"RETURN\",\"YTD\",I8,,,,\"DECIMAL\",,\"TRUE\",\"RETORNO YTD\",{\"tc.dft=false\";\"tc.tp=1\";\"tc.pers=15\";\"tc.per=4\"})","v":{"$error":"#VALUE!"}},{"$f":"_xll.ECONOMATICA($B$10:$B$19,\"RETURN\",\"YTD\",J8,,,,\"DECIMAL\",,\"TRUE\",\"RETORNO YTD\",{\"tc.dft=false\";\"tc.tp=1\";\"tc.pers=15\";\"tc.per=4\"})","v":{"$error":"#VALUE!"}},{"$f":"_xll.ECONOMATICA($B$10:$B$19,\"RETURN\",\"YTD\",K8,,,,\"DECIMAL\",,\"TRUE\",\"RETORNO YTD\",{\"tc.dft=false\";\"tc.tp=1\";\"tc.pers=15\";\"tc.per=4\"})","v":{"$error":"#VALUE!"}},{"$f":"_xll.ECONOMATICA($B$10:$B$19,\"RETURN\",\"YTD\",L8,,,,\"DECIMAL\",,\"TRUE\",\"RETORNO YTD\",{\"tc.dft=false\";\"tc.tp=1\";\"tc.pers=15\";\"tc.per=4\"})","v":{"$error":"#VALUE!"}},{"$f":"_xll.ECONOMATICA($B$10:$B$19,\"RETURN\",\"YTD\",M8,,,,\"DECIMAL\",,\"TRUE\",\"RETORNO YTD\",{\"tc.dft=false\";\"tc.tp=1\";\"tc.pers=15\";\"tc.per=4\"})","v":{"$error":"#VALUE!"}},{"$f":"_xll.ECONOMATICA($B$10:$B$19,\"RETURN\",\"YTD\",N8,,,,\"DECIMAL\",,\"TRUE\",\"RETORNO YTD\",{\"tc.dft=false\";\"tc.tp=1\";\"tc.pers=15\";\"tc.per=4\"})","v":{"$error":"#VALUE!"}},{"$f":"_xll.ECONOMATICA($B$10:$B$19,\"RETURN\",\"YTD\",O8,,,,\"DECIMAL\",,\"TRUE\",\"RETORNO YTD\",{\"tc.dft=false\";\"tc.tp=1\";\"tc.pers=15\";\"tc.per=4\"})","v":{"$error":"#VALUE!"}},{"$f":"_xll.ECONOMATICA($B$10:$B$19,\"RETURN\",\"YTD\",P8,,,,\"DECIMAL\",,\"TRUE\",\"RETORNO YTD\",{\"tc.dft=false\";\"tc.tp=1\";\"tc.pers=15\";\"tc.per=4\"})","v":{"$error":"#VALUE!"}},null,"ATIVO ESCOLHIDO",{"$f":"_xlfn.XLOOKUP(#REF!,$C$10:$C$20,$B$10:$B$20,,0)","v":{"$error":"#REF!"}},null,null,"DATA FIM","LATEST",null,"Min",{"$f":"MIN($Y$13:$AA$300000)","v":0}]
[null,"CDI Acumulado<BraNa>","CDI",null,null,null,null,null,null,null,null,null,null,null,null,null,null,"ATIVO BENCHMARK",{"$f":"_xlfn.XLOOKUP(#REF!,$C$10:$C$20,$B$10:$B$20,,0)","v":{"$error":"#REF!"}},".",".","INTERVALO","D",null,"VBA",{"$f":"AtualizarLimitesGrafico(\"Periodic Table\",\"GRAF\",$Z$9,$Z$8)","v":{"$error":"#VALUE!"}}]
[null,"DOLOF<BraNa>","Dólar",null,null,null,null,null,null,null,null,null,null,null,null,null,null,"DATA INVESTIMENTO",{"$f":"#REF!","v":{"$error":"#REF!"}},null,null,null,null,null,{"$f":"_xll.ECONOMATICA($R$15,\"Net Assets\",,$W$9,$W$8,$W$10,,,\"TRUE\",\"TRUE\",$S$21)","v":{"$error":"#VALUE!"}},null,{"$f":"_xll.ECONOMATICA($R$18,\"Net Assets\",,$W$9,$W$8,$W$10,,,\"FALSE\",\"TRUE\",$S$22)","v":{"$error":"#VALUE!"}}]
[null,"IBOV<XBSP>","Ibovespa",null,null,null,null,null,null,null,null,null,null,null,null,null,null,"VALOR INVESTIMENTO",{"$f":"#REF!","v":{"$error":"#REF!"}}]
[null,"IDA Geral<BraANB>","IDA GERAL"]
[null,"IHFA<BraANB>","IHFA",null,null,null,null,null,null,null,null,null,null,null,null,null,null,"CARTEIRAS HIPOTÉTICAS"]
[null,"IMA-B<BraANB>","IMA-B",null,null,null,null,null,null,null,null,null,null,null,null,null,null,{"$f":"_xll.ECOPORTFOLIO(\"F\",$R$16:$T$16,\"60D\",,$S$21)","v":"                                                                                                     <EcoPortfolio>{\"type\":\"F\",\"tolerance\":\"60D\",\"rebalance\":null,\"name\":null,\"data\":[[23,\"ExcelErrorRef\",null]]}"},"."]
[null,"IFIX<XBSP>","IFIX",null,null,null,null,null,null,null,null,null,null,null,null,null,null,{"$f":"$S$11","v":{"$error":"#REF!"}},{"$f":"$S$9","v":{"$error":"#REF!"}},{"$f":"#REF!","v":{"$error":"#REF!"}}]
[null,{"$f":"_xll.ECOBENCHMARK(\"IPCA<BRANA>\",\"A\",6,\"IPCA +6%\")","v":"IPCA +6%                                                                                                    <EcoBenchmark>{\"ticker\":\"IPCA<BRANA>\",\"operation\":{\"type\":\"A\",\"value\":6.0},\"name\":\"IPCA +6%\"}"},"IPCA + 6%",null,null,null,null,null,null,null,null,null,null,null,null,null,null,"CARTEIRAS HIPOTÉTICAS"]
[null,"IRF-M<BraANB>","IRF-M",null,null,null,null,null,null,null,null,null,null,null,null,null,null,{"$f":"_xll.ECOPORTFOLIO(\"F\",$R$19:$T$19,\"60D\",,$S$22)","v":"                                                                                                     <EcoPortfolio>{\"type\":\"F\",\"tolerance\":\"60D\",\"rebalance\":null,\"name\":null,\"data\":[[23,\"ExcelErrorRef\",null]]}"},"."]
[null,"IPCA<BraNa>","IPCA",null,null,null,null,null,null,null,null,null,null,null,null,null,null,{"$f":"$S$11","v":{"$error":"#REF!"}},{"$f":"$S$10","v":{"$error":"#REF!"}},{"$f":"#REF!","v":{"$error":"#REF!"}}]
[null,"S&P 500<UsaNa>","S&P 500 (BRL)",null,{"$f":"E23/D23-1","v":{"$error":"#VALUE!"}},{"$f":"F23/E23-1","v":{"$error":"#VALUE!"}},{"$error":"#VALUE!"},{"$error":"#VALUE!"},{"$error":"#VALUE!"},{"$error":"#VALUE!"},{"$error":"#VALUE!"},{"$error":"#VALUE!"},{"$error":"#VALUE!"},{"$error":"#VALUE!"},{"$error":"#VALUE!"},{"$f":"P23/O23-1","v":{"$error":"#VALUE!"}}]
[null,"S&P 500<UsaNa>",null,{"$f":"_xll.ECONOMATICA($B$21:$B$22,\"CLOSE\",,D$8,,,,,,\"FALSE\",,\"tc.pers=30\")","v":{"$error":"#VALUE!"}},{"$f":"_xll.ECONOMATICA($B$21:$B$22,\"CLOSE\",,E$8,,,,,,\"FALSE\",,\"tc.pers=30\")","v":{"$error":"#VALUE!"}},{"$f":"_xll.ECONOMATICA($B$21:$B$22,\"CLOSE\",,F$8,,,,,,\"FALSE\",,\"tc.pers=30\")","v":{"$error":"#VALUE!"}},{"$f":"_xll.ECONOMATICA($B$21:$B$22,\"CLOSE\",,G$8,,,,,,\"FALSE\",,\"tc.pers=30\")","v":{"$error":"#VALUE!"}},{"$f":"_xll.ECONOMATICA($B$21:$B$22,\"CLOSE\",,H$8,,,,,,\"FALSE\",,\"tc.pers=30\")","v":{"$error":"#VALUE!"}},{"$f":"_xll.ECONOMATICA($B$21:$B$22,\"CLOSE\",,I$8,,,,,,\"FALSE\",,\"tc.pers=30\")","v":{"$error":"#VALUE!"}},{"$f":"_xll.ECONOMATICA($B$21:$B$22,\"CLOSE\",,J$8,,,,,,\"FALSE\",,\"tc.pers=30\")","v":{"$error":"#VALUE!"}},{"$f":"_xll.ECONOMATICA($B$21:$B$22,\"CLOSE\",,K$8,,,,,,\"FALSE\",,\"tc.pers=30\")","v":{"$error":"#VALUE!"}},{"$f":"_xll.ECONOMATICA($B$21:$B$22,\"CLOSE\",,L$8,,,,,,\"FALSE\",,\"tc.pers=30\")","v":{"$error":"#VALUE!"}},{"$f":"_xll.ECONOMATICA($B$21:$B$22,\"CLOSE\",,M$8,,,,,,\"FALSE\",,\"tc.pers=30\")","v":{"$error":"#VALUE!"}},{"$f":"_xll.ECONOMATICA($B$21:$B$22,\"CLOSE\",,N$8,,,,,,\"FALSE\",,\"tc.pers=30\")","v":{"$error":"#VALUE!"}},{"$f":"_xll.ECONOMATICA($B$21:$B$22,\"CLOSE\",,O$8,,,,,,\"FALSE\",,\"tc.pers=30\")","v":{"$error":"#VALUE!"}},{"$f":"_xll.ECONOMATICA($B$21:$B$22,\"CLOSE\",,P$8,,,,,,\"FALSE\",,\"tc.pers=30\")","v":{"$error":"#VALUE!"}},null,"NOME CARTEIRA",{"$f":"VLOOKUP($S$9,$B$10:$C$19,2,0)","v":{"$error":"#REF!"}}]
[null,"DOLOF<BraNa>",null,null,null,null,null,null,null,null,null,null,null,null,null,null,null,"NOME BENCHMARK",{"$f":"VLOOKUP($S$10,$B$10:$C$19,2,0)","v":{"$error":"#REF!"}}]
[null,"Fechamento BRL",null,{"$f":"D21*D22","v":{"$error":"#VALUE!"}},{"$f":"E21*E22","v":{"$error":"#VALUE!"}},{"$f":"F21*F22","v":{"$error":"#VALUE!"}},{"$error":"#VALUE!"},{"$error":"#VALUE!"},{"$error":"#VALUE!"},{"$error":"#VALUE!"},{"$error":"#VALUE!"},{"$error":"#VALUE!"},{"$error":"#VALUE!"},{"$error":"#VALUE!"},{"$error":"#VALUE!"},{"$f":"P21*P22","v":{"$error":"#VALUE!"}}]
[]
[]
[null,"Compilado - Não Alterar"]
[null,1,{"$f":"IFERROR(_xlfn.XLOOKUP(C28,'Base Auxiliar (2)'!E$10:E$20,'Base Auxiliar (2)'!$C$10:$C$20,,0),\"\")","v":""},{"$f":"IFERROR(_xlfn.XLOOKUP(D28,'Base Auxiliar (2)'!F$10:F$20,'Base Auxiliar (2)'!$C$10:$C$20,,0),\"\")","v":""},{"$f":"IFERROR(_xlfn.XLOOKUP(E28,'Base Auxiliar (2)'!G$10:G$20,'Base Auxiliar (2)'!$C$10:$C$20,,0),\"\")","v":""},{"$f":"IFERROR(_xlfn.XLOOKUP(F28,'Base Auxiliar (2)'!H$10:H$20,'Base Auxiliar (2)'!$C$10:$C$20,,0),\"\")","v":""},{"$f":"IFERROR(_xlfn.XLOOKUP(G28,'Base Auxiliar (2)'!I$10:I$20,'Base Auxiliar (2)'!$C$10:$C$20,,0),\"\")","v":""},{"$f":"IFERROR(_xlfn.XLOOKUP(H28,'Base Auxiliar (2)'!J$10:J$20,'Base Auxiliar (2)'!$C$10:$C$20,,0),\"\")","v":""},{"$f":"IFERROR(_xlfn.XLOOKUP(I28,'Base Auxiliar (2)'!K$10:K$20,'Base Auxiliar (2)'!$C$10:$C$20,,0),\"\")","v":""},{"$f":"IFERROR(_xlfn.XLOOKUP(J28,'Base Auxiliar (2)'!L$10:L$20,'Base Auxiliar (2)'!$C$10:$C$20,,0),\"\")","v":""},{"$f":"IFERROR(_xlfn.XLOOKUP(K28,'Base Auxiliar (2)'!M$10:M$20,'Base Auxiliar (2)'!$C$10:$C$20,,0),\"\")","v":""},{"$f":"IFERROR(_xlfn.XLOOKUP(L28,'Base Auxiliar (2)'!N$10:N$20,'Base Auxiliar (2)'!$C$10:$C$20,,0),\"\")","v":""},{"$f":"IFERROR(_xlfn.XLOOKUP(M28,'Base Auxiliar (2)'!O$10:O$20,'Base Auxiliar (2)'!$C$10:$C$20,,0),\"\")","v":""},{"$f":"IFERROR(_xlfn.XLOOKUP(N28,'Base Auxiliar (2)'!P$10:P$20,'Base Auxiliar (2)'!$C$10:$C$20,,0),\"\")","v":""}]
[null,null,{"$f":"IFERROR(LARGE('Base Auxiliar (2)'!E$10:E$20,$B27),\"\")","v":""},{"$f":"IFERROR(LARGE('Base Auxiliar (2)'!F$10:F$20,$B27),\"\")","v":""},{"$f":"IFERROR(LARGE('Base Auxiliar (2)'!G$10:G$20,$B27),\"\")","v":""},{"$f":"IFERROR(LARGE('Base Auxiliar (2)'!H$10:H$20,$B27),\"\")","v":""},{"$f":"IFERROR(LARGE('Base Auxiliar (2)'!I$10:I$20,$B27),\"\")","v":""},{"$f":"IFERROR(LARGE('Base Auxiliar (2)'!J$10:J$20,$B27),\"\")","v":""},{"$f":"IFERROR(LARGE('Base Auxiliar (2)'!K$10:K$20,$B27),\"\")","v":""},{"$f":"IFERROR(LARGE('Base Auxiliar (2)'!L$10:L$20,$B27),\"\")","v":""},{"$f":"IFERROR(LARGE('Base Auxiliar (2)'!M$10:M$20,$B27),\"\")","v":""},{"$f":"IFERROR(LARGE('Base Auxiliar (2)'!N$10:N$20,$B27),\"\")","v":""},{"$f":"IFERROR(LARGE('Base Auxiliar (2)'!O$10:O$20,$B27),\"\")","v":""},{"$f":"IFERROR(LARGE('Base Auxiliar (2)'!P$10:P$20,$B27),\"\")","v":""}]
[null,2,{"$f":"IFERROR(_xlfn.XLOOKUP(C30,'Base Auxiliar (2)'!E$10:E$20,'Base Auxiliar (2)'!$C$10:$C$20,,0),\"\")","v":""},{"$f":"IFERROR(_xlfn.XLOOKUP(D30,'Base Auxiliar (2)'!F$10:F$20,'Base Auxiliar (2)'!$C$10:$C$20,,0),\"\")","v":""},{"$f":"IFERROR(_xlfn.XLOOKUP(E30,'Base Auxiliar (2)'!G$10:G$20,'Base Auxiliar (2)'!$C$10:$C$20,,0),\"\")","v":""},{"$f":"IFERROR(_xlfn.XLOOKUP(F30,'Base Auxiliar (2)'!H$10:H$20,'Base Auxiliar (2)'!$C$10:$C$20,,0),\"\")","v":""},{"$f":"IFERROR(_xlfn.XLOOKUP(G30,'Base Auxiliar (2)'!I$10:I$20,'Base Auxiliar (2)'!$C$10:$C$20,,0),\"\")","v":""},{"$f":"IFERROR(_xlfn.XLOOKUP(H30,'Base Auxiliar (2)'!J$10:J$20,'Base Auxiliar (2)'!$C$10:$C$20,,0),\"\")","v":""},{"$f":"IFERROR(_xlfn.XLOOKUP(I30,'Base Auxiliar (2)'!K$10:K$20,'Base Auxiliar (2)'!$C$10:$C$20,,0),\"\")","v":""},{"$f":"IFERROR(_xlfn.XLOOKUP(J30,'Base Auxiliar (2)'!L$10:L$20,'Base Auxiliar (2)'!$C$10:$C$20,,0),\"\")","v":""},{"$f":"IFERROR(_xlfn.XLOOKUP(K30,'Base Auxiliar (2)'!M$10:M$20,'Base Auxiliar (2)'!$C$10:$C$20,,0),\"\")","v":""},{"$f":"IFERROR(_xlfn.XLOOKUP(L30,'Base Auxiliar (2)'!N$10:N$20,'Base Auxiliar (2)'!$C$10:$C$20,,0),\"\")","v":""},{"$f":"IFERROR(_xlfn.XLOOKUP(M30,'Base Auxiliar (2)'!O$10:O$20,'Base Auxiliar (2)'!$C$10:$C$20,,0),\"\")","v":""},{"$f":"IFERROR(_xlfn.XLOOKUP(N30,'Base Auxiliar (2)'!P$10:P$20,'Base Auxiliar (2)'!$C$10:$C$20,,0),\"\")","v":""}]
[null,null,{"$f":"IFERROR(LARGE('Base Auxiliar (2)'!E$10:E$20,$B29),\"\")","v":""},{"$f":"IFERROR(LARGE('Base Auxiliar (2)'!F$10:F$20,$B29),\"\")","v":""},{"$f":"IFERROR(LARGE('Base Auxiliar (2)'!G$10:G$20,$B29),\"\")","v":""},{"$f":"IFERROR(LARGE('Base Auxiliar (2)'!H$10:H$20,$B29),\"\")","v":""},{"$f":"IFERROR(LARGE('Base Auxiliar (2)'!I$10:I$20,$B29),\"\")","v":""},{"$f":"IFERROR(LARGE('Base Auxiliar (2)'!J$10:J$20,$B29),\"\")","v":""},{"$f":"IFERROR(LARGE('Base Auxiliar (2)'!K$10:K$20,$B29),\"\")","v":""},{"$f":"IFERROR(LARGE('Base Auxiliar (2)'!L$10:L$20,$B29),\"\")","v":""},{"$f":"IFERROR(LARGE('Base Auxiliar (2)'!M$10:M$20,$B29),\"\")","v":""},{"$f":"IFERROR(LARGE('Base Auxiliar (2)'!N$10:N$20,$B29),\"\")","v":""},{"$f":"IFERROR(LARGE('Base Auxiliar (2)'!O$10:O$20,$B29),\"\")","v":""},{"$f":"IFERROR(LARGE('Base Auxiliar (2)'!P$10:P$20,$B29),\"\")","v":""}]
[null,3,{"$f":"IFERROR(_xlfn.XLOOKUP(C32,'Base Auxiliar (2)'!E$10:E$20,'Base Auxiliar (2)'!$C$10:$C$20,,0),\"\")","v":""},{"$f":"IFERROR(_xlfn.XLOOKUP(D32,'Base Auxiliar (2)'!F$10:F$20,'Base Auxiliar (2)'!$C$10:$C$20,,0),\"\")","v":""},{"$f":"IFERROR(_xlfn.XLOOKUP(E32,'Base Auxiliar (2)'!G$10:G$20,'Base Auxiliar (2)'!$C$10:$C$20,,0),\"\")","v":""},{"$f":"IFERROR(_xlfn.XLOOKUP(F32,'Base Auxiliar (2)'!H$10:H$20,'Base Auxiliar (2)'!$C$10:$C$20,,0),\"\")","v":""},{"$f":"IFERROR(_xlfn.XLOOKUP(G32,'Base Auxiliar (2)'!I$10:I$20,'Base Auxiliar (2)'!$C$10:$C$20,,0),\"\")","v":""},{"$f":"IFERROR(_xlfn.XLOOKUP(H32,'Base Auxiliar (2)'!J$10:J$20,'Base Auxiliar (2)'!$C$10:$C$20,,0),\"\")","v":""},{"$f":"IFERROR(_xlfn.XLOOKUP(I32,'Base Auxiliar (2)'!K$10:K$20,'Base Auxiliar (2)'!$C$10:$C$20,,0),\"\")","v":""},{"$f":"IFERROR(_xlfn.XLOOKUP(J32,'Base Auxiliar (2)'!L$10:L$20,'Base Auxiliar (2)'!$C$10:$C$20,,0),\"\")","v":""},{"$f":"IFERROR(_xlfn.XLOOKUP(K32,'Base Auxiliar (2)'!M$10:M$20,'Base Auxiliar (2)'!$C$10:$C$20,,0),\"\")","v":""},{"$f":"IFERROR(_xlfn.XLOOKUP(L32,'Base Auxiliar (2)'!N$10:N$20,'Base Auxiliar (2)'!$C$10:$C$20,,0),\"\")","v":""},{"$f":"IFERROR(_xlfn.XLOOKUP(M32,'Base Auxiliar (2)'!O$10:O$20,'Base Auxiliar (2)'!$C$10:$C$20,,0),\"\")","v":""},{"$f":"IFERROR(_xlfn.XLOOKUP(N32,'Base Auxiliar (2)'!P$10:P$20,'Base Auxiliar (2)'!$C$10:$C$20,,0),\"\")","v":""}]
[null,null,{"$f":"IFERROR(LARGE('Base Auxiliar (2)'!E$10:E$20,$B31),\"\")","v":""},{"$f":"IFERROR(LARGE('Base Auxiliar (2)'!F$10:F$20,$B31),\"\")","v":""},{"$f":"IFERROR(LARGE('Base Auxiliar (2)'!G$10:G$20,$B31),\"\")","v":""},{"$f":"IFERROR(LARGE('Base Auxiliar (2)'!H$10:H$20,$B31),\"\")","v":""},{"$f":"IFERROR(LARGE('Base Auxiliar (2)'!I$10:I$20,$B31),\"\")","v":""},{"$f":"IFERROR(LARGE('Base Auxiliar (2)'!J$10:J$20,$B31),\"\")","v":""},{"$f":"IFERROR(LARGE('Base Auxiliar (2)'!K$10:K$20,$B31),\"\")","v":""},{"$f":"IFERROR(LARGE('Base Auxiliar (2)'!L$10:L$20,$B31),\"\")","v":""},{"$f":"IFERROR(LARGE('Base Auxiliar (2)'!M$10:M$20,$B31),\"\")","v":""},{"$f":"IFERROR(LARGE('Base Auxiliar (2)'!N$10:N$20,$B31),\"\")","v":""},{"$f":"IFERROR(LARGE('Base Auxiliar (2)'!O$10:O$20,$B31),\"\")","v":""},{"$f":"IFERROR(LARGE('Base Auxiliar (2)'!P$10:P$20,$B31),\"\")","v":""}]
[null,4,{"$f":"IFERROR(_xlfn.XLOOKUP(C34,'Base Auxiliar (2)'!E$10:E$20,'Base Auxiliar (2)'!$C$10:$C$20,,0),\"\")","v":""},{"$f":"IFERROR(_xlfn.XLOOKUP(D34,'Base Auxiliar (2)'!F$10:F$20,'Base Auxiliar (2)'!$C$10:$C$20,,0),\"\")","v":""},{"$f":"IFERROR(_xlfn.XLOOKUP(E34,'Base Auxiliar (2)'!G$10:G$20,'Base Auxiliar (2)'!$C$10:$C$20,,0),\"\")","v":""},{"$f":"IFERROR(_xlfn.XLOOKUP(F34,'Base Auxiliar (2)'!H$10:H$20,'Base Auxiliar (2)'!$C$10:$C$20,,0),\"\")","v":""},{"$f":"IFERROR(_xlfn.XLOOKUP(G34,'Base Auxiliar (2)'!I$10:I$20,'Base Auxiliar (2)'!$C$10:$C$20,,0),\"\")","v":""},{"$f":"IFERROR(_xlfn.XLOOKUP(H34,'Base Auxiliar (2)'!J$10:J$20,'Base Auxiliar (2)'!$C$10:$C$20,,0),\"\")","v":""},{"$f":"IFERROR(_xlfn.XLOOKUP(I34,'Base Auxiliar (2)'!K$10:K$20,'Base Auxiliar (2)'!$C$10:$C$20,,0),\"\")","v":""},{"$f":"IFERROR(_xlfn.XLOOKUP(J34,'Base Auxiliar (2)'!L$10:L$20,'Base Auxiliar (2)'!$C$10:$C$20,,0),\"\")","v":""},{"$f":"IFERROR(_xlfn.XLOOKUP(K34,'Base Auxiliar (2)'!M$10:M$20,'Base Auxiliar (2)'!$C$10:$C$20,,0),\"\")","v":""},{"$f":"IFERROR(_xlfn.XLOOKUP(L34,'Base Auxiliar (2)'!N$10:N$20,'Base Auxiliar (2)'!$C$10:$C$20,,0),\"\")","v":""},{"$f":"IFERROR(_xlfn.XLOOKUP(M34,'Base Auxiliar (2)'!O$10:O$20,'Base Auxiliar (2)'!$C$10:$C$20,,0),\"\")","v":""},{"$f":"IFERROR(_xlfn.XLOOKUP(N34,'Base Auxiliar (2)'!P$10:P$20,'Base Auxiliar (2)'!$C$10:$C$20,,0),\"\")","v":""}]
[null,null,{"$f":"IFERROR(LARGE('Base Auxiliar (2)'!E$10:E$20,$B33),\"\")","v":""},{"$f":"IFERROR(LARGE('Base Auxiliar (2)'!F$10:F$20,$B33),\"\")","v":""},{"$f":"IFERROR(LARGE('Base Auxiliar (2)'!G$10:G$20,$B33),\"\")","v":""},{"$f":"IFERROR(LARGE('Base Auxiliar (2)'!H$10:H$20,$B33),\"\")","v":""},{"$f":"IFERROR(LARGE('Base Auxiliar (2)'!I$10:I$20,$B33),\"\")","v":""},{"$f":"IFERROR(LARGE('Base Auxiliar (2)'!J$10:J$20,$B33),\"\")","v":""},{"$f":"IFERROR(LARGE('Base Auxiliar (2)'!K$10:K$20,$B33),\"\")","v":""},{"$f":"IFERROR(LARGE('Base Auxiliar (2)'!L$10:L$20,$B33),\"\")","v":""},{"$f":"IFERROR(LARGE('Base Auxiliar (2)'!M$10:M$20,$B33),\"\")","v":""},{"$f":"IFERROR(LARGE('Base Auxiliar (2)'!N$10:N$20,$B33),\"\")","v":""},{"$f":"IFERROR(LARGE('Base Auxiliar (2)'!O$10:O$20,$B33),\"\")","v":""},{"$f":"IFERROR(LARGE('Base Auxiliar (2)'!P$10:P$20,$B33),\"\")","v":""}]
[null,5,{"$f":"IFERROR(_xlfn.XLOOKUP(C36,'Base Auxiliar (2)'!E$10:E$20,'Base Auxiliar (2)'!$C$10:$C$20,,0),\"\")","v":""},{"$f":"IFERROR(_xlfn.XLOOKUP(D36,'Base Auxiliar (2)'!F$10:F$20,'Base Auxiliar (2)'!$C$10:$C$20,,0),\"\")","v":""},{"$f":"IFERROR(_xlfn.XLOOKUP(E36,'Base Auxiliar (2)'!G$10:G$20,'Base Auxiliar (2)'!$C$10:$C$20,,0),\"\")","v":""},{"$f":"IFERROR(_xlfn.XLOOKUP(F36,'Base Auxiliar (2)'!H$10:H$20,'Base Auxiliar (2)'!$C$10:$C$20,,0),\"\")","v":""},{"$f":"IFERROR(_xlfn.XLOOKUP(G36,'Base Auxiliar (2)'!I$10:I$20,'Base Auxiliar (2)'!$C$10:$C$20,,0),\"\")","v":""},{"$f":"IFERROR(_xlfn.XLOOKUP(H36,'Base Auxiliar (2)'!J$10:J$20,'Base Auxiliar (2)'!$C$10:$C$20,,0),\"\")","v":""},{"$f":"IFERROR(_xlfn.XLOOKUP(I36,'Base Auxiliar (2)'!K$10:K$20,'Base Auxiliar (2)'!$C$10:$C$20,,0),\"\")","v":""},{"$f":"IFERROR(_xlfn.XLOOKUP(J36,'Base Auxiliar (2)'!L$10:L$20,'Base Auxiliar (2)'!$C$10:$C$20,,0),\"\")","v":""},{"$f":"IFERROR(_xlfn.XLOOKUP(K36,'Base Auxiliar (2)'!M$10:M$20,'Base Auxiliar (2)'!$C$10:$C$20,,0),\"\")","v":""},{"$f":"IFERROR(_xlfn.XLOOKUP(L36,'Base Auxiliar (2)'!N$10:N$20,'Base Auxiliar (2)'!$C$10:$C$20,,0),\"\")","v":""},{"$f":"IFERROR(_xlfn.XLOOKUP(M36,'Base Auxiliar (2)'!O$10:O$20,'Base Auxiliar (2)'!$C$10:$C$20,,0),\"\")","v":""},{"$f":"IFERROR(_xlfn.XLOOKUP(N36,'Base Auxiliar (2)'!P$10:P$20,'Base Auxiliar (2)'!$C$10:$C$20,,0),\"\")","v":""}]
[null,null,{"$f":"IFERROR(LARGE('Base Auxiliar (2)'!E$10:E$20,$B35),\"\")","v":""},{"$f":"IFERROR(LARGE('Base Auxiliar (2)'!F$10:F$20,$B35),\"\")","v":""},{"$f":"IFERROR(LARGE('Base Auxiliar (2)'!G$10:G$20,$B35),\"\")","v":""},{"$f":"IFERROR(LARGE('Base Auxiliar (2)'!H$10:H$20,$B35),\"\")","v":""},{"$f":"IFERROR(LARGE('Base Auxiliar (2)'!I$10:I$20,$B35),\"\")","v":""},{"$f":"IFERROR(LARGE('Base Auxiliar (2)'!J$10:J$20,$B35),\"\")","v":""},{"$f":"IFERROR(LARGE('Base Auxiliar (2)'!K$10:K$20,$B35),\"\")","v":""},{"$f":"IFERROR(LARGE('Base Auxiliar (2)'!L$10:L$20,$B35),\"\")","v":""},{"$f":"IFERROR(LARGE('Base Auxiliar (2)'!M$10:M$20,$B35),\"\")","v":""},{"$f":"IFERROR(LARGE('Base Auxiliar (2)'!N$10:N$20,$B35),\"\")","v":""},{"$f":"IFERROR(LARGE('Base Auxiliar (2)'!O$10:O$20,$B35),\"\")","v":""},{"$f":"IFERROR(LARGE('Base Auxiliar (2)'!P$10:P$20,$B35),\"\")","v":""}]
[null,6,{"$f":"IFERROR(_xlfn.XLOOKUP(C38,'Base Auxiliar (2)'!E$10:E$20,'Base Auxiliar (2)'!$C$10:$C$20,,0),\"\")","v":""},{"$f":"IFERROR(_xlfn.XLOOKUP(D38,'Base Auxiliar (2)'!F$10:F$20,'Base Auxiliar (2)'!$C$10:$C$20,,0),\"\")","v":""},{"$f":"IFERROR(_xlfn.XLOOKUP(E38,'Base Auxiliar (2)'!G$10:G$20,'Base Auxiliar (2)'!$C$10:$C$20,,0),\"\")","v":""},{"$f":"IFERROR(_xlfn.XLOOKUP(F38,'Base Auxiliar (2)'!H$10:H$20,'Base Auxiliar (2)'!$C$10:$C$20,,0),\"\")","v":""},{"$f":"IFERROR(_xlfn.XLOOKUP(G38,'Base Auxiliar (2)'!I$10:I$20,'Base Auxiliar (2)'!$C$10:$C$20,,0),\"\")","v":""},{"$f":"IFERROR(_xlfn.XLOOKUP(H38,'Base Auxiliar (2)'!J$10:J$20,'Base Auxiliar (2)'!$C$10:$C$20,,0),\"\")","v":""},{"$f":"IFERROR(_xlfn.XLOOKUP(I38,'Base Auxiliar (2)'!K$10:K$20,'Base Auxiliar (2)'!$C$10:$C$20,,0),\"\")","v":""},{"$f":"IFERROR(_xlfn.XLOOKUP(J38,'Base Auxiliar (2)'!L$10:L$20,'Base Auxiliar (2)'!$C$10:$C$20,,0),\"\")","v":""},{"$f":"IFERROR(_xlfn.XLOOKUP(K38,'Base Auxiliar (2)'!M$10:M$20,'Base Auxiliar (2)'!$C$10:$C$20,,0),\"\")","v":""},{"$f":"IFERROR(_xlfn.XLOOKUP(L38,'Base Auxiliar (2)'!N$10:N$20,'Base Auxiliar (2)'!$C$10:$C$20,,0),\"\")","v":""},{"$f":"IFERROR(_xlfn.XLOOKUP(M38,'Base Auxiliar (2)'!O$10:O$20,'Base Auxiliar (2)'!$C$10:$C$20,,0),\"\")","v":""},{"$f":"IFERROR(_xlfn.XLOOKUP(N38,'Base Auxiliar (2)'!P$10:P$20,'Base Auxiliar (2)'!$C$10:$C$20,,0),\"\")","v":""}]
[null,null,{"$f":"IFERROR(LARGE('Base Auxiliar (2)'!E$10:E$20,$B37),\"\")","v":""},{"$f":"IFERROR(LARGE('Base Auxiliar (2)'!F$10:F$20,$B37),\"\")","v":""},{"$f":"IFERROR(LARGE('Base Auxiliar (2)'!G$10:G$20,$B37),\"\")","v":""},{"$f":"IFERROR(LARGE('Base Auxiliar (2)'!H$10:H$20,$B37),\"\")","v":""},{"$f":"IFERROR(LARGE('Base Auxiliar (2)'!I$10:I$20,$B37),\"\")","v":""},{"$f":"IFERROR(LARGE('Base Auxiliar (2)'!J$10:J$20,$B37),\"\")","v":""},{"$f":"IFERROR(LARGE('Base Auxiliar (2)'!K$10:K$20,$B37),\"\")","v":""},{"$f":"IFERROR(LARGE('Base Auxiliar (2)'!L$10:L$20,$B37),\"\")","v":""},{"$f":"IFERROR(LARGE('Base Auxiliar (2)'!M$10:M$20,$B37),\"\")","v":""},{"$f":"IFERROR(LARGE('Base Auxiliar (2)'!N$10:N$20,$B37),\"\")","v":""},{"$f":"IFERROR(LARGE('Base Auxiliar (2)'!O$10:O$20,$B37),\"\")","v":""},{"$f":"IFERROR(LARGE('Base Auxiliar (2)'!P$10:P$20,$B37),\"\")","v":""}]
[null,7,{"$f":"IFERROR(_xlfn.XLOOKUP(C40,'Base Auxiliar (2)'!E$10:E$20,'Base Auxiliar (2)'!$C$10:$C$20,,0),\"\")","v":""},{"$f":"IFERROR(_xlfn.XLOOKUP(D40,'Base Auxiliar (2)'!F$10:F$20,'Base Auxiliar (2)'!$C$10:$C$20,,0),\"\")","v":""},{"$f":"IFERROR(_xlfn.XLOOKUP(E40,'Base Auxiliar (2)'!G$10:G$20,'Base Auxiliar (2)'!$C$10:$C$20,,0),\"\")","v":""},{"$f":"IFERROR(_xlfn.XLOOKUP(F40,'Base Auxiliar (2)'!H$10:H$20,'Base Auxiliar (2)'!$C$10:$C$20,,0),\"\")","v":""},{"$f":"IFERROR(_xlfn.XLOOKUP(G40,'Base Auxiliar (2)'!I$10:I$20,'Base Auxiliar (2)'!$C$10:$C$20,,0),\"\")","v":""},{"$f":"IFERROR(_xlfn.XLOOKUP(H40,'Base Auxiliar (2)'!J$10:J$20,'Base Auxiliar (2)'!$C$10:$C$20,,0),\"\")","v":""},{"$f":"IFERROR(_xlfn.XLOOKUP(I40,'Base Auxiliar (2)'!K$10:K$20,'Base Auxiliar (2)'!$C$10:$C$20,,0),\"\")","v":""},{"$f":"IFERROR(_xlfn.XLOOKUP(J40,'Base Auxiliar (2)'!L$10:L$20,'Base Auxiliar (2)'!$C$10:$C$20,,0),\"\")","v":""},{"$f":"IFERROR(_xlfn.XLOOKUP(K40,'Base Auxiliar (2)'!M$10:M$20,'Base Auxiliar (2)'!$C$10:$C$20,,0),\"\")","v":""},{"$f":"IFERROR(_xlfn.XLOOKUP(L40,'Base Auxiliar (2)'!N$10:N$20,'Base Auxiliar (2)'!$C$10:$C$20,,0),\"\")","v":""},{"$f":"IFERROR(_xlfn.XLOOKUP(M40,'Base Auxiliar (2)'!O$10:O$20,'Base Auxiliar (2)'!$C$10:$C$20,,0),\"\")","v":""},{"$f":"IFERROR(_xlfn.XLOOKUP(N40,'Base Auxiliar (2)'!P$10:P$20,'Base Auxiliar (2)'!$C$10:$C$20,,0),\"\")","v":""}]
[null,null,{"$f":"IFERROR(LARGE('Base Auxiliar (2)'!E$10:E$20,$B39),\"\")","v":""},{"$f":"IFERROR(LARGE('Base Auxiliar (2)'!F$10:F$20,$B39),\"\")","v":""},{"$f":"IFERROR(LARGE('Base Auxiliar (2)'!G$10:G$20,$B39),\"\")","v":""},{"$f":"IFERROR(LARGE('Base Auxiliar (2)'!H$10:H$20,$B39),\"\")","v":""},{"$f":"IFERROR(LARGE('Base Auxiliar (2)'!I$10:I$20,$B39),\"\")","v":""},{"$f":"IFERROR(LARGE('Base Auxiliar (2)'!J$10:J$20,$B39),\"\")","v":""},{"$f":"IFERROR(LARGE('Base Auxiliar (2)'!K$10:K$20,$B39),\"\")","v":""},{"$f":"IFERROR(LARGE('Base Auxiliar (2)'!L$10:L$20,$B39),\"\")","v":""},{"$f":"IFERROR(LARGE('Base Auxiliar (2)'!M$10:M$20,$B39),\"\")","v":""},{"$f":"IFERROR(LARGE('Base Auxiliar (2)'!N$10:N$20,$B39),\"\")","v":""},{"$f":"IFERROR(LARGE('Base Auxiliar (2)'!O$10:O$20,$B39),\"\")","v":""},{"$f":"IFERROR(LARGE('Base Auxiliar (2)'!P$10:P$20,$B39),\"\")","v":""}]
[null,8,{"$f":"IFERROR(_xlfn.XLOOKUP(C42,'Base Auxiliar (2)'!E$10:E$20,'Base Auxiliar (2)'!$C$10:$C$20,,0),\"\")","v":""},{"$f":"IFERROR(_xlfn.XLOOKUP(D42,'Base Auxiliar (2)'!F$10:F$20,'Base Auxiliar (2)'!$C$10:$C$20,,0),\"\")","v":""},{"$f":"IFERROR(_xlfn.XLOOKUP(E42,'Base Auxiliar (2)'!G$10:G$20,'Base Auxiliar (2)'!$C$10:$C$20,,0),\"\")","v":""},{"$f":"IFERROR(_xlfn.XLOOKUP(F42,'Base Auxiliar (2)'!H$10:H$20,'Base Auxiliar (2)'!$C$10:$C$20,,0),\"\")","v":""},{"$f":"IFERROR(_xlfn.XLOOKUP(G42,'Base Auxiliar (2)'!I$10:I$20,'Base Auxiliar (2)'!$C$10:$C$20,,0),\"\")","v":""},{"$f":"IFERROR(_xlfn.XLOOKUP(H42,'Base Auxiliar (2)'!J$10:J$20,'Base Auxiliar (2)'!$C$10:$C$20,,0),\"\")","v":""},{"$f":"IFERROR(_xlfn.XLOOKUP(I42,'Base Auxiliar (2)'!K$10:K$20,'Base Auxiliar (2)'!$C$10:$C$20,,0),\"\")","v":""},{"$f":"IFERROR(_xlfn.XLOOKUP(J42,'Base Auxiliar (2)'!L$10:L$20,'Base Auxiliar (2)'!$C$10:$C$20,,0),\"\")","v":""},{"$f":"IFERROR(_xlfn.XLOOKUP(K42,'Base Auxiliar (2)'!M$10:M$20,'Base Auxiliar (2)'!$C$10:$C$20,,0),\"\")","v":""},{"$f":"IFERROR(_xlfn.XLOOKUP(L42,'Base Auxiliar (2)'!N$10:N$20,'Base Auxiliar (2)'!$C$10:$C$20,,0),\"\")","v":""},{"$f":"IFERROR(_xlfn.XLOOKUP(M42,'Base Auxiliar (2)'!O$10:O$20,'Base Auxiliar (2)'!$C$10:$C$20,,0),\"\")","v":""},{"$f":"IFERROR(_xlfn.XLOOKUP(N42,'Base Auxiliar (2)'!P$10:P$20,'Base Auxiliar (2)'!$C$10:$C$20,,0),\"\")","v":""}]
[null,null,{"$f":"IFERROR(LARGE('Base Auxiliar (2)'!E$10:E$20,$B41),\"\")","v":""},{"$f":"IFERROR(LARGE('Base Auxiliar (2)'!F$10:F$20,$B41),\"\")","v":""},{"$f":"IFERROR(LARGE('Base Auxiliar (2)'!G$10:G$20,$B41),\"\")","v":""},{"$f":"IFERROR(LARGE('Base Auxiliar (2)'!H$10:H$20,$B41),\"\")","v":""},{"$f":"IFERROR(LARGE('Base Auxiliar (2)'!I$10:I$20,$B41),\"\")","v":""},{"$f":"IFERROR(LARGE('Base Auxiliar (2)'!J$10:J$20,$B41),\"\")","v":""},{"$f":"IFERROR(LARGE('Base Auxiliar (2)'!K$10:K$20,$B41),\"\")","v":""},{"$f":"IFERROR(LARGE('Base Auxiliar (2)'!L$10:L$20,$B41),\"\")","v":""},{"$f":"IFERROR(LARGE('Base Auxiliar (2)'!M$10:M$20,$B41),\"\")","v":""},{"$f":"IFERROR(LARGE('Base Auxiliar (2)'!N$10:N$20,$B41),\"\")","v":""},{"$f":"IFERROR(LARGE('Base Auxiliar (2)'!O$10:O$20,$B41),\"\")","v":""},{"$f":"IFERROR(LARGE('Base Auxiliar (2)'!P$10:P$20,$B41),\"\")","v":""}]
[null,9,{"$f":"IFERROR(_xlfn.XLOOKUP(C44,'Base Auxiliar (2)'!E$10:E$20,'Base Auxiliar (2)'!$C$10:$C$20,,0),\"\")","v":""},{"$f":"IFERROR(_xlfn.XLOOKUP(D44,'Base Auxiliar (2)'!F$10:F$20,'Base Auxiliar (2)'!$C$10:$C$20,,0),\"\")","v":""},{"$f":"IFERROR(_xlfn.XLOOKUP(E44,'Base Auxiliar (2)'!G$10:G$20,'Base Auxiliar (2)'!$C$10:$C$20,,0),\"\")","v":""},{"$f":"IFERROR(_xlfn.XLOOKUP(F44,'Base Auxiliar (2)'!H$10:H$20,'Base Auxiliar (2)'!$C$10:$C$20,,0),\"\")","v":""},{"$f":"IFERROR(_xlfn.XLOOKUP(G44,'Base Auxiliar (2)'!I$10:I$20,'Base Auxiliar (2)'!$C$10:$C$20,,0),\"\")","v":""},{"$f":"IFERROR(_xlfn.XLOOKUP(H44,'Base Auxiliar (2)'!J$10:J$20,'Base Auxiliar (2)'!$C$10:$C$20,,0),\"\")","v":""},{"$f":"IFERROR(_xlfn.XLOOKUP(I44,'Base Auxiliar (2)'!K$10:K$20,'Base Auxiliar (2)'!$C$10:$C$20,,0),\"\")","v":""},{"$f":"IFERROR(_xlfn.XLOOKUP(J44,'Base Auxiliar (2)'!L$10:L$20,'Base Auxiliar (2)'!$C$10:$C$20,,0),\"\")","v":""},{"$f":"IFERROR(_xlfn.XLOOKUP(K44,'Base Auxiliar (2)'!M$10:M$20,'Base Auxiliar (2)'!$C$10:$C$20,,0),\"\")","v":""},{"$f":"IFERROR(_xlfn.XLOOKUP(L44,'Base Auxiliar (2)'!N$10:N$20,'Base Auxiliar (2)'!$C$10:$C$20,,0),\"\")","v":""},{"$f":"IFERROR(_xlfn.XLOOKUP(M44,'Base Auxiliar (2)'!O$10:O$20,'Base Auxiliar (2)'!$C$10:$C$20,,0),\"\")","v":""},{"$f":"IFERROR(_xlfn.XLOOKUP(N44,'Base Auxiliar (2)'!P$10:P$20,'Base Auxiliar (2)'!$C$10:$C$20,,0),\"\")","v":""}]
[null,null,{"$f":"IFERROR(LARGE('Base Auxiliar (2)'!E$10:E$20,$B43),\"\")","v":""},{"$f":"IFERROR(LARGE('Base Auxiliar (2)'!F$10:F$20,$B43),\"\")","v":""},{"$f":"IFERROR(LARGE('Base Auxiliar (2)'!G$10:G$20,$B43),\"\")","v":""},{"$f":"IFERROR(LARGE('Base Auxiliar (2)'!H$10:H$20,$B43),\"\")","v":""},{"$f":"IFERROR(LARGE('Base Auxiliar (2)'!I$10:I$20,$B43),\"\")","v":""},{"$f":"IFERROR(LARGE('Base Auxiliar (2)'!J$10:J$20,$B43),\"\")","v":""},{"$f":"IFERROR(LARGE('Base Auxiliar (2)'!K$10:K$20,$B43),\"\")","v":""},{"$f":"IFERROR(LARGE('Base Auxiliar (2)'!L$10:L$20,$B43),\"\")","v":""},{"$f":"IFERROR(LARGE('Base Auxiliar (2)'!M$10:M$20,$B43),\"\")","v":""},{"$f":"IFERROR(LARGE('Base Auxiliar (2)'!N$10:N$20,$B43),\"\")","v":""},{"$f":"IFERROR(LARGE('Base Auxiliar (2)'!O$10:O$20,$B43),\"\")","v":""},{"$f":"IFERROR(LARGE('Base Auxiliar (2)'!P$10:P$20,$B43),\"\")","v":""}]
[null,10,{"$f":"IFERROR(_xlfn.XLOOKUP(C46,'Base Auxiliar (2)'!E$10:E$20,'Base Auxiliar (2)'!$C$10:$C$20,,0),\"\")","v":""},{"$f":"IFERROR(_xlfn.XLOOKUP(D46,'Base Auxiliar (2)'!F$10:F$20,'Base Auxiliar (2)'!$C$10:$C$20,,0),\"\")","v":""},{"$f":"IFERROR(_xlfn.XLOOKUP(E46,'Base Auxiliar (2)'!G$10:G$20,'Base Auxiliar (2)'!$C$10:$C$20,,0),\"\")","v":""},{"$f":"IFERROR(_xlfn.XLOOKUP(F46,'Base Auxiliar (2)'!H$10:H$20,'Base Auxiliar (2)'!$C$10:$C$20,,0),\"\")","v":""},{"$f":"IFERROR(_xlfn.XLOOKUP(G46,'Base Auxiliar (2)'!I$10:I$20,'Base Auxiliar (2)'!$C$10:$C$20,,0),\"\")","v":""},{"$f":"IFERROR(_xlfn.XLOOKUP(H46,'Base Auxiliar (2)'!J$10:J$20,'Base Auxiliar (2)'!$C$10:$C$20,,0),\"\")","v":""},{"$f":"IFERROR(_xlfn.XLOOKUP(I46,'Base Auxiliar (2)'!K$10:K$20,'Base Auxiliar (2)'!$C$10:$C$20,,0),\"\")","v":""},{"$f":"IFERROR(_xlfn.XLOOKUP(J46,'Base Auxiliar (2)'!L$10:L$20,'Base Auxiliar (2)'!$C$10:$C$20,,0),\"\")","v":""},{"$f":"IFERROR(_xlfn.XLOOKUP(K46,'Base Auxiliar (2)'!M$10:M$20,'Base Auxiliar (2)'!$C$10:$C$20,,0),\"\")","v":""},{"$f":"IFERROR(_xlfn.XLOOKUP(L46,'Base Auxiliar (2)'!N$10:N$20,'Base Auxiliar (2)'!$C$10:$C$20,,0),\"\")","v":""},{"$f":"IFERROR(_xlfn.XLOOKUP(M46,'Base Auxiliar (2)'!O$10:O$20,'Base Auxiliar (2)'!$C$10:$C$20,,0),\"\")","v":""},{"$f":"IFERROR(_xlfn.XLOOKUP(N46,'Base Auxiliar (2)'!P$10:P$20,'Base Auxiliar (2)'!$C$10:$C$20,,0),\"\")","v":""}]
[null,null,{"$f":"IFERROR(LARGE('Base Auxiliar (2)'!E$10:E$20,$B45),\"\")","v":""},{"$f":"IFERROR(LARGE('Base Auxiliar (2)'!F$10:F$20,$B45),\"\")","v":""},{"$f":"IFERROR(LARGE('Base Auxiliar (2)'!G$10:G$20,$B45),\"\")","v":""},{"$f":"IFERROR(LARGE('Base Auxiliar (2)'!H$10:H$20,$B45),\"\")","v":""},{"$f":"IFERROR(LARGE('Base Auxiliar (2)'!I$10:I$20,$B45),\"\")","v":""},{"$f":"IFERROR(LARGE('Base Auxiliar (2)'!J$10:J$20,$B45),\"\")","v":""},{"$f":"IFERROR(LARGE('Base Auxiliar (2)'!K$10:K$20,$B45),\"\")","v":""},{"$f":"IFERROR(LARGE('Base Auxiliar (2)'!L$10:L$20,$B45),\"\")","v":""},{"$f":"IFERROR(LARGE('Base Auxiliar (2)'!M$10:M$20,$B45),\"\")","v":""},{"$f":"IFERROR(LARGE('Base Auxiliar (2)'!N$10:N$20,$B45),\"\")","v":""},{"$f":"IFERROR(LARGE('Base Auxiliar (2)'!O$10:O$20,$B45),\"\")","v":""},{"$f":"IFERROR(LARGE('Base Auxiliar (2)'!P$10:P$20,$B45),\"\")","v":""}]
[null,11,{"$f":"IFERROR(_xlfn.XLOOKUP(C48,'Base Auxiliar (2)'!E$10:E$20,'Base Auxiliar (2)'!$C$10:$C$20,,0),\"\")","v":""},{"$f":"IFERROR(_xlfn.XLOOKUP(D48,'Base Auxiliar (2)'!F$10:F$20,'Base Auxiliar (2)'!$C$10:$C$20,,0),\"\")","v":""},{"$f":"IFERROR(_xlfn.XLOOKUP(E48,'Base Auxiliar (2)'!G$10:G$20,'Base Auxiliar (2)'!$C$10:$C$20,,0),\"\")","v":""},{"$f":"IFERROR(_xlfn.XLOOKUP(F48,'Base Auxiliar (2)'!H$10:H$20,'Base Auxiliar (2)'!$C$10:$C$20,,0),\"\")","v":""},{"$f":"IFERROR(_xlfn.XLOOKUP(G48,'Base Auxiliar (2)'!I$10:I$20,'Base Auxiliar (2)'!$C$10:$C$20,,0),\"\")","v":""},{"$f":"IFERROR(_xlfn.XLOOKUP(H48,'Base Auxiliar (2)'!J$10:J$20,'Base Auxiliar (2)'!$C$10:$C$20,,0),\"\")","v":""},{"$f":"IFERROR(_xlfn.XLOOKUP(I48,'Base Auxiliar (2)'!K$10:K$20,'Base Auxiliar (2)'!$C$10:$C$20,,0),\"\")","v":""},{"$f":"IFERROR(_xlfn.XLOOKUP(J48,'Base Auxiliar (2)'!L$10:L$20,'Base Auxiliar (2)'!$C$10:$C$20,,0),\"\")","v":""},{"$f":"IFERROR(_xlfn.XLOOKUP(K48,'Base Auxiliar (2)'!M$10:M$20,'Base Auxiliar (2)'!$C$10:$C$20,,0),\"\")","v":""},{"$f":"IFERROR(_xlfn.XLOOKUP(L48,'Base Auxiliar (2)'!N$10:N$20,'Base Auxiliar (2)'!$C$10:$C$20,,0),\"\")","v":""},{"$f":"IFERROR(_xlfn.XLOOKUP(M48,'Base Auxiliar (2)'!O$10:O$20,'Base Auxiliar (2)'!$C$10:$C$20,,0),\"\")","v":""},{"$f":"IFERROR(_xlfn.XLOOKUP(N48,'Base Auxiliar (2)'!P$10:P$20,'Base Auxiliar (2)'!$C$10:$C$20,,0),\"\")","v":""}]
[null,null,{"$f":"IFERROR(LARGE('Base Auxiliar (2)'!E$10:E$20,$B47),\"\")","v":""},{"$f":"IFERROR(LARGE('Base Auxiliar (2)'!F$10:F$20,$B47),\"\")","v":""},{"$f":"IFERROR(LARGE('Base Auxiliar (2)'!G$10:G$20,$B47),\"\")","v":""},{"$f":"IFERROR(LARGE('Base Auxiliar (2)'!H$10:H$20,$B47),\"\")","v":""},{"$f":"IFERROR(LARGE('Base Auxiliar (2)'!I$10:I$20,$B47),\"\")","v":""},{"$f":"IFERROR(LARGE('Base Auxiliar (2)'!J$10:J$20,$B47),\"\")","v":""},{"$f":"IFERROR(LARGE('Base Auxiliar (2)'!K$10:K$20,$B47),\"\")","v":""},{"$f":"IFERROR(LARGE('Base Auxiliar (2)'!L$10:L$20,$B47),\"\")","v":""},{"$f":"IFERROR(LARGE('Base Auxiliar (2)'!M$10:M$20,$B47),\"\")","v":""},{"$f":"IFERROR(LARGE('Base Auxiliar (2)'!N$10:N$20,$B47),\"\")","v":""},{"$f":"IFERROR(LARGE('Base Auxiliar (2)'!O$10:O$20,$B47),\"\")","v":""},{"$f":"IFERROR(LARGE('Base Auxiliar (2)'!P$10:P$20,$B47),\"\")","v":""}]
[null,null,{"$f":"'Base Auxiliar (2)'!E8","v":{"$error":"#VALUE!"}},{"$f":"'Base Auxiliar (2)'!F8","v":{"$error":"#VALUE!"}},{"$f":"'Base Auxiliar (2)'!G8","v":{"$error":"#VALUE!"}},{"$f":"'Base Auxiliar (2)'!H8","v":{"$error":"#VALUE!"}},{"$f":"'Base Auxiliar (2)'!I8","v":{"$error":"#VALUE!"}},{"$f":"'Base Auxiliar (2)'!J8","v":{"$error":"#VALUE!"}},{"$f":"'Base Auxiliar (2)'!K8","v":{"$error":"#VALUE!"}},{"$f":"'Base Auxiliar (2)'!L8","v":{"$error":"#VALUE!"}},{"$f":"'Base Auxiliar (2)'!M8","v":{"$error":"#VALUE!"}},{"$f":"'Base Auxiliar (2)'!N8","v":{"$error":"#VALUE!"}},{"$f":"'Base Auxiliar (2)'!O8","v":{"$error":"#VALUE!"}},"YTD"]

{"sheet":"Base Opcionais","index":10,"n_rows":25,"n_cols":9,"rows_kept":25,"cut":false,"hidden":true,"merged":[]}
["Formula Código",{"$f":"INDEX($F$4:$F$25,MATCH(#REF!,'Base Opcionais'!$C$4:$C$25,0))","v":{"$error":"#REF!"}},null,null,{"$f":"\"std.tec.stt.bmk=0:\"&$B$1&$E$2","v":{"$error":"#REF!"}}]
[null,null,null,null,",1:2284,2:3543,3:2552,4:8107,5:0,6:0,7:0,8:0,9:0,10:18238,11:8845,12:0,13:0,14:0,15:0,16:0,17:0,18:0,19:0,20:0,21:0,22:0,23:0,24:0,25:0,26:0,27:0,28:0,29:0,30:0,31:0,;std.tec.stt.bmk=32:0,33:0,34:0,35:0,36:0,37:0,38:0,39:0,40:0,41:0,42:0,43:0,44:0,45:0,46:0,47:0,48:0,49:0,50:0,51:0,52:0,53:0,54:0,55:0,56:0,57:0,58:0,59:0,60:0,61:0,62:0,63:0,64:0,65:0,66:0,67:0,68:0,69:0,70:0,71:0,72:0,73:0,74:0,75:0,76:0,77:0,78:0,79:0"]
["Índice Ações",{"$f":"_xll.ECONOMATICA($A$4:$A$25,\"Name\",,,,,,,\"false\",\"true\")","v":{"$error":"#VALUE!"}},"Código",{"$f":"_xll.ECONOMATICA($C$4:$C$25,\"Date of Last Quote\",,,,,,,\"false\",\"true\")","v":{"$error":"#VALUE!"}},"Opcionais - Tracking Error","Código"]
["BDRX<XBSP>",null,"BDRX",null,"{\"std.tec.stt.bmk=0:58323,1:2284,2:3543,3:2552,4:8107,5:0,6:0,7:0,8:0,9:0,10:18238,11:8845,12:0,13:0,14:0,15:0,16:0,17:0,18:0,19:0,20:0,21:0,22:0,23:0,24:0,25:0,26:0,27:0,28:0,29:0,30:0,31:0,\";\"std.tec.stt.bmk=32:0,33:0,34:0,35:0,36:0,37:0,38:0,39:0,40:0,41:0,42:0,43:0,44:0,45:0,46:0,47:0,48:0,49:0,50:0,51:0,52:0,53:0,54:0,55:0,56:0,57:0,58:0,59:0,60:0,61:0,62:0,63:0,64:0,65:0,66:0,67:0,68:0,69:0,70:0,71:0,72:0,73:0,74:0,75:0,76:0,77:0,78:0,79:0\"}",58323,null,null,"BDRX"]
["IDIV<XBSP>",null,"IDIV<XBSP>",null,"{\"std.tec.stt.bmk=0:51531,1:2284,2:3543,3:2552,4:8107,5:0,6:0,7:0,8:0,9:0,10:18238,11:8845,12:0,13:0,14:0,15:0,16:0,17:0,18:0,19:0,20:0,21:0,22:0,23:0,24:0,25:0,26:0,27:0,28:0,29:0,30:0,31:0,\";\"std.tec.stt.bmk=32:0,33:0,34:0,35:0,36:0,37:0,38:0,39:0,40:0,41:0,42:0,43:0,44:0,45:0,46:0,47:0,48:0,49:0,50:0,51:0,52:0,53:0,54:0,55:0,56:0,57:0,58:0,59:0,60:0,61:0,62:0,63:0,64:0,65:0,66:0,67:0,68:0,69:0,70:0,71:0,72:0,73:0,74:0,75:0,76:0,77:0,78:0,79:0\"}",51531,null,null,"IDIV<XBSP>"]
["IBRA<XBSP>",null,"IBRA",null,"{\"std.tec.stt.bmk=0:51530,1:2284,2:3543,3:2552,4:8107,5:0,6:0,7:0,8:0,9:0,10:18238,11:8845,12:0,13:0,14:0,15:0,16:0,17:0,18:0,19:0,20:0,21:0,22:0,23:0,24:0,25:0,26:0,27:0,28:0,29:0,30:0,31:0,\";\"std.tec.stt.bmk=32:0,33:0,34:0,35:0,36:0,37:0,38:0,39:0,40:0,41:0,42:0,43:0,44:0,45:0,46:0,47:0,48:0,49:0,50:0,51:0,52:0,53:0,54:0,55:0,56:0,57:0,58:0,59:0,60:0,61:0,62:0,63:0,64:0,65:0,66:0,67:0,68:0,69:0,70:0,71:0,72:0,73:0,74:0,75:0,76:0,77:0,78:0,79:0\"}",51530,null,null,"IBRA"]
["IBXL<XBSP>",null,"IBXL",null,"{\"std.tec.stt.bmk=0:6183,1:2284,2:3543,3:2552,4:8107,5:0,6:0,7:0,8:0,9:0,10:18238,11:8845,12:0,13:0,14:0,15:0,16:0,17:0,18:0,19:0,20:0,21:0,22:0,23:0,24:0,25:0,26:0,27:0,28:0,29:0,30:0,31:0,\";\"std.tec.stt.bmk=32:0,33:0,34:0,35:0,36:0,37:0,38:0,39:0,40:0,41:0,42:0,43:0,44:0,45:0,46:0,47:0,48:0,49:0,50:0,51:0,52:0,53:0,54:0,55:0,56:0,57:0,58:0,59:0,60:0,61:0,62:0,63:0,64:0,65:0,66:0,67:0,68:0,69:0,70:0,71:0,72:0,73:0,74:0,75:0,76:0,77:0,78:0,79:0\"}",6183,null,null,"IBXL"]
["IBXX<XBSP>",null,"IBXX",null,"{\"std.tec.stt.bmk=0:6181,1:2284,2:3543,3:2552,4:8107,5:0,6:0,7:0,8:0,9:0,10:18238,11:8845,12:0,13:0,14:0,15:0,16:0,17:0,18:0,19:0,20:0,21:0,22:0,23:0,24:0,25:0,26:0,27:0,28:0,29:0,30:0,31:0,\";\"std.tec.stt.bmk=32:0,33:0,34:0,35:0,36:0,37:0,38:0,39:0,40:0,41:0,42:0,43:0,44:0,45:0,46:0,47:0,48:0,49:0,50:0,51:0,52:0,53:0,54:0,55:0,56:0,57:0,58:0,59:0,60:0,61:0,62:0,63:0,64:0,65:0,66:0,67:0,68:0,69:0,70:0,71:0,72:0,73:0,74:0,75:0,76:0,77:0,78:0,79:0\"}",6181,null,null,"IBXX"]
["ICO2<XBSP>",null,"ICO2",null,"{\"std.tec.stt.bmk=0:50191,1:2284,2:3543,3:2552,4:8107,5:0,6:0,7:0,8:0,9:0,10:18238,11:8845,12:0,13:0,14:0,15:0,16:0,17:0,18:0,19:0,20:0,21:0,22:0,23:0,24:0,25:0,26:0,27:0,28:0,29:0,30:0,31:0,\";\"std.tec.stt.bmk=32:0,33:0,34:0,35:0,36:0,37:0,38:0,39:0,40:0,41:0,42:0,43:0,44:0,45:0,46:0,47:0,48:0,49:0,50:0,51:0,52:0,53:0,54:0,55:0,56:0,57:0,58:0,59:0,60:0,61:0,62:0,63:0,64:0,65:0,66:0,67:0,68:0,69:0,70:0,71:0,72:0,73:0,74:0,75:0,76:0,77:0,78:0,79:0\"}",50191,null,null,"ICO2"]
["ICON<XBSP>",null,"ICON<XBSP>",null,"{\"std.tec.stt.bmk=0:42490,1:2284,2:3543,3:2552,4:8107,5:0,6:0,7:0,8:0,9:0,10:18238,11:8845,12:0,13:0,14:0,15:0,16:0,17:0,18:0,19:0,20:0,21:0,22:0,23:0,24:0,25:0,26:0,27:0,28:0,29:0,30:0,31:0,\";\"std.tec.stt.bmk=32:0,33:0,34:0,35:0,36:0,37:0,38:0,39:0,40:0,41:0,42:0,43:0,44:0,45:0,46:0,47:0,48:0,49:0,50:0,51:0,52:0,53:0,54:0,55:0,56:0,57:0,58:0,59:0,60:0,61:0,62:0,63:0,64:0,65:0,66:0,67:0,68:0,69:0,70:0,71:0,72:0,73:0,74:0,75:0,76:0,77:0,78:0,79:0\"}",42490,null,null,"ICON<XBSP>"]
["IEEX<XBSP>",null,"IEEX",null,"{\"std.tec.stt.bmk=0:6270,1:2284,2:3543,3:2552,4:8107,5:0,6:0,7:0,8:0,9:0,10:18238,11:8845,12:0,13:0,14:0,15:0,16:0,17:0,18:0,19:0,20:0,21:0,22:0,23:0,24:0,25:0,26:0,27:0,28:0,29:0,30:0,31:0,\";\"std.tec.stt.bmk=32:0,33:0,34:0,35:0,36:0,37:0,38:0,39:0,40:0,41:0,42:0,43:0,44:0,45:0,46:0,47:0,48:0,49:0,50:0,51:0,52:0,53:0,54:0,55:0,56:0,57:0,58:0,59:0,60:0,61:0,62:0,63:0,64:0,65:0,66:0,67:0,68:0,69:0,70:0,71:0,72:0,73:0,74:0,75:0,76:0,77:0,78:0,79:0\"}",6270,null,null,"IEEX"]
["IFNC<XBSP>",null,"IFNC",null,"{\"std.tec.stt.bmk=0:44065,1:2284,2:3543,3:2552,4:8107,5:0,6:0,7:0,8:0,9:0,10:18238,11:8845,12:0,13:0,14:0,15:0,16:0,17:0,18:0,19:0,20:0,21:0,22:0,23:0,24:0,25:0,26:0,27:0,28:0,29:0,30:0,31:0,\";\"std.tec.stt.bmk=32:0,33:0,34:0,35:0,36:0,37:0,38:0,39:0,40:0,41:0,42:0,43:0,44:0,45:0,46:0,47:0,48:0,49:0,50:0,51:0,52:0,53:0,54:0,55:0,56:0,57:0,58:0,59:0,60:0,61:0,62:0,63:0,64:0,65:0,66:0,67:0,68:0,69:0,70:0,71:0,72:0,73:0,74:0,75:0,76:0,77:0,78:0,79:0\"}",44065,null,null,"IFNC"]
["IGNM<XBSP>",null,"IGNM",null,"{\"std.tec.stt.bmk=0:58322,1:2284,2:3543,3:2552,4:8107,5:0,6:0,7:0,8:0,9:0,10:18238,11:8845,12:0,13:0,14:0,15:0,16:0,17:0,18:0,19:0,20:0,21:0,22:0,23:0,24:0,25:0,26:0,27:0,28:0,29:0,30:0,31:0,\";\"std.tec.stt.bmk=32:0,33:0,34:0,35:0,36:0,37:0,38:0,39:0,40:0,41:0,42:0,43:0,44:0,45:0,46:0,47:0,48:0,49:0,50:0,51:0,52:0,53:0,54:0,55:0,56:0,57:0,58:0,59:0,60:0,61:0,62:0,63:0,64:0,65:0,66:0,67:0,68:0,69:0,70:0,71:0,72:0,73:0,74:0,75:0,76:0,77:0,78:0,79:0\"}",58322,null,null,"IGNM"]
["IGCT<XBSP>",null,"IGCT",null,"{\"std.tec.stt.bmk=0:50720,1:2284,2:3543,3:2552,4:8107,5:0,6:0,7:0,8:0,9:0,10:18238,11:8845,12:0,13:0,14:0,15:0,16:0,17:0,18:0,19:0,20:0,21:0,22:0,23:0,24:0,25:0,26:0,27:0,28:0,29:0,30:0,31:0,\";\"std.tec.stt.bmk=32:0,33:0,34:0,35:0,36:0,37:0,38:0,39:0,40:0,41:0,42:0,43:0,44:0,45:0,46:0,47:0,48:0,49:0,50:0,51:0,52:0,53:0,54:0,55:0,56:0,57:0,58:0,59:0,60:0,61:0,62:0,63:0,64:0,65:0,66:0,67:0,68:0,69:0,70:0,71:0,72:0,73:0,74:0,75:0,76:0,77:0,78:0,79:0\"}",50720,null,null,"IGCT"]
["IGCX<XBSP>",null,"IGCX",null,"{\"std.tec.stt.bmk=0:6271,1:2284,2:3543,3:2552,4:8107,5:0,6:0,7:0,8:0,9:0,10:18238,11:8845,12:0,13:0,14:0,15:0,16:0,17:0,18:0,19:0,20:0,21:0,22:0,23:0,24:0,25:0,26:0,27:0,28:0,29:0,30:0,31:0,\";\"std.tec.stt.bmk=32:0,33:0,34:0,35:0,36:0,37:0,38:0,39:0,40:0,41:0,42:0,43:0,44:0,45:0,46:0,47:0,48:0,49:0,50:0,51:0,52:0,53:0,54:0,55:0,56:0,57:0,58:0,59:0,60:0,61:0,62:0,63:0,64:0,65:0,66:0,67:0,68:0,69:0,70:0,71:0,72:0,73:0,74:0,75:0,76:0,77:0,78:0,79:0\"}",6271,null,null,"IGCX"]
["IMAT<XBSP>",null,"IMAT",null,"{\"std.tec.stt.bmk=0:51532,1:2284,2:3543,3:2552,4:8107,5:0,6:0,7:0,8:0,9:0,10:18238,11:8845,12:0,13:0,14:0,15:0,16:0,17:0,18:0,19:0,20:0,21:0,22:0,23:0,24:0,25:0,26:0,27:0,28:0,29:0,30:0,31:0,\";\"std.tec.stt.bmk=32:0,33:0,34:0,35:0,36:0,37:0,38:0,39:0,40:0,41:0,42:0,43:0,44:0,45:0,46:0,47:0,48:0,49:0,50:0,51:0,52:0,53:0,54:0,55:0,56:0,57:0,58:0,59:0,60:0,61:0,62:0,63:0,64:0,65:0,66:0,67:0,68:0,69:0,70:0,71:0,72:0,73:0,74:0,75:0,76:0,77:0,78:0,79:0\"}",51532,null,null,"IMAT"]
["IMOB<XBSP>",null,"IMOB",null,"{\"std.tec.stt.bmk=0:42489,1:2284,2:3543,3:2552,4:8107,5:0,6:0,7:0,8:0,9:0,10:18238,11:8845,12:0,13:0,14:0,15:0,16:0,17:0,18:0,19:0,20:0,21:0,22:0,23:0,24:0,25:0,26:0,27:0,28:0,29:0,30:0,31:0,\";\"std.tec.stt.bmk=32:0,33:0,34:0,35:0,36:0,37:0,38:0,39:0,40:0,41:0,42:0,43:0,44:0,45:0,46:0,47:0,48:0,49:0,50:0,51:0,52:0,53:0,54:0,55:0,56:0,57:0,58:0,59:0,60:0,61:0,62:0,63:0,64:0,65:0,66:0,67:0,68:0,69:0,70:0,71:0,72:0,73:0,74:0,75:0,76:0,77:0,78:0,79:0\"}",42489,null,null,"IMOB"]
["IFIX<XBSP>",null,"IFIX",null,"{\"std.tec.stt.bmk=0:58141,1:2284,2:3543,3:2552,4:8107,5:0,6:0,7:0,8:0,9:0,10:18238,11:8845,12:0,13:0,14:0,15:0,16:0,17:0,18:0,19:0,20:0,21:0,22:0,23:0,24:0,25:0,26:0,27:0,28:0,29:0,30:0,31:0,\";\"std.tec.stt.bmk=32:0,33:0,34:0,35:0,36:0,37:0,38:0,39:0,40:0,41:0,42:0,43:0,44:0,45:0,46:0,47:0,48:0,49:0,50:0,51:0,52:0,53:0,54:0,55:0,56:0,57:0,58:0,59:0,60:0,61:0,62:0,63:0,64:0,65:0,66:0,67:0,68:0,69:0,70:0,71:0,72:0,73:0,74:0,75:0,76:0,77:0,78:0,79:0\"}",58141,null,null,"IFIX"]
["INDX<XBSP>",null,"INDX",null,"{\"std.tec.stt.bmk=0:13968,1:2284,2:3543,3:2552,4:8107,5:0,6:0,7:0,8:0,9:0,10:18238,11:8845,12:0,13:0,14:0,15:0,16:0,17:0,18:0,19:0,20:0,21:0,22:0,23:0,24:0,25:0,26:0,27:0,28:0,29:0,30:0,31:0,\";\"std.tec.stt.bmk=32:0,33:0,34:0,35:0,36:0,37:0,38:0,39:0,40:0,41:0,42:0,43:0,44:0,45:0,46:0,47:0,48:0,49:0,50:0,51:0,52:0,53:0,54:0,55:0,56:0,57:0,58:0,59:0,60:0,61:0,62:0,63:0,64:0,65:0,66:0,67:0,68:0,69:0,70:0,71:0,72:0,73:0,74:0,75:0,76:0,77:0,78:0,79:0\"}",13968,null,null,"INDX"]
["ISEE<XBSP>",null,"ISEE<XBSP>",null,"{\"std.tec.stt.bmk=0:13514,1:2284,2:3543,3:2552,4:8107,5:0,6:0,7:0,8:0,9:0,10:18238,11:8845,12:0,13:0,14:0,15:0,16:0,17:0,18:0,19:0,20:0,21:0,22:0,23:0,24:0,25:0,26:0,27:0,28:0,29:0,30:0,31:0,\";\"std.tec.stt.bmk=32:0,33:0,34:0,35:0,36:0,37:0,38:0,39:0,40:0,41:0,42:0,43:0,44:0,45:0,46:0,47:0,48:0,49:0,50:0,51:0,52:0,53:0,54:0,55:0,56:0,57:0,58:0,59:0,60:0,61:0,62:0,63:0,64:0,65:0,66:0,67:0,68:0,69:0,70:0,71:0,72:0,73:0,74:0,75:0,76:0,77:0,78:0,79:0\"}",13514,null,null,"ISEE<XBSP>"]
["ITAG<XBSP>",null,"ITAG",null,"{\"std.tec.stt.bmk=0:12910,1:2284,2:3543,3:2552,4:8107,5:0,6:0,7:0,8:0,9:0,10:18238,11:8845,12:0,13:0,14:0,15:0,16:0,17:0,18:0,19:0,20:0,21:0,22:0,23:0,24:0,25:0,26:0,27:0,28:0,29:0,30:0,31:0,\";\"std.tec.stt.bmk=32:0,33:0,34:0,35:0,36:0,37:0,38:0,39:0,40:0,41:0,42:0,43:0,44:0,45:0,46:0,47:0,48:0,49:0,50:0,51:0,52:0,53:0,54:0,55:0,56:0,57:0,58:0,59:0,60:0,61:0,62:0,63:0,64:0,65:0,66:0,67:0,68:0,69:0,70:0,71:0,72:0,73:0,74:0,75:0,76:0,77:0,78:0,79:0\"}",12910,null,null,"ITAG"]
["IVBX<XBSP>",null,"IVBX",null,"{\"std.tec.stt.bmk=0:6402,1:2284,2:3543,3:2552,4:8107,5:0,6:0,7:0,8:0,9:0,10:18238,11:8845,12:0,13:0,14:0,15:0,16:0,17:0,18:0,19:0,20:0,21:0,22:0,23:0,24:0,25:0,26:0,27:0,28:0,29:0,30:0,31:0,\";\"std.tec.stt.bmk=32:0,33:0,34:0,35:0,36:0,37:0,38:0,39:0,40:0,41:0,42:0,43:0,44:0,45:0,46:0,47:0,48:0,49:0,50:0,51:0,52:0,53:0,54:0,55:0,56:0,57:0,58:0,59:0,60:0,61:0,62:0,63:0,64:0,65:0,66:0,67:0,68:0,69:0,70:0,71:0,72:0,73:0,74:0,75:0,76:0,77:0,78:0,79:0\"}",6402,null,null,"IVBX"]
["MLCX<XBSP>",null,"MLCX",null,"{\"std.tec.stt.bmk=0:21251,1:2284,2:3543,3:2552,4:8107,5:0,6:0,7:0,8:0,9:0,10:18238,11:8845,12:0,13:0,14:0,15:0,16:0,17:0,18:0,19:0,20:0,21:0,22:0,23:0,24:0,25:0,26:0,27:0,28:0,29:0,30:0,31:0,\";\"std.tec.stt.bmk=32:0,33:0,34:0,35:0,36:0,37:0,38:0,39:0,40:0,41:0,42:0,43:0,44:0,45:0,46:0,47:0,48:0,49:0,50:0,51:0,52:0,53:0,54:0,55:0,56:0,57:0,58:0,59:0,60:0,61:0,62:0,63:0,64:0,65:0,66:0,67:0,68:0,69:0,70:0,71:0,72:0,73:0,74:0,75:0,76:0,77:0,78:0,79:0\"}",21251,null,null,"MLCX"]
["SMLL<XBSP>",null,"SMLL",null,"{\"std.tec.stt.bmk=0:21250,1:2284,2:3543,3:2552,4:8107,5:0,6:0,7:0,8:0,9:0,10:18238,11:8845,12:0,13:0,14:0,15:0,16:0,17:0,18:0,19:0,20:0,21:0,22:0,23:0,24:0,25:0,26:0,27:0,28:0,29:0,30:0,31:0,\";\"std.tec.stt.bmk=32:0,33:0,34:0,35:0,36:0,37:0,38:0,39:0,40:0,41:0,42:0,43:0,44:0,45:0,46:0,47:0,48:0,49:0,50:0,51:0,52:0,53:0,54:0,55:0,56:0,57:0,58:0,59:0,60:0,61:0,62:0,63:0,64:0,65:0,66:0,67:0,68:0,69:0,70:0,71:0,72:0,73:0,74:0,75:0,76:0,77:0,78:0,79:0\"}",21250,null,null,"SMLL"]
["UTIL<XBSP>",null,"UTIL",null,"{\"std.tec.stt.bmk=0:51534,1:2284,2:3543,3:2552,4:8107,5:0,6:0,7:0,8:0,9:0,10:18238,11:8845,12:0,13:0,14:0,15:0,16:0,17:0,18:0,19:0,20:0,21:0,22:0,23:0,24:0,25:0,26:0,27:0,28:0,29:0,30:0,31:0,\";\"std.tec.stt.bmk=32:0,33:0,34:0,35:0,36:0,37:0,38:0,39:0,40:0,41:0,42:0,43:0,44:0,45:0,46:0,47:0,48:0,49:0,50:0,51:0,52:0,53:0,54:0,55:0,56:0,57:0,58:0,59:0,60:0,61:0,62:0,63:0,64:0,65:0,66:0,67:0,68:0,69:0,70:0,71:0,72:0,73:0,74:0,75:0,76:0,77:0,78:0,79:0\"}",51534,null,null,"UTIL"]

{"sheet":"Historico","index":11,"n_rows":1693,"n_cols":18,"rows_kept":1693,"cut":false,"hidden":true,"merged":[]}
["Lista de Índices","Data Final","LATEST",null,null,null,"Data Final",{"$f":"C1","v":"LATEST"},"← Não modificar"]
[null,"Data Inicial",{"$f":"#REF!","v":{"$error":"#REF!"}},null,null,null,"Data Inicial",{"$f":"C2","v":{"$error":"#REF!"}},"← Não modificar"]
["BDRX","Intervalo","D",null,null,null,"Intervalo","m","← Não modificar",null,null,null,null,"Mínimo:",{"$f":"ROUNDDOWN(MIN(O$12:O$15001),)-2","v":-2},null,"Mínimo:",{"$f":"ROUNDDOWN(MIN(R$12:R$15001),)-2","v":-2}]
["CDI Acumulado","Ativos",{"$f":"_xll.ECOPORTFOLIO(\"F\",#REF!,\"15D\",,\"CARTEIRA\")","v":"CARTEIRA                                                                                                     <EcoPortfolio>{\"type\":\"F\",\"tolerance\":\"15D\",\"rebalance\":null,\"name\":\"CARTEIRA\",\"data\":null}"},null,null,null,"Ativos",{"$f":"C4","v":"CARTEIRA                                                                                                     <EcoPortfolio>{\"type\":\"F\",\"tolerance\":\"15D\",\"rebalance\":null,\"name\":\"CARTEIRA\",\"data\":null}"},"← Não modificar",null,null,null,null,"Máximo:",{"$f":"ROUNDUP(MAX(O$12:O$15001),-1)+1","v":1},null,"Máximo:",{"$f":"ROUNDUP(MAX(R$12:R$15001),-1)+1","v":1}]
["IBOV",null,"IDIV"]
["IBRA",null,"CDI Acumulado"]
["IBXL"]
["IBXX"]
["ICO2"]
["ICON"]
["IDA DI","Data",{"$f":"_xll.ECONOMATICA(C4,\"name\")","v":{"$error":"#VALUE!"}},"IBOV","CDI",null,"Data","Patrimônio","Compras","Vendas","Vendas",null,null,"Data",{"$f":"_xll.ECONOMATICA(C4,\"name\")","v":{"$error":"#VALUE!"}},null,"Data",{"$f":"_xll.ECONOMATICA(C4,\"name\")","v":{"$error":"#VALUE!"}}]
["IDA Geral",{"$f":"_xll.ECONOMATICA($C$4,\"close\",,$C$1,$C$2,$C$3,,,\"true\",\"false\",,{\"def.defdef=7\"})","v":{"$error":"#VALUE!"}},null,{"$f":"_xll.ECONOMATICA(D11,\"close\",,$C$1,$C$2,$C$3,,,\"false\",\"false\",,{\"def.defdef=7\"})","v":{"$error":"#VALUE!"}},{"$f":"_xll.ECONOMATICA(C6,\"close\",,$C$1,$C$2,$C$3,,,\"false\",\"false\",,{\"def.defdef=7\"})","v":{"$error":"#VALUE!"}},null,{"$f":"_xll.ECONOMATICA($H$4,\"Net Assets\",,$H$1,$H$2,$H$3,,,\"true\",\"false\")","v":{"$error":"#VALUE!"}},null,{"$f":"_xll.ECONOMATICA($H$4,\"Purchases\",,$H$1,$H$2,$H$3,,,\"false\",\"false\")","v":{"$error":"#VALUE!"}},{"$f":"_xll.ECONOMATICA($H$4,\"Sales\",,$H$1,$H$2,$H$3,,,\"false\",\"false\")","v":{"$error":"#VALUE!"}},{"$f":"IF(J12=\"\",\"\",J12*(-1))","v":{"$error":"#VALUE!"}},null,null,{"$f":"_xll.ECONOMATICA($C$4,\"return\",\"1d\",$C$1,$C$2,$C$3,,,\"true\",\"false\",,{\"def.defdef=7\"})","v":{"$error":"#VALUE!"}},null,null,{"$f":"_xll.ECONOMATICA($C$4,\"volatility\",\"1m\",$C$1,$C$2,$C$3,,,\"true\",\"false\",,{\"def.defdef=7\"})","v":{"$error":"#VALUE!"}}]
["IDA IPCA",null,null,null,null,null,null,null,null,null,{"$f":"IF(J13=\"\",\"\",J13*(-1))","v":""}]
["IDIV",null,null,null,null,null,null,null,null,null,""]
["IDKA IPCA 10A",null,null,null,null,null,null,null,null,null,""]
["IDKA IPCA 15A",null,null,null,null,null,null,null,null,null,""]
["IDKA IPCA 20A",null,null,null,null,null,null,null,null,null,""]
["IDKA IPCA 2A",null,null,null,null,null,null,null,null,null,""]
["IDKA IPCA 3A",null,null,null,null,null,null,null,null,null,""]
["IDKA IPCA 5A",null,null,null,null,null,null,null,null,null,""]
["IDKA PRE 1A",null,null,null,null,null,null,null,null,null,""]
["IDKA PRE 2A",null,null,null,null,null,null,null,null,null,""]
["IDKA PRE 3A",null,null,null,null,null,null,null,null,null,""]
["IDKA PRE 3M",null,null,null,null,null,null,null,null,null,""]
["IDKA PRE 5A",null,null,null,null,null,null,null,null,null,""]
["IEEX",null,null,null,null,null,null,null,null,null,""]
["IFIX",null,null,null,null,null,null,null,null,null,""]
["IFNC",null,null,null,null,null,null,null,null,null,""]
["IGCT",null,null,null,null,null,null,null,null,null,""]
["IGNM",null,null,null,null,null,null,null,null,null,""]
["IGPDI",null,null,null,null,null,null,null,null,null,""]
["IGPM",null,null,null,null,null,null,null,null,null,""]
["IHFA",null,null,null,null,null,null,null,null,null,""]
["IMA ex-C",null,null,null,null,null,null,null,null,null,""]
["IMA-B",null,null,null,null,null,null,null,null,null,""]
["IMA-B 5",null,null,null,null,null,null,null,null,null,""]
["IMA-B 5+",null,null,null,null,null,null,null,null,null,""]
["IMA-C",null,null,null,null,null,null,null,null,null,""]
["IMA-G",null,null,null,null,null,null,null,null,null,""]
["IMA-S",null,null,null,null,null,null,null,null,null,""]
["IMAT",null,null,null,null,null,null,null,null,null,""]
["IMOB",null,null,null,null,null,null,null,null,null,""]
["INCC-DI",null,null,null,null,null,null,null,null,null,""]
["INDX",null,null,null,null,null,null,null,null,null,""]
["INPC",null,null,null,null,null,null,null,null,null,""]
["IPC",null,null,null,null,null,null,null,null,null,""]
["IPCA",null,null,null,null,null,null,null,null,null,""]
["IRF-M",null,null,null,null,null,null,null,null,null,""]
["IRF-M 1",null,null,null,null,null,null,null,null,null,""]
["IRF-M 1+",null,null,null,null,null,null,null,null,null,""]
["ISEE",null,null,null,null,null,null,null,null,null,""]
["ITAG",null,null,null,null,null,null,null,null,null,""]
["IVBX",null,null,null,null,null,null,null,null,null,""]
["LFT Acumulado",null,null,null,null,null,null,null,null,null,""]
["MLCX",null,null,null,null,null,null,null,null,null,""]
["OTNBTN",null,null,null,null,null,null,null,null,null,""]
["PoupAcum",null,null,null,null,null,null,null,null,null,""]
["PoupAcumul Nova",null,null,null,null,null,null,null,null,null,""]
["SMLL",null,null,null,null,null,null,null,null,null,""]
["UTIL",null,null,null,null,null,null,null,null,null,""]
[null,null,null,null,null,null,null,null,null,null,""]
[null,null,null,null,null,null,null,null,null,null,""]
[null,null,null,null,null,null,null,null,null,null,""]
[null,null,null,null,null,null,null,null,null,null,""]
[null,null,null,null,null,null,null,null,null,null,""]
[null,null,null,null,null,null,null,null,null,null,""]
[null,null,null,null,null,null,null,null,null,null,""]
[null,null,null,null,null,null,null,null,null,null,""]
[null,null,null,null,null,null,null,null,null,null,""]
[null,null,null,null,null,null,null,null,null,null,""]
[null,null,null,null,null,null,null,null,null,null,""]
[null,null,null,null,null,null,null,null,null,null,""]
[null,null,null,null,null,null,null,null,null,null,""]
[null,null,null,null,null,null,null,null,null,null,""]
[null,null,null,null,null,null,null,null,null,null,""]
[null,null,null,null,null,null,null,null,null,null,""]
[null,null,null,null,null,null,null,null,null,null,{"$f":"IF(J77=\"\",\"\",J77*(-1))","v":""}]
[null,null,null,null,null,null,null,null,null,null,""]
[null,null,null,null,null,null,null,null,null,null,""]
[null,null,null,null,null,null,null,null,null,null,""]
[null,null,null,null,null,null,null,null,null,null,""]
[null,null,null,null,null,null,null,null,null,null,""]
[null,null,null,null,null,null,null,null,null,null,""]
[null,null,null,null,null,null,null,null,null,null,""]
[null,null,null,null,null,null,null,null,null,null,""]
[null,null,null,null,null,null,null,null,null,null,""]
[null,null,null,null,null,null,null,null,null,null,""]
[null,null,null,null,null,null,null,null,null,null,""]
[null,null,null,null,null,null,null,null,null,null,""]
[null,null,null,null,null,null,null,null,null,null,""]
[null,null,null,null,null,null,null,null,null,null,""]
[null,null,null,null,null,null,null,null,null,null,""]
[null,null,null,null,null,null,null,null,null,null,""]
[null,null,null,null,null,null,null,null,null,null,""]
[null,null,null,null,null,null,null,null,null,null,""]
[null,null,null,null,null,null,null,null,null,null,""]
[null,null,null,null,null,null,null,null,null,null,""]
[null,null,null,null,null,null,null,null,null,null,""]
[null,null,null,null,null,null,null,null,null,null,""]
[null,null,null,null,null,null,null,null,null,null,""]
[null,null,null,null,null,null,null,null,null,null,""]
[null,null,null,null,null,null,null,null,null,null,""]
[null,null,null,null,null,null,null,null,null,null,""]
[null,null,null,null,null,null,null,null,null,null,""]
[null,null,null,null,null,null,null,null,null,null,""]
[null,null,null,null,null,null,null,null,null,null,""]
[null,null,null,null,null,null,null,null,null,null,""]
[null,null,null,null,null,null,null,null,null,null,""]
[null,null,null,null,null,null,null,null,null,null,""]
[null,null,null,null,null,null,null,null,null,null,""]
[null,null,null,null,null,null,null,null,null,null,""]
[null,null,null,null,null,null,null,null,null,null,""]
[null,null,null,null,null,null,null,null,null,null,""]
[null,null,null,null,null,null,null,null,null,null,""]
[null,null,null,null,null,null,null,null,null,null,""]
[null,null,null,null,null,null,null,null,null,null,""]
[null,null,null,null,null,null,null,null,null,null,""]
[null,null,null,null,null,null,null,null,null,null,""]
[null,null,null,null,null,null,null,null,null,null,""]
[null,null,null,null,null,null,null,null,null,null,""]
[null,null,null,null,null,null,null,null,null,null,""]
[null,null,null,null,null,null,null,null,null,null,""]
[null,null,null,null,null,null,null,null,null,null,""]
[null,null,null,null,null,null,null,null,null,null,""]
[null,null,null,null,null,null,null,null,null,null,""]
[null,null,null,null,null,null,null,null,null,null,""]
[null,null,null,null,null,null,null,null,null,null,""]
[null,null,null,null,null,null,null,null,null,null,""]
[null,null,null,null,null,null,null,null,null,null,""]
[null,null,null,null,null,null,null,null,null,null,""]
[null,null,null,null,null,null,null,null,null,null,""]
[null,null,null,null,null,null,null,null,null,null,""]
[null,null,null,null,null,null,null,null,null,null,""]
[null,null,null,null,null,null,null,null,null,null,""]
[null,null,null,null,null,null,null,null,null,null,""]
[null,null,null,null,null,null,null,null,null,null,""]
[null,null,null,null,null,null,null,null,null,null,""]
[null,null,null,null,null,null,null,null,null,null,""]
[null,null,null,null,null,null,null,null,null,null,""]
[null,null,null,null,null,null,null,null,null,null,""]
[null,null,null,null,null,null,null,null,null,null,{"$f":"IF(J141=\"\",\"\",J141*(-1))","v":""}]
[null,null,null,null,null,null,null,null,null,null,""]
[null,null,null,null,null,null,null,null,null,null,""]
[null,null,null,null,null,null,null,null,null,null,""]
[null,null,null,null,null,null,null,null,null,null,""]
[null,null,null,null,null,null,null,null,null,null,""]
[null,null,null,null,null,null,null,null,null,null,""]
[null,null,null,null,null,null,null,null,null,null,""]
[null,null,null,null,null,null,null,null,null,null,""]
[null,null,null,null,null,null,null,null,null,null,""]
[null,null,null,null,null,null,null,null,null,null,""]
[null,null,null,null,null,null,null,null,null,null,""]
[null,null,null,null,null,null,null,null,null,null,""]
[null,null,null,null,null,null,null,null,null,null,""]
[null,null,null,null,null,null,null,null,null,null,""]
[null,null,null,null,null,null,null,null,null,null,""]
[null,null,null,null,null,null,null,null,null,null,""]
[null,null,null,null,null,null,null,null,null,null,""]
[null,null,null,null,null,null,null,null,null,null,""]
[null,null,null,null,null,null,null,null,null,null,""]
[null,null,null,null,null,null,null,null,null,null,""]
[null,null,null,null,null,null,null,null,null,null,""]
[null,null,null,null,null,null,null,null,null,null,""]
[null,null,null,null,null,null,null,null,null,null,""]
[null,null,null,null,null,null,null,null,null,null,""]
[null,null,null,null,null,null,null,null,null,null,""]
[null,null,null,null,null,null,null,null,null,null,""]
[null,null,null,null,null,null,null,null,null,null,""]
[null,null,null,null,null,null,null,null,null,null,""]
[null,null,null,null,null,null,null,null,null,null,""]
[null,null,null,null,null,null,null,null,null,null,""]
[null,null,null,null,null,null,null,null,null,null,""]
[null,null,null,null,null,null,null,null,null,null,""]
[null,null,null,null,null,null,null,null,null,null,""]
[null,null,null,null,null,null,null,null,null,null,""]
[null,null,null,null,null,null,null,null,null,null,""]
[null,null,null,null,null,null,null,null,null,null,""]
[null,null,null,null,null,null,null,null,null,null,""]
[null,null,null,null,null,null,null,null,null,null,""]
[null,null,null,null,null,null,null,null,null,null,""]
[null,null,null,null,null,null,null,null,null,null,""]
[null,null,null,null,null,null,null,null,null,null,""]
[null,null,null,null,null,null,null,null,null,null,""]
[null,null,null,null,null,null,null,null,null,null,""]
[null,null,null,null,null,null,null,null,null,null,""]
[null,null,null,null,null,null,null,null,null,null,""]
[null,null,null,null,null,null,null,null,null,null,""]
[null,null,null,null,null,null,null,null,null,null,""]
[null,null,null,null,null,null,null,null,null,null,""]
[null,null,null,null,null,null,null,null,null,null,""]
[null,null,null,null,null,null,null,null,null,null,""]
[null,null,null,null,null,null,null,null,null,null,""]
[null,null,null,null,null,null,null,null,null,null,""]
[null,null,null,null,null,null,null,null,null,null,""]
[null,null,null,null,null,null,null,null,null,null,""]
[null,null,null,null,null,null,null,null,null,null,""]
[null,null,null,null,null,null,null,null,null,null,""]
[null,null,null,null,null,null,null,null,null,null,""]
[null,null,null,null,null,null,null,null,null,null,""]
[null,null,null,null,null,null,null,null,null,null,""]
[null,null,null,null,null,null,null,null,null,null,""]
[null,null,null,null,null,null,null,null,null,null,""]
[null,null,null,null,null,null,null,null,null,null,""]
[null,null,null,null,null,null,null,null,null,null,""]
[null,null,null,null,null,null,null,null,null,null,{"$f":"IF(J205=\"\",\"\",J205*(-1))","v":""}]
[null,null,null,null,null,null,null,null,null,null,""]
[null,null,null,null,null,null,null,null,null,null,""]
[null,null,null,null,null,null,null,null,null,null,""]
[null,null,null,null,null,null,null,null,null,null,""]
[null,null,null,null,null,null,null,null,null,null,""]
[null,null,null,null,null,null,null,null,null,null,""]
[null,null,null,null,null,null,null,null,null,null,""]
[null,null,null,null,null,null,null,null,null,null,""]
[null,null,null,null,null,null,null,null,null,null,""]
[null,null,null,null,null,null,null,null,null,null,""]
[null,null,null,null,null,null,null,null,null,null,""]
[null,null,null,null,null,null,null,null,null,null,""]
[null,null,null,null,null,null,null,null,null,null,""]
[null,null,null,null,null,null,null,null,null,null,""]
[null,null,null,null,null,null,null,null,null,null,""]
[null,null,null,null,null,null,null,null,null,null,""]
[null,null,null,null,null,null,null,null,null,null,""]
[null,null,null,null,null,null,null,null,null,null,""]
[null,null,null,null,null,null,null,null,null,null,""]
[null,null,null,null,null,null,null,null,null,null,""]
[null,null,null,null,null,null,null,null,null,null,""]
[null,null,null,null,null,null,null,null,null,null,""]
[null,null,null,null,null,null,null,null,null,null,""]
[null,null,null,null,null,null,null,null,null,null,""]
[null,null,null,null,null,null,null,null,null,null,""]
[null,null,null,null,null,null,null,null,null,null,""]
[null,null,null,null,null,null,null,null,null,null,""]
[null,null,null,null,null,null,null,null,null,null,""]
[null,null,null,null,null,null,null,null,null,null,""]
[null,null,null,null,null,null,null,null,null,null,""]
[null,null,null,null,null,null,null,null,null,null,""]
[null,null,null,null,null,null,null,null,null,null,""]
[null,null,null,null,null,null,null,null,null,null,""]
[null,null,null,null,null,null,null,null,null,null,""]
[null,null,null,null,null,null,null,null,null,null,""]
[null,null,null,null,null,null,null,null,null,null,""]
[null,null,null,null,null,null,null,null,null,null,""]
[null,null,null,null,null,null,null,null,null,null,""]
[null,null,null,null,null,null,null,null,null,null,""]
[null,null,null,null,null,null,null,null,null,null,""]
[null,null,null,null,null,null,null,null,null,null,""]
[null,null,null,null,null,null,null,null,null,null,""]
[null,null,null,null,null,null,null,null,null,null,""]
[null,null,null,null,null,null,null,null,null,null,""]
[null,null,null,null,null,null,null,null,null,null,""]
[null,null,null,null,null,null,null,null,null,null,""]
[null,null,null,null,null,null,null,null,null,null,""]
[null,null,null,null,null,null,null,null,null,null,""]
[null,null,null,null,null,null,null,null,null,null,""]
[null,null,null,null,null,null,null,null,null,null,""]
[null,null,null,null,null,null,null,null,null,null,""]
[null,null,null,null,null,null,null,null,null,null,""]
[null,null,null,null,null,null,null,null,null,null,""]
[null,null,null,null,null,null,null,null,null,null,""]
[null,null,null,null,null,null,null,null,null,null,""]
[null,null,null,null,null,null,null,null,null,null,""]
[null,null,null,null,null,null,null,null,null,null,""]
[null,null,null,null,null,null,null,null,null,null,""]
[null,null,null,null,null,null,null,null,null,null,""]
[null,null,null,null,null,null,null,null,null,null,""]
[null,null,null,null,null,null,null,null,null,null,""]
[null,null,null,null,null,null,null,null,null,null,""]
[null,null,null,null,null,null,null,null,null,null,""]
[null,null,null,null,null,null,null,null,null,null,{"$f":"IF(J269=\"\",\"\",J269*(-1))","v":""}]
[null,null,null,null,null,null,null,null,null,null,""]
[null,null,null,null,null,null,null,null,null,null,""]
[null,null,null,null,null,null,null,null,null,null,""]
[null,null,null,null,null,null,null,null,null,null,""]
[null,null,null,null,null,null,null,null,null,null,""]
[null,null,null,null,null,null,null,null,null,null,""]
[null,null,null,null,null,null,null,null,null,null,""]
[null,null,null,null,null,null,null,null,null,null,""]
[null,null,null,null,null,null,null,null,null,null,""]
[null,null,null,null,null,null,null,null,null,null,""]
[null,null,null,null,null,null,null,null,null,null,""]
[null,null,null,null,null,null,null,null,null,null,""]
[null,null,null,null,null,null,null,null,null,null,""]
[null,null,null,null,null,null,null,null,null,null,""]
[null,null,null,null,null,null,null,null,null,null,""]
[null,null,null,null,null,null,null,null,null,null,""]
[null,null,null,null,null,null,null,null,null,null,""]
[null,null,null,null,null,null,null,null,null,null,""]
[null,null,null,null,null,null,null,null,null,null,""]
[null,null,null,null,null,null,null,null,null,null,""]
[null,null,null,null,null,null,null,null,null,null,""]
[null,null,null,null,null,null,null,null,null,null,""]
[null,null,null,null,null,null,null,null,null,null,""]
[null,null,null,null,null,null,null,null,null,null,""]
[null,null,null,null,null,null,null,null,null,null,""]
[null,null,null,null,null,null,null,null,null,null,""]
[null,null,null,null,null,null,null,null,null,null,""]
[null,null,null,null,null,null,null,null,null,null,""]
[null,null,null,null,null,null,null,null,null,null,""]
[null,null,null,null,null,null,null,null,null,null,""]
[null,null,null,null,null,null,null,null,null,null,""]
[null,null,null,null,null,null,null,null,null,null,""]
[null,null,null,null,null,null,null,null,null,null,""]
[null,null,null,null,null,null,null,null,null,null,""]
[null,null,null,null,null,null,null,null,null,null,""]
[null,null,null,null,null,null,null,null,null,null,""]
[null,null,null,null,null,null,null,null,null,null,""]
[null,null,null,null,null,null,null,null,null,null,""]
[null,null,null,null,null,null,null,null,null,null,""]
[null,null,null,null,null,null,null,null,null,null,""]
[null,null,null,null,null,null,null,null,null,null,""]
[null,null,null,null,null,null,null,null,null,null,""]
[null,null,null,null,null,null,null,null,null,null,""]
[null,null,null,null,null,null,null,null,null,null,""]
[null,null,null,null,null,null,null,null,null,null,""]
[null,null,null,null,null,null,null,null,null,null,""]
[null,null,null,null,null,null,null,null,null,null,""]
[null,null,null,null,null,null,null,null,null,null,""]
[null,null,null,null,null,null,null,null,null,null,""]
[null,null,null,null,null,null,null,null,null,null,""]
[null,null,null,null,null,null,null,null,null,null,""]
[null,null,null,null,null,null,null,null,null,null,""]
[null,null,null,null,null,null,null,null,null,null,""]
[null,null,null,null,null,null,null,null,null,null,""]
[null,null,null,null,null,null,null,null,null,null,""]
[null,null,null,null,null,null,null,null,null,null,""]
[null,null,null,null,null,null,null,null,null,null,""]
[null,null,null,null,null,null,null,null,null,null,""]
[null,null,null,null,null,null,null,null,null,null,""]
[null,null,null,null,null,null,null,null,null,null,""]
[null,null,null,null,null,null,null,null,null,null,""]
[null,null,null,null,null,null,null,null,null,null,""]
[null,null,null,null,null,null,null,null,null,null,""]
[null,null,null,null,null,null,null,null,null,null,{"$f":"IF(J333=\"\",\"\",J333*(-1))","v":""}]
[null,null,null,null,null,null,null,null,null,null,""]
[null,null,null,null,null,null,null,null,null,null,""]
[null,null,null,null,null,null,null,null,null,null,""]
[null,null,null,null,null,null,null,null,null,null,""]
[null,null,null,null,null,null,null,null,null,null,""]
[null,null,null,null,null,null,null,null,null,null,""]
[null,null,null,null,null,null,null,null,null,null,""]
[null,null,null,null,null,null,null,null,null,null,""]
[null,null,null,null,null,null,null,null,null,null,""]
[null,null,null,null,null,null,null,null,null,null,""]
[null,null,null,null,null,null,null,null,null,null,""]
[null,null,null,null,null,null,null,null,null,null,""]
[null,null,null,null,null,null,null,null,null,null,""]
[null,null,null,null,null,null,null,null,null,null,""]
[null,null,null,null,null,null,null,null,null,null,""]
[null,null,null,null,null,null,null,null,null,null,""]
[null,null,null,null,null,null,null,null,null,null,""]
[null,null,null,null,null,null,null,null,null,null,""]
[null,null,null,null,null,null,null,null,null,null,""]
[null,null,null,null,null,null,null,null,null,null,""]
[null,null,null,null,null,null,null,null,null,null,""]
[null,null,null,null,null,null,null,null,null,null,""]
[null,null,null,null,null,null,null,null,null,null,""]
[null,null,null,null,null,null,null,null,null,null,""]
[null,null,null,null,null,null,null,null,null,null,""]
[null,null,null,null,null,null,null,null,null,null,""]
[null,null,null,null,null,null,null,null,null,null,""]
[null,null,null,null,null,null,null,null,null,null,""]
[null,null,null,null,null,null,null,null,null,null,""]
[null,null,null,null,null,null,null,null,null,null,""]
[null,null,null,null,null,null,null,null,null,null,""]
[null,null,null,null,null,null,null,null,null,null,""]
[null,null,null,null,null,null,null,null,null,null,""]
[null,null,null,null,null,null,null,null,null,null,""]
[null,null,null,null,null,null,null,null,null,null,""]
[null,null,null,null,null,null,null,null,null,null,""]
[null,null,null,null,null,null,null,null,null,null,""]
[null,null,null,null,null,null,null,null,null,null,""]
[null,null,null,null,null,null,null,null,null,null,""]
[null,null,null,null,null,null,null,null,null,null,""]
[null,null,null,null,null,null,null,null,null,null,""]
[null,null,null,null,null,null,null,null,null,null,""]
[null,null,null,null,null,null,null,null,null,null,""]
[null,null,null,null,null,null,null,null,null,null,""]
[null,null,null,null,null,null,null,null,null,null,""]
[null,null,null,null,null,null,null,null,null,null,""]
[null,null,null,null,null,null,null,null,null,null,""]
[null,null,null,null,null,null,null,null,null,null,""]
[null,null,null,null,null,null,null,null,null,null,""]
[null,null,null,null,null,null,null,null,null,null,""]
[null,null,null,null,null,null,null,null,null,null,""]
[null,null,null,null,null,null,null,null,null,null,""]
[null,null,null,null,null,null,null,null,null,null,""]
[null,null,null,null,null,null,null,null,null,null,""]
[null,null,null,null,null,null,null,null,null,null,""]
[null,null,null,null,null,null,null,null,null,null,""]
[null,null,null,null,null,null,null,null,null,null,""]
[null,null,null,null,null,null,null,null,null,null,""]
[null,null,null,null,null,null,null,null,null,null,""]
[null,null,null,null,null,null,null,null,null,null,""]
[null,null,null,null,null,null,null,null,null,null,""]
[null,null,null,null,null,null,null,null,null,null,""]
[null,null,null,null,null,null,null,null,null,null,""]
[null,null,null,null,null,null,null,null,null,null,{"$f":"IF(J397=\"\",\"\",J397*(-1))","v":""}]
[null,null,null,null,null,null,null,null,null,null,""]
[null,null,null,null,null,null,null,null,null,null,""]
[null,null,null,null,null,null,null,null,null,null,""]
[null,null,null,null,null,null,null,null,null,null,""]
[null,null,null,null,null,null,null,null,null,null,""]
[null,null,null,null,null,null,null,null,null,null,""]
[null,null,null,null,null,null,null,null,null,null,""]
[null,null,null,null,null,null,null,null,null,null,""]
[null,null,null,null,null,null,null,null,null,null,""]
[null,null,null,null,null,null,null,null,null,null,""]
[null,null,null,null,null,null,null,null,null,null,""]
[null,null,null,null,null,null,null,null,null,null,""]
[null,null,null,null,null,null,null,null,null,null,""]
[null,null,null,null,null,null,null,null,null,null,""]
[null,null,null,null,null,null,null,null,null,null,""]
[null,null,null,null,null,null,null,null,null,null,""]
[null,null,null,null,null,null,null,null,null,null,""]
[null,null,null,null,null,null,null,null,null,null,""]
[null,null,null,null,null,null,null,null,null,null,""]
[null,null,null,null,null,null,null,null,null,null,""]
[null,null,null,null,null,null,null,null,null,null,""]
[null,null,null,null,null,null,null,null,null,null,""]
[null,null,null,null,null,null,null,null,null,null,""]
[null,null,null,null,null,null,null,null,null,null,""]
[null,null,null,null,null,null,null,null,null,null,""]
[null,null,null,null,null,null,null,null,null,null,""]
[null,null,null,null,null,null,null,null,null,null,""]
[null,null,null,null,null,null,null,null,null,null,""]
[null,null,null,null,null,null,null,null,null,null,""]
[null,null,null,null,null,null,null,null,null,null,""]
[null,null,null,null,null,null,null,null,null,null,""]
[null,null,null,null,null,null,null,null,null,null,""]
[null,null,null,null,null,null,null,null,null,null,""]
[null,null,null,null,null,null,null,null,null,null,""]
[null,null,null,null,null,null,null,null,null,null,""]
[null,null,null,null,null,null,null,null,null,null,""]
[null,null,null,null,null,null,null,null,null,null,""]
[null,null,null,null,null,null,null,null,null,null,""]
[null,null,null,null,null,null,null,null,null,null,""]
[null,null,null,null,null,null,null,null,null,null,""]
[null,null,null,null,null,null,null,null,null,null,""]
[null,null,null,null,null,null,null,null,null,null,""]
[null,null,null,null,null,null,null,null,null,null,""]
[null,null,null,null,null,null,null,null,null,null,""]
[null,null,null,null,null,null,null,null,null,null,""]
[null,null,null,null,null,null,null,null,null,null,""]
[null,null,null,null,null,null,null,null,null,null,""]
[null,null,null,null,null,null,null,null,null,null,""]
[null,null,null,null,null,null,null,null,null,null,""]
[null,null,null,null,null,null,null,null,null,null,""]
[null,null,null,null,null,null,null,null,null,null,""]
[null,null,null,null,null,null,null,null,null,null,""]
[null,null,null,null,null,null,null,null,null,null,""]
[null,null,null,null,null,null,null,null,null,null,""]
[null,null,null,null,null,null,null,null,null,null,""]
[null,null,null,null,null,null,null,null,null,null,""]
[null,null,null,null,null,null,null,null,null,null,""]
[null,null,null,null,null,null,null,null,null,null,""]
[null,null,null,null,null,null,null,null,null,null,""]
[null,null,null,null,null,null,null,null,null,null,""]
[null,null,null,null,null,null,null,null,null,null,""]
[null,null,null,null,null,null,null,null,null,null,""]
[null,null,null,null,null,null,null,null,null,null,""]
[null,null,null,null,null,null,null,null,null,null,{"$f":"IF(J461=\"\",\"\",J461*(-1))","v":""}]
[null,null,null,null,null,null,null,null,null,null,""]
[null,null,null,null,null,null,null,null,null,null,""]
[null,null,null,null,null,null,null,null,null,null,""]
[null,null,null,null,null,null,null,null,null,null,""]
[null,null,null,null,null,null,null,null,null,null,""]
[null,null,null,null,null,null,null,null,null,null,""]
[null,null,null,null,null,null,null,null,null,null,""]
[null,null,null,null,null,null,null,null,null,null,""]
[null,null,null,null,null,null,null,null,null,null,""]
[null,null,null,null,null,null,null,null,null,null,""]
[null,null,null,null,null,null,null,null,null,null,""]
[null,null,null,null,null,null,null,null,null,null,""]
[null,null,null,null,null,null,null,null,null,null,""]
[null,null,null,null,null,null,null,null,null,null,""]
[null,null,null,null,null,null,null,null,null,null,""]
[null,null,null,null,null,null,null,null,null,null,""]
[null,null,null,null,null,null,null,null,null,null,""]
[null,null,null,null,null,null,null,null,null,null,""]
[null,null,null,null,null,null,null,null,null,null,""]
[null,null,null,null,null,null,null,null,null,null,""]
[null,null,null,null,null,null,null,null,null,null,""]
[null,null,null,null,null,null,null,null,null,null,""]
[null,null,null,null,null,null,null,null,null,null,""]
[null,null,null,null,null,null,null,null,null,null,""]
[null,null,null,null,null,null,null,null,null,null,""]
[null,null,null,null,null,null,null,null,null,null,""]
[null,null,null,null,null,null,null,null,null,null,""]
[null,null,null,null,null,null,null,null,null,null,""]
[null,null,null,null,null,null,null,null,null,null,""]
[null,null,null,null,null,null,null,null,null,null,""]
[null,null,null,null,null,null,null,null,null,null,""]
[null,null,null,null,null,null,null,null,null,null,""]
[null,null,null,null,null,null,null,null,null,null,""]
[null,null,null,null,null,null,null,null,null,null,""]
[null,null,null,null,null,null,null,null,null,null,""]
[null,null,null,null,null,null,null,null,null,null,""]
[null,null,null,null,null,null,null,null,null,null,""]
[null,null,null,null,null,null,null,null,null,null,""]
[null,null,null,null,null,null,null,null,null,null,""]
[null,null,null,null,null,null,null,null,null,null,""]
[null,null,null,null,null,null,null,null,null,null,""]
[null,null,null,null,null,null,null,null,null,null,""]
[null,null,null,null,null,null,null,null,null,null,""]
[null,null,null,null,null,null,null,null,null,null,""]
[null,null,null,null,null,null,null,null,null,null,""]
[null,null,null,null,null,null,null,null,null,null,""]
[null,null,null,null,null,null,null,null,null,null,""]
[null,null,null,null,null,null,null,null,null,null,""]
[null,null,null,null,null,null,null,null,null,null,""]
[null,null,null,null,null,null,null,null,null,null,""]
[null,null,null,null,null,null,null,null,null,null,""]
[null,null,null,null,null,null,null,null,null,null,""]
[null,null,null,null,null,null,null,null,null,null,""]
[null,null,null,null,null,null,null,null,null,null,""]
[null,null,null,null,null,null,null,null,null,null,""]
[null,null,null,null,null,null,null,null,null,null,""]
[null,null,null,null,null,null,null,null,null,null,""]
[null,null,null,null,null,null,null,null,null,null,""]
[null,null,null,null,null,null,null,null,null,null,""]
[null,null,null,null,null,null,null,null,null,null,""]
[null,null,null,null,null,null,null,null,null,null,""]
[null,null,null,null,null,null,null,null,null,null,""]
[null,null,null,null,null,null,null,null,null,null,""]
[null,null,null,null,null,null,null,null,null,null,{"$f":"IF(J525=\"\",\"\",J525*(-1))","v":""}]
[null,null,null,null,null,null,null,null,null,null,""]
[null,null,null,null,null,null,null,null,null,null,""]
[null,null,null,null,null,null,null,null,null,null,""]
[null,null,null,null,null,null,null,null,null,null,""]
[null,null,null,null,null,null,null,null,null,null,""]
[null,null,null,null,null,null,null,null,null,null,""]
[null,null,null,null,null,null,null,null,null,null,""]
[null,null,null,null,null,null,null,null,null,null,""]
[null,null,null,null,null,null,null,null,null,null,""]
[null,null,null,null,null,null,null,null,null,null,""]
[null,null,null,null,null,null,null,null,null,null,""]
[null,null,null,null,null,null,null,null,null,null,""]
[null,null,null,null,null,null,null,null,null,null,""]
[null,null,null,null,null,null,null,null,null,null,""]
[null,null,null,null,null,null,null,null,null,null,""]
[null,null,null,null,null,null,null,null,null,null,""]
[null,null,null,null,null,null,null,null,null,null,""]
[null,null,null,null,null,null,null,null,null,null,""]
[null,null,null,null,null,null,null,null,null,null,""]
[null,null,null,null,null,null,null,null,null,null,""]
[null,null,null,null,null,null,null,null,null,null,""]
[null,null,null,null,null,null,null,null,null,null,""]
[null,null,null,null,null,null,null,null,null,null,""]
[null,null,null,null,null,null,null,null,null,null,""]
[null,null,null,null,null,null,null,null,null,null,""]
[null,null,null,null,null,null,null,null,null,null,""]
[null,null,null,null,null,null,null,null,null,null,""]
[null,null,null,null,null,null,null,null,null,null,""]
[null,null,null,null,null,null,null,null,null,null,""]
[null,null,null,null,null,null,null,null,null,null,""]
[null,null,null,null,null,null,null,null,null,null,""]
[null,null,null,null,null,null,null,null,null,null,""]
[null,null,null,null,null,null,null,null,null,null,""]
[null,null,null,null,null,null,null,null,null,null,""]
[null,null,null,null,null,null,null,null,null,null,""]
[null,null,null,null,null,null,null,null,null,null,""]
[null,null,null,null,null,null,null,null,null,null,""]
[null,null,null,null,null,null,null,null,null,null,""]
[null,null,null,null,null,null,null,null,null,null,""]
[null,null,null,null,null,null,null,null,null,null,""]
[null,null,null,null,null,null,null,null,null,null,""]
[null,null,null,null,null,null,null,null,null,null,""]
[null,null,null,null,null,null,null,null,null,null,""]
[null,null,null,null,null,null,null,null,null,null,""]
[null,null,null,null,null,null,null,null,null,null,""]
[null,null,null,null,null,null,null,null,null,null,""]
[null,null,null,null,null,null,null,null,null,null,""]
[null,null,null,null,null,null,null,null,null,null,""]
[null,null,null,null,null,null,null,null,null,null,""]
[null,null,null,null,null,null,null,null,null,null,""]
[null,null,null,null,null,null,null,null,null,null,""]
[null,null,null,null,null,null,null,null,null,null,""]
[null,null,null,null,null,null,null,null,null,null,""]
[null,null,null,null,null,null,null,null,null,null,""]
[null,null,null,null,null,null,null,null,null,null,""]
[null,null,null,null,null,null,null,null,null,null,""]
[null,null,null,null,null,null,null,null,null,null,""]
[null,null,null,null,null,null,null,null,null,null,""]
[null,null,null,null,null,null,null,null,null,null,""]
[null,null,null,null,null,null,null,null,null,null,""]
[null,null,null,null,null,null,null,null,null,null,""]
[null,null,null,null,null,null,null,null,null,null,""]
[null,null,null,null,null,null,null,null,null,null,""]
[null,null,null,null,null,null,null,null,null,null,{"$f":"IF(J589=\"\",\"\",J589*(-1))","v":""}]
[null,null,null,null,null,null,null,null,null,null,""]
[null,null,null,null,null,null,null,null,null,null,""]
[null,null,null,null,null,null,null,null,null,null,""]
[null,null,null,null,null,null,null,null,null,null,""]
[null,null,null,null,null,null,null,null,null,null,""]
[null,null,null,null,null,null,null,null,null,null,""]
[null,null,null,null,null,null,null,null,null,null,""]
[null,null,null,null,null,null,null,null,null,null,""]
[null,null,null,null,null,null,null,null,null,null,""]
[null,null,null,null,null,null,null,null,null,null,""]
[null,null,null,null,null,null,null,null,null,null,""]
[null,null,null,null,null,null,null,null,null,null,""]
[null,null,null,null,null,null,null,null,null,null,""]
[null,null,null,null,null,null,null,null,null,null,""]
[null,null,null,null,null,null,null,null,null,null,""]
[null,null,null,null,null,null,null,null,null,null,""]
[null,null,null,null,null,null,null,null,null,null,""]
[null,null,null,null,null,null,null,null,null,null,""]
[null,null,null,null,null,null,null,null,null,null,""]
[null,null,null,null,null,null,null,null,null,null,""]
[null,null,null,null,null,null,null,null,null,null,""]
[null,null,null,null,null,null,null,null,null,null,""]
[null,null,null,null,null,null,null,null,null,null,""]
[null,null,null,null,null,null,null,null,null,null,""]
[null,null,null,null,null,null,null,null,null,null,""]
[null,null,null,null,null,null,null,null,null,null,""]
[null,null,null,null,null,null,null,null,null,null,""]
[null,null,null,null,null,null,null,null,null,null,""]
[null,null,null,null,null,null,null,null,null,null,""]
[null,null,null,null,null,null,null,null,null,null,""]
[null,null,null,null,null,null,null,null,null,null,""]
[null,null,null,null,null,null,null,null,null,null,""]
[null,null,null,null,null,null,null,null,null,null,""]
[null,null,null,null,null,null,null,null,null,null,""]
[null,null,null,null,null,null,null,null,null,null,""]
[null,null,null,null,null,null,null,null,null,null,""]
[null,null,null,null,null,null,null,null,null,null,""]
[null,null,null,null,null,null,null,null,null,null,""]
[null,null,null,null,null,null,null,null,null,null,""]
[null,null,null,null,null,null,null,null,null,null,""]
[null,null,null,null,null,null,null,null,null,null,""]
[null,null,null,null,null,null,null,null,null,null,""]
[null,null,null,null,null,null,null,null,null,null,""]
[null,null,null,null,null,null,null,null,null,null,""]
[null,null,null,null,null,null,null,null,null,null,""]
[null,null,null,null,null,null,null,null,null,null,""]
[null,null,null,null,null,null,null,null,null,null,""]
[null,null,null,null,null,null,null,null,null,null,""]
[null,null,null,null,null,null,null,null,null,null,""]
[null,null,null,null,null,null,null,null,null,null,""]
[null,null,null,null,null,null,null,null,null,null,""]
[null,null,null,null,null,null,null,null,null,null,""]
[null,null,null,null,null,null,null,null,null,null,""]
[null,null,null,null,null,null,null,null,null,null,""]
[null,null,null,null,null,null,null,null,null,null,""]
[null,null,null,null,null,null,null,null,null,null,""]
[null,null,null,null,null,null,null,null,null,null,""]
[null,null,null,null,null,null,null,null,null,null,""]
[null,null,null,null,null,null,null,null,null,null,""]
[null,null,null,null,null,null,null,null,null,null,""]
[null,null,null,null,null,null,null,null,null,null,""]
[null,null,null,null,null,null,null,null,null,null,""]
[null,null,null,null,null,null,null,null,null,null,""]
[null,null,null,null,null,null,null,null,null,null,{"$f":"IF(J653=\"\",\"\",J653*(-1))","v":""}]
[null,null,null,null,null,null,null,null,null,null,""]
[null,null,null,null,null,null,null,null,null,null,""]
[null,null,null,null,null,null,null,null,null,null,""]
[null,null,null,null,null,null,null,null,null,null,""]
[null,null,null,null,null,null,null,null,null,null,""]
[null,null,null,null,null,null,null,null,null,null,""]
[null,null,null,null,null,null,null,null,null,null,""]
[null,null,null,null,null,null,null,null,null,null,""]
[null,null,null,null,null,null,null,null,null,null,""]
[null,null,null,null,null,null,null,null,null,null,""]
[null,null,null,null,null,null,null,null,null,null,""]
[null,null,null,null,null,null,null,null,null,null,""]
[null,null,null,null,null,null,null,null,null,null,""]
[null,null,null,null,null,null,null,null,null,null,""]
[null,null,null,null,null,null,null,null,null,null,""]
[null,null,null,null,null,null,null,null,null,null,""]
[null,null,null,null,null,null,null,null,null,null,""]
[null,null,null,null,null,null,null,null,null,null,""]
[null,null,null,null,null,null,null,null,null,null,""]
[null,null,null,null,null,null,null,null,null,null,""]
[null,null,null,null,null,null,null,null,null,null,""]
[null,null,null,null,null,null,null,null,null,null,""]
[null,null,null,null,null,null,null,null,null,null,""]
[null,null,null,null,null,null,null,null,null,null,""]
[null,null,null,null,null,null,null,null,null,null,""]
[null,null,null,null,null,null,null,null,null,null,""]
[null,null,null,null,null,null,null,null,null,null,""]
[null,null,null,null,null,null,null,null,null,null,""]
[null,null,null,null,null,null,null,null,null,null,""]
[null,null,null,null,null,null,null,null,null,null,""]
[null,null,null,null,null,null,null,null,null,null,""]
[null,null,null,null,null,null,null,null,null,null,""]
[null,null,null,null,null,null,null,null,null,null,""]
[null,null,null,null,null,null,null,null,null,null,""]
[null,null,null,null,null,null,null,null,null,null,""]
[null,null,null,null,null,null,null,null,null,null,""]
[null,null,null,null,null,null,null,null,null,null,""]
[null,null,null,null,null,null,null,null,null,null,""]
[null,null,null,null,null,null,null,null,null,null,""]
[null,null,null,null,null,null,null,null,null,null,""]
[null,null,null,null,null,null,null,null,null,null,""]
[null,null,null,null,null,null,null,null,null,null,""]
[null,null,null,null,null,null,null,null,null,null,""]
[null,null,null,null,null,null,null,null,null,null,""]
[null,null,null,null,null,null,null,null,null,null,""]
[null,null,null,null,null,null,null,null,null,null,""]
[null,null,null,null,null,null,null,null,null,null,""]
[null,null,null,null,null,null,null,null,null,null,""]
[null,null,null,null,null,null,null,null,null,null,""]
[null,null,null,null,null,null,null,null,null,null,""]
[null,null,null,null,null,null,null,null,null,null,""]
[null,null,null,null,null,null,null,null,null,null,""]
[null,null,null,null,null,null,null,null,null,null,""]
[null,null,null,null,null,null,null,null,null,null,""]
[null,null,null,null,null,null,null,null,null,null,""]
[null,null,null,null,null,null,null,null,null,null,""]
[null,null,null,null,null,null,null,null,null,null,""]
[null,null,null,null,null,null,null,null,null,null,""]
[null,null,null,null,null,null,null,null,null,null,""]
[null,null,null,null,null,null,null,null,null,null,""]
[null,null,null,null,null,null,null,null,null,null,""]
[null,null,null,null,null,null,null,null,null,null,""]
[null,null,null,null,null,null,null,null,null,null,""]
[null,null,null,null,null,null,null,null,null,null,{"$f":"IF(J717=\"\",\"\",J717*(-1))","v":""}]
[null,null,null,null,null,null,null,null,null,null,""]
[null,null,null,null,null,null,null,null,null,null,""]
[null,null,null,null,null,null,null,null,null,null,""]
[null,null,null,null,null,null,null,null,null,null,""]
[null,null,null,null,null,null,null,null,null,null,""]
[null,null,null,null,null,null,null,null,null,null,""]
[null,null,null,null,null,null,null,null,null,null,""]
[null,null,null,null,null,null,null,null,null,null,""]
[null,null,null,null,null,null,null,null,null,null,""]
[null,null,null,null,null,null,null,null,null,null,""]
[null,null,null,null,null,null,null,null,null,null,""]
[null,null,null,null,null,null,null,null,null,null,""]
[null,null,null,null,null,null,null,null,null,null,""]
[null,null,null,null,null,null,null,null,null,null,""]
[null,null,null,null,null,null,null,null,null,null,""]
[null,null,null,null,null,null,null,null,null,null,""]
[null,null,null,null,null,null,null,null,null,null,""]
[null,null,null,null,null,null,null,null,null,null,""]
[null,null,null,null,null,null,null,null,null,null,""]
[null,null,null,null,null,null,null,null,null,null,""]
[null,null,null,null,null,null,null,null,null,null,""]
[null,null,null,null,null,null,null,null,null,null,""]
[null,null,null,null,null,null,null,null,null,null,""]
[null,null,null,null,null,null,null,null,null,null,""]
[null,null,null,null,null,null,null,null,null,null,""]
[null,null,null,null,null,null,null,null,null,null,""]
[null,null,null,null,null,null,null,null,null,null,""]
[null,null,null,null,null,null,null,null,null,null,""]
[null,null,null,null,null,null,null,null,null,null,""]
[null,null,null,null,null,null,null,null,null,null,""]
[null,null,null,null,null,null,null,null,null,null,""]
[null,null,null,null,null,null,null,null,null,null,""]
[null,null,null,null,null,null,null,null,null,null,""]
[null,null,null,null,null,null,null,null,null,null,""]
[null,null,null,null,null,null,null,null,null,null,""]
[null,null,null,null,null,null,null,null,null,null,""]
[null,null,null,null,null,null,null,null,null,null,""]
[null,null,null,null,null,null,null,null,null,null,""]
[null,null,null,null,null,null,null,null,null,null,""]
[null,null,null,null,null,null,null,null,null,null,""]
[null,null,null,null,null,null,null,null,null,null,""]
[null,null,null,null,null,null,null,null,null,null,""]
[null,null,null,null,null,null,null,null,null,null,""]
[null,null,null,null,null,null,null,null,null,null,""]
[null,null,null,null,null,null,null,null,null,null,""]
[null,null,null,null,null,null,null,null,null,null,""]
[null,null,null,null,null,null,null,null,null,null,""]
[null,null,null,null,null,null,null,null,null,null,""]
[null,null,null,null,null,null,null,null,null,null,""]
[null,null,null,null,null,null,null,null,null,null,""]
[null,null,null,null,null,null,null,null,null,null,""]
[null,null,null,null,null,null,null,null,null,null,""]
[null,null,null,null,null,null,null,null,null,null,""]
[null,null,null,null,null,null,null,null,null,null,""]
[null,null,null,null,null,null,null,null,null,null,""]
[null,null,null,null,null,null,null,null,null,null,""]
[null,null,null,null,null,null,null,null,null,null,""]
[null,null,null,null,null,null,null,null,null,null,""]
[null,null,null,null,null,null,null,null,null,null,""]
[null,null,null,null,null,null,null,null,null,null,""]
[null,null,null,null,null,null,null,null,null,null,""]
[null,null,null,null,null,null,null,null,null,null,""]
[null,null,null,null,null,null,null,null,null,null,""]
[null,null,null,null,null,null,null,null,null,null,{"$f":"IF(J781=\"\",\"\",J781*(-1))","v":""}]
[null,null,null,null,null,null,null,null,null,null,""]
[null,null,null,null,null,null,null,null,null,null,""]
[null,null,null,null,null,null,null,null,null,null,""]
[null,null,null,null,null,null,null,null,null,null,""]
[null,null,null,null,null,null,null,null,null,null,""]
[null,null,null,null,null,null,null,null,null,null,""]
[null,null,null,null,null,null,null,null,null,null,""]
[null,null,null,null,null,null,null,null,null,null,""]
[null,null,null,null,null,null,null,null,null,null,""]
[null,null,null,null,null,null,null,null,null,null,""]
[null,null,null,null,null,null,null,null,null,null,""]
[null,null,null,null,null,null,null,null,null,null,""]
[null,null,null,null,null,null,null,null,null,null,""]
[null,null,null,null,null,null,null,null,null,null,""]
[null,null,null,null,null,null,null,null,null,null,""]
[null,null,null,null,null,null,null,null,null,null,""]
[null,null,null,null,null,null,null,null,null,null,""]
[null,null,null,null,null,null,null,null,null,null,""]
[null,null,null,null,null,null,null,null,null,null,""]
[null,null,null,null,null,null,null,null,null,null,""]
[null,null,null,null,null,null,null,null,null,null,""]
[null,null,null,null,null,null,null,null,null,null,""]
[null,null,null,null,null,null,null,null,null,null,""]
[null,null,null,null,null,null,null,null,null,null,""]
[null,null,null,null,null,null,null,null,null,null,""]
[null,null,null,null,null,null,null,null,null,null,""]
[null,null,null,null,null,null,null,null,null,null,""]
[null,null,null,null,null,null,null,null,null,null,""]
[null,null,null,null,null,null,null,null,null,null,""]
[null,null,null,null,null,null,null,null,null,null,""]
[null,null,null,null,null,null,null,null,null,null,""]
[null,null,null,null,null,null,null,null,null,null,""]
[null,null,null,null,null,null,null,null,null,null,""]
[null,null,null,null,null,null,null,null,null,null,""]
[null,null,null,null,null,null,null,null,null,null,""]
[null,null,null,null,null,null,null,null,null,null,""]
[null,null,null,null,null,null,null,null,null,null,""]
[null,null,null,null,null,null,null,null,null,null,""]
[null,null,null,null,null,null,null,null,null,null,""]
[null,null,null,null,null,null,null,null,null,null,""]
[null,null,null,null,null,null,null,null,null,null,""]
[null,null,null,null,null,null,null,null,null,null,""]
[null,null,null,null,null,null,null,null,null,null,""]
[null,null,null,null,null,null,null,null,null,null,""]
[null,null,null,null,null,null,null,null,null,null,""]
[null,null,null,null,null,null,null,null,null,null,""]
[null,null,null,null,null,null,null,null,null,null,""]
[null,null,null,null,null,null,null,null,null,null,""]
[null,null,null,null,null,null,null,null,null,null,""]
[null,null,null,null,null,null,null,null,null,null,""]
[null,null,null,null,null,null,null,null,null,null,""]
[null,null,null,null,null,null,null,null,null,null,""]
[null,null,null,null,null,null,null,null,null,null,""]
[null,null,null,null,null,null,null,null,null,null,""]
[null,null,null,null,null,null,null,null,null,null,""]
[null,null,null,null,null,null,null,null,null,null,""]
[null,null,null,null,null,null,null,null,null,null,""]
[null,null,null,null,null,null,null,null,null,null,""]
[null,null,null,null,null,null,null,null,null,null,""]
[null,null,null,null,null,null,null,null,null,null,""]
[null,null,null,null,null,null,null,null,null,null,""]
[null,null,null,null,null,null,null,null,null,null,""]
[null,null,null,null,null,null,null,null,null,null,""]
[null,null,null,null,null,null,null,null,null,null,{"$f":"IF(J845=\"\",\"\",J845*(-1))","v":""}]
[null,null,null,null,null,null,null,null,null,null,""]
[null,null,null,null,null,null,null,null,null,null,""]
[null,null,null,null,null,null,null,null,null,null,""]
[null,null,null,null,null,null,null,null,null,null,""]
[null,null,null,null,null,null,null,null,null,null,""]
[null,null,null,null,null,null,null,null,null,null,""]
[null,null,null,null,null,null,null,null,null,null,""]
[null,null,null,null,null,null,null,null,null,null,""]
[null,null,null,null,null,null,null,null,null,null,""]
[null,null,null,null,null,null,null,null,null,null,""]
[null,null,null,null,null,null,null,null,null,null,""]
[null,null,null,null,null,null,null,null,null,null,""]
[null,null,null,null,null,null,null,null,null,null,""]
[null,null,null,null,null,null,null,null,null,null,""]
[null,null,null,null,null,null,null,null,null,null,""]
[null,null,null,null,null,null,null,null,null,null,""]
[null,null,null,null,null,null,null,null,null,null,""]
[null,null,null,null,null,null,null,null,null,null,""]
[null,null,null,null,null,null,null,null,null,null,""]
[null,null,null,null,null,null,null,null,null,null,""]
[null,null,null,null,null,null,null,null,null,null,""]
[null,null,null,null,null,null,null,null,null,null,""]
[null,null,null,null,null,null,null,null,null,null,""]
[null,null,null,null,null,null,null,null,null,null,""]
[null,null,null,null,null,null,null,null,null,null,""]
[null,null,null,null,null,null,null,null,null,null,""]
[null,null,null,null,null,null,null,null,null,null,""]
[null,null,null,null,null,null,null,null,null,null,""]
[null,null,null,null,null,null,null,null,null,null,""]
[null,null,null,null,null,null,null,null,null,null,""]
[null,null,null,null,null,null,null,null,null,null,""]
[null,null,null,null,null,null,null,null,null,null,""]
[null,null,null,null,null,null,null,null,null,null,""]
[null,null,null,null,null,null,null,null,null,null,""]
[null,null,null,null,null,null,null,null,null,null,""]
[null,null,null,null,null,null,null,null,null,null,""]
[null,null,null,null,null,null,null,null,null,null,""]
[null,null,null,null,null,null,null,null,null,null,""]
[null,null,null,null,null,null,null,null,null,null,""]
[null,null,null,null,null,null,null,null,null,null,""]
[null,null,null,null,null,null,null,null,null,null,""]
[null,null,null,null,null,null,null,null,null,null,""]
[null,null,null,null,null,null,null,null,null,null,""]
[null,null,null,null,null,null,null,null,null,null,""]
[null,null,null,null,null,null,null,null,null,null,""]
[null,null,null,null,null,null,null,null,null,null,""]
[null,null,null,null,null,null,null,null,null,null,""]
[null,null,null,null,null,null,null,null,null,null,""]
[null,null,null,null,null,null,null,null,null,null,""]
[null,null,null,null,null,null,null,null,null,null,""]
[null,null,null,null,null,null,null,null,null,null,""]
[null,null,null,null,null,null,null,null,null,null,""]
[null,null,null,null,null,null,null,null,null,null,""]
[null,null,null,null,null,null,null,null,null,null,""]
[null,null,null,null,null,null,null,null,null,null,""]
[null,null,null,null,null,null,null,null,null,null,""]
[null,null,null,null,null,null,null,null,null,null,""]
[null,null,null,null,null,null,null,null,null,null,""]
[null,null,null,null,null,null,null,null,null,null,""]
[null,null,null,null,null,null,null,null,null,null,""]
[null,null,null,null,null,null,null,null,null,null,""]
[null,null,null,null,null,null,null,null,null,null,""]
[null,null,null,null,null,null,null,null,null,null,""]
[null,null,null,null,null,null,null,null,null,null,{"$f":"IF(J909=\"\",\"\",J909*(-1))","v":""}]
[null,null,null,null,null,null,null,null,null,null,""]
[null,null,null,null,null,null,null,null,null,null,""]
[null,null,null,null,null,null,null,null,null,null,""]
[null,null,null,null,null,null,null,null,null,null,""]
[null,null,null,null,null,null,null,null,null,null,""]
[null,null,null,null,null,null,null,null,null,null,""]
[null,null,null,null,null,null,null,null,null,null,""]
[null,null,null,null,null,null,null,null,null,null,""]
[null,null,null,null,null,null,null,null,null,null,""]
[null,null,null,null,null,null,null,null,null,null,""]
[null,null,null,null,null,null,null,null,null,null,""]
[null,null,null,null,null,null,null,null,null,null,""]
[null,null,null,null,null,null,null,null,null,null,""]
[null,null,null,null,null,null,null,null,null,null,""]
[null,null,null,null,null,null,null,null,null,null,""]
[null,null,null,null,null,null,null,null,null,null,""]
[null,null,null,null,null,null,null,null,null,null,""]
[null,null,null,null,null,null,null,null,null,null,""]
[null,null,null,null,null,null,null,null,null,null,""]
[null,null,null,null,null,null,null,null,null,null,""]
[null,null,null,null,null,null,null,null,null,null,""]
[null,null,null,null,null,null,null,null,null,null,""]
[null,null,null,null,null,null,null,null,null,null,""]
[null,null,null,null,null,null,null,null,null,null,""]
[null,null,null,null,null,null,null,null,null,null,""]
[null,null,null,null,null,null,null,null,null,null,""]
[null,null,null,null,null,null,null,null,null,null,""]
[null,null,null,null,null,null,null,null,null,null,""]
[null,null,null,null,null,null,null,null,null,null,""]
[null,null,null,null,null,null,null,null,null,null,""]
[null,null,null,null,null,null,null,null,null,null,""]
[null,null,null,null,null,null,null,null,null,null,""]
[null,null,null,null,null,null,null,null,null,null,""]
[null,null,null,null,null,null,null,null,null,null,""]
[null,null,null,null,null,null,null,null,null,null,""]
[null,null,null,null,null,null,null,null,null,null,""]
[null,null,null,null,null,null,null,null,null,null,""]
[null,null,null,null,null,null,null,null,null,null,""]
[null,null,null,null,null,null,null,null,null,null,""]
[null,null,null,null,null,null,null,null,null,null,""]
[null,null,null,null,null,null,null,null,null,null,""]
[null,null,null,null,null,null,null,null,null,null,""]
[null,null,null,null,null,null,null,null,null,null,""]
[null,null,null,null,null,null,null,null,null,null,""]
[null,null,null,null,null,null,null,null,null,null,""]
[null,null,null,null,null,null,null,null,null,null,""]
[null,null,null,null,null,null,null,null,null,null,""]
[null,null,null,null,null,null,null,null,null,null,""]
[null,null,null,null,null,null,null,null,null,null,""]
[null,null,null,null,null,null,null,null,null,null,""]
[null,null,null,null,null,null,null,null,null,null,""]
[null,null,null,null,null,null,null,null,null,null,""]
[null,null,null,null,null,null,null,null,null,null,""]
[null,null,null,null,null,null,null,null,null,null,""]
[null,null,null,null,null,null,null,null,null,null,""]
[null,null,null,null,null,null,null,null,null,null,""]
[null,null,null,null,null,null,null,null,null,null,""]
[null,null,null,null,null,null,null,null,null,null,""]
[null,null,null,null,null,null,null,null,null,null,""]
[null,null,null,null,null,null,null,null,null,null,""]
[null,null,null,null,null,null,null,null,null,null,""]
[null,null,null,null,null,null,null,null,null,null,""]
[null,null,null,null,null,null,null,null,null,null,""]
[null,null,null,null,null,null,null,null,null,null,{"$f":"IF(J973=\"\",\"\",J973*(-1))","v":""}]
[null,null,null,null,null,null,null,null,null,null,""]
[null,null,null,null,null,null,null,null,null,null,""]
[null,null,null,null,null,null,null,null,null,null,""]
[null,null,null,null,null,null,null,null,null,null,""]
[null,null,null,null,null,null,null,null,null,null,""]
[null,null,null,null,null,null,null,null,null,null,""]
[null,null,null,null,null,null,null,null,null,null,""]
[null,null,null,null,null,null,null,null,null,null,""]
[null,null,null,null,null,null,null,null,null,null,""]
[null,null,null,null,null,null,null,null,null,null,""]
[null,null,null,null,null,null,null,null,null,null,""]
[null,null,null,null,null,null,null,null,null,null,""]
[null,null,null,null,null,null,null,null,null,null,""]
[null,null,null,null,null,null,null,null,null,null,""]
[null,null,null,null,null,null,null,null,null,null,""]
[null,null,null,null,null,null,null,null,null,null,""]
[null,null,null,null,null,null,null,null,null,null,""]
[null,null,null,null,null,null,null,null,null,null,""]
[null,null,null,null,null,null,null,null,null,null,""]
[null,null,null,null,null,null,null,null,null,null,""]
[null,null,null,null,null,null,null,null,null,null,""]
[null,null,null,null,null,null,null,null,null,null,""]
[null,null,null,null,null,null,null,null,null,null,""]
[null,null,null,null,null,null,null,null,null,null,""]
[null,null,null,null,null,null,null,null,null,null,""]
[null,null,null,null,null,null,null,null,null,null,""]
[null,null,null,null,null,null,null,null,null,null,""]
[null,null,null,null,null,null,null,null,null,null,""]
[null,null,null,null,null,null,null,null,null,null,""]
[null,null,null,null,null,null,null,null,null,null,""]
[null,null,null,null,null,null,null,null,null,null,""]
[null,null,null,null,null,null,null,null,null,null,""]
[null,null,null,null,null,null,null,null,null,null,""]
[null,null,null,null,null,null,null,null,null,null,""]
[null,null,null,null,null,null,null,null,null,null,""]
[null,null,null,null,null,null,null,null,null,null,""]
[null,null,null,null,null,null,null,null,null,null,""]
[null,null,null,null,null,null,null,null,null,null,""]
[null,null,null,null,null,null,null,null,null,null,""]
[null,null,null,null,null,null,null,null,null,null,""]
[null,null,null,null,null,null,null,null,null,null,""]
[null,null,null,null,null,null,null,null,null,null,""]
[null,null,null,null,null,null,null,null,null,null,""]
[null,null,null,null,null,null,null,null,null,null,""]
[null,null,null,null,null,null,null,null,null,null,""]
[null,null,null,null,null,null,null,null,null,null,""]
[null,null,null,null,null,null,null,null,null,null,""]
[null,null,null,null,null,null,null,null,null,null,""]
[null,null,null,null,null,null,null,null,null,null,""]
[null,null,null,null,null,null,null,null,null,null,""]
[null,null,null,null,null,null,null,null,null,null,""]
[null,null,null,null,null,null,null,null,null,null,""]
[null,null,null,null,null,null,null,null,null,null,""]
[null,null,null,null,null,null,null,null,null,null,""]
[null,null,null,null,null,null,null,null,null,null,""]
[null,null,null,null,null,null,null,null,null,null,""]
[null,null,null,null,null,null,null,null,null,null,""]
[null,null,null,null,null,null,null,null,null,null,""]
[null,null,null,null,null,null,null,null,null,null,""]
[null,null,null,null,null,null,null,null,null,null,""]
[null,null,null,null,null,null,null,null,null,null,""]
[null,null,null,null,null,null,null,null,null,null,""]
[null,null,null,null,null,null,null,null,null,null,""]
[null,null,null,null,null,null,null,null,null,null,{"$f":"IF(J1037=\"\",\"\",J1037*(-1))","v":""}]
[null,null,null,null,null,null,null,null,null,null,""]
[null,null,null,null,null,null,null,null,null,null,""]
[null,null,null,null,null,null,null,null,null,null,""]
[null,null,null,null,null,null,null,null,null,null,""]
[null,null,null,null,null,null,null,null,null,null,""]
[null,null,null,null,null,null,null,null,null,null,""]
[null,null,null,null,null,null,null,null,null,null,""]
[null,null,null,null,null,null,null,null,null,null,""]
[null,null,null,null,null,null,null,null,null,null,""]
[null,null,null,null,null,null,null,null,null,null,""]
[null,null,null,null,null,null,null,null,null,null,""]
[null,null,null,null,null,null,null,null,null,null,""]
[null,null,null,null,null,null,null,null,null,null,""]
[null,null,null,null,null,null,null,null,null,null,""]
[null,null,null,null,null,null,null,null,null,null,""]
[null,null,null,null,null,null,null,null,null,null,""]
[null,null,null,null,null,null,null,null,null,null,""]
[null,null,null,null,null,null,null,null,null,null,""]
[null,null,null,null,null,null,null,null,null,null,""]
[null,null,null,null,null,null,null,null,null,null,""]
[null,null,null,null,null,null,null,null,null,null,""]
[null,null,null,null,null,null,null,null,null,null,""]
[null,null,null,null,null,null,null,null,null,null,""]
[null,null,null,null,null,null,null,null,null,null,""]
[null,null,null,null,null,null,null,null,null,null,""]
[null,null,null,null,null,null,null,null,null,null,""]
[null,null,null,null,null,null,null,null,null,null,""]
[null,null,null,null,null,null,null,null,null,null,""]
[null,null,null,null,null,null,null,null,null,null,""]
[null,null,null,null,null,null,null,null,null,null,""]
[null,null,null,null,null,null,null,null,null,null,""]
[null,null,null,null,null,null,null,null,null,null,""]
[null,null,null,null,null,null,null,null,null,null,""]
[null,null,null,null,null,null,null,null,null,null,""]
[null,null,null,null,null,null,null,null,null,null,""]
[null,null,null,null,null,null,null,null,null,null,""]
[null,null,null,null,null,null,null,null,null,null,""]
[null,null,null,null,null,null,null,null,null,null,""]
[null,null,null,null,null,null,null,null,null,null,""]
[null,null,null,null,null,null,null,null,null,null,""]
[null,null,null,null,null,null,null,null,null,null,""]
[null,null,null,null,null,null,null,null,null,null,""]
[null,null,null,null,null,null,null,null,null,null,""]
[null,null,null,null,null,null,null,null,null,null,""]
[null,null,null,null,null,null,null,null,null,null,""]
[null,null,null,null,null,null,null,null,null,null,""]
[null,null,null,null,null,null,null,null,null,null,""]
[null,null,null,null,null,null,null,null,null,null,""]
[null,null,null,null,null,null,null,null,null,null,""]
[null,null,null,null,null,null,null,null,null,null,""]
[null,null,null,null,null,null,null,null,null,null,""]
[null,null,null,null,null,null,null,null,null,null,""]
[null,null,null,null,null,null,null,null,null,null,""]
[null,null,null,null,null,null,null,null,null,null,""]
[null,null,null,null,null,null,null,null,null,null,""]
[null,null,null,null,null,null,null,null,null,null,""]
[null,null,null,null,null,null,null,null,null,null,""]
[null,null,null,null,null,null,null,null,null,null,""]
[null,null,null,null,null,null,null,null,null,null,""]
[null,null,null,null,null,null,null,null,null,null,""]
[null,null,null,null,null,null,null,null,null,null,""]
[null,null,null,null,null,null,null,null,null,null,""]
[null,null,null,null,null,null,null,null,null,null,""]
[null,null,null,null,null,null,null,null,null,null,{"$f":"IF(J1101=\"\",\"\",J1101*(-1))","v":""}]
[null,null,null,null,null,null,null,null,null,null,""]
[null,null,null,null,null,null,null,null,null,null,""]
[null,null,null,null,null,null,null,null,null,null,""]
[null,null,null,null,null,null,null,null,null,null,""]
[null,null,null,null,null,null,null,null,null,null,""]
[null,null,null,null,null,null,null,null,null,null,""]
[null,null,null,null,null,null,null,null,null,null,""]
[null,null,null,null,null,null,null,null,null,null,""]
[null,null,null,null,null,null,null,null,null,null,""]
[null,null,null,null,null,null,null,null,null,null,""]
[null,null,null,null,null,null,null,null,null,null,""]
[null,null,null,null,null,null,null,null,null,null,""]
[null,null,null,null,null,null,null,null,null,null,""]
[null,null,null,null,null,null,null,null,null,null,""]
[null,null,null,null,null,null,null,null,null,null,""]
[null,null,null,null,null,null,null,null,null,null,""]
[null,null,null,null,null,null,null,null,null,null,""]
[null,null,null,null,null,null,null,null,null,null,""]
[null,null,null,null,null,null,null,null,null,null,""]
[null,null,null,null,null,null,null,null,null,null,""]
[null,null,null,null,null,null,null,null,null,null,""]
[null,null,null,null,null,null,null,null,null,null,""]
[null,null,null,null,null,null,null,null,null,null,""]
[null,null,null,null,null,null,null,null,null,null,""]
[null,null,null,null,null,null,null,null,null,null,""]
[null,null,null,null,null,null,null,null,null,null,""]
[null,null,null,null,null,null,null,null,null,null,""]
[null,null,null,null,null,null,null,null,null,null,""]
[null,null,null,null,null,null,null,null,null,null,""]
[null,null,null,null,null,null,null,null,null,null,""]
[null,null,null,null,null,null,null,null,null,null,""]
[null,null,null,null,null,null,null,null,null,null,""]
[null,null,null,null,null,null,null,null,null,null,""]
[null,null,null,null,null,null,null,null,null,null,""]
[null,null,null,null,null,null,null,null,null,null,""]
[null,null,null,null,null,null,null,null,null,null,""]
[null,null,null,null,null,null,null,null,null,null,""]
[null,null,null,null,null,null,null,null,null,null,""]
[null,null,null,null,null,null,null,null,null,null,""]
[null,null,null,null,null,null,null,null,null,null,""]
[null,null,null,null,null,null,null,null,null,null,""]
[null,null,null,null,null,null,null,null,null,null,""]
[null,null,null,null,null,null,null,null,null,null,""]
[null,null,null,null,null,null,null,null,null,null,""]
[null,null,null,null,null,null,null,null,null,null,""]
[null,null,null,null,null,null,null,null,null,null,""]
[null,null,null,null,null,null,null,null,null,null,""]
[null,null,null,null,null,null,null,null,null,null,""]
[null,null,null,null,null,null,null,null,null,null,""]
[null,null,null,null,null,null,null,null,null,null,""]
[null,null,null,null,null,null,null,null,null,null,""]
[null,null,null,null,null,null,null,null,null,null,""]
[null,null,null,null,null,null,null,null,null,null,""]
[null,null,null,null,null,null,null,null,null,null,""]
[null,null,null,null,null,null,null,null,null,null,""]
[null,null,null,null,null,null,null,null,null,null,""]
[null,null,null,null,null,null,null,null,null,null,""]
[null,null,null,null,null,null,null,null,null,null,""]
[null,null,null,null,null,null,null,null,null,null,""]
[null,null,null,null,null,null,null,null,null,null,""]
[null,null,null,null,null,null,null,null,null,null,""]
[null,null,null,null,null,null,null,null,null,null,""]
[null,null,null,null,null,null,null,null,null,null,""]
[null,null,null,null,null,null,null,null,null,null,{"$f":"IF(J1165=\"\",\"\",J1165*(-1))","v":""}]
[null,null,null,null,null,null,null,null,null,null,""]
[null,null,null,null,null,null,null,null,null,null,""]
[null,null,null,null,null,null,null,null,null,null,""]
[null,null,null,null,null,null,null,null,null,null,""]
[null,null,null,null,null,null,null,null,null,null,""]
[null,null,null,null,null,null,null,null,null,null,""]
[null,null,null,null,null,null,null,null,null,null,""]
[null,null,null,null,null,null,null,null,null,null,""]
[null,null,null,null,null,null,null,null,null,null,""]
[null,null,null,null,null,null,null,null,null,null,""]
[null,null,null,null,null,null,null,null,null,null,""]
[null,null,null,null,null,null,null,null,null,null,""]
[null,null,null,null,null,null,null,null,null,null,""]
[null,null,null,null,null,null,null,null,null,null,""]
[null,null,null,null,null,null,null,null,null,null,""]
[null,null,null,null,null,null,null,null,null,null,""]
[null,null,null,null,null,null,null,null,null,null,""]
[null,null,null,null,null,null,null,null,null,null,""]
[null,null,null,null,null,null,null,null,null,null,""]
[null,null,null,null,null,null,null,null,null,null,""]
[null,null,null,null,null,null,null,null,null,null,""]
[null,null,null,null,null,null,null,null,null,null,""]
[null,null,null,null,null,null,null,null,null,null,""]
[null,null,null,null,null,null,null,null,null,null,""]
[null,null,null,null,null,null,null,null,null,null,""]
[null,null,null,null,null,null,null,null,null,null,""]
[null,null,null,null,null,null,null,null,null,null,""]
[null,null,null,null,null,null,null,null,null,null,""]
[null,null,null,null,null,null,null,null,null,null,""]
[null,null,null,null,null,null,null,null,null,null,""]
[null,null,null,null,null,null,null,null,null,null,""]
[null,null,null,null,null,null,null,null,null,null,""]
[null,null,null,null,null,null,null,null,null,null,""]
[null,null,null,null,null,null,null,null,null,null,""]
[null,null,null,null,null,null,null,null,null,null,""]
[null,null,null,null,null,null,null,null,null,null,""]
[null,null,null,null,null,null,null,null,null,null,""]
[null,null,null,null,null,null,null,null,null,null,""]
[null,null,null,null,null,null,null,null,null,null,""]
[null,null,null,null,null,null,null,null,null,null,""]
[null,null,null,null,null,null,null,null,null,null,""]
[null,null,null,null,null,null,null,null,null,null,""]
[null,null,null,null,null,null,null,null,null,null,""]
[null,null,null,null,null,null,null,null,null,null,""]
[null,null,null,null,null,null,null,null,null,null,""]
[null,null,null,null,null,null,null,null,null,null,""]
[null,null,null,null,null,null,null,null,null,null,""]
[null,null,null,null,null,null,null,null,null,null,""]
[null,null,null,null,null,null,null,null,null,null,""]
[null,null,null,null,null,null,null,null,null,null,""]
[null,null,null,null,null,null,null,null,null,null,""]
[null,null,null,null,null,null,null,null,null,null,""]
[null,null,null,null,null,null,null,null,null,null,""]
[null,null,null,null,null,null,null,null,null,null,""]
[null,null,null,null,null,null,null,null,null,null,""]
[null,null,null,null,null,null,null,null,null,null,""]
[null,null,null,null,null,null,null,null,null,null,""]
[null,null,null,null,null,null,null,null,null,null,""]
[null,null,null,null,null,null,null,null,null,null,""]
[null,null,null,null,null,null,null,null,null,null,""]
[null,null,null,null,null,null,null,null,null,null,""]
[null,null,null,null,null,null,null,null,null,null,""]
[null,null,null,null,null,null,null,null,null,null,""]
[null,null,null,null,null,null,null,null,null,null,{"$f":"IF(J1229=\"\",\"\",J1229*(-1))","v":""}]
[null,null,null,null,null,null,null,null,null,null,""]
[null,null,null,null,null,null,null,null,null,null,""]
[null,null,null,null,null,null,null,null,null,null,""]
[null,null,null,null,null,null,null,null,null,null,""]
[null,null,null,null,null,null,null,null,null,null,""]
[null,null,null,null,null,null,null,null,null,null,""]
[null,null,null,null,null,null,null,null,null,null,""]
[null,null,null,null,null,null,null,null,null,null,""]
[null,null,null,null,null,null,null,null,null,null,""]
[null,null,null,null,null,null,null,null,null,null,""]
[null,null,null,null,null,null,null,null,null,null,""]
[null,null,null,null,null,null,null,null,null,null,""]
[null,null,null,null,null,null,null,null,null,null,""]
[null,null,null,null,null,null,null,null,null,null,""]
[null,null,null,null,null,null,null,null,null,null,""]
[null,null,null,null,null,null,null,null,null,null,""]
[null,null,null,null,null,null,null,null,null,null,""]
[null,null,null,null,null,null,null,null,null,null,""]
[null,null,null,null,null,null,null,null,null,null,""]
[null,null,null,null,null,null,null,null,null,null,""]
[null,null,null,null,null,null,null,null,null,null,""]
[null,null,null,null,null,null,null,null,null,null,""]
[null,null,null,null,null,null,null,null,null,null,""]
[null,null,null,null,null,null,null,null,null,null,""]
[null,null,null,null,null,null,null,null,null,null,""]
[null,null,null,null,null,null,null,null,null,null,""]
[null,null,null,null,null,null,null,null,null,null,""]
[null,null,null,null,null,null,null,null,null,null,""]
[null,null,null,null,null,null,null,null,null,null,""]
[null,null,null,null,null,null,null,null,null,null,""]
[null,null,null,null,null,null,null,null,null,null,""]
[null,null,null,null,null,null,null,null,null,null,""]
[null,null,null,null,null,null,null,null,null,null,""]
[null,null,null,null,null,null,null,null,null,null,""]
[null,null,null,null,null,null,null,null,null,null,""]
[null,null,null,null,null,null,null,null,null,null,""]
[null,null,null,null,null,null,null,null,null,null,""]
[null,null,null,null,null,null,null,null,null,null,""]
[null,null,null,null,null,null,null,null,null,null,""]
[null,null,null,null,null,null,null,null,null,null,""]
[null,null,null,null,null,null,null,null,null,null,""]
[null,null,null,null,null,null,null,null,null,null,""]
[null,null,null,null,null,null,null,null,null,null,""]
[null,null,null,null,null,null,null,null,null,null,""]
[null,null,null,null,null,null,null,null,null,null,""]
[null,null,null,null,null,null,null,null,null,null,""]
[null,null,null,null,null,null,null,null,null,null,""]
[null,null,null,null,null,null,null,null,null,null,""]
[null,null,null,null,null,null,null,null,null,null,""]
[null,null,null,null,null,null,null,null,null,null,""]
[null,null,null,null,null,null,null,null,null,null,""]
[null,null,null,null,null,null,null,null,null,null,""]
[null,null,null,null,null,null,null,null,null,null,""]
[null,null,null,null,null,null,null,null,null,null,""]
[null,null,null,null,null,null,null,null,null,null,""]
[null,null,null,null,null,null,null,null,null,null,""]
[null,null,null,null,null,null,null,null,null,null,""]
[null,null,null,null,null,null,null,null,null,null,""]
[null,null,null,null,null,null,null,null,null,null,""]
[null,null,null,null,null,null,null,null,null,null,""]
[null,null,null,null,null,null,null,null,null,null,""]
[null,null,null,null,null,null,null,null,null,null,""]
[null,null,null,null,null,null,null,null,null,null,""]
[null,null,null,null,null,null,null,null,null,null,{"$f":"IF(J1293=\"\",\"\",J1293*(-1))","v":""}]
[null,null,null,null,null,null,null,null,null,null,""]
[null,null,null,null,null,null,null,null,null,null,""]
[null,null,null,null,null,null,null,null,null,null,""]
[null,null,null,null,null,null,null,null,null,null,""]
[null,null,null,null,null,null,null,null,null,null,""]
[null,null,null,null,null,null,null,null,null,null,""]
[null,null,null,null,null,null,null,null,null,null,""]
[null,null,null,null,null,null,null,null,null,null,""]
[null,null,null,null,null,null,null,null,null,null,""]
[null,null,null,null,null,null,null,null,null,null,""]
[null,null,null,null,null,null,null,null,null,null,""]
[null,null,null,null,null,null,null,null,null,null,""]
[null,null,null,null,null,null,null,null,null,null,""]
[null,null,null,null,null,null,null,null,null,null,""]
[null,null,null,null,null,null,null,null,null,null,""]
[null,null,null,null,null,null,null,null,null,null,""]
[null,null,null,null,null,null,null,null,null,null,""]
[null,null,null,null,null,null,null,null,null,null,""]
[null,null,null,null,null,null,null,null,null,null,""]
[null,null,null,null,null,null,null,null,null,null,""]
[null,null,null,null,null,null,null,null,null,null,""]
[null,null,null,null,null,null,null,null,null,null,""]
[null,null,null,null,null,null,null,null,null,null,""]
[null,null,null,null,null,null,null,null,null,null,""]
[null,null,null,null,null,null,null,null,null,null,""]
[null,null,null,null,null,null,null,null,null,null,""]
[null,null,null,null,null,null,null,null,null,null,""]
[null,null,null,null,null,null,null,null,null,null,""]
[null,null,null,null,null,null,null,null,null,null,""]
[null,null,null,null,null,null,null,null,null,null,""]
[null,null,null,null,null,null,null,null,null,null,""]
[null,null,null,null,null,null,null,null,null,null,""]
[null,null,null,null,null,null,null,null,null,null,""]
[null,null,null,null,null,null,null,null,null,null,""]
[null,null,null,null,null,null,null,null,null,null,""]
[null,null,null,null,null,null,null,null,null,null,""]
[null,null,null,null,null,null,null,null,null,null,""]
[null,null,null,null,null,null,null,null,null,null,""]
[null,null,null,null,null,null,null,null,null,null,""]
[null,null,null,null,null,null,null,null,null,null,""]
[null,null,null,null,null,null,null,null,null,null,""]
[null,null,null,null,null,null,null,null,null,null,""]
[null,null,null,null,null,null,null,null,null,null,""]
[null,null,null,null,null,null,null,null,null,null,""]
[null,null,null,null,null,null,null,null,null,null,""]
[null,null,null,null,null,null,null,null,null,null,""]
[null,null,null,null,null,null,null,null,null,null,""]
[null,null,null,null,null,null,null,null,null,null,""]
[null,null,null,null,null,null,null,null,null,null,""]
[null,null,null,null,null,null,null,null,null,null,""]
[null,null,null,null,null,null,null,null,null,null,""]
[null,null,null,null,null,null,null,null,null,null,""]
[null,null,null,null,null,null,null,null,null,null,""]
[null,null,null,null,null,null,null,null,null,null,""]
[null,null,null,null,null,null,null,null,null,null,""]
[null,null,null,null,null,null,null,null,null,null,""]
[null,null,null,null,null,null,null,null,null,null,""]
[null,null,null,null,null,null,null,null,null,null,""]
[null,null,null,null,null,null,null,null,null,null,""]
[null,null,null,null,null,null,null,null,null,null,""]
[null,null,null,null,null,null,null,null,null,null,""]
[null,null,null,null,null,null,null,null,null,null,""]
[null,null,null,null,null,null,null,null,null,null,""]
[null,null,null,null,null,null,null,null,null,null,{"$f":"IF(J1357=\"\",\"\",J1357*(-1))","v":""}]
[null,null,null,null,null,null,null,null,null,null,""]
[null,null,null,null,null,null,null,null,null,null,""]
[null,null,null,null,null,null,null,null,null,null,""]
[null,null,null,null,null,null,null,null,null,null,""]
[null,null,null,null,null,null,null,null,null,null,""]
[null,null,null,null,null,null,null,null,null,null,""]
[null,null,null,null,null,null,null,null,null,null,""]
[null,null,null,null,null,null,null,null,null,null,""]
[null,null,null,null,null,null,null,null,null,null,""]
[null,null,null,null,null,null,null,null,null,null,""]
[null,null,null,null,null,null,null,null,null,null,""]
[null,null,null,null,null,null,null,null,null,null,""]
[null,null,null,null,null,null,null,null,null,null,""]
[null,null,null,null,null,null,null,null,null,null,""]
[null,null,null,null,null,null,null,null,null,null,""]
[null,null,null,null,null,null,null,null,null,null,""]
[null,null,null,null,null,null,null,null,null,null,""]
[null,null,null,null,null,null,null,null,null,null,""]
[null,null,null,null,null,null,null,null,null,null,""]
[null,null,null,null,null,null,null,null,null,null,""]
[null,null,null,null,null,null,null,null,null,null,""]
[null,null,null,null,null,null,null,null,null,null,""]
[null,null,null,null,null,null,null,null,null,null,""]
[null,null,null,null,null,null,null,null,null,null,""]
[null,null,null,null,null,null,null,null,null,null,""]
[null,null,null,null,null,null,null,null,null,null,""]
[null,null,null,null,null,null,null,null,null,null,""]
[null,null,null,null,null,null,null,null,null,null,""]
[null,null,null,null,null,null,null,null,null,null,""]
[null,null,null,null,null,null,null,null,null,null,""]
[null,null,null,null,null,null,null,null,null,null,""]
[null,null,null,null,null,null,null,null,null,null,""]
[null,null,null,null,null,null,null,null,null,null,""]
[null,null,null,null,null,null,null,null,null,null,""]
[null,null,null,null,null,null,null,null,null,null,""]
[null,null,null,null,null,null,null,null,null,null,""]
[null,null,null,null,null,null,null,null,null,null,""]
[null,null,null,null,null,null,null,null,null,null,""]
[null,null,null,null,null,null,null,null,null,null,""]
[null,null,null,null,null,null,null,null,null,null,""]
[null,null,null,null,null,null,null,null,null,null,""]
[null,null,null,null,null,null,null,null,null,null,""]
[null,null,null,null,null,null,null,null,null,null,""]
[null,null,null,null,null,null,null,null,null,null,""]
[null,null,null,null,null,null,null,null,null,null,""]
[null,null,null,null,null,null,null,null,null,null,""]
[null,null,null,null,null,null,null,null,null,null,""]
[null,null,null,null,null,null,null,null,null,null,""]
[null,null,null,null,null,null,null,null,null,null,""]
[null,null,null,null,null,null,null,null,null,null,""]
[null,null,null,null,null,null,null,null,null,null,""]
[null,null,null,null,null,null,null,null,null,null,""]
[null,null,null,null,null,null,null,null,null,null,""]
[null,null,null,null,null,null,null,null,null,null,""]
[null,null,null,null,null,null,null,null,null,null,""]
[null,null,null,null,null,null,null,null,null,null,""]
[null,null,null,null,null,null,null,null,null,null,""]
[null,null,null,null,null,null,null,null,null,null,""]
[null,null,null,null,null,null,null,null,null,null,""]
[null,null,null,null,null,null,null,null,null,null,""]
[null,null,null,null,null,null,null,null,null,null,""]
[null,null,null,null,null,null,null,null,null,null,""]
[null,null,null,null,null,null,null,null,null,null,""]
[null,null,null,null,null,null,null,null,null,null,{"$f":"IF(J1421=\"\",\"\",J1421*(-1))","v":""}]
[null,null,null,null,null,null,null,null,null,null,""]
[null,null,null,null,null,null,null,null,null,null,""]
[null,null,null,null,null,null,null,null,null,null,""]
[null,null,null,null,null,null,null,null,null,null,""]
[null,null,null,null,null,null,null,null,null,null,""]
[null,null,null,null,null,null,null,null,null,null,""]
[null,null,null,null,null,null,null,null,null,null,""]
[null,null,null,null,null,null,null,null,null,null,""]
[null,null,null,null,null,null,null,null,null,null,""]
[null,null,null,null,null,null,null,null,null,null,""]
[null,null,null,null,null,null,null,null,null,null,""]
[null,null,null,null,null,null,null,null,null,null,""]
[null,null,null,null,null,null,null,null,null,null,""]
[null,null,null,null,null,null,null,null,null,null,""]
[null,null,null,null,null,null,null,null,null,null,""]
[null,null,null,null,null,null,null,null,null,null,""]
[null,null,null,null,null,null,null,null,null,null,""]
[null,null,null,null,null,null,null,null,null,null,""]
[null,null,null,null,null,null,null,null,null,null,""]
[null,null,null,null,null,null,null,null,null,null,""]
[null,null,null,null,null,null,null,null,null,null,""]
[null,null,null,null,null,null,null,null,null,null,""]
[null,null,null,null,null,null,null,null,null,null,""]
[null,null,null,null,null,null,null,null,null,null,""]
[null,null,null,null,null,null,null,null,null,null,""]
[null,null,null,null,null,null,null,null,null,null,""]
[null,null,null,null,null,null,null,null,null,null,""]
[null,null,null,null,null,null,null,null,null,null,""]
[null,null,null,null,null,null,null,null,null,null,""]
[null,null,null,null,null,null,null,null,null,null,""]
[null,null,null,null,null,null,null,null,null,null,""]
[null,null,null,null,null,null,null,null,null,null,""]
[null,null,null,null,null,null,null,null,null,null,""]
[null,null,null,null,null,null,null,null,null,null,""]
[null,null,null,null,null,null,null,null,null,null,""]
[null,null,null,null,null,null,null,null,null,null,""]
[null,null,null,null,null,null,null,null,null,null,""]
[null,null,null,null,null,null,null,null,null,null,""]
[null,null,null,null,null,null,null,null,null,null,""]
[null,null,null,null,null,null,null,null,null,null,""]
[null,null,null,null,null,null,null,null,null,null,""]
[null,null,null,null,null,null,null,null,null,null,""]
[null,null,null,null,null,null,null,null,null,null,""]
[null,null,null,null,null,null,null,null,null,null,""]
[null,null,null,null,null,null,null,null,null,null,""]
[null,null,null,null,null,null,null,null,null,null,""]
[null,null,null,null,null,null,null,null,null,null,""]
[null,null,null,null,null,null,null,null,null,null,""]
[null,null,null,null,null,null,null,null,null,null,""]
[null,null,null,null,null,null,null,null,null,null,""]
[null,null,null,null,null,null,null,null,null,null,""]
[null,null,null,null,null,null,null,null,null,null,""]
[null,null,null,null,null,null,null,null,null,null,""]
[null,null,null,null,null,null,null,null,null,null,""]
[null,null,null,null,null,null,null,null,null,null,""]
[null,null,null,null,null,null,null,null,null,null,""]
[null,null,null,null,null,null,null,null,null,null,""]
[null,null,null,null,null,null,null,null,null,null,""]
[null,null,null,null,null,null,null,null,null,null,""]
[null,null,null,null,null,null,null,null,null,null,""]
[null,null,null,null,null,null,null,null,null,null,""]
[null,null,null,null,null,null,null,null,null,null,""]
[null,null,null,null,null,null,null,null,null,null,""]
[null,null,null,null,null,null,null,null,null,null,{"$f":"IF(J1485=\"\",\"\",J1485*(-1))","v":""}]
[null,null,null,null,null,null,null,null,null,null,""]
[null,null,null,null,null,null,null,null,null,null,""]
[null,null,null,null,null,null,null,null,null,null,""]
[null,null,null,null,null,null,null,null,null,null,""]
[null,null,null,null,null,null,null,null,null,null,""]
[null,null,null,null,null,null,null,null,null,null,""]
[null,null,null,null,null,null,null,null,null,null,""]
[null,null,null,null,null,null,null,null,null,null,""]
[null,null,null,null,null,null,null,null,null,null,""]
[null,null,null,null,null,null,null,null,null,null,""]
[null,null,null,null,null,null,null,null,null,null,""]
[null,null,null,null,null,null,null,null,null,null,""]
[null,null,null,null,null,null,null,null,null,null,""]
[null,null,null,null,null,null,null,null,null,null,""]
[null,null,null,null,null,null,null,null,null,null,""]
[null,null,null,null,null,null,null,null,null,null,""]
[null,null,null,null,null,null,null,null,null,null,""]
[null,null,null,null,null,null,null,null,null,null,""]
[null,null,null,null,null,null,null,null,null,null,""]
[null,null,null,null,null,null,null,null,null,null,""]
[null,null,null,null,null,null,null,null,null,null,""]
[null,null,null,null,null,null,null,null,null,null,""]
[null,null,null,null,null,null,null,null,null,null,""]
[null,null,null,null,null,null,null,null,null,null,""]
[null,null,null,null,null,null,null,null,null,null,""]
[null,null,null,null,null,null,null,null,null,null,""]
[null,null,null,null,null,null,null,null,null,null,""]
[null,null,null,null,null,null,null,null,null,null,""]
[null,null,null,null,null,null,null,null,null,null,""]
[null,null,null,null,null,null,null,null,null,null,""]
[null,null,null,null,null,null,null,null,null,null,""]
[null,null,null,null,null,null,null,null,null,null,""]
[null,null,null,null,null,null,null,null,null,null,""]
[null,null,null,null,null,null,null,null,null,null,""]
[null,null,null,null,null,null,null,null,null,null,""]
[null,null,null,null,null,null,null,null,null,null,""]
[null,null,null,null,null,null,null,null,null,null,""]
[null,null,null,null,null,null,null,null,null,null,""]
[null,null,null,null,null,null,null,null,null,null,""]
[null,null,null,null,null,null,null,null,null,null,""]
[null,null,null,null,null,null,null,null,null,null,""]
[null,null,null,null,null,null,null,null,null,null,""]
[null,null,null,null,null,null,null,null,null,null,""]
[null,null,null,null,null,null,null,null,null,null,""]
[null,null,null,null,null,null,null,null,null,null,""]
[null,null,null,null,null,null,null,null,null,null,""]
[null,null,null,null,null,null,null,null,null,null,""]
[null,null,null,null,null,null,null,null,null,null,""]
[null,null,null,null,null,null,null,null,null,null,""]
[null,null,null,null,null,null,null,null,null,null,""]
[null,null,null,null,null,null,null,null,null,null,""]
[null,null,null,null,null,null,null,null,null,null,""]
[null,null,null,null,null,null,null,null,null,null,""]
[null,null,null,null,null,null,null,null,null,null,""]
[null,null,null,null,null,null,null,null,null,null,""]
[null,null,null,null,null,null,null,null,null,null,""]
[null,null,null,null,null,null,null,null,null,null,""]
[null,null,null,null,null,null,null,null,null,null,""]
[null,null,null,null,null,null,null,null,null,null,""]
[null,null,null,null,null,null,null,null,null,null,""]
[null,null,null,null,null,null,null,null,null,null,""]
[null,null,null,null,null,null,null,null,null,null,""]
[null,null,null,null,null,null,null,null,null,null,""]
[null,null,null,null,null,null,null,null,null,null,{"$f":"IF(J1549=\"\",\"\",J1549*(-1))","v":""}]
[null,null,null,null,null,null,null,null,null,null,""]
[null,null,null,null,null,null,null,null,null,null,""]
[null,null,null,null,null,null,null,null,null,null,""]
[null,null,null,null,null,null,null,null,null,null,""]
[null,null,null,null,null,null,null,null,null,null,""]
[null,null,null,null,null,null,null,null,null,null,""]
[null,null,null,null,null,null,null,null,null,null,""]
[null,null,null,null,null,null,null,null,null,null,""]
[null,null,null,null,null,null,null,null,null,null,""]
[null,null,null,null,null,null,null,null,null,null,""]
[null,null,null,null,null,null,null,null,null,null,""]
[null,null,null,null,null,null,null,null,null,null,""]
[null,null,null,null,null,null,null,null,null,null,""]
[null,null,null,null,null,null,null,null,null,null,""]
[null,null,null,null,null,null,null,null,null,null,""]
[null,null,null,null,null,null,null,null,null,null,""]
[null,null,null,null,null,null,null,null,null,null,""]
[null,null,null,null,null,null,null,null,null,null,""]
[null,null,null,null,null,null,null,null,null,null,""]
[null,null,null,null,null,null,null,null,null,null,""]
[null,null,null,null,null,null,null,null,null,null,""]
[null,null,null,null,null,null,null,null,null,null,""]
[null,null,null,null,null,null,null,null,null,null,""]
[null,null,null,null,null,null,null,null,null,null,""]
[null,null,null,null,null,null,null,null,null,null,""]
[null,null,null,null,null,null,null,null,null,null,""]
[null,null,null,null,null,null,null,null,null,null,""]
[null,null,null,null,null,null,null,null,null,null,""]
[null,null,null,null,null,null,null,null,null,null,""]
[null,null,null,null,null,null,null,null,null,null,""]
[null,null,null,null,null,null,null,null,null,null,""]
[null,null,null,null,null,null,null,null,null,null,""]
[null,null,null,null,null,null,null,null,null,null,""]
[null,null,null,null,null,null,null,null,null,null,""]
[null,null,null,null,null,null,null,null,null,null,""]
[null,null,null,null,null,null,null,null,null,null,""]
[null,null,null,null,null,null,null,null,null,null,""]
[null,null,null,null,null,null,null,null,null,null,""]
[null,null,null,null,null,null,null,null,null,null,""]
[null,null,null,null,null,null,null,null,null,null,""]
[null,null,null,null,null,null,null,null,null,null,""]
[null,null,null,null,null,null,null,null,null,null,""]
[null,null,null,null,null,null,null,null,null,null,""]
[null,null,null,null,null,null,null,null,null,null,""]
[null,null,null,null,null,null,null,null,null,null,""]
[null,null,null,null,null,null,null,null,null,null,""]
[null,null,null,null,null,null,null,null,null,null,""]
[null,null,null,null,null,null,null,null,null,null,""]
[null,null,null,null,null,null,null,null,null,null,""]
[null,null,null,null,null,null,null,null,null,null,""]
[null,null,null,null,null,null,null,null,null,null,""]
[null,null,null,null,null,null,null,null,null,null,""]
[null,null,null,null,null,null,null,null,null,null,""]
[null,null,null,null,null,null,null,null,null,null,""]
[null,null,null,null,null,null,null,null,null,null,""]
[null,null,null,null,null,null,null,null,null,null,""]
[null,null,null,null,null,null,null,null,null,null,""]
[null,null,null,null,null,null,null,null,null,null,""]
[null,null,null,null,null,null,null,null,null,null,""]
[null,null,null,null,null,null,null,null,null,null,""]
[null,null,null,null,null,null,null,null,null,null,""]
[null,null,null,null,null,null,null,null,null,null,""]
[null,null,null,null,null,null,null,null,null,null,""]
[null,null,null,null,null,null,null,null,null,null,{"$f":"IF(J1613=\"\",\"\",J1613*(-1))","v":""}]
[null,null,null,null,null,null,null,null,null,null,""]
[null,null,null,null,null,null,null,null,null,null,""]
[null,null,null,null,null,null,null,null,null,null,""]
[null,null,null,null,null,null,null,null,null,null,""]
[null,null,null,null,null,null,null,null,null,null,""]
[null,null,null,null,null,null,null,null,null,null,""]
[null,null,null,null,null,null,null,null,null,null,""]
[null,null,null,null,null,null,null,null,null,null,""]
[null,null,null,null,null,null,null,null,null,null,""]
[null,null,null,null,null,null,null,null,null,null,""]
[null,null,null,null,null,null,null,null,null,null,""]
[null,null,null,null,null,null,null,null,null,null,""]
[null,null,null,null,null,null,null,null,null,null,""]
[null,null,null,null,null,null,null,null,null,null,""]
[null,null,null,null,null,null,null,null,null,null,""]
[null,null,null,null,null,null,null,null,null,null,""]
[null,null,null,null,null,null,null,null,null,null,""]
[null,null,null,null,null,null,null,null,null,null,""]
[null,null,null,null,null,null,null,null,null,null,""]
[null,null,null,null,null,null,null,null,null,null,""]
[null,null,null,null,null,null,null,null,null,null,""]
[null,null,null,null,null,null,null,null,null,null,""]
[null,null,null,null,null,null,null,null,null,null,""]
[null,null,null,null,null,null,null,null,null,null,""]
[null,null,null,null,null,null,null,null,null,null,""]
[null,null,null,null,null,null,null,null,null,null,""]
[null,null,null,null,null,null,null,null,null,null,""]
[null,null,null,null,null,null,null,null,null,null,""]
[null,null,null,null,null,null,null,null,null,null,""]
[null,null,null,null,null,null,null,null,null,null,""]
[null,null,null,null,null,null,null,null,null,null,""]
[null,null,null,null,null,null,null,null,null,null,""]
[null,null,null,null,null,null,null,null,null,null,""]
[null,null,null,null,null,null,null,null,null,null,""]
[null,null,null,null,null,null,null,null,null,null,""]
[null,null,null,null,null,null,null,null,null,null,""]
[null,null,null,null,null,null,null,null,null,null,""]
[null,null,null,null,null,null,null,null,null,null,""]
[null,null,null,null,null,null,null,null,null,null,""]
[null,null,null,null,null,null,null,null,null,null,""]
[null,null,null,null,null,null,null,null,null,null,""]
[null,null,null,null,null,null,null,null,null,null,""]
[null,null,null,null,null,null,null,null,null,null,""]
[null,null,null,null,null,null,null,null,null,null,""]
[null,null,null,null,null,null,null,null,null,null,""]
[null,null,null,null,null,null,null,null,null,null,""]
[null,null,null,null,null,null,null,null,null,null,""]
[null,null,null,null,null,null,null,null,null,null,""]
[null,null,null,null,null,null,null,null,null,null,""]
[null,null,null,null,null,null,null,null,null,null,""]
[null,null,null,null,null,null,null,null,null,null,""]
[null,null,null,null,null,null,null,null,null,null,""]
[null,null,null,null,null,null,null,null,null,null,""]
[null,null,null,null,null,null,null,null,null,null,""]
[null,null,null,null,null,null,null,null,null,null,""]
[null,null,null,null,null,null,null,null,null,null,""]
[null,null,null,null,null,null,null,null,null,null,""]
[null,null,null,null,null,null,null,null,null,null,""]
[null,null,null,null,null,null,null,null,null,null,""]
[null,null,null,null,null,null,null,null,null,null,""]
[null,null,null,null,null,null,null,null,null,null,""]
[null,null,null,null,null,null,null,null,null,null,""]
[null,null,null,null,null,null,null,null,null,null,""]
[null,null,null,null,null,null,null,null,null,null,{"$f":"IF(J1677=\"\",\"\",J1677*(-1))","v":""}]
[null,null,null,null,null,null,null,null,null,null,""]
[null,null,null,null,null,null,null,null,null,null,""]
[null,null,null,null,null,null,null,null,null,null,""]
[null,null,null,null,null,null,null,null,null,null,""]
[null,null,null,null,null,null,null,null,null,null,""]
[null,null,null,null,null,null,null,null,null,null,""]
[null,null,null,null,null,null,null,null,null,null,""]
[null,null,null,null,null,null,null,null,null,null,""]
[null,null,null,null,null,null,null,null,null,null,""]
[null,null,null,null,null,null,null,null,null,null,""]
[null,null,null,null,null,null,null,null,null,null,""]
[null,null,null,null,null,null,null,null,null,null,""]
[null,null,null,null,null,null,null,null,null,null,""]
[null,null,null,null,null,null,null,null,null,null,""]
[null,null,null,null,null,null,null,null,null,null,""]
[null,null,null,null,null,null,null,null,null,null,""]