{"text_format":"1","workbook":"xlsx","n_sheets":8,"sheets":["Referências","Lâmina Empréstimo BTC","Guia de BTC","Lâmina Gera","Base Resumo","Base Gráficos","Base","Dados para Lâmina"],"not_rendered":{"charts":6,"images":1,"macros":1,"external_links":1,"defined_names":66,"comments":0,"pivot_tables":0},"unopened":[],"bounds":{"document_bytes":16777216,"sheet_cells":100000,"rows_first":2000,"rows_last":500,"rows_between":2000,"halvings":0,"cell_chars":16384,"cell_head_chars":4096},"cells_cut":0,"cells_raw":0,"read":"whole","date_system":"1900"}

{"sheet":"Referências","index":0,"n_rows":5220,"n_cols":8,"rows_kept":5220,"cut":false,"hidden":true,"merged":[]}
[null,null,null,null,null,null,"Datas","Bovespa"]
["Nome","Código",null,null,null,null,{"$f":"_xll.ECONOMATICA(\"ibov\",\"close\",,\"latest\",\"20y\",\"d\",,,\"true\",\"false\")","v":"2004-09-17"},23073]
["IFIX - Índice de Fundos Imobiliários","IFIX",null,null,null,null,"2004-09-20",23078]
["IDIV - Índice Dividendos BM&FBOVESPA ","IDIV",null,null,null,null,"2004-09-21",23105]
["IBOVESPA - Índice Bovespa","IBOV",null,null,null,null,"2004-09-22",22748]
["IBRX 100 - Índice Brasil 100","IBXX",null,null,null,null,"2004-09-23",22943]
[null,null,null,null,null,null,"2004-09-24",22972]
[null,null,null,null,null,null,"2004-09-27",22834]
[null,null,null,null,null,null,"2004-09-28",23230]
[null,null,null,null,null,null,"2004-09-29",23208]
[null,null,null,null,null,null,"2004-09-30",23245]
[null,null,null,null,null,null,"2004-10-01",23777]
[null,null,null,null,null,null,"2004-10-04",24150]
[null,null,null,null,null,null,"2004-10-05",24205]
[null,null,null,null,null,null,"2004-10-06",24027]
[null,null,null,null,null,null,"2004-10-07",24104]
[null,null,null,null,null,null,"2004-10-08",23926]
[null,null,null,null,null,null,"2004-10-11",23953]
[null,null,null,null,null,null,"2004-10-12"]
[null,null,null,null,null,null,"2004-10-13",23289]
[null,null,null,null,null,null,"2004-10-14",22959]
[null,null,null,null,null,null,"2004-10-15",23367]
[null,null,null,null,null,null,"2004-10-18",23411]
[null,null,null,null,null,null,"2004-10-19",22892]
[null,null,null,null,null,null,"2004-10-20",22873]
[null,null,null,null,null,null,"2004-10-21",23058]
[null,null,null,null,null,null,"2004-10-22",22735]
[null,null,null,null,null,null,"2004-10-25",22602]
[null,null,null,null,null,null,"2004-10-26",22848]
[null,null,null,null,null,null,"2004-10-27",23170]
[null,null,null,null,null,null,"2004-10-28",22928]
[null,null,null,null,null,null,"2004-10-29",23052]
[null,null,null,null,null,null,"2004-11-01",23272]
[null,null,null,null,null,null,"2004-11-02"]
[null,null,null,null,null,null,"2004-11-03",23660]
[null,null,null,null,null,null,"2004-11-04",23879]
[null,null,null,null,null,null,"2004-11-05",23541]
[null,null,null,null,null,null,"2004-11-08",23211]
[null,null,null,null,null,null,"2004-11-09",23215]
[null,null,null,null,null,null,"2004-11-10",23454]
[null,null,null,null,null,null,"2004-11-11",23520]
[null,null,null,null,null,null,"2004-11-12",24035]
[null,null,null,null,null,null,"2004-11-15"]
[null,null,null,null,null,null,"2004-11-16",23772]
[null,null,null,null,null,null,"2004-11-17",24169]
[null,null,null,null,null,null,"2004-11-18",24143]
[null,null,null,null,null,null,"2004-11-19",24034]
[null,null,null,null,null,null,"2004-11-22",24444]
[null,null,null,null,null,null,"2004-11-23",24340]
[null,null,null,null,null,null,"2004-11-24",24368]
[null,null,null,null,null,null,"2004-11-25",24866]
[null,null,null,null,null,null,"2004-11-26",24997]
[null,null,null,null,null,null,"2004-11-29",24854]
[null,null,null,null,null,null,"2004-11-30",25128]
[null,null,null,null,null,null,"2004-12-01",25234]
[null,null,null,null,null,null,"2004-12-02",25200]
[null,null,null,null,null,null,"2004-12-03",25467]
[null,null,null,null,null,null,"2004-12-06",25632]
[null,null,null,null,null,null,"2004-12-07",24988]
[null,null,null,null,null,null,"2004-12-08",24968]
[null,null,null,null,null,null,"2004-12-09",24526]
[null,null,null,null,null,null,"2004-12-10",24933]
[null,null,null,null,null,null,"2004-12-13",25225]
[null,null,null,null,null,null,"2004-12-14",25563]
[null,null,null,null,null,null,"2004-12-15",25575]
[null,null,null,null,null,null,"2004-12-16",25831]
[null,null,null,null,null,null,"2004-12-17",25659]
[null,null,null,null,null,null,"2004-12-20",25536]
[null,null,null,null,null,null,"2004-12-21",25889]
[null,null,null,null,null,null,"2004-12-22",25723]
[null,null,null,null,null,null,"2004-12-23",25878]
[null,null,null,null,null,null,"2004-12-24"]
[null,null,null,null,null,null,"2004-12-27",25936]
[null,null,null,null,null,null,"2004-12-28",26116]
[null,null,null,null,null,null,"2004-12-29",26161]
[null,null,null,null,null,null,"2004-12-30",26196]
[null,null,null,null,null,null,"2004-12-31"]
[null,null,null,null,null,null,"2005-01-03",25722]
[null,null,null,null,null,null,"2005-01-04",24848]
[null,null,null,null,null,null,"2005-01-05",24691]
[null,null,null,null,null,null,"2005-01-06",24366]
[null,null,null,null,null,null,"2005-01-07",24747]
[null,null,null,null,null,null,"2005-01-10",24291]
[null,null,null,null,null,null,"2005-01-11",24369]
[null,null,null,null,null,null,"2005-01-12",24509]
[null,null,null,null,null,null,"2005-01-13",24805]
[null,null,null,null,null,null,"2005-01-14",24924]
[null,null,null,null,null,null,"2005-01-17",24515]
[null,null,null,null,null,null,"2005-01-18",24089]
[null,null,null,null,null,null,"2005-01-19",24271]
[null,null,null,null,null,null,"2005-01-20",23609]
[null,null,null,null,null,null,"2005-01-21",23818]
[null,null,null,null,null,null,"2005-01-24",24197]
[null,null,null,null,null,null,"2005-01-25"]
[null,null,null,null,null,null,"2005-01-26",24530]
[null,null,null,null,null,null,"2005-01-27",24029]
[null,null,null,null,null,null,"2005-01-28",23968]
[null,null,null,null,null,null,"2005-01-31",24350]
[null,null,null,null,null,null,"2005-02-01",24149]
[null,null,null,null,null,null,"2005-02-02",24605]
[null,null,null,null,null,null,"2005-02-03",24873]
[null,null,null,null,null,null,"2005-02-04",25731]
[null,null,null,null,null,null,"2005-02-07"]
[null,null,null,null,null,null,"2005-02-08"]
[null,null,null,null,null,null,"2005-02-09",26313]
[null,null,null,null,null,null,"2005-02-10",26415]
[null,null,null,null,null,null,"2005-02-11",26670]
[null,null,null,null,null,null,"2005-02-14",26531]
[null,null,null,null,null,null,"2005-02-15",26610]
[null,null,null,null,null,null,"2005-02-16",26384]
[null,null,null,null,null,null,"2005-02-17",27090]
[null,null,null,null,null,null,"2005-02-18",26756]
[null,null,null,null,null,null,"2005-02-21",26853]
[null,null,null,null,null,null,"2005-02-22",26740]
[null,null,null,null,null,null,"2005-02-23",27198]
[null,null,null,null,null,null,"2005-02-24",28436]
[null,null,null,null,null,null,"2005-02-25",28425]
[null,null,null,null,null,null,"2005-02-28",28139]
[null,null,null,null,null,null,"2005-03-01",27729]
[null,null,null,null,null,null,"2005-03-02",28199]
[null,null,null,null,null,null,"2005-03-03",28668]
[null,null,null,null,null,null,"2005-03-04",29197]
[null,null,null,null,null,null,"2005-03-07",29455]
[null,null,null,null,null,null,"2005-03-08",29021]
[null,null,null,null,null,null,"2005-03-09",28514]
[null,null,null,null,null,null,"2005-03-10",28567]
[null,null,null,null,null,null,"2005-03-11",28074]
[null,null,null,null,null,null,"2005-03-14",28098]
[null,null,null,null,null,null,"2005-03-15",27587]
[null,null,null,null,null,null,"2005-03-16",27826]
[null,null,null,null,null,null,"2005-03-17",28085]
[null,null,null,null,null,null,"2005-03-18",27593]
[null,null,null,null,null,null,"2005-03-21",27411]
[null,null,null,null,null,null,"2005-03-22",26618]
[null,null,null,null,null,null,"2005-03-23",26248]
[null,null,null,null,null,null,"2005-03-24",26701]
[null,null,null,null,null,null,"2005-03-25"]
[null,null,null,null,null,null,"2005-03-28",26257]
[null,null,null,null,null,null,"2005-03-29",25842]
[null,null,null,null,null,null,"2005-03-30",26469]
[null,null,null,null,null,null,"2005-03-31",26610]
[null,null,null,null,null,null,"2005-04-01",26773]
[null,null,null,null,null,null,"2005-04-04",26406]
[null,null,null,null,null,null,"2005-04-05",26038]
[null,null,null,null,null,null,"2005-04-06",25695]
[null,null,null,null,null,null,"2005-04-07",26307]
[null,null,null,null,null,null,"2005-04-08",25884]
[null,null,null,null,null,null,"2005-04-11",25899]
[null,null,null,null,null,null,"2005-04-12",26206]
[null,null,null,null,null,null,"2005-04-13",26066]
[null,null,null,null,null,null,"2005-04-14",24984]
[null,null,null,null,null,null,"2005-04-15",24655]
[null,null,null,null,null,null,"2005-04-18",24877]
[null,null,null,null,null,null,"2005-04-19",25566]
[null,null,null,null,null,null,"2005-04-20",25062]
[null,null,null,null,null,null,"2005-04-21"]
[null,null,null,null,null,null,"2005-04-22",24767]
[null,null,null,null,null,null,"2005-04-25",25231]
[null,null,null,null,null,null,"2005-04-26",25304]
[null,null,null,null,null,null,"2005-04-27",25241]
[null,null,null,null,null,null,"2005-04-28",24439]
[null,null,null,null,null,null,"2005-04-29",24843]
[null,null,null,null,null,null,"2005-05-02",24704]
[null,null,null,null,null,null,"2005-05-03",24715]
[null,null,null,null,null,null,"2005-05-04",25474]
[null,null,null,null,null,null,"2005-05-05",25435]
[null,null,null,null,null,null,"2005-05-06",25589]
[null,null,null,null,null,null,"2005-05-09",25464]
[null,null,null,null,null,null,"2005-05-10",24762]
[null,null,null,null,null,null,"2005-05-11",24698]
[null,null,null,null,null,null,"2005-05-12",24117]
[null,null,null,null,null,null,"2005-05-13",23887]
[null,null,null,null,null,null,"2005-05-16",24378]
[null,null,null,null,null,null,"2005-05-17",24412]
[null,null,null,null,null,null,"2005-05-18",24898]
[null,null,null,null,null,null,"2005-05-19",24829]
[null,null,null,null,null,null,"2005-05-20",24522]
[null,null,null,null,null,null,"2005-05-23",24214]
[null,null,null,null,null,null,"2005-05-24",24545]
[null,null,null,null,null,null,"2005-05-25",24478]
[null,null,null,null,null,null,"2005-05-26"]
[null,null,null,null,null,null,"2005-05-27",25255]
[null,null,null,null,null,null,"2005-05-30",25424]
[null,null,null,null,null,null,"2005-05-31",25207]
[null,null,null,null,null,null,"2005-06-01",25948]
[null,null,null,null,null,null,"2005-06-02",26639]
[null,null,null,null,null,null,"2005-06-03",26365]
[null,null,null,null,null,null,"2005-06-06",25556]
[null,null,null,null,null,null,"2005-06-07",25026]
[null,null,null,null,null,null,"2005-06-08",24701]
[null,null,null,null,null,null,"2005-06-09",24483]
[null,null,null,null,null,null,"2005-06-10",24950]
[null,null,null,null,null,null,"2005-06-13",24901]
[null,null,null,null,null,null,"2005-06-14",25744]
[null,null,null,null,null,null,"2005-06-15",25481]
[null,null,null,null,null,null,"2005-06-16",25750]
[null,null,null,null,null,null,"2005-06-17",26092]
[null,null,null,null,null,null,"2005-06-20",26045]
[null,null,null,null,null,null,"2005-06-21",25721]
[null,null,null,null,null,null,"2005-06-22",25678]
[null,null,null,null,null,null,"2005-06-23",24815]
[null,null,null,null,null,null,"2005-06-24",24916]
[null,null,null,null,null,null,"2005-06-27",25225]
[null,null,null,null,null,null,"2005-06-28",25261]
[null,null,null,null,null,null,"2005-06-29",25126]
[null,null,null,null,null,null,"2005-06-30",25051]
[null,null,null,null,null,null,"2005-07-01",25311]
[null,null,null,null,null,null,"2005-07-04",25044]
[null,null,null,null,null,null,"2005-07-05",24674]
[null,null,null,null,null,null,"2005-07-06",24516]
[null,null,null,null,null,null,"2005-07-07",24449]
[null,null,null,null,null,null,"2005-07-08",24422]
[null,null,null,null,null,null,"2005-07-11",25015]
[null,null,null,null,null,null,"2005-07-12",25536]
[null,null,null,null,null,null,"2005-07-13",25855]
[null,null,null,null,null,null,"2005-07-14",25919]
[null,null,null,null,null,null,"2005-07-15",25221]
[null,null,null,null,null,null,"2005-07-18",25321]
[null,null,null,null,null,null,"2005-07-19",25270]
[null,null,null,null,null,null,"2005-07-20",25704]
[null,null,null,null,null,null,"2005-07-21",25842]
[null,null,null,null,null,null,"2005-07-22",25391]
[null,null,null,null,null,null,"2005-07-25",24530]
[null,null,null,null,null,null,"2005-07-26",24868]
[null,null,null,null,null,null,"2005-07-27",25337]
[null,null,null,null,null,null,"2005-07-28",26068]
[null,null,null,null,null,null,"2005-07-29",26042]
[null,null,null,null,null,null,"2005-08-01",26298]
[null,null,null,null,null,null,"2005-08-02",26788]
[null,null,null,null,null,null,"2005-08-03",26714]
[null,null,null,null,null,null,"2005-08-04",26469]
[null,null,null,null,null,null,"2005-08-05",26517]
[null,null,null,null,null,null,"2005-08-08",26711]
[null,null,null,null,null,null,"2005-08-09",27291]
[null,null,null,null,null,null,"2005-08-10",27116]
[null,null,null,null,null,null,"2005-08-11",26633]
[null,null,null,null,null,null,"2005-08-12",26950]
[null,null,null,null,null,null,"2005-08-15",27375]
[null,null,null,null,null,null,"2005-08-16",27080]
[null,null,null,null,null,null,"2005-08-17",27416]
[null,null,null,null,null,null,"2005-08-18",26899]
[null,null,null,null,null,null,"2005-08-19",26643]
[null,null,null,null,null,null,"2005-08-22",27260]
[null,null,null,null,null,null,"2005-08-23",26769]
[null,null,null,null,null,null,"2005-08-24",26712]
[null,null,null,null,null,null,"2005-08-25",27401]
[null,null,null,null,null,null,"2005-08-26",27094]
[null,null,null,null,null,null,"2005-08-29",27384]
[null,null,null,null,null,null,"2005-08-30",27603]
[null,null,null,null,null,null,"2005-08-31",28044]
[null,null,null,null,null,null,"2005-09-01",27962]
[null,null,null,null,null,null,"2005-09-02",28319]
[null,null,null,null,null,null,"2005-09-05",28522]
[null,null,null,null,null,null,"2005-09-06",28854]
[null,null,null,null,null,null,"2005-09-07"]
[null,null,null,null,null,null,"2005-09-08",28828]
[null,null,null,null,null,null,"2005-09-09",29307]
[null,null,null,null,null,null,"2005-09-12",29086]
[null,null,null,null,null,null,"2005-09-13",28873]
[null,null,null,null,null,null,"2005-09-14",29049]
[null,null,null,null,null,null,"2005-09-15",29366]
[null,null,null,null,null,null,"2005-09-16",29815]
[null,null,null,null,null,null,"2005-09-19",30076]
[null,null,null,null,null,null,"2005-09-20",30058]
[null,null,null,null,null,null,"2005-09-21",30837]
[null,null,null,null,null,null,"2005-09-22",30678]
[null,null,null,null,null,null,"2005-09-23",31294]
[null,null,null,null,null,null,"2005-09-26",31141]
[null,null,null,null,null,null,"2005-09-27",30874]
[null,null,null,null,null,null,"2005-09-28",31317]
[null,null,null,null,null,null,"2005-09-29",31208]
[null,null,null,null,null,null,"2005-09-30",31583]
[null,null,null,null,null,null,"2005-10-03",31856]
[null,null,null,null,null,null,"2005-10-04",31283]
[null,null,null,null,null,null,"2005-10-05",30163]
[null,null,null,null,null,null,"2005-10-06",29227]
[null,null,null,null,null,null,"2005-10-07",29972]
[null,null,null,null,null,null,"2005-10-10",30277]
[null,null,null,null,null,null,"2005-10-11",30614]
[null,null,null,null,null,null,"2005-10-12"]
[null,null,null,null,null,null,"2005-10-13",29880]
[null,null,null,null,null,null,"2005-10-14",29770]
[null,null,null,null,null,null,"2005-10-17",30241]
[null,null,null,null,null,null,"2005-10-18",29067]
[null,null,null,null,null,null,"2005-10-19",29297]
[null,null,null,null,null,null,"2005-10-20",28344]
[null,null,null,null,null,null,"2005-10-21",29175]
[null,null,null,null,null,null,"2005-10-24",29834]
[null,null,null,null,null,null,"2005-10-25",29498]
[null,null,null,null,null,null,"2005-10-26",29729]
[null,null,null,null,null,null,"2005-10-27",29132]
[null,null,null,null,null,null,"2005-10-28",29318]
[null,null,null,null,null,null,"2005-10-31",30193]
[null,null,null,null,null,null,"2005-11-01",30899]
[null,null,null,null,null,null,"2005-11-02"]
[null,null,null,null,null,null,"2005-11-03",31099]
[null,null,null,null,null,null,"2005-11-04",30887]
[null,null,null,null,null,null,"2005-11-07",30952]
[null,null,null,null,null,null,"2005-11-08",30970]
[null,null,null,null,null,null,"2005-11-09",30666]
[null,null,null,null,null,null,"2005-11-10",30724]
[null,null,null,null,null,null,"2005-11-11",30510]
[null,null,null,null,null,null,"2005-11-14",30218]
[null,null,null,null,null,null,"2005-11-15"]
[null,null,null,null,null,null,"2005-11-16",30482]
[null,null,null,null,null,null,"2005-11-17",31087]
[null,null,null,null,null,null,"2005-11-18",31102]
[null,null,null,null,null,null,"2005-11-21",31110]
[null,null,null,null,null,null,"2005-11-22",31489]
[null,null,null,null,null,null,"2005-11-23",31942]
[null,null,null,null,null,null,"2005-11-24",31944]
[null,null,null,null,null,null,"2005-11-25",31919]
[null,null,null,null,null,null,"2005-11-28",31357]
[null,null,null,null,null,null,"2005-11-29",31651]
[null,null,null,null,null,null,"2005-11-30",31916]
[null,null,null,null,null,null,"2005-12-01",32617]
[null,null,null,null,null,null,"2005-12-02",32832]
[null,null,null,null,null,null,"2005-12-05",32701]
[null,null,null,null,null,null,"2005-12-06",33223]
[null,null,null,null,null,null,"2005-12-07",32756]
[null,null,null,null,null,null,"2005-12-08",32480]
[null,null,null,null,null,null,"2005-12-09",32921]
[null,null,null,null,null,null,"2005-12-12",32970]
[null,null,null,null,null,null,"2005-12-13",33419]
[null,null,null,null,null,null,"2005-12-14",33629]
[null,null,null,null,null,null,"2005-12-15",33193]
[null,null,null,null,null,null,"2005-12-16",33291]
[null,null,null,null,null,null,"2005-12-19",33005]
[null,null,null,null,null,null,"2005-12-20",33066]
[null,null,null,null,null,null,"2005-12-21",33517]
[null,null,null,null,null,null,"2005-12-22",33512]
[null,null,null,null,null,null,"2005-12-23",33331]
[null,null,null,null,null,null,"2005-12-26",33297]
[null,null,null,null,null,null,"2005-12-27",33370]
[null,null,null,null,null,null,"2005-12-28",33138]
[null,null,null,null,null,null,"2005-12-29",33455]
[null,null,null,null,null,null,"2005-12-30"]
[null,null,null,null,null,null,"2006-01-02",33507]
[null,null,null,null,null,null,"2006-01-03",34540]
[null,null,null,null,null,null,"2006-01-04",35002]
[null,null,null,null,null,null,"2006-01-05",34936]
[null,null,null,null,null,null,"2006-01-06",35475]
[null,null,null,null,null,null,"2006-01-09",35337]
[null,null,null,null,null,null,"2006-01-10",35049]
[null,null,null,null,null,null,"2006-01-11",35952]
[null,null,null,null,null,null,"2006-01-12",35779]
[null,null,null,null,null,null,"2006-01-13",35897]
[null,null,null,null,null,null,"2006-01-16",36533]
[null,null,null,null,null,null,"2006-01-17",36119]
[null,null,null,null,null,null,"2006-01-18",35805]
[null,null,null,null,null,null,"2006-01-19",36858]
[null,null,null,null,null,null,"2006-01-20",36694]
[null,null,null,null,null,null,"2006-01-23",36631]
[null,null,null,null,null,null,"2006-01-24",37399]
[null,null,null,null,null,null,"2006-01-25"]
[null,null,null,null,null,null,"2006-01-26",38014]
[null,null,null,null,null,null,"2006-01-27",37822]
[null,null,null,null,null,null,"2006-01-30",38242]
[null,null,null,null,null,null,"2006-01-31",38382]
[null,null,null,null,null,null,"2006-02-01",38484]
[null,null,null,null,null,null,"2006-02-02",37304]
[null,null,null,null,null,null,"2006-02-03",37261]
[null,null,null,null,null,null,"2006-02-06",37321]
[null,null,null,null,null,null,"2006-02-07",36561]
[null,null,null,null,null,null,"2006-02-08",36499]
[null,null,null,null,null,null,"2006-02-09",36882]
[null,null,null,null,null,null,"2006-02-10",36975]
[null,null,null,null,null,null,"2006-02-13",36113]
[null,null,null,null,null,null,"2006-02-14",36626]
[null,null,null,null,null,null,"2006-02-15",37239]
[null,null,null,null,null,null,"2006-02-16",38256]
[null,null,null,null,null,null,"2006-02-17",38421]
[null,null,null,null,null,null,"2006-02-20",38539]
[null,null,null,null,null,null,"2006-02-21",38165]
[null,null,null,null,null,null,"2006-02-22",38246]
[null,null,null,null,null,null,"2006-02-23",38405]
[null,null,null,null,null,null,"2006-02-24",38610]
[null,null,null,null,null,null,"2006-02-27"]
[null,null,null,null,null,null,"2006-02-28"]
[null,null,null,null,null,null,"2006-03-01",39177]
[null,null,null,null,null,null,"2006-03-02",39125]
[null,null,null,null,null,null,"2006-03-03",39239]
[null,null,null,null,null,null,"2006-03-06",38353]
[null,null,null,null,null,null,"2006-03-07",37422]
[null,null,null,null,null,null,"2006-03-08",37289]
[null,null,null,null,null,null,"2006-03-09",36312]
[null,null,null,null,null,null,"2006-03-10",36890]
[null,null,null,null,null,null,"2006-03-13",36792]
[null,null,null,null,null,null,"2006-03-14",37541]
[null,null,null,null,null,null,"2006-03-15",38243]
[null,null,null,null,null,null,"2006-03-16",38156]
[null,null,null,null,null,null,"2006-03-17",38049]
[null,null,null,null,null,null,"2006-03-20",38203]
[null,null,null,null,null,null,"2006-03-21",37398]
[null,null,null,null,null,null,"2006-03-22",37850]
[null,null,null,null,null,null,"2006-03-23",37473]
[null,null,null,null,null,null,"2006-03-24",37577]
[null,null,null,null,null,null,"2006-03-27",37641]
[null,null,null,null,null,null,"2006-03-28",36682]
[null,null,null,null,null,null,"2006-03-29",37491]
[null,null,null,null,null,null,"2006-03-30",37776]
[null,null,null,null,null,null,"2006-03-31",37951]
[null,null,null,null,null,null,"2006-04-03",38717]
[null,null,null,null,null,null,"2006-04-04",38802]
[null,null,null,null,null,null,"2006-04-05",39053]
[null,null,null,null,null,null,"2006-04-06",39285]
[null,null,null,null,null,null,"2006-04-07",38926]
[null,null,null,null,null,null,"2006-04-10",38474]
[null,null,null,null,null,null,"2006-04-11",37901]
[null,null,null,null,null,null,"2006-04-12",38427]
[null,null,null,null,null,null,"2006-04-13",38082]
[null,null,null,null,null,null,"2006-04-14"]
[null,null,null,null,null,null,"2006-04-17",38462]
[null,null,null,null,null,null,"2006-04-18",39572]
[null,null,null,null,null,null,"2006-04-19",39937]
[null,null,null,null,null,null,"2006-04-20",39774]
[null,null,null,null,null,null,"2006-04-21"]
[null,null,null,null,null,null,"2006-04-24",39751]
[null,null,null,null,null,null,"2006-04-25",39738]
[null,null,null,null,null,null,"2006-04-26",40410]
[null,null,null,null,null,null,"2006-04-27",39751]
[null,null,null,null,null,null,"2006-04-28",40363]
[null,null,null,null,null,null,"2006-05-01"]
[null,null,null,null,null,null,"2006-05-02",41016]
[null,null,null,null,null,null,"2006-05-03",40919]
[null,null,null,null,null,null,"2006-05-04",40975]
[null,null,null,null,null,null,"2006-05-05",41417]
[null,null,null,null,null,null,"2006-05-08",41515]
[null,null,null,null,null,null,"2006-05-09",41979]
[null,null,null,null,null,null,"2006-05-10",41751]
[null,null,null,null,null,null,"2006-05-11",40847]
[null,null,null,null,null,null,"2006-05-12",40211]
[null,null,null,null,null,null,"2006-05-15",39271]
[null,null,null,null,null,null,"2006-05-16",39416]
[null,null,null,null,null,null,"2006-05-17",38290]
[null,null,null,null,null,null,"2006-05-18",37807]
[null,null,null,null,null,null,"2006-05-19",37732]
[null,null,null,null,null,null,"2006-05-22",36496]
[null,null,null,null,null,null,"2006-05-23",36110]
[null,null,null,null,null,null,"2006-05-24",35791]
[null,null,null,null,null,null,"2006-05-25",37568]
[null,null,null,null,null,null,"2006-05-26",38629]
[null,null,null,null,null,null,"2006-05-29",38145]
[null,null,null,null,null,null,"2006-05-30",36412]
[null,null,null,null,null,null,"2006-05-31",36530]
[null,null,null,null,null,null,"2006-06-01",37748]
[null,null,null,null,null,null,"2006-06-02",37942]
[null,null,null,null,null,null,"2006-06-05",36739]
[null,null,null,null,null,null,"2006-06-06",36557]
[null,null,null,null,null,null,"2006-06-07",35264]
[null,null,null,null,null,null,"2006-06-08",35437]
[null,null,null,null,null,null,"2006-06-09",35074]
[null,null,null,null,null,null,"2006-06-12",33554]
[null,null,null,null,null,null,"2006-06-13",32847]
[null,null,null,null,null,null,"2006-06-14",32941]
[null,null,null,null,null,null,"2006-06-15"]
[null,null,null,null,null,null,"2006-06-16",34398]
[null,null,null,null,null,null,"2006-06-19",33897]
[null,null,null,null,null,null,"2006-06-20",33632]
[null,null,null,null,null,null,"2006-06-21",34546]
[null,null,null,null,null,null,"2006-06-22",34316]
[null,null,null,null,null,null,"2006-06-23",34661]
[null,null,null,null,null,null,"2006-06-26",34631]
[null,null,null,null,null,null,"2006-06-27",34375]
[null,null,null,null,null,null,"2006-06-28",34834]
[null,null,null,null,null,null,"2006-06-29",36486]
[null,null,null,null,null,null,"2006-06-30",36630]
[null,null,null,null,null,null,"2006-07-03",37357]
[null,null,null,null,null,null,"2006-07-04",37367]
[null,null,null,null,null,null,"2006-07-05",36378]
[null,null,null,null,null,null,"2006-07-06",36533]
[null,null,null,null,null,null,"2006-07-07",36101]
[null,null,null,null,null,null,"2006-07-10",36140]
[null,null,null,null,null,null,"2006-07-11",36553]
[null,null,null,null,null,null,"2006-07-12",36229]
[null,null,null,null,null,null,"2006-07-13",35354]
[null,null,null,null,null,null,"2006-07-14",35349]
[null,null,null,null,null,null,"2006-07-17",34866]
[null,null,null,null,null,null,"2006-07-18",35130]
[null,null,null,null,null,null,"2006-07-19",36785]
[null,null,null,null,null,null,"2006-07-20",35846]
[null,null,null,null,null,null,"2006-07-21",35510]
[null,null,null,null,null,null,"2006-07-24",36224]
[null,null,null,null,null,null,"2006-07-25",36680]
[null,null,null,null,null,null,"2006-07-26",36594]
[null,null,null,null,null,null,"2006-07-27",36887]
[null,null,null,null,null,null,"2006-07-28",37381]
[null,null,null,null,null,null,"2006-07-31",37077]
[null,null,null,null,null,null,"2006-08-01",36839]
[null,null,null,null,null,null,"2006-08-02",37288]
[null,null,null,null,null,null,"2006-08-03",37451]
[null,null,null,null,null,null,"2006-08-04",37847]
[null,null,null,null,null,null,"2006-08-07",37697]
[null,null,null,null,null,null,"2006-08-08",37600]
[null,null,null,null,null,null,"2006-08-09",37255]
[null,null,null,null,null,null,"2006-08-10",37353]
[null,null,null,null,null,null,"2006-08-11",36944]
[null,null,null,null,null,null,"2006-08-14",36556]
[null,null,null,null,null,null,"2006-08-15",37295]
[null,null,null,null,null,null,"2006-08-16",37677]
[null,null,null,null,null,null,"2006-08-17",37558]
[null,null,null,null,null,null,"2006-08-18",37551]
[null,null,null,null,null,null,"2006-08-21",37160]
[null,null,null,null,null,null,"2006-08-22",36677]
[null,null,null,null,null,null,"2006-08-23",35512]
[null,null,null,null,null,null,"2006-08-24",35797]
[null,null,null,null,null,null,"2006-08-25",35957]
[null,null,null,null,null,null,"2006-08-28",36374]
[null,null,null,null,null,null,"2006-08-29",36303]
[null,null,null,null,null,null,"2006-08-30",36313]
[null,null,null,null,null,null,"2006-08-31",36232]
[null,null,null,null,null,null,"2006-09-01",37329]
[null,null,null,null,null,null,"2006-09-04",37693]
[null,null,null,null,null,null,"2006-09-05",37367]
[null,null,null,null,null,null,"2006-09-06",36709]
[null,null,null,null,null,null,"2006-09-07"]
[null,null,null,null,null,null,"2006-09-08",36558]
[null,null,null,null,null,null,"2006-09-11",35772]
[null,null,null,null,null,null,"2006-09-12",36146]
[null,null,null,null,null,null,"2006-09-13",36549]
[null,null,null,null,null,null,"2006-09-14",36153]
[null,null,null,null,null,null,"2006-09-15",36169]
[null,null,null,null,null,null,"2006-09-18",36482]
[null,null,null,null,null,null,"2006-09-19",35885]
[null,null,null,null,null,null,"2006-09-20",35196]
[null,null,null,null,null,null,"2006-09-21",34830]
[null,null,null,null,null,null,"2006-09-22",34798]
[null,null,null,null,null,null,"2006-09-25",34972]
[null,null,null,null,null,null,"2006-09-26",35818]
[null,null,null,null,null,null,"2006-09-27",36105]
[null,null,null,null,null,null,"2006-09-28",36486]
[null,null,null,null,null,null,"2006-09-29",36449]
[null,null,null,null,null,null,"2006-10-02",37057]
[null,null,null,null,null,null,"2006-10-03",36437]
[null,null,null,null,null,null,"2006-10-04",37749]
[null,null,null,null,null,null,"2006-10-05",37976]
[null,null,null,null,null,null,"2006-10-06",37940]
[null,null,null,null,null,null,"2006-10-09",38406]
[null,null,null,null,null,null,"2006-10-10",38654]
[null,null,null,null,null,null,"2006-10-11",38322]
[null,null,null,null,null,null,"2006-10-12"]
[null,null,null,null,null,null,"2006-10-13",38850]
[null,null,null,null,null,null,"2006-10-16",39229]
[null,null,null,null,null,null,"2006-10-17",38897]
[null,null,null,null,null,null,"2006-10-18",38685]
[null,null,null,null,null,null,"2006-10-19",38919]
[null,null,null,null,null,null,"2006-10-20",38642]
[null,null,null,null,null,null,"2006-10-23",39226]
[null,null,null,null,null,null,"2006-10-24",39498]
[null,null,null,null,null,null,"2006-10-25",39562]
[null,null,null,null,null,null,"2006-10-26",39644]
[null,null,null,null,null,null,"2006-10-27",39328]
[null,null,null,null,null,null,"2006-10-30",38900]
[null,null,null,null,null,null,"2006-10-31",39262]
[null,null,null,null,null,null,"2006-11-01",39930]
[null,null,null,null,null,null,"2006-11-02"]
[null,null,null,null,null,null,"2006-11-03",40435]
[null,null,null,null,null,null,"2006-11-06",41246]
[null,null,null,null,null,null,"2006-11-07",41048]
[null,null,null,null,null,null,"2006-11-08",41334]
[null,null,null,null,null,null,"2006-11-09",40815]
[null,null,null,null,null,null,"2006-11-10",40719]
[null,null,null,null,null,null,"2006-11-13",40605]
[null,null,null,null,null,null,"2006-11-14",41290]
[null,null,null,null,null,null,"2006-11-15"]
[null,null,null,null,null,null,"2006-11-16",41161]
[null,null,null,null,null,null,"2006-11-17",41029]
[null,null,null,null,null,null,"2006-11-20"]
[null,null,null,null,null,null,"2006-11-21",41570]
[null,null,null,null,null,null,"2006-11-22",41912]
[null,null,null,null,null,null,"2006-11-23",42069]
[null,null,null,null,null,null,"2006-11-24",41757]
[null,null,null,null,null,null,"2006-11-27",40914]
[null,null,null,null,null,null,"2006-11-28",41043]
[null,null,null,null,null,null,"2006-11-29",41970]
[null,null,null,null,null,null,"2006-11-30",41931]
[null,null,null,null,null,null,"2006-12-01",41327]
[null,null,null,null,null,null,"2006-12-04",42654]
[null,null,null,null,null,null,"2006-12-05",43157]
[null,null,null,null,null,null,"2006-12-06",43096]
[null,null,null,null,null,null,"2006-12-07",42909]
[null,null,null,null,null,null,"2006-12-08",42977]
[null,null,null,null,null,null,"2006-12-11",43297]
[null,null,null,null,null,null,"2006-12-12",43018]
[null,null,null,null,null,null,"2006-12-13",43284]
[null,null,null,null,null,null,"2006-12-14",43754]
[null,null,null,null,null,null,"2006-12-15",43595]
[null,null,null,null,null,null,"2006-12-18",43508]
[null,null,null,null,null,null,"2006-12-19",43589]
[null,null,null,null,null,null,"2006-12-20",43502]
[null,null,null,null,null,null,"2006-12-21",43385]
[null,null,null,null,null,null,"2006-12-22",43355]
[null,null,null,null,null,null,"2006-12-25"]
[null,null,null,null,null,null,"2006-12-26",43603]
[null,null,null,null,null,null,"2006-12-27",44526]
[null,null,null,null,null,null,"2006-12-28",44473]
[null,null,null,null,null,null,"2006-12-29"]
[null,null,null,null,null,null,"2007-01-01"]
[null,null,null,null,null,null,"2007-01-02",45382]
[null,null,null,null,null,null,"2007-01-03",44445]
[null,null,null,null,null,null,"2007-01-04",44019]
[null,null,null,null,null,null,"2007-01-05",42245]
[null,null,null,null,null,null,"2007-01-08",42829]
[null,null,null,null,null,null,"2007-01-09",42006]
[null,null,null,null,null,null,"2007-01-10",42335]
[null,null,null,null,null,null,"2007-01-11",42670]
[null,null,null,null,null,null,"2007-01-12",43094]
[null,null,null,null,null,null,"2007-01-15",42919]
[null,null,null,null,null,null,"2007-01-16",42624]
[null,null,null,null,null,null,"2007-01-17",42735]
[null,null,null,null,null,null,"2007-01-18",42477]
[null,null,null,null,null,null,"2007-01-19",43427]
[null,null,null,null,null,null,"2007-01-22",43553]
[null,null,null,null,null,null,"2007-01-23",44177]
[null,null,null,null,null,null,"2007-01-24",44686]
[null,null,null,null,null,null,"2007-01-25"]
[null,null,null,null,null,null,"2007-01-26",44412]
[null,null,null,null,null,null,"2007-01-29",43573]
[null,null,null,null,null,null,"2007-01-30",44044]
[null,null,null,null,null,null,"2007-01-31",44641]
[null,null,null,null,null,null,"2007-02-01",44815]
[null,null,null,null,null,null,"2007-02-02",44997]
[null,null,null,null,null,null,"2007-02-05",45286]
[null,null,null,null,null,null,"2007-02-06",45351]
[null,null,null,null,null,null,"2007-02-07",44587]
[null,null,null,null,null,null,"2007-02-08",44891]
[null,null,null,null,null,null,"2007-02-09",44284]
[null,null,null,null,null,null,"2007-02-12",43934]
[null,null,null,null,null,null,"2007-02-13",45197]
[null,null,null,null,null,null,"2007-02-14",45995]
[null,null,null,null,null,null,"2007-02-15",45955]
[null,null,null,null,null,null,"2007-02-16",45849]
[null,null,null,null,null,null,"2007-02-19"]
[null,null,null,null,null,null,"2007-02-20"]
[null,null,null,null,null,null,"2007-02-21",46090]
[null,null,null,null,null,null,"2007-02-22",46452]
[null,null,null,null,null,null,"2007-02-23",46015]
[null,null,null,null,null,null,"2007-02-26",46207]
[null,null,null,null,null,null,"2007-02-27",43145]
[null,null,null,null,null,null,"2007-02-28",43892]
[null,null,null,null,null,null,"2007-03-01",43516]
[null,null,null,null,null,null,"2007-03-02",42369]
[null,null,null,null,null,null,"2007-03-05",41179]
[null,null,null,null,null,null,"2007-03-06",43218]
[null,null,null,null,null,null,"2007-03-07",42667]
[null,null,null,null,null,null,"2007-03-08",43465]
[null,null,null,null,null,null,"2007-03-09",44133]
[null,null,null,null,null,null,"2007-03-12",44249]
[null,null,null,null,null,null,"2007-03-13",42749]
[null,null,null,null,null,null,"2007-03-14",43288]
[null,null,null,null,null,null,"2007-03-15",43278]
[null,null,null,null,null,null,"2007-03-16",42730]
[null,null,null,null,null,null,"2007-03-19",43712]
[null,null,null,null,null,null,"2007-03-20",44350]
[null,null,null,null,null,null,"2007-03-21",45630]
[null,null,null,null,null,null,"2007-03-22",45424]
[null,null,null,null,null,null,"2007-03-23",45532]
[null,null,null,null,null,null,"2007-03-26",45644]
[null,null,null,null,null,null,"2007-03-27",45206]
[null,null,null,null,null,null,"2007-03-28",44484]
[null,null,null,null,null,null,"2007-03-29",45355]
[null,null,null,null,null,null,"2007-03-30",45804]
[null,null,null,null,null,null,"2007-04-02",45597]
[null,null,null,null,null,null,"2007-04-03",46288]
[null,null,null,null,null,null,"2007-04-04",46553]
[null,null,null,null,null,null,"2007-04-05",46646]
[null,null,null,null,null,null,"2007-04-06"]
[null,null,null,null,null,null,"2007-04-09",46854]
[null,null,null,null,null,null,"2007-04-10",47174]
[null,null,null,null,null,null,"2007-04-11",46939]
[null,null,null,null,null,null,"2007-04-12",47346]
[null,null,null,null,null,null,"2007-04-13",47926]
[null,null,null,null,null,null,"2007-04-16",48921]
[null,null,null,null,null,null,"2007-04-17",48755]
[null,null,null,null,null,null,"2007-04-18",48709]
[null,null,null,null,null,null,"2007-04-19",48762]
[null,null,null,null,null,null,"2007-04-20",49408]
[null,null,null,null,null,null,"2007-04-23",49162]
[null,null,null,null,null,null,"2007-04-24",49070]
[null,null,null,null,null,null,"2007-04-25",49675]
[null,null,null,null,null,null,"2007-04-26",49067]
[null,null,null,null,null,null,"2007-04-27",49229]
[null,null,null,null,null,null,"2007-04-30",48956]
[null,null,null,null,null,null,"2007-05-01"]
[null,null,null,null,null,null,"2007-05-02",49471]
[null,null,null,null,null,null,"2007-05-03",50218]
[null,null,null,null,null,null,"2007-05-04",50597]
[null,null,null,null,null,null,"2007-05-07",50281]
[null,null,null,null,null,null,"2007-05-08",50277]
[null,null,null,null,null,null,"2007-05-09",51300]
[null,null,null,null,null,null,"2007-05-10",50234]
[null,null,null,null,null,null,"2007-05-11",50902]
[null,null,null,null,null,null,"2007-05-14",50510]
[null,null,null,null,null,null,"2007-05-15",50518]
[null,null,null,null,null,null,"2007-05-16",51737]
[null,null,null,null,null,null,"2007-05-17",51631]
[null,null,null,null,null,null,"2007-05-18",52077]
[null,null,null,null,null,null,"2007-05-21",52423]
[null,null,null,null,null,null,"2007-05-22",52208]
[null,null,null,null,null,null,"2007-05-23",51812]
[null,null,null,null,null,null,"2007-05-24",50530]
[null,null,null,null,null,null,"2007-05-25",51617]
[null,null,null,null,null,null,"2007-05-28",52119]
[null,null,null,null,null,null,"2007-05-29",51713]
[null,null,null,null,null,null,"2007-05-30",52527]
[null,null,null,null,null,null,"2007-05-31",52268]
[null,null,null,null,null,null,"2007-06-01",53422]
[null,null,null,null,null,null,"2007-06-04",53242]
[null,null,null,null,null,null,"2007-06-05",53162]
[null,null,null,null,null,null,"2007-06-06",52049]
[null,null,null,null,null,null,"2007-06-07"]
[null,null,null,null,null,null,"2007-06-08",52329]
[null,null,null,null,null,null,"2007-06-11",52776]
[null,null,null,null,null,null,"2007-06-12",51797]
[null,null,null,null,null,null,"2007-06-13",52993]
[null,null,null,null,null,null,"2007-06-14",53712]
[null,null,null,null,null,null,"2007-06-15",54518]
[null,null,null,null,null,null,"2007-06-18",54730]
[null,null,null,null,null,null,"2007-06-19",54643]
[null,null,null,null,null,null,"2007-06-20",54029]
[null,null,null,null,null,null,"2007-06-21",54656]
[null,null,null,null,null,null,"2007-06-22",54267]
[null,null,null,null,null,null,"2007-06-25",54041]
[null,null,null,null,null,null,"2007-06-26",53851]
[null,null,null,null,null,null,"2007-06-27",54143]
[null,null,null,null,null,null,"2007-06-28",54146]
[null,null,null,null,null,null,"2007-06-29",54392]
[null,null,null,null,null,null,"2007-07-02",55371]
[null,null,null,null,null,null,"2007-07-03",55699]
[null,null,null,null,null,null,"2007-07-04",55696]
[null,null,null,null,null,null,"2007-07-05",55932]
[null,null,null,null,null,null,"2007-07-06",56443]
[null,null,null,null,null,null,"2007-07-09"]
[null,null,null,null,null,null,"2007-07-10",55882]
[null,null,null,null,null,null,"2007-07-11",56356]
[null,null,null,null,null,null,"2007-07-12",57613]
[null,null,null,null,null,null,"2007-07-13",57644]
[null,null,null,null,null,null,"2007-07-16",57374]
[null,null,null,null,null,null,"2007-07-17",57659]
[null,null,null,null,null,null,"2007-07-18",57555]
[null,null,null,null,null,null,"2007-07-19",58124]
[null,null,null,null,null,null,"2007-07-20",57442]
[null,null,null,null,null,null,"2007-07-23",58036]
[null,null,null,null,null,null,"2007-07-24",55794]
[null,null,null,null,null,null,"2007-07-25",56001]
[null,null,null,null,null,null,"2007-07-26",53893]
[null,null,null,null,null,null,"2007-07-27",52922]
[null,null,null,null,null,null,"2007-07-30",54572]
[null,null,null,null,null,null,"2007-07-31",54182]
[null,null,null,null,null,null,"2007-08-01",54233]
[null,null,null,null,null,null,"2007-08-02",54690]
[null,null,null,null,null,null,"2007-08-03",52846]
[null,null,null,null,null,null,"2007-08-06",53091]
[null,null,null,null,null,null,"2007-08-07",53802]
[null,null,null,null,null,null,"2007-08-08",55241]
[null,null,null,null,null,null,"2007-08-09",53430]
[null,null,null,null,null,null,"2007-08-10",52638]
[null,null,null,null,null,null,"2007-08-13",52434]
[null,null,null,null,null,null,"2007-08-14",50911]
[null,null,null,null,null,null,"2007-08-15",49285]
[null,null,null,null,null,null,"2007-08-16",48015]
[null,null,null,null,null,null,"2007-08-17",48558]
[null,null,null,null,null,null,"2007-08-20",49206]
[null,null,null,null,null,null,"2007-08-21",49815]
[null,null,null,null,null,null,"2007-08-22",51744]
[null,null,null,null,null,null,"2007-08-23",51848]
[null,null,null,null,null,null,"2007-08-24",52997]
[null,null,null,null,null,null,"2007-08-27",53078]
[null,null,null,null,null,null,"2007-08-28",51645]
[null,null,null,null,null,null,"2007-08-29",52734]
[null,null,null,null,null,null,"2007-08-30",52857]
[null,null,null,null,null,null,"2007-08-31",54637]
[null,null,null,null,null,null,"2007-09-03",54832]
[null,null,null,null,null,null,"2007-09-04",55250]
[null,null,null,null,null,null,"2007-09-05",54407]
[null,null,null,null,null,null,"2007-09-06",54569]
[null,null,null,null,null,null,"2007-09-07"]
[null,null,null,null,null,null,"2007-09-10",52652]
[null,null,null,null,null,null,"2007-09-11",53920]
[null,null,null,null,null,null,"2007-09-12",53882]
[null,null,null,null,null,null,"2007-09-13",54908]
[null,null,null,null,null,null,"2007-09-14",54671]
[null,null,null,null,null,null,"2007-09-17",54340]
[null,null,null,null,null,null,"2007-09-18",56666]
[null,null,null,null,null,null,"2007-09-19",57264]
[null,null,null,null,null,null,"2007-09-20",56906]
[null,null,null,null,null,null,"2007-09-21",57798]
[null,null,null,null,null,null,"2007-09-24",58719]
[null,null,null,null,null,null,"2007-09-25",58857]
[null,null,null,null,null,null,"2007-09-26",59714]
[null,null,null,null,null,null,"2007-09-27",61052]
[null,null,null,null,null,null,"2007-09-28",60465]
[null,null,null,null,null,null,"2007-10-01",62340]
[null,null,null,null,null,null,"2007-10-02",62017]
[null,null,null,null,null,null,"2007-10-03",60098]
[null,null,null,null,null,null,"2007-10-04",60406]
[null,null,null,null,null,null,"2007-10-05",62318]
[null,null,null,null,null,null,"2007-10-08",62660]
[null,null,null,null,null,null,"2007-10-09",63548]
[null,null,null,null,null,null,"2007-10-10",63197]
[null,null,null,null,null,null,"2007-10-11",62455]
[null,null,null,null,null,null,"2007-10-12"]
[null,null,null,null,null,null,"2007-10-15",62969]
[null,null,null,null,null,null,"2007-10-16",61717]
[null,null,null,null,null,null,"2007-10-17",63193]
[null,null,null,null,null,null,"2007-10-18",63261]
[null,null,null,null,null,null,"2007-10-19",60894]
[null,null,null,null,null,null,"2007-10-22",61215]
[null,null,null,null,null,null,"2007-10-23",62697]
[null,null,null,null,null,null,"2007-10-24",62624]
[null,null,null,null,null,null,"2007-10-25",62341]
[null,null,null,null,null,null,"2007-10-26",64275]
[null,null,null,null,null,null,"2007-10-29",65044]
[null,null,null,null,null,null,"2007-10-30",64383]
[null,null,null,null,null,null,"2007-10-31",65317]
[null,null,null,null,null,null,"2007-11-01",64050]
[null,null,null,null,null,null,"2007-11-02"]
[null,null,null,null,null,null,"2007-11-05",62959]
[null,null,null,null,null,null,"2007-11-06",64503]
[null,null,null,null,null,null,"2007-11-07",63500]
[null,null,null,null,null,null,"2007-11-08",63561]
[null,null,null,null,null,null,"2007-11-09",64320]
[null,null,null,null,null,null,"2007-11-12",61526]
[null,null,null,null,null,null,"2007-11-13",62927]
[null,null,null,null,null,null,"2007-11-14",64630]
[null,null,null,null,null,null,"2007-11-15"]
[null,null,null,null,null,null,"2007-11-16",64609]
[null,null,null,null,null,null,"2007-11-19",62336]
[null,null,null,null,null,null,"2007-11-20"]
[null,null,null,null,null,null,"2007-11-21",60581]
[null,null,null,null,null,null,"2007-11-22",60653]
[null,null,null,null,null,null,"2007-11-23",60970]
[null,null,null,null,null,null,"2007-11-26",59069]
[null,null,null,null,null,null,"2007-11-27",59431]
[null,null,null,null,null,null,"2007-11-28",61714]
[null,null,null,null,null,null,"2007-11-29",62156]
[null,null,null,null,null,null,"2007-11-30",63006]
[null,null,null,null,null,null,"2007-12-03",63199]
[null,null,null,null,null,null,"2007-12-04",63481]
[null,null,null,null,null,null,"2007-12-05",64927]
[null,null,null,null,null,null,"2007-12-06",65790]
[null,null,null,null,null,null,"2007-12-07",65638]
[null,null,null,null,null,null,"2007-12-10",65445]
[null,null,null,null,null,null,"2007-12-11",64512]
[null,null,null,null,null,null,"2007-12-12",64741]
[null,null,null,null,null,null,"2007-12-13",62860]
[null,null,null,null,null,null,"2007-12-14",62444]
[null,null,null,null,null,null,"2007-12-17",59828]
[null,null,null,null,null,null,"2007-12-18",61096]
[null,null,null,null,null,null,"2007-12-19",61721]
[null,null,null,null,null,null,"2007-12-20",61716]
[null,null,null,null,null,null,"2007-12-21",63097]
[null,null,null,null,null,null,"2007-12-24"]
[null,null,null,null,null,null,"2007-12-25"]
[null,null,null,null,null,null,"2007-12-26",64288]
[null,null,null,null,null,null,"2007-12-27",63774]
[null,null,null,null,null,null,"2007-12-28",63886]
[null,null,null,null,null,null,"2007-12-31"]
[null,null,null,null,null,null,"2008-01-01"]
[null,null,null,null,null,null,"2008-01-02",62815]
[null,null,null,null,null,null,"2008-01-03",62891]
[null,null,null,null,null,null,"2008-01-04",61036]
[null,null,null,null,null,null,"2008-01-07",60772]
[null,null,null,null,null,null,"2008-01-08",62080]
[null,null,null,null,null,null,"2008-01-09",62673]
[null,null,null,null,null,null,"2008-01-10",63515]
[null,null,null,null,null,null,"2008-01-11",61942]
[null,null,null,null,null,null,"2008-01-14",62187]
[null,null,null,null,null,null,"2008-01-15",59907]
[null,null,null,null,null,null,"2008-01-16",58777]
[null,null,null,null,null,null,"2008-01-17",57036]
[null,null,null,null,null,null,"2008-01-18",57506]
[null,null,null,null,null,null,"2008-01-21",53709]
[null,null,null,null,null,null,"2008-01-22",56097]
[null,null,null,null,null,null,"2008-01-23",54234]
[null,null,null,null,null,null,"2008-01-24",57463]
[null,null,null,null,null,null,"2008-01-25"]
[null,null,null,null,null,null,"2008-01-28",58593]
[null,null,null,null,null,null,"2008-01-29",59529]
[null,null,null,null,null,null,"2008-01-30",60289]
[null,null,null,null,null,null,"2008-01-31",59490]
[null,null,null,null,null,null,"2008-02-01",61079]
[null,null,null,null,null,null,"2008-02-04"]
[null,null,null,null,null,null,"2008-02-05"]
[null,null,null,null,null,null,"2008-02-06",58968]
[null,null,null,null,null,null,"2008-02-07",58965]
[null,null,null,null,null,null,"2008-02-08",59075]
[null,null,null,null,null,null,"2008-02-11",60643]
[null,null,null,null,null,null,"2008-02-12",61805]
[null,null,null,null,null,null,"2008-02-13",62590]
[null,null,null,null,null,null,"2008-02-14",61818]
[null,null,null,null,null,null,"2008-02-15",61271]
[null,null,null,null,null,null,"2008-02-18",62801]
[null,null,null,null,null,null,"2008-02-19",62296]
[null,null,null,null,null,null,"2008-02-20",63747]
[null,null,null,null,null,null,"2008-02-21",63792]
[null,null,null,null,null,null,"2008-02-22",64608]
[null,null,null,null,null,null,"2008-02-25",65000]
[null,null,null,null,null,null,"2008-02-26",65182]
[null,null,null,null,null,null,"2008-02-27",65494]
[null,null,null,null,null,null,"2008-02-28",65555]
[null,null,null,null,null,null,"2008-02-29",63489]
[null,null,null,null,null,null,"2008-03-03",64490]
[null,null,null,null,null,null,"2008-03-04",63655]
[null,null,null,null,null,null,"2008-03-05",64629]
[null,null,null,null,null,null,"2008-03-06",62974]
[null,null,null,null,null,null,"2008-03-07",61867]
[null,null,null,null,null,null,"2008-03-10",59999]
[null,null,null,null,null,null,"2008-03-11",62367]
[null,null,null,null,null,null,"2008-03-12",62176]
[null,null,null,null,null,null,"2008-03-13",62279]
[null,null,null,null,null,null,"2008-03-14",61990]
[null,null,null,null,null,null,"2008-03-17",60011]
[null,null,null,null,null,null,"2008-03-18",61932]
[null,null,null,null,null,null,"2008-03-19",58827]
[null,null,null,null,null,null,"2008-03-20",58987]
[null,null,null,null,null,null,"2008-03-21"]
[null,null,null,null,null,null,"2008-03-24",59812]
[null,null,null,null,null,null,"2008-03-25",61234]
[null,null,null,null,null,null,"2008-03-26",61415]
[null,null,null,null,null,null,"2008-03-27",60761]
[null,null,null,null,null,null,"2008-03-28",60452]
[null,null,null,null,null,null,"2008-03-31",60968]
[null,null,null,null,null,null,"2008-04-01",62774]
[null,null,null,null,null,null,"2008-04-02",63364]
[null,null,null,null,null,null,"2008-04-03",64175]
[null,null,null,null,null,null,"2008-04-04",64445]
[null,null,null,null,null,null,"2008-04-07",64175]
[null,null,null,null,null,null,"2008-04-08",64539]
[null,null,null,null,null,null,"2008-04-09",63476]
[null,null,null,null,null,null,"2008-04-10",63527]
[null,null,null,null,null,null,"2008-04-11",62585]
[null,null,null,null,null,null,"2008-04-14",62153]
[null,null,null,null,null,null,"2008-04-15",62618]
[null,null,null,null,null,null,"2008-04-16",64151]
[null,null,null,null,null,null,"2008-04-17",64552]
[null,null,null,null,null,null,"2008-04-18",64922]
[null,null,null,null,null,null,"2008-04-21"]
[null,null,null,null,null,null,"2008-04-22",65412]
[null,null,null,null,null,null,"2008-04-23",64947]
[null,null,null,null,null,null,"2008-04-24",64576]
[null,null,null,null,null,null,"2008-04-25",65187]
[null,null,null,null,null,null,"2008-04-28",65677]
[null,null,null,null,null,null,"2008-04-29",63825]
[null,null,null,null,null,null,"2008-04-30",67868]
[null,null,null,null,null,null,"2008-05-01"]
[null,null,null,null,null,null,"2008-05-02",69366]
[null,null,null,null,null,null,"2008-05-05",70174]
[null,null,null,null,null,null,"2008-05-06",70195]
[null,null,null,null,null,null,"2008-05-07",69017]
[null,null,null,null,null,null,"2008-05-08",69722]
[null,null,null,null,null,null,"2008-05-09",69645]
[null,null,null,null,null,null,"2008-05-12",70415]
[null,null,null,null,null,null,"2008-05-13",70503]
[null,null,null,null,null,null,"2008-05-14",70026]
[null,null,null,null,null,null,"2008-05-15",71492]
[null,null,null,null,null,null,"2008-05-16",72766]
[null,null,null,null,null,null,"2008-05-19",73438]
[null,null,null,null,null,null,"2008-05-20",73516]
[null,null,null,null,null,null,"2008-05-21",72294]
[null,null,null,null,null,null,"2008-05-22"]
[null,null,null,null,null,null,"2008-05-23",71451]
[null,null,null,null,null,null,"2008-05-26",71628]
[null,null,null,null,null,null,"2008-05-27",70992]
[null,null,null,null,null,null,"2008-05-28",73153]
[null,null,null,null,null,null,"2008-05-29",71797]
[null,null,null,null,null,null,"2008-05-30",72592]
[null,null,null,null,null,null,"2008-06-02",71897]
[null,null,null,null,null,null,"2008-06-03",70011]
[null,null,null,null,null,null,"2008-06-04",68673]
[null,null,null,null,null,null,"2008-06-05",71209]
[null,null,null,null,null,null,"2008-06-06",69785]
[null,null,null,null,null,null,"2008-06-09",69281]
[null,null,null,null,null,null,"2008-06-10",67774]
[null,null,null,null,null,null,"2008-06-11",66794]
[null,null,null,null,null,null,"2008-06-12",67319]
[null,null,null,null,null,null,"2008-06-13",67203]
[null,null,null,null,null,null,"2008-06-16",67284]
[null,null,null,null,null,null,"2008-06-17",68437]
[null,null,null,null,null,null,"2008-06-18",67090]
[null,null,null,null,null,null,"2008-06-19",66590]
[null,null,null,null,null,null,"2008-06-20",64613]
[null,null,null,null,null,null,"2008-06-23",64640]
[null,null,null,null,null,null,"2008-06-24",64167]
[null,null,null,null,null,null,"2008-06-25",65853]
[null,null,null,null,null,null,"2008-06-26",63946]
[null,null,null,null,null,null,"2008-06-27",64321]
[null,null,null,null,null,null,"2008-06-30",65017]
[null,null,null,null,null,null,"2008-07-01",63396]
[null,null,null,null,null,null,"2008-07-02",61106]
[null,null,null,null,null,null,"2008-07-03",59273]
[null,null,null,null,null,null,"2008-07-04",59365]
[null,null,null,null,null,null,"2008-07-07",59088]
[null,null,null,null,null,null,"2008-07-08",59535]
[null,null,null,null,null,null,"2008-07-09"]
[null,null,null,null,null,null,"2008-07-10",60252]
[null,null,null,null,null,null,"2008-07-11",60148]
[null,null,null,null,null,null,"2008-07-14",60720]
[null,null,null,null,null,null,"2008-07-15",61015]
[null,null,null,null,null,null,"2008-07-16",62056]
[null,null,null,null,null,null,"2008-07-17",60108]
[null,null,null,null,null,null,"2008-07-18",59988]
[null,null,null,null,null,null,"2008-07-21",60771]
[null,null,null,null,null,null,"2008-07-22",59647]
[null,null,null,null,null,null,"2008-07-23",59420]
[null,null,null,null,null,null,"2008-07-24",57434]
[null,null,null,null,null,null,"2008-07-25",57199]
[null,null,null,null,null,null,"2008-07-28",56869]
[null,null,null,null,null,null,"2008-07-29",58042]
[null,null,null,null,null,null,"2008-07-30",59997]
[null,null,null,null,null,null,"2008-07-31",59505]
[null,null,null,null,null,null,"2008-08-01",57630]
[null,null,null,null,null,null,"2008-08-04",55609]
[null,null,null,null,null,null,"2008-08-05",56470]
[null,null,null,null,null,null,"2008-08-06",57542]
[null,null,null,null,null,null,"2008-08-07",57017]
[null,null,null,null,null,null,"2008-08-08",56584]
[null,null,null,null,null,null,"2008-08-11",54720]
[null,null,null,null,null,null,"2008-08-12",54502]
[null,null,null,null,null,null,"2008-08-13",54573]
[null,null,null,null,null,null,"2008-08-14",55138]
[null,null,null,null,null,null,"2008-08-15",54244]
[null,null,null,null,null,null,"2008-08-18",53326]
[null,null,null,null,null,null,"2008-08-19",53638]
[null,null,null,null,null,null,"2008-08-20",55377]
[null,null,null,null,null,null,"2008-08-21",55934]
[null,null,null,null,null,null,"2008-08-22",55850]
[null,null,null,null,null,null,"2008-08-25",54477]
[null,null,null,null,null,null,"2008-08-26",54358]
[null,null,null,null,null,null,"2008-08-27",55519]
[null,null,null,null,null,null,"2008-08-28",56382]
[null,null,null,null,null,null,"2008-08-29",55680]
[null,null,null,null,null,null,"2008-09-01",55162]
[null,null,null,null,null,null,"2008-09-02",54404]
[null,null,null,null,null,null,"2008-09-03",53527]
[null,null,null,null,null,null,"2008-09-04",51408]
[null,null,null,null,null,null,"2008-09-05",51939]
[null,null,null,null,null,null,"2008-09-08",50717]
[null,null,null,null,null,null,"2008-09-09",48435]
[null,null,null,null,null,null,"2008-09-10",49633]
[null,null,null,null,null,null,"2008-09-11",51270]
[null,null,null,null,null,null,"2008-09-12",52392]
[null,null,null,null,null,null,"2008-09-15",48416]
[null,null,null,null,null,null,"2008-09-16",49228]
[null,null,null,null,null,null,"2008-09-17",45908]
[null,null,null,null,null,null,"2008-09-18",48422]
[null,null,null,null,null,null,"2008-09-19",53055]
[null,null,null,null,null,null,"2008-09-22",51540]
[null,null,null,null,null,null,"2008-09-23",49593]
[null,null,null,null,null,null,"2008-09-24",49842]
[null,null,null,null,null,null,"2008-09-25",51828]
[null,null,null,null,null,null,"2008-09-26",50782]
[null,null,null,null,null,null,"2008-09-29",46028]
[null,null,null,null,null,null,"2008-09-30",49541]
[null,null,null,null,null,null,"2008-10-01",49798]
[null,null,null,null,null,null,"2008-10-02",46145]
[null,null,null,null,null,null,"2008-10-03",44517]
[null,null,null,null,null,null,"2008-10-06",42100]
[null,null,null,null,null,null,"2008-10-07",40139]
[null,null,null,null,null,null,"2008-10-08",38593]
[null,null,null,null,null,null,"2008-10-09",37080]
[null,null,null,null,null,null,"2008-10-10",35609]
[null,null,null,null,null,null,"2008-10-13",40829]
[null,null,null,null,null,null,"2008-10-14",41569]
[null,null,null,null,null,null,"2008-10-15",36833]
[null,null,null,null,null,null,"2008-10-16",36441]
[null,null,null,null,null,null,"2008-10-17",36399]
[null,null,null,null,null,null,"2008-10-20",39441]
[null,null,null,null,null,null,"2008-10-21",39043]
[null,null,null,null,null,null,"2008-10-22",35069]
[null,null,null,null,null,null,"2008-10-23",33818]
[null,null,null,null,null,null,"2008-10-24",31481]
[null,null,null,null,null,null,"2008-10-27",29435]
[null,null,null,null,null,null,"2008-10-28",33386]
[null,null,null,null,null,null,"2008-10-29",34845]
[null,null,null,null,null,null,"2008-10-30",37448]
[null,null,null,null,null,null,"2008-10-31",37256]
[null,null,null,null,null,null,"2008-11-03",38249]
[null,null,null,null,null,null,"2008-11-04",40254]
[null,null,null,null,null,null,"2008-11-05",37785]
[null,null,null,null,null,null,"2008-11-06",36361]
[null,null,null,null,null,null,"2008-11-07",36665]
[null,null,null,null,null,null,"2008-11-10",36776]
[null,null,null,null,null,null,"2008-11-11",37261]
[null,null,null,null,null,null,"2008-11-12",34373]
[null,null,null,null,null,null,"2008-11-13",35993]
[null,null,null,null,null,null,"2008-11-14",35789]
[null,null,null,null,null,null,"2008-11-17",35717]
[null,null,null,null,null,null,"2008-11-18",34094]
[null,null,null,null,null,null,"2008-11-19",33404]
[null,null,null,null,null,null,"2008-11-20"]
[null,null,null,null,null,null,"2008-11-21",31250]
[null,null,null,null,null,null,"2008-11-24",34188]
[null,null,null,null,null,null,"2008-11-25",34812]
[null,null,null,null,null,null,"2008-11-26",36469]
[null,null,null,null,null,null,"2008-11-27",36212]
[null,null,null,null,null,null,"2008-11-28",36595]
[null,null,null,null,null,null,"2008-12-01",34740]
[null,null,null,null,null,null,"2008-12-02",35000]
[null,null,null,null,null,null,"2008-12-03",35296]
[null,null,null,null,null,null,"2008-12-04",35127]
[null,null,null,null,null,null,"2008-12-05",35347]
[null,null,null,null,null,null,"2008-12-08",38284]
[null,null,null,null,null,null,"2008-12-09",37968]
[null,null,null,null,null,null,"2008-12-10",39004]
[null,null,null,null,null,null,"2008-12-11",38519]
[null,null,null,null,null,null,"2008-12-12",39373]
[null,null,null,null,null,null,"2008-12-15",38320]
[null,null,null,null,null,null,"2008-12-16",39993]
[null,null,null,null,null,null,"2008-12-17",39947]
[null,null,null,null,null,null,"2008-12-18",39536]
[null,null,null,null,null,null,"2008-12-19",39131]
[null,null,null,null,null,null,"2008-12-22",37618]
[null,null,null,null,null,null,"2008-12-23",36470]
[null,null,null,null,null,null,"2008-12-24"]
[null,null,null,null,null,null,"2008-12-25"]
[null,null,null,null,null,null,"2008-12-26",36864]
[null,null,null,null,null,null,"2008-12-29",37060]
[null,null,null,null,null,null,"2008-12-30",37550]
[null,null,null,null,null,null,"2008-12-31"]
[null,null,null,null,null,null,"2009-01-01"]
[null,null,null,null,null,null,"2009-01-02",40244]
[null,null,null,null,null,null,"2009-01-05",41518]
[null,null,null,null,null,null,"2009-01-06",42312]
[null,null,null,null,null,null,"2009-01-07",40820]
[null,null,null,null,null,null,"2009-01-08",41990]
[null,null,null,null,null,null,"2009-01-09",41582]
[null,null,null,null,null,null,"2009-01-12",39403]
[null,null,null,null,null,null,"2009-01-13",39544]
[null,null,null,null,null,null,"2009-01-14",37981]
[null,null,null,null,null,null,"2009-01-15",39151]
[null,null,null,null,null,null,"2009-01-16",39341]
[null,null,null,null,null,null,"2009-01-19",38828]
[null,null,null,null,null,null,"2009-01-20",37272]
[null,null,null,null,null,null,"2009-01-21",38542]
[null,null,null,null,null,null,"2009-01-22",37894]
[null,null,null,null,null,null,"2009-01-23",38132]
[null,null,null,null,null,null,"2009-01-26",38509]
[null,null,null,null,null,null,"2009-01-27",38698]
[null,null,null,null,null,null,"2009-01-28",40227]
[null,null,null,null,null,null,"2009-01-29",39638]
[null,null,null,null,null,null,"2009-01-30",39300]
[null,null,null,null,null,null,"2009-02-02",38666]
[null,null,null,null,null,null,"2009-02-03",39746]
[null,null,null,null,null,null,"2009-02-04",40129]
[null,null,null,null,null,null,"2009-02-05",41108]
[null,null,null,null,null,null,"2009-02-06",42755]
[null,null,null,null,null,null,"2009-02-09",42100]
[null,null,null,null,null,null,"2009-02-10",41207]
[null,null,null,null,null,null,"2009-02-11",40845]
[null,null,null,null,null,null,"2009-02-12",40500]
[null,null,null,null,null,null,"2009-02-13",41673]
[null,null,null,null,null,null,"2009-02-16",41841]
[null,null,null,null,null,null,"2009-02-17",39846]
[null,null,null,null,null,null,"2009-02-18",39674]
[null,null,null,null,null,null,"2009-02-19",39730]
[null,null,null,null,null,null,"2009-02-20",38714]
[null,null,null,null,null,null,"2009-02-23"]
[null,null,null,null,null,null,"2009-02-24"]
[null,null,null,null,null,null,"2009-02-25",38231]
[null,null,null,null,null,null,"2009-02-26",38180]
[null,null,null,null,null,null,"2009-02-27",38183]
[null,null,null,null,null,null,"2009-03-02",36234]
[null,null,null,null,null,null,"2009-03-03",36467]
[null,null,null,null,null,null,"2009-03-04",38402]
[null,null,null,null,null,null,"2009-03-05",37368]
[null,null,null,null,null,null,"2009-03-06",37105]
[null,null,null,null,null,null,"2009-03-09",36741]
[null,null,null,null,null,null,"2009-03-10",38794]
[null,null,null,null,null,null,"2009-03-11",38804]
[null,null,null,null,null,null,"2009-03-12",39151]
[null,null,null,null,null,null,"2009-03-13",39015]
[null,null,null,null,null,null,"2009-03-16",38607]
[null,null,null,null,null,null,"2009-03-17",39510]
[null,null,null,null,null,null,"2009-03-18",40142]
[null,null,null,null,null,null,"2009-03-19",40453]
[null,null,null,null,null,null,"2009-03-20",40076]
[null,null,null,null,null,null,"2009-03-23",42438]
[null,null,null,null,null,null,"2009-03-24",41475]
[null,null,null,null,null,null,"2009-03-25",41799]
[null,null,null,null,null,null,"2009-03-26",42588]
[null,null,null,null,null,null,"2009-03-27",41907]
[null,null,null,null,null,null,"2009-03-30",40653]
[null,null,null,null,null,null,"2009-03-31",40925]
[null,null,null,null,null,null,"2009-04-01",41976]
[null,null,null,null,null,null,"2009-04-02",43736]
[null,null,null,null,null,null,"2009-04-03",44390]
[null,null,null,null,null,null,"2009-04-06",44167]
[null,null,null,null,null,null,"2009-04-07",43824]
[null,null,null,null,null,null,"2009-04-08",44181]
[null,null,null,null,null,null,"2009-04-09",45538]
[null,null,null,null,null,null,"2009-04-10"]
[null,null,null,null,null,null,"2009-04-13",45991]
[null,null,null,null,null,null,"2009-04-14",45418]
[null,null,null,null,null,null,"2009-04-15",45272]
[null,null,null,null,null,null,"2009-04-16",46024]
[null,null,null,null,null,null,"2009-04-17",45778]
[null,null,null,null,null,null,"2009-04-20",44433]
[null,null,null,null,null,null,"2009-04-21"]
[null,null,null,null,null,null,"2009-04-22",44888]
[null,null,null,null,null,null,"2009-04-23",45801]
[null,null,null,null,null,null,"2009-04-24",46771]
[null,null,null,null,null,null,"2009-04-27",45819]
[null,null,null,null,null,null,"2009-04-28",45821]
[null,null,null,null,null,null,"2009-04-29",47226]
[null,null,null,null,null,null,"2009-04-30",47289]
[null,null,null,null,null,null,"2009-05-01"]
[null,null,null,null,null,null,"2009-05-04",50404]
[null,null,null,null,null,null,"2009-05-05",50669]
[null,null,null,null,null,null,"2009-05-06",51499]
[null,null,null,null,null,null,"2009-05-07",50058]
[null,null,null,null,null,null,"2009-05-08",51395]
[null,null,null,null,null,null,"2009-05-11",50976]
[null,null,null,null,null,null,"2009-05-12",50325]
[null,null,null,null,null,null,"2009-05-13",48679]
[null,null,null,null,null,null,"2009-05-14",49446]
[null,null,null,null,null,null,"2009-05-15",49007]
[null,null,null,null,null,null,"2009-05-18",51463]
[null,null,null,null,null,null,"2009-05-19",51346]
[null,null,null,null,null,null,"2009-05-20",51245]
[null,null,null,null,null,null,"2009-05-21",50087]
[null,null,null,null,null,null,"2009-05-22",50568]
[null,null,null,null,null,null,"2009-05-25",50816]
[null,null,null,null,null,null,"2009-05-26",51840]
[null,null,null,null,null,null,"2009-05-27",51791]
[null,null,null,null,null,null,"2009-05-28",53040]
[null,null,null,null,null,null,"2009-05-29",53197]
[null,null,null,null,null,null,"2009-06-01",54486]
[null,null,null,null,null,null,"2009-06-02",53999]
[null,null,null,null,null,null,"2009-06-03",52086]
[null,null,null,null,null,null,"2009-06-04",53463]
[null,null,null,null,null,null,"2009-06-05",53341]
[null,null,null,null,null,null,"2009-06-08",53630]
[null,null,null,null,null,null,"2009-06-09",53157]
[null,null,null,null,null,null,"2009-06-10",53410]
[null,null,null,null,null,null,"2009-06-11"]
[null,null,null,null,null,null,"2009-06-12",53558]
[null,null,null,null,null,null,"2009-06-15",52033]
[null,null,null,null,null,null,"2009-06-16",51205]
[null,null,null,null,null,null,"2009-06-17",51045]
[null,null,null,null,null,null,"2009-06-18",50903]
[null,null,null,null,null,null,"2009-06-19",51373]
[null,null,null,null,null,null,"2009-06-22",49494]
[null,null,null,null,null,null,"2009-06-23",49813]
[null,null,null,null,null,null,"2009-06-24",49672]
[null,null,null,null,null,null,"2009-06-25",51514]
[null,null,null,null,null,null,"2009-06-26",51485]
[null,null,null,null,null,null,"2009-06-29",52137]
[null,null,null,null,null,null,"2009-06-30",51465]
[null,null,null,null,null,null,"2009-07-01",51543]
[null,null,null,null,null,null,"2009-07-02",51024]
[null,null,null,null,null,null,"2009-07-03",50934]
[null,null,null,null,null,null,"2009-07-06",50622]
[null,null,null,null,null,null,"2009-07-07",49456]
[null,null,null,null,null,null,"2009-07-08",49177]
[null,null,null,null,null,null,"2009-07-09"]
[null,null,null,null,null,null,"2009-07-10",49220]
[null,null,null,null,null,null,"2009-07-13",49186]
[null,null,null,null,null,null,"2009-07-14",48872]
[null,null,null,null,null,null,"2009-07-15",51296]
[null,null,null,null,null,null,"2009-07-16",51918]
[null,null,null,null,null,null,"2009-07-17",52072]
[null,null,null,null,null,null,"2009-07-20",53154]
[null,null,null,null,null,null,"2009-07-21",53233]
[null,null,null,null,null,null,"2009-07-22",53072]
[null,null,null,null,null,null,"2009-07-23",54249]
[null,null,null,null,null,null,"2009-07-24",54457]
[null,null,null,null,null,null,"2009-07-27",54548]
[null,null,null,null,null,null,"2009-07-28",54471]
[null,null,null,null,null,null,"2009-07-29",53734]
[null,null,null,null,null,null,"2009-07-30",54478]
[null,null,null,null,null,null,"2009-07-31",54765]
[null,null,null,null,null,null,"2009-08-03",55997]
[null,null,null,null,null,null,"2009-08-04",56038]
[null,null,null,null,null,null,"2009-08-05",56384]
[null,null,null,null,null,null,"2009-08-06",55754]
[null,null,null,null,null,null,"2009-08-07",56329]
[null,null,null,null,null,null,"2009-08-10",56830]
[null,null,null,null,null,null,"2009-08-11",55761]
[null,null,null,null,null,null,"2009-08-12",56588]
[null,null,null,null,null,null,"2009-08-13",57047]
[null,null,null,null,null,null,"2009-08-14",56638]
[null,null,null,null,null,null,"2009-08-17",55218]
[null,null,null,null,null,null,"2009-08-18",55748]
[null,null,null,null,null,null,"2009-08-19",56156]
[null,null,null,null,null,null,"2009-08-20",56831]
[null,null,null,null,null,null,"2009-08-21",57728]
[null,null,null,null,null,null,"2009-08-24",57775]
[null,null,null,null,null,null,"2009-08-25",57421]
[null,null,null,null,null,null,"2009-08-26",57765]
[null,null,null,null,null,null,"2009-08-27",57703]
[null,null,null,null,null,null,"2009-08-28",57700]
[null,null,null,null,null,null,"2009-08-31",56488]
[null,null,null,null,null,null,"2009-09-01",55814]
[null,null,null,null,null,null,"2009-09-02",55385]
[null,null,null,null,null,null,"2009-09-03",55707]
[null,null,null,null,null,null,"2009-09-04",56652]
[null,null,null,null,null,null,"2009-09-07"]
[null,null,null,null,null,null,"2009-09-08",57854]
[null,null,null,null,null,null,"2009-09-09",57909]
[null,null,null,null,null,null,"2009-09-10",58535]
[null,null,null,null,null,null,"2009-09-11",58366]
[null,null,null,null,null,null,"2009-09-14",58867]
[null,null,null,null,null,null,"2009-09-15",59263]
[null,null,null,null,null,null,"2009-09-16",60410]
[null,null,null,null,null,null,"2009-09-17",60236]
[null,null,null,null,null,null,"2009-09-18",60703]
[null,null,null,null,null,null,"2009-09-21",60928]
[null,null,null,null,null,null,"2009-09-22",61493]
[null,null,null,null,null,null,"2009-09-23",60496]
[null,null,null,null,null,null,"2009-09-24",60046]
[null,null,null,null,null,null,"2009-09-25",60355]
[null,null,null,null,null,null,"2009-09-28",61316]
[null,null,null,null,null,null,"2009-09-29",61235]
[null,null,null,null,null,null,"2009-09-30",61517]
[null,null,null,null,null,null,"2009-10-01",60459]
[null,null,null,null,null,null,"2009-10-02",61171]
[null,null,null,null,null,null,"2009-10-05",62369]
[null,null,null,null,null,null,"2009-10-06",62670]
[null,null,null,null,null,null,"2009-10-07",62638]
[null,null,null,null,null,null,"2009-10-08",63759]
[null,null,null,null,null,null,"2009-10-09",64071]
[null,null,null,null,null,null,"2009-10-12"]
[null,null,null,null,null,null,"2009-10-13",64645]
[null,null,null,null,null,null,"2009-10-14",66201]
[null,null,null,null,null,null,"2009-10-15",66703]
[null,null,null,null,null,null,"2009-10-16",66200]
[null,null,null,null,null,null,"2009-10-19",67239]
[null,null,null,null,null,null,"2009-10-20",65303]
[null,null,null,null,null,null,"2009-10-21",65485]
[null,null,null,null,null,null,"2009-10-22",66134]
[null,null,null,null,null,null,"2009-10-23",65058]
[null,null,null,null,null,null,"2009-10-26",65085]
[null,null,null,null,null,null,"2009-10-27",63161]
[null,null,null,null,null,null,"2009-10-28",60162]
[null,null,null,null,null,null,"2009-10-29",63720]
[null,null,null,null,null,null,"2009-10-30",61545]
[null,null,null,null,null,null,"2009-11-02"]
[null,null,null,null,null,null,"2009-11-03",62643]
[null,null,null,null,null,null,"2009-11-04",63912]
[null,null,null,null,null,null,"2009-11-05",64815]
[null,null,null,null,null,null,"2009-11-06",64466]
[null,null,null,null,null,null,"2009-11-09",66214]
[null,null,null,null,null,null,"2009-11-10",66303]
[null,null,null,null,null,null,"2009-11-11",66431]
[null,null,null,null,null,null,"2009-11-12",64447]
[null,null,null,null,null,null,"2009-11-13",65325]
[null,null,null,null,null,null,"2009-11-16",66627]
[null,null,null,null,null,null,"2009-11-17",67405]
[null,null,null,null,null,null,"2009-11-18",66515]
[null,null,null,null,null,null,"2009-11-19",66327]
[null,null,null,null,null,null,"2009-11-20"]
[null,null,null,null,null,null,"2009-11-23",66809]
[null,null,null,null,null,null,"2009-11-24",67317]
[null,null,null,null,null,null,"2009-11-25",67917]
[null,null,null,null,null,null,"2009-11-26",66391]
[null,null,null,null,null,null,"2009-11-27",67082]
[null,null,null,null,null,null,"2009-11-30",67044]
[null,null,null,null,null,null,"2009-12-01",68408]
[null,null,null,null,null,null,"2009-12-02",68614]
[null,null,null,null,null,null,"2009-12-03",68314]
[null,null,null,null,null,null,"2009-12-04",67603]
[null,null,null,null,null,null,"2009-12-07",68512]
[null,null,null,null,null,null,"2009-12-08",67728]
[null,null,null,null,null,null,"2009-12-09",68011]
[null,null,null,null,null,null,"2009-12-10",68728]
[null,null,null,null,null,null,"2009-12-11",69267]
[null,null,null,null,null,null,"2009-12-14",69349]
[null,null,null,null,null,null,"2009-12-15",69310]
[null,null,null,null,null,null,"2009-12-16",68622]
[null,null,null,null,null,null,"2009-12-17",67067]
[null,null,null,null,null,null,"2009-12-18",66794]
[null,null,null,null,null,null,"2009-12-21",65925]
[null,null,null,null,null,null,"2009-12-22",67417]
[null,null,null,null,null,null,"2009-12-23",67588]
[null,null,null,null,null,null,"2009-12-24"]
[null,null,null,null,null,null,"2009-12-25"]
[null,null,null,null,null,null,"2009-12-28",67901]
[null,null,null,null,null,null,"2009-12-29",68296]
[null,null,null,null,null,null,"2009-12-30",68588]
[null,null,null,null,null,null,"2009-12-31"]
[null,null,null,null,null,null,"2010-01-01"]
[null,null,null,null,null,null,"2010-01-04",70045]
[null,null,null,null,null,null,"2010-01-05",70239]
[null,null,null,null,null,null,"2010-01-06",70729]
[null,null,null,null,null,null,"2010-01-07",70451]
[null,null,null,null,null,null,"2010-01-08",70262]
[null,null,null,null,null,null,"2010-01-11",70433]
[null,null,null,null,null,null,"2010-01-12",70075]
[null,null,null,null,null,null,"2010-01-13",70385]
[null,null,null,null,null,null,"2010-01-14",69801]
[null,null,null,null,null,null,"2010-01-15",68978]
[null,null,null,null,null,null,"2010-01-18",69400]
[null,null,null,null,null,null,"2010-01-19",69908]
[null,null,null,null,null,null,"2010-01-20",68200]
[null,null,null,null,null,null,"2010-01-21",66270]
[null,null,null,null,null,null,"2010-01-22",66220]
[null,null,null,null,null,null,"2010-01-25"]
[null,null,null,null,null,null,"2010-01-26",65523]
[null,null,null,null,null,null,"2010-01-27",65069]
[null,null,null,null,null,null,"2010-01-28",65587]
[null,null,null,null,null,null,"2010-01-29",65401]
[null,null,null,null,null,null,"2010-02-01",66571]
[null,null,null,null,null,null,"2010-02-02",67163]
[null,null,null,null,null,null,"2010-02-03",67108]
[null,null,null,null,null,null,"2010-02-04",63934]
[null,null,null,null,null,null,"2010-02-05",62762]
[null,null,null,null,null,null,"2010-02-08",63153]
[null,null,null,null,null,null,"2010-02-09",64718]
[null,null,null,null,null,null,"2010-02-10",65051]
[null,null,null,null,null,null,"2010-02-11",66128]
[null,null,null,null,null,null,"2010-02-12",65854]
[null,null,null,null,null,null,"2010-02-15"]
[null,null,null,null,null,null,"2010-02-16"]
[null,null,null,null,null,null,"2010-02-17",67284]
[null,null,null,null,null,null,"2010-02-18",67836]
[null,null,null,null,null,null,"2010-02-19",67597]
[null,null,null,null,null,null,"2010-02-22",67184]
[null,null,null,null,null,null,"2010-02-23",66108]
[null,null,null,null,null,null,"2010-02-24",65794]
[null,null,null,null,null,null,"2010-02-25",66121]
[null,null,null,null,null,null,"2010-02-26",66503]
[null,null,null,null,null,null,"2010-03-01",67227]
[null,null,null,null,null,null,"2010-03-02",67779]
[null,null,null,null,null,null,"2010-03-03",67641]
[null,null,null,null,null,null,"2010-03-04",67814]
[null,null,null,null,null,null,"2010-03-05",68846]
[null,null,null,null,null,null,"2010-03-08",68575]
[null,null,null,null,null,null,"2010-03-09",69576]
[null,null,null,null,null,null,"2010-03-10",69979]
[null,null,null,null,null,null,"2010-03-11",69884]
[null,null,null,null,null,null,"2010-03-12",69341]
[null,null,null,null,null,null,"2010-03-15",69023]
[null,null,null,null,null,null,"2010-03-16",69942]
[null,null,null,null,null,null,"2010-03-17",69723]
[null,null,null,null,null,null,"2010-03-18",69697]
[null,null,null,null,null,null,"2010-03-19",68828]
[null,null,null,null,null,null,"2010-03-22",69041]
[null,null,null,null,null,null,"2010-03-23",69386]
[null,null,null,null,null,null,"2010-03-24",68913]
[null,null,null,null,null,null,"2010-03-25",68441]
[null,null,null,null,null,null,"2010-03-26",68682]
[null,null,null,null,null,null,"2010-03-29",69939]
[null,null,null,null,null,null,"2010-03-30",69959]
[null,null,null,null,null,null,"2010-03-31",70371]
[null,null,null,null,null,null,"2010-04-01",71136]
[null,null,null,null,null,null,"2010-04-02"]
[null,null,null,null,null,null,"2010-04-05",71289]
[null,null,null,null,null,null,"2010-04-06",71095]
[null,null,null,null,null,null,"2010-04-07",70792]
[null,null,null,null,null,null,"2010-04-08",71784]
[null,null,null,null,null,null,"2010-04-09",71417]
[null,null,null,null,null,null,"2010-04-12",70614]
[null,null,null,null,null,null,"2010-04-13",70792]
[null,null,null,null,null,null,"2010-04-14",71034]
[null,null,null,null,null,null,"2010-04-15",70524]
[null,null,null,null,null,null,"2010-04-16",69421]
[null,null,null,null,null,null,"2010-04-19",69097]
[null,null,null,null,null,null,"2010-04-20",69318]
[null,null,null,null,null,null,"2010-04-21"]
[null,null,null,null,null,null,"2010-04-22",69386]
[null,null,null,null,null,null,"2010-04-23",69509]
[null,null,null,null,null,null,"2010-04-26",68871]
[null,null,null,null,null,null,"2010-04-27",66511]
[null,null,null,null,null,null,"2010-04-28",66655]
[null,null,null,null,null,null,"2010-04-29",67978]
[null,null,null,null,null,null,"2010-04-30",67529]
[null,null,null,null,null,null,"2010-05-03",67119]
[null,null,null,null,null,null,"2010-05-04",64869]
[null,null,null,null,null,null,"2010-05-05",64914]
[null,null,null,null,null,null,"2010-05-06",63414]
[null,null,null,null,null,null,"2010-05-07",62870]
[null,null,null,null,null,null,"2010-05-10",65452]
[null,null,null,null,null,null,"2010-05-11",64424]
[null,null,null,null,null,null,"2010-05-12",65223]
[null,null,null,null,null,null,"2010-05-13",64788]
[null,null,null,null,null,null,"2010-05-14",63412]
[null,null,null,null,null,null,"2010-05-17",62866]
[null,null,null,null,null,null,"2010-05-18",60841]
[null,null,null,null,null,null,"2010-05-19",59689]
[null,null,null,null,null,null,"2010-05-20",58192]
[null,null,null,null,null,null,"2010-05-21",60259]
[null,null,null,null,null,null,"2010-05-24",59915]
[null,null,null,null,null,null,"2010-05-25",59184]
[null,null,null,null,null,null,"2010-05-26",60190]
[null,null,null,null,null,null,"2010-05-27",62091]
[null,null,null,null,null,null,"2010-05-28",61946]
[null,null,null,null,null,null,"2010-05-31",63046]
[null,null,null,null,null,null,"2010-06-01",61840]
[null,null,null,null,null,null,"2010-06-02",62942]
[null,null,null,null,null,null,"2010-06-03"]
[null,null,null,null,null,null,"2010-06-04",61675]
[null,null,null,null,null,null,"2010-06-07",61182]
[null,null,null,null,null,null,"2010-06-08",61793]
[null,null,null,null,null,null,"2010-06-09",61478]
[null,null,null,null,null,null,"2010-06-10",63048]
[null,null,null,null,null,null,"2010-06-11",63605]
[null,null,null,null,null,null,"2010-06-14",63532]
[null,null,null,null,null,null,"2010-06-15",64442]
[null,null,null,null,null,null,"2010-06-16",64750]
[null,null,null,null,null,null,"2010-06-17",64540]
[null,null,null,null,null,null,"2010-06-18",64437]
[null,null,null,null,null,null,"2010-06-21",64829]
[null,null,null,null,null,null,"2010-06-22",64810]
[null,null,null,null,null,null,"2010-06-23",65160]
[null,null,null,null,null,null,"2010-06-24",63936]
[null,null,null,null,null,null,"2010-06-25",64823]
[null,null,null,null,null,null,"2010-06-28",64225]
[null,null,null,null,null,null,"2010-06-29",61977]
[null,null,null,null,null,null,"2010-06-30",60935]
[null,null,null,null,null,null,"2010-07-01",61236]
[null,null,null,null,null,null,"2010-07-02",61429]
[null,null,null,null,null,null,"2010-07-05",60865]
[null,null,null,null,null,null,"2010-07-06",62064]
[null,null,null,null,null,null,"2010-07-07",63283]
[null,null,null,null,null,null,"2010-07-08",63476]
[null,null,null,null,null,null,"2010-07-09"]
[null,null,null,null,null,null,"2010-07-12",62960]
[null,null,null,null,null,null,"2010-07-13",63685]
[null,null,null,null,null,null,"2010-07-14",63479]
[null,null,null,null,null,null,"2010-07-15",63489]
[null,null,null,null,null,null,"2010-07-16",62339]
[null,null,null,null,null,null,"2010-07-19",63297]
[null,null,null,null,null,null,"2010-07-20",64462]
[null,null,null,null,null,null,"2010-07-21",64476]
[null,null,null,null,null,null,"2010-07-22",65748]
[null,null,null,null,null,null,"2010-07-23",66322]
[null,null,null,null,null,null,"2010-07-26",66443]
[null,null,null,null,null,null,"2010-07-27",66674]
[null,null,null,null,null,null,"2010-07-28",66808]
[null,null,null,null,null,null,"2010-07-29",66953]
[null,null,null,null,null,null,"2010-07-30",67515]
[null,null,null,null,null,null,"2010-08-02",68517]
[null,null,null,null,null,null,"2010-08-03",67997]
[null,null,null,null,null,null,"2010-08-04",68272]
[null,null,null,null,null,null,"2010-08-05",68411]
[null,null,null,null,null,null,"2010-08-06",68094]
[null,null,null,null,null,null,"2010-08-09",67862]
[null,null,null,null,null,null,"2010-08-10",67223]
[null,null,null,null,null,null,"2010-08-11",65790]
[null,null,null,null,null,null,"2010-08-12",65966]
[null,null,null,null,null,null,"2010-08-13",66264]
[null,null,null,null,null,null,"2010-08-16",66701]
[null,null,null,null,null,null,"2010-08-17",67583]
[null,null,null,null,null,null,"2010-08-18",67638]
[null,null,null,null,null,null,"2010-08-19",66887]
[null,null,null,null,null,null,"2010-08-20",66677]
[null,null,null,null,null,null,"2010-08-23",65981]
[null,null,null,null,null,null,"2010-08-24",65156]
[null,null,null,null,null,null,"2010-08-25",64803]
[null,null,null,null,null,null,"2010-08-26",63867]
[null,null,null,null,null,null,"2010-08-27",65585]
[null,null,null,null,null,null,"2010-08-30",64260]
[null,null,null,null,null,null,"2010-08-31",65145]
[null,null,null,null,null,null,"2010-09-01",67072]
[null,null,null,null,null,null,"2010-09-02",66808]
[null,null,null,null,null,null,"2010-09-03",66678]
[null,null,null,null,null,null,"2010-09-06",66747]
[null,null,null,null,null,null,"2010-09-07"]
[null,null,null,null,null,null,"2010-09-08",66407]
[null,null,null,null,null,null,"2010-09-09",66624]
[null,null,null,null,null,null,"2010-09-10",66806]
[null,null,null,null,null,null,"2010-09-13",68030]
[null,null,null,null,null,null,"2010-09-14",67691]
[null,null,null,null,null,null,"2010-09-15",68106]
[null,null,null,null,null,null,"2010-09-16",67662]
[null,null,null,null,null,null,"2010-09-17",67089]
[null,null,null,null,null,null,"2010-09-20",68190]
[null,null,null,null,null,null,"2010-09-21",67719]
[null,null,null,null,null,null,"2010-09-22",68325]
[null,null,null,null,null,null,"2010-09-23",68794]
[null,null,null,null,null,null,"2010-09-24",68196]
[null,null,null,null,null,null,"2010-09-27",68815]
[null,null,null,null,null,null,"2010-09-28",69227]
[null,null,null,null,null,null,"2010-09-29",69228]
[null,null,null,null,null,null,"2010-09-30",69429]
[null,null,null,null,null,null,"2010-10-01",70229]
[null,null,null,null,null,null,"2010-10-04",70384]
[null,null,null,null,null,null,"2010-10-05",71283]
[null,null,null,null,null,null,"2010-10-06",70541]
[null,null,null,null,null,null,"2010-10-07",69918]
[null,null,null,null,null,null,"2010-10-08",70808]
[null,null,null,null,null,null,"2010-10-11",70946]
[null,null,null,null,null,null,"2010-10-12"]
[null,null,null,null,null,null,"2010-10-13",71674]
[null,null,null,null,null,null,"2010-10-14",71692]
[null,null,null,null,null,null,"2010-10-15",71830]
[null,null,null,null,null,null,"2010-10-18",71735]
[null,null,null,null,null,null,"2010-10-19",69863]
[null,null,null,null,null,null,"2010-10-20",70404]
[null,null,null,null,null,null,"2010-10-21",69652]
[null,null,null,null,null,null,"2010-10-22",69529]
[null,null,null,null,null,null,"2010-10-25",69580]
[null,null,null,null,null,null,"2010-10-26",70740]
[null,null,null,null,null,null,"2010-10-27",70568]
[null,null,null,null,null,null,"2010-10-28",70320]
[null,null,null,null,null,null,"2010-10-29",70673]
[null,null,null,null,null,null,"2010-11-01",71560]
[null,null,null,null,null,null,"2010-11-02"]
[null,null,null,null,null,null,"2010-11-03",71904]
[null,null,null,null,null,null,"2010-11-04",72995]
[null,null,null,null,null,null,"2010-11-05",72606]
[null,null,null,null,null,null,"2010-11-08",72657]
[null,null,null,null,null,null,"2010-11-09",71679]
[null,null,null,null,null,null,"2010-11-10",71638]
[null,null,null,null,null,null,"2010-11-11",71195]
[null,null,null,null,null,null,"2010-11-12",70367]
[null,null,null,null,null,null,"2010-11-15"]
[null,null,null,null,null,null,"2010-11-16",69192]
[null,null,null,null,null,null,"2010-11-17",69708]
[null,null,null,null,null,null,"2010-11-18",70781]
[null,null,null,null,null,null,"2010-11-19",70897]
[null,null,null,null,null,null,"2010-11-22",69632]
[null,null,null,null,null,null,"2010-11-23",67952]
[null,null,null,null,null,null,"2010-11-24",69629]
[null,null,null,null,null,null,"2010-11-25",69361]
[null,null,null,null,null,null,"2010-11-26",68226]
[null,null,null,null,null,null,"2010-11-29",67908]
[null,null,null,null,null,null,"2010-11-30",67705]
[null,null,null,null,null,null,"2010-12-01",69345]
[null,null,null,null,null,null,"2010-12-02",69527]
[null,null,null,null,null,null,"2010-12-03",69766]
[null,null,null,null,null,null,"2010-12-06",69551]
[null,null,null,null,null,null,"2010-12-07",69337]
[null,null,null,null,null,null,"2010-12-08",68174]
[null,null,null,null,null,null,"2010-12-09",67879]
[null,null,null,null,null,null,"2010-12-10",68341]
[null,null,null,null,null,null,"2010-12-13",69126]
[null,null,null,null,null,null,"2010-12-14",68742]
[null,null,null,null,null,null,"2010-12-15",67870]
[null,null,null,null,null,null,"2010-12-16",67306]
[null,null,null,null,null,null,"2010-12-17",67981]
[null,null,null,null,null,null,"2010-12-20",67263]
[null,null,null,null,null,null,"2010-12-21",68214]
[null,null,null,null,null,null,"2010-12-22",68470]
[null,null,null,null,null,null,"2010-12-23",68485]
[null,null,null,null,null,null,"2010-12-24"]
[null,null,null,null,null,null,"2010-12-27",67803]
[null,null,null,null,null,null,"2010-12-28",68040]
[null,null,null,null,null,null,"2010-12-29",68952]
[null,null,null,null,null,null,"2010-12-30",69304]
[null,null,null,null,null,null,"2010-12-31"]
[null,null,null,null,null,null,"2011-01-03",69962]
[null,null,null,null,null,null,"2011-01-04",70317]
[null,null,null,null,null,null,"2011-01-05",71091]
[null,null,null,null,null,null,"2011-01-06",70578]
[null,null,null,null,null,null,"2011-01-07",70057]
[null,null,null,null,null,null,"2011-01-10",70127]
[null,null,null,null,null,null,"2011-01-11",70423]
[null,null,null,null,null,null,"2011-01-12",71632]
[null,null,null,null,null,null,"2011-01-13",70721]
[null,null,null,null,null,null,"2011-01-14",70940]
[null,null,null,null,null,null,"2011-01-17",70609]
[null,null,null,null,null,null,"2011-01-18",70919]
[null,null,null,null,null,null,"2011-01-19",70058]
[null,null,null,null,null,null,"2011-01-20",69561]
[null,null,null,null,null,null,"2011-01-21",69133]
[null,null,null,null,null,null,"2011-01-24",69426]
[null,null,null,null,null,null,"2011-01-25"]
[null,null,null,null,null,null,"2011-01-26",68709]
[null,null,null,null,null,null,"2011-01-27",68050]
[null,null,null,null,null,null,"2011-01-28",66697]
[null,null,null,null,null,null,"2011-01-31",66574]
[null,null,null,null,null,null,"2011-02-01",67847]
[null,null,null,null,null,null,"2011-02-02",66688]
[null,null,null,null,null,null,"2011-02-03",66764]
[null,null,null,null,null,null,"2011-02-04",65269]
[null,null,null,null,null,null,"2011-02-07",65362]
[null,null,null,null,null,null,"2011-02-08",65771]
[null,null,null,null,null,null,"2011-02-09",64217]
[null,null,null,null,null,null,"2011-02-10",64577]
[null,null,null,null,null,null,"2011-02-11",65755]
[null,null,null,null,null,null,"2011-02-14",66557]
[null,null,null,null,null,null,"2011-02-15",66341]
[null,null,null,null,null,null,"2011-02-16",67570]
[null,null,null,null,null,null,"2011-02-17",67684]
[null,null,null,null,null,null,"2011-02-18",68066]
[null,null,null,null,null,null,"2011-02-21",67258]
[null,null,null,null,null,null,"2011-02-22",66439]
[null,null,null,null,null,null,"2011-02-23",66910]
[null,null,null,null,null,null,"2011-02-24",66948]
[null,null,null,null,null,null,"2011-02-25",66902]
[null,null,null,null,null,null,"2011-02-28",67383]
[null,null,null,null,null,null,"2011-03-01",66242]
[null,null,null,null,null,null,"2011-03-02",67281]
[null,null,null,null,null,null,"2011-03-03",68145]
[null,null,null,null,null,null,"2011-03-04",68012]
[null,null,null,null,null,null,"2011-03-07"]
[null,null,null,null,null,null,"2011-03-08"]
[null,null,null,null,null,null,"2011-03-09",67263]
[null,null,null,null,null,null,"2011-03-10",66040]
[null,null,null,null,null,null,"2011-03-11",66684]
[null,null,null,null,null,null,"2011-03-14",67169]
[null,null,null,null,null,null,"2011-03-15",67005]
[null,null,null,null,null,null,"2011-03-16",66002]
[null,null,null,null,null,null,"2011-03-17",66215]
[null,null,null,null,null,null,"2011-03-18",66879]
[null,null,null,null,null,null,"2011-03-21",66689]
[null,null,null,null,null,null,"2011-03-22",67578]
[null,null,null,null,null,null,"2011-03-23",67795]
[null,null,null,null,null,null,"2011-03-24",67532]
[null,null,null,null,null,null,"2011-03-25",67765]
[null,null,null,null,null,null,"2011-03-28",67192]
[null,null,null,null,null,null,"2011-03-29",67418]
[null,null,null,null,null,null,"2011-03-30",67997]
[null,null,null,null,null,null,"2011-03-31",68586]
[null,null,null,null,null,null,"2011-04-01",69268]
[null,null,null,null,null,null,"2011-04-04",69703]
[null,null,null,null,null,null,"2011-04-05",69837]
[null,null,null,null,null,null,"2011-04-06",69036]
[null,null,null,null,null,null,"2011-04-07",69176]
[null,null,null,null,null,null,"2011-04-08",68718]
[null,null,null,null,null,null,"2011-04-11",68164]
[null,null,null,null,null,null,"2011-04-12",66896]
[null,null,null,null,null,null,"2011-04-13",66486]
[null,null,null,null,null,null,"2011-04-14",66278]
[null,null,null,null,null,null,"2011-04-15",66684]
[null,null,null,null,null,null,"2011-04-18",65415]
[null,null,null,null,null,null,"2011-04-19",66158]
[null,null,null,null,null,null,"2011-04-20",67058]
[null,null,null,null,null,null,"2011-04-21"]
[null,null,null,null,null,null,"2011-04-22"]
[null,null,null,null,null,null,"2011-04-25",66972]
[null,null,null,null,null,null,"2011-04-26",67144]
[null,null,null,null,null,null,"2011-04-27",66264]
[null,null,null,null,null,null,"2011-04-28",65673]
[null,null,null,null,null,null,"2011-04-29",66132]
[null,null,null,null,null,null,"2011-05-02",65462]
[null,null,null,null,null,null,"2011-05-03",64318]
[null,null,null,null,null,null,"2011-05-04",63615]
[null,null,null,null,null,null,"2011-05-05",63407]
[null,null,null,null,null,null,"2011-05-06",64417]
[null,null,null,null,null,null,"2011-05-09",64621]
[null,null,null,null,null,null,"2011-05-10",64876]
[null,null,null,null,null,null,"2011-05-11",63775]
[null,null,null,null,null,null,"2011-05-12",64003]
[null,null,null,null,null,null,"2011-05-13",63235]
[null,null,null,null,null,null,"2011-05-16",62829]
[null,null,null,null,null,null,"2011-05-17",63673]
[null,null,null,null,null,null,"2011-05-18",62840]
[null,null,null,null,null,null,"2011-05-19",62367]
[null,null,null,null,null,null,"2011-05-20",62596]
[null,null,null,null,null,null,"2011-05-23",62345]
[null,null,null,null,null,null,"2011-05-24",63336]
[null,null,null,null,null,null,"2011-05-25",63388]
[null,null,null,null,null,null,"2011-05-26",64098]
[null,null,null,null,null,null,"2011-05-27",64294]
[null,null,null,null,null,null,"2011-05-30",63953]
[null,null,null,null,null,null,"2011-05-31",64620]
[null,null,null,null,null,null,"2011-06-01",63411]
[null,null,null,null,null,null,"2011-06-02",64218]
[null,null,null,null,null,null,"2011-06-03",64340]
[null,null,null,null,null,null,"2011-06-06",63067]
[null,null,null,null,null,null,"2011-06-07",63217]
[null,null,null,null,null,null,"2011-06-08",63032]
[null,null,null,null,null,null,"2011-06-09",63468]
[null,null,null,null,null,null,"2011-06-10",62697]
[null,null,null,null,null,null,"2011-06-13",62022]
[null,null,null,null,null,null,"2011-06-14",62204]
[null,null,null,null,null,null,"2011-06-15",61603]
[null,null,null,null,null,null,"2011-06-16",60880]
[null,null,null,null,null,null,"2011-06-17",61059]
[null,null,null,null,null,null,"2011-06-20",61168]
[null,null,null,null,null,null,"2011-06-21",61423]
[null,null,null,null,null,null,"2011-06-22",61194]
[null,null,null,null,null,null,"2011-06-23"]
[null,null,null,null,null,null,"2011-06-24",61016]
[null,null,null,null,null,null,"2011-06-27",61216]
[null,null,null,null,null,null,"2011-06-28",62303]
[null,null,null,null,null,null,"2011-06-29",62333]
[null,null,null,null,null,null,"2011-06-30",62403]
[null,null,null,null,null,null,"2011-07-01",63394]
[null,null,null,null,null,null,"2011-07-04",63891]
[null,null,null,null,null,null,"2011-07-05",63038]
[null,null,null,null,null,null,"2011-07-06",62565]
[null,null,null,null,null,null,"2011-07-07",62207]
[null,null,null,null,null,null,"2011-07-08",61513]
[null,null,null,null,null,null,"2011-07-11",60223]
[null,null,null,null,null,null,"2011-07-12",59704]
[null,null,null,null,null,null,"2011-07-13",60669]
[null,null,null,null,null,null,"2011-07-14",59679]
[null,null,null,null,null,null,"2011-07-15",59478]
[null,null,null,null,null,null,"2011-07-18",58837]
[null,null,null,null,null,null,"2011-07-19",59082]
[null,null,null,null,null,null,"2011-07-20",59119]
[null,null,null,null,null,null,"2011-07-21",60262]
[null,null,null,null,null,null,"2011-07-22",60270]
[null,null,null,null,null,null,"2011-07-25",59970]
[null,null,null,null,null,null,"2011-07-26",59339]
[null,null,null,null,null,null,"2011-07-27",58288]
[null,null,null,null,null,null,"2011-07-28",58708]
[null,null,null,null,null,null,"2011-07-29",58823]
[null,null,null,null,null,null,"2011-08-01",58535]
[null,null,null,null,null,null,"2011-08-02",57310]
[null,null,null,null,null,null,"2011-08-03",56017]
[null,null,null,null,null,null,"2011-08-04",52811]
[null,null,null,null,null,null,"2011-08-05",52949]
[null,null,null,null,null,null,"2011-08-08",48668]
[null,null,null,null,null,null,"2011-08-09",51150]
[null,null,null,null,null,null,"2011-08-10",51395]
[null,null,null,null,null,null,"2011-08-11",53343]
[null,null,null,null,null,null,"2011-08-12",53473]
[null,null,null,null,null,null,"2011-08-15",54651]
[null,null,null,null,null,null,"2011-08-16",54323]
[null,null,null,null,null,null,"2011-08-17",55073]
[null,null,null,null,null,null,"2011-08-18",53134]
[null,null,null,null,null,null,"2011-08-19",52447]
[null,null,null,null,null,null,"2011-08-22",52440]
[null,null,null,null,null,null,"2011-08-23",53786]
[null,null,null,null,null,null,"2011-08-24",53795]
[null,null,null,null,null,null,"2011-08-25",52953]
[null,null,null,null,null,null,"2011-08-26",53350]
[null,null,null,null,null,null,"2011-08-29",54860]
[null,null,null,null,null,null,"2011-08-30",55385]
[null,null,null,null,null,null,"2011-08-31",56495]
[null,null,null,null,null,null,"2011-09-01",58118]
[null,null,null,null,null,null,"2011-09-02",56531]
[null,null,null,null,null,null,"2011-09-05",54998]
[null,null,null,null,null,null,"2011-09-06",56607]
[null,null,null,null,null,null,"2011-09-07"]
[null,null,null,null,null,null,"2011-09-08",57623]
[null,null,null,null,null,null,"2011-09-09",55778]
[null,null,null,null,null,null,"2011-09-12",55685]
[null,null,null,null,null,null,"2011-09-13",55543]
[null,null,null,null,null,null,"2011-09-14",56286]
[null,null,null,null,null,null,"2011-09-15",56381]
[null,null,null,null,null,null,"2011-09-16",57210]
[null,null,null,null,null,null,"2011-09-19",57102]
[null,null,null,null,null,null,"2011-09-20",56378]
[null,null,null,null,null,null,"2011-09-21",55981]
[null,null,null,null,null,null,"2011-09-22",53280]
[null,null,null,null,null,null,"2011-09-23",53230]
[null,null,null,null,null,null,"2011-09-26",53747]
[null,null,null,null,null,null,"2011-09-27",53920]
[null,null,null,null,null,null,"2011-09-28",53270]
[null,null,null,null,null,null,"2011-09-29",53384]
[null,null,null,null,null,null,"2011-09-30",52324]
[null,null,null,null,null,null,"2011-10-03",50791]
[null,null,null,null,null,null,"2011-10-04",50686]
[null,null,null,null,null,null,"2011-10-05",51013]
[null,null,null,null,null,null,"2011-10-06",52290]
[null,null,null,null,null,null,"2011-10-07",51243]
[null,null,null,null,null,null,"2011-10-10",53273]
[null,null,null,null,null,null,"2011-10-11",53838]
[null,null,null,null,null,null,"2011-10-12"]
[null,null,null,null,null,null,"2011-10-13",54601]
[null,null,null,null,null,null,"2011-10-14",55030]
[null,null,null,null,null,null,"2011-10-17",53911]
[null,null,null,null,null,null,"2011-10-18",55031]
[null,null,null,null,null,null,"2011-10-19",54966]
[null,null,null,null,null,null,"2011-10-20",54009]
[null,null,null,null,null,null,"2011-10-21",55255]
[null,null,null,null,null,null,"2011-10-24",56891]
[null,null,null,null,null,null,"2011-10-25",56285]
[null,null,null,null,null,null,"2011-10-26",57143]
[null,null,null,null,null,null,"2011-10-27",59270]
[null,null,null,null,null,null,"2011-10-28",59513]
[null,null,null,null,null,null,"2011-10-31",58338]
[null,null,null,null,null,null,"2011-11-01",57322]
[null,null,null,null,null,null,"2011-11-02"]
[null,null,null,null,null,null,"2011-11-03",58196]
[null,null,null,null,null,null,"2011-11-04",58669]
[null,null,null,null,null,null,"2011-11-07",59198]
[null,null,null,null,null,null,"2011-11-08",59026]
[null,null,null,null,null,null,"2011-11-09",57549]
[null,null,null,null,null,null,"2011-11-10",57321]
[null,null,null,null,null,null,"2011-11-11",58546]
[null,null,null,null,null,null,"2011-11-14",58258]
[null,null,null,null,null,null,"2011-11-15"]
[null,null,null,null,null,null,"2011-11-16",58559]
[null,null,null,null,null,null,"2011-11-17",56988]
[null,null,null,null,null,null,"2011-11-18",56731]
[null,null,null,null,null,null,"2011-11-21",56284]
[null,null,null,null,null,null,"2011-11-22",55878]
[null,null,null,null,null,null,"2011-11-23",54972]
[null,null,null,null,null,null,"2011-11-24",55279]
[null,null,null,null,null,null,"2011-11-25",54894]
[null,null,null,null,null,null,"2011-11-28",56017]
[null,null,null,null,null,null,"2011-11-29",55299]
[null,null,null,null,null,null,"2011-11-30",56874]
[null,null,null,null,null,null,"2011-12-01",58143]
[null,null,null,null,null,null,"2011-12-02",57885]
[null,null,null,null,null,null,"2011-12-05",58910]
[null,null,null,null,null,null,"2011-12-06",59536]
[null,null,null,null,null,null,"2011-12-07",58662]
[null,null,null,null,null,null,"2011-12-08",57455]
[null,null,null,null,null,null,"2011-12-09",58236]
[null,null,null,null,null,null,"2011-12-12",57346]
[null,null,null,null,null,null,"2011-12-13",57494]
[null,null,null,null,null,null,"2011-12-14",56646]
[null,null,null,null,null,null,"2011-12-15",56331]
[null,null,null,null,null,null,"2011-12-16",56096]
[null,null,null,null,null,null,"2011-12-19",55298]
[null,null,null,null,null,null,"2011-12-20",56864]
[null,null,null,null,null,null,"2011-12-21",56653]
[null,null,null,null,null,null,"2011-12-22",57347]
[null,null,null,null,null,null,"2011-12-23",57701]
[null,null,null,null,null,null,"2011-12-26",57669]
[null,null,null,null,null,null,"2011-12-27",58005]
[null,null,null,null,null,null,"2011-12-28",56533]
[null,null,null,null,null,null,"2011-12-29",56754]
[null,null,null,null,null,null,"2011-12-30"]
[null,null,null,null,null,null,"2012-01-02",57829]
[null,null,null,null,null,null,"2012-01-03",59264]
[null,null,null,null,null,null,"2012-01-04",59364]
[null,null,null,null,null,null,"2012-01-05",58546]
[null,null,null,null,null,null,"2012-01-06",58600]
[null,null,null,null,null,null,"2012-01-09",59082]
[null,null,null,null,null,null,"2012-01-10",59805]
[null,null,null,null,null,null,"2012-01-11",59962]
[null,null,null,null,null,null,"2012-01-12",59920]
[null,null,null,null,null,null,"2012-01-13",59146]
[null,null,null,null,null,null,"2012-01-16",59956]
[null,null,null,null,null,null,"2012-01-17",60645]
[null,null,null,null,null,null,"2012-01-18",61722]
[null,null,null,null,null,null,"2012-01-19",61926]
[null,null,null,null,null,null,"2012-01-20",62312]
[null,null,null,null,null,null,"2012-01-23",62386]
[null,null,null,null,null,null,"2012-01-24",62486]
[null,null,null,null,null,null,"2012-01-25"]
[null,null,null,null,null,null,"2012-01-26",62953]
[null,null,null,null,null,null,"2012-01-27",62904]
[null,null,null,null,null,null,"2012-01-30",62770]
[null,null,null,null,null,null,"2012-01-31",63072]
[null,null,null,null,null,null,"2012-02-01",64567]
[null,null,null,null,null,null,"2012-02-02",64593]
[null,null,null,null,null,null,"2012-02-03",65217]
[null,null,null,null,null,null,"2012-02-06",65223]
[null,null,null,null,null,null,"2012-02-07",65917]
[null,null,null,null,null,null,"2012-02-08",65831]
[null,null,null,null,null,null,"2012-02-09",65530]
[null,null,null,null,null,null,"2012-02-10",63997]
[null,null,null,null,null,null,"2012-02-13",65691]
[null,null,null,null,null,null,"2012-02-14",65038]
[null,null,null,null,null,null,"2012-02-15",65368]
[null,null,null,null,null,null,"2012-02-16",66141]
[null,null,null,null,null,null,"2012-02-17",66203]
[null,null,null,null,null,null,"2012-02-20"]
[null,null,null,null,null,null,"2012-02-21"]
[null,null,null,null,null,null,"2012-02-22",66092]
[null,null,null,null,null,null,"2012-02-23",65819]
[null,null,null,null,null,null,"2012-02-24",65942]
[null,null,null,null,null,null,"2012-02-27",65241]
[null,null,null,null,null,null,"2012-02-28",65958]
[null,null,null,null,null,null,"2012-02-29",65811]
[null,null,null,null,null,null,"2012-03-01",66809]
[null,null,null,null,null,null,"2012-03-02",67781]
[null,null,null,null,null,null,"2012-03-05",66964]
[null,null,null,null,null,null,"2012-03-06",65114]
[null,null,null,null,null,null,"2012-03-07",66016]
[null,null,null,null,null,null,"2012-03-08",66908]
[null,null,null,null,null,null,"2012-03-09",66703]
[null,null,null,null,null,null,"2012-03-12",66384]
[null,null,null,null,null,null,"2012-03-13",68394]
[null,null,null,null,null,null,"2012-03-14",68257]
[null,null,null,null,null,null,"2012-03-15",67749]
[null,null,null,null,null,null,"2012-03-16",67684]
[null,null,null,null,null,null,"2012-03-19",67730]
[null,null,null,null,null,null,"2012-03-20",67295]
[null,null,null,null,null,null,"2012-03-21",66860]
[null,null,null,null,null,null,"2012-03-22",65828]
[null,null,null,null,null,null,"2012-03-23",65812]
[null,null,null,null,null,null,"2012-03-26",66684]
[null,null,null,null,null,null,"2012-03-27",66037]
[null,null,null,null,null,null,"2012-03-28",65079]
[null,null,null,null,null,null,"2012-03-29",64871]
[null,null,null,null,null,null,"2012-03-30",64510]
[null,null,null,null,null,null,"2012-04-02",65216]
[null,null,null,null,null,null,"2012-04-03",64284]
[null,null,null,null,null,null,"2012-04-04",63528]
[null,null,null,null,null,null,"2012-04-05",63691]
[null,null,null,null,null,null,"2012-04-06"]
[null,null,null,null,null,null,"2012-04-09",62923]
[null,null,null,null,null,null,"2012-04-10",61738]
[null,null,null,null,null,null,"2012-04-11",61293]
[null,null,null,null,null,null,"2012-04-12",63058]
[null,null,null,null,null,null,"2012-04-13",62105]
[null,null,null,null,null,null,"2012-04-16",61954]
[null,null,null,null,null,null,"2012-04-17",62698]
[null,null,null,null,null,null,"2012-04-18",63010]
[null,null,null,null,null,null,"2012-04-19",62618]
[null,null,null,null,null,null,"2012-04-20",62494]
[null,null,null,null,null,null,"2012-04-23",61539]
[null,null,null,null,null,null,"2012-04-24",61971]
[null,null,null,null,null,null,"2012-04-25",61750]
[null,null,null,null,null,null,"2012-04-26",62198]
[null,null,null,null,null,null,"2012-04-27",61691]
[null,null,null,null,null,null,"2012-04-30",61820]
[null,null,null,null,null,null,"2012-05-01"]
[null,null,null,null,null,null,"2012-05-02",62423]
[null,null,null,null,null,null,"2012-05-03",62104]
[null,null,null,null,null,null,"2012-05-04",60820]
[null,null,null,null,null,null,"2012-05-07",61220]
[null,null,null,null,null,null,"2012-05-08",60365]
[null,null,null,null,null,null,"2012-05-09",59786]
[null,null,null,null,null,null,"2012-05-10",59702]
[null,null,null,null,null,null,"2012-05-11",59445]
[null,null,null,null,null,null,"2012-05-14",57539]
[null,null,null,null,null,null,"2012-05-15",56237]
[null,null,null,null,null,null,"2012-05-16",55887]
[null,null,null,null,null,null,"2012-05-17",54038]
[null,null,null,null,null,null,"2012-05-18",54513]
[null,null,null,null,null,null,"2012-05-21",56590]
[null,null,null,null,null,null,"2012-05-22",55038]
[null,null,null,null,null,null,"2012-05-23",54619]
[null,null,null,null,null,null,"2012-05-24",54063]
[null,null,null,null,null,null,"2012-05-25",54463]
[null,null,null,null,null,null,"2012-05-28",55212]
[null,null,null,null,null,null,"2012-05-29",54633]
[null,null,null,null,null,null,"2012-05-30",53797]
[null,null,null,null,null,null,"2012-05-31",54490]
[null,null,null,null,null,null,"2012-06-01",53402]
[null,null,null,null,null,null,"2012-06-04",53416]
[null,null,null,null,null,null,"2012-06-05",52481]
[null,null,null,null,null,null,"2012-06-06",54156]
[null,null,null,null,null,null,"2012-06-07"]
[null,null,null,null,null,null,"2012-06-08",54429]
[null,null,null,null,null,null,"2012-06-11",54001]
[null,null,null,null,null,null,"2012-06-12",55049]
[null,null,null,null,null,null,"2012-06-13",55650]
[null,null,null,null,null,null,"2012-06-14",55351]
[null,null,null,null,null,null,"2012-06-15",56104]
[null,null,null,null,null,null,"2012-06-18",56195]
[null,null,null,null,null,null,"2012-06-19",57195]
[null,null,null,null,null,null,"2012-06-20",57166]
[null,null,null,null,null,null,"2012-06-21",55505]
[null,null,null,null,null,null,"2012-06-22",55439]
[null,null,null,null,null,null,"2012-06-25",53805]
[null,null,null,null,null,null,"2012-06-26",53836]
[null,null,null,null,null,null,"2012-06-27",53108]
[null,null,null,null,null,null,"2012-06-28",52652]
[null,null,null,null,null,null,"2012-06-29",54354]
[null,null,null,null,null,null,"2012-07-02",54692]
[null,null,null,null,null,null,"2012-07-03",55780]
[null,null,null,null,null,null,"2012-07-04",56076]
[null,null,null,null,null,null,"2012-07-05",56379]
[null,null,null,null,null,null,"2012-07-06",55394]
[null,null,null,null,null,null,"2012-07-09"]
[null,null,null,null,null,null,"2012-07-10",53705]
[null,null,null,null,null,null,"2012-07-11",53569]
[null,null,null,null,null,null,"2012-07-12",53420]
[null,null,null,null,null,null,"2012-07-13",54330]
[null,null,null,null,null,null,"2012-07-16",53401]
[null,null,null,null,null,null,"2012-07-17",53909]
[null,null,null,null,null,null,"2012-07-18",54583]
[null,null,null,null,null,null,"2012-07-19",55346]
[null,null,null,null,null,null,"2012-07-20",54194]
[null,null,null,null,null,null,"2012-07-23",53033]
[null,null,null,null,null,null,"2012-07-24",52638]
[null,null,null,null,null,null,"2012-07-25",52607]
[null,null,null,null,null,null,"2012-07-26",54002]
[null,null,null,null,null,null,"2012-07-27",56553]
[null,null,null,null,null,null,"2012-07-30",57240]
[null,null,null,null,null,null,"2012-07-31",56097]
[null,null,null,null,null,null,"2012-08-01",56291]
[null,null,null,null,null,null,"2012-08-02",55520]
[null,null,null,null,null,null,"2012-08-03",57255]
[null,null,null,null,null,null,"2012-08-06",58344]
[null,null,null,null,null,null,"2012-08-07",57725]
[null,null,null,null,null,null,"2012-08-08",58950]
[null,null,null,null,null,null,"2012-08-09",58797]
[null,null,null,null,null,null,"2012-08-10",59280]
[null,null,null,null,null,null,"2012-08-13",59122]
[null,null,null,null,null,null,"2012-08-14",58082]
[null,null,null,null,null,null,"2012-08-15",58189]
[null,null,null,null,null,null,"2012-08-16",59445]
[null,null,null,null,null,null,"2012-08-17",59082]
[null,null,null,null,null,null,"2012-08-20",59283]
[null,null,null,null,null,null,"2012-08-21",58917]
[null,null,null,null,null,null,"2012-08-22",59380]
[null,null,null,null,null,null,"2012-08-23",58511]
[null,null,null,null,null,null,"2012-08-24",58425]
[null,null,null,null,null,null,"2012-08-27",58111]
[null,null,null,null,null,null,"2012-08-28",58406]
[null,null,null,null,null,null,"2012-08-29",57369]
[null,null,null,null,null,null,"2012-08-30",57256]
[null,null,null,null,null,null,"2012-08-31",57061]
[null,null,null,null,null,null,"2012-09-03",57281]
[null,null,null,null,null,null,"2012-09-04",56233]
[null,null,null,null,null,null,"2012-09-05",56863]
[null,null,null,null,null,null,"2012-09-06",58321]
[null,null,null,null,null,null,"2012-09-07"]
[null,null,null,null,null,null,"2012-09-10",58404]
[null,null,null,null,null,null,"2012-09-11",59422]
[null,null,null,null,null,null,"2012-09-12",59921]
[null,null,null,null,null,null,"2012-09-13",61958]
[null,null,null,null,null,null,"2012-09-14",62105]
[null,null,null,null,null,null,"2012-09-17",61805]
[null,null,null,null,null,null,"2012-09-18",61804]
[null,null,null,null,null,null,"2012-09-19",61651]
[null,null,null,null,null,null,"2012-09-20",61687]
[null,null,null,null,null,null,"2012-09-21",61320]
[null,null,null,null,null,null,"2012-09-24",61909]
[null,null,null,null,null,null,"2012-09-25",60501]
[null,null,null,null,null,null,"2012-09-26",60478]
[null,null,null,null,null,null,"2012-09-27",60239]
[null,null,null,null,null,null,"2012-09-28",59175]
[null,null,null,null,null,null,"2012-10-01",59570]
[null,null,null,null,null,null,"2012-10-02",59222]
[null,null,null,null,null,null,"2012-10-03",58627]
[null,null,null,null,null,null,"2012-10-04",58458]
[null,null,null,null,null,null,"2012-10-05",58571]
[null,null,null,null,null,null,"2012-10-08",59317]
[null,null,null,null,null,null,"2012-10-09",58939]
[null,null,null,null,null,null,"2012-10-10",58456]
[null,null,null,null,null,null,"2012-10-11",59161]
[null,null,null,null,null,null,"2012-10-12"]
[null,null,null,null,null,null,"2012-10-15",59601]
[null,null,null,null,null,null,"2012-10-16",59743]
[null,null,null,null,null,null,"2012-10-17",60087]
[null,null,null,null,null,null,"2012-10-18",59733]
[null,null,null,null,null,null,"2012-10-19",58922]
[null,null,null,null,null,null,"2012-10-22",58700]
[null,null,null,null,null,null,"2012-10-23",57690]
[null,null,null,null,null,null,"2012-10-24",57160]
[null,null,null,null,null,null,"2012-10-25",57836]
[null,null,null,null,null,null,"2012-10-26",57276]
[null,null,null,null,null,null,"2012-10-29",57176]
[null,null,null,null,null,null,"2012-10-30",57683]
[null,null,null,null,null,null,"2012-10-31",57068]
[null,null,null,null,null,null,"2012-11-01",58382]
[null,null,null,null,null,null,"2012-11-02"]
[null,null,null,null,null,null,"2012-11-05",58209]
[null,null,null,null,null,null,"2012-11-06",59458]
[null,null,null,null,null,null,"2012-11-07",58517]
[null,null,null,null,null,null,"2012-11-08",57524]
[null,null,null,null,null,null,"2012-11-09",57357]
[null,null,null,null,null,null,"2012-11-12",57064]
[null,null,null,null,null,null,"2012-11-13",57486]
[null,null,null,null,null,null,"2012-11-14",56279]
[null,null,null,null,null,null,"2012-11-15"]
[null,null,null,null,null,null,"2012-11-16",55402]
[null,null,null,null,null,null,"2012-11-19",56450]
[null,null,null,null,null,null,"2012-11-20"]
[null,null,null,null,null,null,"2012-11-21",56242]
[null,null,null,null,null,null,"2012-11-22",56436]
[null,null,null,null,null,null,"2012-11-23",57574]
[null,null,null,null,null,null,"2012-11-26",56737]
[null,null,null,null,null,null,"2012-11-27",56248]
[null,null,null,null,null,null,"2012-11-28",56539]
[null,null,null,null,null,null,"2012-11-29",57852]
[null,null,null,null,null,null,"2012-11-30",57474]
[null,null,null,null,null,null,"2012-12-03",58202]
[null,null,null,null,null,null,"2012-12-04",57563]
[null,null,null,null,null,null,"2012-12-05",57678]
[null,null,null,null,null,null,"2012-12-06",57656]
[null,null,null,null,null,null,"2012-12-07",58487]
[null,null,null,null,null,null,"2012-12-10",59248]
[null,null,null,null,null,null,"2012-12-11",59623]
[null,null,null,null,null,null,"2012-12-12",59474]
[null,null,null,null,null,null,"2012-12-13",59316]
[null,null,null,null,null,null,"2012-12-14",59604]
[null,null,null,null,null,null,"2012-12-17",59566]
[null,null,null,null,null,null,"2012-12-18",60460]
[null,null,null,null,null,null,"2012-12-19",60998]
[null,null,null,null,null,null,"2012-12-20",61276]
[null,null,null,null,null,null,"2012-12-21",61007]
[null,null,null,null,null,null,"2012-12-24"]
[null,null,null,null,null,null,"2012-12-25"]
[null,null,null,null,null,null,"2012-12-26",60959]
[null,null,null,null,null,null,"2012-12-27",60415]
[null,null,null,null,null,null,"2012-12-28",60952]
[null,null,null,null,null,null,"2012-12-31"]
[null,null,null,null,null,null,"2013-01-01"]
[null,null,null,null,null,null,"2013-01-02",62550]
[null,null,null,null,null,null,"2013-01-03",63312]
[null,null,null,null,null,null,"2013-01-04",62523]
[null,null,null,null,null,null,"2013-01-07",61932]
[null,null,null,null,null,null,"2013-01-08",61127]
[null,null,null,null,null,null,"2013-01-09",61578]
[null,null,null,null,null,null,"2013-01-10",61678]
[null,null,null,null,null,null,"2013-01-11",61497]
[null,null,null,null,null,null,"2013-01-14",62080]
[null,null,null,null,null,null,"2013-01-15",61727]
[null,null,null,null,null,null,"2013-01-16",61787]
[null,null,null,null,null,null,"2013-01-17",62194]
[null,null,null,null,null,null,"2013-01-18",61956]
[null,null,null,null,null,null,"2013-01-21",61899]
[null,null,null,null,null,null,"2013-01-22",61692]
[null,null,null,null,null,null,"2013-01-23",61966]
[null,null,null,null,null,null,"2013-01-24",61169]
[null,null,null,null,null,null,"2013-01-25"]
[null,null,null,null,null,null,"2013-01-28",60027]
[null,null,null,null,null,null,"2013-01-29",60406]
[null,null,null,null,null,null,"2013-01-30",59336]
[null,null,null,null,null,null,"2013-01-31",59761]
[null,null,null,null,null,null,"2013-02-01",60351]
[null,null,null,null,null,null,"2013-02-04",59575]
[null,null,null,null,null,null,"2013-02-05",59444]
[null,null,null,null,null,null,"2013-02-06",58951]
[null,null,null,null,null,null,"2013-02-07",58372]
[null,null,null,null,null,null,"2013-02-08",58497]
[null,null,null,null,null,null,"2013-02-11"]
[null,null,null,null,null,null,"2013-02-12"]
[null,null,null,null,null,null,"2013-02-13",58405]
[null,null,null,null,null,null,"2013-02-14",58077]
[null,null,null,null,null,null,"2013-02-15",57903]
[null,null,null,null,null,null,"2013-02-18",57613]
[null,null,null,null,null,null,"2013-02-19",57314]
[null,null,null,null,null,null,"2013-02-20",56177]
[null,null,null,null,null,null,"2013-02-21",56154]
[null,null,null,null,null,null,"2013-02-22",56697]
[null,null,null,null,null,null,"2013-02-25",56617]
[null,null,null,null,null,null,"2013-02-26",56948]
[null,null,null,null,null,null,"2013-02-27",57273]
[null,null,null,null,null,null,"2013-02-28",57424]
[null,null,null,null,null,null,"2013-03-01",56883]
[null,null,null,null,null,null,"2013-03-04",56499]
[null,null,null,null,null,null,"2013-03-05",55950]
[null,null,null,null,null,null,"2013-03-06",57940]
[null,null,null,null,null,null,"2013-03-07",58846]
[null,null,null,null,null,null,"2013-03-08",58432]
[null,null,null,null,null,null,"2013-03-11",58544]
[null,null,null,null,null,null,"2013-03-12",58208]
[null,null,null,null,null,null,"2013-03-13",57385]
[null,null,null,null,null,null,"2013-03-14",57281]
[null,null,null,null,null,null,"2013-03-15",56869]
[null,null,null,null,null,null,"2013-03-18",56972]
[null,null,null,null,null,null,"2013-03-19",56361]
[null,null,null,null,null,null,"2013-03-20",56030]
[null,null,null,null,null,null,"2013-03-21",55576]
[null,null,null,null,null,null,"2013-03-22",55243]
[null,null,null,null,null,null,"2013-03-25",54873]
[null,null,null,null,null,null,"2013-03-26",55671]
[null,null,null,null,null,null,"2013-03-27",56034]
[null,null,null,null,null,null,"2013-03-28",56352]
[null,null,null,null,null,null,"2013-03-29"]
[null,null,null,null,null,null,"2013-04-01",55902]
[null,null,null,null,null,null,"2013-04-02",54889]
[null,null,null,null,null,null,"2013-04-03",55562]
[null,null,null,null,null,null,"2013-04-04",54648]
[null,null,null,null,null,null,"2013-04-05",55050]
[null,null,null,null,null,null,"2013-04-08",55092]
[null,null,null,null,null,null,"2013-04-09",55912]
[null,null,null,null,null,null,"2013-04-10",56186]
[null,null,null,null,null,null,"2013-04-11",55400]
[null,null,null,null,null,null,"2013-04-12",54962]
[null,null,null,null,null,null,"2013-04-15",52949]
[null,null,null,null,null,null,"2013-04-16",53990]
[null,null,null,null,null,null,"2013-04-17",52881]
[null,null,null,null,null,null,"2013-04-18",53165]
[null,null,null,null,null,null,"2013-04-19",53928]
[null,null,null,null,null,null,"2013-04-22",54297]
[null,null,null,null,null,null,"2013-04-23",54884]
[null,null,null,null,null,null,"2013-04-24",54984]
[null,null,null,null,null,null,"2013-04-25",54963]
[null,null,null,null,null,null,"2013-04-26",54252]
[null,null,null,null,null,null,"2013-04-29",54887]
[null,null,null,null,null,null,"2013-04-30",55910]
[null,null,null,null,null,null,"2013-05-01"]
[null,null,null,null,null,null,"2013-05-02",55321]
[null,null,null,null,null,null,"2013-05-03",55488]
[null,null,null,null,null,null,"2013-05-06",55429]
[null,null,null,null,null,null,"2013-05-07",56274]
[null,null,null,null,null,null,"2013-05-08",55804]
[null,null,null,null,null,null,"2013-05-09",55447]
[null,null,null,null,null,null,"2013-05-10",55107]
[null,null,null,null,null,null,"2013-05-13",54447]
[null,null,null,null,null,null,"2013-05-14",54666]
[null,null,null,null,null,null,"2013-05-15",54936]
[null,null,null,null,null,null,"2013-05-16",54772]
[null,null,null,null,null,null,"2013-05-17",55164]
[null,null,null,null,null,null,"2013-05-20",55700]
[null,null,null,null,null,null,"2013-05-21",56265]
[null,null,null,null,null,null,"2013-05-22",56429]
[null,null,null,null,null,null,"2013-05-23",56349]
[null,null,null,null,null,null,"2013-05-24",56406]
[null,null,null,null,null,null,"2013-05-27",56395]
[null,null,null,null,null,null,"2013-05-28",56036]
[null,null,null,null,null,null,"2013-05-29",54634]
[null,null,null,null,null,null,"2013-05-30"]
[null,null,null,null,null,null,"2013-05-31",53506]
[null,null,null,null,null,null,"2013-06-03",53944]
[null,null,null,null,null,null,"2013-06-04",54017]
[null,null,null,null,null,null,"2013-06-05",52798]
[null,null,null,null,null,null,"2013-06-06",52884]
[null,null,null,null,null,null,"2013-06-07",51618]
[null,null,null,null,null,null,"2013-06-10",51316]
[null,null,null,null,null,null,"2013-06-11",49769]
[null,null,null,null,null,null,"2013-06-12",49180]
[null,null,null,null,null,null,"2013-06-13",50414]
[null,null,null,null,null,null,"2013-06-14",49332]
[null,null,null,null,null,null,"2013-06-17",49088]
[null,null,null,null,null,null,"2013-06-18",49464]
[null,null,null,null,null,null,"2013-06-19",47893]
[null,null,null,null,null,null,"2013-06-20",48214]
[null,null,null,null,null,null,"2013-06-21",47056]
[null,null,null,null,null,null,"2013-06-24",45965]
[null,null,null,null,null,null,"2013-06-25",46893]
[null,null,null,null,null,null,"2013-06-26",47171]
[null,null,null,null,null,null,"2013-06-27",47609]
[null,null,null,null,null,null,"2013-06-28",47457]
[null,null,null,null,null,null,"2013-07-01",47229]
[null,null,null,null,null,null,"2013-07-02",45228]
[null,null,null,null,null,null,"2013-07-03",45044]
[null,null,null,null,null,null,"2013-07-04",45763]
[null,null,null,null,null,null,"2013-07-05",45210]
[null,null,null,null,null,null,"2013-07-08",45075]
[null,null,null,null,null,null,"2013-07-09"]
[null,null,null,null,null,null,"2013-07-10",45483]
[null,null,null,null,null,null,"2013-07-11",46626]
[null,null,null,null,null,null,"2013-07-12",45533]
[null,null,null,null,null,null,"2013-07-15",46738]
[null,null,null,null,null,null,"2013-07-16",46869]
[null,null,null,null,null,null,"2013-07-17",47407]
[null,null,null,null,null,null,"2013-07-18",47656]
[null,null,null,null,null,null,"2013-07-19",47400]
[null,null,null,null,null,null,"2013-07-22",48574]
[null,null,null,null,null,null,"2013-07-23",48819]
[null,null,null,null,null,null,"2013-07-24",48374]
[null,null,null,null,null,null,"2013-07-25",49066]
[null,null,null,null,null,null,"2013-07-26",49422]
[null,null,null,null,null,null,"2013-07-29",49212]
[null,null,null,null,null,null,"2013-07-30",48561]
[null,null,null,null,null,null,"2013-07-31",48234]
[null,null,null,null,null,null,"2013-08-01",49140]
[null,null,null,null,null,null,"2013-08-02",48474]
[null,null,null,null,null,null,"2013-08-05",48436]
[null,null,null,null,null,null,"2013-08-06",47421]
[null,null,null,null,null,null,"2013-08-07",47446]
[null,null,null,null,null,null,"2013-08-08",48928]
[null,null,null,null,null,null,"2013-08-09",49874]
[null,null,null,null,null,null,"2013-08-12",50299]
[null,null,null,null,null,null,"2013-08-13",50600]
[null,null,null,null,null,null,"2013-08-14",50895]
[null,null,null,null,null,null,"2013-08-15",50908]
[null,null,null,null,null,null,"2013-08-16",51538]
[null,null,null,null,null,null,"2013-08-19",51574]
[null,null,null,null,null,null,"2013-08-20",50507]
[null,null,null,null,null,null,"2013-08-21",50405]
[null,null,null,null,null,null,"2013-08-22",51397]
[null,null,null,null,null,null,"2013-08-23",52197]
[null,null,null,null,null,null,"2013-08-26",51429]
[null,null,null,null,null,null,"2013-08-27",50091]
[null,null,null,null,null,null,"2013-08-28",49866]
[null,null,null,null,null,null,"2013-08-29",49921]
[null,null,null,null,null,null,"2013-08-30",50011]
[null,null,null,null,null,null,"2013-09-02",51835]
[null,null,null,null,null,null,"2013-09-03",51625]
[null,null,null,null,null,null,"2013-09-04",51716]
[null,null,null,null,null,null,"2013-09-05",52351]
[null,null,null,null,null,null,"2013-09-06",53749]
[null,null,null,null,null,null,"2013-09-09",54251]
[null,null,null,null,null,null,"2013-09-10",53979]
[null,null,null,null,null,null,"2013-09-11",53570]
[null,null,null,null,null,null,"2013-09-12",53307]
[null,null,null,null,null,null,"2013-09-13",53797]
[null,null,null,null,null,null,"2013-09-16",53821]
[null,null,null,null,null,null,"2013-09-17",54271]
[null,null,null,null,null,null,"2013-09-18",55702]
[null,null,null,null,null,null,"2013-09-19",55095]
[null,null,null,null,null,null,"2013-09-20",54110]
[null,null,null,null,null,null,"2013-09-23",54602]
[null,null,null,null,null,null,"2013-09-24",54431]
[null,null,null,null,null,null,"2013-09-25",54261]
[null,null,null,null,null,null,"2013-09-26",53782]
[null,null,null,null,null,null,"2013-09-27",53738]
[null,null,null,null,null,null,"2013-09-30",52338]
[null,null,null,null,null,null,"2013-10-01",53179]
[null,null,null,null,null,null,"2013-10-02",53100]
[null,null,null,null,null,null,"2013-10-03",52489]
[null,null,null,null,null,null,"2013-10-04",52848]
[null,null,null,null,null,null,"2013-10-07",52417]
[null,null,null,null,null,null,"2013-10-08",52312]
[null,null,null,null,null,null,"2013-10-09",52547]
[null,null,null,null,null,null,"2013-10-10",52996]
[null,null,null,null,null,null,"2013-10-11",53149]
[null,null,null,null,null,null,"2013-10-14",54170]
[null,null,null,null,null,null,"2013-10-15",54980]
[null,null,null,null,null,null,"2013-10-16",55973]
[null,null,null,null,null,null,"2013-10-17",55358]
[null,null,null,null,null,null,"2013-10-18",55378]
[null,null,null,null,null,null,"2013-10-21",56077]
[null,null,null,null,null,null,"2013-10-22",56460]
[null,null,null,null,null,null,"2013-10-23",55440]
[null,null,null,null,null,null,"2013-10-24",54877]
[null,null,null,null,null,null,"2013-10-25",54154]
[null,null,null,null,null,null,"2013-10-28",55073]
[null,null,null,null,null,null,"2013-10-29",54538]
[null,null,null,null,null,null,"2013-10-30",54172]
[null,null,null,null,null,null,"2013-10-31",54256]
[null,null,null,null,null,null,"2013-11-01",54013]
[null,null,null,null,null,null,"2013-11-04",54436]
[null,null,null,null,null,null,"2013-11-05",53831]
[null,null,null,null,null,null,"2013-11-06",53384]
[null,null,null,null,null,null,"2013-11-07",52740]
[null,null,null,null,null,null,"2013-11-08",52248]
[null,null,null,null,null,null,"2013-11-11",52623]
[null,null,null,null,null,null,"2013-11-12",51804]
[null,null,null,null,null,null,"2013-11-13",52230]
[null,null,null,null,null,null,"2013-11-14",53451]
[null,null,null,null,null,null,"2013-11-15"]
[null,null,null,null,null,null,"2013-11-18",54307]
[null,null,null,null,null,null,"2013-11-19",53032]
[null,null,null,null,null,null,"2013-11-20"]
[null,null,null,null,null,null,"2013-11-21",52688]
[null,null,null,null,null,null,"2013-11-22",52800]
[null,null,null,null,null,null,"2013-11-25",52263]
[null,null,null,null,null,null,"2013-11-26",51446]
[null,null,null,null,null,null,"2013-11-27",51861]
[null,null,null,null,null,null,"2013-11-28",51846]
[null,null,null,null,null,null,"2013-11-29",52482]
[null,null,null,null,null,null,"2013-12-02",51244]
[null,null,null,null,null,null,"2013-12-03",50348]
[null,null,null,null,null,null,"2013-12-04",50215]
[null,null,null,null,null,null,"2013-12-05",50787]
[null,null,null,null,null,null,"2013-12-06",50944]
[null,null,null,null,null,null,"2013-12-09",51165]
[null,null,null,null,null,null,"2013-12-10",50993]
[null,null,null,null,null,null,"2013-12-11",50067]
[null,null,null,null,null,null,"2013-12-12",50121]
[null,null,null,null,null,null,"2013-12-13",50051]
[null,null,null,null,null,null,"2013-12-16",50279]
[null,null,null,null,null,null,"2013-12-17",50090]
[null,null,null,null,null,null,"2013-12-18",50563]
[null,null,null,null,null,null,"2013-12-19",51633]
[null,null,null,null,null,null,"2013-12-20",51185]
[null,null,null,null,null,null,"2013-12-23",51356]
[null,null,null,null,null,null,"2013-12-24"]
[null,null,null,null,null,null,"2013-12-25"]
[null,null,null,null,null,null,"2013-12-26",51221]
[null,null,null,null,null,null,"2013-12-27",51266]
[null,null,null,null,null,null,"2013-12-30",51507]
[null,null,null,null,null,null,"2013-12-31"]
[null,null,null,null,null,null,"2014-01-01"]
[null,null,null,null,null,null,"2014-01-02",50341]
[null,null,null,null,null,null,"2014-01-03",50981]
[null,null,null,null,null,null,"2014-01-06",50973]
[null,null,null,null,null,null,"2014-01-07",50430]
[null,null,null,null,null,null,"2014-01-08",50576]
[null,null,null,null,null,null,"2014-01-09",49321]
[null,null,null,null,null,null,"2014-01-10",49696]
[null,null,null,null,null,null,"2014-01-13",49426]
[null,null,null,null,null,null,"2014-01-14",49703]
[null,null,null,null,null,null,"2014-01-15",50105]
[null,null,null,null,null,null,"2014-01-16",49696]
[null,null,null,null,null,null,"2014-01-17",49181]
[null,null,null,null,null,null,"2014-01-20",48708]
[null,null,null,null,null,null,"2014-01-21",48542]
[null,null,null,null,null,null,"2014-01-22",49299]
[null,null,null,null,null,null,"2014-01-23",48320]
[null,null,null,null,null,null,"2014-01-24",47787]
[null,null,null,null,null,null,"2014-01-27",47701]
[null,null,null,null,null,null,"2014-01-28",47840]
[null,null,null,null,null,null,"2014-01-29",47556]
[null,null,null,null,null,null,"2014-01-30",47244]
[null,null,null,null,null,null,"2014-01-31",47638]
[null,null,null,null,null,null,"2014-02-03",46147]
[null,null,null,null,null,null,"2014-02-04",46964]
[null,null,null,null,null,null,"2014-02-05",46624]
[null,null,null,null,null,null,"2014-02-06",47738]
[null,null,null,null,null,null,"2014-02-07",48073]
[null,null,null,null,null,null,"2014-02-10",47710]
[null,null,null,null,null,null,"2014-02-11",48462]
[null,null,null,null,null,null,"2014-02-12",48216]
[null,null,null,null,null,null,"2014-02-13",47812]
[null,null,null,null,null,null,"2014-02-14",48201]
[null,null,null,null,null,null,"2014-02-17",47576]
[null,null,null,null,null,null,"2014-02-18",46599]
[null,null,null,null,null,null,"2014-02-19",47150]
[null,null,null,null,null,null,"2014-02-20",47288]
[null,null,null,null,null,null,"2014-02-21",47380]
[null,null,null,null,null,null,"2014-02-24",47393]
[null,null,null,null,null,null,"2014-02-25",46715]
[null,null,null,null,null,null,"2014-02-26",46599]
[null,null,null,null,null,null,"2014-02-27",47606]
[null,null,null,null,null,null,"2014-02-28",47094]
[null,null,null,null,null,null,"2014-03-03"]
[null,null,null,null,null,null,"2014-03-04"]
[null,null,null,null,null,null,"2014-03-05",46589]
[null,null,null,null,null,null,"2014-03-06",47093]
[null,null,null,null,null,null,"2014-03-07",46244]
[null,null,null,null,null,null,"2014-03-10",45533]
[null,null,null,null,null,null,"2014-03-11",45697]
[null,null,null,null,null,null,"2014-03-12",45861]
[null,null,null,null,null,null,"2014-03-13",45443]
[null,null,null,null,null,null,"2014-03-14",44965]
[null,null,null,null,null,null,"2014-03-17",45117]
[null,null,null,null,null,null,"2014-03-18",46150]
[null,null,null,null,null,null,"2014-03-19",46567]
[null,null,null,null,null,null,"2014-03-20",47278]
[null,null,null,null,null,null,"2014-03-21",47380]
[null,null,null,null,null,null,"2014-03-24",47993]
[null,null,null,null,null,null,"2014-03-25",48180]
[null,null,null,null,null,null,"2014-03-26",47965]
[null,null,null,null,null,null,"2014-03-27",49646]
[null,null,null,null,null,null,"2014-03-28",49768]
[null,null,null,null,null,null,"2014-03-31",50414]
[null,null,null,null,null,null,"2014-04-01",50270]
[null,null,null,null,null,null,"2014-04-02",51701]
[null,null,null,null,null,null,"2014-04-03",51408]
[null,null,null,null,null,null,"2014-04-04",51081]
[null,null,null,null,null,null,"2014-04-07",52155]
[null,null,null,null,null,null,"2014-04-08",51629]
[null,null,null,null,null,null,"2014-04-09",51185]
[null,null,null,null,null,null,"2014-04-10",51127]
[null,null,null,null,null,null,"2014-04-11",51867]
[null,null,null,null,null,null,"2014-04-14",51596]
[null,null,null,null,null,null,"2014-04-15",50454]
[null,null,null,null,null,null,"2014-04-16",51200]
[null,null,null,null,null,null,"2014-04-17",52111]
[null,null,null,null,null,null,"2014-04-18"]
[null,null,null,null,null,null,"2014-04-21"]
[null,null,null,null,null,null,"2014-04-22",51976]
[null,null,null,null,null,null,"2014-04-23",51569]
[null,null,null,null,null,null,"2014-04-24",51817]
[null,null,null,null,null,null,"2014-04-25",51399]
[null,null,null,null,null,null,"2014-04-28",51383]
[null,null,null,null,null,null,"2014-04-29",51838]
[null,null,null,null,null,null,"2014-04-30",51626]
[null,null,null,null,null,null,"2014-05-01"]
[null,null,null,null,null,null,"2014-05-02",52980]
[null,null,null,null,null,null,"2014-05-05",53446]
[null,null,null,null,null,null,"2014-05-06",53779]
[null,null,null,null,null,null,"2014-05-07",54052]
[null,null,null,null,null,null,"2014-05-08",53422]
[null,null,null,null,null,null,"2014-05-09",53100]
[null,null,null,null,null,null,"2014-05-12",54052]
[null,null,null,null,null,null,"2014-05-13",53907]
[null,null,null,null,null,null,"2014-05-14",54412]
[null,null,null,null,null,null,"2014-05-15",53855]
[null,null,null,null,null,null,"2014-05-16",53975]
[null,null,null,null,null,null,"2014-05-19",53353]
[null,null,null,null,null,null,"2014-05-20",52366]
[null,null,null,null,null,null,"2014-05-21",52203]
[null,null,null,null,null,null,"2014-05-22",52806]
[null,null,null,null,null,null,"2014-05-23",52626]
[null,null,null,null,null,null,"2014-05-26",52932]
[null,null,null,null,null,null,"2014-05-27",52173]
[null,null,null,null,null,null,"2014-05-28",52639]
[null,null,null,null,null,null,"2014-05-29",52239]
[null,null,null,null,null,null,"2014-05-30",51239]
[null,null,null,null,null,null,"2014-06-02",51605]
[null,null,null,null,null,null,"2014-06-03",52032]
[null,null,null,null,null,null,"2014-06-04",51832]
[null,null,null,null,null,null,"2014-06-05",51558]
[null,null,null,null,null,null,"2014-06-06",53128]
[null,null,null,null,null,null,"2014-06-09",54273]
[null,null,null,null,null,null,"2014-06-10",54604]
[null,null,null,null,null,null,"2014-06-11",55102]
[null,null,null,null,null,null,"2014-06-12"]
[null,null,null,null,null,null,"2014-06-13",54806]
[null,null,null,null,null,null,"2014-06-16",54629]
[null,null,null,null,null,null,"2014-06-17",54299]
[null,null,null,null,null,null,"2014-06-18",55202]
[null,null,null,null,null,null,"2014-06-19"]
[null,null,null,null,null,null,"2014-06-20",54638]
[null,null,null,null,null,null,"2014-06-23",54210]
[null,null,null,null,null,null,"2014-06-24",54280]
[null,null,null,null,null,null,"2014-06-25",53425]
[null,null,null,null,null,null,"2014-06-26",53506]
[null,null,null,null,null,null,"2014-06-27",53157]
[null,null,null,null,null,null,"2014-06-30",53168]
[null,null,null,null,null,null,"2014-07-01",53171]
[null,null,null,null,null,null,"2014-07-02",53028]
[null,null,null,null,null,null,"2014-07-03",53874]
[null,null,null,null,null,null,"2014-07-04",54055]
[null,null,null,null,null,null,"2014-07-07",53801]
[null,null,null,null,null,null,"2014-07-08",53634]
[null,null,null,null,null,null,"2014-07-09"]
[null,null,null,null,null,null,"2014-07-10",54592]
[null,null,null,null,null,null,"2014-07-11",54785]
[null,null,null,null,null,null,"2014-07-14",55743]
[null,null,null,null,null,null,"2014-07-15",55973]
[null,null,null,null,null,null,"2014-07-16",55717]
[null,null,null,null,null,null,"2014-07-17",55637]
[null,null,null,null,null,null,"2014-07-18",57012]
[null,null,null,null,null,null,"2014-07-21",57633]
[null,null,null,null,null,null,"2014-07-22",57983]
[null,null,null,null,null,null,"2014-07-23",57419]
[null,null,null,null,null,null,"2014-07-24",57977]
[null,null,null,null,null,null,"2014-07-25",57821]
[null,null,null,null,null,null,"2014-07-28",57695]
[null,null,null,null,null,null,"2014-07-29",57118]
[null,null,null,null,null,null,"2014-07-30",56877]
[null,null,null,null,null,null,"2014-07-31",55829]
[null,null,null,null,null,null,"2014-08-01",55902]
[null,null,null,null,null,null,"2014-08-04",56616]
[null,null,null,null,null,null,"2014-08-05",56202]
[null,null,null,null,null,null,"2014-08-06",56487]
[null,null,null,null,null,null,"2014-08-07",56188]
[null,null,null,null,null,null,"2014-08-08",55572]
[null,null,null,null,null,null,"2014-08-11",56613]
[null,null,null,null,null,null,"2014-08-12",56442]
[null,null,null,null,null,null,"2014-08-13",55581]
[null,null,null,null,null,null,"2014-08-14",55780]
[null,null,null,null,null,null,"2014-08-15",56963]
[null,null,null,null,null,null,"2014-08-18",57560]
[null,null,null,null,null,null,"2014-08-19",58449]
[null,null,null,null,null,null,"2014-08-20",58878]
[null,null,null,null,null,null,"2014-08-21",58992]
[null,null,null,null,null,null,"2014-08-22",58407]
[null,null,null,null,null,null,"2014-08-25",59735]
[null,null,null,null,null,null,"2014-08-26",59821]
[null,null,null,null,null,null,"2014-08-27",60950]
[null,null,null,null,null,null,"2014-08-28",60290]
[null,null,null,null,null,null,"2014-08-29",61288]
[null,null,null,null,null,null,"2014-09-01",61141]
[null,null,null,null,null,null,"2014-09-02",61895]
[null,null,null,null,null,null,"2014-09-03",61837]
[null,null,null,null,null,null,"2014-09-04",60800]
[null,null,null,null,null,null,"2014-09-05",60681]
[null,null,null,null,null,null,"2014-09-08",59192]
[null,null,null,null,null,null,"2014-09-09",58676]
[null,null,null,null,null,null,"2014-09-10",58198]
[null,null,null,null,null,null,"2014-09-11",58337]
[null,null,null,null,null,null,"2014-09-12",56927]
[null,null,null,null,null,null,"2014-09-15",57948]
[null,null,null,null,null,null,"2014-09-16",59114]
[null,null,null,null,null,null,"2014-09-17",59108]
[null,null,null,null,null,null,"2014-09-18",58374]
[null,null,null,null,null,null,"2014-09-19",57788]
[null,null,null,null,null,null,"2014-09-22",56818]
[null,null,null,null,null,null,"2014-09-23",56540]
[null,null,null,null,null,null,"2014-09-24",56824]
[null,null,null,null,null,null,"2014-09-25",55962]
[null,null,null,null,null,null,"2014-09-26",57212]
[null,null,null,null,null,null,"2014-09-29",54625]
[null,null,null,null,null,null,"2014-09-30",54115]
[null,null,null,null,null,null,"2014-10-01",52858]
[null,null,null,null,null,null,"2014-10-02",53518]
[null,null,null,null,null,null,"2014-10-03",54539]
[null,null,null,null,null,null,"2014-10-06",57115]
[null,null,null,null,null,null,"2014-10-07",57436]
[null,null,null,null,null,null,"2014-10-08",57058]
[null,null,null,null,null,null,"2014-10-09",57267]
[null,null,null,null,null,null,"2014-10-10",55311]
[null,null,null,null,null,null,"2014-10-13",57956]
[null,null,null,null,null,null,"2014-10-14",58015]
[null,null,null,null,null,null,"2014-10-15",56135]
[null,null,null,null,null,null,"2014-10-16",54298]
[null,null,null,null,null,null,"2014-10-17",55723]
[null,null,null,null,null,null,"2014-10-20",54302]
[null,null,null,null,null,null,"2014-10-21",52432]
[null,null,null,null,null,null,"2014-10-22",52411]
[null,null,null,null,null,null,"2014-10-23",50713]
[null,null,null,null,null,null,"2014-10-24",51940]
[null,null,null,null,null,null,"2014-10-27",50503]
[null,null,null,null,null,null,"2014-10-28",52330]
[null,null,null,null,null,null,"2014-10-29",51049]
[null,null,null,null,null,null,"2014-10-30",52336]
[null,null,null,null,null,null,"2014-10-31",54628]
[null,null,null,null,null,null,"2014-11-03",53947]
[null,null,null,null,null,null,"2014-11-04",54383]
[null,null,null,null,null,null,"2014-11-05",53698]
[null,null,null,null,null,null,"2014-11-06",52637]
[null,null,null,null,null,null,"2014-11-07",53222]
[null,null,null,null,null,null,"2014-11-10",52725]
[null,null,null,null,null,null,"2014-11-11",52474]
[null,null,null,null,null,null,"2014-11-12",52978]
[null,null,null,null,null,null,"2014-11-13",51846]
[null,null,null,null,null,null,"2014-11-14",51772]
[null,null,null,null,null,null,"2014-11-17",51256]
[null,null,null,null,null,null,"2014-11-18",52061]
[null,null,null,null,null,null,"2014-11-19",53402]
[null,null,null,null,null,null,"2014-11-20"]
[null,null,null,null,null,null,"2014-11-21",56084]
[null,null,null,null,null,null,"2014-11-24",55406]
[null,null,null,null,null,null,"2014-11-25",55560]
[null,null,null,null,null,null,"2014-11-26",55098]
[null,null,null,null,null,null,"2014-11-27",54721]
[null,null,null,null,null,null,"2014-11-28",54724]
[null,null,null,null,null,null,"2014-12-01",52276]
[null,null,null,null,null,null,"2014-12-02",51612]
[null,null,null,null,null,null,"2014-12-03",52320]
[null,null,null,null,null,null,"2014-12-04",51426]
[null,null,null,null,null,null,"2014-12-05",51992]
[null,null,null,null,null,null,"2014-12-08",50274]
[null,null,null,null,null,null,"2014-12-09",50193]
[null,null,null,null,null,null,"2014-12-10",49548]
[null,null,null,null,null,null,"2014-12-11",49861]
[null,null,null,null,null,null,"2014-12-12",48001]
[null,null,null,null,null,null,"2014-12-15",47018]
[null,null,null,null,null,null,"2014-12-16",47007]
[null,null,null,null,null,null,"2014-12-17",48713]
[null,null,null,null,null,null,"2014-12-18",48495]
[null,null,null,null,null,null,"2014-12-19",49650]
[null,null,null,null,null,null,"2014-12-22",50120]
[null,null,null,null,null,null,"2014-12-23",50889]
[null,null,null,null,null,null,"2014-12-24"]
[null,null,null,null,null,null,"2014-12-25"]
[null,null,null,null,null,null,"2014-12-26",50144]
[null,null,null,null,null,null,"2014-12-29",50593]
[null,null,null,null,null,null,"2014-12-30",50007]
[null,null,null,null,null,null,"2014-12-31"]
[null,null,null,null,null,null,"2015-01-01"]
[null,null,null,null,null,null,"2015-01-02",48512]
[null,null,null,null,null,null,"2015-01-05",47516]
[null,null,null,null,null,null,"2015-01-06",48000]
[null,null,null,null,null,null,"2015-01-07",49462]
[null,null,null,null,null,null,"2015-01-08",49943]
[null,null,null,null,null,null,"2015-01-09",48840]
[null,null,null,null,null,null,"2015-01-12",48139]
[null,null,null,null,null,null,"2015-01-13",48041]
[null,null,null,null,null,null,"2015-01-14",47645]
[null,null,null,null,null,null,"2015-01-15",48026]
[null,null,null,null,null,null,"2015-01-16",49016]
[null,null,null,null,null,null,"2015-01-19",47758]
[null,null,null,null,null,null,"2015-01-20",47876]
[null,null,null,null,null,null,"2015-01-21",49224]
[null,null,null,null,null,null,"2015-01-22",49442]
[null,null,null,null,null,null,"2015-01-23",48775]
[null,null,null,null,null,null,"2015-01-26",48576]
[null,null,null,null,null,null,"2015-01-27",48591]
[null,null,null,null,null,null,"2015-01-28",47694]
[null,null,null,null,null,null,"2015-01-29",47762]
[null,null,null,null,null,null,"2015-01-30",46907]
[null,null,null,null,null,null,"2015-02-02",47650]
[null,null,null,null,null,null,"2015-02-03",48963]
[null,null,null,null,null,null,"2015-02-04",49301]
[null,null,null,null,null,null,"2015-02-05",49233]
[null,null,null,null,null,null,"2015-02-06",48792]
[null,null,null,null,null,null,"2015-02-09",49382]
[null,null,null,null,null,null,"2015-02-10",48510]
[null,null,null,null,null,null,"2015-02-11",48239]
[null,null,null,null,null,null,"2015-02-12",49532]
[null,null,null,null,null,null,"2015-02-13",50635]
[null,null,null,null,null,null,"2015-02-16"]
[null,null,null,null,null,null,"2015-02-17"]
[null,null,null,null,null,null,"2015-02-18",51280]
[null,null,null,null,null,null,"2015-02-19",51294]
[null,null,null,null,null,null,"2015-02-20",51237]
[null,null,null,null,null,null,"2015-02-23",51280]
[null,null,null,null,null,null,"2015-02-24",51874]
[null,null,null,null,null,null,"2015-02-25",51811]
[null,null,null,null,null,null,"2015-02-26",51760]
[null,null,null,null,null,null,"2015-02-27",51583]
[null,null,null,null,null,null,"2015-03-02",51020]
[null,null,null,null,null,null,"2015-03-03",51304]
[null,null,null,null,null,null,"2015-03-04",50468]
[null,null,null,null,null,null,"2015-03-05",50365]
[null,null,null,null,null,null,"2015-03-06",49981]
[null,null,null,null,null,null,"2015-03-09",49181]
[null,null,null,null,null,null,"2015-03-10",48293]
[null,null,null,null,null,null,"2015-03-11",48905]
[null,null,null,null,null,null,"2015-03-12",48880]
[null,null,null,null,null,null,"2015-03-13",48595]
[null,null,null,null,null,null,"2015-03-16",48848]
[null,null,null,null,null,null,"2015-03-17",50285]
[null,null,null,null,null,null,"2015-03-18",51526]
[null,null,null,null,null,null,"2015-03-19",50953]
[null,null,null,null,null,null,"2015-03-20",51966]
[null,null,null,null,null,null,"2015-03-23",51908]
[null,null,null,null,null,null,"2015-03-24",51506]
[null,null,null,null,null,null,"2015-03-25",51858]
[null,null,null,null,null,null,"2015-03-26",50579]
[null,null,null,null,null,null,"2015-03-27",50094]
[null,null,null,null,null,null,"2015-03-30",51243]
[null,null,null,null,null,null,"2015-03-31",51150]
[null,null,null,null,null,null,"2015-04-01",52321]
[null,null,null,null,null,null,"2015-04-02",53123]
[null,null,null,null,null,null,"2015-04-03"]
[null,null,null,null,null,null,"2015-04-06",53737]
[null,null,null,null,null,null,"2015-04-07",53729]
[null,null,null,null,null,null,"2015-04-08",53661]
[null,null,null,null,null,null,"2015-04-09",53802]
[null,null,null,null,null,null,"2015-04-10",54214]
[null,null,null,null,null,null,"2015-04-13",54239]
[null,null,null,null,null,null,"2015-04-14",53981]
[null,null,null,null,null,null,"2015-04-15",54918]
[null,null,null,null,null,null,"2015-04-16",54674]
[null,null,null,null,null,null,"2015-04-17",53954]
[null,null,null,null,null,null,"2015-04-20",53761]
[null,null,null,null,null,null,"2015-04-21"]
[null,null,null,null,null,null,"2015-04-22",54617]
[null,null,null,null,null,null,"2015-04-23",55684]
[null,null,null,null,null,null,"2015-04-24",56594]
[null,null,null,null,null,null,"2015-04-27",55534]
[null,null,null,null,null,null,"2015-04-28",55812]
[null,null,null,null,null,null,"2015-04-29",55325]
[null,null,null,null,null,null,"2015-04-30",56229]
[null,null,null,null,null,null,"2015-05-01"]
[null,null,null,null,null,null,"2015-05-04",57353]
[null,null,null,null,null,null,"2015-05-05",58051]
[null,null,null,null,null,null,"2015-05-06",57103]
[null,null,null,null,null,null,"2015-05-07",56921]
[null,null,null,null,null,null,"2015-05-08",57149]
[null,null,null,null,null,null,"2015-05-11",57197]
[null,null,null,null,null,null,"2015-05-12",56792]
[null,null,null,null,null,null,"2015-05-13",56372]
[null,null,null,null,null,null,"2015-05-14",56656]
[null,null,null,null,null,null,"2015-05-15",57248]
[null,null,null,null,null,null,"2015-05-18",56204]
[null,null,null,null,null,null,"2015-05-19",55498]
[null,null,null,null,null,null,"2015-05-20",54901]
[null,null,null,null,null,null,"2015-05-21",55112]
[null,null,null,null,null,null,"2015-05-22",54377]
[null,null,null,null,null,null,"2015-05-25",54609]
[null,null,null,null,null,null,"2015-05-26",53629]
[null,null,null,null,null,null,"2015-05-27",54236]
[null,null,null,null,null,null,"2015-05-28",53976]
[null,null,null,null,null,null,"2015-05-29",52760]
[null,null,null,null,null,null,"2015-06-01",53031]
[null,null,null,null,null,null,"2015-06-02",54236]
[null,null,null,null,null,null,"2015-06-03",53522]
[null,null,null,null,null,null,"2015-06-04"]
[null,null,null,null,null,null,"2015-06-05",52973]
[null,null,null,null,null,null,"2015-06-08",52809]
[null,null,null,null,null,null,"2015-06-09",52815]
[null,null,null,null,null,null,"2015-06-10",53876]
[null,null,null,null,null,null,"2015-06-11",53688]
[null,null,null,null,null,null,"2015-06-12",53347]
[null,null,null,null,null,null,"2015-06-15",53137]
[null,null,null,null,null,null,"2015-06-16",53702]
[null,null,null,null,null,null,"2015-06-17",53248]
[null,null,null,null,null,null,"2015-06-18",54238]
[null,null,null,null,null,null,"2015-06-19",53749]
[null,null,null,null,null,null,"2015-06-22",53863]
[null,null,null,null,null,null,"2015-06-23",53772]
[null,null,null,null,null,null,"2015-06-24",53842]
[null,null,null,null,null,null,"2015-06-25",53175]
[null,null,null,null,null,null,"2015-06-26",54016]
[null,null,null,null,null,null,"2015-06-29",53014]
[null,null,null,null,null,null,"2015-06-30",53080]
[null,null,null,null,null,null,"2015-07-01",52757]
[null,null,null,null,null,null,"2015-07-02",53106]
[null,null,null,null,null,null,"2015-07-03",52519]
[null,null,null,null,null,null,"2015-07-06",52149]
[null,null,null,null,null,null,"2015-07-07",52343]
[null,null,null,null,null,null,"2015-07-08",51781]
[null,null,null,null,null,null,"2015-07-09"]
[null,null,null,null,null,null,"2015-07-10",52590]
[null,null,null,null,null,null,"2015-07-13",53119]
[null,null,null,null,null,null,"2015-07-14",53239]
[null,null,null,null,null,null,"2015-07-15",52902]
[null,null,null,null,null,null,"2015-07-16",53069]
[null,null,null,null,null,null,"2015-07-17",52341]
[null,null,null,null,null,null,"2015-07-20",51600]
[null,null,null,null,null,null,"2015-07-21",51474]
[null,null,null,null,null,null,"2015-07-22",50915]
[null,null,null,null,null,null,"2015-07-23",49806]
[null,null,null,null,null,null,"2015-07-24",49245]
[null,null,null,null,null,null,"2015-07-27",48735]
[null,null,null,null,null,null,"2015-07-28",49601]
[null,null,null,null,null,null,"2015-07-29",50245]
[null,null,null,null,null,null,"2015-07-30",49897]
[null,null,null,null,null,null,"2015-07-31",50864]
[null,null,null,null,null,null,"2015-08-03",50138]
[null,null,null,null,null,null,"2015-08-04",50058]
[null,null,null,null,null,null,"2015-08-05",50287]
[null,null,null,null,null,null,"2015-08-06",50011]
[null,null,null,null,null,null,"2015-08-07",48577]
[null,null,null,null,null,null,"2015-08-10",49353]
[null,null,null,null,null,null,"2015-08-11",49072]
[null,null,null,null,null,null,"2015-08-12",48388]
[null,null,null,null,null,null,"2015-08-13",48009]
[null,null,null,null,null,null,"2015-08-14",47508]
[null,null,null,null,null,null,"2015-08-17",47217]
[null,null,null,null,null,null,"2015-08-18",47450]
[null,null,null,null,null,null,"2015-08-19",46588]
[null,null,null,null,null,null,"2015-08-20",46649]
[null,null,null,null,null,null,"2015-08-21",45719]
[null,null,null,null,null,null,"2015-08-24",44336]
[null,null,null,null,null,null,"2015-08-25",44544]
[null,null,null,null,null,null,"2015-08-26",46038]
[null,null,null,null,null,null,"2015-08-27",47715]
[null,null,null,null,null,null,"2015-08-28",47153]
[null,null,null,null,null,null,"2015-08-31",46625]
[null,null,null,null,null,null,"2015-09-01",45477]
[null,null,null,null,null,null,"2015-09-02",46463]
[null,null,null,null,null,null,"2015-09-03",47365]
[null,null,null,null,null,null,"2015-09-04",46497]
[null,null,null,null,null,null,"2015-09-07"]
[null,null,null,null,null,null,"2015-09-08",46762]
[null,null,null,null,null,null,"2015-09-09",46657]
[null,null,null,null,null,null,"2015-09-10",46503]
[null,null,null,null,null,null,"2015-09-11",46400]
[null,null,null,null,null,null,"2015-09-14",47281]
[null,null,null,null,null,null,"2015-09-15",47364]
[null,null,null,null,null,null,"2015-09-16",48553]
[null,null,null,null,null,null,"2015-09-17",48551]
[null,null,null,null,null,null,"2015-09-18",47264]
[null,null,null,null,null,null,"2015-09-21",46590]
[null,null,null,null,null,null,"2015-09-22",46264]
[null,null,null,null,null,null,"2015-09-23",45340]
[null,null,null,null,null,null,"2015-09-24",45291]
[null,null,null,null,null,null,"2015-09-25",44831]
[null,null,null,null,null,null,"2015-09-28",43956]
[null,null,null,null,null,null,"2015-09-29",44131]
[null,null,null,null,null,null,"2015-09-30",45059]
[null,null,null,null,null,null,"2015-10-01",45313]
[null,null,null,null,null,null,"2015-10-02",47033]
[null,null,null,null,null,null,"2015-10-05",47598]
[null,null,null,null,null,null,"2015-10-06",47735]
[null,null,null,null,null,null,"2015-10-07",48914]
[null,null,null,null,null,null,"2015-10-08",49106]
[null,null,null,null,null,null,"2015-10-09",49338]
[null,null,null,null,null,null,"2015-10-12"]
[null,null,null,null,null,null,"2015-10-13",47362]
[null,null,null,null,null,null,"2015-10-14",46710]
[null,null,null,null,null,null,"2015-10-15",47161]
[null,null,null,null,null,null,"2015-10-16",47236]
[null,null,null,null,null,null,"2015-10-19",47447]
[null,null,null,null,null,null,"2015-10-20",47076]
[null,null,null,null,null,null,"2015-10-21",47025]
[null,null,null,null,null,null,"2015-10-22",47772]
[null,null,null,null,null,null,"2015-10-23",47596]
[null,null,null,null,null,null,"2015-10-26",47209]
[null,null,null,null,null,null,"2015-10-27",47042]
[null,null,null,null,null,null,"2015-10-28",46740]
[null,null,null,null,null,null,"2015-10-29",45628]
[null,null,null,null,null,null,"2015-10-30",45868]
[null,null,null,null,null,null,"2015-11-02"]
[null,null,null,null,null,null,"2015-11-03",48053]
[null,null,null,null,null,null,"2015-11-04",47710]
[null,null,null,null,null,null,"2015-11-05",48046]
[null,null,null,null,null,null,"2015-11-06",46918]
[null,null,null,null,null,null,"2015-11-09",46194]
[null,null,null,null,null,null,"2015-11-10",46206]
[null,null,null,null,null,null,"2015-11-11",47065]
[null,null,null,null,null,null,"2015-11-12",46883]
[null,null,null,null,null,null,"2015-11-13",46517]
[null,null,null,null,null,null,"2015-11-16",46846]
[null,null,null,null,null,null,"2015-11-17",47247]
[null,null,null,null,null,null,"2015-11-18",47435]
[null,null,null,null,null,null,"2015-11-19",48138]
[null,null,null,null,null,null,"2015-11-20"]
[null,null,null,null,null,null,"2015-11-23",48150]
[null,null,null,null,null,null,"2015-11-24",48284]
[null,null,null,null,null,null,"2015-11-25",46866]
[null,null,null,null,null,null,"2015-11-26",47145]
[null,null,null,null,null,null,"2015-11-27",45872]
[null,null,null,null,null,null,"2015-11-30",45120]
[null,null,null,null,null,null,"2015-12-01",45046]
[null,null,null,null,null,null,"2015-12-02",44914]
[null,null,null,null,null,null,"2015-12-03",46393]
[null,null,null,null,null,null,"2015-12-04",45360]
[null,null,null,null,null,null,"2015-12-07",45222]
[null,null,null,null,null,null,"2015-12-08",44443]
[null,null,null,null,null,null,"2015-12-09",46108]
[null,null,null,null,null,null,"2015-12-10",45630]
[null,null,null,null,null,null,"2015-12-11",45262]
[null,null,null,null,null,null,"2015-12-14",44747]
[null,null,null,null,null,null,"2015-12-15",44872]
[null,null,null,null,null,null,"2015-12-16",45015]
[null,null,null,null,null,null,"2015-12-17",45261]
[null,null,null,null,null,null,"2015-12-18",43910]
[null,null,null,null,null,null,"2015-12-21",43199]
[null,null,null,null,null,null,"2015-12-22",43469]
[null,null,null,null,null,null,"2015-12-23",44014]
[null,null,null,null,null,null,"2015-12-24"]
[null,null,null,null,null,null,"2015-12-25"]
[null,null,null,null,null,null,"2015-12-28",43764]
[null,null,null,null,null,null,"2015-12-29",43653]
[null,null,null,null,null,null,"2015-12-30",43349]
[null,null,null,null,null,null,"2015-12-31"]
[null,null,null,null,null,null,"2016-01-01"]
[null,null,null,null,null,null,"2016-01-04",42141]
[null,null,null,null,null,null,"2016-01-05",42419]
[null,null,null,null,null,null,"2016-01-06",41773]
[null,null,null,null,null,null,"2016-01-07",40694]
[null,null,null,null,null,null,"2016-01-08",40612]
[null,null,null,null,null,null,"2016-01-11",39950]
[null,null,null,null,null,null,"2016-01-12",39513]
[null,null,null,null,null,null,"2016-01-13",38944]
[null,null,null,null,null,null,"2016-01-14",39500]
[null,null,null,null,null,null,"2016-01-15",38569]
[null,null,null,null,null,null,"2016-01-18",37937]
[null,null,null,null,null,null,"2016-01-19",38057]
[null,null,null,null,null,null,"2016-01-20",37645]
[null,null,null,null,null,null,"2016-01-21",37717]
[null,null,null,null,null,null,"2016-01-22",38031]
[null,null,null,null,null,null,"2016-01-25"]
[null,null,null,null,null,null,"2016-01-26",37497]
[null,null,null,null,null,null,"2016-01-27",38376]
[null,null,null,null,null,null,"2016-01-28",38630]
[null,null,null,null,null,null,"2016-01-29",40405]
[null,null,null,null,null,null,"2016-02-01",40570]
[null,null,null,null,null,null,"2016-02-02",38596]
[null,null,null,null,null,null,"2016-02-03",39588]
[null,null,null,null,null,null,"2016-02-04",40821]
[null,null,null,null,null,null,"2016-02-05",40592]
[null,null,null,null,null,null,"2016-02-08"]
[null,null,null,null,null,null,"2016-02-09"]
[null,null,null,null,null,null,"2016-02-10",40376]
[null,null,null,null,null,null,"2016-02-11",39318]
[null,null,null,null,null,null,"2016-02-12",39808]
[null,null,null,null,null,null,"2016-02-15",40092]
[null,null,null,null,null,null,"2016-02-16",40947]
[null,null,null,null,null,null,"2016-02-17",41630]
[null,null,null,null,null,null,"2016-02-18",41477]
[null,null,null,null,null,null,"2016-02-19",41543]
[null,null,null,null,null,null,"2016-02-22",43234]
[null,null,null,null,null,null,"2016-02-23",42520]
[null,null,null,null,null,null,"2016-02-24",42084]
[null,null,null,null,null,null,"2016-02-25",41887]
[null,null,null,null,null,null,"2016-02-26",41593]
[null,null,null,null,null,null,"2016-02-29",42793]
[null,null,null,null,null,null,"2016-03-01",44121]
[null,null,null,null,null,null,"2016-03-02",44893]
[null,null,null,null,null,null,"2016-03-03",47193]
[null,null,null,null,null,null,"2016-03-04",49084]
[null,null,null,null,null,null,"2016-03-07",49246]
[null,null,null,null,null,null,"2016-03-08",49102]
[null,null,null,null,null,null,"2016-03-09",48665]
[null,null,null,null,null,null,"2016-03-10",49571]
[null,null,null,null,null,null,"2016-03-11",49638]
[null,null,null,null,null,null,"2016-03-14",48867]
[null,null,null,null,null,null,"2016-03-15",47130]
[null,null,null,null,null,null,"2016-03-16",47763]
[null,null,null,null,null,null,"2016-03-17",50913]
[null,null,null,null,null,null,"2016-03-18",50814]
[null,null,null,null,null,null,"2016-03-21",51171]
[null,null,null,null,null,null,"2016-03-22",51010]
[null,null,null,null,null,null,"2016-03-23",49690]
[null,null,null,null,null,null,"2016-03-24",49657]
[null,null,null,null,null,null,"2016-03-25"]
[null,null,null,null,null,null,"2016-03-28",50838]
[null,null,null,null,null,null,"2016-03-29",51154]
[null,null,null,null,null,null,"2016-03-30",51248]
[null,null,null,null,null,null,"2016-03-31",50055]
[null,null,null,null,null,null,"2016-04-01",50561]
[null,null,null,null,null,null,"2016-04-04",48779]
[null,null,null,null,null,null,"2016-04-05",49053]
[null,null,null,null,null,null,"2016-04-06",48096]
[null,null,null,null,null,null,"2016-04-07",48513]
[null,null,null,null,null,null,"2016-04-08",50292]
[null,null,null,null,null,null,"2016-04-11",50165]
[null,null,null,null,null,null,"2016-04-12",52001]
[null,null,null,null,null,null,"2016-04-13",53149]
[null,null,null,null,null,null,"2016-04-14",52411]
[null,null,null,null,null,null,"2016-04-15",53227]
[null,null,null,null,null,null,"2016-04-18",52894]
[null,null,null,null,null,null,"2016-04-19",53710]
[null,null,null,null,null,null,"2016-04-20",53630]
[null,null,null,null,null,null,"2016-04-21"]
[null,null,null,null,null,null,"2016-04-22",52907]
[null,null,null,null,null,null,"2016-04-25",51861]
[null,null,null,null,null,null,"2016-04-26",53082]
[null,null,null,null,null,null,"2016-04-27",54477]
[null,null,null,null,null,null,"2016-04-28",54311]
[null,null,null,null,null,null,"2016-04-29",53910]
[null,null,null,null,null,null,"2016-05-02",53561]
[null,null,null,null,null,null,"2016-05-03",52260]
[null,null,null,null,null,null,"2016-05-04",52552]
[null,null,null,null,null,null,"2016-05-05",51671]
[null,null,null,null,null,null,"2016-05-06",51717]
[null,null,null,null,null,null,"2016-05-09",50990]
[null,null,null,null,null,null,"2016-05-10",53070]
[null,null,null,null,null,null,"2016-05-11",52764]
[null,null,null,null,null,null,"2016-05-12",53241]
[null,null,null,null,null,null,"2016-05-13",51804]
[null,null,null,null,null,null,"2016-05-16",51802]
[null,null,null,null,null,null,"2016-05-17",50839]
[null,null,null,null,null,null,"2016-05-18",50561]
[null,null,null,null,null,null,"2016-05-19",50132]
[null,null,null,null,null,null,"2016-05-20",49722]
[null,null,null,null,null,null,"2016-05-23",49330]
[null,null,null,null,null,null,"2016-05-24",49345]
[null,null,null,null,null,null,"2016-05-25",49482]
[null,null,null,null,null,null,"2016-05-26"]
[null,null,null,null,null,null,"2016-05-27",49051]
[null,null,null,null,null,null,"2016-05-30",48964]
[null,null,null,null,null,null,"2016-05-31",48471]
[null,null,null,null,null,null,"2016-06-01",49012]
[null,null,null,null,null,null,"2016-06-02",49887]
[null,null,null,null,null,null,"2016-06-03",50619]
[null,null,null,null,null,null,"2016-06-06",50431]
[null,null,null,null,null,null,"2016-06-07",50487]
[null,null,null,null,null,null,"2016-06-08",51629]
[null,null,null,null,null,null,"2016-06-09",51118]
[null,null,null,null,null,null,"2016-06-10",49422]
[null,null,null,null,null,null,"2016-06-13",49660]
[null,null,null,null,null,null,"2016-06-14",48648]
[null,null,null,null,null,null,"2016-06-15",48914]
[null,null,null,null,null,null,"2016-06-16",49411]
[null,null,null,null,null,null,"2016-06-17",49533]
[null,null,null,null,null,null,"2016-06-20",50329]
[null,null,null,null,null,null,"2016-06-21",50837]
[null,null,null,null,null,null,"2016-06-22",50156]
[null,null,null,null,null,null,"2016-06-23",51559]
[null,null,null,null,null,null,"2016-06-24",50105]
[null,null,null,null,null,null,"2016-06-27",49245]
[null,null,null,null,null,null,"2016-06-28",50006]
[null,null,null,null,null,null,"2016-06-29",51001]
[null,null,null,null,null,null,"2016-06-30",51526]
[null,null,null,null,null,null,"2016-07-01",52233]
[null,null,null,null,null,null,"2016-07-04",52568]
[null,null,null,null,null,null,"2016-07-05",51842]
[null,null,null,null,null,null,"2016-07-06",51901]
[null,null,null,null,null,null,"2016-07-07",52014]
[null,null,null,null,null,null,"2016-07-08",53140]
[null,null,null,null,null,null,"2016-07-11",53960]
[null,null,null,null,null,null,"2016-07-12",54256]
[null,null,null,null,null,null,"2016-07-13",54598]
[null,null,null,null,null,null,"2016-07-14",55480]
[null,null,null,null,null,null,"2016-07-15",55578]
[null,null,null,null,null,null,"2016-07-18",56484]
[null,null,null,null,null,null,"2016-07-19",56698]
[null,null,null,null,null,null,"2016-07-20",56578]
[null,null,null,null,null,null,"2016-07-21",56641]
[null,null,null,null,null,null,"2016-07-22",57002]
[null,null,null,null,null,null,"2016-07-25",56872]
[null,null,null,null,null,null,"2016-07-26",56782]
[null,null,null,null,null,null,"2016-07-27",56852]
[null,null,null,null,null,null,"2016-07-28",56667]
[null,null,null,null,null,null,"2016-07-29",57308]
[null,null,null,null,null,null,"2016-08-01",56755]
[null,null,null,null,null,null,"2016-08-02",56162]
[null,null,null,null,null,null,"2016-08-03",57076]
[null,null,null,null,null,null,"2016-08-04",57593]
[null,null,null,null,null,null,"2016-08-05",57661]
[null,null,null,null,null,null,"2016-08-08",57635]
[null,null,null,null,null,null,"2016-08-09",57689]
[null,null,null,null,null,null,"2016-08-10",56919]
[null,null,null,null,null,null,"2016-08-11",58299]
[null,null,null,null,null,null,"2016-08-12",58298]
[null,null,null,null,null,null,"2016-08-15",59145]
[null,null,null,null,null,null,"2016-08-16",58855]
[null,null,null,null,null,null,"2016-08-17",59323]
[null,null,null,null,null,null,"2016-08-18",59166]
[null,null,null,null,null,null,"2016-08-19",59098]
[null,null,null,null,null,null,"2016-08-22",57781]
[null,null,null,null,null,null,"2016-08-23",58020]
[null,null,null,null,null,null,"2016-08-24",57717]
[null,null,null,null,null,null,"2016-08-25",57722]
[null,null,null,null,null,null,"2016-08-26",57716]
[null,null,null,null,null,null,"2016-08-29",58610]
[null,null,null,null,null,null,"2016-08-30",58575]
[null,null,null,null,null,null,"2016-08-31",57901]
[null,null,null,null,null,null,"2016-09-01",58236]
[null,null,null,null,null,null,"2016-09-02",59616]
[null,null,null,null,null,null,"2016-09-05",59566]
[null,null,null,null,null,null,"2016-09-06",60129]
[null,null,null,null,null,null,"2016-09-07"]
[null,null,null,null,null,null,"2016-09-08",60231]
[null,null,null,null,null,null,"2016-09-09",57999]
[null,null,null,null,null,null,"2016-09-12",58586]
[null,null,null,null,null,null,"2016-09-13",56820]
[null,null,null,null,null,null,"2016-09-14",57059]
[null,null,null,null,null,null,"2016-09-15",57909]
[null,null,null,null,null,null,"2016-09-16",57079]
[null,null,null,null,null,null,"2016-09-19",57350]
[null,null,null,null,null,null,"2016-09-20",57736]
[null,null,null,null,null,null,"2016-09-21",58393]
[null,null,null,null,null,null,"2016-09-22",58994]
[null,null,null,null,null,null,"2016-09-23",58697]
[null,null,null,null,null,null,"2016-09-26",58053]
[null,null,null,null,null,null,"2016-09-27",58382]
[null,null,null,null,null,null,"2016-09-28",59355]
[null,null,null,null,null,null,"2016-09-29",58350]
[null,null,null,null,null,null,"2016-09-30",58367]
[null,null,null,null,null,null,"2016-10-03",59461]
[null,null,null,null,null,null,"2016-10-04",59339]
[null,null,null,null,null,null,"2016-10-05",60254]
[null,null,null,null,null,null,"2016-10-06",60644]
[null,null,null,null,null,null,"2016-10-07",61108]
[null,null,null,null,null,null,"2016-10-10",61668]
[null,null,null,null,null,null,"2016-10-11",61021]
[null,null,null,null,null,null,"2016-10-12"]
[null,null,null,null,null,null,"2016-10-13",61118]
[null,null,null,null,null,null,"2016-10-14",61767]
[null,null,null,null,null,null,"2016-10-17",62696]
[null,null,null,null,null,null,"2016-10-18",63782]
[null,null,null,null,null,null,"2016-10-19",63505]
[null,null,null,null,null,null,"2016-10-20",63837]
[null,null,null,null,null,null,"2016-10-21",64108]
[null,null,null,null,null,null,"2016-10-24",64059]
[null,null,null,null,null,null,"2016-10-25",63866]
[null,null,null,null,null,null,"2016-10-26",63825]
[null,null,null,null,null,null,"2016-10-27",64249]
[null,null,null,null,null,null,"2016-10-28",64307]
[null,null,null,null,null,null,"2016-10-31",64924]
[null,null,null,null,null,null,"2016-11-01",63326]
[null,null,null,null,null,null,"2016-11-02"]
[null,null,null,null,null,null,"2016-11-03",61750]
[null,null,null,null,null,null,"2016-11-04",61598]
[null,null,null,null,null,null,"2016-11-07",64051]
[null,null,null,null,null,null,"2016-11-08",64157]
[null,null,null,null,null,null,"2016-11-09",63258]
[null,null,null,null,null,null,"2016-11-10",61200]
[null,null,null,null,null,null,"2016-11-11",59183]
[null,null,null,null,null,null,"2016-11-14",59657]
[null,null,null,null,null,null,"2016-11-15"]
[null,null,null,null,null,null,"2016-11-16",60759]
[null,null,null,null,null,null,"2016-11-17",59770]
[null,null,null,null,null,null,"2016-11-18",59961]
[null,null,null,null,null,null,"2016-11-21",61070]
[null,null,null,null,null,null,"2016-11-22",61954]
[null,null,null,null,null,null,"2016-11-23",61985]
[null,null,null,null,null,null,"2016-11-24",61395]
[null,null,null,null,null,null,"2016-11-25",61559]
[null,null,null,null,null,null,"2016-11-28",62855]
[null,null,null,null,null,null,"2016-11-29",60986]
[null,null,null,null,null,null,"2016-11-30",61906]
[null,null,null,null,null,null,"2016-12-01",59506]
[null,null,null,null,null,null,"2016-12-02",60316]
[null,null,null,null,null,null,"2016-12-05",59831]
[null,null,null,null,null,null,"2016-12-06",61088]
[null,null,null,null,null,null,"2016-12-07",61414]
[null,null,null,null,null,null,"2016-12-08",60676]
[null,null,null,null,null,null,"2016-12-09",60500]
[null,null,null,null,null,null,"2016-12-12",59178]
[null,null,null,null,null,null,"2016-12-13",59280]
[null,null,null,null,null,null,"2016-12-14",58212]
[null,null,null,null,null,null,"2016-12-15",58396]
[null,null,null,null,null,null,"2016-12-16",58389]
[null,null,null,null,null,null,"2016-12-19",57110]
[null,null,null,null,null,null,"2016-12-20",57582]
[null,null,null,null,null,null,"2016-12-21",57646]
[null,null,null,null,null,null,"2016-12-22",57255]
[null,null,null,null,null,null,"2016-12-23",57937]
[null,null,null,null,null,null,"2016-12-26",58620]
[null,null,null,null,null,null,"2016-12-27",58696]
[null,null,null,null,null,null,"2016-12-28",59781]
[null,null,null,null,null,null,"2016-12-29",60227]
[null,null,null,null,null,null,"2016-12-30"]
[null,null,null,null,null,null,"2017-01-02",59588]
[null,null,null,null,null,null,"2017-01-03",61813]
[null,null,null,null,null,null,"2017-01-04",61589]
[null,null,null,null,null,null,"2017-01-05",62070]
[null,null,null,null,null,null,"2017-01-06",61665]
[null,null,null,null,null,null,"2017-01-09",61700]
[null,null,null,null,null,null,"2017-01-10",62131]
[null,null,null,null,null,null,"2017-01-11",62446]
[null,null,null,null,null,null,"2017-01-12",63953]
[null,null,null,null,null,null,"2017-01-13",63651]
[null,null,null,null,null,null,"2017-01-16",63831]
[null,null,null,null,null,null,"2017-01-17",64354]
[null,null,null,null,null,null,"2017-01-18",64149]
[null,null,null,null,null,null,"2017-01-19",63950]
[null,null,null,null,null,null,"2017-01-20",64521]
[null,null,null,null,null,null,"2017-01-23",65748]
[null,null,null,null,null,null,"2017-01-24",65840]
[null,null,null,null,null,null,"2017-01-25"]
[null,null,null,null,null,null,"2017-01-26",66190]
[null,null,null,null,null,null,"2017-01-27",66033]
[null,null,null,null,null,null,"2017-01-30",64301]
[null,null,null,null,null,null,"2017-01-31",64670]
[null,null,null,null,null,null,"2017-02-01",64836]
[null,null,null,null,null,null,"2017-02-02",64578]
[null,null,null,null,null,null,"2017-02-03",64953]
[null,null,null,null,null,null,"2017-02-06",63992]
[null,null,null,null,null,null,"2017-02-07",64198]
[null,null,null,null,null,null,"2017-02-08",64835]
[null,null,null,null,null,null,"2017-02-09",64964]
[null,null,null,null,null,null,"2017-02-10",66124]
[null,null,null,null,null,null,"2017-02-13",66967]
[null,null,null,null,null,null,"2017-02-14",66712]
[null,null,null,null,null,null,"2017-02-15",67975]
[null,null,null,null,null,null,"2017-02-16",67814]
[null,null,null,null,null,null,"2017-02-17",67748]
[null,null,null,null,null,null,"2017-02-20",68532]
[null,null,null,null,null,null,"2017-02-21",69052]
[null,null,null,null,null,null,"2017-02-22",68589]
[null,null,null,null,null,null,"2017-02-23",67461]
[null,null,null,null,null,null,"2017-02-24",66662]
[null,null,null,null,null,null,"2017-02-27"]
[null,null,null,null,null,null,"2017-02-28"]
[null,null,null,null,null,null,"2017-03-01",66988]
[null,null,null,null,null,null,"2017-03-02",65854]
[null,null,null,null,null,null,"2017-03-03",66785]
[null,null,null,null,null,null,"2017-03-06",66341]
[null,null,null,null,null,null,"2017-03-07",65742]
[null,null,null,null,null,null,"2017-03-08",64718]
[null,null,null,null,null,null,"2017-03-09",64585]
[null,null,null,null,null,null,"2017-03-10",64675]
[null,null,null,null,null,null,"2017-03-13",65534]
[null,null,null,null,null,null,"2017-03-14",64699]
[null,null,null,null,null,null,"2017-03-15",66234]
[null,null,null,null,null,null,"2017-03-16",65782]
[null,null,null,null,null,null,"2017-03-17",64209]
[null,null,null,null,null,null,"2017-03-20",64884]
[null,null,null,null,null,null,"2017-03-21",62980]
[null,null,null,null,null,null,"2017-03-22",63521]
[null,null,null,null,null,null,"2017-03-23",63530]
[null,null,null,null,null,null,"2017-03-24",63853]
[null,null,null,null,null,null,"2017-03-27",64308]
[null,null,null,null,null,null,"2017-03-28",64640]
[null,null,null,null,null,null,"2017-03-29",65528]
[null,null,null,null,null,null,"2017-03-30",65265]
[null,null,null,null,null,null,"2017-03-31",64984]
[null,null,null,null,null,null,"2017-04-03",65211]
[null,null,null,null,null,null,"2017-04-04",65768]
[null,null,null,null,null,null,"2017-04-05",64774]
[null,null,null,null,null,null,"2017-04-06",64222]
[null,null,null,null,null,null,"2017-04-07",64593]
[null,null,null,null,null,null,"2017-04-10",64649]
[null,null,null,null,null,null,"2017-04-11",64359]
[null,null,null,null,null,null,"2017-04-12",63891]
[null,null,null,null,null,null,"2017-04-13",62826]
[null,null,null,null,null,null,"2017-04-14"]
[null,null,null,null,null,null,"2017-04-17",64334]
[null,null,null,null,null,null,"2017-04-18",64158]
[null,null,null,null,null,null,"2017-04-19",63406]
[null,null,null,null,null,null,"2017-04-20",63760]
[null,null,null,null,null,null,"2017-04-21"]
[null,null,null,null,null,null,"2017-04-24",64389]
[null,null,null,null,null,null,"2017-04-25",65148]
[null,null,null,null,null,null,"2017-04-26",64861]
[null,null,null,null,null,null,"2017-04-27",64676]
[null,null,null,null,null,null,"2017-04-28",65403]
[null,null,null,null,null,null,"2017-05-01"]
[null,null,null,null,null,null,"2017-05-02",66721]
[null,null,null,null,null,null,"2017-05-03",66093]
[null,null,null,null,null,null,"2017-05-04",64862]
[null,null,null,null,null,null,"2017-05-05",65709]
[null,null,null,null,null,null,"2017-05-08",65526]
[null,null,null,null,null,null,"2017-05-09",66277]
[null,null,null,null,null,null,"2017-05-10",67349]
[null,null,null,null,null,null,"2017-05-11",67537]
[null,null,null,null,null,null,"2017-05-12",68221]
[null,null,null,null,null,null,"2017-05-15",68474]
[null,null,null,null,null,null,"2017-05-16",68684]
[null,null,null,null,null,null,"2017-05-17",67540]
[null,null,null,null,null,null,"2017-05-18",61597]
[null,null,null,null,null,null,"2017-05-19",62639]
[null,null,null,null,null,null,"2017-05-22",61673]
[null,null,null,null,null,null,"2017-05-23",62662]
[null,null,null,null,null,null,"2017-05-24",63257]
[null,null,null,null,null,null,"2017-05-25",63226]
[null,null,null,null,null,null,"2017-05-26",64085]
[null,null,null,null,null,null,"2017-05-29",63760]
[null,null,null,null,null,null,"2017-05-30",63962]
[null,null,null,null,null,null,"2017-05-31",62711]
[null,null,null,null,null,null,"2017-06-01",62288]
[null,null,null,null,null,null,"2017-06-02",62510]
[null,null,null,null,null,null,"2017-06-05",62450]
[null,null,null,null,null,null,"2017-06-06",62954]
[null,null,null,null,null,null,"2017-06-07",63170]
[null,null,null,null,null,null,"2017-06-08",62755]
[null,null,null,null,null,null,"2017-06-09",62210]
[null,null,null,null,null,null,"2017-06-12",61700]
[null,null,null,null,null,null,"2017-06-13",61828]
[null,null,null,null,null,null,"2017-06-14",61922]
[null,null,null,null,null,null,"2017-06-15"]
[null,null,null,null,null,null,"2017-06-16",61626]
[null,null,null,null,null,null,"2017-06-19",62014]
[null,null,null,null,null,null,"2017-06-20",60766]
[null,null,null,null,null,null,"2017-06-21",60761]
[null,null,null,null,null,null,"2017-06-22",61272]
[null,null,null,null,null,null,"2017-06-23",61087]
[null,null,null,null,null,null,"2017-06-26",62188]
[null,null,null,null,null,null,"2017-06-27",61675]
[null,null,null,null,null,null,"2017-06-28",62017]
[null,null,null,null,null,null,"2017-06-29",62238]
[null,null,null,null,null,null,"2017-06-30",62899]
[null,null,null,null,null,null,"2017-07-03",63279]
[null,null,null,null,null,null,"2017-07-04",63231]
[null,null,null,null,null,null,"2017-07-05",63154]
[null,null,null,null,null,null,"2017-07-06",62470]
[null,null,null,null,null,null,"2017-07-07",62322]
[null,null,null,null,null,null,"2017-07-10",63025]
[null,null,null,null,null,null,"2017-07-11",63832]
[null,null,null,null,null,null,"2017-07-12",64835]
[null,null,null,null,null,null,"2017-07-13",65178]
[null,null,null,null,null,null,"2017-07-14",65436]
[null,null,null,null,null,null,"2017-07-17",65212]
[null,null,null,null,null,null,"2017-07-18",65337]
[null,null,null,null,null,null,"2017-07-19",65179]
[null,null,null,null,null,null,"2017-07-20",64938]
[null,null,null,null,null,null,"2017-07-21",64684]
[null,null,null,null,null,null,"2017-07-24",65099]
[null,null,null,null,null,null,"2017-07-25",65667]
[null,null,null,null,null,null,"2017-07-26",65010]
[null,null,null,null,null,null,"2017-07-27",65277]
[null,null,null,null,null,null,"2017-07-28",65497]
[null,null,null,null,null,null,"2017-07-31",65920]
[null,null,null,null,null,null,"2017-08-01",66516]
[null,null,null,null,null,null,"2017-08-02",67135]
[null,null,null,null,null,null,"2017-08-03",66777]
[null,null,null,null,null,null,"2017-08-04",66897]
[null,null,null,null,null,null,"2017-08-07",67939]
[null,null,null,null,null,null,"2017-08-08",67898]
[null,null,null,null,null,null,"2017-08-09",67671]
[null,null,null,null,null,null,"2017-08-10",66992]
[null,null,null,null,null,null,"2017-08-11",67358]
[null,null,null,null,null,null,"2017-08-14",68284]
[null,null,null,null,null,null,"2017-08-15",68355]
[null,null,null,null,null,null,"2017-08-16",68594]
[null,null,null,null,null,null,"2017-08-17",67976]
[null,null,null,null,null,null,"2017-08-18",68714]
[null,null,null,null,null,null,"2017-08-21",68634]
[null,null,null,null,null,null,"2017-08-22",70011]
[null,null,null,null,null,null,"2017-08-23",70477]
[null,null,null,null,null,null,"2017-08-24",71132]
[null,null,null,null,null,null,"2017-08-25",71073]
[null,null,null,null,null,null,"2017-08-28",71016]
[null,null,null,null,null,null,"2017-08-29",71329.850000000006]
[null,null,null,null,null,null,"2017-08-30",70886.259999999995]
[null,null,null,null,null,null,"2017-08-31",70835.05]
[null,null,null,null,null,null,"2017-09-01",71923.11]
[null,null,null,null,null,null,"2017-09-04",72128.83]
[null,null,null,null,null,null,"2017-09-05",72150.880000000005]
[null,null,null,null,null,null,"2017-09-06",73412.41]
[null,null,null,null,null,null,"2017-09-07"]
[null,null,null,null,null,null,"2017-09-08",73078.850000000006]
[null,null,null,null,null,null,"2017-09-11",74319.22]
[null,null,null,null,null,null,"2017-09-12",74538.55]
[null,null,null,null,null,null,"2017-09-13",74787.570000000007]
[null,null,null,null,null,null,"2017-09-14",74656.679999999993]
[null,null,null,null,null,null,"2017-09-15",75756.52]
[null,null,null,null,null,null,"2017-09-18",75990.41]
[null,null,null,null,null,null,"2017-09-19",75974.179999999993]
[null,null,null,null,null,null,"2017-09-20",76004.149999999994]
[null,null,null,null,null,null,"2017-09-21",75604.34]
[null,null,null,null,null,null,"2017-09-22",75389.75]
[null,null,null,null,null,null,"2017-09-25",74443.47]
[null,null,null,null,null,null,"2017-09-26",74318.720000000001]
[null,null,null,null,null,null,"2017-09-27",73796.710000000006]
[null,null,null,null,null,null,"2017-09-28",73567.25]
[null,null,null,null,null,null,"2017-09-29",74293.509999999995]
[null,null,null,null,null,null,"2017-10-02",74359.83]
[null,null,null,null,null,null,"2017-10-03",76762.91]
[null,null,null,null,null,null,"2017-10-04",76591.44]
[null,null,null,null,null,null,"2017-10-05",76617.53]
[null,null,null,null,null,null,"2017-10-06",76054.720000000001]
[null,null,null,null,null,null,"2017-10-09",75726.81]
[null,null,null,null,null,null,"2017-10-10",76897.210000000006]
[null,null,null,null,null,null,"2017-10-11",76659.8]
[null,null,null,null,null,null,"2017-10-12"]
[null,null,null,null,null,null,"2017-10-13",76989.789999999994]
[null,null,null,null,null,null,"2017-10-16",76891.839999999997]
[null,null,null,null,null,null,"2017-10-17",76201.25]
[null,null,null,null,null,null,"2017-10-18",76591.09]
[null,null,null,null,null,null,"2017-10-19",76283.16]
[null,null,null,null,null,null,"2017-10-20",76390.509999999995]
[null,null,null,null,null,null,"2017-10-23",75413.13]
[null,null,null,null,null,null,"2017-10-24",76350.19]
[null,null,null,null,null,null,"2017-10-25",76671.13]
[null,null,null,null,null,null,"2017-10-26",75896.350000000006]
[null,null,null,null,null,null,"2017-10-27",75975.710000000006]
[null,null,null,null,null,null,"2017-10-30",74800.33]
[null,null,null,null,null,null,"2017-10-31",74308.490000000005]
[null,null,null,null,null,null,"2017-11-01",73823.740000000005]
[null,null,null,null,null,null,"2017-11-02"]
[null,null,null,null,null,null,"2017-11-03",73915.429999999993]
[null,null,null,null,null,null,"2017-11-06",74310.789999999994]
[null,null,null,null,null,null,"2017-11-07",72414.880000000005]
[null,null,null,null,null,null,"2017-11-08",74363.13]
[null,null,null,null,null,null,"2017-11-09",72930.69]
[null,null,null,null,null,null,"2017-11-10",72165.64]
[null,null,null,null,null,null,"2017-11-13",72475.17]
[null,null,null,null,null,null,"2017-11-14",70826.59]
[null,null,null,null,null,null,"2017-11-15"]
[null,null,null,null,null,null,"2017-11-16",72511.789999999994]
[null,null,null,null,null,null,"2017-11-17",73437.279999999999]
[null,null,null,null,null,null,"2017-11-20"]
[null,null,null,null,null,null,"2017-11-21",74594.61]
[null,null,null,null,null,null,"2017-11-22",74518.789999999994]
[null,null,null,null,null,null,"2017-11-23",74486.58]
[null,null,null,null,null,null,"2017-11-24",74157.37]
[null,null,null,null,null,null,"2017-11-27",74058.92]
[null,null,null,null,null,null,"2017-11-28",74139.72]
[null,null,null,null,null,null,"2017-11-29",72700.45]
[null,null,null,null,null,null,"2017-11-30",71970.990000000005]
[null,null,null,null,null,null,"2017-12-01",72264.45]
[null,null,null,null,null,null,"2017-12-04",73090.17]
[null,null,null,null,null,null,"2017-12-05",72546.17]
[null,null,null,null,null,null,"2017-12-06",73268.350000000006]
[null,null,null,null,null,null,"2017-12-07",72487.460000000006]
[null,null,null,null,null,null,"2017-12-08",72731.839999999997]
[null,null,null,null,null,null,"2017-12-11",72800.039999999994]
[null,null,null,null,null,null,"2017-12-12",73813.53]
[null,null,null,null,null,null,"2017-12-13",72914.33]
[null,null,null,null,null,null,"2017-12-14",72428.929999999993]
[null,null,null,null,null,null,"2017-12-15",72607.7]
[null,null,null,null,null,null,"2017-12-18",73115.45]
[null,null,null,null,null,null,"2017-12-19",72680.37]
[null,null,null,null,null,null,"2017-12-20",73367.03]
[null,null,null,null,null,null,"2017-12-21",75133.429999999993]
[null,null,null,null,null,null,"2017-12-22",75186.53]
[null,null,null,null,null,null,"2017-12-25"]
[null,null,null,null,null,null,"2017-12-26",75707.73]
[null,null,null,null,null,null,"2017-12-27",76072.539999999994]
[null,null,null,null,null,null,"2017-12-28",76402.080000000002]
[null,null,null,null,null,null,"2017-12-29"]
[null,null,null,null,null,null,"2018-01-01"]
[null,null,null,null,null,null,"2018-01-02",77891.039999999994]
[null,null,null,null,null,null,"2018-01-03",77995.16]
[null,null,null,null,null,null,"2018-01-04",78647.42]
[null,null,null,null,null,null,"2018-01-05",79071.47]
[null,null,null,null,null,null,"2018-01-08",79378.539999999994]
[null,null,null,null,null,null,"2018-01-09",78863.539999999994]
[null,null,null,null,null,null,"2018-01-10",78200.570000000007]
[null,null,null,null,null,null,"2018-01-11",79365.440000000002]
[null,null,null,null,null,null,"2018-01-12",79349.119999999995]
[null,null,null,null,null,null,"2018-01-15",79752.37]
[null,null,null,null,null,null,"2018-01-16",79831.759999999995]
[null,null,null,null,null,null,"2018-01-17",81189.16]
[null,null,null,null,null,null,"2018-01-18",80962.649999999994]
[null,null,null,null,null,null,"2018-01-19",81219.5]
[null,null,null,null,null,null,"2018-01-22",81675.42]
[null,null,null,null,null,null,"2018-01-23",80678.350000000006]
[null,null,null,null,null,null,"2018-01-24",83680]
[null,null,null,null,null,null,"2018-01-25"]
[null,null,null,null,null,null,"2018-01-26",85530.84]
[null,null,null,null,null,null,"2018-01-29",84698.01]
[null,null,null,null,null,null,"2018-01-30",84482.46]
[null,null,null,null,null,null,"2018-01-31",84912.7]
[null,null,null,null,null,null,"2018-02-01",85495.24]
[null,null,null,null,null,null,"2018-02-02",84041.34]
[null,null,null,null,null,null,"2018-02-05",81861.09]
[null,null,null,null,null,null,"2018-02-06",83894.04]
[null,null,null,null,null,null,"2018-02-07",82766.73]
[null,null,null,null,null,null,"2018-02-08",81532.53]
[null,null,null,null,null,null,"2018-02-09",80898.7]
[null,null,null,null,null,null,"2018-02-12"]
[null,null,null,null,null,null,"2018-02-13"]
[null,null,null,null,null,null,"2018-02-14",83542.84]
[null,null,null,null,null,null,"2018-02-15",84290.57]
[null,null,null,null,null,null,"2018-02-16",84524.58]
[null,null,null,null,null,null,"2018-02-19",84792.71]
[null,null,null,null,null,null,"2018-02-20",85803.96]
[null,null,null,null,null,null,"2018-02-21",86051.82]
[null,null,null,null,null,null,"2018-02-22",86686.45]
[null,null,null,null,null,null,"2018-02-23",87293.24]
[null,null,null,null,null,null,"2018-02-26",87652.64]
[null,null,null,null,null,null,"2018-02-27",86935.44]
[null,null,null,null,null,null,"2018-02-28",85353.600000000006]
[null,null,null,null,null,null,"2018-03-01",85377.79]
[null,null,null,null,null,null,"2018-03-02",85761.34]
[null,null,null,null,null,null,"2018-03-05",86022.83]
[null,null,null,null,null,null,"2018-03-06",85653.02]
[null,null,null,null,null,null,"2018-03-07",85483.55]
[null,null,null,null,null,null,"2018-03-08",84984.61]
[null,null,null,null,null,null,"2018-03-09",86371.41]
[null,null,null,null,null,null,"2018-03-12",86900.43]
[null,null,null,null,null,null,"2018-03-13",86383.85]
[null,null,null,null,null,null,"2018-03-14",86050.96]
[null,null,null,null,null,null,"2018-03-15",84928.2]
[null,null,null,null,null,null,"2018-03-16",84886.49]
[null,null,null,null,null,null,"2018-03-19",83913.06]
[null,null,null,null,null,null,"2018-03-20",84163.8]
[null,null,null,null,null,null,"2018-03-21",84976.59]
[null,null,null,null,null,null,"2018-03-22",84767.88]
[null,null,null,null,null,null,"2018-03-23",84377.19]
[null,null,null,null,null,null,"2018-03-26",85087.86]
[null,null,null,null,null,null,"2018-03-27",83808.06]
[null,null,null,null,null,null,"2018-03-28",83874.14]
[null,null,null,null,null,null,"2018-03-29",85365.56]
[null,null,null,null,null,null,"2018-03-30"]
[null,null,null,null,null,null,"2018-04-02",84666.44]
[null,null,null,null,null,null,"2018-04-03",84623.46]
[null,null,null,null,null,null,"2018-04-04",84359.69]
[null,null,null,null,null,null,"2018-04-05",85209.66]
[null,null,null,null,null,null,"2018-04-06",84820.42]
[null,null,null,null,null,null,"2018-04-09",83307.23]
[null,null,null,null,null,null,"2018-04-10",84510.36]
[null,null,null,null,null,null,"2018-04-11",85245.59]
[null,null,null,null,null,null,"2018-04-12",85443.53]
[null,null,null,null,null,null,"2018-04-13",84334.41]
[null,null,null,null,null,null,"2018-04-16",82861.58]
[null,null,null,null,null,null,"2018-04-17",84086.13]
[null,null,null,null,null,null,"2018-04-18",85776.46]
[null,null,null,null,null,null,"2018-04-19",85824.26]
[null,null,null,null,null,null,"2018-04-20",85550.09]
[null,null,null,null,null,null,"2018-04-23",85602.5]
[null,null,null,null,null,null,"2018-04-24",85469.08]
[null,null,null,null,null,null,"2018-04-25",85044.39]
[null,null,null,null,null,null,"2018-04-26",86383.2]
[null,null,null,null,null,null,"2018-04-27",86444.66]
[null,null,null,null,null,null,"2018-04-30",86115.5]
[null,null,null,null,null,null,"2018-05-01"]
[null,null,null,null,null,null,"2018-05-02",84547.09]
[null,null,null,null,null,null,"2018-05-03",83288.14]
[null,null,null,null,null,null,"2018-05-04",83118.03]
[null,null,null,null,null,null,"2018-05-07",82714.429999999993]
[null,null,null,null,null,null,"2018-05-08",82956.05]
[null,null,null,null,null,null,"2018-05-09",84265.49]
[null,null,null,null,null,null,"2018-05-10",85861.2]
[null,null,null,null,null,null,"2018-05-11",85220.24]
[null,null,null,null,null,null,"2018-05-14",85232.18]
[null,null,null,null,null,null,"2018-05-15",85130.42]
[null,null,null,null,null,null,"2018-05-16",86536.97]
[null,null,null,null,null,null,"2018-05-17",83621.95]
[null,null,null,null,null,null,"2018-05-18",83081.88]
[null,null,null,null,null,null,"2018-05-21",81815.320000000007]
[null,null,null,null,null,null,"2018-05-22",82738.880000000005]
[null,null,null,null,null,null,"2018-05-23",80867.289999999994]
[null,null,null,null,null,null,"2018-05-24",80122.31]
[null,null,null,null,null,null,"2018-05-25",78897.66]
[null,null,null,null,null,null,"2018-05-28",75355.839999999997]
[null,null,null,null,null,null,"2018-05-29",76071.97]
[null,null,null,null,null,null,"2018-05-30",76753.61]
[null,null,null,null,null,null,"2018-05-31"]
[null,null,null,null,null,null,"2018-06-01",77239.75]
[null,null,null,null,null,null,"2018-06-04",78596.06]
[null,null,null,null,null,null,"2018-06-05",76641.72]
[null,null,null,null,null,null,"2018-06-06",76117.22]
[null,null,null,null,null,null,"2018-06-07",73851.460000000006]
[null,null,null,null,null,null,"2018-06-08",72942.070000000007]
[null,null,null,null,null,null,"2018-06-11",72307.77]
[null,null,null,null,null,null,"2018-06-12",72754.13]
[null,null,null,null,null,null,"2018-06-13",72122.14]
[null,null,null,null,null,null,"2018-06-14",71421.19]
[null,null,null,null,null,null,"2018-06-15",70757.73]
[null,null,null,null,null,null,"2018-06-18",69814.740000000005]
[null,null,null,null,null,null,"2018-06-19",71394.34]
[null,null,null,null,null,null,"2018-06-20",72123.41]
[null,null,null,null,null,null,"2018-06-21",70074.899999999994]
[null,null,null,null,null,null,"2018-06-22",70640.649999999994]
[null,null,null,null,null,null,"2018-06-25",70952.97]
[null,null,null,null,null,null,"2018-06-26",71404.59]
[null,null,null,null,null,null,"2018-06-27",70609.009999999995]
[null,null,null,null,null,null,"2018-06-28",71766.53]
[null,null,null,null,null,null,"2018-06-29",72762.52]
[null,null,null,null,null,null,"2018-07-02",72839.740000000005]
[null,null,null,null,null,null,"2018-07-03",73667.759999999995]
[null,null,null,null,null,null,"2018-07-04",74743.12]
[null,null,null,null,null,null,"2018-07-05",74553.06]
[null,null,null,null,null,null,"2018-07-06",75010.39]
[null,null,null,null,null,null,"2018-07-09"]
[null,null,null,null,null,null,"2018-07-10",74862.38]
[null,null,null,null,null,null,"2018-07-11",74398.55]
[null,null,null,null,null,null,"2018-07-12",75856.23]
[null,null,null,null,null,null,"2018-07-13",76594.36]
[null,null,null,null,null,null,"2018-07-16",76652.59]
[null,null,null,null,null,null,"2018-07-17",78130.3]
[null,null,null,null,null,null,"2018-07-18",77362.64]
[null,null,null,null,null,null,"2018-07-19",77486.84]
[null,null,null,null,null,null,"2018-07-20",78571.289999999994]
[null,null,null,null,null,null,"2018-07-23",77996.12]
[null,null,null,null,null,null,"2018-07-24",79154.990000000005]
[null,null,null,null,null,null,"2018-07-25",80218.05]
[null,null,null,null,null,null,"2018-07-26",79405.34]
[null,null,null,null,null,null,"2018-07-27",79866.11]
[null,null,null,null,null,null,"2018-07-30",80275.600000000006]
[null,null,null,null,null,null,"2018-07-31",79220.44]
[null,null,null,null,null,null,"2018-08-01",79301.649999999994]
[null,null,null,null,null,null,"2018-08-02",79636.69]
[null,null,null,null,null,null,"2018-08-03",81434.98]
[null,null,null,null,null,null,"2018-08-06",81050.759999999995]
[null,null,null,null,null,null,"2018-08-07",80346.53]
[null,null,null,null,null,null,"2018-08-08",79151.7]
[null,null,null,null,null,null,"2018-08-09",78767.990000000005]
[null,null,null,null,null,null,"2018-08-10",76514.36]
[null,null,null,null,null,null,"2018-08-13",77496.460000000006]
[null,null,null,null,null,null,"2018-08-14",78602.12]
[null,null,null,null,null,null,"2018-08-15",77077.5]
[null,null,null,null,null,null,"2018-08-16",76818.720000000001]
[null,null,null,null,null,null,"2018-08-17",76028.509999999995]
[null,null,null,null,null,null,"2018-08-20",76327.89]
[null,null,null,null,null,null,"2018-08-21",75180.399999999994]
[null,null,null,null,null,null,"2018-08-22",76902.31]
[null,null,null,null,null,null,"2018-08-23",75633.77]
[null,null,null,null,null,null,"2018-08-24",76262.240000000005]
[null,null,null,null,null,null,"2018-08-27",77929.69]
[null,null,null,null,null,null,"2018-08-28",77473.179999999993]
[null,null,null,null,null,null,"2018-08-29",78388.84]
[null,null,null,null,null,null,"2018-08-30",76404.100000000006]
[null,null,null,null,null,null,"2018-08-31",76677.53]
[null,null,null,null,null,null,"2018-09-03",76192.740000000005]
[null,null,null,null,null,null,"2018-09-04",74711.8]
[null,null,null,null,null,null,"2018-09-05",75092.27]
[null,null,null,null,null,null,"2018-09-06",76416.02]
[null,null,null,null,null,null,"2018-09-07"]
[null,null,null,null,null,null,"2018-09-10",76436.36]
[null,null,null,null,null,null,"2018-09-11",74656.509999999995]
[null,null,null,null,null,null,"2018-09-12",75124.81]
[null,null,null,null,null,null,"2018-09-13",74686.679999999993]
[null,null,null,null,null,null,"2018-09-14",75429.100000000006]
[null,null,null,null,null,null,"2018-09-17",76788.86]
[null,null,null,null,null,null,"2018-09-18",78313.97]
[null,null,null,null,null,null,"2018-09-19",78168.66]
[null,null,null,null,null,null,"2018-09-20",78116.02]
[null,null,null,null,null,null,"2018-09-21",79444.289999999994]
[null,null,null,null,null,null,"2018-09-24",77984.19]
[null,null,null,null,null,null,"2018-09-25",78630.149999999994]
[null,null,null,null,null,null,"2018-09-26",78656.160000000003]
[null,null,null,null,null,null,"2018-09-27",80000.09]
[null,null,null,null,null,null,"2018-09-28",79342.429999999993]
[null,null,null,null,null,null,"2018-10-01",78623.66]
[null,null,null,null,null,null,"2018-10-02",81612.28]
[null,null,null,null,null,null,"2018-10-03",83273.399999999994]
[null,null,null,null,null,null,"2018-10-04",82952.81]
[null,null,null,null,null,null,"2018-10-05",82321.52]
[null,null,null,null,null,null,"2018-10-08",86083.92]
[null,null,null,null,null,null,"2018-10-09",86087.55]
[null,null,null,null,null,null,"2018-10-10",83679.12]
[null,null,null,null,null,null,"2018-10-11",82921.08]
[null,null,null,null,null,null,"2018-10-12"]
[null,null,null,null,null,null,"2018-10-15",83359.77]
[null,null,null,null,null,null,"2018-10-16",85717.57]
[null,null,null,null,null,null,"2018-10-17",85763.96]
[null,null,null,null,null,null,"2018-10-18",83847.12]
[null,null,null,null,null,null,"2018-10-19",84219.75]
[null,null,null,null,null,null,"2018-10-22",85596.7]
[null,null,null,null,null,null,"2018-10-23",85300.04]
[null,null,null,null,null,null,"2018-10-24",83063.56]
[null,null,null,null,null,null,"2018-10-25",84083.51]
[null,null,null,null,null,null,"2018-10-26",85719.88]
[null,null,null,null,null,null,"2018-10-29",83796.710000000006]
[null,null,null,null,null,null,"2018-10-30",86885.71]
[null,null,null,null,null,null,"2018-10-31",87423.55]
[null,null,null,null,null,null,"2018-11-01",88419.05]
[null,null,null,null,null,null,"2018-11-02"]
[null,null,null,null,null,null,"2018-11-05",89598.16]
[null,null,null,null,null,null,"2018-11-06",88668.92]
[null,null,null,null,null,null,"2018-11-07",87714.35]
[null,null,null,null,null,null,"2018-11-08",85620.14]
[null,null,null,null,null,null,"2018-11-09",85641.22]
[null,null,null,null,null,null,"2018-11-12",85524.7]
[null,null,null,null,null,null,"2018-11-13",84914.11]
[null,null,null,null,null,null,"2018-11-14",85973.06]
[null,null,null,null,null,null,"2018-11-15"]
[null,null,null,null,null,null,"2018-11-16",88515.27]
[null,null,null,null,null,null,"2018-11-19",87900.84]
[null,null,null,null,null,null,"2018-11-20"]
[null,null,null,null,null,null,"2018-11-21",87268.800000000003]
[null,null,null,null,null,null,"2018-11-22",87477.440000000002]
[null,null,null,null,null,null,"2018-11-23",86230.23]
[null,null,null,null,null,null,"2018-11-26",85546.51]
[null,null,null,null,null,null,"2018-11-27",87891.18]
[null,null,null,null,null,null,"2018-11-28",89250.83]
[null,null,null,null,null,null,"2018-11-29",89709.57]
[null,null,null,null,null,null,"2018-11-30",89504.03]
[null,null,null,null,null,null,"2018-12-03",89820.09]
[null,null,null,null,null,null,"2018-12-04",88624.45]
[null,null,null,null,null,null,"2018-12-05",89039.8]
[null,null,null,null,null,null,"2018-12-06",88846.49]
[null,null,null,null,null,null,"2018-12-07",88115.08]
[null,null,null,null,null,null,"2018-12-10",85914.71]
[null,null,null,null,null,null,"2018-12-11",86419.58]
[null,null,null,null,null,null,"2018-12-12",86977.46]
[null,null,null,null,null,null,"2018-12-13",87837.59]
[null,null,null,null,null,null,"2018-12-14",87449.51]
[null,null,null,null,null,null,"2018-12-17",86399.679999999993]
[null,null,null,null,null,null,"2018-12-18",86610.5]
[null,null,null,null,null,null,"2018-12-19",85673.53]
[null,null,null,null,null,null,"2018-12-20",85269.3]
[null,null,null,null,null,null,"2018-12-21",85697.16]
[null,null,null,null,null,null,"2018-12-24"]
[null,null,null,null,null,null,"2018-12-25"]
[null,null,null,null,null,null,"2018-12-26",85136.11]
[null,null,null,null,null,null,"2018-12-27",85460.21]
[null,null,null,null,null,null,"2018-12-28",87887.27]
[null,null,null,null,null,null,"2018-12-31"]
[null,null,null,null,null,null,"2019-01-01"]
[null,null,null,null,null,null,"2019-01-02",91012.32]
[null,null,null,null,null,null,"2019-01-03",91564.26]
[null,null,null,null,null,null,"2019-01-04",91840.8]
[null,null,null,null,null,null,"2019-01-07",91699.05]
[null,null,null,null,null,null,"2019-01-08",92031.86]
[null,null,null,null,null,null,"2019-01-09",93613.05]
[null,null,null,null,null,null,"2019-01-10",93805.94]
[null,null,null,null,null,null,"2019-01-11",93658.31]
[null,null,null,null,null,null,"2019-01-14",94474.13]
[null,null,null,null,null,null,"2019-01-15",94055.72]
[null,null,null,null,null,null,"2019-01-16",94393.08]
[null,null,null,null,null,null,"2019-01-17",95351.09]
[null,null,null,null,null,null,"2019-01-18",96096.75]
[null,null,null,null,null,null,"2019-01-21",96009.78]
[null,null,null,null,null,null,"2019-01-22",95103.38]
[null,null,null,null,null,null,"2019-01-23",96558.43]
[null,null,null,null,null,null,"2019-01-24",97677.2]
[null,null,null,null,null,null,"2019-01-25"]
[null,null,null,null,null,null,"2019-01-28",95443.88]
[null,null,null,null,null,null,"2019-01-29",95639.33]
[null,null,null,null,null,null,"2019-01-30",96996.21]
[null,null,null,null,null,null,"2019-01-31",97393.75]
[null,null,null,null,null,null,"2019-02-01",97861.28]
[null,null,null,null,null,null,"2019-02-04",98588.64]
[null,null,null,null,null,null,"2019-02-05",98311.21]
[null,null,null,null,null,null,"2019-02-06",94635.57]
[null,null,null,null,null,null,"2019-02-07",94405.6]
[null,null,null,null,null,null,"2019-02-08",95343.11]
[null,null,null,null,null,null,"2019-02-11",94412.92]
[null,null,null,null,null,null,"2019-02-12",96168.4]
[null,null,null,null,null,null,"2019-02-13",95842.41]
[null,null,null,null,null,null,"2019-02-14",98015.1]
[null,null,null,null,null,null,"2019-02-15",97525.91]
[null,null,null,null,null,null,"2019-02-18",96509.89]
[null,null,null,null,null,null,"2019-02-19",97659.16]
[null,null,null,null,null,null,"2019-02-20",96544.82]
[null,null,null,null,null,null,"2019-02-21",96932.28]
[null,null,null,null,null,null,"2019-02-22",97885.6]
[null,null,null,null,null,null,"2019-02-25",97239.9]
[null,null,null,null,null,null,"2019-02-26",97602.5]
[null,null,null,null,null,null,"2019-02-27",97307.32]
[null,null,null,null,null,null,"2019-02-28",95584.35]
[null,null,null,null,null,null,"2019-03-01",94603.76]
[null,null,null,null,null,null,"2019-03-04"]
[null,null,null,null,null,null,"2019-03-05"]
[null,null,null,null,null,null,"2019-03-06",94216.88]
[null,null,null,null,null,null,"2019-03-07",94340.18]
[null,null,null,null,null,null,"2019-03-08",95364.86]
[null,null,null,null,null,null,"2019-03-11",98026.62]
[null,null,null,null,null,null,"2019-03-12",97828.04]
[null,null,null,null,null,null,"2019-03-13",98903.89]
[null,null,null,null,null,null,"2019-03-14",98604.67]
[null,null,null,null,null,null,"2019-03-15",99136.74]
[null,null,null,null,null,null,"2019-03-18",99993.93]
[null,null,null,null,null,null,"2019-03-19",99588.38]
[null,null,null,null,null,null,"2019-03-20",98041.38]
[null,null,null,null,null,null,"2019-03-21",96729.08]
[null,null,null,null,null,null,"2019-03-22",93735.16]
[null,null,null,null,null,null,"2019-03-25",93662.01]
[null,null,null,null,null,null,"2019-03-26",95306.82]
[null,null,null,null,null,null,"2019-03-27",91903.41]
[null,null,null,null,null,null,"2019-03-28",94388.94]
[null,null,null,null,null,null,"2019-03-29",95414.56]
[null,null,null,null,null,null,"2019-04-01",96054.46]
[null,null,null,null,null,null,"2019-04-02",95386.76]
[null,null,null,null,null,null,"2019-04-03",94491.48]
[null,null,null,null,null,null,"2019-04-04",96313.07]
[null,null,null,null,null,null,"2019-04-05",97108.17]
[null,null,null,null,null,null,"2019-04-08",97369.29]
[null,null,null,null,null,null,"2019-04-09",96291.79]
[null,null,null,null,null,null,"2019-04-10",95953.45]
[null,null,null,null,null,null,"2019-04-11",94754.7]
[null,null,null,null,null,null,"2019-04-12",92875]
[null,null,null,null,null,null,"2019-04-15",93082.97]
[null,null,null,null,null,null,"2019-04-16",94333.31]
[null,null,null,null,null,null,"2019-04-17",93284.75]
[null,null,null,null,null,null,"2019-04-18",94578.26]
[null,null,null,null,null,null,"2019-04-19"]
[null,null,null,null,null,null,"2019-04-22",94588.06]
[null,null,null,null,null,null,"2019-04-23",95923.24]
[null,null,null,null,null,null,"2019-04-24",95045.43]
[null,null,null,null,null,null,"2019-04-25",96552.03]
[null,null,null,null,null,null,"2019-04-26",96236.04]
[null,null,null,null,null,null,"2019-04-29",96187.75]
[null,null,null,null,null,null,"2019-04-30",96353.33]
[null,null,null,null,null,null,"2019-05-01"]
[null,null,null,null,null,null,"2019-05-02",95527.62]
[null,null,null,null,null,null,"2019-05-03",96007.89]
[null,null,null,null,null,null,"2019-05-06",95008.66]
[null,null,null,null,null,null,"2019-05-07",94388.73]
[null,null,null,null,null,null,"2019-05-08",95596.61]
[null,null,null,null,null,null,"2019-05-09",94807.85]
[null,null,null,null,null,null,"2019-05-10",94257.56]
[null,null,null,null,null,null,"2019-05-13",91726.54]
[null,null,null,null,null,null,"2019-05-14",92092.44]
[null,null,null,null,null,null,"2019-05-15",91623.44]
[null,null,null,null,null,null,"2019-05-16",90024.47]
[null,null,null,null,null,null,"2019-05-17",89992.73]
[null,null,null,null,null,null,"2019-05-20",91946.19]
[null,null,null,null,null,null,"2019-05-21",94484.63]
[null,null,null,null,null,null,"2019-05-22",94360.66]
[null,null,null,null,null,null,"2019-05-23",93910.03]
[null,null,null,null,null,null,"2019-05-24",93627.8]
[null,null,null,null,null,null,"2019-05-27",94864.25]
[null,null,null,null,null,null,"2019-05-28",96392.76]
[null,null,null,null,null,null,"2019-05-29",96566.55]
[null,null,null,null,null,null,"2019-05-30",97457.36]
[null,null,null,null,null,null,"2019-05-31",97030.32]
[null,null,null,null,null,null,"2019-06-03",97020.479999999996]
[null,null,null,null,null,null,"2019-06-04",97380.28]
[null,null,null,null,null,null,"2019-06-05",95998.75]
[null,null,null,null,null,null,"2019-06-06",97204.85]
[null,null,null,null,null,null,"2019-06-07",97821.26]
[null,null,null,null,null,null,"2019-06-10",97466.69]
[null,null,null,null,null,null,"2019-06-11",98960]
[null,null,null,null,null,null,"2019-06-12",98320.88]
[null,null,null,null,null,null,"2019-06-13",98773.7]
[null,null,null,null,null,null,"2019-06-14",98040.06]
[null,null,null,null,null,null,"2019-06-17",97623.25]
[null,null,null,null,null,null,"2019-06-18",99404.39]
[null,null,null,null,null,null,"2019-06-19",100303.41]
[null,null,null,null,null,null,"2019-06-20"]
[null,null,null,null,null,null,"2019-06-21",102012.64]
[null,null,null,null,null,null,"2019-06-24",102062.33]
[null,null,null,null,null,null,"2019-06-25",100092.95]
[null,null,null,null,null,null,"2019-06-26",100688.63]
[null,null,null,null,null,null,"2019-06-27",100723.97]
[null,null,null,null,null,null,"2019-06-28",100967.2]
[null,null,null,null,null,null,"2019-07-01",101339.68]
[null,null,null,null,null,null,"2019-07-02",100605.17]
[null,null,null,null,null,null,"2019-07-03",102043.11]
[null,null,null,null,null,null,"2019-07-04",103636.17]
[null,null,null,null,null,null,"2019-07-05",104089.47]
[null,null,null,null,null,null,"2019-07-08",104530.22]
[null,null,null,null,null,null,"2019-07-09"]
[null,null,null,null,null,null,"2019-07-10",105817.06]
[null,null,null,null,null,null,"2019-07-11",105146.44]
[null,null,null,null,null,null,"2019-07-12",103905.99]
[null,null,null,null,null,null,"2019-07-15",103802.69]
[null,null,null,null,null,null,"2019-07-16",103775.41]
[null,null,null,null,null,null,"2019-07-17",103855.53]
[null,null,null,null,null,null,"2019-07-18",104716.59]
[null,null,null,null,null,null,"2019-07-19",103451.93]
[null,null,null,null,null,null,"2019-07-22",103949.46]
[null,null,null,null,null,null,"2019-07-23",103704.28]
[null,null,null,null,null,null,"2019-07-24",104119.54]
[null,null,null,null,null,null,"2019-07-25",102654.58]
[null,null,null,null,null,null,"2019-07-26",102818.93]
[null,null,null,null,null,null,"2019-07-29",103482.63]
[null,null,null,null,null,null,"2019-07-30",102932.76]
[null,null,null,null,null,null,"2019-07-31",101812.13]
[null,null,null,null,null,null,"2019-08-01",102125.94]
[null,null,null,null,null,null,"2019-08-02",102673.68]
[null,null,null,null,null,null,"2019-08-05",100097.75]
[null,null,null,null,null,null,"2019-08-06",102163.69]
[null,null,null,null,null,null,"2019-08-07",102782.37]
[null,null,null,null,null,null,"2019-08-08",104115.23]
[null,null,null,null,null,null,"2019-08-09",103996.16]
[null,null,null,null,null,null,"2019-08-12",101915.22]
[null,null,null,null,null,null,"2019-08-13",103299.47]
[null,null,null,null,null,null,"2019-08-14",100258.01]
[null,null,null,null,null,null,"2019-08-15",99056.91]
[null,null,null,null,null,null,"2019-08-16",99805.78]
[null,null,null,null,null,null,"2019-08-19",99468.67]
[null,null,null,null,null,null,"2019-08-20",99222.25]
[null,null,null,null,null,null,"2019-08-21",101201.9]
[null,null,null,null,null,null,"2019-08-22",100011.28]
[null,null,null,null,null,null,"2019-08-23",97667.49]
[null,null,null,null,null,null,"2019-08-26",96429.6]
[null,null,null,null,null,null,"2019-08-27",97276.19]
[null,null,null,null,null,null,"2019-08-28",98193.53]
[null,null,null,null,null,null,"2019-08-29",100524.43]
[null,null,null,null,null,null,"2019-08-30",101134.61]
[null,null,null,null,null,null,"2019-09-02",100625.74]
[null,null,null,null,null,null,"2019-09-03",99680.83]
[null,null,null,null,null,null,"2019-09-04",101200.89]
[null,null,null,null,null,null,"2019-09-05",102243]
[null,null,null,null,null,null,"2019-09-06",102935.43]
[null,null,null,null,null,null,"2019-09-09",103180.59]
[null,null,null,null,null,null,"2019-09-10",103031.5]
[null,null,null,null,null,null,"2019-09-11",103445.6]
[null,null,null,null,null,null,"2019-09-12",104370.91]
[null,null,null,null,null,null,"2019-09-13",103501.18]
[null,null,null,null,null,null,"2019-09-16",103680.41]
[null,null,null,null,null,null,"2019-09-17",104616.86]
[null,null,null,null,null,null,"2019-09-18",104531.93]
[null,null,null,null,null,null,"2019-09-19",104339.16]
[null,null,null,null,null,null,"2019-09-20",104817.4]
[null,null,null,null,null,null,"2019-09-23",104637.82]
[null,null,null,null,null,null,"2019-09-24",103875.66]
[null,null,null,null,null,null,"2019-09-25",104480.98]
[null,null,null,null,null,null,"2019-09-26",105319.4]
[null,null,null,null,null,null,"2019-09-27",105077.63]
[null,null,null,null,null,null,"2019-09-30",104745.32]
[null,null,null,null,null,null,"2019-10-01",104053.4]
[null,null,null,null,null,null,"2019-10-02",101031.44]
[null,null,null,null,null,null,"2019-10-03",101516.04]
[null,null,null,null,null,null,"2019-10-04",102551.32]
[null,null,null,null,null,null,"2019-10-07",100572.77]
[null,null,null,null,null,null,"2019-10-08",99981.4]
[null,null,null,null,null,null,"2019-10-09",101248.78]
[null,null,null,null,null,null,"2019-10-10",101817.13]
[null,null,null,null,null,null,"2019-10-11",103831.92]
[null,null,null,null,null,null,"2019-10-14",104301.58]
[null,null,null,null,null,null,"2019-10-15",104489.56]
[null,null,null,null,null,null,"2019-10-16",105422.8]
[null,null,null,null,null,null,"2019-10-17",105015.77]
[null,null,null,null,null,null,"2019-10-18",104728.89]
[null,null,null,null,null,null,"2019-10-21",106022.28]
[null,null,null,null,null,null,"2019-10-22",107381.11]
[null,null,null,null,null,null,"2019-10-23",107543.59]
[null,null,null,null,null,null,"2019-10-24",106986.15]
[null,null,null,null,null,null,"2019-10-25",107363.77]
[null,null,null,null,null,null,"2019-10-28",108187.06]
[null,null,null,null,null,null,"2019-10-29",107556.26]
[null,null,null,null,null,null,"2019-10-30",108407.54]
[null,null,null,null,null,null,"2019-10-31",107219.83]
[null,null,null,null,null,null,"2019-11-01",108195.63]
[null,null,null,null,null,null,"2019-11-04",108779.33]
[null,null,null,null,null,null,"2019-11-05",108719.02]
[null,null,null,null,null,null,"2019-11-06",108360.22]
[null,null,null,null,null,null,"2019-11-07",109580.57]
[null,null,null,null,null,null,"2019-11-08",107628.98]
[null,null,null,null,null,null,"2019-11-11",108367.44]
[null,null,null,null,null,null,"2019-11-12",106751.11]
[null,null,null,null,null,null,"2019-11-13",106059.95]
[null,null,null,null,null,null,"2019-11-14",106556.88]
[null,null,null,null,null,null,"2019-11-15"]
[null,null,null,null,null,null,"2019-11-18",106269.25]
[null,null,null,null,null,null,"2019-11-19",105864.18]
[null,null,null,null,null,null,"2019-11-20"]
[null,null,null,null,null,null,"2019-11-21",107496.73]
[null,null,null,null,null,null,"2019-11-22",108692.28]
[null,null,null,null,null,null,"2019-11-25",108423.93]
[null,null,null,null,null,null,"2019-11-26",107059.4]
[null,null,null,null,null,null,"2019-11-27",107707.75]
[null,null,null,null,null,null,"2019-11-28",108290.09]
[null,null,null,null,null,null,"2019-11-29",108233.28]
[null,null,null,null,null,null,"2019-12-02",108927.83]
[null,null,null,null,null,null,"2019-12-03",108956.02]
[null,null,null,null,null,null,"2019-12-04",110300.93]
[null,null,null,null,null,null,"2019-12-05",110622.27]
[null,null,null,null,null,null,"2019-12-06",111125.75]
[null,null,null,null,null,null,"2019-12-09",110977.23]
[null,null,null,null,null,null,"2019-12-10",110672.01]
[null,null,null,null,null,null,"2019-12-11",110963.87]
[null,null,null,null,null,null,"2019-12-12",112199.74]
[null,null,null,null,null,null,"2019-12-13",112564.86]
[null,null,null,null,null,null,"2019-12-16",111896.04]
[null,null,null,null,null,null,"2019-12-17",112615.66]
[null,null,null,null,null,null,"2019-12-18",114314.65]
[null,null,null,null,null,null,"2019-12-19",115131.25]
[null,null,null,null,null,null,"2019-12-20",115121.08]
[null,null,null,null,null,null,"2019-12-23",115863.29]
[null,null,null,null,null,null,"2019-12-24"]
[null,null,null,null,null,null,"2019-12-25"]
[null,null,null,null,null,null,"2019-12-26",117203.2]
[null,null,null,null,null,null,"2019-12-27",116533.98]
[null,null,null,null,null,null,"2019-12-30",115645.34]
[null,null,null,null,null,null,"2019-12-31"]
[null,null,null,null,null,null,"2020-01-01"]
[null,null,null,null,null,null,"2020-01-02",118573.1]
[null,null,null,null,null,null,"2020-01-03",117706.66]
[null,null,null,null,null,null,"2020-01-06",116877.92]
[null,null,null,null,null,null,"2020-01-07",116661.94]
[null,null,null,null,null,null,"2020-01-08",116247.03]
[null,null,null,null,null,null,"2020-01-09",115947.11]
[null,null,null,null,null,null,"2020-01-10",115503.42]
[null,null,null,null,null,null,"2020-01-13",117325.28]
[null,null,null,null,null,null,"2020-01-14",117632.4]
[null,null,null,null,null,null,"2020-01-15",116414.35]
[null,null,null,null,null,null,"2020-01-16",116704.21]
[null,null,null,null,null,null,"2020-01-17",118478.3]
[null,null,null,null,null,null,"2020-01-20",118861.63]
[null,null,null,null,null,null,"2020-01-21",117026.04]
[null,null,null,null,null,null,"2020-01-22",118391.36]
[null,null,null,null,null,null,"2020-01-23",119527.63]
[null,null,null,null,null,null,"2020-01-24",118376.36]
[null,null,null,null,null,null,"2020-01-27",114481.84]
[null,null,null,null,null,null,"2020-01-28",116478.98]
[null,null,null,null,null,null,"2020-01-29",115384.84]
[null,null,null,null,null,null,"2020-01-30",115528.04]
[null,null,null,null,null,null,"2020-01-31",113760.57]
[null,null,null,null,null,null,"2020-02-03",114629.21]
[null,null,null,null,null,null,"2020-02-04",115556.71]
[null,null,null,null,null,null,"2020-02-05",116028.27]
[null,null,null,null,null,null,"2020-02-06",115189.97]
[null,null,null,null,null,null,"2020-02-07",113770.29]
[null,null,null,null,null,null,"2020-02-10",112570.3]
[null,null,null,null,null,null,"2020-02-11",115370.61]
[null,null,null,null,null,null,"2020-02-12",116674.13]
[null,null,null,null,null,null,"2020-02-13",115662.39999999999]
[null,null,null,null,null,null,"2020-02-14",114380.71]
[null,null,null,null,null,null,"2020-02-17",115309.08]
[null,null,null,null,null,null,"2020-02-18",114977.29]
[null,null,null,null,null,null,"2020-02-19",116517.59]
[null,null,null,null,null,null,"2020-02-20",114586.24000000001]
[null,null,null,null,null,null,"2020-02-21",113681.42]
[null,null,null,null,null,null,"2020-02-24"]
[null,null,null,null,null,null,"2020-02-25"]
[null,null,null,null,null,null,"2020-02-26",105718.29]
[null,null,null,null,null,null,"2020-02-27",102983.54]
[null,null,null,null,null,null,"2020-02-28",104171.57]
[null,null,null,null,null,null,"2020-03-02",106625.41]
[null,null,null,null,null,null,"2020-03-03",105537.14]
[null,null,null,null,null,null,"2020-03-04",107224.22]
[null,null,null,null,null,null,"2020-03-05",102233.24]
[null,null,null,null,null,null,"2020-03-06",97996.77]
[null,null,null,null,null,null,"2020-03-09",86067.199999999997]
[null,null,null,null,null,null,"2020-03-10",92214.47]
[null,null,null,null,null,null,"2020-03-11",85171.13]
[null,null,null,null,null,null,"2020-03-12",72582.53]
[null,null,null,null,null,null,"2020-03-13",82677.91]
[null,null,null,null,null,null,"2020-03-16",71168.05]
[null,null,null,null,null,null,"2020-03-17",74617.240000000005]
[null,null,null,null,null,null,"2020-03-18",66894.95]
[null,null,null,null,null,null,"2020-03-19",68331.8]
[null,null,null,null,null,null,"2020-03-20",67069.36]
[null,null,null,null,null,null,"2020-03-23",63569.62]
[null,null,null,null,null,null,"2020-03-24",69729.3]
[null,null,null,null,null,null,"2020-03-25",74955.570000000007]
[null,null,null,null,null,null,"2020-03-26",77709.66]
[null,null,null,null,null,null,"2020-03-27",73428.78]
[null,null,null,null,null,null,"2020-03-30",74639.48]
[null,null,null,null,null,null,"2020-03-31",73019.759999999995]
[null,null,null,null,null,null,"2020-04-01",70966.7]
[null,null,null,null,null,null,"2020-04-02",72253.460000000006]
[null,null,null,null,null,null,"2020-04-03",69537.56]
[null,null,null,null,null,null,"2020-04-06",74072.98]
[null,null,null,null,null,null,"2020-04-07",76358.09]
[null,null,null,null,null,null,"2020-04-08",78624.62]
[null,null,null,null,null,null,"2020-04-09",77681.94]
[null,null,null,null,null,null,"2020-04-10"]
[null,null,null,null,null,null,"2020-04-13",78835.820000000007]
[null,null,null,null,null,null,"2020-04-14",79918.36]
[null,null,null,null,null,null,"2020-04-15",78831.460000000006]
[null,null,null,null,null,null,"2020-04-16",77811.850000000006]
[null,null,null,null,null,null,"2020-04-17",78990.289999999994]
[null,null,null,null,null,null,"2020-04-20",78972.759999999995]
[null,null,null,null,null,null,"2020-04-21"]
[null,null,null,null,null,null,"2020-04-22",80687.149999999994]
[null,null,null,null,null,null,"2020-04-23",79673.3]
[null,null,null,null,null,null,"2020-04-24",75330.61]
[null,null,null,null,null,null,"2020-04-27",78238.600000000006]
[null,null,null,null,null,null,"2020-04-28",81312.23]
[null,null,null,null,null,null,"2020-04-29",83170.8]
[null,null,null,null,null,null,"2020-04-30",80505.89]
[null,null,null,null,null,null,"2020-05-01"]
[null,null,null,null,null,null,"2020-05-04",78876.22]
[null,null,null,null,null,null,"2020-05-05",79470.78]
[null,null,null,null,null,null,"2020-05-06",79063.679999999993]
[null,null,null,null,null,null,"2020-05-07",78118.570000000007]
[null,null,null,null,null,null,"2020-05-08",80263.350000000006]
[null,null,null,null,null,null,"2020-05-11",79064.600000000006]
[null,null,null,null,null,null,"2020-05-12",77871.95]
[null,null,null,null,null,null,"2020-05-13",77772.2]
[null,null,null,null,null,null,"2020-05-14",79010.81]
[null,null,null,null,null,null,"2020-05-15",77556.62]
[null,null,null,null,null,null,"2020-05-18",81194.289999999994]
[null,null,null,null,null,null,"2020-05-19",80742.350000000006]
[null,null,null,null,null,null,"2020-05-20",81319.45]
[null,null,null,null,null,null,"2020-05-21",83027.09]
[null,null,null,null,null,null,"2020-05-22",82173.210000000006]
[null,null,null,null,null,null,"2020-05-25",85663.48]
[null,null,null,null,null,null,"2020-05-26",85468.91]
[null,null,null,null,null,null,"2020-05-27",87946.25]
[null,null,null,null,null,null,"2020-05-28",86949.09]
[null,null,null,null,null,null,"2020-05-29",87402.59]
[null,null,null,null,null,null,"2020-06-01",88620.1]
[null,null,null,null,null,null,"2020-06-02",91046.38]
[null,null,null,null,null,null,"2020-06-03",93002.14]
[null,null,null,null,null,null,"2020-06-04",93828.61]
[null,null,null,null,null,null,"2020-06-05",94637.06]
[null,null,null,null,null,null,"2020-06-08",97644.67]
[null,null,null,null,null,null,"2020-06-09",96746.55]
[null,null,null,null,null,null,"2020-06-10",94685.98]
[null,null,null,null,null,null,"2020-06-11"]
[null,null,null,null,null,null,"2020-06-12",92795.27]
[null,null,null,null,null,null,"2020-06-15",92375.52]
[null,null,null,null,null,null,"2020-06-16",93531.17]
[null,null,null,null,null,null,"2020-06-17",95547.29]
[null,null,null,null,null,null,"2020-06-18",96125.24]
[null,null,null,null,null,null,"2020-06-19",96572.1]
[null,null,null,null,null,null,"2020-06-22",95335.96]
[null,null,null,null,null,null,"2020-06-23",95975.16]
[null,null,null,null,null,null,"2020-06-24",94377.36]
[null,null,null,null,null,null,"2020-06-25",95983.09]
[null,null,null,null,null,null,"2020-06-26",93834.49]
[null,null,null,null,null,null,"2020-06-29",95735.35]
[null,null,null,null,null,null,"2020-06-30",95055.82]
[null,null,null,null,null,null,"2020-07-01",96203.199999999997]
[null,null,null,null,null,null,"2020-07-02",96234.96]
[null,null,null,null,null,null,"2020-07-03",96764.85]
[null,null,null,null,null,null,"2020-07-06",98937.16]
[null,null,null,null,null,null,"2020-07-07",97761.04]
[null,null,null,null,null,null,"2020-07-08",99769.88]
[null,null,null,null,null,null,"2020-07-09",99160.33]
[null,null,null,null,null,null,"2020-07-10",100031.83]
[null,null,null,null,null,null,"2020-07-13",98697.06]
[null,null,null,null,null,null,"2020-07-14",100440.23]
[null,null,null,null,null,null,"2020-07-15",101790.54]
[null,null,null,null,null,null,"2020-07-16",100553.27]
[null,null,null,null,null,null,"2020-07-17",102888.25]
[null,null,null,null,null,null,"2020-07-20",104426.37]
[null,null,null,null,null,null,"2020-07-21",104309.74]
[null,null,null,null,null,null,"2020-07-22",104289.57]
[null,null,null,null,null,null,"2020-07-23",102293.31]
[null,null,null,null,null,null,"2020-07-24",102381.58]
[null,null,null,null,null,null,"2020-07-27",104477.08]
[null,null,null,null,null,null,"2020-07-28",104109.07]
[null,null,null,null,null,null,"2020-07-29",105605.17]
[null,null,null,null,null,null,"2020-07-30",105008.7]
[null,null,null,null,null,null,"2020-07-31",102912.24]
[null,null,null,null,null,null,"2020-08-03",102829.96]
[null,null,null,null,null,null,"2020-08-04",101215.87]
[null,null,null,null,null,null,"2020-08-05",102801.76]
[null,null,null,null,null,null,"2020-08-06",104125.64]
[null,null,null,null,null,null,"2020-08-07",102775.55]
[null,null,null,null,null,null,"2020-08-10",103444.48]
[null,null,null,null,null,null,"2020-08-11",102174.39999999999]
[null,null,null,null,null,null,"2020-08-12",102117.79]
[null,null,null,null,null,null,"2020-08-13",100460.6]
[null,null,null,null,null,null,"2020-08-14",101353.45]
[null,null,null,null,null,null,"2020-08-17",99595.41]
[null,null,null,null,null,null,"2020-08-18",102065.35]
[null,null,null,null,null,null,"2020-08-19",100853.72]
[null,null,null,null,null,null,"2020-08-20",101467.87]
[null,null,null,null,null,null,"2020-08-21",101521.29]
[null,null,null,null,null,null,"2020-08-24",102297.95]
[null,null,null,null,null,null,"2020-08-25",102117.64]
[null,null,null,null,null,null,"2020-08-26",100627.33]
[null,null,null,null,null,null,"2020-08-27",100623.64]
[null,null,null,null,null,null,"2020-08-28",102142.93]
[null,null,null,null,null,null,"2020-08-31",99369.15]
[null,null,null,null,null,null,"2020-09-01",102167.65]
[null,null,null,null,null,null,"2020-09-02",101911.13]
[null,null,null,null,null,null,"2020-09-03",100721.36]
[null,null,null,null,null,null,"2020-09-04",101241.73]
[null,null,null,null,null,null,"2020-09-07"]
[null,null,null,null,null,null,"2020-09-08",100050.43]
[null,null,null,null,null,null,"2020-09-09",101292.05]
[null,null,null,null,null,null,"2020-09-10",98834.59]
[null,null,null,null,null,null,"2020-09-11",98363.22]
[null,null,null,null,null,null,"2020-09-14",100274.52]
[null,null,null,null,null,null,"2020-09-15",100297.91]
[null,null,null,null,null,null,"2020-09-16",99675.68]
[null,null,null,null,null,null,"2020-09-17",100097.83]
[null,null,null,null,null,null,"2020-09-18",98289.71]
[null,null,null,null,null,null,"2020-09-21",96990.720000000001]
[null,null,null,null,null,null,"2020-09-22",97293.54]
[null,null,null,null,null,null,"2020-09-23",95734.82]
[null,null,null,null,null,null,"2020-09-24",97012.07]
[null,null,null,null,null,null,"2020-09-25",96999.38]
[null,null,null,null,null,null,"2020-09-28",94666.37]
[null,null,null,null,null,null,"2020-09-29",93580.35]
[null,null,null,null,null,null,"2020-09-30",94603.38]
[null,null,null,null,null,null,"2020-10-01",95478.52]
[null,null,null,null,null,null,"2020-10-02",94015.679999999993]
[null,null,null,null,null,null,"2020-10-05",96089.19]
[null,null,null,null,null,null,"2020-10-06",95615.03]
[null,null,null,null,null,null,"2020-10-07",95526.26]
[null,null,null,null,null,null,"2020-10-08",97919.73]
[null,null,null,null,null,null,"2020-10-09",97483.31]
[null,null,null,null,null,null,"2020-10-12"]
[null,null,null,null,null,null,"2020-10-13",98502.82]
[null,null,null,null,null,null,"2020-10-14",99334.43]
[null,null,null,null,null,null,"2020-10-15",99054.06]
[null,null,null,null,null,null,"2020-10-16",98309.119999999995]
[null,null,null,null,null,null,"2020-10-19",98657.65]
[null,null,null,null,null,null,"2020-10-20",100539.83]
[null,null,null,null,null,null,"2020-10-21",100552.44]
[null,null,null,null,null,null,"2020-10-22",101917.73]
[null,null,null,null,null,null,"2020-10-23",101259.75]
[null,null,null,null,null,null,"2020-10-26",101016.96000000001]
[null,null,null,null,null,null,"2020-10-27",99605.54]
[null,null,null,null,null,null,"2020-10-28",95368.76]
[null,null,null,null,null,null,"2020-10-29",96582.16]
[null,null,null,null,null,null,"2020-10-30",93952.4]
[null,null,null,null,null,null,"2020-11-02"]
[null,null,null,null,null,null,"2020-11-03",95979.71]
[null,null,null,null,null,null,"2020-11-04",97866.81]
[null,null,null,null,null,null,"2020-11-05",100751.4]
[null,null,null,null,null,null,"2020-11-06",100925.11]
[null,null,null,null,null,null,"2020-11-09",103515.16]
[null,null,null,null,null,null,"2020-11-10",105066.96]
[null,null,null,null,null,null,"2020-11-11",104808.83]
[null,null,null,null,null,null,"2020-11-12",102507.01]
[null,null,null,null,null,null,"2020-11-13",104723]
[null,null,null,null,null,null,"2020-11-16",106429.92]
[null,null,null,null,null,null,"2020-11-17",107248.63]
[null,null,null,null,null,null,"2020-11-18",106119.09]
[null,null,null,null,null,null,"2020-11-19",106669.9]
[null,null,null,null,null,null,"2020-11-20",106042.48]
[null,null,null,null,null,null,"2020-11-23",107378.92]
[null,null,null,null,null,null,"2020-11-24",109786.3]
[null,null,null,null,null,null,"2020-11-25",110132.53]
[null,null,null,null,null,null,"2020-11-26",110227.09]
[null,null,null,null,null,null,"2020-11-27",110575.47]
[null,null,null,null,null,null,"2020-11-30",108893.32]
[null,null,null,null,null,null,"2020-12-01",111399.91]
[null,null,null,null,null,null,"2020-12-02",111878.53]
[null,null,null,null,null,null,"2020-12-03",112291.59]
[null,null,null,null,null,null,"2020-12-04",113750.22]
[null,null,null,null,null,null,"2020-12-07",113589.77]
[null,null,null,null,null,null,"2020-12-08",113793.06]
[null,null,null,null,null,null,"2020-12-09",113001.16]
[null,null,null,null,null,null,"2020-12-10",115128.63]
[null,null,null,null,null,null,"2020-12-11",115128]
[null,null,null,null,null,null,"2020-12-14",114611.12]
[null,null,null,null,null,null,"2020-12-15",116148.63]
[null,null,null,null,null,null,"2020-12-16",117857.35]
[null,null,null,null,null,null,"2020-12-17",118400.57]
[null,null,null,null,null,null,"2020-12-18",118023.67]
[null,null,null,null,null,null,"2020-12-21",115822.57]
[null,null,null,null,null,null,"2020-12-22",116636.18]
[null,null,null,null,null,null,"2020-12-23",117806.85]
[null,null,null,null,null,null,"2020-12-24"]
[null,null,null,null,null,null,"2020-12-25"]
[null,null,null,null,null,null,"2020-12-28",119123.7]
[null,null,null,null,null,null,"2020-12-29",119409.15]
[null,null,null,null,null,null,"2020-12-30",119017.24]
[null,null,null,null,null,null,"2020-12-31"]
[null,null,null,null,null,null,"2021-01-01"]
[null,null,null,null,null,null,"2021-01-04",118854.71]
[null,null,null,null,null,null,"2021-01-05",119376.21]
[null,null,null,null,null,null,"2021-01-06",119100.08]
[null,null,null,null,null,null,"2021-01-07",122385.92]
[null,null,null,null,null,null,"2021-01-08",125076.63]
[null,null,null,null,null,null,"2021-01-11",123255.13]
[null,null,null,null,null,null,"2021-01-12",123998]
[null,null,null,null,null,null,"2021-01-13",121933.08]
[null,null,null,null,null,null,"2021-01-14",123480.52]
[null,null,null,null,null,null,"2021-01-15",120348.8]
[null,null,null,null,null,null,"2021-01-18",121241.63]
[null,null,null,null,null,null,"2021-01-19",120636.39]
[null,null,null,null,null,null,"2021-01-20",119646.39999999999]
[null,null,null,null,null,null,"2021-01-21",118328.99]
[null,null,null,null,null,null,"2021-01-22",117380.49]
[null,null,null,null,null,null,"2021-01-25"]
[null,null,null,null,null,null,"2021-01-26",116464.06]
[null,null,null,null,null,null,"2021-01-27",115882.3]
[null,null,null,null,null,null,"2021-01-28",118883.25]
[null,null,null,null,null,null,"2021-01-29",115067.55]
[null,null,null,null,null,null,"2021-02-01",117517.57]
[null,null,null,null,null,null,"2021-02-02",118233.81]
[null,null,null,null,null,null,"2021-02-03",119724.72]
[null,null,null,null,null,null,"2021-02-04",119260.82]
[null,null,null,null,null,null,"2021-02-05",120240.26]
[null,null,null,null,null,null,"2021-02-08",119696.36]
[null,null,null,null,null,null,"2021-02-09",119471.62]
[null,null,null,null,null,null,"2021-02-10",118435.33]
[null,null,null,null,null,null,"2021-02-11",119299.83]
[null,null,null,null,null,null,"2021-02-12",119428.72]
[null,null,null,null,null,null,"2021-02-15"]
[null,null,null,null,null,null,"2021-02-16"]
[null,null,null,null,null,null,"2021-02-17",120355.79]
[null,null,null,null,null,null,"2021-02-18",119198.97]
[null,null,null,null,null,null,"2021-02-19",118430.53]
[null,null,null,null,null,null,"2021-02-22",112667.7]
[null,null,null,null,null,null,"2021-02-23",115227.46]
[null,null,null,null,null,null,"2021-02-24",115667.78]
[null,null,null,null,null,null,"2021-02-25",112256.36]
[null,null,null,null,null,null,"2021-02-26",110035.17]
[null,null,null,null,null,null,"2021-03-01",110334.83]
[null,null,null,null,null,null,"2021-03-02",111539.8]
[null,null,null,null,null,null,"2021-03-03",111183.95]
[null,null,null,null,null,null,"2021-03-04",112690.17]
[null,null,null,null,null,null,"2021-03-05",115202.23]
[null,null,null,null,null,null,"2021-03-08",110611.58]
[null,null,null,null,null,null,"2021-03-09",111330.62]
[null,null,null,null,null,null,"2021-03-10",112776.49]
[null,null,null,null,null,null,"2021-03-11",114983.76]
[null,null,null,null,null,null,"2021-03-12",114160.4]
[null,null,null,null,null,null,"2021-03-15",114850.74]
[null,null,null,null,null,null,"2021-03-16",114018.78]
[null,null,null,null,null,null,"2021-03-17",116549.44]
[null,null,null,null,null,null,"2021-03-18",114835.43]
[null,null,null,null,null,null,"2021-03-19",116221.58]
[null,null,null,null,null,null,"2021-03-22",114978.86]
[null,null,null,null,null,null,"2021-03-23",113261.8]
[null,null,null,null,null,null,"2021-03-24",112064.19]
[null,null,null,null,null,null,"2021-03-25",113749.9]
[null,null,null,null,null,null,"2021-03-26",114780.62]
[null,null,null,null,null,null,"2021-03-29",115418.72]
[null,null,null,null,null,null,"2021-03-30",116849.67]
[null,null,null,null,null,null,"2021-03-31",116633.72]
[null,null,null,null,null,null,"2021-04-01",115253.31]
[null,null,null,null,null,null,"2021-04-02"]
[null,null,null,null,null,null,"2021-04-05",117518.44]
[null,null,null,null,null,null,"2021-04-06",117498.87]
[null,null,null,null,null,null,"2021-04-07",117623.58]
[null,null,null,null,null,null,"2021-04-08",118313.23]
[null,null,null,null,null,null,"2021-04-09",117669.9]
[null,null,null,null,null,null,"2021-04-12",118811.74]
[null,null,null,null,null,null,"2021-04-13",119297.13]
[null,null,null,null,null,null,"2021-04-14",120294.68]
[null,null,null,null,null,null,"2021-04-15",120700.67]
[null,null,null,null,null,null,"2021-04-16",121113.93]
[null,null,null,null,null,null,"2021-04-19",120933.78]
[null,null,null,null,null,null,"2021-04-20",120061.99]
[null,null,null,null,null,null,"2021-04-21"]
[null,null,null,null,null,null,"2021-04-22",119371.48]
[null,null,null,null,null,null,"2021-04-23",120530.06]
[null,null,null,null,null,null,"2021-04-26",120594.61]
[null,null,null,null,null,null,"2021-04-27",119388.37]
[null,null,null,null,null,null,"2021-04-28",121052.52]
[null,null,null,null,null,null,"2021-04-29",120065.75]
[null,null,null,null,null,null,"2021-04-30",118893.84]
[null,null,null,null,null,null,"2021-05-03",119209.48]
[null,null,null,null,null,null,"2021-05-04",117712]
[null,null,null,null,null,null,"2021-05-05",119564.44]
[null,null,null,null,null,null,"2021-05-06",119920.61]
[null,null,null,null,null,null,"2021-05-07",122038.11]
[null,null,null,null,null,null,"2021-05-10",121909.03]
[null,null,null,null,null,null,"2021-05-11",122964.01]
[null,null,null,null,null,null,"2021-05-12",119710.03]
[null,null,null,null,null,null,"2021-05-13",120705.91]
[null,null,null,null,null,null,"2021-05-14",121880.82]
[null,null,null,null,null,null,"2021-05-17",122937.87]
[null,null,null,null,null,null,"2021-05-18",122979.96]
[null,null,null,null,null,null,"2021-05-19",122636.3]
[null,null,null,null,null,null,"2021-05-20",122700.79]
[null,null,null,null,null,null,"2021-05-21",122592.47]
[null,null,null,null,null,null,"2021-05-24",124031.62]
[null,null,null,null,null,null,"2021-05-25",122987.71]
[null,null,null,null,null,null,"2021-05-26",123989.17]
[null,null,null,null,null,null,"2021-05-27",124366.57]
[null,null,null,null,null,null,"2021-05-28",125561.37]
[null,null,null,null,null,null,"2021-05-31",126215.73]
[null,null,null,null,null,null,"2021-06-01",128267.05]
[null,null,null,null,null,null,"2021-06-02",129601.44]
[null,null,null,null,null,null,"2021-06-03"]
[null,null,null,null,null,null,"2021-06-04",130125.78]
[null,null,null,null,null,null,"2021-06-07",130776.27]
[null,null,null,null,null,null,"2021-06-08",129787.11]
[null,null,null,null,null,null,"2021-06-09",129906.8]
[null,null,null,null,null,null,"2021-06-10",130076.17]
[null,null,null,null,null,null,"2021-06-11",129441.03]
[null,null,null,null,null,null,"2021-06-14",130207.96]
[null,null,null,null,null,null,"2021-06-15",130091.08]
[null,null,null,null,null,null,"2021-06-16",129259.49]
[null,null,null,null,null,null,"2021-06-17",128057.22]
[null,null,null,null,null,null,"2021-06-18",128405.35]
[null,null,null,null,null,null,"2021-06-21",129264.96000000001]
[null,null,null,null,null,null,"2021-06-22",128767.45]
[null,null,null,null,null,null,"2021-06-23",128427.98]
[null,null,null,null,null,null,"2021-06-24",129513.62]
[null,null,null,null,null,null,"2021-06-25",127255.61]
[null,null,null,null,null,null,"2021-06-28",127429.17]
[null,null,null,null,null,null,"2021-06-29",127327.44]
[null,null,null,null,null,null,"2021-06-30",126801.66]
[null,null,null,null,null,null,"2021-07-01",125666.19]
[null,null,null,null,null,null,"2021-07-02",127621.65]
[null,null,null,null,null,null,"2021-07-05",126920.05]
[null,null,null,null,null,null,"2021-07-06",125094.88]
[null,null,null,null,null,null,"2021-07-07",127018.71]
[null,null,null,null,null,null,"2021-07-08",125427.77]
[null,null,null,null,null,null,"2021-07-09"]
[null,null,null,null,null,null,"2021-07-12",127593.83]
[null,null,null,null,null,null,"2021-07-13",128167.74]
[null,null,null,null,null,null,"2021-07-14",128406.51]
[null,null,null,null,null,null,"2021-07-15",127467.88]
[null,null,null,null,null,null,"2021-07-16",125960.26]
[null,null,null,null,null,null,"2021-07-19",124394.57]
[null,null,null,null,null,null,"2021-07-20",125401.36]
[null,null,null,null,null,null,"2021-07-21",125929.25]
[null,null,null,null,null,null,"2021-07-22",126146.66]
[null,null,null,null,null,null,"2021-07-23",125052.78]
[null,null,null,null,null,null,"2021-07-26",126003.86]
[null,null,null,null,null,null,"2021-07-27",124612.03]
[null,null,null,null,null,null,"2021-07-28",126285.59]
[null,null,null,null,null,null,"2021-07-29",125675.33]
[null,null,null,null,null,null,"2021-07-30",121800.79]
[null,null,null,null,null,null,"2021-08-02",122515.74]
[null,null,null,null,null,null,"2021-08-03",123576.56]
[null,null,null,null,null,null,"2021-08-04",121801.21]
[null,null,null,null,null,null,"2021-08-05",121632.92]
[null,null,null,null,null,null,"2021-08-06",122810.36]
[null,null,null,null,null,null,"2021-08-09",123019.38]
[null,null,null,null,null,null,"2021-08-10",122202.47]
[null,null,null,null,null,null,"2021-08-11",122056.34]
[null,null,null,null,null,null,"2021-08-12",120700.98]
[null,null,null,null,null,null,"2021-08-13",121193.75]
[null,null,null,null,null,null,"2021-08-16",119180.03]
[null,null,null,null,null,null,"2021-08-17",117903.81]
[null,null,null,null,null,null,"2021-08-18",116642.62]
[null,null,null,null,null,null,"2021-08-19",117164.69]
[null,null,null,null,null,null,"2021-08-20",118052.77]
[null,null,null,null,null,null,"2021-08-23",117471.67]
[null,null,null,null,null,null,"2021-08-24",120210.75]
[null,null,null,null,null,null,"2021-08-25",120817.71]
[null,null,null,null,null,null,"2021-08-26",118723.97]
[null,null,null,null,null,null,"2021-08-27",120677.6]
[null,null,null,null,null,null,"2021-08-30",119739.96]
[null,null,null,null,null,null,"2021-08-31",118781.03]
[null,null,null,null,null,null,"2021-09-01",119395.6]
[null,null,null,null,null,null,"2021-09-02",116677.08]
[null,null,null,null,null,null,"2021-09-03",116933.24]
[null,null,null,null,null,null,"2021-09-06",117868.63]
[null,null,null,null,null,null,"2021-09-07"]
[null,null,null,null,null,null,"2021-09-08",113412.84]
[null,null,null,null,null,null,"2021-09-09",115360.86]
[null,null,null,null,null,null,"2021-09-10",114285.93]
[null,null,null,null,null,null,"2021-09-13",116403.72]
[null,null,null,null,null,null,"2021-09-14",116180.55]
[null,null,null,null,null,null,"2021-09-15",115062.54]
[null,null,null,null,null,null,"2021-09-16",113794.28]
[null,null,null,null,null,null,"2021-09-17",111439.37]
[null,null,null,null,null,null,"2021-09-20",108843.74]
[null,null,null,null,null,null,"2021-09-21",110249.73]
[null,null,null,null,null,null,"2021-09-22",112282.28]
[null,null,null,null,null,null,"2021-09-23",114064.36]
[null,null,null,null,null,null,"2021-09-24",113282.67]
[null,null,null,null,null,null,"2021-09-27",113583.01]
[null,null,null,null,null,null,"2021-09-28",110123.85]
[null,null,null,null,null,null,"2021-09-29",111106.83]
[null,null,null,null,null,null,"2021-09-30",110979.1]
[null,null,null,null,null,null,"2021-10-01",112899.64]
[null,null,null,null,null,null,"2021-10-04",110393.09]
[null,null,null,null,null,null,"2021-10-05",110457.64]
[null,null,null,null,null,null,"2021-10-06",110559.57]
[null,null,null,null,null,null,"2021-10-07",110585.43]
[null,null,null,null,null,null,"2021-10-08",112833.2]
[null,null,null,null,null,null,"2021-10-11",112180.48]
[null,null,null,null,null,null,"2021-10-12"]
[null,null,null,null,null,null,"2021-10-13",113455.92]
[null,null,null,null,null,null,"2021-10-14",113185.48]
[null,null,null,null,null,null,"2021-10-15",114647.99]
[null,null,null,null,null,null,"2021-10-18",114428.18]
[null,null,null,null,null,null,"2021-10-19",110672.76]
[null,null,null,null,null,null,"2021-10-20",110786.43]
[null,null,null,null,null,null,"2021-10-21",107735.01]
[null,null,null,null,null,null,"2021-10-22",106296.18]
[null,null,null,null,null,null,"2021-10-25",108714.55]
[null,null,null,null,null,null,"2021-10-26",106419.53]
[null,null,null,null,null,null,"2021-10-27",106363.1]
[null,null,null,null,null,null,"2021-10-28",105704.96000000001]
[null,null,null,null,null,null,"2021-10-29",103500.71]
[null,null,null,null,null,null,"2021-11-01",105550.86]
[null,null,null,null,null,null,"2021-11-02"]
[null,null,null,null,null,null,"2021-11-03",105616.88]
[null,null,null,null,null,null,"2021-11-04",103412.09]
[null,null,null,null,null,null,"2021-11-05",104824.23]
[null,null,null,null,null,null,"2021-11-08",104781.13]
[null,null,null,null,null,null,"2021-11-09",105535.08]
[null,null,null,null,null,null,"2021-11-10",105967.51]
[null,null,null,null,null,null,"2021-11-11",107594.67]
[null,null,null,null,null,null,"2021-11-12",106334.54]
[null,null,null,null,null,null,"2021-11-15"]
[null,null,null,null,null,null,"2021-11-16",104403.66]
[null,null,null,null,null,null,"2021-11-17",102948.45]
[null,null,null,null,null,null,"2021-11-18",102426]
[null,null,null,null,null,null,"2021-11-19",103035.02]
[null,null,null,null,null,null,"2021-11-22",102122.37]
[null,null,null,null,null,null,"2021-11-23",103653.82]
[null,null,null,null,null,null,"2021-11-24",104514.19]
[null,null,null,null,null,null,"2021-11-25",105811.25]
[null,null,null,null,null,null,"2021-11-26",102224.26]
[null,null,null,null,null,null,"2021-11-29",102814.03]
[null,null,null,null,null,null,"2021-11-30",101915.45]
[null,null,null,null,null,null,"2021-12-01",100774.57]
[null,null,null,null,null,null,"2021-12-02",104466.24000000001]
[null,null,null,null,null,null,"2021-12-03",105069.69]
[null,null,null,null,null,null,"2021-12-06",106858.87]
[null,null,null,null,null,null,"2021-12-07",107557.67]
[null,null,null,null,null,null,"2021-12-08",108095.53]
[null,null,null,null,null,null,"2021-12-09",106291.24]
[null,null,null,null,null,null,"2021-12-10",107758.34]
[null,null,null,null,null,null,"2021-12-13",107383.32]
[null,null,null,null,null,null,"2021-12-14",106759.92]
[null,null,null,null,null,null,"2021-12-15",107431.18]
[null,null,null,null,null,null,"2021-12-16",108326.33]
[null,null,null,null,null,null,"2021-12-17",107200.56]
[null,null,null,null,null,null,"2021-12-20",105019.78]
[null,null,null,null,null,null,"2021-12-21",105499.88]
[null,null,null,null,null,null,"2021-12-22",105243.72]
[null,null,null,null,null,null,"2021-12-23",104891.32]
[null,null,null,null,null,null,"2021-12-24"]
[null,null,null,null,null,null,"2021-12-27",105554.4]
[null,null,null,null,null,null,"2021-12-28",104864.17]
[null,null,null,null,null,null,"2021-12-29",104107.24]
[null,null,null,null,null,null,"2021-12-30",104822.44]
[null,null,null,null,null,null,"2021-12-31"]
[null,null,null,null,null,null,"2022-01-03",103921.59]
[null,null,null,null,null,null,"2022-01-04",103513.64]
[null,null,null,null,null,null,"2022-01-05",101005.64]
[null,null,null,null,null,null,"2022-01-06",101561.05]
[null,null,null,null,null,null,"2022-01-07",102719.47]
[null,null,null,null,null,null,"2022-01-10",101945.2]
[null,null,null,null,null,null,"2022-01-11",103778.98]
[null,null,null,null,null,null,"2022-01-12",105685.66]
[null,null,null,null,null,null,"2022-01-13",105529.5]
[null,null,null,null,null,null,"2022-01-14",106927.79]
[null,null,null,null,null,null,"2022-01-17",106373.87]
[null,null,null,null,null,null,"2022-01-18",106667.66]
[null,null,null,null,null,null,"2022-01-19",108013.47]
[null,null,null,null,null,null,"2022-01-20",109101.99]
[null,null,null,null,null,null,"2022-01-21",108941.68]
[null,null,null,null,null,null,"2022-01-24",107937.11]
[null,null,null,null,null,null,"2022-01-25",110203.77]
[null,null,null,null,null,null,"2022-01-26",111289.18]
[null,null,null,null,null,null,"2022-01-27",112611.65]
[null,null,null,null,null,null,"2022-01-28",111910.1]
[null,null,null,null,null,null,"2022-01-31",112143.51]
[null,null,null,null,null,null,"2022-02-01",113228.31]
[null,null,null,null,null,null,"2022-02-02",111894.36]
[null,null,null,null,null,null,"2022-02-03",111695.94]
[null,null,null,null,null,null,"2022-02-04",112244.94]
[null,null,null,null,null,null,"2022-02-07",111996.4]
[null,null,null,null,null,null,"2022-02-08",112234.46]
[null,null,null,null,null,null,"2022-02-09",112461.39]
[null,null,null,null,null,null,"2022-02-10",113367.77]
[null,null,null,null,null,null,"2022-02-11",113572.35]
[null,null,null,null,null,null,"2022-02-14",113899.19]
[null,null,null,null,null,null,"2022-02-15",114828.18]
[null,null,null,null,null,null,"2022-02-16",115180.95]
[null,null,null,null,null,null,"2022-02-17",113528.48]
[null,null,null,null,null,null,"2022-02-18",112879.85]
[null,null,null,null,null,null,"2022-02-21",111725.3]
[null,null,null,null,null,null,"2022-02-22",112891.8]
[null,null,null,null,null,null,"2022-02-23",112007.61]
[null,null,null,null,null,null,"2022-02-24",111591.87]
[null,null,null,null,null,null,"2022-02-25",113141.94]
[null,null,null,null,null,null,"2022-02-28"]
[null,null,null,null,null,null,"2022-03-01"]
[null,null,null,null,null,null,"2022-03-02",115173.61]
[null,null,null,null,null,null,"2022-03-03",115165.55]
[null,null,null,null,null,null,"2022-03-04",114473.78]
[null,null,null,null,null,null,"2022-03-07",111593.46]
[null,null,null,null,null,null,"2022-03-08",111203.45]
[null,null,null,null,null,null,"2022-03-09",113900.34]
[null,null,null,null,null,null,"2022-03-10",113663.13]
[null,null,null,null,null,null,"2022-03-11",111713.07]
[null,null,null,null,null,null,"2022-03-14",109927.62]
[null,null,null,null,null,null,"2022-03-15",108959.3]
[null,null,null,null,null,null,"2022-03-16",111112.43]
[null,null,null,null,null,null,"2022-03-17",113076.33]
[null,null,null,null,null,null,"2022-03-18",115310.91]
[null,null,null,null,null,null,"2022-03-21",116154.53]
[null,null,null,null,null,null,"2022-03-22",117272.44]
[null,null,null,null,null,null,"2022-03-23",117457.34]
[null,null,null,null,null,null,"2022-03-24",119052.91]
[null,null,null,null,null,null,"2022-03-25",119081.13]
[null,null,null,null,null,null,"2022-03-28",118737.78]
[null,null,null,null,null,null,"2022-03-29",120014.17]
[null,null,null,null,null,null,"2022-03-30",120259.76]
[null,null,null,null,null,null,"2022-03-31",119999.23]
[null,null,null,null,null,null,"2022-04-01",121570.15]
[null,null,null,null,null,null,"2022-04-04",121279.51]
[null,null,null,null,null,null,"2022-04-05",118885.15]
[null,null,null,null,null,null,"2022-04-06",118227.75]
[null,null,null,null,null,null,"2022-04-07",118862.12]
[null,null,null,null,null,null,"2022-04-08",118322.26]
[null,null,null,null,null,null,"2022-04-11",116952.85]
[null,null,null,null,null,null,"2022-04-12",116146.86]
[null,null,null,null,null,null,"2022-04-13",116781.96]
[null,null,null,null,null,null,"2022-04-14",116181.61]
[null,null,null,null,null,null,"2022-04-15"]
[null,null,null,null,null,null,"2022-04-18",115687.25]
[null,null,null,null,null,null,"2022-04-19",115056.66]
[null,null,null,null,null,null,"2022-04-20",114343.78]
[null,null,null,null,null,null,"2022-04-21"]
[null,null,null,null,null,null,"2022-04-22",111077.51]
[null,null,null,null,null,null,"2022-04-25",110684.95]
[null,null,null,null,null,null,"2022-04-26",108212.86]
[null,null,null,null,null,null,"2022-04-27",109349.37]
[null,null,null,null,null,null,"2022-04-28",109918.97]
[null,null,null,null,null,null,"2022-04-29",107876.16]
[null,null,null,null,null,null,"2022-05-02",106638.64]
[null,null,null,null,null,null,"2022-05-03",106528.09]
[null,null,null,null,null,null,"2022-05-04",108343.74]
[null,null,null,null,null,null,"2022-05-05",105304.19]
[null,null,null,null,null,null,"2022-05-06",105134.73]
[null,null,null,null,null,null,"2022-05-09",103250.02]
[null,null,null,null,null,null,"2022-05-10",103109.94]
[null,null,null,null,null,null,"2022-05-11",104396.9]
[null,null,null,null,null,null,"2022-05-12",105687.64]
[null,null,null,null,null,null,"2022-05-13",106924.18]
[null,null,null,null,null,null,"2022-05-16",108232.74]
[null,null,null,null,null,null,"2022-05-17",108789.33]
[null,null,null,null,null,null,"2022-05-18",106247.15]
[null,null,null,null,null,null,"2022-05-19",107005.22]
[null,null,null,null,null,null,"2022-05-20",108487.88]
[null,null,null,null,null,null,"2022-05-23",110345.82]
[null,null,null,null,null,null,"2022-05-24",110580.79]
[null,null,null,null,null,null,"2022-05-25",110579.81]
[null,null,null,null,null,null,"2022-05-26",111889.88]
[null,null,null,null,null,null,"2022-05-27",111941.68]
[null,null,null,null,null,null,"2022-05-30",111032.11]
[null,null,null,null,null,null,"2022-05-31",111350.51]
[null,null,null,null,null,null,"2022-06-01",111359.94]
[null,null,null,null,null,null,"2022-06-02",112392.91]
[null,null,null,null,null,null,"2022-06-03",111102.32]
[null,null,null,null,null,null,"2022-06-06",110185.91]
[null,null,null,null,null,null,"2022-06-07",110069.75999999999]
[null,null,null,null,null,null,"2022-06-08",108367.67]
[null,null,null,null,null,null,"2022-06-09",107093.71]
[null,null,null,null,null,null,"2022-06-10",105481.23]
[null,null,null,null,null,null,"2022-06-13",102598.18]
[null,null,null,null,null,null,"2022-06-14",102063.25]
[null,null,null,null,null,null,"2022-06-15",102806.82]
[null,null,null,null,null,null,"2022-06-16"]
[null,null,null,null,null,null,"2022-06-17",99824.94]
[null,null,null,null,null,null,"2022-06-20",99852.67]
[null,null,null,null,null,null,"2022-06-21",99684.5]
[null,null,null,null,null,null,"2022-06-22",99522.32]
[null,null,null,null,null,null,"2022-06-23",98080.34]
[null,null,null,null,null,null,"2022-06-24",98672.26]
[null,null,null,null,null,null,"2022-06-27",100763.6]
[null,null,null,null,null,null,"2022-06-28",100591.41]
[null,null,null,null,null,null,"2022-06-29",99621.58]
[null,null,null,null,null,null,"2022-06-30",98541.95]
[null,null,null,null,null,null,"2022-07-01",98953.9]
[null,null,null,null,null,null,"2022-07-04",98608.76]
[null,null,null,null,null,null,"2022-07-05",98294.64]
[null,null,null,null,null,null,"2022-07-06",98718.98]
[null,null,null,null,null,null,"2022-07-07",100729.72]
[null,null,null,null,null,null,"2022-07-08",100288.94]
[null,null,null,null,null,null,"2022-07-11",98212.46]
[null,null,null,null,null,null,"2022-07-12",98271.21]
[null,null,null,null,null,null,"2022-07-13",97881.16]
[null,null,null,null,null,null,"2022-07-14",96120.85]
[null,null,null,null,null,null,"2022-07-15",96551]
[null,null,null,null,null,null,"2022-07-18",96916.13]
[null,null,null,null,null,null,"2022-07-19",98244.800000000003]
[null,null,null,null,null,null,"2022-07-20",98286.83]
[null,null,null,null,null,null,"2022-07-21",99033.17]
[null,null,null,null,null,null,"2022-07-22",98924.82]
[null,null,null,null,null,null,"2022-07-25",100269.85]
[null,null,null,null,null,null,"2022-07-26",99771.69]
[null,null,null,null,null,null,"2022-07-27",101437.96]
[null,null,null,null,null,null,"2022-07-28",102596.66]
[null,null,null,null,null,null,"2022-07-29",103164.69]
[null,null,null,null,null,null,"2022-08-01",102225.08]
[null,null,null,null,null,null,"2022-08-02",103361.7]
[null,null,null,null,null,null,"2022-08-03",103774.68]
[null,null,null,null,null,null,"2022-08-04",105892.22]
[null,null,null,null,null,null,"2022-08-05",106471.92]
[null,null,null,null,null,null,"2022-08-08",108402.27]
[null,null,null,null,null,null,"2022-08-09",108651.05]
[null,null,null,null,null,null,"2022-08-10",110235.76]
[null,null,null,null,null,null,"2022-08-11",109717.94]
[null,null,null,null,null,null,"2022-08-12",112764.26]
[null,null,null,null,null,null,"2022-08-15",113031.98]
[null,null,null,null,null,null,"2022-08-16",113512.38]
[null,null,null,null,null,null,"2022-08-17",113707.76]
[null,null,null,null,null,null,"2022-08-18",113812.87]
[null,null,null,null,null,null,"2022-08-19",111496.21]
[null,null,null,null,null,null,"2022-08-22",110500.53]
[null,null,null,null,null,null,"2022-08-23",112857.1]
[null,null,null,null,null,null,"2022-08-24",112897.84]
[null,null,null,null,null,null,"2022-08-25",113531.72]
[null,null,null,null,null,null,"2022-08-26",112298.86]
[null,null,null,null,null,null,"2022-08-29",112323.12]
[null,null,null,null,null,null,"2022-08-30",110430.64]
[null,null,null,null,null,null,"2022-08-31",109522.88]
[null,null,null,null,null,null,"2022-09-01",110405.3]
[null,null,null,null,null,null,"2022-09-02",110864.24]
[null,null,null,null,null,null,"2022-09-05",112203.35]
[null,null,null,null,null,null,"2022-09-06",109763.77]
[null,null,null,null,null,null,"2022-09-07"]
[null,null,null,null,null,null,"2022-09-08",109915.64]
[null,null,null,null,null,null,"2022-09-09",112300.41]
[null,null,null,null,null,null,"2022-09-12",113406.55]
[null,null,null,null,null,null,"2022-09-13",110793.96]
[null,null,null,null,null,null,"2022-09-14",110546.67]
[null,null,null,null,null,null,"2022-09-15",109953.65]
[null,null,null,null,null,null,"2022-09-16",109280.37]
[null,null,null,null,null,null,"2022-09-19",111823.89]
[null,null,null,null,null,null,"2022-09-20",112516.91]
[null,null,null,null,null,null,"2022-09-21",111935.86]
[null,null,null,null,null,null,"2022-09-22",114070.48]
[null,null,null,null,null,null,"2022-09-23",111716]
[null,null,null,null,null,null,"2022-09-26",109114.16]
[null,null,null,null,null,null,"2022-09-27",108376.35]
[null,null,null,null,null,null,"2022-09-28",108451.2]
[null,null,null,null,null,null,"2022-09-29",107664.35]
[null,null,null,null,null,null,"2022-09-30",110036.79]
[null,null,null,null,null,null,"2022-10-03",116134.46]
[null,null,null,null,null,null,"2022-10-04",116230.12]
[null,null,null,null,null,null,"2022-10-05",117197.82]
[null,null,null,null,null,null,"2022-10-06",117560.83]
[null,null,null,null,null,null,"2022-10-07",116375.25]
[null,null,null,null,null,null,"2022-10-10",115940.64]
[null,null,null,null,null,null,"2022-10-11",114827.12]
[null,null,null,null,null,null,"2022-10-12"]
[null,null,null,null,null,null,"2022-10-13",114300.09]
[null,null,null,null,null,null,"2022-10-14",112072.34]
[null,null,null,null,null,null,"2022-10-17",113623.98]
[null,null,null,null,null,null,"2022-10-18",115743.07]
[null,null,null,null,null,null,"2022-10-19",116274.24000000001]
[null,null,null,null,null,null,"2022-10-20",117171.11]
[null,null,null,null,null,null,"2022-10-21",119928.79]
[null,null,null,null,null,null,"2022-10-24",116012.7]
[null,null,null,null,null,null,"2022-10-25",114625.59]
[null,null,null,null,null,null,"2022-10-26",112763.79]
[null,null,null,null,null,null,"2022-10-27",114640.76]
[null,null,null,null,null,null,"2022-10-28",114539.05]
[null,null,null,null,null,null,"2022-10-31",116037.08]
[null,null,null,null,null,null,"2022-11-01",116928.66]
[null,null,null,null,null,null,"2022-11-02"]
[null,null,null,null,null,null,"2022-11-03",116896.36]
[null,null,null,null,null,null,"2022-11-04",118155.46]
[null,null,null,null,null,null,"2022-11-07",115342.39999999999]
[null,null,null,null,null,null,"2022-11-08",116160.35]
[null,null,null,null,null,null,"2022-11-09",113580.09]
[null,null,null,null,null,null,"2022-11-10",109775.46]
[null,null,null,null,null,null,"2022-11-11",112253.49]
[null,null,null,null,null,null,"2022-11-14",113161.28]
[null,null,null,null,null,null,"2022-11-15"]
[null,null,null,null,null,null,"2022-11-16",110243.33]
[null,null,null,null,null,null,"2022-11-17",109702.78]
[null,null,null,null,null,null,"2022-11-18",108870.17]
[null,null,null,null,null,null,"2022-11-21",109748.18]
[null,null,null,null,null,null,"2022-11-22",109036.54]
[null,null,null,null,null,null,"2022-11-23",108841.15]
[null,null,null,null,null,null,"2022-11-24",111831.16]
[null,null,null,null,null,null,"2022-11-25",108976.7]
[null,null,null,null,null,null,"2022-11-28",108782.15]
[null,null,null,null,null,null,"2022-11-29",110909.61]
[null,null,null,null,null,null,"2022-11-30",112486.01]
[null,null,null,null,null,null,"2022-12-01",110925.6]
[null,null,null,null,null,null,"2022-12-02",111923.93]
[null,null,null,null,null,null,"2022-12-05",109401.41]
[null,null,null,null,null,null,"2022-12-06",110188.57]
[null,null,null,null,null,null,"2022-12-07",109068.55]
[null,null,null,null,null,null,"2022-12-08",107249.04]
[null,null,null,null,null,null,"2022-12-09",107519.56]
[null,null,null,null,null,null,"2022-12-12",105343.33]
[null,null,null,null,null,null,"2022-12-13",103539.67]
[null,null,null,null,null,null,"2022-12-14",103745.77]
[null,null,null,null,null,null,"2022-12-15",103737.69]
[null,null,null,null,null,null,"2022-12-16",102855.7]
[null,null,null,null,null,null,"2022-12-19",104739.75]
[null,null,null,null,null,null,"2022-12-20",106864.11]
[null,null,null,null,null,null,"2022-12-21",107433.14]
[null,null,null,null,null,null,"2022-12-22",107551.52]
[null,null,null,null,null,null,"2022-12-23",109697.57]
[null,null,null,null,null,null,"2022-12-26",108737.75]
[null,null,null,null,null,null,"2022-12-27",108578.2]
[null,null,null,null,null,null,"2022-12-28",110236.71]
[null,null,null,null,null,null,"2022-12-29",109734.6]
[null,null,null,null,null,null,"2022-12-30"]
[null,null,null,null,null,null,"2023-01-02",106376.02]
[null,null,null,null,null,null,"2023-01-03",104165.74]
[null,null,null,null,null,null,"2023-01-04",105334.46]
[null,null,null,null,null,null,"2023-01-05",107641.32]
[null,null,null,null,null,null,"2023-01-06",108963.7]
[null,null,null,null,null,null,"2023-01-09",109129.57]
[null,null,null,null,null,null,"2023-01-10",110816.71]
[null,null,null,null,null,null,"2023-01-11",112517.08]
[null,null,null,null,null,null,"2023-01-12",111850.22]
[null,null,null,null,null,null,"2023-01-13",110916.08]
[null,null,null,null,null,null,"2023-01-16",109212.66]
[null,null,null,null,null,null,"2023-01-17",111439.12]
[null,null,null,null,null,null,"2023-01-18",112228.39]
[null,null,null,null,null,null,"2023-01-19",112921.88]
[null,null,null,null,null,null,"2023-01-20",112040.64]
[null,null,null,null,null,null,"2023-01-23",111737.28]
[null,null,null,null,null,null,"2023-01-24",113028.15]
[null,null,null,null,null,null,"2023-01-25",114270.07]
[null,null,null,null,null,null,"2023-01-26",114177.55]
[null,null,null,null,null,null,"2023-01-27",112316.16]
[null,null,null,null,null,null,"2023-01-30",112273.01]
[null,null,null,null,null,null,"2023-01-31",113430.54]
[null,null,null,null,null,null,"2023-02-01",112073.55]
[null,null,null,null,null,null,"2023-02-02",110140.64]
[null,null,null,null,null,null,"2023-02-03",108523.47]
[null,null,null,null,null,null,"2023-02-06",108721.58]
[null,null,null,null,null,null,"2023-02-07",107829.73]
[null,null,null,null,null,null,"2023-02-08",109951.49]
[null,null,null,null,null,null,"2023-02-09",108008.05]
[null,null,null,null,null,null,"2023-02-10",108078.27]
[null,null,null,null,null,null,"2023-02-13",108836.47]
[null,null,null,null,null,null,"2023-02-14",107848.81]
[null,null,null,null,null,null,"2023-02-15",109600.14]
[null,null,null,null,null,null,"2023-02-16",109941.46]
[null,null,null,null,null,null,"2023-02-17",109176.92]
[null,null,null,null,null,null,"2023-02-20"]
[null,null,null,null,null,null,"2023-02-21"]
[null,null,null,null,null,null,"2023-02-22",107152.05]
[null,null,null,null,null,null,"2023-02-23",107592.87]
[null,null,null,null,null,null,"2023-02-24",105798.43]
[null,null,null,null,null,null,"2023-02-27",105711.05]
[null,null,null,null,null,null,"2023-02-28",104931.93]
[null,null,null,null,null,null,"2023-03-01",104384.67]
[null,null,null,null,null,null,"2023-03-02",103325.61]
[null,null,null,null,null,null,"2023-03-03",103865.99]
[null,null,null,null,null,null,"2023-03-06",104700.32]
[null,null,null,null,null,null,"2023-03-07",104227.93]
[null,null,null,null,null,null,"2023-03-08",106540.32]
[null,null,null,null,null,null,"2023-03-09",105071.19]
[null,null,null,null,null,null,"2023-03-10",103618.2]
[null,null,null,null,null,null,"2023-03-13",103121.36]
[null,null,null,null,null,null,"2023-03-14",102932.38]
[null,null,null,null,null,null,"2023-03-15",102675.45]
[null,null,null,null,null,null,"2023-03-16",103434.66]
[null,null,null,null,null,null,"2023-03-17",101981.53]
[null,null,null,null,null,null,"2023-03-20",100922.89]
[null,null,null,null,null,null,"2023-03-21",100998.13]
[null,null,null,null,null,null,"2023-03-22",100220.63]
[null,null,null,null,null,null,"2023-03-23",97926.34]
[null,null,null,null,null,null,"2023-03-24",98829.27]
[null,null,null,null,null,null,"2023-03-27",99670.47]
[null,null,null,null,null,null,"2023-03-28",101185.09]
[null,null,null,null,null,null,"2023-03-29",101792.52]
[null,null,null,null,null,null,"2023-03-30",103713.45]
[null,null,null,null,null,null,"2023-03-31",101882.2]
[null,null,null,null,null,null,"2023-04-03",101506.18]
[null,null,null,null,null,null,"2023-04-04",101869.45]
[null,null,null,null,null,null,"2023-04-05",100977.85]
[null,null,null,null,null,null,"2023-04-06",100821.73]
[null,null,null,null,null,null,"2023-04-07"]
[null,null,null,null,null,null,"2023-04-10",101846.64]
[null,null,null,null,null,null,"2023-04-11",106213.75999999999]
[null,null,null,null,null,null,"2023-04-12",106889.71]
[null,null,null,null,null,null,"2023-04-13",106457.85]
[null,null,null,null,null,null,"2023-04-14",106279.37]
[null,null,null,null,null,null,"2023-04-17",106015.67]
[null,null,null,null,null,null,"2023-04-18",106163.23]
[null,null,null,null,null,null,"2023-04-19",103912.94]
[null,null,null,null,null,null,"2023-04-20",104366.82]
[null,null,null,null,null,null,"2023-04-21"]
[null,null,null,null,null,null,"2023-04-24",103946.58]
[null,null,null,null,null,null,"2023-04-25",103220.09]
[null,null,null,null,null,null,"2023-04-26",102312.1]
[null,null,null,null,null,null,"2023-04-27",102923.31]
[null,null,null,null,null,null,"2023-04-28",104431.63]
[null,null,null,null,null,null,"2023-05-01"]
[null,null,null,null,null,null,"2023-05-02",101926.95]
[null,null,null,null,null,null,"2023-05-03",101797.09]
[null,null,null,null,null,null,"2023-05-04",102174.34]
[null,null,null,null,null,null,"2023-05-05",105148.48]
[null,null,null,null,null,null,"2023-05-08",106042.15]
[null,null,null,null,null,null,"2023-05-09",107113.66]
[null,null,null,null,null,null,"2023-05-10",107448.21]
[null,null,null,null,null,null,"2023-05-11",108256.4]
[null,null,null,null,null,null,"2023-05-12",108463.84]
[null,null,null,null,null,null,"2023-05-15",109029.12]
[null,null,null,null,null,null,"2023-05-16",108193.68]
[null,null,null,null,null,null,"2023-05-17",109459.95]
[null,null,null,null,null,null,"2023-05-18",110108.46]
[null,null,null,null,null,null,"2023-05-19",110744.51]
[null,null,null,null,null,null,"2023-05-22",110213.12]
[null,null,null,null,null,null,"2023-05-23",109928.53]
[null,null,null,null,null,null,"2023-05-24",108799.54]
[null,null,null,null,null,null,"2023-05-25",110054.38]
[null,null,null,null,null,null,"2023-05-26",110905.51]
[null,null,null,null,null,null,"2023-05-29",110333.4]
[null,null,null,null,null,null,"2023-05-30",108967.03]
[null,null,null,null,null,null,"2023-05-31",108335.07]
[null,null,null,null,null,null,"2023-06-01",110564.66]
[null,null,null,null,null,null,"2023-06-02",112558.15]
[null,null,null,null,null,null,"2023-06-05",112696.32000000001]
[null,null,null,null,null,null,"2023-06-06",114610.1]
[null,null,null,null,null,null,"2023-06-07",115488.16]
[null,null,null,null,null,null,"2023-06-08"]
[null,null,null,null,null,null,"2023-06-09",117019.48]
[null,null,null,null,null,null,"2023-06-12",117336.34]
[null,null,null,null,null,null,"2023-06-13",116742.71]
[null,null,null,null,null,null,"2023-06-14",119068.77]
[null,null,null,null,null,null,"2023-06-15",119221]
[null,null,null,null,null,null,"2023-06-16",118758.42]
[null,null,null,null,null,null,"2023-06-19",119857.76]
[null,null,null,null,null,null,"2023-06-20",119622.39999999999]
[null,null,null,null,null,null,"2023-06-21",120420.26]
[null,null,null,null,null,null,"2023-06-22",118934.2]
[null,null,null,null,null,null,"2023-06-23",118977.1]
[null,null,null,null,null,null,"2023-06-26",118242.95]
[null,null,null,null,null,null,"2023-06-27",117522.87]
[null,null,null,null,null,null,"2023-06-28",116681.32]
[null,null,null,null,null,null,"2023-06-29",118382.65]
[null,null,null,null,null,null,"2023-06-30",118087]
[null,null,null,null,null,null,"2023-07-03",119672.78]
[null,null,null,null,null,null,"2023-07-04",119076.37]
[null,null,null,null,null,null,"2023-07-05",119549.21]
[null,null,null,null,null,null,"2023-07-06",117425.7]
[null,null,null,null,null,null,"2023-07-07",118897.99]
[null,null,null,null,null,null,"2023-07-10",117942.44]
[null,null,null,null,null,null,"2023-07-11",117555.52]
[null,null,null,null,null,null,"2023-07-12",117666.49]
[null,null,null,null,null,null,"2023-07-13",119263.89]
[null,null,null,null,null,null,"2023-07-14",117710.54]
[null,null,null,null,null,null,"2023-07-17",118219.46]
[null,null,null,null,null,null,"2023-07-18",117841.19]
[null,null,null,null,null,null,"2023-07-19",117552.07]
[null,null,null,null,null,null,"2023-07-20",118082.9]
[null,null,null,null,null,null,"2023-07-21",120216.77]
[null,null,null,null,null,null,"2023-07-24",121341.69]
[null,null,null,null,null,null,"2023-07-25",122007.77]
[null,null,null,null,null,null,"2023-07-26",122560.38]
[null,null,null,null,null,null,"2023-07-27",119989.64]
[null,null,null,null,null,null,"2023-07-28",120187.11]
[null,null,null,null,null,null,"2023-07-31",121942.98]
[null,null,null,null,null,null,"2023-08-01",121248.39]
[null,null,null,null,null,null,"2023-08-02",120858.72]
[null,null,null,null,null,null,"2023-08-03",120585.77]
[null,null,null,null,null,null,"2023-08-04",119507.68]
[null,null,null,null,null,null,"2023-08-07",119379.5]
[null,null,null,null,null,null,"2023-08-08",119090.24000000001]
[null,null,null,null,null,null,"2023-08-09",118408.77]
[null,null,null,null,null,null,"2023-08-10",118349.6]
[null,null,null,null,null,null,"2023-08-11",118065.14]
[null,null,null,null,null,null,"2023-08-14",116809.55]
[null,null,null,null,null,null,"2023-08-15",116171.42]
[null,null,null,null,null,null,"2023-08-16",115591.52]
[null,null,null,null,null,null,"2023-08-17",114982.3]
[null,null,null,null,null,null,"2023-08-18",115408.52]
[null,null,null,null,null,null,"2023-08-21",114429.35]
[null,null,null,null,null,null,"2023-08-22",116156.01]
[null,null,null,null,null,null,"2023-08-23",118134.59]
[null,null,null,null,null,null,"2023-08-24",117025.60000000001]
[null,null,null,null,null,null,"2023-08-25",115837.2]
[null,null,null,null,null,null,"2023-08-28",117120.98]
[null,null,null,null,null,null,"2023-08-29",118403.61]
[null,null,null,null,null,null,"2023-08-30",117535.1]
[null,null,null,null,null,null,"2023-08-31",115741.81]
[null,null,null,null,null,null,"2023-09-01",117892.96]
[null,null,null,null,null,null,"2023-09-04",117776.62]
[null,null,null,null,null,null,"2023-09-05",117331.3]
[null,null,null,null,null,null,"2023-09-06",115985.34]
[null,null,null,null,null,null,"2023-09-07"]
[null,null,null,null,null,null,"2023-09-08",115313.4]
[null,null,null,null,null,null,"2023-09-11",116883.34]
[null,null,null,null,null,null,"2023-09-12",117968.12]
[null,null,null,null,null,null,"2023-09-13",118175.97]
[null,null,null,null,null,null,"2023-09-14",119391.55]
[null,null,null,null,null,null,"2023-09-15",118757.53]
[null,null,null,null,null,null,"2023-09-18",118288.21]
[null,null,null,null,null,null,"2023-09-19",117845.78]
[null,null,null,null,null,null,"2023-09-20",118695.32]
[null,null,null,null,null,null,"2023-09-21",116145.05]
[null,null,null,null,null,null,"2023-09-22",116008.64]
[null,null,null,null,null,null,"2023-09-25",115924.61]
[null,null,null,null,null,null,"2023-09-26",114193.43]
[null,null,null,null,null,null,"2023-09-27",114327.05]
[null,null,null,null,null,null,"2023-09-28",115730.76]
[null,null,null,null,null,null,"2023-09-29",116565.17]
[null,null,null,null,null,null,"2023-10-02",115056.86]
[null,null,null,null,null,null,"2023-10-03",113419.04]
[null,null,null,null,null,null,"2023-10-04",113607.45]
[null,null,null,null,null,null,"2023-10-05",113284.08]
[null,null,null,null,null,null,"2023-10-06",114169.63]
[null,null,null,null,null,null,"2023-10-09",115156.07]
[null,null,null,null,null,null,"2023-10-10",116736.95]
[null,null,null,null,null,null,"2023-10-11",117050.74]
[null,null,null,null,null,null,"2023-10-12"]
[null,null,null,null,null,null,"2023-10-13",115754.08]
[null,null,null,null,null,null,"2023-10-16",116533.85]
[null,null,null,null,null,null,"2023-10-17",115908.43]
[null,null,null,null,null,null,"2023-10-18",114059.64]
[null,null,null,null,null,null,"2023-10-19",114004.3]
[null,null,null,null,null,null,"2023-10-20",113155.28]
[null,null,null,null,null,null,"2023-10-23",112784.52]
[null,null,null,null,null,null,"2023-10-24",113761.9]
[null,null,null,null,null,null,"2023-10-25",112829.97]
[null,null,null,null,null,null,"2023-10-26",114776.86]
[null,null,null,null,null,null,"2023-10-27",113301.35]
[null,null,null,null,null,null,"2023-10-30",112531.52]
[null,null,null,null,null,null,"2023-10-31",113143.67]
[null,null,null,null,null,null,"2023-11-01",115052.96]
[null,null,null,null,null,null,"2023-11-02"]
[null,null,null,null,null,null,"2023-11-03",118159.97]
[null,null,null,null,null,null,"2023-11-06",118431.25]
[null,null,null,null,null,null,"2023-11-07",119268.06]
[null,null,null,null,null,null,"2023-11-08",119176.67]
[null,null,null,null,null,null,"2023-11-09",119034.14]
[null,null,null,null,null,null,"2023-11-10",120568.14]
[null,null,null,null,null,null,"2023-11-13",120410.17]
[null,null,null,null,null,null,"2023-11-14",123165.75999999999]
[null,null,null,null,null,null,"2023-11-15"]
[null,null,null,null,null,null,"2023-11-16",124639.24]
[null,null,null,null,null,null,"2023-11-17",124773.21]
[null,null,null,null,null,null,"2023-11-20",125957.06]
[null,null,null,null,null,null,"2023-11-21",125626.03]
[null,null,null,null,null,null,"2023-11-22",126035.3]
[null,null,null,null,null,null,"2023-11-23",126575.75]
[null,null,null,null,null,null,"2023-11-24",125517.27]
[null,null,null,null,null,null,"2023-11-27",125731.45]
[null,null,null,null,null,null,"2023-11-28",126538.32]
[null,null,null,null,null,null,"2023-11-29",126165.64]
[null,null,null,null,null,null,"2023-11-30",127331.12]
[null,null,null,null,null,null,"2023-12-01",128184.91]
[null,null,null,null,null,null,"2023-12-04",126802.79]
[null,null,null,null,null,null,"2023-12-05",126903.25]
[null,null,null,null,null,null,"2023-12-06",125622.65]
[null,null,null,null,null,null,"2023-12-07",126009.57]
[null,null,null,null,null,null,"2023-12-08",127093.57]
[null,null,null,null,null,null,"2023-12-11",126916.41]
[null,null,null,null,null,null,"2023-12-12",126403.03]
[null,null,null,null,null,null,"2023-12-13",129465.08]
[null,null,null,null,null,null,"2023-12-14",130842.09]
[null,null,null,null,null,null,"2023-12-15",130197.1]
[null,null,null,null,null,null,"2023-12-18",131083.82]
[null,null,null,null,null,null,"2023-12-19",131850.9]
[null,null,null,null,null,null,"2023-12-20",130804.17]
[null,null,null,null,null,null,"2023-12-21",132182.01]
[null,null,null,null,null,null,"2023-12-22",132752.93]
[null,null,null,null,null,null,"2023-12-25"]
[null,null,null,null,null,null,"2023-12-26",133532.92000000001]
[null,null,null,null,null,null,"2023-12-27",134193.72]
[null,null,null,null,null,null,"2023-12-28",134185.24]
[null,null,null,null,null,null,"2023-12-29"]
[null,null,null,null,null,null,"2024-01-01"]
[null,null,null,null,null,null,"2024-01-02",132696.63]
[null,null,null,null,null,null,"2024-01-03",132833.95000000001]
[null,null,null,null,null,null,"2024-01-04",131225.91]
[null,null,null,null,null,null,"2024-01-05",132022.92000000001]
[null,null,null,null,null,null,"2024-01-08",132426.54]
[null,null,null,null,null,null,"2024-01-09",131446.59]
[null,null,null,null,null,null,"2024-01-10",130841.09]
[null,null,null,null,null,null,"2024-01-11",130648.75]
[null,null,null,null,null,null,"2024-01-12",130987.67]
[null,null,null,null,null,null,"2024-01-15",131520.91]
[null,null,null,null,null,null,"2024-01-16",129294.04]
[null,null,null,null,null,null,"2024-01-17",128523.83]
[null,null,null,null,null,null,"2024-01-18",127315.74]
[null,null,null,null,null,null,"2024-01-19",127635.65]
[null,null,null,null,null,null,"2024-01-22",126601.55]
[null,null,null,null,null,null,"2024-01-23",128262.52]
[null,null,null,null,null,null,"2024-01-24",127815.7]
[null,null,null,null,null,null,"2024-01-25",128168.73]
[null,null,null,null,null,null,"2024-01-26",128967.32]
[null,null,null,null,null,null,"2024-01-29",128502.66]
[null,null,null,null,null,null,"2024-01-30",127401.81]
[null,null,null,null,null,null,"2024-01-31",127752.28]
[null,null,null,null,null,null,"2024-02-01",128481.02]
[null,null,null,null,null,null,"2024-02-02",127182.25]
[null,null,null,null,null,null,"2024-02-05",127593.49]
[null,null,null,null,null,null,"2024-02-06",130416.31]
[null,null,null,null,null,null,"2024-02-07",129949.9]
[null,null,null,null,null,null,"2024-02-08",128216.92]
[null,null,null,null,null,null,"2024-02-09",128025.7]
[null,null,null,null,null,null,"2024-02-12"]
[null,null,null,null,null,null,"2024-02-13"]
[null,null,null,null,null,null,"2024-02-14",127018.29]
[null,null,null,null,null,null,"2024-02-15",127804.13]
[null,null,null,null,null,null,"2024-02-16",128725.88]
[null,null,null,null,null,null,"2024-02-19",129035.74]
[null,null,null,null,null,null,"2024-02-20",129916.11]
[null,null,null,null,null,null,"2024-02-21",130031.58]
[null,null,null,null,null,null,"2024-02-22",130240.55]
[null,null,null,null,null,null,"2024-02-23",129418.73]
[null,null,null,null,null,null,"2024-02-26",129609.05]
[null,null,null,null,null,null,"2024-02-27",131689.37]
[null,null,null,null,null,null,"2024-02-28",130155.43]
[null,null,null,null,null,null,"2024-02-29",129020.02]
[null,null,null,null,null,null,"2024-03-01",129180.37]
[null,null,null,null,null,null,"2024-03-04",128340.54]
[null,null,null,null,null,null,"2024-03-05",128098.11]
[null,null,null,null,null,null,"2024-03-06",128890.23]
[null,null,null,null,null,null,"2024-03-07",128339.76]
[null,null,null,null,null,null,"2024-03-08",127070.79]
[null,null,null,null,null,null,"2024-03-11",126123.56]
[null,null,null,null,null,null,"2024-03-12",127667.84]
[null,null,null,null,null,null,"2024-03-13",128006.05]
[null,null,null,null,null,null,"2024-03-14",127689.97]
[null,null,null,null,null,null,"2024-03-15",126741.81]
[null,null,null,null,null,null,"2024-03-18",126954.18]
[null,null,null,null,null,null,"2024-03-19",127528.85]
[null,null,null,null,null,null,"2024-03-20",129124.83]
[null,null,null,null,null,null,"2024-03-21",128158.57]
[null,null,null,null,null,null,"2024-03-22",127027.1]
[null,null,null,null,null,null,"2024-03-25",126931.47]
[null,null,null,null,null,null,"2024-03-26",126863.02]
[null,null,null,null,null,null,"2024-03-27",127690.62]
[null,null,null,null,null,null,"2024-03-28",128106.1]
[null,null,null,null,null,null,"2024-03-29"]
[null,null,null,null,null,null,"2024-04-01",126990.45]
[null,null,null,null,null,null,"2024-04-02",127548.52]
[null,null,null,null,null,null,"2024-04-03",127318.39]
[null,null,null,null,null,null,"2024-04-04",127427.53]
[null,null,null,null,null,null,"2024-04-05",126795.41]
[null,null,null,null,null,null,"2024-04-08",128857.16]
[null,null,null,null,null,null,"2024-04-09",129890.37]
[null,null,null,null,null,null,"2024-04-10",128053.74]
[null,null,null,null,null,null,"2024-04-11",127396.35]
[null,null,null,null,null,null,"2024-04-12",125946.09]
[null,null,null,null,null,null,"2024-04-15",125333.89]
[null,null,null,null,null,null,"2024-04-16",124388.62]
[null,null,null,null,null,null,"2024-04-17",124171.15]
[null,null,null,null,null,null,"2024-04-18",124196.18]
[null,null,null,null,null,null,"2024-04-19",125124.3]
[null,null,null,null,null,null,"2024-04-22",125573.16]
[null,null,null,null,null,null,"2024-04-23",125148.07]
[null,null,null,null,null,null,"2024-04-24",124740.69]
[null,null,null,null,null,null,"2024-04-25",124645.58]
[null,null,null,null,null,null,"2024-04-26",126526.27]
[null,null,null,null,null,null,"2024-04-29",127351.79]
[null,null,null,null,null,null,"2024-04-30",125924.19]
[null,null,null,null,null,null,"2024-05-01"]
[null,null,null,null,null,null,"2024-05-02",127122.25]
[null,null,null,null,null,null,"2024-05-03",128508.67]
[null,null,null,null,null,null,"2024-05-06",128465.69]
[null,null,null,null,null,null,"2024-05-07",129210.48]
[null,null,null,null,null,null,"2024-05-08",129480.89]
[null,null,null,null,null,null,"2024-05-09",128188.34]
[null,null,null,null,null,null,"2024-05-10",127599.57]
[null,null,null,null,null,null,"2024-05-13",128154.79]
[null,null,null,null,null,null,"2024-05-14",128515.49]
[null,null,null,null,null,null,"2024-05-15",128027.59]
[null,null,null,null,null,null,"2024-05-16",128283.62]
[null,null,null,null,null,null,"2024-05-17",128150.71]
[null,null,null,null,null,null,"2024-05-20",127750.92]
[null,null,null,null,null,null,"2024-05-21",127411.55]
[null,null,null,null,null,null,"2024-05-22",125650.03]
[null,null,null,null,null,null,"2024-05-23",124729.4]
[null,null,null,null,null,null,"2024-05-24",124305.57]
[null,null,null,null,null,null,"2024-05-27",124495.67999999999]
[null,null,null,null,null,null,"2024-05-28",123779.54]
[null,null,null,null,null,null,"2024-05-29",122707.28]
[null,null,null,null,null,null,"2024-05-30"]
[null,null,null,null,null,null,"2024-05-31",122098.09]
[null,null,null,null,null,null,"2024-06-03",122031.58]
[null,null,null,null,null,null,"2024-06-04",121802.06]
[null,null,null,null,null,null,"2024-06-05",121407.33]
[null,null,null,null,null,null,"2024-06-06",122898.8]
[null,null,null,null,null,null,"2024-06-07",120767.19]
[null,null,null,null,null,null,"2024-06-10",120759.51]
[null,null,null,null,null,null,"2024-06-11",121635.06]
[null,null,null,null,null,null,"2024-06-12",119936.02]
[null,null,null,null,null,null,"2024-06-13",119567.53]
[null,null,null,null,null,null,"2024-06-14",119662.38]
[null,null,null,null,null,null,"2024-06-17",119137.86]
[null,null,null,null,null,null,"2024-06-18",119630.44]
[null,null,null,null,null,null,"2024-06-19",120261.34]
[null,null,null,null,null,null,"2024-06-20",120445.91]
[null,null,null,null,null,null,"2024-06-21",121341.13]
[null,null,null,null,null,null,"2024-06-24",122636.96]
[null,null,null,null,null,null,"2024-06-25",122331.39]
[null,null,null,null,null,null,"2024-06-26",122641.3]
[null,null,null,null,null,null,"2024-06-27",124307.83]
[null,null,null,null,null,null,"2024-06-28",123906.55]
[null,null,null,null,null,null,"2024-07-01",124718.07]
[null,null,null,null,null,null,"2024-07-02",124787.08]
[null,null,null,null,null,null,"2024-07-03",125661.89]
[null,null,null,null,null,null,"2024-07-04",126163.98]
[null,null,null,null,null,null,"2024-07-05",126267.05]
[null,null,null,null,null,null,"2024-07-08",126548.34]
[null,null,null,null,null,null,"2024-07-09",127108.22]
[null,null,null,null,null,null,"2024-07-10",127218.24000000001]
[null,null,null,null,null,null,"2024-07-11",128293.61]
[null,null,null,null,null,null,"2024-07-12",128896.98]
[null,null,null,null,null,null,"2024-07-15",129320.96000000001]
[null,null,null,null,null,null,"2024-07-16",129110.38]
[null,null,null,null,null,null,"2024-07-17",129450.32]
[null,null,null,null,null,null,"2024-07-18",127652.06]
[null,null,null,null,null,null,"2024-07-19",127616.46]
[null,null,null,null,null,null,"2024-07-22",127859.63]
[null,null,null,null,null,null,"2024-07-23",126589.84]
[null,null,null,null,null,null,"2024-07-24",126422.73]
[null,null,null,null,null,null,"2024-07-25",125954.09]
[null,null,null,null,null,null,"2024-07-26",127492.49]
[null,null,null,null,null,null,"2024-07-29",126953.86]
[null,null,null,null,null,null,"2024-07-30",126139.21]
[null,null,null,null,null,null,"2024-07-31",127651.81]
[null,null,null,null,null,null,"2024-08-01",127395.1]
[null,null,null,null,null,null,"2024-08-02",125854.09]
[null,null,null,null,null,null,"2024-08-05",125269.54]
[null,null,null,null,null,null,"2024-08-06",126266.7]
[null,null,null,null,null,null,"2024-08-07",127513.88]
[null,null,null,null,null,null,"2024-08-08",128660.88]
[null,null,null,null,null,null,"2024-08-09",130614.59]
[null,null,null,null,null,null,"2024-08-12",131115.9]
[null,null,null,null,null,null,"2024-08-13",132397.97]
[null,null,null,null,null,null,"2024-08-14",133317.66]
[null,null,null,null,null,null,"2024-08-15",134153.42000000001]
[null,null,null,null,null,null,"2024-08-16",133953.25]
[null,null,null,null,null,null,"2024-08-19",135777.98000000001]
[null,null,null,null,null,null,"2024-08-20",136087.41]
[null,null,null,null,null,null,"2024-08-21",136463.65]
[null,null,null,null,null,null,"2024-08-22",135173.39000000001]
[null,null,null,null,null,null,"2024-08-23",135608.47]
[null,null,null,null,null,null,"2024-08-26",136888.71]
[null,null,null,null,null,null,"2024-08-27",136775.91]
[null,null,null,null,null,null,"2024-08-28",137343.96]
[null,null,null,null,null,null,"2024-08-29",136041.35]
[null,null,null,null,null,null,"2024-08-30",136004.01]
[null,null,null,null,null,null,"2024-09-02",134906.07]
[null,null,null,null,null,null,"2024-09-03",134353.48000000001]
[null,null,null,null,null,null,"2024-09-04",136110.73000000001]
[null,null,null,null,null,null,"2024-09-05",136502.49]
[null,null,null,null,null,null,"2024-09-06",134572.45000000001]
[null,null,null,null,null,null,"2024-09-09",134737.21]
[null,null,null,null,null,null,"2024-09-10",134319.57999999999]
[null,null,null,null,null,null,"2024-09-11",134676.75]
[null,null,null,null,null,null,"2024-09-12",134029.43]
[null,null,null,null,null,null,"2024-09-13",134881.95000000001]
[null,null,null,null,null,null,"2024-09-16",135118.22]
[null,null,null,null,null,null,"2024-09-17",134960.19]
[null,null,null,null,null,null,"2024-09-18",133747.69]

{"sheet":"Lâmina Empréstimo BTC","index":1,"n_rows":22,"n_cols":24,"rows_kept":22,"cut":false,"hidden":false,"merged":[[2,1,2,2],[3,1,3,2],[5,1,5,6],[5,8,5,23],[15,8,15,23],[6,23,8,23],[6,9,8,10],[6,11,8,12],[6,13,8,14],[6,15,8,16],[6,17,8,18],[6,19,8,20],[6,21,8,22],[10,17,10,18],[11,17,11,18],[6,8,8,8],[14,11,14,12],[9,13,9,14],[9,9,9,10],[10,9,10,10],[11,9,11,10],[12,9,12,10],[13,9,13,10],[14,9,14,10],[9,11,9,12],[10,11,10,12],[11,11,11,12],[12,11,12,12],[13,11,13,12],[12,17,12,18],[13,17,13,18],[14,17,14,18],[9,21,9,22],[10,21,10,22],[11,21,11,22],[12,21,12,22],[13,21,13,22],[14,21,14,22],[9,19,9,20],[10,19,10,20],[11,19,11,20],[12,19,12,20],[13,19,13,20],[14,19,14,20],[9,17,9,18],[10,13,10,14],[11,13,11,14],[12,13,12,14],[13,13,13,14],[14,13,14,14],[14,15,14,16],[9,15,9,16],[10,15,10,16],[11,15,11,16],[12,15,12,16],[13,15,13,16]]}
[null,null,null,null,null,"Lâmina Empréstimo BTC",null,null,null,null,{"$f":"IFERROR(UPPER(_xll.ECONOMATICA(G7,\"name\")&\" \"&_xll.ECONOMATICA(G7,\"class\")&\"     |      Listagem Bovespa: \"&_xll.ECONOMATICA(G7,\"Segmento listagem Bovespa\")&\"     |      Setor Bovespa: \"&_xll.ECONOMATICA(G7,\"Segment Bovespa\")),\"\")","v":"VALE ON     |      LISTAGEM BOVESPA: NOVO MERCADO     |      SETOR BOVESPA: MINERAIS METÁLICOS"}]
[]
[null,"Dta. Últ. Cot.: ",null,{"$f":"IF(Z4=\"\",_xll.ECONOMATICA(\"bova11\",\"Date last op contr (sec lending)\"),Z4)","v":"2024-09-18"},"← Não Modificar"]
[null,"Dta. Pref. Últ. Cot.: ",null,null,"← Para alterar a data da Célula D3, basta digitar na Célula D4"]
[]
[null,{"$f":"\"Informações Gerais\"","v":"Informações Gerais"},null,null,null,null,null,null,"BTC - Dados Mensais"]
[null,"Código",null,null,null," Selecione ou digite o cógido →","VALE3",null,"Data","Valo em aberto  (R$ -milhares)\nBTC",null,"Qtd títulos em aberto (R$ Milhares)\nBTC",null,"Qtd títulos mercado a vista (R$ Milhares)",null,"Percentual BTC vs Mercado a vista",null,"Taxa média de aluguel no mês %",null,"Fechamento ajust p/ prov no mês R$",null,"Preço máximo ajust p/ prov no mês R$",null,"Fechamento vs náximo no mês %"]
[null,"Data último contrato aberto (empréstimo)",null,null,null,null,{"$f":"IFERROR(_xll.ECONOMATICA($G$7&\"<XBSP>\",\"Date last op contr (sec lending)\",,,,,,,\"false\",\"FALSE\"),\"\")","v":"2024-09-18"}]
[null,"Valor de Mercado",null,null,null,null,{"$f":"IFERROR(_xll.ECONOMATICA($G$7&\"<XBSP>\",\"MarketCapitaliz\",,$D$3,,,,\"thousands\",\"false\",\"FALSE\"),\"\")","v":245747759.31}]
[null,"Volatilidade",null,null,null,null,{"$f":"IFERROR(_xll.ECONOMATICA($G$7&\"<XBSP>\",\"Volatility\",,$D$3,,,,\"decimal\",\"false\",\"FALSE\"),\"\")","v":0.20420482801000001},null,{"$f":"EOMONTH(I11,-1)","v":"2024-04-30"},{"$f":"IFERROR(_xll.ECONOMATICA($G$7&\"<XBSP>\",\"Value$-onLoan\",,I10,I10,\"m\",,\"thousands\",\"false\",\"false\"),\"\")","v":10096285.539000001},null,{"$f":"IFERROR(_xll.ECONOMATICA($G$7&\"<XBSP>\",\"#Sec-onLoan\",,$I10,$I10,\"m\",,\"thousands\",\"false\",\"false\"),\"\")","v":162864.5},null,{"$f":"IFERROR(_xll.ECONOMATICA($G$7&\"<XBSP>\",\"#Shares\",,$I10,$I10,\"m\",,\"thousands\",\"false\",\"false\",,{\"std.tec.caddip=true\"}),\"\")","v":536843.30000000005},null,{"$f":"L10/N10","v":0.30337437386291305},null,{"$f":"IFERROR(_xll.ECONOMATICA($G$7&\"<XBSP>\",\"AvgFeeLndr-inPer\",,$I10,$I10,\"m\",,,\"false\",\"false\",,{\"std.tec.caddip=true\"}),\"\")","v":6.1952870400999997E-2},null,{"$f":"IFERROR(_xll.ECONOMATICA($G$7&\"<XBSP>\",\"Close\",,$I10,$I10,\"m\",,,\"false\",\"false\",,{\"tc.dft=true\"}),\"\")","v":61.059458266},null,{"$f":"IFERROR(_xll.ECONOMATICA($G$7&\"<XBSP>\",\"High\",,$I10,$I10,\"m\",,,\"false\",\"false\",,{\"std.tec.caddip=true\"}),\"\")","v":61.831263710999998},null,{"$f":"T10/V10","v":0.9875175534401589}]
[null,"Beta",null,null,null,null,{"$f":"IFERROR(_xll.ECONOMATICA($G$7&\"<XBSP>\",\"Beta\",,$D$3,,,,,\"false\",\"FALSE\"),\"\")","v":0.55695395567999995},null,{"$f":"EOMONTH(I12,-1)","v":"2024-05-31"},{"$f":"IFERROR(_xll.ECONOMATICA($G$7&\"<XBSP>\",\"Value$-onLoan\",,I11,I11,\"m\",,\"thousands\",\"false\",\"false\"),\"\")","v":7024703.9266999997},null,{"$f":"IFERROR(_xll.ECONOMATICA($G$7&\"<XBSP>\",\"#Sec-onLoan\",,I11,I11,\"m\",,\"thousands\",\"false\",\"false\"),\"\")","v":108746.12},null,{"$f":"IFERROR(_xll.ECONOMATICA($G$7&\"<XBSP>\",\"#Shares\",,$I11,$I11,\"m\",,\"thousands\",\"false\",\"false\",,{\"std.tec.caddip=true\"}),\"\")","v":382872.6},null,{"$f":"L11/N11","v":0.28402690607789643},null,{"$f":"IFERROR(_xll.ECONOMATICA($G$7&\"<XBSP>\",\"AvgFeeLndr-inPer\",,$I11,$I11,\"m\",,,\"false\",\"false\",,{\"std.tec.caddip=true\"}),\"\")","v":4.0171929731999997E-2},null,{"$f":"IFERROR(_xll.ECONOMATICA($G$7&\"<XBSP>\",\"Close\",,$I11,$I11,\"m\",,,\"false\",\"false\",,{\"tc.dft=true\"}),\"\")","v":60.972630154000001},null,{"$f":"IFERROR(_xll.ECONOMATICA($G$7&\"<XBSP>\",\"High\",,$I11,$I11,\"m\",,,\"false\",\"false\",,{\"std.tec.caddip=true\"}),\"\")","v":64.735181698000005},null,{"$f":"T11/V11","v":0.94187779434136898}]
[null,"Valor de Mercado - Free Float",null,null,null,null,{"$f":"IFERROR(INDEX('Guia de BTC'!Q:Q,MATCH('Lâmina Empréstimo BTC'!$G$7&\"<XBSP>\",'Guia de BTC'!C:C,0)),\"\")","v":231232230.71570623},null,"2024-06-30",{"$f":"IFERROR(_xll.ECONOMATICA($G$7&\"<XBSP>\",\"Value$-onLoan\",,I12,I12,\"m\",,\"thousands\",\"false\",\"false\"),\"\")","v":6831721.1650999999},null,{"$f":"IFERROR(_xll.ECONOMATICA($G$7&\"<XBSP>\",\"#Sec-onLoan\",,I12,I12,\"m\",,\"thousands\",\"false\",\"false\"),\"\")","v":111777.272},null,{"$f":"IFERROR(_xll.ECONOMATICA($G$7&\"<XBSP>\",\"#Shares\",,$I12,$I12,\"m\",,\"thousands\",\"false\",\"false\",,{\"std.tec.caddip=true\"}),\"\")","v":350117.1},null,0.31925682007534051,null,{"$f":"IFERROR(_xll.ECONOMATICA($G$7&\"<XBSP>\",\"AvgFeeLndr-inPer\",,$I12,$I12,\"m\",,,\"false\",\"false\",,{\"std.tec.caddip=true\"}),\"\")","v":3.8117979098999999E-2},null,{"$f":"IFERROR(_xll.ECONOMATICA($G$7&\"<XBSP>\",\"Close\",,$I12,$I12,\"m\",,,\"false\",\"false\",,{\"tc.dft=true\"}),\"\")","v":60.027168482999997},null,{"$f":"IFERROR(_xll.ECONOMATICA($G$7&\"<XBSP>\",\"High\",,$I12,$I12,\"m\",,,\"false\",\"false\",,{\"std.tec.caddip=true\"}),\"\")","v":60.634965270999999},null,0.98997613365022086]
[null,"% IBOV",null,null,null,null,{"$f":"IFERROR(INDEX('Guia de BTC'!H:H,MATCH('Lâmina Empréstimo BTC'!$G$7&\"<XBSP>\",'Guia de BTC'!C:C,0)),\"\")","v":0.11132999999999998},null,{"$f":"EOMONTH(I14,-1)","v":"2024-07-31"},{"$f":"IFERROR(_xll.ECONOMATICA($G$7&\"<XBSP>\",\"Value$-onLoan\",,I13,I13,\"m\",,\"thousands\",\"false\",\"false\"),\"\")","v":13767269.67},null,{"$f":"IFERROR(_xll.ECONOMATICA($G$7&\"<XBSP>\",\"#Sec-onLoan\",,I13,I13,\"m\",,\"thousands\",\"false\",\"false\"),\"\")","v":224645.03700000001},null,{"$f":"IFERROR(_xll.ECONOMATICA($G$7&\"<XBSP>\",\"#Shares\",,$I13,$I13,\"m\",,\"thousands\",\"false\",\"false\",,{\"std.tec.caddip=true\"}),\"\")","v":498381.9},null,0.45074878722521827,null,{"$f":"IFERROR(_xll.ECONOMATICA($G$7&\"<XBSP>\",\"AvgFeeLndr-inPer\",,$I13,$I13,\"m\",,,\"false\",\"false\",,{\"std.tec.caddip=true\"}),\"\")","v":0.33315768816000002},null,{"$f":"IFERROR(_xll.ECONOMATICA($G$7&\"<XBSP>\",\"Close\",,$I13,$I13,\"m\",,,\"false\",\"false\",,{\"tc.dft=true\"}),\"\")","v":59.457961967999999},null,{"$f":"IFERROR(_xll.ECONOMATICA($G$7&\"<XBSP>\",\"High\",,$I13,$I13,\"m\",,,\"false\",\"false\",,{\"std.tec.caddip=true\"}),\"\")","v":62.554831315999998},null,0.95049352251697472]
[null,"% Float Alugado",null,null,null,null,{"$f":"IFERROR(INDEX('Guia de BTC'!R:R,MATCH('Lâmina Empréstimo BTC'!$G$7&\"<XBSP>\",'Guia de BTC'!C:C,0)),\"\")","v":2.8704061311246813E-2},null,{"$f":"EOMONTH(I15,-1)","v":"2024-08-31"},{"$f":"IFERROR(_xll.ECONOMATICA($G$7&\"<XBSP>\",\"Value$-onLoan\",,I14,I14,\"m\",,\"thousands\",\"false\",\"false\"),\"\")","v":6526960.4628999997},null,{"$f":"IFERROR(_xll.ECONOMATICA($G$7&\"<XBSP>\",\"#Sec-onLoan\",,I14,I14,\"m\",,\"thousands\",\"false\",\"false\"),\"\")","v":113939.103},null,{"$f":"IFERROR(_xll.ECONOMATICA($G$7&\"<XBSP>\",\"#Shares\",,$I14,$I14,\"m\",,\"thousands\",\"false\",\"false\",,{\"std.tec.caddip=true\"}),\"\")","v":588871.80000000005},null,0.19348711043728023,null,{"$f":"IFERROR(_xll.ECONOMATICA($G$7&\"<XBSP>\",\"AvgFeeLndr-inPer\",,$I14,$I14,\"m\",,,\"false\",\"false\",,{\"std.tec.caddip=true\"}),\"\")","v":0.40486293353000002},null,{"$f":"IFERROR(_xll.ECONOMATICA($G$7&\"<XBSP>\",\"Close\",,$I14,$I14,\"m\",,,\"false\",\"false\",,{\"tc.dft=true\"}),\"\")","v":59.58},null,{"$f":"IFERROR(_xll.ECONOMATICA($G$7&\"<XBSP>\",\"High\",,$I14,$I14,\"m\",,,\"false\",\"false\",,{\"std.tec.caddip=true\"}),\"\")","v":60.14},null,0.9906883937479215]
[null,"Valor Alugado",null,null,null,null,{"$f":"IFERROR(INDEX('Guia de BTC'!T:T,MATCH('Lâmina Empréstimo BTC'!$G$7&\"<XBSP>\",'Guia de BTC'!C:C,0)),\"\")","v":6637304.1276000002},null,{"$f":"D3","v":"2024-09-18"},{"$f":"IFERROR(_xll.ECONOMATICA($G$7&\"<XBSP>\",\"Value$-onLoan\",,I15,I15,\"m\",,\"thousands\",\"false\",\"false\"),\"\")","v":6637304.1276000002},{"$f":"IFERROR(INDEX('[1]Informações Financeiras'!C:C,MATCH([1]Lâmina!$I11,'[1]Informações Financeiras'!$B:$B,0)),\"\")","v":""},{"$f":"IFERROR(_xll.ECONOMATICA($G$7&\"<XBSP>\",\"#Sec-onLoan\",,I15,I15,\"m\",,\"thousands\",\"false\",\"false\"),\"\")","v":115041.342},null,{"$f":"IFERROR(_xll.ECONOMATICA($G$7&\"<XBSP>\",\"#Shares\",,$I15,$I15,\"m\",,\"thousands\",\"false\",\"false\",,{\"std.tec.caddip=true\"}),\"\")","v":219127.8},null,0.52499656364915825,null,{"$f":"IFERROR(_xll.ECONOMATICA($G$7&\"<XBSP>\",\"AvgFeeLndr-inPer\",,$I15,$I15,\"m\",,,\"false\",\"false\",,{\"std.tec.caddip=true\"}),\"\")","v":2.9097742175E-2},null,{"$f":"IFERROR(_xll.ECONOMATICA($G$7&\"<XBSP>\",\"Close\",,$I15,$I15,\"m\",,,\"false\",\"false\",,{\"tc.dft=true\"}),\"\")","v":57.54},null,{"$f":"IFERROR(_xll.ECONOMATICA($G$7&\"<XBSP>\",\"High\",,$I15,$I15,\"m\",,,\"false\",\"false\",,{\"std.tec.caddip=true\"}),\"\")","v":59},null,0.97525423728813554]
[null,"Volume Médio",null,null,null,null,{"$f":"IFERROR(INDEX('Guia de BTC'!Y:Y,MATCH('Lâmina Empréstimo BTC'!$G$7&\"<XBSP>\",'Guia de BTC'!C:C,0)),\"\")","v":1162684.1995000001},null,"Retorno %"]
[null,"Dias de Giro",null,null,null,null,{"$f":"IFERROR(INDEX('Guia de BTC'!Z:Z,MATCH('Lâmina Empréstimo BTC'!$G$7&\"<XBSP>\",'Guia de BTC'!C:C,0)),\"\")","v":5.7086043918497404},null,"Tipo",{"$f":"EOMONTH(K17,-1)","v":"2024-04-30"},"2024-05-31","2024-06-30",{"$f":"EOMONTH(N17,-1)","v":"2024-07-31"},{"$f":"EOMONTH(O17,-1)","v":"2024-08-31"},{"$f":"D3","v":"2024-09-18"},{"$f":"DATE(YEAR(Q17)-1,12,31)","v":"2022-12-31"},{"$f":"DATE(YEAR(R17)-1,12,31)","v":"2023-12-31"},{"$f":"D3","v":"2024-09-18"},"1d","1m","6m","12m","24m","36m"]
[null,"Aluguel vs Vista",null,null,null,null,{"$f":"IFERROR(INDEX('Guia de BTC'!AF:AF,MATCH('Lâmina Empréstimo BTC'!$G$7&\"<XBSP>\",'Guia de BTC'!C:C,0)),\"\")","v":0.15407912241274715},null,{"$f":"G7","v":"VALE3"},{"$f":"IFERROR(_xll.ECONOMATICA($G$7&\"<XBSP>\",\"return\",\"in the month\",J17,,,,\"decimal\"),\"\")","v":4.0440572086E-2},{"$f":"IFERROR(_xll.ECONOMATICA($G$7&\"<XBSP>\",\"return\",\"in the month\",K17,,,,\"decimal\"),\"\")","v":-1.4220255961E-3},{"$f":"IFERROR(_xll.ECONOMATICA($G$7&\"<XBSP>\",\"return\",\"in the month\",L17,,,,\"decimal\"),\"\")","v":-1.5506329114E-2},{"$f":"IFERROR(_xll.ECONOMATICA($G$7&\"<XBSP>\",\"return\",\"in the month\",M17,,,,\"decimal\"),\"\")","v":-9.4824815160000006E-3},{"$f":"IFERROR(_xll.ECONOMATICA($G$7&\"<XBSP>\",\"return\",\"in the month\",N17,,,,\"decimal\"),\"\")","v":2.0525095059999998E-3},{"$f":"IFERROR(_xll.ECONOMATICA($G$7&\"<XBSP>\",\"return\",\"in the month\",O17,,,,\"decimal\"),\"\")","v":-3.4239677745000002E-2},{"$f":"IFERROR(_xll.ECONOMATICA($G$7&\"<XBSP>\",\"return\",\"in the year\",P17,,,,\"decimal\"),\"\")","v":0.24948565992999999},{"$f":"IFERROR(_xll.ECONOMATICA($G$7&\"<XBSP>\",\"return\",\"in the year\",Q17,,,,\"decimal\"),\"\")","v":-5.7343429286000003E-2},{"$f":"IFERROR(_xll.ECONOMATICA($G$7&\"<XBSP>\",\"return\",\"in the year\",,,,,\"decimal\"),\"\")","v":-0.19287734397},{"$f":"IFERROR(_xll.ECONOMATICA($G$7&\"<XBSP>\",\"return\",S17,$D$3,,,,\"decimal\"),\"\")","v":-1.1679835108000001E-2},{"$f":"IFERROR(_xll.ECONOMATICA($G$7&\"<XBSP>\",\"return\",T17,,,,,\"decimal\"),\"\")","v":2.6034236804000001E-2},{"$f":"IFERROR(_xll.ECONOMATICA($G$7&\"<XBSP>\",\"return\",U17,,,,,\"decimal\"),\"\")","v":-2.0657247395000002E-2},{"$f":"IFERROR(_xll.ECONOMATICA($G$7&\"<XBSP>\",\"return\",V17,,,,,\"decimal\"),\"\")","v":-6.5302088841E-2},{"$f":"IFERROR(_xll.ECONOMATICA($G$7&\"<XBSP>\",\"return\",W17,,,,,\"decimal\"),\"\")","v":-5.8224673357000004E-3},{"$f":"IFERROR(_xll.ECONOMATICA($G$7&\"<XBSP>\",\"return\",X17,,,,,\"decimal\"),\"\")","v":-5.0354226852E-2}]
[null,"▲ 1 dia - Número de Ações",null,null,null,null,{"$f":"IFERROR(INDEX('Guia de BTC'!AJ:AJ,MATCH('Lâmina Empréstimo BTC'!$G$7&\"<XBSP>\",'Guia de BTC'!C:C,0)),\"\")","v":8.4705453244366957E-3},null,"IBOV",{"$f":"IFERROR(_xll.ECONOMATICA($I$19,\"return\",\"in the month\",J17,,,,\"decimal\"),\"\")","v":-1.7032053899000001E-2},{"$f":"IFERROR(_xll.ECONOMATICA($I$19,\"return\",\"in the month\",K17,,,,\"decimal\"),\"\")","v":-3.0384154149E-2},{"$f":"IFERROR(_xll.ECONOMATICA($I$19,\"return\",\"in the month\",L17,,,,\"decimal\"),\"\")","v":1.4811533906999999E-2},{"$f":"IFERROR(_xll.ECONOMATICA($I$19,\"return\",\"in the month\",M17,,,,\"decimal\"),\"\")","v":3.0226489238E-2},{"$f":"IFERROR(_xll.ECONOMATICA($I$19,\"return\",\"in the month\",N17,,,,\"decimal\"),\"\")","v":6.5429546201E-2},{"$f":"IFERROR(_xll.ECONOMATICA($I$19,\"return\",\"in the month\",O17,,,,\"decimal\"),\"\")","v":-1.6590099071000002E-2},{"$f":"IFERROR(_xll.ECONOMATICA($I$19,\"return\",\"in the year\",P17,,,,\"decimal\"),\"\")","v":4.6861721592E-2},{"$f":"IFERROR(_xll.ECONOMATICA($I$19,\"return\",\"in the year\",Q17,,,,\"decimal\"),\"\")","v":0.22281614003},{"$f":"IFERROR(_xll.ECONOMATICA($I$19,\"return\",\"in the year\",,,,,\"decimal\"),\"\")","v":-3.2607908287999999E-3},{"$f":"IFERROR(_xll.ECONOMATICA($I$19,\"return\",S17,$D$3,,,,\"decimal\"),\"\")","v":-8.9841308017999996E-3},{"$f":"IFERROR(_xll.ECONOMATICA($I$19,\"return\",T17,,,,,\"decimal\"),\"\")","v":-1.5345652300000001E-3},{"$f":"IFERROR(_xll.ECONOMATICA($I$19,\"return\",U17,,,,,\"decimal\"),\"\")","v":5.3511511004999998E-2},{"$f":"IFERROR(_xll.ECONOMATICA($I$19,\"return\",V17,,,,,\"decimal\"),\"\")","v":0.13069332945000001},{"$f":"IFERROR(_xll.ECONOMATICA($I$19,\"return\",W17,,,,,\"decimal\"),\"\")","v":0.22389492276},{"$f":"IFERROR(_xll.ECONOMATICA($I$19,\"return\",X17,,,,,\"decimal\"),\"\")","v":0.20018347196}]
[null,"▲ 5 dia - Número de Ações",null,null,null,null,{"$f":"IFERROR(INDEX('Guia de BTC'!AL:AL,MATCH('Lâmina Empréstimo BTC'!$G$7&\"<XBSP>\",'Guia de BTC'!C:C,0)),\"\")","v":7.7812033741531561E-2},null,"CDI Acumulado",{"$f":"IFERROR(_xll.ECONOMATICA($I$20,\"return\",\"in the month\",J17,,,,\"decimal\"),\"\")","v":8.8742284187999995E-3},{"$f":"IFERROR(_xll.ECONOMATICA($I$20,\"return\",\"in the month\",K17,,,,\"decimal\"),\"\")","v":8.3243312965000007E-3},{"$f":"IFERROR(_xll.ECONOMATICA($I$20,\"return\",\"in the month\",L17,,,,\"decimal\"),\"\")","v":7.8832883974000005E-3},{"$f":"IFERROR(_xll.ECONOMATICA($I$20,\"return\",\"in the month\",M17,,,,\"decimal\"),\"\")","v":9.0711275006000007E-3},{"$f":"IFERROR(_xll.ECONOMATICA($I$20,\"return\",\"in the month\",N17,,,,\"decimal\"),\"\")","v":8.6750258524000007E-3},{"$f":"IFERROR(_xll.ECONOMATICA($I$20,\"return\",\"in the month\",O17,,,,\"decimal\"),\"\")","v":5.1170936785999996E-3},{"$f":"IFERROR(_xll.ECONOMATICA($I$20,\"return\",\"in the year\",P17,,,,\"decimal\"),\"\")","v":0.12391019239999999},{"$f":"IFERROR(_xll.ECONOMATICA($I$20,\"return\",\"in the year\",Q17,,,,\"decimal\"),\"\")","v":0.13039474929},{"$f":"IFERROR(_xll.ECONOMATICA($I$20,\"return\",\"in the year\",,,,,\"decimal\"),\"\")","v":7.6400242657000003E-2},{"$f":"IFERROR(_xll.ECONOMATICA($I$20,\"return\",S17,$D$3,,,,\"decimal\"),\"\")","v":3.9269622174999998E-4},{"$f":"IFERROR(_xll.ECONOMATICA($I$20,\"return\",T17,,,,,\"decimal\"),\"\")","v":9.0711288957999996E-3},{"$f":"IFERROR(_xll.ECONOMATICA($I$20,\"return\",U17,,,,,\"decimal\"),\"\")","v":5.2320546661999999E-2},{"$f":"IFERROR(_xll.ECONOMATICA($I$20,\"return\",V17,,,,,\"decimal\"),\"\")","v":0.11166807711},{"$f":"IFERROR(_xll.ECONOMATICA($I$20,\"return\",W17,,,,,\"decimal\"),\"\")","v":0.26206260957999999},{"$f":"IFERROR(_xll.ECONOMATICA($I$20,\"return\",X17,,,,,\"decimal\"),\"\")","v":0.39568028020000001}]
[]
[null,"Taxas Médias de Aluguel Diárias",null,null,null,null,null,null,"Análise Gráfica",null,null,null,null,null,null,null,null,null,null,null,null,null,"Selecione os Meses ou Digite uma Data →"," 12M"]

{"sheet":"Guia de BTC","index":2,"n_rows":450,"n_cols":58,"rows_kept":450,"cut":false,"hidden":false,"merged":[[4,45,4,47],[4,48,4,50],[4,39,4,41],[4,42,4,44],[4,19,4,22]]}
[null,null,null,null,null,"Guia de BTC"]
[null,null,"Data:",{"$f":"'Lâmina Empréstimo BTC'!$D$3","v":"2024-09-18"},"← Não Modificar"]
[null,null,"Unidades:",{"$f":"VLOOKUP(Base!J2,Base!I5:J7,2,FALSE)","v":"Thousands"},"← Escolha unidade em (Units, Thousands, Millions, Billions)"]
[null,null,null,null,null,null,null,null,null,null,null,null,null,null,null,null,null,null,null,"Selecionar período ↓ (D=dias; W=semanas; M=mês; Q=trimestre; Y=ano)",null,null,null,null,"Selecionar período ↓"]
[null,"Relatório considera ativos com valores de aluguéis > R$ 1.000.000",null,null,null,null,null,null,null,null,null,null,null,null,null,null,null,null,null,"12M",null,null,null,null,"1M",null,null,"D-0","D-1M",null,null,null,null,null,1,null,5,null,null,"1D",null,null,"3D",null,null,"5D",null,null,"15D",null,null,null,"No dia","No Mês","No Ano","12m","24m","36m"]
[null,"Nº","Código",{"$f":"_xll.ECONOMATICA($C$7:$C$450,\"ticker\")","v":"Código"},{"$f":"_xll.ECONOMATICA($C$7:$C$400,\"name\")","v":"Nome"},{"$f":"_xll.ECONOMATICA($C$7:$C$400,\"segment bovespa\",,,,,,,,,\"Segmento Bovespa\")","v":"Segmento Bovespa"},{"$f":"_xll.ECONOMATICA($C$7:$C$400,\"close\",,$D$2,,,,,,,\"Preço R$\")","v":"Preço R$"},"Partic. IBOV",{"$f":"_xll.ECONOMATICA($C$7:$C$400,\"class\")","v":"Classe"},"Classe Aj.",{"$f":"_xll.ECONOMATICA($C$7:$C$400,\"ShrsHold\",,,,,,\"decimal\",,\"true\",\"FF ON\",{\"std.cac.tpa=0\";\"std.cac.ccacq=7\";\"std.cac.nm=0\";\"std.cac.fam=1\"})","v":"FF ON"},{"$f":"_xll.ECONOMATICA($C$7:$C$400,\"ShrsHold\",,,,,,\"decimal\",,\"true\",\"FF PN\",{\"std.cac.tpa=1\";\"std.cac.ccacq=7\";\"std.cac.nm=0\";\"std.cac.fam=1\"})","v":"FF PN"},{"$f":"_xll.ECONOMATICA($C$7:$C$400,\"ShrsHold\",,,,,,\"decimal\",,\"true\",\"FF TOTAL\",{\"std.cac.ccacq=7\";\"std.cac.nm=0\";\"std.cac.fam=1\"})","v":"FF TOTAL"},{"$f":"_xll.ECONOMATICA($C$7:$C$400,\"MarketCapitaliz\",,$D$2,,,,$D$3,,,\"Valor de Mercado da Empresa (R$)\",)","v":"Valor de Mercado da Empresa (R$)"},{"$f":"_xll.ECONOMATICA($C$7:$C$400,\"MarketCapitaliz\",,$D$2,,,,$D$3,,,\"Valor de Mercado Classe (R$)\",{\"ppf.vmclsemp=true\"})","v":"Valor de Mercado Classe (R$)"},"Valor de Mercado\nCálculo","Valor de Mercado\nFree Float R$","% Float Alugado",null,{"$f":"_xll.ECONOMATICA($C$7:$C$400,\"Value$-onLoan\",,$D$2,,,,D3,,,\"Valor Alugado (R$)\")","v":"Valor Alugado (R$)"},{"$f":"_xll.ECONOMATICA($C$7:$C$400,\"Max of the serie\",$T$5,$D$2,,,,$D$3,,,\"Valor Máximo Alugado (R$)\",{\"std.tec.cals=26\"})","v":"Valor Máximo Alugado (R$)"},{"$f":"_xll.ECONOMATICA($C$7:$C$400,\"Max of the serie\",$T$5,$D$2,,,,,,,\"Data Máximo Alugado\",{\"std.tec.cals=26\";\"std.tec.dtovlr=true\"})","v":"Data Máximo Alugado"},"% do Máximo",null,{"$f":"_xll.ECONOMATICA($C$7:$C$400,\"Hist Average\",$Y$5,$D$2,,,,$D$3,,,\"Volume Médio (R$)\",{\"std.tec.cals=7\"})","v":"Volume Médio (R$)"},"Dias de \nGiro",null,{"$f":"_xll.ECONOMATICA($C$7:$C$400,\"#Sec-onLoan\",,$D$2,,,,$D$3,,,\"Nº Ações Alugadas\",{\"tc.pers=4\"})","v":"Nº Ações Alugadas"},{"$f":"_xll.ECONOMATICA($C$7:$C$400,\"#Sec-onLoan\",,EDATE(D2,-1),,,,$D$3,,,\"Nº Ações Alugadas\",{\"tc.pers=4\"})","v":"Nº Ações Alugadas"},"Δ Ações Alugadas",{"$f":"_xll.ECONOMATICA($C$7:$C$400,\"#Shares\",\"1M\",EDATE(D2,-1),,,,$D$3,,,\"Nº Ações  à Vista\",)","v":"Nº Ações  à Vista"},"Δ Aluguel vs à Vista\nQdade de ações",null,{"$f":"_xll.ECONOMATICA($C$7:$C$400,\"#Sec-onLoan\",,$D$2,,,,$D$3,,,\"Nº Ações Alugadas\",{\"tc.pers=4\"})","v":"Nº Ações Alugadas"},{"$f":"_xll.ECONOMATICA($C$7:$C$400,\"#Sec-onLoan\",,$D$2-AI5,,,,$D$3,,,\"Nº Ações Alugadas\",{\"tc.pers=4\"})","v":"Nº Ações Alugadas"},"Δ de 1 dia",{"$f":"_xll.ECONOMATICA($C$7:$C$400,\"#Sec-onLoan\",,$D$2-AK5,,,,$D$3,,,\"Nº Ações Alugadas\",{\"tc.pers=4\"})","v":"Nº Ações Alugadas"},"Δ de 5 dias",null,{"$f":"_xll.ECONOMATICA($C$7:$C$400,\"AvgFeeLndr-inPer\",AN5,$D$2,,,,\"DECIMAL\",\"false\",\"true\",\"Taxa Média De Aluguel\")","v":"Taxa Média De Aluguel"},{"$f":"_xll.ECONOMATICA($C$7:$C$400,\"AvgFee-D+0\",AN5,$D$2,,,,\"DECIMAL\",\"false\",\"true\",\"Taxa Média de Aluguel D+0 1 dia %\")","v":"Taxa Média de Aluguel D+0 1 dia %"},{"$f":"_xll.ECONOMATICA($C$7:$C$400,\"AvgFee-D+1\",AN5,$D$2,,,,\"DECIMAL\",\"false\",\"true\",\"Taxa Média de Aluguel  D+1 1 dia %\")","v":"Taxa Média de Aluguel  D+1 1 dia %"},{"$f":"_xll.ECONOMATICA($C$7:$C$400,\"AvgFeeLndr-inPer\",AQ5,$D$2,,,,\"DECIMAL\",\"false\",\"true\",\"Taxa Média Balcão 3 dias %\",{\"std.tec.caddip=true\"})","v":"Taxa Média Balcão 3 dias %"},{"$f":"_xll.ECONOMATICA($C$7:$C$400,\"AvgFee-D+0\",AQ5,$D$2,,,,\"DECIMAL\",\"false\",\"true\",\"Taxa Média D+0 3 dias %\",{\"std.tec.caddip=true\"})","v":"Taxa Média D+0 3 dias %"},{"$f":"_xll.ECONOMATICA($C$7:$C$400,\"AvgFee-D+1\",AQ5,$D$2,,,,\"DECIMAL\",\"false\",\"true\",\"Taxa Média D+1 3 dias %\")","v":"Taxa Média D+1 3 dias %"},{"$f":"_xll.ECONOMATICA($C$7:$C$400,\"AvgFeeLndr-inPer\",AT5,$D$2,,,,\"DECIMAL\",\"false\",\"true\",\"Taxa Média Balcão 5 dias %\",{\"std.tec.caddip=true\"})","v":"Taxa Média Balcão 5 dias %"},{"$f":"_xll.ECONOMATICA($C$7:$C$400,\"AvgFee-D+0\",AT5,$D$2,,,,\"DECIMAL\",\"false\",\"true\",\"Taxa Média D+0 5 dias %\",{\"std.tec.caddip=true\"})","v":"Taxa Média D+0 5 dias %"},{"$f":"_xll.ECONOMATICA($C$7:$C$400,\"AvgFee-D+1\",AT5,$D$2,,,,\"DECIMAL\",\"false\",\"true\",\"Taxa Média D+1 5 dias %\")","v":"Taxa Média D+1 5 dias %"},{"$f":"_xll.ECONOMATICA($C$7:$C$400,\"AvgFeeLndr-inPer\",AW5,$D$2,,,,\"DECIMAL\",\"false\",\"true\",\"Taxa Média Balcão 15 dias %\",{\"std.tec.caddip=true\"})","v":"Taxa Média Balcão 15 dias %"},{"$f":"_xll.ECONOMATICA($C$7:$C$400,\"AvgFee-D+0\",AW5,$D$2,,,,\"DECIMAL\",\"false\",\"true\",\"Taxa Média D+0 15 dias %\",{\"std.tec.caddip=true\"})","v":"Taxa Média D+0 15 dias %"},{"$f":"_xll.ECONOMATICA($C$7:$C$400,\"AvgFee-D+1\",AW5,$D$2,,,,\"DECIMAL\",\"false\",\"true\",\"Taxa Média D+1 15 dias %\")","v":"Taxa Média D+1 15 dias %"},null,{"$f":"_xll.ECONOMATICA($C$7:$C$400,\"return\",\"1d\",$D$2,,,,\"decimal\",,,\"Retorno\")","v":"Retorno"},{"$f":"_xll.ECONOMATICA($C$7:$C$400,\"return\",\"in the month\",$D$2,,,,\"decimal\",,,\"Retorno\")","v":"Retorno"},{"$f":"_xll.ECONOMATICA($C$7:$C$400,\"return\",\"in the year\",$D$2,,,,\"decimal\",,,\"Retorno\")","v":"Retorno"},{"$f":"_xll.ECONOMATICA($C$7:$C$400,\"return\",BD5,$D$2,,,,\"decimal\",,,\"Retorno\")","v":"Retorno"},{"$f":"_xll.ECONOMATICA($C$7:$C$400,\"return\",BE5,$D$2,,,,\"decimal\",,,\"Retorno\")","v":"Retorno"},{"$f":"_xll.ECONOMATICA($C$7:$C$400,\"return\",BF5,$D$2,,,,\"decimal\",,,\"Retorno\")","v":"Retorno"}]
[null,1,{"$f":"IF($B7=\"\",\"\",INDEX(Base!$B:$B,MATCH('Guia de BTC'!$B7,Base!$F:$F,0)))","v":"BOVA11<XBSP>"},"BOVA11","Ishares Bova Ci","-",130.05000000000001,{"$f":"IFERROR((_xll.ECONOMATICA(C7,\"Partic in ibovespa\")/100),\"\")","v":""},null,{"$f":"LEFT(I7,2)","v":""},null,null,null,null,null,{"$f":"IF(N7=\"\",\"\",IF(O7>1,O7,N7))","v":""},{"$f":"IFERROR(IF(J7=\"on\",P7*K7,IF(J7=\"pn\",P7*L7,IF(J7=\"un\",P7*M7,\"\"))),\"\")","v":""},{"$f":"IFERROR(T7/Q7,\"\")","v":""},null,12517499.298,12728673.513,"2024-09-03",{"$f":"IFERROR(T7/U7,\"\")","v":0.98340956622193787},null,603200.41992000001,{"$f":"IFERROR(T7/Y7,\"\")","v":20.751807997183001},null,96434.205000000002,96380.505000000005,{"$f":"IF(AB7=\"\",\"\",AB7-AC7)","v":53.69999999999709},123737.876,{"$f":"IFERROR(ABS(AD7/AE7),\"\")","v":4.3398191189249999E-4},null,96434.205000000002,96609.831999999995,{"$f":"IFERROR((AH7/AI7)-1,\"\")","v":-1.8178998593020301E-3},95407.673999999999,{"$f":"IFERROR((AH7/AK7)-1,\"\")","v":1.0759417528615201E-2},null,9.2999999999999992E-3,1E-3,9.1999999999999998E-3,1.0597407675E-2,1.7329092011999999E-2,9.1724280543000001E-3,1.1530358826E-2,1.6425046584999999E-2,9.7971512499000005E-3,1.1401832613E-2,1.7289337634999999E-2,8.7407918491999997E-3,null,-9.7464402651999994E-3,-1.9230769230999999E-2,-2.6075619280000002E-3,0.13432184911,0.23153409090999999,0.21383236886000001]
[null,{"$f":"IF($B7>=Base!$G$3,\"\",$B7+1)","v":2},{"$f":"IF($B8=\"\",\"\",INDEX(Base!$B:$B,MATCH('Guia de BTC'!$B8,Base!$F:$F,0)))","v":"PETR4<XBSP>"},"PETR4","Petrobras","Exploração refino e distribuição",36.15,{"$f":"IFERROR((_xll.ECONOMATICA(C8,\"Partic in ibovespa\")/100),\"\")","v":7.2569999999999996E-2},"PN",{"$f":"LEFT(I8,2)","v":"PN"},0.47228334456999999,0.79098515089999999,0.60915187734999998,493240678.48000002,196891024.84999999,{"$f":"IF(N8=\"\",\"\",IF(O8>1,O8,N8))","v":196891024.84999999},{"$f":"IFERROR(IF(J8=\"on\",P8*K8,IF(J8=\"pn\",P8*L8,IF(J8=\"un\",P8*M8,\"\"))),\"\")","v":155737877.0018329},{"$f":"IFERROR(T8/Q8,\"\")","v":4.9211158534733339E-2},null,7664041.3550000004,16301338.556,"2024-05-20",{"$f":"IFERROR(T8/U8,\"\")","v":0.47014797764439487},null,1360018.4269999999,{"$f":"IFERROR(T8/Y8,\"\")","v":5.6352481722661256},null,201515.277,269950.04700000002,-68434.770000000019,680043.1,{"$f":"IFERROR(ABS(AD8/AE8),\"\")","v":0.10063298929141407},null,201515.277,194675.973,3.5131731433544644E-2,191508.03400000001,5.2254951351022649E-2,null,1E-4,2.0000000000000001E-4,2.0000000000000001E-4,1.5113465651999999E-4,2.0000000000000001E-4,2.0000000000000001E-4,1.6723372064999999E-4,2.0000000000000001E-4,2.0000000000000001E-4,2.9700257634000002E-4,9.8350983669000008E-4,3.1517367411E-4,null,-2.4028077753000001E-2,-8.1788163575999995E-2,0.1019516509,0.24837763346,0.96526838950000005,3.0772935183999999]
[null,{"$f":"IF($B8>=Base!$G$3,\"\",$B8+1)","v":3},{"$f":"IF($B9=\"\",\"\",INDEX(Base!$B:$B,MATCH('Guia de BTC'!$B9,Base!$F:$F,0)))","v":"ITUB4<XBSP>"},"ITUB4","ItauUnibanco","Bancos",36.700000000000003,{"$f":"IFERROR((_xll.ECONOMATICA(C9,\"Partic in ibovespa\")/100),\"\")","v":7.4069999999999997E-2},"PN","PN",8.1194699553999994E-2,0.98907464702000003,0.52992835509000003,336029259,177413561.90000001,177413561.90000001,175475256.11280343,3.8310365595240724E-2,null,6722521.2145999996,7600504.5109000001,"2024-01-22",0.88448355039578341,null,705631.03613000002,9.5269636260181372,null,182790.946,202145.55600000001,-19354.610000000015,521767.6,3.7094311720390488E-2,null,182790.946,180830.397,1.0841921670945665E-2,184479.815,-9.1547630834301064E-3,null,5.0000000000000001E-4,5.0000000000000001E-4,5.0000000000000001E-4,5.0000000000000001E-4,5.0000000000000001E-4,4.7987031707999998E-4,5.2798311313999996E-4,5.3339892417E-4,5.8309317474000005E-4,5.3773119171000004E-4,5.7063949686000004E-4,4.9077869422999997E-4,null,-5.6895150356000004E-3,4.8115783102000001E-4,0.1379561165,0.43295717644999998,0.55038403924000001,0.86243205843000004]
[null,{"$f":"IF($B9>=Base!$G$3,\"\",$B9+1)","v":4},{"$f":"IF($B10=\"\",\"\",INDEX(Base!$B:$B,MATCH('Guia de BTC'!$B10,Base!$F:$F,0)))","v":"VALE3<XBSP>"},"VALE3","Vale","Minerais metálicos",57.54,{"$f":"IFERROR((_xll.ECONOMATICA(C10,\"Partic in ibovespa\")/100),\"\")","v":0.11132999999999998},"ON","ON",0.94093322361999998,1,0.94093322377999999,245747759.31,245747758.62,245747758.62,231232230.71570623,2.8704061311246813E-2,null,6637304.1276000002,16890863.98,"2023-11-24",0.39295231643917367,null,1162684.1995000001,5.7086043918497404,null,115041.342,207824.446,-92783.103999999992,602178.30000000005,0.15407912241274715,null,115041.342,114075.064,8.4705453244366957E-3,106735.997,7.7812033741531561E-2,null,2.9999999999999997E-4,null,1E-4,3.3831950974E-4,1E-3,1E-4,3.9324756840000002E-4,5.0055731800999995E-4,1.5327851054E-4,2.8763995086000002E-4,7.9634022296999998E-4,1.8450310291E-4,null,-1.1679835108000001E-2,-3.4239677745000002E-2,-0.19287734397,-6.5302088841E-2,-5.8224673357000004E-3,-5.0354226852E-2]
[null,{"$f":"IF($B10>=Base!$G$3,\"\",$B10+1)","v":5},{"$f":"IF($B11=\"\",\"\",INDEX(Base!$B:$B,MATCH('Guia de BTC'!$B11,Base!$F:$F,0)))","v":"BBAS3<XBSP>"},"BBAS3","Brasil","Bancos",28.25,{"$f":"IFERROR((_xll.ECONOMATICA(C11,\"Partic in ibovespa\")/100),\"\")","v":3.6379999999999996E-2},"ON","ON",0.49602096974999998,null,0.49602096974999998,161249346.69999999,161249346.69999999,161249346.69999999,79983057.321687952,5.539762862751358E-2,null,4430871.7060000002,5962643.3498999998,"2024-06-18",0.74310527160312401,null,378464.55703999999,11.707494463032903,null,155795.26300000001,134698.101,21097.162000000011,335953.2,6.2797919472116978E-2,null,155795.26300000001,157688.76999999999,-1.200787475227294E-2,161474.82800000001,-3.5173067346447318E-2,null,5.0000000000000001E-4,5.0000000000000001E-4,5.0000000000000001E-4,5.0000000000000001E-4,5.0000000000000001E-4,5.0594810659999997E-4,5.0000000000000001E-4,5.0000000000000001E-4,5.0505852132000004E-4,5.5637048946000002E-4,5.0219614464999999E-4,4.7095623690000002E-4,null,-4.9313138433999997E-3,1.1195355253E-2,9.2847609526999997E-2,0.30658084991000001,0.7548087094,1.6394633730999999]
[null,{"$f":"IF($B11>=Base!$G$3,\"\",$B11+1)","v":6},{"$f":"IF($B12=\"\",\"\",INDEX(Base!$B:$B,MATCH('Guia de BTC'!$B12,Base!$F:$F,0)))","v":"WEGE3<XBSP>"},"WEGE3","Weg","Motores compressores e outros",53.36,{"$f":"IFERROR((_xll.ECONOMATICA(C12,\"Partic in ibovespa\")/100),\"\")","v":3.0679999999999999E-2},"ON","ON",0.35310782687999998,null,0.35310782687999998,223871503.33000001,223871503.33000001,223871503.33000001,79050780.041214988,4.1362501880376705E-2,null,3269738.0381,3496272.7196999998,"2024-09-16",0.93520680457117267,null,306602.39974000002,10.664424156082111,null,61529.815000000002,65354.508999999998,-3824.6939999999959,167959.3,2.2771552393943035E-2,null,61529.815000000002,63633.375,-3.3057495378800761E-2,59318.493999999999,3.7278778520574152E-2,null,5.9999999999999995E-4,null,6.9999999999999999E-4,4.8895615203999997E-4,null,6.4696522116999995E-4,5.3311711683999997E-4,5.9999999999999995E-4,6.6861101466000005E-4,1.0076530969999999E-3,1.1253062954E-3,9.3535893007999995E-4,null,7.5018754615000004E-4,-1.4589104340000001E-2,0.46757187058999999,0.51915299239000001,0.81130276747999996,0.43175129418000002]
[null,{"$f":"IF($B12>=Base!$G$3,\"\",$B12+1)","v":7},{"$f":"IF($B13=\"\",\"\",INDEX(Base!$B:$B,MATCH('Guia de BTC'!$B13,Base!$F:$F,0)))","v":"BBDC4<XBSP>"},"BBDC4","Bradesco","Bancos",15.24,{"$f":"IFERROR((_xll.ECONOMATICA(C13,\"Partic in ibovespa\")/100),\"\")","v":3.542E-2},"PN","PN",0.27848820017999998,0.96575467274000004,0.62152604104999998,153061477.74000001,80708510.159999996,80708510.159999996,77944620.81690377,3.9396514057247818E-2,null,3070746.3497000001,6474904.1221000003,"2023-12-27",0.47425356295531795,null,455652.76374000002,6.7392246773514541,null,198625.27600000001,224559.96299999999,-25934.686999999976,928308.9,2.7937561516430551E-2,null,198625.27600000001,202291.19099999999,-1.8121970521197683E-2,205181.579,-3.1953662857814313E-2,null,2.9999999999999997E-4,null,2.9999999999999997E-4,3.3603885072999999E-4,null,2.957206015E-4,3.7368203980999999E-4,null,3.2146292549999999E-4,3.0601379768000001E-4,2.9999999999999997E-4,2.7097599592000002E-4,null,-5.8708414871999999E-3,-2.4388778558E-2,-6.8920378051E-2,0.11510112482,-6.6259148569000004E-2,1.0920302289000001E-2]
[null,{"$f":"IF($B13>=Base!$G$3,\"\",$B13+1)","v":8},{"$f":"IF($B14=\"\",\"\",INDEX(Base!$B:$B,MATCH('Guia de BTC'!$B14,Base!$F:$F,0)))","v":"PETR3<XBSP>"},"PETR3","Petrobras","Exploração refino e distribuição",39.82,{"$f":"IFERROR((_xll.ECONOMATICA(C14,\"Partic in ibovespa\")/100),\"\")","v":4.4170000000000001E-2},"ON","ON",0.47228334456999999,0.79098515089999999,0.60915187734999998,493240678.48000002,296349653.63,296349653.63,139961005.57853743,2.0306463913659027E-2,null,2842113.1091,6722798.5873999996,"2024-03-15",0.42275743831248253,null,436614.58782999997,6.5094323193035493,null,68398.320000000007,72545.751000000004,-4147.4309999999969,154531.79999999999,2.6838689512449845E-2,null,68398.320000000007,64934.796000000002,5.333849050669226E-2,64035.743999999999,6.8127200958264966E-2,null,1.1000000000000001E-3,1E-3,1E-3,1.1545133346000001E-3,1E-3,1.0985505014000001E-3,1.1705828147999999E-3,1E-3,1.1102079491E-3,1.4797981617E-3,1E-3,1.3667800367E-3,null,-1.7275419545999999E-2,-7.2659524917999999E-2,0.15208268686000001,0.24498632304000001,0.84781226208000005,3.0480143423000001]
[null,{"$f":"IF($B14>=Base!$G$3,\"\",$B14+1)","v":9},{"$f":"IF($B15=\"\",\"\",INDEX(Base!$B:$B,MATCH('Guia de BTC'!$B15,Base!$F:$F,0)))","v":"RENT3<XBSP>"},"RENT3","Localiza","Aluguel de carros",44.82,{"$f":"IFERROR((_xll.ECONOMATICA(C15,\"Partic in ibovespa\")/100),\"\")","v":1.985E-2},"ON","ON",0.91212775053999995,null,0.91212775053999995,47600070.443000004,47600070.443000004,47600070.443000004,43417345.178719133,6.2293664282487345E-2,null,2704625.5246000001,3258499.3026999999,"2024-08-15",0.83002182089127385,null,333150.31065,8.1183340916689612,null,63200.482000000004,70882.697,-7682.2149999999965,314745.3,2.4407719511617795E-2,null,63200.482000000004,65002.292000000001,-2.7719176425348158E-2,63647.440999999999,-7.02241901602918E-3,null,2.3E-3,null,2.0999999999999999E-3,2.3260389925999999E-3,1.6999999999999999E-3,1.7358530168000001E-3,2.5031240280000001E-3,1.7035763411000001E-3,1.9518625474000001E-3,3.0538134056999999E-3,1.3689189238999999E-3,2.6856425125000001E-3,null,1.1966583879000001E-2,8.3393763598000006E-2,-0.28192776948999998,-0.22651464059000001,-0.22958417882000001,-0.15021869225000001]
[null,{"$f":"IF($B15>=Base!$G$3,\"\",$B15+1)","v":10},{"$f":"IF($B16=\"\",\"\",INDEX(Base!$B:$B,MATCH('Guia de BTC'!$B16,Base!$F:$F,0)))","v":"ABEV3<XBSP>"},"ABEV3","Ambev S/A","Cervejas e refrigerantes",12.98,{"$f":"IFERROR((_xll.ECONOMATICA(C16,\"Partic in ibovespa\")/100),\"\")","v":2.5840000000000002E-2},"ON","ON",0.27890155480000001,null,0.27890155480000001,204125842.36000001,204125842.36000001,204125842.36000001,56931014.80906371,4.2573183608772228E-2,null,2423734.5465000002,3909047.6719999998,"2023-12-19",0.62003197450389147,null,318627.55382999999,7.6067951982368589,null,187276.28099999999,190349.65700000001,-3073.3760000000184,644608.6,4.7678172460001601E-3,null,187276.28099999999,188136.96900000001,-4.5747946539950179E-3,196270.82199999999,-4.5827193814880984E-2,null,1.8E-3,1.6999999999999999E-3,1.9E-3,2.0202373936000001E-3,1.2893316919000001E-3,1.6867589997000001E-3,1.8535086836E-3,1.2894083196999999E-3,1.3935385037000001E-3,1.5155846862E-3,1.2894590471000001E-3,1.2934253366E-3,null,1.5432098753E-3,9.3312597201000002E-3,-5.4624908957999999E-2,2.0049533716E-2,-5.8407023801999997E-2,-5.0873371388999999E-2]
[null,{"$f":"IF($B16>=Base!$G$3,\"\",$B16+1)","v":11},{"$f":"IF($B17=\"\",\"\",INDEX(Base!$B:$B,MATCH('Guia de BTC'!$B17,Base!$F:$F,0)))","v":"B3SA3<XBSP>"},"B3SA3","B3","Serviços financeiros diversos",12.13,{"$f":"IFERROR((_xll.ECONOMATICA(C17,\"Partic in ibovespa\")/100),\"\")","v":3.0289999999999997E-2},"ON","ON",0.99367186748000003,null,0.99367186748000003,66224830.181000002,66224830.181000002,66224830.181000002,65805750.67950014,3.5241723775707195E-2,null,2319108.0882999999,2448565.3964999998,"2023-12-18",0.94712932381342674,null,533276.50396,4.3487910513191324,null,186461.75399999999,136009.45800000001,50452.295999999973,654906.69999999995,7.7037379522915214E-2,null,186461.75399999999,181631.38699999999,2.6594340767766012E-2,193337.68299999999,-3.5564349863445921E-2,null,5.0000000000000001E-4,null,5.0000000000000001E-4,5.0000000000000001E-4,null,4.9554495937E-4,4.7028510345999998E-4,2.9999999999999997E-4,4.4869745431000001E-4,3.2082169022000002E-4,8.9935534535000002E-4,3.7546903068000001E-4,null,-1.0603588906E-2,-4.3375394321000002E-2,-0.14542538200999999,-4.1334452759000002E-2,4.4038760225000001E-2,-3.5774479969000003E-2]
[null,{"$f":"IF($B17>=Base!$G$3,\"\",$B17+1)","v":12},{"$f":"IF($B18=\"\",\"\",INDEX(Base!$B:$B,MATCH('Guia de BTC'!$B18,Base!$F:$F,0)))","v":"ELET3<XBSP>"},"ELET3","Eletrobras","Energia elétrica",41.79,{"$f":"IFERROR((_xll.ECONOMATICA(C18,\"Partic in ibovespa\")/100),\"\")","v":3.3700000000000001E-2},"ON","ON",0.97541169595999999,0.95996756223000002,0.97353673530999996,95266771.163000003,82633080.390000001,82633080.390000001,80601273.085608914,2.6935043881926284E-2,null,2170998.8275000001,2245269.3303999999,"2023-11-07",0.96692133905968047,null,294695.62409,7.3669191193588182,null,52205.978999999999,54455.023999999998,-2249.0449999999983,154771.79999999999,1.4531361656322395E-2,null,52205.978999999999,51772.597999999998,8.3708567223148567E-3,50861.425999999999,2.6435613504033562E-2,null,8.0000000000000004E-4,8.0000000000000004E-4,8.0000000000000004E-4,9.0118814705000003E-4,8.0000000000000004E-4,8.1474959608999998E-4,9.4123458606E-4,9.9803291202999996E-4,8.1996104768999997E-4,9.9515179896000005E-4,9.994545871300001E-4,9.1269658059999999E-4,null,-9.2460881941999994E-3,9.5808383229999995E-4,-4.4200918965000002E-3,0.18658582867000001,-3.1048357259000001E-2,0.14436361646000001]
[null,{"$f":"IF($B18>=Base!$G$3,\"\",$B18+1)","v":13},{"$f":"IF($B19=\"\",\"\",INDEX(Base!$B:$B,MATCH('Guia de BTC'!$B19,Base!$F:$F,0)))","v":"EMBR3<XBSP>"},"EMBR3","Embraer","Material aeronáutico e de defesa",47.45,{"$f":"IFERROR((_xll.ECONOMATICA(C19,\"Partic in ibovespa\")/100),\"\")","v":1.5789999999999998E-2},"ON","ON",0.99212246000000004,null,0.99212246000000004,34858335.850000001,34858335.850000001,34858335.850000001,34583737.915008195,6.0023305563484466E-2,null,2075830.2683999999,3048043.4155999999,"2024-09-04",0.68103697531860052,null,471472.96373999998,4.4028617291929049,null,43269.161,29114.44,14154.721000000001,178107.5,7.9472908215543994E-2,null,43269.161,44820.154000000002,-3.4604811933488744E-2,43053.017999999996,5.0203913695434643E-3,null,7.2999999999999995E-2,9.6100000000000005E-2,6.4600000000000005E-2,0.10664081209,0.11171609282,6.7976952238000002E-2,0.12451653973,0.11682265306,7.0969929813999993E-2,0.14392706889000001,1.1159814095E-2,0.10340093479,null,-1.9425501136999999E-2,1.3239376468E-2,1.1192496649999999,1.6434540390000001,2.5811320754999998,1.2725095785]
[null,{"$f":"IF($B19>=Base!$G$3,\"\",$B19+1)","v":14},{"$f":"IF($B20=\"\",\"\",INDEX(Base!$B:$B,MATCH('Guia de BTC'!$B20,Base!$F:$F,0)))","v":"PRIO3<XBSP>"},"PRIO3","Petrorio","Exploração refino e distribuição",43.19,{"$f":"IFERROR((_xll.ECONOMATICA(C20,\"Partic in ibovespa\")/100),\"\")","v":1.5629999999999998E-2},"ON","ON",0.89557858227999998,null,0.89557858227999998,36070223.171999998,36070223.171999998,36070223.171999998,32303719.330902964,6.1726087788054829E-2,null,1993982.2153,4935037.1377999997,"2024-04-18",0.40404604051042692,null,380429.05987,5.2414035246975681,null,44984.567999999999,34796.105000000003,10188.462999999996,199165.5,5.115576241869197E-2,null,44984.567999999999,44507.266000000003,1.0724136593786682E-2,41925.866999999998,7.2954985045389886E-2,null,4.0000000000000002E-4,null,4.0000000000000002E-4,4.0000000000000002E-4,null,3.3982649235000001E-4,3.7524429028000002E-4,2.0000000000000001E-4,2.5811184535000001E-4,2.2965366713E-4,2.0614108105000001E-4,2.4621542632999999E-4,null,-3.9206642059000001E-3,-7.7924850556E-2,-6.2106406080000003E-2,-0.101757244,0.54387477260999995,1.1554245703999999]
[null,{"$f":"IF($B20>=Base!$G$3,\"\",$B20+1)","v":15},{"$f":"IF($B21=\"\",\"\",INDEX(Base!$B:$B,MATCH('Guia de BTC'!$B21,Base!$F:$F,0)))","v":"BRAV3<XBSP>"},"BRAV3","Brava","Exploração refino e distribuição",20.85,{"$f":"IFERROR((_xll.ECONOMATICA(C21,\"Partic in ibovespa\")/100),\"\")","v":4.3800000000000002E-3},"ON","ON",0.99957344484999999,null,0.99957344484999999,9678134.8188000005,9678134.8188000005,9678134.8188000005,9674006.5605506469,0.17939109257759475,null,1735430.6065,1933088.1144000001,"2024-08-05",0.89775038891005243,null,157833.24286999999,10.995342774078301,null,72289.865999999995,53485.623,18804.242999999995,122933.5,0.15296272374901873,null,72289.865999999995,63841.222000000002,0.13233838161807099,69449.876999999993,4.0892642617639252E-2,null,1.1299999999999999E-2,null,9.1000000000000004E-3,1.1471387523000001E-2,null,9.6346268857999996E-3,1.2170874131999999E-2,1.4999999999999999E-2,1.1167734368999999E-2,1.5555874500999999E-2,2.1845105943E-3,1.3139421609E-2,null,-3.2482598607E-2,-0.20932878270999999,-0.19730418712,-0.35212389550000001,-0.43683692972999999,-0.37398904983999998]
[null,{"$f":"IF($B21>=Base!$G$3,\"\",$B21+1)","v":16},{"$f":"IF($B22=\"\",\"\",INDEX(Base!$B:$B,MATCH('Guia de BTC'!$B22,Base!$F:$F,0)))","v":"BOVV11<XBSP>"},"BOVV11","It Now Ibov","-",136.58000000000001,{"$f":"IFERROR((_xll.ECONOMATICA(C22,\"Partic in ibovespa\")/100),\"\")","v":""},null,"",null,null,null,null,null,"","","",null,1723162.2646999999,2483005.6713,"2024-04-24",0.69398241196840393,null,233482.04566,7.3802773991850925,null,12523.743,12313.050999999999,210.69200000000092,36451.796000000002,5.7800169846226757E-3,null,12523.743,12341.166999999999,1.4794062830524979E-2,12186.852999999999,2.7643723937590847E-2,null,1.38E-2,1.38E-2,1.6999999999999999E-3,1.38E-2,1.38E-2,1.6999999999999999E-3,1.38E-2,1.38E-2,1.3399770936E-2,1.3860558398E-2,8.0555412525999993E-3,1.4602926103E-2,null,-7.4849211542000003E-3,-1.5284787309E-2,-1.4641288453000001E-4,0.13712430272000001,0.23624185373000001,0.21946428572000001]
[null,{"$f":"IF($B22>=Base!$G$3,\"\",$B22+1)","v":17},{"$f":"IF($B23=\"\",\"\",INDEX(Base!$B:$B,MATCH('Guia de BTC'!$B23,Base!$F:$F,0)))","v":"CMIG4<XBSP>"},"CMIG4","Cemig","Energia elétrica",11.71,{"$f":"IFERROR((_xll.ECONOMATICA(C23,\"Partic in ibovespa\")/100),\"\")","v":9.8600000000000007E-3},"PN","PN",0.49027986835999998,0.97557021153000001,0.81335321292999996,36289920.32,22295067.140000001,22295067.140000001,21750403.365845352,7.0145424916385327E-2,null,1525691.2862,1564969.4254999999,"2024-08-26",0.97490165708032872,null,149682.57148000001,10.192845239860519,null,130032.848,117225.751,12807.096999999994,254578.2,5.0307123705014778E-2,null,130032.848,126991.95600000001,2.3945548173145648E-2,126171.356,3.0605139886108468E-2,null,1.6999999999999999E-3,null,1.6999999999999999E-3,1.6999999999999999E-3,1E-3,1.6907228259000001E-3,1.6999999999999999E-3,1E-3,1.6852258996E-3,1.8059872761000001E-3,1.0922528447E-3,1.5442736424999999E-3,null,-8.5324232077000001E-4,6.8787618238000002E-3,0.45100826438000002,0.39474957050999998,0.72984193312000001,1.0728017560000001]
[null,{"$f":"IF($B23>=Base!$G$3,\"\",$B23+1)","v":18},{"$f":"IF($B24=\"\",\"\",INDEX(Base!$B:$B,MATCH('Guia de BTC'!$B24,Base!$F:$F,0)))","v":"SMAL11<XBSP>"},"SMAL11","Ishares Smal Ci","-",102.29,{"$f":"IFERROR((_xll.ECONOMATICA(C24,\"Partic in ibovespa\")/100),\"\")","v":""},null,"",null,null,null,null,null,"","","",null,1523456.0637000001,2266344.8275000001,"2024-04-18",0.67220841471883208,null,191116.5606,7.9713451252847634,null,14823.91,14187.065000000001,636.84499999999935,60215.798000000003,1.0576045176715907E-2,null,14823.91,15000.888000000001,-1.1797834901507209E-2,14400.259,2.9419679187714598E-2,null,3.85E-2,1E-3,3.6499999999999998E-2,3.85E-2,1E-3,3.5968085162999999E-2,3.8648194854999998E-2,1.2103571860000001E-2,3.6685412739999999E-2,4.2135268003999998E-2,5.8812959386999996E-3,3.5780634603000003E-2,null,-7.7602095253000002E-3,-4.6706237226000003E-3,-9.6378091871999999E-2,-2.9966808914000002E-2,-2.9506641366000001E-2,-0.21987492373]
[null,{"$f":"IF($B24>=Base!$G$3,\"\",$B24+1)","v":19},{"$f":"IF($B25=\"\",\"\",INDEX(Base!$B:$B,MATCH('Guia de BTC'!$B25,Base!$F:$F,0)))","v":"BBSE3<XBSP>"},"BBSE3","BBSeguridade","Seguradoras",35.590000000000003,{"$f":"IFERROR((_xll.ECONOMATICA(C25,\"Partic in ibovespa\")/100),\"\")","v":1.0280000000000001E-2},"ON","ON",0.31866616749999999,null,0.31866616749999999,69086810.415999994,69086810.415999994,69086810.415999994,22015629.100065798,6.3672688208387854E-2,null,1401794.2874,1850047.8277,"2024-08-19",0.75770705298074714,null,141471.87517000001,9.9086428713518551,null,38456.389000000003,41388.315000000002,-2931.9259999999995,101873.4,2.8780093724171368E-2,null,38456.389000000003,38674.667000000001,-5.6439529266018029E-3,39006.142999999996,-1.409403641882756E-2,null,1.5E-3,1.2999999999999999E-3,1.6999999999999999E-3,1.6625027468E-3,1.1241943650999999E-3,1.6985599275000001E-3,1.5791403975999999E-3,1.1241943650999999E-3,1.3592203273E-3,8.0075605834999998E-4,1.1241943650999999E-3,1.0524815088999999E-3,null,-1.0289210233E-2,-3.1037299208999999E-2,0.14032005040000001,0.20514352059999999,0.44354982272999999,1.3690491182]
[null,{"$f":"IF($B25>=Base!$G$3,\"\",$B25+1)","v":20},{"$f":"IF($B26=\"\",\"\",INDEX(Base!$B:$B,MATCH('Guia de BTC'!$B26,Base!$F:$F,0)))","v":"BPAC11<XBSP>"},"BPAC11","Btgp Banco","Bancos",35.21,{"$f":"IFERROR((_xll.ECONOMATICA(C26,\"Partic in ibovespa\")/100),\"\")","v":2.053E-2},"UNT","UN",0.11859167517999999,0.50503339834000005,0.26173262948999998,161973630.71000001,0,161973630.71000001,42393784.273770511,3.1633545921252698E-2,null,1341065.7216,1341065.7216,"2024-09-18",1,null,225334.27017,5.9514503523509914,null,38019.440000000002,32612.584999999999,5406.8550000000032,198655.8,2.7217201813387798E-2,null,38019.440000000002,35923.319000000003,5.8349870177641483E-2,32486.148000000001,0.17032773476252094,null,5.0000000000000001E-4,null,5.0000000000000001E-4,5.0000000000000001E-4,null,4.7893156911999997E-4,5.2011775205000003E-4,null,4.8764821522E-4,4.0503093353999999E-4,null,3.6070624618000002E-4,null,-1.4180374355E-3,-9.8425196848000007E-3,-4.8008908442000002E-2,0.11759045136,0.3994329512,0.42832465878999998]
[null,{"$f":"IF($B26>=Base!$G$3,\"\",$B26+1)","v":21},{"$f":"IF($B27=\"\",\"\",INDEX(Base!$B:$B,MATCH('Guia de BTC'!$B27,Base!$F:$F,0)))","v":"TAEE11<XBSP>"},"TAEE11","Taesa","Energia elétrica",34.43,{"$f":"IFERROR((_xll.ECONOMATICA(C27,\"Partic in ibovespa\")/100),\"\")","v":3.4100000000000003E-3},"UNT N2","UN",0.37000688737999998,0.98724840736999997,0.63445265831999997,11920638.140000001,0,11920638.140000001,7563080.5567937801,0.17691587755178312,null,1338029.0337,1782467.6824,"2024-05-02",0.75066103408865936,null,55573.622738999999,24.076692642191365,null,37795.623,42419.531999999999,-4623.9089999999997,34802.5,0.13286140363479634,null,37795.623,36858.718000000001,2.5418816791186183E-2,36446.99,3.7002589239879757E-2,null,2.5999999999999999E-3,1E-3,2.3E-3,2.6570329867000001E-3,1E-3,2.1749384745E-3,2.6795003553999998E-3,1E-3,2.1717705506E-3,2.8675634763999998E-3,1E-3,2.3851120465999999E-3,null,-6.3492063499999999E-3,-2.8772919604999999E-2,-2.8764161016999999E-2,7.8124863651999998E-2,2.2322232599999998E-2,0.29607256263999998]
[null,{"$f":"IF($B27>=Base!$G$3,\"\",$B27+1)","v":22},{"$f":"IF($B28=\"\",\"\",INDEX(Base!$B:$B,MATCH('Guia de BTC'!$B28,Base!$F:$F,0)))","v":"SUZB3<XBSP>"},"SUZB3","Suzano S.A.","Papel e celulose",52.6,{"$f":"IFERROR((_xll.ECONOMATICA(C28,\"Partic in ibovespa\")/100),\"\")","v":1.5029999999999998E-2},"ON","ON",0.49902143321999998,null,0.49902143321999998,66492586.549000002,66492586.549000002,66492586.549000002,33181225.838186875,4.0068047747347735E-2,null,1329506.9412,3160119.2788999998,"2023-12-06",0.42071416420167079,null,264275.85308999999,5.0307545152346256,null,24122.674999999999,25485.64,-1362.9650000000001,154012.1,8.8497267422494724E-3,null,24122.674999999999,24330.285,-8.5329867693699768E-3,24828.359,-2.8422498643587368E-2,null,2.0000000000000001E-4,2.0000000000000001E-4,2.0000000000000001E-4,2.0000000000000001E-4,2.0000000000000001E-4,2.0000000000000001E-4,2.3479788235E-4,2.2788267079999999E-4,3.3090022569000002E-4,2.5489189052999998E-4,2.258737121E-4,2.9697398134E-4,null,-1.2948020266000001E-2,-4.3636363636999999E-2,-5.4467014202000001E-2,3.4199887332000002E-2,0.27898577549999998,8.5222315997999995E-2]
[null,{"$f":"IF($B28>=Base!$G$3,\"\",$B28+1)","v":23},{"$f":"IF($B29=\"\",\"\",INDEX(Base!$B:$B,MATCH('Guia de BTC'!$B29,Base!$F:$F,0)))","v":"EGIE3<XBSP>"},"EGIE3","Engie Brasil","Energia elétrica",43.66,{"$f":"IFERROR((_xll.ECONOMATICA(C29,\"Partic in ibovespa\")/100),\"\")","v":5.0499999999999998E-3},"ON","ON",0.31281806645999999,null,0.31281806645999999,35623405.127999999,35623405.127999999,35623405.127999999,11143644.712862208,0.11654066482405256,null,1298687.7634000001,1512723.1802999999,"2024-05-10",0.85850985845437178,null,45591.284565000002,28.485439175297781,null,29034.136999999999,30293.562999999998,-1259.4259999999995,20317,6.1988777870748607E-2,null,29034.136999999999,28349.023000000001,2.4167111508569317E-2,28294.675999999999,2.6134280526838305E-2,null,2.3900000000000001E-2,1E-3,2.3800000000000002E-2,2.4535016871000001E-2,1E-3,2.4468549563E-2,2.5240169098999999E-2,1E-3,2.3412632728E-2,2.6655370431000001E-2,1E-3,2.2054480333999999E-2,null,-1.1098527747E-2,-3.3215234720999999E-2,1.5732113361E-2,8.7701946710000006E-2,0.27489709217000002,0.36917708099000002]
[null,{"$f":"IF($B29>=Base!$G$3,\"\",$B29+1)","v":24},{"$f":"IF($B30=\"\",\"\",INDEX(Base!$B:$B,MATCH('Guia de BTC'!$B30,Base!$F:$F,0)))","v":"VIVT3<XBSP>"},"VIVT3","Telef Brasil","Telecomunicações",55.81,{"$f":"IFERROR((_xll.ECONOMATICA(C30,\"Partic in ibovespa\")/100),\"\")","v":1.03E-2},"ON","ON",0.24643591705000001,null,0.24643591705000001,91915743.946999997,91915743.946999997,91915743.946999997,22651340.650911931,5.7085999854403387E-2,null,1293074.4291000001,1365582.0142000001,"2023-11-16",0.94690352952365353,null,128109.49565,10.093509638291986,null,23952.538,17379.428,6573.1100000000006,48614.2,0.13520967124831842,null,23952.538,23640.201000000001,1.3212112705809798E-2,23182.598000000002,3.3211980814229713E-2,null,1.9E-3,1.4E-3,1.9E-3,1.9656064669999998E-3,1.4E-3,1.7851978140000001E-3,1.9268325678E-3,1.6918528380000001E-3,1.7775812323000001E-3,1.9952159715999999E-3,1.6593271100999999E-4,1.8849703116000001E-3,null,2.6949335261E-3,7.6789504147999996E-2,8.8450067667999996E-2,0.33715542679999999,0.55150404443000001,0.61591717967000004]
[null,{"$f":"IF($B30>=Base!$G$3,\"\",$B30+1)","v":25},{"$f":"IF($B31=\"\",\"\",INDEX(Base!$B:$B,MATCH('Guia de BTC'!$B31,Base!$F:$F,0)))","v":"EQTL3<XBSP>"},"EQTL3","Equatorial","Energia elétrica",33.71,{"$f":"IFERROR((_xll.ECONOMATICA(C31,\"Partic in ibovespa\")/100),\"\")","v":1.9009999999999999E-2},"ON","ON",0.99913659387999998,null,0.99913659387999998,39479541.368000001,39479541.368000001,39479541.368000001,39445454.490368076,3.0109023162352151E-2,null,1187664.1029000001,3139293.4887999999,"2024-08-21",0.37832209926762428,null,252453.12148,4.7044936340551047,null,34402.269999999997,65785.034,-31382.764000000003,153335.20000000001,0.20466770839311521,null,34402.269999999997,34692.622000000003,-8.3692722908059736E-3,34456.499000000003,-1.5738395244393466E-3,null,3.3999999999999998E-3,null,3.5999999999999999E-3,3.6471083887000002E-3,null,3.9399178477999997E-3,4.2108356368000003E-3,null,4.9123887527999996E-3,9.3218772804999992E-3,1.0026446593999999E-3,7.6243227399E-3,null,-1.1851851841000001E-3,-1.4327485379000001E-2,-3.5993267192000002E-2,3.7803511028000003E-2,0.44163505296,0.3896104326]
[null,{"$f":"IF($B31>=Base!$G$3,\"\",$B31+1)","v":26},{"$f":"IF($B32=\"\",\"\",INDEX(Base!$B:$B,MATCH('Guia de BTC'!$B32,Base!$F:$F,0)))","v":"GGBR4<XBSP>"},"GGBR4","Gerdau","Siderurgia",18.420000000000002,{"$f":"IFERROR((_xll.ECONOMATICA(C32,\"Partic in ibovespa\")/100),\"\")","v":1.0369999999999999E-2},"PN","PN",2.4532801241000001E-2,0.89540283472000004,0.59775882485999998,37307999.343999997,25475226.337000001,25475226.337000001,22810589.877283406,5.0525879830392979E-2,null,1152525.1229999999,1872221.1351999999,"2023-11-01",0.61559241124413511,null,204615.54373999999,5.6326371982007659,null,62873.038,60668.167000000001,2204.8709999999992,237794.6,9.2721659785377757E-3,null,62873.038,61447.129000000001,2.3205461723036613E-2,60429.548000000003,4.0435351262266606E-2,null,2.9999999999999997E-4,null,4.0000000000000002E-4,3.7443757591000001E-4,4.0000000000000002E-4,4.0000000000000002E-4,3.8217520609999997E-4,4.0000000000000002E-4,4.0000000000000002E-4,4.0193456573000001E-4,4.0000000000000002E-4,4.1851014172000002E-4,null,-5.3995680336999998E-3,6.5573770497999997E-3,-4.5620206665000003E-2,-7.2999281579E-2,0.19010818044,0.27687475757000002]
[null,{"$f":"IF($B32>=Base!$G$3,\"\",$B32+1)","v":27},{"$f":"IF($B33=\"\",\"\",INDEX(Base!$B:$B,MATCH('Guia de BTC'!$B33,Base!$F:$F,0)))","v":"ITSA4<XBSP>"},"ITSA4","Itausa","Bancos",11.1,{"$f":"IFERROR((_xll.ECONOMATICA(C33,\"Partic in ibovespa\")/100),\"\")","v":2.7679999999999996E-2},"PN","PN",0.36220577764,0.81203166812000005,0.65744753349999996,114593052.58,75231293.400000006,75231293.400000006,61090192.674427152,1.8101039507162908E-2,null,1105795.9911,1735766.0024000001,"2024-03-18",0.63706512834739448,null,257574.81156999999,4.2931060858001739,null,100879.716,121125.505,-20245.789000000004,458298.2,4.417601683794526E-2,null,100879.716,99745.341,1.1372711633719224E-2,100278.702,5.9934361735156649E-3,null,5.9999999999999995E-4,5.9999999999999995E-4,4.0000000000000002E-4,5.9999999999999995E-4,5.9999999999999995E-4,5.0929583422000004E-4,5.9999999999999995E-4,5.9999999999999995E-4,5.8003323436999995E-4,9.4893011482999996E-4,9.9965146112000009E-4,8.5541485043999998E-4,null,-4.4843049317999997E-3,1.4952676002999999E-2,0.12701806903999999,0.35093489862999999,0.60596084215000001,0.52149372463999999]
[null,{"$f":"IF($B33>=Base!$G$3,\"\",$B33+1)","v":28},{"$f":"IF($B34=\"\",\"\",INDEX(Base!$B:$B,MATCH('Guia de BTC'!$B34,Base!$F:$F,0)))","v":"NTCO3<XBSP>"},"NTCO3","Grupo Natura","Produtos de uso pessoal",14.24,{"$f":"IFERROR((_xll.ECONOMATICA(C34,\"Partic in ibovespa\")/100),\"\")","v":5.4800000000000005E-3},"ON","ON",0.61353995282999996,null,0.61353995282999996,19719167.52,19719167.52,19719167.52,12098497.110067667,9.0506740245349021E-2,null,1094995.5353000001,1640275.4162000001,"2024-04-03",0.66756809526339111,null,110865.58847,9.8767845858347982,null,78915.558000000005,81092.436000000002,-2176.877999999997,191433,1.1371487674538857E-2,null,78915.558000000005,81545.831000000006,-3.2255149867808752E-2,80607.717999999993,-2.0992530764857853E-2,null,2E-3,null,2E-3,2E-3,null,1.9714971395000001E-3,2E-3,1E-3,1.9611570998000001E-3,2.1157711021000001E-3,1.5996813887000001E-3,2.0570429787000002E-3,null,-1.111111111E-2,5.0922509225000002E-2,-0.12175991898999999,-3.9904532804999997E-2,-8.4575556048000003E-3,-0.68969701043999998]
[null,{"$f":"IF($B34>=Base!$G$3,\"\",$B34+1)","v":29},{"$f":"IF($B35=\"\",\"\",INDEX(Base!$B:$B,MATCH('Guia de BTC'!$B35,Base!$F:$F,0)))","v":"RADL3<XBSP>"},"RADL3","RaiaDrogasil","Medicamentos e outros produtos",27.37,{"$f":"IFERROR((_xll.ECONOMATICA(C35,\"Partic in ibovespa\")/100),\"\")","v":1.5869999999999999E-2},"ON","ON",0.74491557136999997,null,0.74491557136999997,46943007.077,46943007.077,46943007.077,34968576.938589409,3.0878575865305347E-2,null,1079779.8559000001,2348049.4081000001,"2024-08-07",0.45986249359792591,null,171916.25438999999,6.2808479613013759,null,39741.017999999996,65615.298999999999,-25874.281000000003,157330.1,0.16445855561014708,null,39741.017999999996,39817.731,-1.9266040046330701E-3,44435.502999999997,-0.10564716686114706,null,9.4000000000000004E-3,3.8999999999999998E-3,9.4000000000000004E-3,9.5412445643999998E-3,3.8999999999999998E-3,8.5317858438000004E-3,9.9081546781000004E-3,3.9975857829999996E-3,8.9471652788000004E-3,2.4998048245000001E-2,9.2443197271000008E-3,1.9828278657000001E-2,null,1.2578616351000001E-2,-6.8940493465999998E-3,-6.4035955078000001E-2,6.0344225693999996E-3,0.29615869520999999,0.12039361504]
[null,{"$f":"IF($B35>=Base!$G$3,\"\",$B35+1)","v":30},{"$f":"IF($B36=\"\",\"\",INDEX(Base!$B:$B,MATCH('Guia de BTC'!$B36,Base!$F:$F,0)))","v":"BRFS3<XBSP>"},"BRFS3","BRF SA","Carnes e derivados",24.04,{"$f":"IFERROR((_xll.ECONOMATICA(C36,\"Partic in ibovespa\")/100),\"\")","v":8.8699999999999994E-3},"ON","ON",0.48412240962999997,null,0.48412240962999997,39871478.895000003,39871478.895000003,39871478.895000003,19302676.43815909,5.2379110520718294E-2,null,1011057.0225,1652384.5177,"2023-09-27",0.61187756945781502,null,164208.38174000001,6.1571584336106611,null,41001.194000000003,40850.357000000004,150.83699999999953,146161.29999999999,1.0319900000889397E-3,null,41001.194000000003,41921.714,-2.1958071657089184E-2,43556.201999999997,-5.8660027336635001E-2,null,1.4E-3,1.2999999999999999E-3,1E-3,1.7767894803E-3,1.2999999999999999E-3,1.3021766248000001E-3,1.8608283334E-3,1.0491879120999999E-3,1.2894160545999999E-3,2.0476645665999998E-3,1.0293621713E-3,1.5908444912000001E-3,null,-3.8784486205000003E-2,-8.3492184521999996E-2,0.74076755973999997,1.5711229947000001,0.61994609164000003,3.8893690577999997E-2]
[null,{"$f":"IF($B36>=Base!$G$3,\"\",$B36+1)","v":31},{"$f":"IF($B37=\"\",\"\",INDEX(Base!$B:$B,MATCH('Guia de BTC'!$B37,Base!$F:$F,0)))","v":"RDOR3<XBSP>"},"RDOR3","Rede D Or","Serviços médico-hospitalares análises e diagnósticos",34.409999999999997,{"$f":"IFERROR((_xll.ECONOMATICA(C37,\"Partic in ibovespa\")/100),\"\")","v":1.7849999999999998E-2},"ON","ON",0.50028075223000001,null,0.50028075223000001,77205054.126000002,77205054.126000002,77205054.126000002,38624202.55411315,2.4923907943763729E-2,null,962666.06886,1217263.3208999999,"2024-05-20",0.79084455460979464,null,263306.83160999999,3.656061876456985,null,29144.668000000001,21464.635999999999,7680.0320000000029,107891.4,7.1182985854294251E-2,null,29144.668000000001,30876.468000000001,-5.6088021466703997E-2,27311.083999999999,6.7136990974067556E-2,null,2.9999999999999997E-4,null,2.9999999999999997E-4,2.9999999999999997E-4,2.9999999999999997E-4,2.9091069184000002E-4,2.484062644E-4,2.4067597700000001E-4,2.8606219572000001E-4,2.1528769049999999E-4,2.0180442606000001E-4,2.5892910444000002E-4,null,9.6830985894000004E-3,7.7669902912000002E-2,0.20959408187,0.24406540273999999,9.9769420001000003E-2,-0.48147340390999999]
[null,{"$f":"IF($B37>=Base!$G$3,\"\",$B37+1)","v":32},{"$f":"IF($B38=\"\",\"\",INDEX(Base!$B:$B,MATCH('Guia de BTC'!$B38,Base!$F:$F,0)))","v":"IVVB11<XBSP>"},"IVVB11","Ishares S&P 500","-",342.15,{"$f":"IFERROR((_xll.ECONOMATICA(C38,\"Partic in ibovespa\")/100),\"\")","v":""},null,"",null,null,null,null,null,"","","",null,930025.34612,1048891.8485999999,"2024-08-07",0.88667420512547979,null,49109.140068000001,18.937927742823859,null,2703.444,2963.5120000000002,-260.06800000000021,3644.69,7.1355314169380721E-2,null,2703.444,2734.5140000000001,-1.1362165269587221E-2,2826.636,-4.3582548301231538E-2,null,2.6200000000000001E-2,3.5000000000000001E-3,2.47E-2,2.4953311724000001E-2,3.5000000000000001E-3,2.47E-2,2.4039198634E-2,3.5532547677999998E-3,2.3108340051000001E-2,2.3002624711000001E-2,1.9804408363000001E-3,2.3005144735999999E-2,null,-8.6918730985000008E-3,-3.5789770326000003E-2,0.32817049028,0.42621925801999999,0.52575250835999998,0.34429514379999998]
[null,{"$f":"IF($B38>=Base!$G$3,\"\",$B38+1)","v":33},{"$f":"IF($B39=\"\",\"\",INDEX(Base!$B:$B,MATCH('Guia de BTC'!$B39,Base!$F:$F,0)))","v":"JBSS3<XBSP>"},"JBSS3","JBS","Carnes e derivados",32.700000000000003,{"$f":"IFERROR((_xll.ECONOMATICA(C39,\"Partic in ibovespa\")/100),\"\")","v":1.6930000000000001E-2},"ON",{"$f":"LEFT(I39,2)","v":"ON"},0.51516524897000004,null,0.51516524897000004,72532405.298999995,72532405.298999995,{"$f":"IF(N39=\"\",\"\",IF(O39>1,O39,N39))","v":72532405.298999995},{"$f":"IFERROR(IF(J39=\"on\",P39*K39,IF(J39=\"pn\",P39*L39,IF(J39=\"un\",P39*M39,\"\"))),\"\")","v":37366174.63425228},{"$f":"IFERROR(T39/Q39,\"\")","v":2.470527233937905E-2},null,923141.52061999997,1153216.3659999999,"2023-12-19",{"$f":"IFERROR(T39/U39,\"\")","v":0.80049290648030924},null,261047.84482999999,{"$f":"IFERROR(T39/Y39,\"\")","v":3.5362924417980532},null,26219.832999999999,27426.712,{"$f":"IF(AB39=\"\",\"\",AB39-AC39)","v":-1206.8790000000008},170776.9,7.0669920814817513E-3,null,26219.832999999999,26065.826000000001,{"$f":"IFERROR((AH39/AI39)-1,\"\")","v":5.9083874802201564E-3},24417.105,{"$f":"IFERROR((AH39/AK39)-1,\"\")","v":7.3830538059282524E-2},null,2.9999999999999997E-4,null,2.9999999999999997E-4,2.9999999999999997E-4,null,4.5398943418000002E-4,2.9999999999999997E-4,null,4.1438751498E-4,3.6357310401999998E-4,5.2376632800999997E-4,4.004255309E-4,null,-4.1898622912E-2,-6.5714285713999995E-2,0.38533232912999998,0.84834645519999996,0.36615947225000001,0.22867525308]
[null,{"$f":"IF($B39>=Base!$G$3,\"\",$B39+1)","v":34},{"$f":"IF($B40=\"\",\"\",INDEX(Base!$B:$B,MATCH('Guia de BTC'!$B40,Base!$F:$F,0)))","v":"CPLE6<XBSP>"},"CPLE6","Copel","Energia elétrica",10.78,{"$f":"IFERROR((_xll.ECONOMATICA(C40,\"Partic in ibovespa\")/100),\"\")","v":8.199999999999999E-3},"PNB","PN",0.99992532455000005,0.99993955292000003,0.99993334988000004,30752575.247000001,18103234.436999999,18103234.436999999,18102140.149339728,4.8829074855120953E-2,null,883910.75639,1249226.3528,"2024-03-19",0.70756653060417252,null,132304.41039,6.6808865538529982,null,82706.077000000005,85270.930999999997,-2564.8539999999921,242814.8,1.0563005220439578E-2,null,82706.077000000005,83525.937999999995,-9.8156455303739509E-3,77551.547000000006,6.6465856574079663E-2,null,2.9999999999999997E-4,null,2.9999999999999997E-4,2.9999999999999997E-4,2.0000000000000001E-4,2.9999999999999997E-4,2.9999999999999997E-4,2.0000000000000001E-4,2.9999999999999997E-4,2.5920642978E-4,2.0000000000000001E-4,2.6146723432999999E-4,null,-1.8518518518E-3,3.3557046979999998E-2,4.5580397984000001E-2,0.29336787855000002,0.78142306161999997,1.1362502807999999]
[null,{"$f":"IF($B40>=Base!$G$3,\"\",$B40+1)","v":35},{"$f":"IF($B41=\"\",\"\",INDEX(Base!$B:$B,MATCH('Guia de BTC'!$B41,Base!$F:$F,0)))","v":"ASAI3<XBSP>"},"ASAI3","Assai","Alimentos",8.74,{"$f":"IFERROR((_xll.ECONOMATICA(C41,\"Partic in ibovespa\")/100),\"\")","v":5.3400000000000001E-3},"ON","ON",0.99822413597000004,null,0.99822413597000004,11815020.42,11815020.42,11815020.42,11794038.550222406,7.2618847612114096E-2,null,856469.48820999998,1296995.9683999999,"2024-09-04",0.66034861254546373,null,171449.16635000001,4.9954718733457399,null,93391.35,95708.31,-2316.9599999999919,287127.90000000002,8.0694352586425482E-3,null,93391.35,91532.297000000006,2.0310350127015875E-2,103374.548,-9.657307522157188E-2,null,0.21129999999999999,1E-3,0.18340000000000001,0.23447223521999999,1E-3,0.20102707448000001,0.24563217083,1E-3,0.23789186873000001,0.27794881662999998,1E-3,0.26752921247,null,-9.0702947846000009E-3,-8.6729362591999995E-2,-0.35402808574,-0.28711256117,-0.50880127883000004,-0.53233856107999999]
[null,{"$f":"IF($B41>=Base!$G$3,\"\",$B41+1)","v":36},{"$f":"IF($B42=\"\",\"\",INDEX(Base!$B:$B,MATCH('Guia de BTC'!$B42,Base!$F:$F,0)))","v":"MULT3<XBSP>"},"MULT3","Multiplan","Exploração de imóveis",27.04,{"$f":"IFERROR((_xll.ECONOMATICA(C42,\"Partic in ibovespa\")/100),\"\")","v":3.9000000000000003E-3},"ON","ON",0.52934644088000005,null,0.52934644088000005,15621709.715,15621709.715,15621709.715,8269296.4380957698,0.10070542482351331,null,832763.01078999997,1057169.8555000001,"2024-07-24",0.78772867619852405,null,102019.20772999999,8.1628060962202103,null,31251.298999999999,26649.165000000001,4602.1339999999982,104243.9,4.4147753489652615E-2,null,31251.298999999999,28480.156999999999,9.7300797885348622E-2,25983.379000000001,0.20274191435994515,null,3.61E-2,3.9399999999999998E-2,3.7999999999999999E-2,3.8104554579E-2,3.9399999999999998E-2,3.5604493320999998E-2,3.8622137382000002E-2,3.4566655224999999E-2,3.4343026040000002E-2,4.5817445959000003E-2,3.8207170159999998E-2,4.3621381926E-2,null,-4.4182621504999997E-3,5.4602184087000002E-2,-3.2796817558999998E-2,0.12531647249,0.22593500826999999,0.50329219671000003]
[null,{"$f":"IF($B42>=Base!$G$3,\"\",$B42+1)","v":37},{"$f":"IF($B43=\"\",\"\",INDEX(Base!$B:$B,MATCH('Guia de BTC'!$B43,Base!$F:$F,0)))","v":"TIMS3<XBSP>"},"TIMS3","Tim","Telecomunicações",18.760000000000002,{"$f":"IFERROR((_xll.ECONOMATICA(C43,\"Partic in ibovespa\")/100),\"\")","v":6.8600000000000006E-3},"ON","ON",0.33356491696000001,null,0.33356491696000001,45361766.971000001,45361766.971000001,45361766.971000001,15131094.032840487,5.2782133345190309E-2,null,798651.42290000001,798651.42290000001,"2024-09-18",1,null,93253.911261000001,8.5642673009684955,null,43657.205000000002,36448.750999999997,7208.4540000000052,147198.5,4.8970974568355009E-2,null,43657.205000000002,39382.118000000002,0.10855401428638234,40753.294999999998,7.125583342402142E-2,null,5.0000000000000001E-3,null,4.3E-3,5.0000000000000001E-3,null,4.3121130414E-3,5.0217206204E-3,null,4.7517945957999998E-3,5.7389862800000004E-3,1.1642354556E-3,5.5088074984000002E-3,null,6.4377682392999999E-3,5.0391937291E-2,9.0835806251999995E-2,0.32519965754000002,0.76242070183999999,0.83302453038000002]
[null,{"$f":"IF($B43>=Base!$G$3,\"\",$B43+1)","v":38},{"$f":"IF($B44=\"\",\"\",INDEX(Base!$B:$B,MATCH('Guia de BTC'!$B44,Base!$F:$F,0)))","v":"CCRO3<XBSP>"},"CCRO3","CCR SA","Exploração de rodovias",13.04,{"$f":"IFERROR((_xll.ECONOMATICA(C44,\"Partic in ibovespa\")/100),\"\")","v":5.8599999999999998E-3},"ON","ON",0.49104996881000001,null,0.49104996881000001,26314498.971999999,26314498.971999999,26314498.971999999,12921733.899451377,6.1427016986760598E-2,null,793743.56773999997,1227974.1406,"2024-03-27",0.64638459516107494,null,84171.722999999998,9.430050133819881,null,59600.089,67067.534,-7467.4449999999997,113136.1,6.6004087112778317E-2,null,59600.089,59029.589,9.6646446242409922E-3,57407.375999999997,3.8195666703177755E-2,null,6.3E-3,null,6.3E-3,6.2661961678000004E-3,null,5.6878463712000003E-3,6.216991172E-3,null,5.5903165853E-3,6.2638966737E-3,6.4999999999999997E-3,5.7873510077E-3,null,-8.3650190117999998E-3,-1.5849056604999998E-2,-6.0811045033E-2,5.9055596303000002E-2,2.1509002196E-2,0.22096907584]
[null,{"$f":"IF($B44>=Base!$G$3,\"\",$B44+1)","v":39},{"$f":"IF($B45=\"\",\"\",INDEX(Base!$B:$B,MATCH('Guia de BTC'!$B45,Base!$F:$F,0)))","v":"CXSE3<XBSP>"},"CXSE3","Caixa Seguri","Seguradoras",14.87,{"$f":"IFERROR((_xll.ECONOMATICA(C45,\"Partic in ibovespa\")/100),\"\")","v":3.4899999999999996E-3},"ON","ON",0.17249999999999999,null,0.17249999999999999,44610000,44610000,44610000,7695224.9999999991,9.60414679583768E-2,null,739060.70527000003,982221.08846999996,"2024-03-04",0.75243823813763822,null,63185.313391000003,11.696716619835115,null,47917.921999999999,41699.353999999999,6218.5679999999993,55416.2,0.11221570587662091,null,47917.921999999999,47752.932000000001,3.4550758056071107E-3,49676.633999999998,-3.5403203848312303E-2,null,3.7000000000000002E-3,1E-3,3.5999999999999999E-3,3.7000000000000002E-3,1E-3,3.6164983208E-3,3.7806147416E-3,1E-3,3.6934493017000002E-3,5.0124231396000002E-3,1E-3,5.0029454871000001E-3,null,-1.1960132890000001E-2,-9.0519877676000005E-2,0.21742658942000001,0.43720354250999999,1.0866953175,1.1922918127]
[null,{"$f":"IF($B45>=Base!$G$3,\"\",$B45+1)","v":40},{"$f":"IF($B46=\"\",\"\",INDEX(Base!$B:$B,MATCH('Guia de BTC'!$B46,Base!$F:$F,0)))","v":"CMIN3<XBSP>"},"CMIN3","Csn Mineracao","Minerais metálicos",6.33,{"$f":"IFERROR((_xll.ECONOMATICA(C46,\"Partic in ibovespa\")/100),\"\")","v":3.1800000000000001E-3},"ON","ON",0.20245957046999999,null,0.20245957046999999,34722194.844999999,34722194.844999999,34722194.844999999,7029840.6540943477,0.10441240387895553,null,734002.56157999998,795593.60886000004,"2024-01-04",0.92258478877394023,null,90748.241825999998,8.0883391987623412,null,122413.478,107436.185,14977.293000000005,195204.8,7.6726048744703026E-2,null,122413.478,125269.74,-2.2800893495907304E-2,129524.508,-5.4901038496899757E-2,null,0.96279999999999999,0.41789999999999999,0.44169999999999998,0.54140342339000003,0.42205074391000003,0.41209606295000001,0.41521475448,0.24995363336000001,0.34207028127,0.23441246959000001,0.18740439842000001,0.18763712985,null,-8.2608695652000005E-2,0.11443661971000001,-0.15379272551000001,0.53596402059000003,1.4371445566000001,0.59078271328999998]
[null,{"$f":"IF($B46>=Base!$G$3,\"\",$B46+1)","v":41},{"$f":"IF($B47=\"\",\"\",INDEX(Base!$B:$B,MATCH('Guia de BTC'!$B47,Base!$F:$F,0)))","v":"CSNA3<XBSP>"},"CSNA3","Sid Nacional","Siderurgia",11.89,{"$f":"IFERROR((_xll.ECONOMATICA(C47,\"Partic in ibovespa\")/100),\"\")","v":3.9700000000000004E-3},"ON","ON",0.54256387613000001,null,0.54256387613000001,15767257.028999999,15767257.028999999,15767257.028999999,8554744.0895922277,8.1728540342967365E-2,null,699166.74745000002,1099840.9079,"2024-01-08",0.63569807453785843,null,74833.932304000002,9.3429107080696383,null,59173.627,49795.974999999999,9377.6520000000019,131226.1,7.1461789994520922E-2,null,59173.627,58715.377999999997,7.8045823021015703E-3,60980.851000000002,-2.9635926202473017E-2,null,1.4E-3,1E-3,1.4E-3,1.4E-3,1E-3,1.3491300804000001E-3,1.3910833903E-3,1E-3,1.3884301733E-3,1.4415829152E-3,1E-3,1.2569109686000001E-3,null,-1.081530782E-2,2.5295109607999999E-3,-0.36235525747000003,6.1049344998999999E-2,0.29268596741000003,-0.40804536267000002]
[null,{"$f":"IF($B47>=Base!$G$3,\"\",$B47+1)","v":42},{"$f":"IF($B48=\"\",\"\",INDEX(Base!$B:$B,MATCH('Guia de BTC'!$B48,Base!$F:$F,0)))","v":"SBSP3<XBSP>"},"SBSP3","Sabesp","Água e saneamento",96.07,{"$f":"IFERROR((_xll.ECONOMATICA(C48,\"Partic in ibovespa\")/100),\"\")","v":2.9750000000000002E-2},"ON","ON",0.99999809951999996,0,0.99999809804999995,65664793.115000002,65664793.115000002,65664793.115000002,65664668.320373982,1.0198489468380001E-2,null,669680.42830999999,1892306.578,"2024-07-04",0.35389636969808175,null,353875.88673999999,1.892416108029503,null,7016.5870000000004,12674.097,-5657.5099999999993,192754.1,2.93509191244181E-2,null,7016.5870000000004,7512.7089999999998,-6.6037696921310229E-2,6973.3779999999997,6.1962796223007377E-3,null,6.9999999999999999E-4,6.9999999999999999E-4,6.9999999999999999E-4,6.9999999999999999E-4,6.9999999999999999E-4,7.2650991363999999E-4,6.6763465850999996E-4,4.4501595834000002E-4,5.5004409200000003E-4,3.1937939128999997E-4,4.1033844205000001E-4,3.0425499853999998E-4,null,-1.2475309284999999E-3,1.414546606E-2,0.29727552714,0.61425881591999998,1.1349716345,1.9103240857999999]
[null,{"$f":"IF($B48>=Base!$G$3,\"\",$B48+1)","v":43},{"$f":"IF($B49=\"\",\"\",INDEX(Base!$B:$B,MATCH('Guia de BTC'!$B49,Base!$F:$F,0)))","v":"KLBN11<XBSP>"},"KLBN11","Klabin S/A","Papel e celulose",21.34,{"$f":"IFERROR((_xll.ECONOMATICA(C49,\"Partic in ibovespa\")/100),\"\")","v":7.4000000000000003E-3},"UNT N2","UN",0.38742958671,0.78748398673999997,0.63924256071999996,25944321.239,0,25944321.239,16584714.344960643,3.9950268962656181E-2,null,662563.79874999996,1231649.3487,"2023-09-27",0.53794840183152204,null,78375.717174000005,8.4536872215032925,null,30777.922999999999,31775.079000000002,-997.15600000000268,85158.399999999994,1.1709426198707382E-2,null,30777.922999999999,30640.13,4.4971414938512755E-3,31101.118999999999,-1.0391780437224774E-2,null,2.5000000000000001E-3,null,2.3E-3,2.5000000000000001E-3,1E-3,1.8980416098E-3,2.5000000000000001E-3,1.0113494029E-3,1.1292243268000001E-3,1.1098823888E-3,1.0089347878000001E-3,5.6545336071E-4,null,-1.0204081631999999E-2,-1.1579434923999999E-2,9.6046678864000007E-2,7.7399074292999998E-2,0.44969249784999998,0.21550329632000001]
[null,{"$f":"IF($B49>=Base!$G$3,\"\",$B49+1)","v":44},{"$f":"IF($B50=\"\",\"\",INDEX(Base!$B:$B,MATCH('Guia de BTC'!$B50,Base!$F:$F,0)))","v":"CSAN3<XBSP>"},"CSAN3","Cosan","Exploração refino e distribuição",13.1,{"$f":"IFERROR((_xll.ECONOMATICA(C50,\"Partic in ibovespa\")/100),\"\")","v":6.9199999999999991E-3},"ON","ON",0.62432014933000002,null,0.62432014933000002,24373359.344000001,24373359.344000001,24373359.344000001,15216779.345319832,4.3409861510094475E-2,null,660558.28400999994,885243.90465000004,"2024-02-28",0.74618789300917654,null,129333.37082,5.1074079320899584,null,49841.271000000001,38918.805,10922.466,165277.4,6.6085659624364856E-2,null,49841.271000000001,47261.478999999999,5.4585511384440677E-2,47494.046000000002,4.9421458007599561E-2,null,5.9999999999999995E-4,5.9999999999999995E-4,5.0000000000000001E-4,5.9999999999999995E-4,5.9999999999999995E-4,5.1988554728999998E-4,5.9999999999999995E-4,5.9999999999999995E-4,5.2621402179999996E-4,5.9999999999999995E-4,5.9999999999999995E-4,5.8908190656000001E-4,null,-2.2388059700000001E-2,-1.9461077843999999E-2,-0.29953354014,-0.26815808618999998,-0.22181316672000001,-0.38039210346000002]
[null,{"$f":"IF($B50>=Base!$G$3,\"\",$B50+1)","v":45},{"$f":"IF($B51=\"\",\"\",INDEX(Base!$B:$B,MATCH('Guia de BTC'!$B51,Base!$F:$F,0)))","v":"CYRE3<XBSP>"},"CYRE3","Cyrela Realt","Incorporações",22.34,{"$f":"IFERROR((_xll.ECONOMATICA(C51,\"Partic in ibovespa\")/100),\"\")","v":2.6800000000000001E-3},"ON","ON",0.66220232275000002,null,0.66220232275000002,8375735.1399999997,8375735.1399999997,8375735.1399999997,5546431.2644467959,0.11598666704727735,null,643312.07637000002,902632.37040999997,"2023-12-12",0.71270663169080706,null,98675.742173999999,6.5194551588536811,null,29458.6,28295.918000000001,1162.6819999999971,110234.7,1.0547332192131852E-2,null,29458.6,29515.050999999999,-1.9126173964598703E-3,29089.233,1.2697722212201334E-2,null,2.9999999999999997E-4,2.9999999999999997E-4,2.9999999999999997E-4,2.9999999999999997E-4,2.9999999999999997E-4,2.6033850807000001E-4,2.9999999999999997E-4,2.9999999999999997E-4,2.3429488711E-4,3.2189132551999999E-4,2.8880778589000002E-4,2.7789493211000002E-4,null,-4.0124832812999996E-3,2.3831347387000001E-2,-4.5096574601999999E-2,6.9635972901000001E-2,0.53439136946999999,0.27609793603999999]
[null,{"$f":"IF($B51>=Base!$G$3,\"\",$B51+1)","v":46},{"$f":"IF($B52=\"\",\"\",INDEX(Base!$B:$B,MATCH('Guia de BTC'!$B52,Base!$F:$F,0)))","v":"SMFT3<XBSP>"},"SMFT3","Smart Fit","Atividades esportivas",23.16,{"$f":"IFERROR((_xll.ECONOMATICA(C52,\"Partic in ibovespa\")/100),\"\")","v":""},"ON","ON",0.55029281246999995,null,0.55029281246999995,13577371.413000001,13577371.413000001,13577371.413000001,7471529.9008095479,8.5822311866880538E-2,null,641223.96927,641223.96927,"2024-09-18",1,null,50114.289390999998,12.795232199484348,null,28330.163,22249.429,6080.7340000000004,66670,9.1206449677516135E-2,null,28330.163,27474.919000000002,3.1128171842836005E-2,26554.727999999999,6.6859468490884311E-2,null,3.4000000000000002E-2,null,1.1000000000000001E-3,3.4000000000000002E-2,null,1.1981213409E-2,3.4000000000000002E-2,null,1.4369617372E-2,2.2708156096E-2,5.7339000174E-3,1.3246899066E-2,null,1.0912265386E-2,5.0340136054999998E-2,-0.10677876895000001,0.10712275665,0.53962626054999996,-0.10469280471]
[null,{"$f":"IF($B52>=Base!$G$3,\"\",$B52+1)","v":47},{"$f":"IF($B53=\"\",\"\",INDEX(Base!$B:$B,MATCH('Guia de BTC'!$B53,Base!$F:$F,0)))","v":"AZZA3<XBSP>"},"AZZA3","Azzas 2154","Tecidos vestuário e calçados",47.77,{"$f":"IFERROR((_xll.ECONOMATICA(C53,\"Partic in ibovespa\")/100),\"\")","v":2.7600000000000003E-3},"ON","ON",0.61664297696000003,null,0.61664297696000003,9864018.3670000006,9864018.3670000006,9864018.3670000006,6082577.6506149983,0.10384610634870149,null,631652.00558,854179.89913000003,"2024-08-06",0.73948357509155938,null,98995.102478000001,6.3806389383795432,null,13099.062,13987.565000000001,-888.50300000000061,31754.7,2.7980204505159884E-2,null,13099.062,12789.784,2.4181643724397572E-2,14061.907999999999,-6.8471931405041153E-2,null,3.3099999999999997E-2,1E-3,2.8299999999999999E-2,3.3761068672000002E-2,1E-3,2.9059180991000001E-2,3.5247768936999997E-2,1E-3,3.3291585529000002E-2,4.4471600740999997E-2,2.6588889336E-2,4.0394861796999998E-2,null,1.3364446328999999E-2,-2.5102040815999999E-2,-0.25220105101000001,-0.29925760291999998,-0.47021705676999997,-0.38368256838999998]
[null,{"$f":"IF($B53>=Base!$G$3,\"\",$B53+1)","v":48},{"$f":"IF($B54=\"\",\"\",INDEX(Base!$B:$B,MATCH('Guia de BTC'!$B54,Base!$F:$F,0)))","v":"CRFB3<XBSP>"},"CRFB3","Carrefour BR","Alimentos",9.15,{"$f":"IFERROR((_xll.ECONOMATICA(C54,\"Partic in ibovespa\")/100),\"\")","v":2.2000000000000001E-3},"ON","ON",0.25256043625000002,null,0.25256043625000002,19290893.861000001,19290893.861000001,19290893.861000001,4872116.5691866074,0.12554495307818905,null,611669.64607000002,772445.83739,"2024-03-28",0.79186088714874425,null,82361.266522000005,7.4266663432939479,null,66713.489000000001,54718.701000000001,11994.788,166622.39999999999,7.1987847972421484E-2,null,66713.489000000001,66697.629000000001,2.3778956220477099E-4,64199.213000000003,3.9163657660413964E-2,null,0.4118,9.8100000000000007E-2,0.35160000000000002,0.30522781337999999,9.8100000000000007E-2,0.28412532307999999,0.23794993299,9.9567834305999997E-2,0.22598368120000001,0.16023863892000001,2.1868719209999998E-2,0.14170937278000001,null,8.8202866572999993E-3,2.0066889630000001E-2,-0.26506024096000003,-4.3887147336999999E-2,-0.54350580281000005,-0.46754006115000002]
[null,{"$f":"IF($B54>=Base!$G$3,\"\",$B54+1)","v":49},{"$f":"IF($B55=\"\",\"\",INDEX(Base!$B:$B,MATCH('Guia de BTC'!$B55,Base!$F:$F,0)))","v":"LREN3<XBSP>"},"LREN3","Lojas Renner","Tecidos vestuário e calçados",19,{"$f":"IFERROR((_xll.ECONOMATICA(C55,\"Partic in ibovespa\")/100),\"\")","v":8.199999999999999E-3},"ON","ON",1,null,1,18166280,18166280,18166280,18166280,3.3551143904530817E-2,null,609499.47449000005,1631654.9497,"2024-08-29",0.3735467934578105,null,450885.10129999998,1.3517844628990408,null,33113.332000000002,109055.978,-75942.646000000008,410198.9,0.1851361522422415,null,33113.332000000002,35778.786999999997,-7.4498193580458616E-2,29653.359,0.11668064316086424,null,9.1000000000000004E-3,0.01,6.1000000000000004E-3,1.2513876247E-2,1.8426146997000001E-2,9.1486957514999995E-3,1.6223648808E-2,1.9942889027000001E-2,1.2462250021E-2,3.9356320057000002E-2,3.0590646159999998E-2,3.0740619941999999E-2,null,-3.6706869432000001E-3,0.11699000587,0.11503612452,0.28919370512999998,-0.21976322554,-0.36690607306]
[null,{"$f":"IF($B55>=Base!$G$3,\"\",$B55+1)","v":50},{"$f":"IF($B56=\"\",\"\",INDEX(Base!$B:$B,MATCH('Guia de BTC'!$B56,Base!$F:$F,0)))","v":"SLCE3<XBSP>"},"SLCE3","SLC Agricola","Agricultura",17.23,{"$f":"IFERROR((_xll.ECONOMATICA(C56,\"Partic in ibovespa\")/100),\"\")","v":1.5199999999999999E-3},"ON","ON",0.43818723398999998,null,0.43818723398999998,7578452.2630000003,7578452.2630000003,7578452.2630000003,3320781.0350492261,0.1822855814222713,null,605330.50175000005,615384.19420999999,"2024-03-18",0.9836627385711354,null,35910.750087,16.856526256997757,null,34433.972000000002,29032.330999999998,5401.6410000000033,36176.199999999997,0.14931477048446226,null,34433.972000000002,34412.902000000002,6.1227036301669813E-4,33786.811000000002,1.9154249272001378E-2,null,1.9E-3,null,1.9E-3,1.9E-3,null,1.8507572964E-3,1.9E-3,1E-3,1.8182504170000001E-3,1.7312891096000001E-3,1E-3,1.6618519095E-3,null,-5.1963048499999998E-3,-2.4348810871999998E-2,-4.2872114864999998E-2,-9.2210138886999998E-2,-8.3180671871000006E-2,0.11909978743999999]
[null,{"$f":"IF($B56>=Base!$G$3,\"\",$B56+1)","v":51},{"$f":"IF($B57=\"\",\"\",INDEX(Base!$B:$B,MATCH('Guia de BTC'!$B57,Base!$F:$F,0)))","v":"ENEV3<XBSP>"},"ENEV3","Eneva","Energia elétrica",14.01,{"$f":"IFERROR((_xll.ECONOMATICA(C57,\"Partic in ibovespa\")/100),\"\")","v":1.0029999999999999E-2},"ON","ON",0.99692294537000004,null,0.99692294537000004,22183742.219999999,22183742.219999999,22183742.219999999,22115481.633291222,2.7079738712472008E-2,null,598881.46412999998,1255680.1409,"2024-08-01",0.47693791167291683,null,164948.19274,3.6307246183290314,null,43002.913999999997,80227.634999999995,-37224.720999999998,153993,0.24172995525770649,null,43002.913999999997,42678.504999999997,7.6012268939598115E-3,33882.432000000001,0.26918026427382769,null,2.9999999999999997E-4,null,2.9999999999999997E-4,2.6213721276000001E-4,null,4.5012555547000002E-4,2.4992032572000001E-4,null,3.6806439466000003E-4,2.9183582271999998E-4,null,3.3716421021999998E-4,null,-8.4925690026000002E-3,6.7022086822999996E-2,2.9390154296999999E-2,0.17140468227,-6.4128256514000004E-2,-0.15347432023999999]
[null,{"$f":"IF($B57>=Base!$G$3,\"\",$B57+1)","v":52},{"$f":"IF($B58=\"\",\"\",INDEX(Base!$B:$B,MATCH('Guia de BTC'!$B58,Base!$F:$F,0)))","v":"HAPV3<XBSP>"},"HAPV3","Hapvida","Serviços médico-hospitalares análises e diagnósticos",4.66,{"$f":"IFERROR((_xll.ECONOMATICA(C58,\"Partic in ibovespa\")/100),\"\")","v":1.0089999999999998E-2},"ON","ON",0.63391714679,null,0.63391714679,34923194.295999996,34923194.295999996,34923194.295999996,22138411.684913121,2.6324265137193697E-2,null,582777.41891000001,1225818.0214,"2023-11-10",0.47541919659854009,null,223826.37547999999,2.6037030607327782,null,131277.33199999999,125199.19100000001,6078.1409999999887,1373625,4.424891072891065E-3,null,131277.33199999999,132183.24799999999,-6.8534857003967886E-3,130443.382,6.3931951718332325E-3,null,5.0000000000000001E-4,5.0000000000000001E-4,5.0000000000000001E-4,3.0517068118999998E-4,5.0000000000000001E-4,3.7807849406E-4,2.8585711053999999E-4,5.0000000000000001E-4,3.3226988356999999E-4,4.7461198501999997E-4,6.0035999788999998E-4,5.3544607763999998E-4,null,1.0845986986000001E-2,9.9056603775000002E-2,4.7191011237000001E-2,5.4298642534999997E-2,-0.37449664429000001,-0.69402233947000003]
[null,{"$f":"IF($B58>=Base!$G$3,\"\",$B58+1)","v":53},{"$f":"IF($B59=\"\",\"\",INDEX(Base!$B:$B,MATCH('Guia de BTC'!$B59,Base!$F:$F,0)))","v":"MRVE3<XBSP>"},"MRVE3","MRV","Incorporações",7.95,{"$f":"IFERROR((_xll.ECONOMATICA(C59,\"Partic in ibovespa\")/100),\"\")","v":1.3500000000000001E-3},"ON","ON",0.67026227333999999,null,0.67026227333999999,4474466.7,4474466.7,4474466.7,2999066.2223261278,0.18834733666263626,null,564866.13544999994,653752.81386999995,"2024-09-06",0.86403625875991208,null,89563.677609000006,6.306866249016533,null,74209.313999999998,70859.758000000002,3349.5559999999969,252867,1.3246315256636877E-2,null,74209.313999999998,74764.671000000002,-7.4280671949991106E-3,78977.149000000005,-6.0369803928982169E-2,null,1.5E-3,1.4E-3,1.5E-3,1.5E-3,1.4429898942000001E-3,1.4232225832999999E-3,1.5627450709E-3,1.0432904998000001E-3,1.2223221699E-3,1.0246637466E-3,9.996652327500001E-4,1.1254494781000001E-3,null,-1.9728729963E-2,6.4257028112E-2,-0.29207479963999999,-0.30929626412,-0.35655909994000001,-0.39074977092000002]
[null,{"$f":"IF($B59>=Base!$G$3,\"\",$B59+1)","v":54},{"$f":"IF($B60=\"\",\"\",INDEX(Base!$B:$B,MATCH('Guia de BTC'!$B60,Base!$F:$F,0)))","v":"AURE3<XBSP>"},"AURE3","Auren","Energia elétrica",10.99,{"$f":"IFERROR((_xll.ECONOMATICA(C60,\"Partic in ibovespa\")/100),\"\")","v":1.4499999999999999E-3},"ON","ON",0.29172761600000002,null,0.29172761600000002,10990000,10990000,10990000,3206086.4998400002,0.1743680570215117,null,559039.07362000004,662535.76364000002,"2024-05-17",0.84378701392452427,null,50410.687696000001,11.089693459277264,null,49297.417999999998,43080.498,6216.9199999999983,72819,8.5374970818055701E-2,null,49297.417999999998,48988.561999999998,6.304655360163558E-3,46356.961000000003,6.3430754229121922E-2,null,1.0500000000000001E-2,null,8.3999999999999995E-3,1.057185697E-2,null,8.8045404969999998E-3,1.0622866095000001E-2,1.0500000000000001E-2,8.9632658308999996E-3,1.0742290957E-2,1.0500000000000001E-2,9.5985883668E-3,null,-7.2267389342000003E-3,-3.5118525020999998E-2,-0.14777668148000001,-9.4759142608999994E-2,-2.2624536752000001E-2]
[null,{"$f":"IF($B60>=Base!$G$3,\"\",$B60+1)","v":55},{"$f":"IF($B61=\"\",\"\",INDEX(Base!$B:$B,MATCH('Guia de BTC'!$B61,Base!$F:$F,0)))","v":"ELET6<XBSP>"},"ELET6","Eletrobras","Energia elétrica",46.21,{"$f":"IFERROR((_xll.ECONOMATICA(C61,\"Partic in ibovespa\")/100),\"\")","v":5.6299999999999996E-3},"PNB","PN",0.97541169595999999,0.95996756223000002,0.97353673530999996,95266771.163000003,12620074.34,12620074.34,12114861.999331176,4.3110064326678507E-2,null,522272.48009999999,811290.68223999999,"2024-08-05",0.64375505787640586,null,53330.630783000001,9.7931052461221366,null,11342.896000000001,16650.292000000001,-5307.3960000000006,26344.3,0.20146278322065878,null,11342.896000000001,11289.653,4.7160882624115441E-3,11367.713,-2.1831128213739559E-3,null,2.0000000000000001E-4,null,2.0000000000000001E-4,2.0000000000000001E-4,null,1.9628634303999999E-4,2.0000000000000001E-4,null,1.9772153972999999E-4,2.7960296578000002E-4,null,2.9637714353999999E-4,null,-4.7383157435000002E-3,1.5171218037E-3,2.7747847124999999E-2,0.25379366029,0.10446128026,0.36564662806999998]
[null,{"$f":"IF($B61>=Base!$G$3,\"\",$B61+1)","v":56},{"$f":"IF($B62=\"\",\"\",INDEX(Base!$B:$B,MATCH('Guia de BTC'!$B62,Base!$F:$F,0)))","v":"VAMO3<XBSP>"},"VAMO3","Vamos","Aluguel de carros",7.16,{"$f":"IFERROR((_xll.ECONOMATICA(C62,\"Partic in ibovespa\")/100),\"\")","v":1.57E-3},"ON","ON",0.43933354342999997,null,0.43933354342999997,7809260.4729000004,7809260.4729000004,7809260.4729000004,3430870.0751269944,0.14897061452001548,null,511098.82342999999,702026.91978999996,"2024-02-09",0.72803308394909838,null,52010.418522,9.826854656318698,null,66652.508000000002,63189.796000000002,3462.7119999999995,189857.2,1.8238507678402502E-2,null,66652.508000000002,66145.42,7.6662601885362225E-3,67980.960000000006,-1.9541530452056088E-2,null,3.3E-3,1E-3,2.3999999999999998E-3,3.3E-3,1E-3,2.7208660110000001E-3,3.3E-3,1E-3,2.9287326741999999E-3,3.5305874505000001E-3,1E-3,3.3674274014000001E-3,null,-2.8493894164999999E-2,-5.7894736841000001E-2,-0.28897715988,-0.26048755986,-0.47753950604000001,-0.51999279252999997]
[null,{"$f":"IF($B62>=Base!$G$3,\"\",$B62+1)","v":57},{"$f":"IF($B63=\"\",\"\",INDEX(Base!$B:$B,MATCH('Guia de BTC'!$B63,Base!$F:$F,0)))","v":"GMAT3<XBSP>"},"GMAT3","Grupo Mateus","Alimentos",7.4,{"$f":"IFERROR((_xll.ECONOMATICA(C63,\"Partic in ibovespa\")/100),\"\")","v":""},"ON","ON",0.20934086532999999,null,0.20934086532999999,16324423.717,16324423.717,16324423.717,3417368.986930355,0.14821485159112624,null,506504.83723,598587.36713999999,"2024-04-03",0.84616693407687071,null,26921.398043000001,18.814210035488831,null,64520.771000000001,59096.985000000001,5423.7860000000001,64429.4,8.41818486591525E-2,null,64520.771000000001,61646.243999999999,4.6629393998440571E-2,61477.167000000001,4.9507876639793835E-2,null,5.0000000000000001E-4,null,5.0000000000000001E-4,5.0000000000000001E-4,null,5.0000000000000001E-4,5.0000000000000001E-4,null,5.0000000000000001E-4,5.0000000000000001E-4,5.0000000000000001E-4,4.9780738182999998E-4,null,-2.6954177892999998E-3,-6.0913705584E-2,4.4584570593999999E-2,6.3846413741000002E-2,9.4907622903000005E-2,0.11775219327]
[null,{"$f":"IF($B63>=Base!$G$3,\"\",$B63+1)","v":58},{"$f":"IF($B64=\"\",\"\",INDEX(Base!$B:$B,MATCH('Guia de BTC'!$B64,Base!$F:$F,0)))","v":"TOTS3<XBSP>"},"TOTS3","Totvs","Programas e serviços",29.63,{"$f":"IFERROR((_xll.ECONOMATICA(C64,\"Partic in ibovespa\")/100),\"\")","v":7.2499999999999995E-3},"ON","ON",0.87527731900000005,null,0.87527731900000005,17624884.870999999,17624884.870999999,17624884.870999999,15426661.977572542,3.2198117647364154E-2,null,496709.47726000001,850282.83140999998,"2024-06-14",0.5841697126076516,null,71597.248565000002,6.9375497971693596,null,16560.849999999999,19472.222000000002,-2911.372000000003,60154.6,4.8398160739162144E-2,null,16560.849999999999,19380.609,-0.14549382839311198,20466.457999999999,-0.19082969803568361,null,4.2900000000000001E-2,1E-3,4.0399999999999998E-2,4.3129439630000002E-2,4.3501553008999999E-3,3.9881240541999999E-2,4.4333067652999998E-2,6.4377490605000004E-3,3.9949843431999997E-2,4.6311385033000002E-2,3.5183003349999999E-2,4.2661962047999998E-2,null,-1.1674449633E-2,-1.1344678011E-2,-0.11302413544999999,6.2815670953999994E-2,2.8554560542E-2,-0.18673612116999999]
[null,{"$f":"IF($B64>=Base!$G$3,\"\",$B64+1)","v":59},{"$f":"IF($B65=\"\",\"\",INDEX(Base!$B:$B,MATCH('Guia de BTC'!$B65,Base!$F:$F,0)))","v":"VBBR3<XBSP>"},"VBBR3","Vibra","Exploração refino e distribuição",24.66,{"$f":"IFERROR((_xll.ECONOMATICA(C65,\"Partic in ibovespa\")/100),\"\")","v":1.1430000000000001E-2},"ON","ON",0.91455990080000005,null,0.91455990080000005,27504531,27504531,27504531,25154541.142910525,1.9616601229439298E-2,null,493446.60271000001,1045491.9426,"2024-04-18",0.47197551946968014,null,211112.47743,2.3373635169129945,null,19319.486000000001,15641.566000000001,3677.92,142750.5,2.5764673328639829E-2,null,19319.486000000001,18464.078000000001,4.6328227166284597E-2,17335.005000000001,0.11447824791512895,null,2.0000000000000001E-4,2.0000000000000001E-4,2.0000000000000001E-4,2.4977301096000001E-4,2.0000000000000001E-4,3.0885275726000002E-4,2.9374750005000002E-4,2.0000000000000001E-4,3.1914781376999999E-4,3.9968118037999998E-4,4.9961699710000004E-4,3.9489479301000002E-4,null,-1.1226944666999999E-2,-4.1213063762999998E-2,0.13678857112000001,0.39354595991000002,0.57693888425999995,0.13458448097]
[null,{"$f":"IF($B65>=Base!$G$3,\"\",$B65+1)","v":60},{"$f":"IF($B66=\"\",\"\",INDEX(Base!$B:$B,MATCH('Guia de BTC'!$B66,Base!$F:$F,0)))","v":"UGPA3<XBSP>"},"UGPA3","Ultrapar","Exploração refino e distribuição",22.38,{"$f":"IFERROR((_xll.ECONOMATICA(C66,\"Partic in ibovespa\")/100),\"\")","v":1.1049999999999999E-2},"ON","ON",0.97731376383000002,null,0.97731376383000002,24702352.927999999,24702352.927999999,24702352.927999999,24141949.515520699,2.0185363217941826E-2,null,487314.01976,1747865.2261999999,"2024-03-07",0.27880526052884524,null,128711.89187000001,3.7860838861120221,null,20960.692999999999,29804.151000000002,-8843.4580000000024,130103.6,6.7972431200981384E-2,null,20960.692999999999,21560.441999999999,-2.781710133771842E-2,21063.794000000002,-4.8947022554437503E-3,null,4.0000000000000002E-4,4.0000000000000002E-4,4.0000000000000002E-4,4.0000000000000002E-4,4.0000000000000002E-4,4.0000000000000002E-4,4.0000000000000002E-4,4.0000000000000002E-4,3.9309614503999998E-4,3.4994047882999998E-4,3.9899962821E-4,3.4942675667E-4,null,-3.1168831168999999E-2,-4.1952054794E-2,-0.13487657635,0.19637047266999999,0.83814998461000001,0.75946672015000005]
[null,{"$f":"IF($B66>=Base!$G$3,\"\",$B66+1)","v":61},{"$f":"IF($B67=\"\",\"\",INDEX(Base!$B:$B,MATCH('Guia de BTC'!$B67,Base!$F:$F,0)))","v":"RAIZ4<XBSP>"},"RAIZ4","Raizen","Agricultura",3.1,{"$f":"IFERROR((_xll.ECONOMATICA(C67,\"Partic in ibovespa\")/100),\"\")","v":1.6800000000000001E-3},"PN","PN",0,0.88194235288,0.11576941888,32010955.998,4130880.9874,4130880.9874,3643198.8974948134,0.13299663710460094,null,484533.20166999998,665171.14148999995,"2023-12-06",0.72843388933656006,null,43289.418826000001,11.192878417184597,null,156712.31599999999,180562.05,-23849.733999999997,363369.1,6.5635008590438748E-2,null,156712.31599999999,152843.38500000001,2.5313041843452844E-2,156380.00099999999,2.1250479465082517E-3,null,0.106,1E-3,9.4799999999999995E-2,0.10523876795000001,3.1495191838000001E-2,9.3518752556000007E-2,0.10644967153,2.0487435138999998E-3,9.6349767094000005E-2,0.12282626289,5.1749929861000001E-3,0.12058929161,null,-1.5873015874000002E-2,-3.4267912773000002E-2,-0.22457368671,-0.18517495788999999,-0.18595504376999999,-0.51279366981999996]
[null,{"$f":"IF($B67>=Base!$G$3,\"\",$B67+1)","v":62},{"$f":"IF($B68=\"\",\"\",INDEX(Base!$B:$B,MATCH('Guia de BTC'!$B68,Base!$F:$F,0)))","v":"BRKM5<XBSP>"},"BRKM5","Braskem","Petroquímicos",19.79,{"$f":"IFERROR((_xll.ECONOMATICA(C68,\"Partic in ibovespa\")/100),\"\")","v":2.3799999999999997E-3},"PNA","PN",2.8574440451000001E-2,0.76942703996999995,0.34968719210999999,15787395.685000001,6828318.4702000003,6828318.4702000003,5253892.8684984641,8.8894004816942068E-2,null,467039.57796000002,708875.33172999998,"2024-03-18",0.65884586055519334,null,62440.112261000002,7.4798004207258968,null,25486.021000000001,22063.412,3422.6090000000004,54787.7,6.2470390251826609E-2,null,25486.021000000001,25771.458999999999,-1.1075740803033196E-2,24066.338,5.8990403940973435E-2,null,6.7000000000000002E-3,1E-3,6.4999999999999997E-3,7.2412832348999999E-3,1.6533782159E-3,6.6192708481999998E-3,7.1067799613000002E-3,1.2890229287999999E-3,6.3773126549000001E-3,6.8976257511E-3,1.3209986329000001E-3,6.3689044816000002E-3,null,4.7644256219000002E-2,9.7006651883999997E-2,-9.4693504117000005E-2,-0.14735028005,-0.31117298990999998,-0.64757903648000004]
[null,{"$f":"IF($B68>=Base!$G$3,\"\",$B68+1)","v":63},{"$f":"IF($B69=\"\",\"\",INDEX(Base!$B:$B,MATCH('Guia de BTC'!$B69,Base!$F:$F,0)))","v":"IGTI11<XBSP>"},"IGTI11","Iguatemi SA","Exploração de imóveis",22.67,{"$f":"IFERROR((_xll.ECONOMATICA(C69,\"Partic in ibovespa\")/100),\"\")","v":2.1700000000000001E-3},"UNT","UN",0.28575196863000002,0.95453584274000003,0.52905483088000005,3577589.1002000002,0,3577589.1002000002,1892740.7963644427,0.24474022985596713,null,463229.81756,584685.88847999997,"2024-08-14",0.79227124629987622,null,66107.146825999997,7.0072577595772341,null,20790.276999999998,24314.955999999998,-3524.6790000000001,52728.7,6.684555090491516E-2,null,20790.276999999998,20517.215,1.3308921313150757E-2,19653.732,5.7828457211078099E-2,null,1.1999999999999999E-3,null,1.1999999999999999E-3,1.1999999999999999E-3,null,1.1310511848000001E-3,1.1999999999999999E-3,null,1.1199831837E-3,1.1999999999999999E-3,1E-3,1.1710594779000001E-3,null,1.7961383027999999E-2,2.6256224537000002E-2,-4.0492699067000003E-2,0.12195625883,0.21991779384999999]
[null,{"$f":"IF($B69>=Base!$G$3,\"\",$B69+1)","v":64},{"$f":"IF($B70=\"\",\"\",INDEX(Base!$B:$B,MATCH('Guia de BTC'!$B70,Base!$F:$F,0)))","v":"ALOS3<XBSP>"},"ALOS3","Allos","Exploração de imóveis",23.14,{"$f":"IFERROR((_xll.ECONOMATICA(C70,\"Partic in ibovespa\")/100),\"\")","v":5.2700000000000004E-3},"ON","ON",0.91968622454000004,null,0.91968622454000004,12347633.120999999,12347633.120999999,12347633.120999999,11355948.087057548,3.999969030482748E-2,null,454234.40659999999,558885.98450000002,"2024-04-16",0.81274968275752135,null,109190.6556,4.1600117162406702,null,19605.522000000001,21351.201000000001,-1745.6790000000001,72840.2,2.3965873240326088E-2,null,19605.522000000001,19300.742999999999,1.5791050116568117E-2,18981.651999999998,3.2867002303066384E-2,null,3.5999999999999999E-3,null,2.8999999999999998E-3,3.5999999999999999E-3,null,3.2030888105000002E-3,2.9837788213000001E-3,null,2.4606625746000001E-3,1.4794890223E-3,9.3559664732999995E-4,1.4767757477999999E-3,null,6.9625761534999999E-3,1.4467338886999999E-2,-7.9064662546999995E-2,4.1790933505000002E-2,0.36839816268999998,0.10919787823]
[null,{"$f":"IF($B70>=Base!$G$3,\"\",$B70+1)","v":65},{"$f":"IF($B71=\"\",\"\",INDEX(Base!$B:$B,MATCH('Guia de BTC'!$B71,Base!$F:$F,0)))","v":"RAIL3<XBSP>"},"RAIL3","Rumo S.A.","Transporte ferroviário",20.65,{"$f":"IFERROR((_xll.ECONOMATICA(C71,\"Partic in ibovespa\")/100),\"\")","v":1.1379999999999999E-2},"ON",{"$f":"LEFT(I71,2)","v":"ON"},0.69663752236999998,null,0.69663752236999998,38200698.307999998,38200698.307999998,{"$f":"IF(N71=\"\",\"\",IF(O71>1,O71,N71))","v":38200698.307999998},{"$f":"IFERROR(IF(J71=\"on\",P71*K71,IF(J71=\"pn\",P71*L71,IF(J71=\"un\",P71*M71,\"\"))),\"\")","v":26612039.822088968},{"$f":"IFERROR(T71/Q71,\"\")","v":1.6869691332618779E-2},null,448936.89753000002,1400697.669,"2024-07-16",{"$f":"IFERROR(T71/U71,\"\")","v":0.3205094914240198},null,292161.97813,{"$f":"IFERROR(T71/Y71,\"\")","v":1.5366027448316415},null,20369.252,45936.618000000002,{"$f":"IF(AB71=\"\",\"\",AB71-AC71)","v":-25567.366000000002},224789.1,0.11373934946133954,null,20369.252,19911.925999999999,{"$f":"IFERROR((AH71/AI71)-1,\"\")","v":2.2967441723116044E-2},22891.89,{"$f":"IFERROR((AH71/AK71)-1,\"\")","v":-0.1101978910435093},null,5.0000000000000001E-3,4.4000000000000003E-3,4.8999999999999998E-3,5.0000000000000001E-3,4.4000000000000003E-3,4.8158770228000003E-3,4.9287089787999998E-3,4.4000000000000003E-3,4.2482308238E-3,2.9844384713000002E-3,4.1401048797999997E-3,2.4282381003000002E-3,null,-1.431980907E-2,-5.4919908466999998E-2,-9.6074783763999999E-2,-0.12615485625,5.8812618188000002E-2,0.18876252277]
[null,{"$f":"IF($B71>=Base!$G$3,\"\",$B71+1)","v":66},{"$f":"IF($B72=\"\",\"\",INDEX(Base!$B:$B,MATCH('Guia de BTC'!$B72,Base!$F:$F,0)))","v":"MGLU3<XBSP>"},"MGLU3","Magaz Luiza","Eletrodomésticos",11.52,{"$f":"IFERROR((_xll.ECONOMATICA(C72,\"Partic in ibovespa\")/100),\"\")","v":1.8400000000000001E-3},"ON","ON",0.47828209444999997,null,0.47828209444999997,8478089.3606000002,8478089.3606000002,8478089.3606000002,4054918.3363220291,0.10842562346367407,null,439657.04871,1086006.0585,"2023-09-19",0.40483848618419099,null,218093.01777999999,2.0159152878222879,null,35599.171000000002,34665.557000000001,933.6140000000014,478381.2,{"$f":"IFERROR(ABS(AD72/AE72),\"\")","v":1.9516109746787738E-3},null,35599.171000000002,36877.421000000002,-3.4662131063883272E-2,38872.966999999997,-8.4217806168487064E-2,null,1.66E-2,1.1999999999999999E-3,1.29E-2,1.6649497799000001E-2,1.1999999999999999E-3,1.4682110884E-2,1.7144698954999999E-2,1.2046108393E-3,1.6450601238E-2,1.8064766318999999E-2,2.4365345126999998E-3,1.5300009948E-2,null,-3.0303030303000002E-2,-5.2631578948000003E-2,-0.46331558880000001,-0.55068281853000001,-0.74008109232999997,-0.93003993191000001]
[null,{"$f":"IF($B72>=Base!$G$3,\"\",$B72+1)","v":67},{"$f":"IF($B73=\"\",\"\",INDEX(Base!$B:$B,MATCH('Guia de BTC'!$B73,Base!$F:$F,0)))","v":"CURY3<XBSP>"},"CURY3","Cury S/A","Incorporações",25.52,{"$f":"IFERROR((_xll.ECONOMATICA(C73,\"Partic in ibovespa\")/100),\"\")","v":""},"ON","ON",0.45607669333,null,0.45607669333,7397847.0297999997,7397847.0297999997,7397847.0297999997,3373985.6111123459,0.12834795212930167,null,433044.14370000002,456281.55177999998,"2024-09-13",0.94907221650897677,null,45796.922565000001,9.4557476670048395,null,17745.611000000001,17405.561000000002,340.04999999999927,26533.8,1.2815729371593939E-2,null,17745.611000000001,18057.975999999999,-1.729789650844582E-2,18961.365000000002,-6.4117430364322492E-2,null,1.14E-2,null,1.11E-2,1.2035282911999999E-2,null,1.1224032272999999E-2,1.2395981713E-2,null,1.156401952E-2,1.3268775691E-2,null,1.2621103696000001E-2,null,7.8431372457999997E-4,7.1368597815000004E-2,0.51651694386000002,0.76000184429999995,1.7221228424999999,2.9317029166999999]
[null,{"$f":"IF($B73>=Base!$G$3,\"\",$B73+1)","v":68},{"$f":"IF($B74=\"\",\"\",INDEX(Base!$B:$B,MATCH('Guia de BTC'!$B74,Base!$F:$F,0)))","v":"HYPE3<XBSP>"},"HYPE3","Hypera","Medicamentos e outros produtos",28.96,{"$f":"IFERROR((_xll.ECONOMATICA(C74,\"Partic in ibovespa\")/100),\"\")","v":5.3700000000000006E-3},"ON","ON",0.66277627980999998,null,0.66277627980999998,18310177.75,18310177.75,18310177.75,12135551.491804836,3.5191082259293835E-2,null,427063.19081,950848.36886000005,"2024-07-05",0.44913911071017409,null,94977.623173999993,4.4964611298770425,null,14350.165999999999,20377.518,-6027.3520000000008,101277,5.9513532193884111E-2,null,14350.165999999999,14510.564,-1.105387771281674E-2,15470.429,-7.241318259500118E-2,null,4.5999999999999999E-3,1E-3,4.4999999999999997E-3,4.5999999999999999E-3,1E-3,4.0312440238E-3,4.5999999999999999E-3,1E-3,3.6545914005999998E-3,4.5999999999999999E-3,1E-3,3.9331795504000001E-3,null,-1.0928961748E-2,1.4716187806E-2,-0.17175993249999999,-0.21647653107000001,-0.26401461737999998,-4.0241602410999999E-2]
[null,{"$f":"IF($B74>=Base!$G$3,\"\",$B74+1)","v":69},{"$f":"IF($B75=\"\",\"\",INDEX(Base!$B:$B,MATCH('Guia de BTC'!$B75,Base!$F:$F,0)))","v":"BRAP4<XBSP>"},"BRAP4","Bradespar","Minerais metálicos",18.55,{"$f":"IFERROR((_xll.ECONOMATICA(C75,\"Partic in ibovespa\")/100),\"\")","v":2.1099999999999999E-3},"PN","PN",0.21971891738999999,0.98378168896999996,0.71557041156000001,7142920.1500000004,4732234.8499999996,4732234.8499999996,4655485.9933356941,8.7085517810678525E-2,null,405425.40839,781022.92995000002,"2024-05-02",0.51909539764210866,null,62211.439870000002,6.5168947903664716,null,21487.355,17472.261999999999,4015.0930000000008,54985,7.3021605892516148E-2,null,21487.355,21118.148000000001,1.7482925112561887E-2,20586.89,4.3739729507468184E-2,null,1.8E-3,null,1.8E-3,1.8288723598E-3,null,1.7984290927000001E-3,1.8438071573000001E-3,null,1.7288821290999999E-3,1.8959848627999999E-3,null,1.6833568268E-3,null,-1.3822434874999999E-2,-4.7252182846000003E-2,-0.23492781972999999,-9.2172553357000003E-2,4.3779789747000003E-2,0.15587772551000001]
[null,{"$f":"IF($B75>=Base!$G$3,\"\",$B75+1)","v":70},{"$f":"IF($B76=\"\",\"\",INDEX(Base!$B:$B,MATCH('Guia de BTC'!$B76,Base!$F:$F,0)))","v":"BBDC3<XBSP>"},"BBDC3","Bradesco","Bancos",13.62,{"$f":"IFERROR((_xll.ECONOMATICA(C76,\"Partic in ibovespa\")/100),\"\")","v":9.1599999999999997E-3},"ON","ON",0.27848820017999998,0.96575467274000004,0.62152604104999998,153061477.74000001,72352967.579999998,72352967.579999998,20149447.719036087,1.9987900421682952E-2,null,402745.15456,785528.16058999998,"2024-06-13",0.51270619535460493,null,78803.268087000004,5.1107671589884225,null,28847.486000000001,32353.293000000001,-3505.8070000000007,151274.20000000001,2.3175181227201996E-2,null,28847.486000000001,29447.018,-2.0359684637677011E-2,27796.598999999998,3.7806315801440338E-2,null,1E-4,null,1E-4,1E-4,null,1E-4,1.2631805885000001E-4,5.0000000000000001E-4,1.2897718891000001E-4,3.6128538033E-4,5.0000000000000001E-4,3.7895670126999998E-4,null,-1.1611030478E-2,-3.5588520475000003E-2,-6.8243615135999997E-2,0.13288450469999999,1.6887012505E-2,5.346184876E-2]
[null,{"$f":"IF($B76>=Base!$G$3,\"\",$B76+1)","v":71},{"$f":"IF($B77=\"\",\"\",INDEX(Base!$B:$B,MATCH('Guia de BTC'!$B77,Base!$F:$F,0)))","v":"TRPL4<XBSP>"},"TRPL4","Tran Paulist","Energia elétrica",24.67,{"$f":"IFERROR((_xll.ECONOMATICA(C77,\"Partic in ibovespa\")/100),\"\")","v":4.4200000000000003E-3},"PN","PN",0.10499006791,0.98716901156000003,0.64181614775999996,18088588.384,9891327.2612999994,9891327.2612999994,9764411.7555540018,3.945686856157582E-2,null,385273.11122000002,2070275.9587999999,"2024-07-19",0.18609746666010507,null,49540.866000000002,7.7768747768761246,null,15521.919,14389.947,1131.9719999999998,109377.4,1.0349231194012655E-2,null,15521.919,15626.553,-6.69591048006557E-3,15294.013999999999,1.490158175610401E-2,null,3.3E-3,1E-3,2.8999999999999998E-3,3.4500448997999999E-3,1E-3,2.9649097555000002E-3,3.4742021094999998E-3,1E-3,2.8868359878000001E-3,3.7100270235999998E-3,1E-3,3.0308592491999999E-3,null,8.1135902655999996E-4,-1.6187778218999999E-3,-6.9056603773000005E-2,0.12260472432,0.22225555355000001,0.20479894621]
[null,{"$f":"IF($B77>=Base!$G$3,\"\",$B77+1)","v":72},{"$f":"IF($B78=\"\",\"\",INDEX(Base!$B:$B,MATCH('Guia de BTC'!$B78,Base!$F:$F,0)))","v":"CSMG3<XBSP>"},"CSMG3","Copasa","Água e saneamento",25.61,{"$f":"IFERROR((_xll.ECONOMATICA(C78,\"Partic in ibovespa\")/100),\"\")","v":""},"ON","ON",0.49562360796999999,null,0.49562360796999999,9710825.4100000001,9710825.4100000001,9710825.4100000001,4812914.3260709541,7.8844752096342563E-2,null,379473.03690000001,379473.03690000001,"2024-09-18",1,null,31139.730391000001,12.186137520627835,null,15770.196,10871.486999999999,4898.7090000000007,41240.5,0.11878393811908199,null,15770.196,15794.843000000001,-1.5604460265924436E-3,16004.962,-1.4668325985403796E-2,null,5.9999999999999995E-4,null,5.9999999999999995E-4,5.9999999999999995E-4,null,2.8544660849E-4,6.6084268769000002E-4,null,4.2066395548000002E-4,7.4203324966000005E-4,null,4.6256670558E-4,null,9.0652948893E-4,9.4583278876999993E-2,0.39609313173999999,0.64364122063999996,1.4630259789,1.4404639001999999]
[null,{"$f":"IF($B78>=Base!$G$3,\"\",$B78+1)","v":73},{"$f":"IF($B79=\"\",\"\",INDEX(Base!$B:$B,MATCH('Guia de BTC'!$B79,Base!$F:$F,0)))","v":"USIM5<XBSP>"},"USIM5","Usiminas","Siderurgia",6.26,{"$f":"IFERROR((_xll.ECONOMATICA(C79,\"Partic in ibovespa\")/100),\"\")","v":1.4599999999999999E-3},"PNA","PN",0.22831529767,0.94056613911999998,0.53969558559999997,7593496.1634999998,3306186.0904999999,3306186.0904999999,3109686.6863538316,0.11939543905155792,null,371282.40723000001,720374.76301,"2024-03-18",0.51540174128066452,null,86504.236130000005,4.2920719705799222,null,60505.000999999997,56533.947999999997,3971.0529999999999,482258.5,8.2342830660320134E-3,null,60505.000999999997,63360.33,-4.5064932584789386E-2,61443.216999999997,-1.5269643189418258E-2,null,1.1999999999999999E-3,null,1.1999999999999999E-3,1.1999999999999999E-3,1.1467109326000001E-3,1.1603211958000001E-3,1.1999999999999999E-3,1.1467109326000001E-3,1.0740864127E-3,1.1513013231999999E-3,1.1467109326000001E-3,1.079434111E-3,null,2.7914614122000001E-2,4.8154093092000003E-3,-0.30291627535999999,-4.7660617369999998E-2,-0.11249542293000001,-0.47941178332000001]
[null,{"$f":"IF($B79>=Base!$G$3,\"\",$B79+1)","v":74},{"$f":"IF($B80=\"\",\"\",INDEX(Base!$B:$B,MATCH('Guia de BTC'!$B80,Base!$F:$F,0)))","v":"RECV3<XBSP>"},"RECV3","Petrorecsa","Exploração refino e distribuição",18.77,{"$f":"IFERROR((_xll.ECONOMATICA(C80,\"Partic in ibovespa\")/100),\"\")","v":2.3400000000000001E-3},"ON","ON",0.93950324966999998,null,0.93950324966999998,5503825.3290999997,5503825.3290999997,5503825.3290999997,5170861.782305507,6.9986580671789964E-2,null,361890.93527000002,877565.88372000004,"2024-04-04",0.41238036024821867,null,37815.277695999997,9.5699663553781047,null,18366.909,15316.174999999999,3050.7340000000004,41392.800000000003,7.3702044800061844E-2,null,18366.909,17912.823,2.5349773176455814E-2,16694.986000000001,0.10014521725265291,null,7.4999999999999997E-3,1E-3,5.8999999999999999E-3,7.4999999999999997E-3,1E-3,1.1371621368E-2,7.7917769882000004E-3,1E-3,1.0773772248E-2,8.2176459590999999E-3,1E-3,8.4806546476000003E-3,null,-3.7154989386E-3,-7.9901960785000004E-2,-6.9569116498999994E-2,-7.2923850292000006E-2,-0.19053337523,0.26309311848]
[null,{"$f":"IF($B80>=Base!$G$3,\"\",$B80+1)","v":75},{"$f":"IF($B81=\"\",\"\",INDEX(Base!$B:$B,MATCH('Guia de BTC'!$B81,Base!$F:$F,0)))","v":"COGN3<XBSP>"},"COGN3","Cogna ON","Serviços educacionais",1.44,{"$f":"IFERROR((_xll.ECONOMATICA(C81,\"Partic in ibovespa\")/100),\"\")","v":1.2199999999999999E-3},"ON","ON",0.99778771807,null,0.99778771807,2695195.2355,2695195.2355,2695195.2355,2689232.7037826814,0.13195522174070523,null,354858.29774000001,439455.53888000001,"2024-06-14",0.80749533535154605,null,49678.287347999998,7.1431266390926877,null,214915.39,237544.84599999999,-22629.455999999976,848796,2.6660653443230146E-2,null,214915.39,214691.223,1.0441367693918568E-3,218663.79800000001,-1.7142334644713375E-2,null,6.6E-3,7.1000000000000004E-3,7.0000000000000001E-3,6.9497692086999997E-3,7.1000000000000004E-3,4.7487217708000002E-3,6.3965293142999998E-3,7.1000000000000004E-3,4.8411900129999999E-3,6.6092995925000004E-3,1.0230658499999999E-3,5.7762880871999999E-3,null,-3.3557046979999998E-2,5.1094890509999998E-2,-0.58739255014000002,-0.48754448399,-0.4375,-0.51515151515000002]
[null,{"$f":"IF($B81>=Base!$G$3,\"\",$B81+1)","v":76},{"$f":"IF($B82=\"\",\"\",INDEX(Base!$B:$B,MATCH('Guia de BTC'!$B82,Base!$F:$F,0)))","v":"CPFE3<XBSP>"},"CPFE3","CPFL Energia","Energia elétrica",33.75,{"$f":"IFERROR((_xll.ECONOMATICA(C82,\"Partic in ibovespa\")/100),\"\")","v":2.8699999999999997E-3},"ON","ON",0.16292628736000001,null,0.16292628736000001,38888587.350000001,38888587.350000001,38888587.350000001,6335973.1576105617,5.2680477509452824E-2,null,333782.09142999997,528059.99343999999,"2024-06-05",0.63209123125500599,null,55687.996348000001,5.9937888471361305,null,9854.4760000000006,10467.870999999999,-613.39499999999862,30374.799999999999,2.0194207040046309E-2,null,9854.4760000000006,9659.2180000000008,2.021467990472936E-2,9809.6669999999995,4.5678410898148947E-3,null,2E-3,null,1.9E-3,2E-3,null,1.8995343677999999E-3,2E-3,null,1.8071252543E-3,1.7190703742E-3,1E-3,1.5011982064E-3,null,-7.9365079373000004E-3,-9.9735992972000004E-3,-4.8616015126999999E-2,2.5407144066999999E-2,0.15068170306000001,0.62260190146000005]
[null,{"$f":"IF($B82>=Base!$G$3,\"\",$B82+1)","v":77},{"$f":"IF($B83=\"\",\"\",INDEX(Base!$B:$B,MATCH('Guia de BTC'!$B83,Base!$F:$F,0)))","v":"FLRY3<XBSP>"},"FLRY3","Fleury","Serviços médico-hospitalares análises e diagnósticos",16.61,{"$f":"IFERROR((_xll.ECONOMATICA(C83,\"Partic in ibovespa\")/100),\"\")","v":3.4899999999999996E-3},"ON","ON",0.84873586724000005,null,0.84873586724000005,9062245.5647999998,9062245.5647999998,9062245.5647999998,7691452.8485823721,4.3134856538989137E-2,null,331769.71519999998,396377.62779,"2023-12-12",0.83700413933495477,null,51187.460913000003,6.4814645868816854,null,20442.401000000002,22308.126,-1865.7249999999985,58430.7,3.193056047591418E-2,null,20442.401000000002,20442.249,7.4355810850690318E-6,20047.314999999999,1.9707676564168386E-2,null,5.9999999999999995E-4,5.9999999999999995E-4,5.9999999999999995E-4,5.9999999999999995E-4,5.9999999999999995E-4,5.9427896069999997E-4,5.9999999999999995E-4,5.9999999999999995E-4,5.7784110319E-4,5.9999999999999995E-4,5.9999999999999995E-4,5.8424563655999997E-4,null,3.0193236706999999E-3,4.1379310342999999E-2,-4.9976273043000001E-2,0.18763351383999999,0.11801393290999999,-0.16970737382000001]
[null,{"$f":"IF($B83>=Base!$G$3,\"\",$B83+1)","v":78},{"$f":"IF($B84=\"\",\"\",INDEX(Base!$B:$B,MATCH('Guia de BTC'!$B84,Base!$F:$F,0)))","v":"EZTC3<XBSP>"},"EZTC3","Eztec","Incorporações",14.86,{"$f":"IFERROR((_xll.ECONOMATICA(C84,\"Partic in ibovespa\")/100),\"\")","v":6.6E-4},"ON","ON",0.44045135564999999,null,0.44045135564999999,3241347.9465999999,3241347.9465999999,3241347.9465999999,1427656.0972133137,0.23199432371458045,null,331208.11077000003,457278.28333000001,"2023-09-20",0.72430317127257926,null,22611.731651999999,14.647622564577215,null,23347.313999999998,24202.208999999999,-854.89500000000044,44084.5,1.9392189998752404E-2,null,23347.313999999998,23440.407999999999,-3.9715179019068625E-3,23437.98,-3.8683367764628107E-3,null,2.3199999999999998E-2,2.35E-2,2.35E-2,2.3856019624E-2,2.3001735034999998E-2,2.3059668759E-2,2.4326732140000001E-2,6.6735802626999999E-3,2.2544446594000001E-2,1.6422984633000001E-2,4.6439158317999997E-3,1.489610779E-2,null,-6.7249495622999996E-4,5.4648687012E-2,-0.19187086741000001,-0.30097686883000002,-0.20115903687,-0.37437541442]
[null,{"$f":"IF($B84>=Base!$G$3,\"\",$B84+1)","v":79},{"$f":"IF($B85=\"\",\"\",INDEX(Base!$B:$B,MATCH('Guia de BTC'!$B85,Base!$F:$F,0)))","v":"VIVA3<XBSP>"},"VIVA3","Vivara S.A.","Acessórios",28.69,{"$f":"IFERROR((_xll.ECONOMATICA(C85,\"Partic in ibovespa\")/100),\"\")","v":1.64E-3},"ON","ON",0.53110609610000004,null,0.53110609610000004,6741450.1074999999,6741450.1074999999,6741450.1074999999,3580425.2486472507,8.9797943680425693E-2,null,321514.82483,411293.20948000002,"2024-08-16",0.78171683222412724,null,86529.022391000006,3.7156877073817625,null,11750.72,16820.813999999998,-5070.0939999999991,77739.199999999997,6.5219271615864313E-2,null,11750.72,11979.939,-1.9133569878778234E-2,12658.268,-7.1696064580083152E-2,null,1.5E-3,1.5E-3,1.1000000000000001E-3,1.5E-3,1.5E-3,8.2365147207999999E-4,1.7775287345000001E-3,1.6475692304999999E-3,1.1813955546000001E-3,1.9138689319000001E-3,2.1370282692999999E-3,1.5982053864E-3,null,8.7904360061999993E-3,8.5919757759000001E-2,-0.14852054381999999,6.9815530966999995E-2,0.19607849904999999,-1.5881525168E-2]
[null,{"$f":"IF($B85>=Base!$G$3,\"\",$B85+1)","v":80},{"$f":"IF($B86=\"\",\"\",INDEX(Base!$B:$B,MATCH('Guia de BTC'!$B86,Base!$F:$F,0)))","v":"GGPS3<XBSP>"},"GGPS3","Gps","Serviços diversos",19.25,{"$f":"IFERROR((_xll.ECONOMATICA(C86,\"Partic in ibovespa\")/100),\"\")","v":""},"ON","ON",0.58620621420999997,null,0.58620621420999997,12990953.571,12990953.571,12990953.571,7615377.7118337899,3.9899964194531311E-2,null,303853.29803000001,337095.36066000001,"2024-06-03",0.90138676911804638,null,46492.169564999997,6.5355800960242849,null,16722.585999999999,10445.156000000001,6277.4299999999985,50017.2,0.12550542613341009,null,16722.585999999999,16070.64,4.056751940184089E-2,15801.213,5.8310270230519601E-2,null,1.9E-3,1.8E-3,1.8E-3,1.8800353996E-3,1.8E-3,1.7133513929E-3,1.8844251111E-3,1.8E-3,1.6935542164E-3,1.9491427520000001E-3,1.8616187106999999E-3,1.7432190759000001E-3,null,1.1029411764E-2,6.6481994461000005E-2,3.7616615524000002E-2,7.5265156824000007E-2,0.52409735082999998,0.19224080457000001]
[null,{"$f":"IF($B86>=Base!$G$3,\"\",$B86+1)","v":81},{"$f":"IF($B87=\"\",\"\",INDEX(Base!$B:$B,MATCH('Guia de BTC'!$B87,Base!$F:$F,0)))","v":"ENGI11<XBSP>"},"ENGI11","Energisa","Energia elétrica",48.19,{"$f":"IFERROR((_xll.ECONOMATICA(C87,\"Partic in ibovespa\")/100),\"\")","v":7.1199999999999996E-3},"UNT N2","UN",0.36904742377999999,0.93047163687000001,0.71290033491000004,24519729.057999998,0,24519729.057999998,17480123.057350658,1.7121949682965328E-2,null,299293.78743999999,1106996.6969000001,"2024-01-22",0.2703655650266466,null,129759.06826,2.3065346526710639,null,6236.1869999999999,8607.1589999999997,-2370.9719999999998,71672.2,3.3080776088915922E-2,null,6236.1869999999999,6316.6570000000002,-1.2739333479718784E-2,6239.5230000000001,-5.3465625497339797E-4,null,2.9999999999999997E-4,null,2.0000000000000001E-4,3.7460025142E-4,null,3.3218038331000001E-4,4.3556931078999998E-4,null,3.7745175575999999E-4,5.8505550406000003E-4,null,5.8409381009000001E-4,null,-3.5153019016000001E-3,1.8600718664E-2,-6.7860165425999999E-2,-8.5449432117000001E-4,0.19385939868999999,0.30149949314000002]
[null,{"$f":"IF($B87>=Base!$G$3,\"\",$B87+1)","v":82},{"$f":"IF($B88=\"\",\"\",INDEX(Base!$B:$B,MATCH('Guia de BTC'!$B88,Base!$F:$F,0)))","v":"AESB3<XBSP>"},"AESB3","AES Brasil","Energia elétrica",11.67,{"$f":"IFERROR((_xll.ECONOMATICA(C88,\"Partic in ibovespa\")/100),\"\")","v":""},"ON","ON",0.52495985256,null,0.52495985256,7049259.8706,7049259.8706,7049259.8706,3700578.4223273005,7.8670604796130736E-2,null,291126.74258000002,635883.37864000001,"2024-06-18",0.45783040154729215,null,41403.248217,7.0314952356917884,null,25376.67,23731.724999999999,1644.9449999999997,61860.9,2.6591029228478728E-2,null,25376.67,27750.788,-8.5551372451117547E-2,28826.062999999998,-0.1196623000511724,null,2.0999999999999999E-3,2.0999999999999999E-3,2.0999999999999999E-3,2.0999999999999999E-3,2.0999999999999999E-3,2.0678338808999999E-3,2.0999999999999999E-3,2.0999999999999999E-3,1.9954188152999999E-3,1.9892759208999999E-3,2.0999999999999999E-3,1.9142423268000001E-3,null,1.7167381975000001E-3,1.9213973799E-2,-4.5098782406000001E-2,2.1213802149E-2,0.20552430893000001,-0.12112324161]
[null,{"$f":"IF($B88>=Base!$G$3,\"\",$B88+1)","v":83},{"$f":"IF($B89=\"\",\"\",INDEX(Base!$B:$B,MATCH('Guia de BTC'!$B89,Base!$F:$F,0)))","v":"SANB11<XBSP>"},"SANB11","Santander BR","Bancos",30.4,{"$f":"IFERROR((_xll.ECONOMATICA(C89,\"Partic in ibovespa\")/100),\"\")","v":4.9100000000000003E-3},"UNT","UN",9.345713471E-2,0.10454923039,9.8900392650000002E-2,113342376.28,0,113342376.28,11209605.517976047,2.5946462456112766E-2,null,290849.60872000002,882008.66630000004,"2023-10-26",0.32975822101624624,null,56514.913087000001,5.146422295160594,null,9558.9380000000001,9859.8410000000003,-300.90300000000025,59275.4,5.0763554526835793E-3,null,9558.9380000000001,9603.6890000000003,-4.6597718855744263E-3,9538.5820000000003,2.13406982295683E-3,null,3.5000000000000001E-3,3.5000000000000001E-3,3.0999999999999999E-3,3.5000000000000001E-3,3.5000000000000001E-3,3.0378994052E-3,3.5790394968999999E-3,3.5313190862E-3,3.0989575545E-3,3.0342680078999998E-3,3.3143925259999998E-3,2.7181214875999999E-3,null,-8.4801043703999993E-3,-3.1847133758000003E-2,-1.8241234966999999E-2,0.21491307165000001,0.15987722906999999,6.5146965333000004E-2]
[null,{"$f":"IF($B89>=Base!$G$3,\"\",$B89+1)","v":84},{"$f":"IF($B90=\"\",\"\",INDEX(Base!$B:$B,MATCH('Guia de BTC'!$B90,Base!$F:$F,0)))","v":"PETZ3<XBSP>"},"PETZ3","Petz","Produtos diversos",4.67,{"$f":"IFERROR((_xll.ECONOMATICA(C90,\"Partic in ibovespa\")/100),\"\")","v":6.4999999999999997E-4},"ON","ON",0.66532711672,null,0.66532711672,2105812.6842999998,2105812.6842999998,2105812.6842999998,1401054.2815977226,0.19835902869735875,null,277911.76645,420945.55884000001,"2023-09-21",0.66020833481612595,null,94783.340739000007,2.932073972949226,null,58578.535000000003,89839.156000000003,-31260.620999999999,273708.3,0.11421144700398198,null,58578.535000000003,57497.370999999999,1.8803711912323884E-2,51301.824000000001,0.14184117508180605,null,0.22370000000000001,null,0.1474,0.19509706838999999,null,0.16764507701,0.19046086914999999,null,0.16858575141000001,0.23874934232,0.35,0.20428220486000001,null,-1.0593220339E-2,-3.9094650207000002E-2,0.18297570693000001,-0.15195026453999999,-0.53537566866999997,-0.82405240658000001]
[null,{"$f":"IF($B90>=Base!$G$3,\"\",$B90+1)","v":85},{"$f":"IF($B91=\"\",\"\",INDEX(Base!$B:$B,MATCH('Guia de BTC'!$B91,Base!$F:$F,0)))","v":"YDUQ3<XBSP>"},"YDUQ3","Yduqs Part","Serviços educacionais",10.82,{"$f":"IFERROR((_xll.ECONOMATICA(C91,\"Partic in ibovespa\")/100),\"\")","v":1.4199999999999998E-3},"ON","ON",0.93827539901000001,null,0.93827539901000001,3163335.2,3163335.2,3163335.2,2968079.5969823785,9.2291165428481037E-2,null,273927.52509000001,551182.14081999997,"2024-05-14",0.49698185917721299,null,54937.062913000002,4.9862062251817125,null,25957.762999999999,31012.675999999999,-5054.9130000000005,83871.399999999994,6.0269805917154126E-2,null,25957.762999999999,26957.651999999998,-3.7091101257631709E-2,25012.825000000001,3.7778139814275136E-2,null,3.27E-2,1E-3,2.1399999999999999E-2,3.4303417544000001E-2,1E-3,2.9314064013000001E-2,3.4813618008000001E-2,1E-3,3.2869682842000002E-2,3.7729530290999999E-2,1E-3,3.4222146368999999E-2,null,-2.6978417264999999E-2,9.8477157359999998E-2,-0.50876000518999998,-0.48073546988999999,3.4336654078000003E-2,-0.54032456254000005]
[null,{"$f":"IF($B91>=Base!$G$3,\"\",$B91+1)","v":86},{"$f":"IF($B92=\"\",\"\",INDEX(Base!$B:$B,MATCH('Guia de BTC'!$B92,Base!$F:$F,0)))","v":"SIMH3<XBSP>"},"SIMH3","Simpar","Holdings diversificadas",5.87,{"$f":"IFERROR((_xll.ECONOMATICA(C92,\"Partic in ibovespa\")/100),\"\")","v":""},"ON","ON",0.2600453466,null,0.2600453466,5060404.1936999997,5060404.1936999997,5060404.1936999997,1315934.5624868099,0.20635100137262469,null,271544.41470999998,280061.50092000002,"2024-09-16",0.96958851472972374,null,19303.578303999999,14.067050700839843,null,43418.142999999996,39095.957999999999,4322.1849999999977,77565.399999999994,5.5723105920938952E-2,null,43418.142999999996,43437.595999999998,-4.4783785916702179E-4,43294.906000000003,2.8464549616991075E-3,null,1.3899999999999999E-2,null,1.4E-2,1.3836784982E-2,null,1.166274793E-2,1.3955269120000001E-2,null,8.4912694217000005E-3,1.3345188035E-2,1.21E-2,1.0315605187000001E-2,null,-2.1666666667000001E-2,-4.8622366287E-2,-0.39044652129000001,-0.36540540539999999,-0.43275344859999998,-0.54471481055000004]
[null,{"$f":"IF($B92>=Base!$G$3,\"\",$B92+1)","v":87},{"$f":"IF($B93=\"\",\"\",INDEX(Base!$B:$B,MATCH('Guia de BTC'!$B93,Base!$F:$F,0)))","v":"IRBR3<XBSP>"},"IRBR3","Irbbrasil Re","Resseguradoras",46.12,{"$f":"IFERROR((_xll.ECONOMATICA(C93,\"Partic in ibovespa\")/100),\"\")","v":1.7100000000000001E-3},"ON","ON",0.99483646423000005,0,0.99483645214000005,3774593.9484000001,3774593.9023000002,3774593.9023000002,3755103.6516682506,7.076508072738448E-2,null,265730.21305000002,721536.36375999998,"2023-09-29",0.36828388200042012,null,95208.449435000002,2.7910360333240942,null,5615.3360000000002,11862.776,-6247.44,39534.5,0.15802501612515649,null,5615.3360000000002,5769.0879999999997,-2.6651006190233084E-2,5508.393,1.9414555206936024E-2,null,2E-3,null,1.9E-3,2.1525046525000002E-3,2.3E-3,1.7089358965999999E-3,2.2654713086999998E-3,2.3E-3,2.0307008154E-3,3.2538119289999999E-3,3.0504299294999999E-3,2.7800186004000001E-3,null,-1.0088001718000001E-2,-4.6713517981999998E-2,4.1083521444000001E-2,0.13039215686,0.28111111110999998,-0.70321750321999998]
[null,{"$f":"IF($B93>=Base!$G$3,\"\",$B93+1)","v":88},{"$f":"IF($B94=\"\",\"\",INDEX(Base!$B:$B,MATCH('Guia de BTC'!$B94,Base!$F:$F,0)))","v":"DXCO3<XBSP>"},"DXCO3","Dexco","Madeira",7.95,{"$f":"IFERROR((_xll.ECONOMATICA(C94,\"Partic in ibovespa\")/100),\"\")","v":""},"ON","ON",0.36774693629999999,null,0.36774693629999999,6426493.7999999998,6426493.7999999998,6426493.7999999998,2363323.4061009446,0.10875947531618586,null,257033.81365,291270.70251999999,"2024-09-02",0.88245680539171589,null,24879.828477999999,10.331012284802616,null,32058.611000000001,36718,-4659.3889999999992,74458.5,6.2576992552898586E-2,null,32058.611000000001,31447.045999999998,1.9447454619426097E-2,31571.716,1.5421873172810852E-2,null,1.32E-2,1.3599999999999999E-2,1.3599999999999999E-2,1.3447097297000001E-2,1.3599999999999999E-2,1.1605287366E-2,1.3558400341000001E-2,1.3599999999999999E-2,1.2062629183999999E-2,1.3665708996E-2,1.3599999999999999E-2,1.3132459233E-2,null,-1.6089108912000001E-2,-3.1668696713000002E-2,-6.3749341543000004E-3,1.6050516758999999E-2,-6.5658484884000001E-2,-0.39339747986000001]
[null,{"$f":"IF($B94>=Base!$G$3,\"\",$B94+1)","v":89},{"$f":"IF($B95=\"\",\"\",INDEX(Base!$B:$B,MATCH('Guia de BTC'!$B95,Base!$F:$F,0)))","v":"SMTO3<XBSP>"},"SMTO3","Sao Martinho","Açúcar e álcool",26.75,{"$f":"IFERROR((_xll.ECONOMATICA(C95,\"Partic in ibovespa\")/100),\"\")","v":1.7299999999999998E-3},"ON","ON",0.37020004782999999,null,0.37020004782999999,9002024.7842999995,9002024.7842999995,9002024.7842999995,3332550.0057147052,7.6791487461901328E-2,null,255911.47198,503539.19095000002,"2024-06-06",0.50822552957037115,null,44975.415000000001,5.6900302527503079,null,9310.2960000000003,7691.7089999999998,1618.5870000000004,29393.1,5.506690345693379E-2,null,9310.2960000000003,8231.0619999999999,0.13111722399855585,7760.6310000000003,0.19968286083953735,null,5.1999999999999998E-3,5.1999999999999998E-3,5.1999999999999998E-3,5.1999999999999998E-3,5.1999999999999998E-3,4.9023312522999997E-3,5.4273338125999998E-3,5.1999999999999998E-3,5.1668384145000003E-3,6.1314088548000004E-3,5.1999999999999998E-3,5.3971545298000002E-3,null,2.5690184049E-2,-3.4992784993000001E-2,-6.0919748496000001E-2,-0.32422189611000002,6.3379204541000003E-2,-2.5786849151000001E-2]
[null,{"$f":"IF($B95>=Base!$G$3,\"\",$B95+1)","v":90},{"$f":"IF($B96=\"\",\"\",INDEX(Base!$B:$B,MATCH('Guia de BTC'!$B96,Base!$F:$F,0)))","v":"BOVB11<XBSP>"},"BOVB11","Etf Brad Bov","-",135.88999999999999,{"$f":"IFERROR((_xll.ECONOMATICA(C96,\"Partic in ibovespa\")/100),\"\")","v":""},null,"",null,null,null,null,null,"","","",null,249523.20045,358214.48957999999,"2024-02-19",0.69657483912100104,null,5591.1363412999999,44.628351951793604,null,1828.6289999999999,1837.866,-9.23700000000008,393.48599999999999,2.3474786904743954E-2,null,1828.6289999999999,1828.6289999999999,0,1828.59,2.1327908388490968E-5,null,3.5999999999999999E-3,null,null,3.5999999999999999E-3,null,null,3.5999999999999999E-3,null,1.5E-3,3.5999999999999999E-3,3.5999999999999999E-3,1.5000196415E-3,null,-7.6675916462000003E-3,-1.5289855073E-2,-5.1485731183000005E-4,0.13544451871999999,0.23705052343999999,0.21645331662]
[null,{"$f":"IF($B96>=Base!$G$3,\"\",$B96+1)","v":91},{"$f":"IF($B97=\"\",\"\",INDEX(Base!$B:$B,MATCH('Guia de BTC'!$B97,Base!$F:$F,0)))","v":"AZUL4<XBSP>"},"AZUL4","Azul","Transporte aéreo",5.62,{"$f":"IFERROR((_xll.ECONOMATICA(C97,\"Partic in ibovespa\")/100),\"\")","v":8.4000000000000003E-4},"PN","PN",0.32999994710000002,0.97355541339999996,0.50084801498999998,1953469.4509999999,1883859.007,1883859.007,1834041.1343471983,0.13567445923647101,null,248832.53912,595273.23453999998,"2024-03-19",0.41801398867242273,null,207564.62361000001,1.1988196003358436,null,43885.476000000002,58429.821000000004,-14544.345000000001,401234,3.6249034229402295E-2,null,43885.476000000002,45197.8,-2.9035130028452705E-2,57083.307000000001,-0.23120298548926044,null,0.51639999999999997,1E-3,0.314,0.51705727701000004,1E-3,0.31688476518999997,0.52094799104,1E-3,0.33906980117000002,0.50449516149999996,2.6747695536E-2,0.42697343276999999,null,-0.10079999999,4.2671614100999997E-2,-0.64896939412999999,-0.59684361549999998,-0.66547619047999995,-0.83831990794]
[null,{"$f":"IF($B97>=Base!$G$3,\"\",$B97+1)","v":92},{"$f":"IF($B98=\"\",\"\",INDEX(Base!$B:$B,MATCH('Guia de BTC'!$B98,Base!$F:$F,0)))","v":"STBP3<XBSP>"},"STBP3","Santos Brp","Serviços de apoio e armazenagem",13.32,{"$f":"IFERROR((_xll.ECONOMATICA(C98,\"Partic in ibovespa\")/100),\"\")","v":5.1600000000000005E-3},"ON","ON",0.99021287085999998,null,0.99021287085999998,11507987.16,11507987.16,11507987.16,11395357.003523618,2.1408792908775353E-2,null,243960.83820999999,286593.12348000001,"2024-07-24",0.85124456319003361,null,83655.025957000005,2.9162723389195966,null,18579.984,16057.902,2522.0820000000003,98102.9,2.57085366487637E-2,null,18579.984,18433.223999999998,7.9617108759706401E-3,18753.719000000001,-9.2640291773594674E-3,null,1.9E-3,1.8E-3,1.6000000000000001E-3,1.9E-3,1.8E-3,1.5963327917999999E-3,1.9E-3,1.8E-3,1.7303236855000001E-3,2.1754251804999999E-3,1.8E-3,1.9350312866999999E-3,null,-1.7699115043999999E-2,2.4615384616000002E-2,0.4781464259,0.54410685763,0.73015443116000001,1.2126974070000001]
[null,{"$f":"IF($B98>=Base!$G$3,\"\",$B98+1)","v":93},{"$f":"IF($B99=\"\",\"\",INDEX(Base!$B:$B,MATCH('Guia de BTC'!$B99,Base!$F:$F,0)))","v":"MRFG3<XBSP>"},"MRFG3","Marfrig","Carnes e derivados",13.9,{"$f":"IFERROR((_xll.ECONOMATICA(C99,\"Partic in ibovespa\")/100),\"\")","v":1.9E-3},"ON","ON",0.33335527152,null,0.33335527152,12516854.062000001,12516854.062000001,12516854.062000001,4172559.2844142253,5.7944249011177867E-2,null,241775.81419,531593.20672000002,"2023-09-28",0.45481358891282408,null,75949.157999999996,3.1833903173752107,null,17496.652999999998,17931.115000000002,-434.46200000000317,112064.6,3.8768888658863116E-3,null,17496.652999999998,17546.953000000001,-2.8665945591809239E-3,17137.356,2.0965719566075292E-2,null,3.8E-3,null,2.0999999999999999E-3,3.9511111810999998E-3,null,2.5841215872E-3,4.2841120077E-3,1E-3,2.3769099122E-3,5.0795991465000002E-3,1.0023978699E-3,3.1295845110000001E-3,null,-5.4421768707000003E-2,-4.5329670330000002E-2,0.43298969071999999,0.94950911641000002,0.28524720012999999,-0.1481895594]
[null,{"$f":"IF($B99>=Base!$G$3,\"\",$B99+1)","v":94},{"$f":"IF($B100=\"\",\"\",INDEX(Base!$B:$B,MATCH('Guia de BTC'!$B100,Base!$F:$F,0)))","v":"AMBP3<XBSP>"},"AMBP3","Ambipar","Água e saneamento",69.83,{"$f":"IFERROR((_xll.ECONOMATICA(C100,\"Partic in ibovespa\")/100),\"\")","v":""},"ON","ON",0.24569756221,null,0.24569756221,11344736.054,11344736.054,11344736.054,2787373.9923836947,8.5846516948867746E-2,null,239286.34868,357993.88036000001,"2024-08-14",0.66840904777303101,null,31393.359521999999,7.6221962963954741,null,3495.3649999999998,4441.4719999999998,-946.10699999999997,100388.8,9.4244278246178852E-3,null,3495.3649999999998,3578.03,-2.3103495498919879E-2,3544.1509999999998,-1.3765214856816255E-2,null,0.94620000000000004,1E-3,7.85E-2,0.72862488852999996,1E-3,0.32769383017999998,0.66637547266999997,1E-3,0.25974254682999998,0.79851512646,1.9336719935E-3,0.46105510361000002,null,4.8927903298999998E-3,-2.0067358968E-2,3.2972307692,2.2120515179,1.4174426412000001,0.24492437292999999]
[null,{"$f":"IF($B100>=Base!$G$3,\"\",$B100+1)","v":95},{"$f":"IF($B101=\"\",\"\",INDEX(Base!$B:$B,MATCH('Guia de BTC'!$B101,Base!$F:$F,0)))","v":"DIRR3<XBSP>"},"DIRR3","Direcional","Incorporações",32.799999999999997,{"$f":"IFERROR((_xll.ECONOMATICA(C101,\"Partic in ibovespa\")/100),\"\")","v":""},"ON","ON",0.63300561382999998,null,0.63300561382999998,5682942.9239999996,5682942.9239999996,5682942.9239999996,3597334.7739674747,6.5895920945539255E-2,null,237049.68788000001,514029.83055999997,"2024-07-09",0.46115939929352107,null,55227.531390999997,4.2922376197070102,null,7341.5020000000004,6955.2430000000004,386.25900000000001,35208.9,1.0970493255966531E-2,null,7341.5020000000004,6990.8370000000004,5.01606603043383E-2,6334.25,0.15901677388798996,null,1.67E-2,1.67E-2,1.5699999999999999E-2,1.7964483712E-2,1.67E-2,1.4373459555000001E-2,1.8982882687000002E-2,1.67E-2,1.4633041408E-2,3.3363279156E-2,5.1814147259999999E-2,2.56369493E-2,null,-9.1379835429999999E-4,0.14965709134999999,0.57284615964999996,0.82624398046000003,1.5061451406999999,2.2574979677]
[null,{"$f":"IF($B101>=Base!$G$3,\"\",$B101+1)","v":96},{"$f":"IF($B102=\"\",\"\",INDEX(Base!$B:$B,MATCH('Guia de BTC'!$B102,Base!$F:$F,0)))","v":"PSSA3<XBSP>"},"PSSA3","Porto Seguro","Seguradoras",35.799999999999997,{"$f":"IFERROR((_xll.ECONOMATICA(C102,\"Partic in ibovespa\")/100),\"\")","v":""},"ON","ON",0.28234555196,null,0.28234555196,22973072.366,22973072.366,22973072.366,6486344.7973952936,3.1259459717809288E-2,null,202759.63391,426014.90149999998,"2024-03-27",0.47594493337224264,null,43120.464696000003,4.7021671806985106,null,5960.3280000000004,5326.9709999999995,633.35700000000088,31747.9,1.9949571467719151E-2,null,5960.3280000000004,6027.3459999999995,-1.1118990016501296E-2,5928.7889999999998,5.3196361010656723E-3,null,7.9000000000000008E-3,null,7.9000000000000008E-3,7.0296588996999997E-3,null,2.7180240996E-3,6.6273304866999996E-3,null,4.4456257959000003E-3,5.7384362294000003E-3,null,4.7092597053000002E-3,null,3.1105990784E-2,5.1086318260999998E-2,0.27464031656999999,0.39533871923000002,0.71338333381999997,0.57586309560000004]
[null,{"$f":"IF($B102>=Base!$G$3,\"\",$B102+1)","v":97},{"$f":"IF($B103=\"\",\"\",INDEX(Base!$B:$B,MATCH('Guia de BTC'!$B103,Base!$F:$F,0)))","v":"MDIA3<XBSP>"},"MDIA3","M.Diasbranco","Alimentos diversos",26.77,{"$f":"IFERROR((_xll.ECONOMATICA(C103,\"Partic in ibovespa\")/100),\"\")","v":""},"ON",{"$f":"LEFT(I103,2)","v":"ON"},0.19582823894000001,null,0.19582823894000001,8978255.1115000006,8978255.1115000006,{"$f":"IF(N103=\"\",\"\",IF(O103>1,O103,N103))","v":8978255.1115000006},{"$f":"IFERROR(IF(J103=\"on\",P103*K103,IF(J103=\"pn\",P103*L103,IF(J103=\"un\",P103*M103,\"\"))),\"\")","v":1758195.8872390985},{"$f":"IFERROR(T103/Q103,\"\")","v":0.11092136360655636},null,195021.4853,281755.96708999999,"2024-02-26",{"$f":"IFERROR(T103/U103,\"\")","v":0.69216452561483888},null,19485.018043,{"$f":"IFERROR(T103/Y103,\"\")","v":10.008791619777922},null,7158.1480000000001,6620.3,{"$f":"IF(AB103=\"\",\"\",AB103-AC103)","v":537.84799999999996},15828,3.3980793530452358E-2,null,7158.1480000000001,7017.473,{"$f":"IFERROR((AH103/AI103)-1,\"\")","v":2.0046389918422225E-2},6493.1509999999998,{"$f":"IFERROR((AH103/AK103)-1,\"\")","v":0.1024151448195183},null,2E-3,null,3.3999999999999998E-3,2E-3,null,2.6948902494999998E-3,2E-3,null,2.6020173531999999E-3,2E-3,2E-3,2.2284971484999999E-3,null,4.1260315065000004E-3,-1.2149395376999999E-2,-0.30309140161999998,-0.28795495829000001,-0.35382184163000002,-4.5926283999999998E-2]
[null,{"$f":"IF($B103>=Base!$G$3,\"\",$B103+1)","v":98},{"$f":"IF($B104=\"\",\"\",INDEX(Base!$B:$B,MATCH('Guia de BTC'!$B104,Base!$F:$F,0)))","v":"MOVI3<XBSP>"},"MOVI3","Movida","Aluguel de carros",7.11,{"$f":"IFERROR((_xll.ECONOMATICA(C104,\"Partic in ibovespa\")/100),\"\")","v":""},"ON","ON",0.33627914856000002,null,0.33627914856000002,2544481.5093,2544481.5093,2544481.5093,855656.07547406782,0.21111949224449209,null,180645.67619,427411.02711999998,"2023-09-25",0.42265094891733312,null,24803.602174,7.2830419921570542,null,25339.186000000002,27773.440999999999,-2434.2549999999974,109951.6,2.2139332215265602E-2,null,25339.186000000002,25361.292000000001,-8.7164329009736807E-4,27169.807000000001,-6.7377033631486616E-2,null,4.0000000000000001E-3,1E-3,3.3999999999999998E-3,4.3644261285999998E-3,1E-3,3.4067016147999998E-3,4.7459281765000003E-3,1E-3,3.7417847282999999E-3,5.9507489395E-3,1E-3,4.7594437472000001E-3,null,-3.1335149862999997E-2,-4.2016806719000002E-3,-0.40201850294000002,-0.42753623188000001,-0.44273170798,-0.56493703585999999]
[null,{"$f":"IF($B104>=Base!$G$3,\"\",$B104+1)","v":99},{"$f":"IF($B105=\"\",\"\",INDEX(Base!$B:$B,MATCH('Guia de BTC'!$B105,Base!$F:$F,0)))","v":"BEEF3<XBSP>"},"BEEF3","Minerva","Carnes e derivados",6.69,{"$f":"IFERROR((_xll.ECONOMATICA(C105,\"Partic in ibovespa\")/100),\"\")","v":7.9000000000000001E-4},"ON","ON",0.43037555775000003,null,0.43037555775000003,3925696.1009999998,3925696.1009999998,3925696.1009999998,1689523.6490248754,0.10148038958729937,null,171453.51811999999,461459.68738999998,"2024-04-17",0.37154603707581729,null,55484.674261,3.0901058788501192,null,23527.344000000001,36432.264000000003,-12904.920000000002,156216.4,8.2609252293613239E-2,null,23527.344000000001,22584.581999999999,4.1743610751795224E-2,20890.151999999998,0.12624091964481643,null,2.3999999999999998E-3,null,2E-3,2.4721056195999998E-3,null,2.2537031141E-3,2.4774057661000001E-3,2.5000000000000001E-3,1.9915654219999999E-3,2.3139757638999999E-3,1.0613351956E-3,1.4489333872999999E-3,null,-3.7410071942000002E-2,-0.10680907877,-0.10441767068,-0.22658959538000001,-0.49971299285999998,-0.21282356253000001]
[null,{"$f":"IF($B105>=Base!$G$3,\"\",$B105+1)","v":100},{"$f":"IF($B106=\"\",\"\",INDEX(Base!$B:$B,MATCH('Guia de BTC'!$B106,Base!$F:$F,0)))","v":"LWSA3<XBSP>"},"LWSA3","Lwsa","Programas e serviços",4.51,{"$f":"IFERROR((_xll.ECONOMATICA(C106,\"Partic in ibovespa\")/100),\"\")","v":8.5999999999999998E-4},"ON","ON",0.70470154794999995,null,0.70470154794999995,2623374.5721,2623374.5721,2623374.5721,1848696.1218115387,9.259283106098827E-2,null,171176.00769,311247.56131000002,"2024-04-04",0.54996738599185391,null,25916.220565,6.6049757240133289,null,36918.307000000001,40738.055999999997,-3819.7489999999962,119743.8,3.1899346772024904E-2,null,36918.307000000001,35776.059000000001,3.1927720154978578E-2,36763.071000000004,4.2226069742650196E-3,null,6.9999999999999999E-4,1E-3,8.0000000000000004E-4,6.9999999999999999E-4,1E-3,7.7525189722999995E-4,6.8754308420000004E-4,1E-3,7.6337797037000004E-4,1.1300036604E-3,1.018712803E-3,1.0280329668E-3,null,-1.0964912279E-2,-8.7912087910999998E-3,-0.24958402662000001,-0.31458966565000002,-0.49783472286000002,-0.81230951274999996]
[null,{"$f":"IF($B106>=Base!$G$3,\"\",$B106+1)","v":101},{"$f":"IF($B107=\"\",\"\",INDEX(Base!$B:$B,MATCH('Guia de BTC'!$B107,Base!$F:$F,0)))","v":"INTB3<XBSP>"},"INTB3","Intelbras","Computadores e equipamentos",22.57,{"$f":"IFERROR((_xll.ECONOMATICA(C107,\"Partic in ibovespa\")/100),\"\")","v":""},"ON","ON",0.34884750397999997,null,0.34884750397999997,7394182.7527000001,7394182.7527000001,7394182.7527000001,2579442.1972513604,6.3422577161963853E-2,null,163594.87179,322495.02903999999,"2023-10-13",0.50727873938704604,null,16216.470174,10.088192438592031,null,7386.1350000000002,6302.2370000000001,1083.8980000000001,25224.799999999999,4.2969537915067718E-2,null,7386.1350000000002,7046.9160000000002,4.8137227689389217E-2,6578.1980000000003,0.12282041373640618,null,5.9999999999999995E-4,null,5.9999999999999995E-4,6.2057479618000001E-4,null,4.7105274060000002E-4,7.2555838263000001E-4,null,4.8595499339999999E-4,8.5199311660000005E-4,1E-3,5.6385532610000002E-4,null,-1.0955302366E-2,2.4047186932999998E-2,4.9814034150999997E-2,5.6577827577999999E-2,-0.16150292796999999,-0.21961049757000001]
[null,{"$f":"IF($B107>=Base!$G$3,\"\",$B107+1)","v":102},{"$f":"IF($B108=\"\",\"\",INDEX(Base!$B:$B,MATCH('Guia de BTC'!$B108,Base!$F:$F,0)))","v":"TUPY3<XBSP>"},"TUPY3","Tupy","Material rodoviário",27.2,{"$f":"IFERROR((_xll.ECONOMATICA(C108,\"Partic in ibovespa\")/100),\"\")","v":""},"ON","ON",0.99680073521000001,null,0.99680073521000001,3892700.8,3892700.8,3892700.8,3880247.0193925551,4.118459805814563E-2,null,159806.41386,237878.00351000001,"2024-01-05",0.67179987851748557,null,11844.034043,13.492566238818604,null,5902.0929999999998,6173.1750000000002,-271.08200000000033,9951.6,2.7240041802323277E-2,null,5902.0929999999998,5918.5230000000001,-2.7760304386753587E-3,5964.1540000000005,-1.0405666922752244E-2,null,1.8E-3,null,1.8E-3,1.5102668596999999E-3,null,1.7512666706999999E-3,1.422170694E-3,null,1.3680913892E-3,1.3639399861E-3,null,1.3075609469E-3,null,7.3583517405E-4,-5.8479532154000003E-3,-4.9100554425999997E-2,8.7030239591999996E-3,9.9896992992E-2,0.50257049077000004]
[null,{"$f":"IF($B108>=Base!$G$3,\"\",$B108+1)","v":103},{"$f":"IF($B109=\"\",\"\",INDEX(Base!$B:$B,MATCH('Guia de BTC'!$B109,Base!$F:$F,0)))","v":"SAPR11<XBSP>"},"SAPR11","Sanepar","Água e saneamento",32.130000000000003,{"$f":"IFERROR((_xll.ECONOMATICA(C109,\"Partic in ibovespa\")/100),\"\")","v":""},"UNT N2","UN",0.39917293936999998,0.99998411566000001,0.79971368936999998,9586080.3017999995,0,9586080.3017999995,7666119.6447495604,1.8889132816910348E-2,null,144806.35216000001,237845.26401000001,"2023-12-15",0.6088258799801527,null,35811.454086999998,4.0435764436766197,null,4749.8720000000003,4578.6139999999996,171.25800000000072,22782.9,7.5169535046021672E-3,null,4749.8720000000003,4885.018,-2.7665404712940656E-2,4639.0770000000002,2.3882983619370801E-2,null,2.9999999999999997E-4,null,2.9999999999999997E-4,2.9999999999999997E-4,null,3.3572760724E-4,2.8259538974E-4,null,2.7735009887000002E-4,3.3490809410999998E-4,2.9999999999999997E-4,3.6720272799E-4,null,-6.1862047642E-3,0.12107466852,0.15587596138000001,0.43819349158999998,1.1548295702,1.1308423363]
[null,{"$f":"IF($B109>=Base!$G$3,\"\",$B109+1)","v":104},{"$f":"IF($B110=\"\",\"\",INDEX(Base!$B:$B,MATCH('Guia de BTC'!$B110,Base!$F:$F,0)))","v":"CVCB3<XBSP>"},"CVCB3","Cvc Brasil","Viagens e turismo",2.0699999999999998,{"$f":"IFERROR((_xll.ECONOMATICA(C110,\"Partic in ibovespa\")/100),\"\")","v":4.8999999999999998E-4},"ON","ON",1,null,1,1087956.3359999999,1087956.3359999999,1087956.3359999999,1087956.3359999999,0.13072972105932018,null,142228.22833000001,279328.59841999999,"2024-01-31",0.50917889945570438,null,56034.071521999998,2.5382454722062917,null,73613.407000000007,75908.687999999995,-2295.2809999999881,259916.3,8.8308466994951387E-3,null,73613.407000000007,74904.521999999997,-1.7236809815033505E-2,78397.275999999998,-6.1020857408361939E-2,null,3.6200000000000003E-2,1E-3,2.9600000000000001E-2,3.7094245209000003E-2,2.7867612067E-3,3.5063390754000001E-2,3.6822803757999997E-2,3.9929235426000003E-3,3.5205819926999997E-2,4.1992260379000002E-2,2.2297120226E-3,3.7434936183999998E-2,null,-9.5693779904000003E-3,5.076142132E-2,-0.40857142857000001,-8.8105726873000001E-2,-0.71289875172999995,-0.89862879529999995]
[null,{"$f":"IF($B110>=Base!$G$3,\"\",$B110+1)","v":105},{"$f":"IF($B111=\"\",\"\",INDEX(Base!$B:$B,MATCH('Guia de BTC'!$B111,Base!$F:$F,0)))","v":"GOAU4<XBSP>"},"GOAU4","Gerdau Met","Siderurgia",10.64,{"$f":"IFERROR((_xll.ECONOMATICA(C111,\"Partic in ibovespa\")/100),\"\")","v":3.1900000000000001E-3},"PN","PN",0.20413904803999999,0.99098706914000001,0.71279842638000002,11046407.546,7103206.5758999996,7103206.5758999996,7039185.8661471158,1.9547834172379302E-2,null,137600.83802,534548.36346999998,"2023-11-21",0.25741513289231582,null,63181.184652000004,2.1778768280129777,null,13144.001,15635.447,-2491.4459999999999,116689.3,2.1351109313364633E-2,null,13144.001,12259.906999999999,7.2112618798821249E-2,13073.998,5.3543682659276115E-3,null,8.8999999999999999E-3,null,0.01,9.6052471804999994E-3,null,1.0069550431E-2,1.0095696810000001E-2,null,9.9992836735E-3,1.1181329279999999E-2,1.1900000000000001E-2,9.7277511961000006E-3,null,-7.4626865671000003E-3,1.4299332697000001E-2,9.0353775739999993E-3,2.7116129603999999E-2,0.32492791647000002,0.43107994451999998]
[null,{"$f":"IF($B111>=Base!$G$3,\"\",$B111+1)","v":106},{"$f":"IF($B112=\"\",\"\",INDEX(Base!$B:$B,MATCH('Guia de BTC'!$B112,Base!$F:$F,0)))","v":"PCAR3<XBSP>"},"PCAR3","P.Acucar-Cbd","Alimentos",3.05,{"$f":"IFERROR((_xll.ECONOMATICA(C112,\"Partic in ibovespa\")/100),\"\")","v":5.1999999999999995E-4},"ON","ON",0.71803325753000002,null,0.71803325753000002,1494545.75,1494545.75,1494545.75,1073133.553400117,0.1242547054162266,null,133341.89355000001,205641.78158000001,"2024-08-06",0.64841829576411514,null,28077.996565000001,4.7489817601948978,null,43262.936000000002,43465.338000000003,-202.40200000000186,314386.5,6.4379990871109879E-4,null,43262.936000000002,41399.031000000003,4.502291370056466E-2,41239.610999999997,4.9062659684156573E-2,null,4.4999999999999998E-2,1E-3,1.7899999999999999E-2,4.5491130524000001E-2,1E-3,3.9627572011999998E-2,4.6092118864999997E-2,1E-3,3.8841875806000001E-2,5.3937104234E-2,4.0759638732000003E-3,5.2441299556E-2,null,-1.9292604501999999E-2,-2.5559105432E-2,-0.24876847291000001,-0.29885057470999998,-0.65361631019999999,-0.71744390980999995]
[null,{"$f":"IF($B112>=Base!$G$3,\"\",$B112+1)","v":107},{"$f":"IF($B113=\"\",\"\",INDEX(Base!$B:$B,MATCH('Guia de BTC'!$B113,Base!$F:$F,0)))","v":"HASH11<XBSP>"},"HASH11","Hashdex Nci","-",46.5,{"$f":"IFERROR((_xll.ECONOMATICA(C113,\"Partic in ibovespa\")/100),\"\")","v":""},null,"",null,null,null,null,null,"","","",null,124244.50099,214257.24937999999,"2024-08-07",0.57988470098224687,null,18171.913256,6.8371722470652321,null,2815.2370000000001,3377.4250000000002,-562.1880000000001,12314.495000000001,4.5652541984060255E-2,null,2815.2370000000001,2809.9949999999999,1.8654837464124885E-3,2898.5619999999999,-2.8747013174118652E-2,null,4.4999999999999997E-3,null,1E-3,4.4999999999999997E-3,null,1E-3,4.5280399599999998E-3,1E-3,1E-3,4.7945263424000002E-3,1E-3,1.3301379255000001E-3,null,-1.2529199406000001E-2,-3.8262668045000003E-2,0.4069591528,1.1975425331,1.4919614148,3.2362459551E-3]
[null,{"$f":"IF($B113>=Base!$G$3,\"\",$B113+1)","v":108},{"$f":"IF($B114=\"\",\"\",INDEX(Base!$B:$B,MATCH('Guia de BTC'!$B114,Base!$F:$F,0)))","v":"ODPV3<XBSP>"},"ODPV3","Odontoprev","Serviços médico-hospitalares análises e diagnósticos",11.83,{"$f":"IFERROR((_xll.ECONOMATICA(C114,\"Partic in ibovespa\")/100),\"\")","v":""},"ON","ON",0.45941115017,null,0.45941115017,6476056.2402999997,6476056.2402999997,6476056.2402999997,2975172.445921829,4.1207998786105073E-2,null,122600.90254,231605.96953999999,"2024-02-07",0.52935122002037149,null,9981.1407390999993,12.283255566142326,null,10589.973,11636.831,-1046.8580000000002,19903,5.2598000301462097E-2,null,10589.973,10548.154,3.9645799634704382E-3,11349.012000000001,-6.6881504751250653E-2,null,9.4100000000000003E-2,null,9.4100000000000003E-2,9.4100000000000003E-2,null,7.9613011210000001E-2,9.4100000000000003E-2,null,9.2761759033999996E-2,9.8372566198E-2,null,9.4766103057000006E-2,null,-1.6877637135999999E-3,5.0621669628999999E-2,0.12529675879999999,0.22527592084,0.49767690505000001,7.6097448124999995E-2]
[null,{"$f":"IF($B114>=Base!$G$3,\"\",$B114+1)","v":109},{"$f":"IF($B115=\"\",\"\",INDEX(Base!$B:$B,MATCH('Guia de BTC'!$B115,Base!$F:$F,0)))","v":"LEVE3<XBSP>"},"LEVE3","Metal Leve","Automóveis e motocicletas",31.6,{"$f":"IFERROR((_xll.ECONOMATICA(C115,\"Partic in ibovespa\")/100),\"\")","v":""},"ON","ON",0.39004180347,null,0.39004180347,4283032.4000000004,4283032.4000000004,4283032.4000000004,1670561.6816164425,6.7764337621142395E-2,null,113204.50581,279119.26798,"2023-11-06",0.40557753905442151,null,13452.436868999999,8.4151672230382424,null,3623.7510000000002,2817.819,805.93200000000024,7909.9,0.10188902514570353,null,3623.7510000000002,3653.7640000000001,-8.2142689018775972E-3,3726.5,-2.7572521132429806E-2,null,6.0000000000000001E-3,null,6.0000000000000001E-3,6.0000000000000001E-3,null,5.9999875401000003E-3,6.0000000000000001E-3,null,5.9999906017999998E-3,6.0000000000000001E-3,1.0070047031999999E-3,5.7215058721999997E-3,null,6.0490289725000004E-3,-1.4348097317E-2,-5.9675753956999998E-2,-0.21251656294999999,0.91075744172999995,0.45971586195000003]
[null,{"$f":"IF($B115>=Base!$G$3,\"\",$B115+1)","v":110},{"$f":"IF($B116=\"\",\"\",INDEX(Base!$B:$B,MATCH('Guia de BTC'!$B116,Base!$F:$F,0)))","v":"BOVX11<XBSP>"},"BOVX11","Trend Ibovx","-",13.57,{"$f":"IFERROR((_xll.ECONOMATICA(C116,\"Partic in ibovespa\")/100),\"\")","v":""},null,"",null,null,null,null,null,"","","",null,109449.12598,132637.56380999999,"2023-11-27",0.82517442899345728,null,10590.351503,10.334796342595013,null,7980.2910000000002,9064.8950000000004,-1084.6040000000003,12587.683000000001,8.6163911182065844E-2,null,7980.2910000000002,7968.9080000000004,1.4284265799027196E-3,7969.5309999999999,1.3501421852804008E-3,null,1.0800000000000001E-2,null,null,1.0800000000000001E-2,null,null,1.0800000000000001E-2,null,null,1.2807724543E-2,1E-3,null,null,-7.3152889535999998E-3,-1.8089725037000001E-2,0,0.13746856664000001,0.23926940638999999,0.22142214221000001]
[null,{"$f":"IF($B116>=Base!$G$3,\"\",$B116+1)","v":111},{"$f":"IF($B117=\"\",\"\",INDEX(Base!$B:$B,MATCH('Guia de BTC'!$B117,Base!$F:$F,0)))","v":"ALUP11<XBSP>"},"ALUP11","Alupar","Energia elétrica",31.67,{"$f":"IFERROR((_xll.ECONOMATICA(C117,\"Partic in ibovespa\")/100),\"\")","v":""},"UNT N2","UN",0.23460742781999999,0.99404960673999998,0.47835430747000002,10229950.549000001,0,10229950.549000001,4893540.9103192417,2.1098640504318259E-2,null,103247.06045999999,326062.71142000001,"2024-07-22",0.31664786203353346,null,32600.077434999999,3.1670802213847562,null,3297.902,7019.6850000000004,-3721.7830000000004,21203.599999999999,0.17552599558565529,null,3297.902,3313.6350000000002,-4.7479580581446523E-3,3434.123,-3.966689603138851E-2,null,3.5999999999999999E-3,null,3.5999999999999999E-3,3.5999999999999999E-3,null,3.5999999999999999E-3,3.7670603407999998E-3,null,3.6455523149E-3,3.5575169671000001E-3,null,3.6435334466999999E-3,null,7.9567154679999995E-3,-5.0267043661999999E-3,8.7020475218999999E-2,0.15833508193000001,0.35231968444,0.57306753772999997]
[null,{"$f":"IF($B117>=Base!$G$3,\"\",$B117+1)","v":112},{"$f":"IF($B118=\"\",\"\",INDEX(Base!$B:$B,MATCH('Guia de BTC'!$B118,Base!$F:$F,0)))","v":"LIGT3<XBSP>"},"LIGT3","Light S/A","Energia elétrica",7.94,{"$f":"IFERROR((_xll.ECONOMATICA(C118,\"Partic in ibovespa\")/100),\"\")","v":""},"ON","ON",0.99998470025999997,null,0.99998470025999997,2958089.2725999998,2958089.2725999998,2958089.2725999998,2958044.014603232,3.4059434789550855E-2,null,100749.30722,124269.20755000001,"2024-02-07",0.81073428571968065,null,15887.106478,6.3415768856030956,null,13855.15,14956.252,-1101.1020000000008,23041.200000000001,4.7788396437685572E-2,null,13855.15,13881.365,-1.8885030398667624E-3,14866.607,-6.8035497272511458E-2,null,5.5899999999999998E-2,5.5899999999999998E-2,5.5899999999999998E-2,5.5899999999999998E-2,5.5899999999999998E-2,5.5899999999999998E-2,5.5899999999999998E-2,5.5899999999999998E-2,5.5131362816E-2,6.3937851207000004E-2,5.5899999999999998E-2,5.4077565159000002E-2,null,-3.1707317073000001E-2,0.24062500000000001,-7.4999999997000001E-3,0.36896551723999998,0.44101633394,-0.42030039612999998]
[null,{"$f":"IF($B118>=Base!$G$3,\"\",$B118+1)","v":113},{"$f":"IF($B119=\"\",\"\",INDEX(Base!$B:$B,MATCH('Guia de BTC'!$B119,Base!$F:$F,0)))","v":"HBSA3<XBSP>"},"HBSA3","Hidrovias","Transporte hidroviário",3.46,{"$f":"IFERROR((_xll.ECONOMATICA(C119,\"Partic in ibovespa\")/100),\"\")","v":""},"ON","ON",0.99930796158000001,null,0.99930796158000001,2630925.1800000002,2630925.1800000002,2630925.1800000002,2629104.4786952948,3.8183457543618862E-2,null,100388.29923999999,335470.99862000003,"2024-05-03",0.29924583541635263,null,8294.2706087000006,12.103330597231903,null,28553.678,30908.137999999999,-2354.4599999999991,69493.3,3.3880388469104204E-2,null,28553.678,26604.975999999999,7.3245771768409185E-2,26749.530999999999,6.7445930173504864E-2,null,9.8799999999999999E-2,null,8.6499999999999994E-2,9.0535698656000002E-2,null,7.8998303820000004E-2,9.0275397999000001E-2,null,8.5661916170999997E-2,0.10337257777,null,9.4029237767999999E-2,null,-2.8818443806999999E-3,-8.5959885390999996E-3,-0.12182741116,-0.24618736383000001,0.40080971659999998,-0.18396226415]
[null,{"$f":"IF($B119>=Base!$G$3,\"\",$B119+1)","v":114},{"$f":"IF($B120=\"\",\"\",INDEX(Base!$B:$B,MATCH('Guia de BTC'!$B120,Base!$F:$F,0)))","v":"ECOR3<XBSP>"},"ECOR3","Ecorodovias","Exploração de rodovias",7.8,{"$f":"IFERROR((_xll.ECONOMATICA(C120,\"Partic in ibovespa\")/100),\"\")","v":""},"ON","ON",0.48025331245000003,null,0.48025331245000003,5425843.7999999998,5425843.7999999998,5425843.7999999998,2605779.4577862956,3.6869242530454822E-2,null,96073.114809999999,263658.57932000002,"2024-03-18",0.36438455770254657,null,20284.411783,4.7363027253527337,null,12416.468000000001,11923.591,492.87700000000041,77523.600000000006,6.3577671831545534E-3,null,12416.468000000001,12264.784,1.236744161169101E-2,12150.727000000001,2.1870378620143516E-2,null,1.1999999999999999E-3,null,1.6000000000000001E-3,1.1076406420999999E-3,null,8.9427287227999996E-4,8.1103985859000004E-4,null,7.4574350249000001E-4,6.4948146816999998E-4,null,6.6770348280000003E-4,null,-1.1406844106E-2,-3.8314176245E-3,-0.14947180452,6.6520028448999999E-2,0.48539753686999998,-0.15868562746000001]
[null,{"$f":"IF($B120>=Base!$G$3,\"\",$B120+1)","v":115},{"$f":"IF($B121=\"\",\"\",INDEX(Base!$B:$B,MATCH('Guia de BTC'!$B121,Base!$F:$F,0)))","v":"ONCO3<XBSP>"},"ONCO3","Oncoclinicas","Serviços médico-hospitalares análises e diagnósticos",5.59,{"$f":"IFERROR((_xll.ECONOMATICA(C121,\"Partic in ibovespa\")/100),\"\")","v":""},"ON","ON",0.87943588050999999,null,0.87943588050999999,3536682.9105000002,3536682.9105000002,3536682.9105000002,3110285.8494802373,3.0033016642380325E-2,null,93411.266680000001,271002.4853,"2024-05-10",0.34468785987919498,null,24817.998217,3.763851776571348,null,15803.933999999999,13416.764999999999,2387.1689999999999,118454.39999999999,2.0152641016289812E-2,null,15803.933999999999,15797.567999999999,4.0297341970618739E-4,14551.49,8.6069811407629038E-2,null,0.27660000000000001,null,0.23449999999999999,0.27280389464999999,null,0.22321865417,0.27119426068000002,null,0.22558807043000001,0.27798400846999999,1E-3,0.24925034817,null,-1.7857142857E-3,-0.16066066066000001,-0.56999999999999995,-0.51934651762999995,-0.17551622418999999,-0.62708472314999997]
[null,{"$f":"IF($B121>=Base!$G$3,\"\",$B121+1)","v":116},{"$f":"IF($B122=\"\",\"\",INDEX(Base!$B:$B,MATCH('Guia de BTC'!$B122,Base!$F:$F,0)))","v":"TEND3<XBSP>"},"TEND3","Tenda","Incorporações",14.57,{"$f":"IFERROR((_xll.ECONOMATICA(C122,\"Partic in ibovespa\")/100),\"\")","v":""},"ON","ON",0.98688911908999999,null,0.98688911908999999,1793479.58,1793479.58,1793479.58,1769965.4828121033,4.9295819323761647E-2,null,87251.898650000003,161807.96788000001,"2023-11-16",0.53923116267492921,null,29689.210565000001,2.9388419897179574,null,6482.1480000000001,8190.4,-1708.2519999999995,45406.6,3.7621226870102574E-2,null,6482.1480000000001,7134.4629999999997,-9.1431548527198148E-2,7368.9650000000001,-0.12034485168541309,null,5.0000000000000001E-4,null,5.0000000000000001E-4,5.0000000000000001E-4,null,4.8337519130000001E-4,4.7333931357000002E-4,null,4.6714911080999999E-4,3.6414588715000002E-4,null,3.1770138546999998E-4,null,-6.8587105579000001E-4,8.7313432837999999E-2,-1.7532029668999999E-2,8.4884586747999993E-2,0.99589041095999997,-0.25739041794]
[null,{"$f":"IF($B122>=Base!$G$3,\"\",$B122+1)","v":117},{"$f":"IF($B123=\"\",\"\",INDEX(Base!$B:$B,MATCH('Guia de BTC'!$B123,Base!$F:$F,0)))","v":"AGRO3<XBSP>"},"AGRO3","Brasilagro","Agricultura",26.7,{"$f":"IFERROR((_xll.ECONOMATICA(C123,\"Partic in ibovespa\")/100),\"\")","v":""},"ON","ON",0.62147889195999995,null,0.62147889195999995,2659732.7019000002,2659732.7019000002,2659732.7019000002,1652967.7324865889,5.242936333646981E-2,null,86664.045830000003,109894.13077,"2024-05-13",0.78861396166262243,null,6199.0713042999996,13.980165991942259,null,3289.3029999999999,3493.3130000000001,-204.01000000000022,3956.9,5.1558037857919133E-2,null,3289.3029999999999,3266.7829999999999,6.8936320533075079E-3,3271.9430000000002,5.3057159003073728E-3,null,3.5999999999999999E-3,null,3.3999999999999998E-3,3.5831701466999999E-3,null,3.4528232970999998E-3,3.5679345759999999E-3,null,3.3764709354E-3,3.5208889130000001E-3,1.9518157202000001E-3,3.3248252147999998E-3,null,-4.4742729306000003E-3,3.0490158239999999E-2,-3.7439161315000003E-4,6.1473217862000003E-2,0.10043588883,0.33566433948000002]
[null,{"$f":"IF($B123>=Base!$G$3,\"\",$B123+1)","v":118},{"$f":"IF($B124=\"\",\"\",INDEX(Base!$B:$B,MATCH('Guia de BTC'!$B124,Base!$F:$F,0)))","v":"ITUB3<XBSP>"},"ITUB3","ItauUnibanco","Bancos",31.99,{"$f":"IFERROR((_xll.ECONOMATICA(C124,\"Partic in ibovespa\")/100),\"\")","v":""},"ON","ON",8.1194699553999994E-2,0.98907464702000003,0.52992835509000003,336029259,158615697.09999999,158615697.09999999,12878753.870582767,6.4850478640462389E-3,null,83519.335279999999,106269.31087,"2024-01-11",0.78592149131530353,null,18142.092521999999,4.6036219459646297,null,2604.3380000000002,2707.241,-102.90299999999979,7944.8,1.2952245493907938E-2,null,2604.3380000000002,2696.3409999999999,-3.4121426036246794E-2,2607.174,-1.0877678283075509E-3,null,3.4599999999999999E-2,null,1.41E-2,3.4599999999999999E-2,null,2.0113423931000001E-2,3.4599999999999999E-2,null,2.1047469042E-2,3.6388799107999997E-2,1E-3,2.9401468005999999E-2,null,-3.426791277E-3,6.2169043812999999E-3,0.17784117024000001,0.47022717689999999,0.62293478498999999,0.81375772519]
[null,{"$f":"IF($B124>=Base!$G$3,\"\",$B124+1)","v":119},{"$f":"IF($B125=\"\",\"\",INDEX(Base!$B:$B,MATCH('Guia de BTC'!$B125,Base!$F:$F,0)))","v":"UNIP6<XBSP>"},"UNIP6","Unipar","Químicos diversos",48.45,{"$f":"IFERROR((_xll.ECONOMATICA(C125,\"Partic in ibovespa\")/100),\"\")","v":""},"PNB","PN",0.25861104967999998,0.70775271379000004,0.55076019195000003,5452034.1575999996,3448750.4964000001,3448750.4964000001,2440862.52301171,3.2776422672624317E-2,null,80002.741739999998,174466.41841000001,"2023-09-20",0.45855668081631479,null,8946.3834783000002,8.9424673035815569,null,1654.49,1552.9390000000001,101.55099999999993,4588.7,2.2130668816876226E-2,null,1654.49,1694.184,-2.3429568453013361E-2,1783.403,-7.2284839713738336E-2,null,3.3999999999999998E-3,null,3.3999999999999998E-3,3.3999999999999998E-3,null,3.1208967252000001E-3,3.3999999999999998E-3,null,3.0499891537000001E-3,3.4199154988999998E-3,1.0001648430000001E-3,3.2791621944999998E-3,null,3.7290242380999998E-3,2.4746192893999999E-2,-0.28909173422000001,-0.33248714384,-0.39470997358999999,-0.11208703704]
[null,{"$f":"IF($B125>=Base!$G$3,\"\",$B125+1)","v":120},{"$f":"IF($B126=\"\",\"\",INDEX(Base!$B:$B,MATCH('Guia de BTC'!$B126,Base!$F:$F,0)))","v":"BPAN4<XBSP>"},"BPAN4","Banco Pan","Bancos",10.74,{"$f":"IFERROR((_xll.ECONOMATICA(C126,\"Partic in ibovespa\")/100),\"\")","v":""},"PN","PN",3.0415446022000002E-9,0.50310496339999999,0.24197288134,13431119.351,6368918.1314000003,6368918.1314000003,3204234.3233955936,2.4258815621707376E-2,null,77730.929659999994,178590.81398000001,"2024-04-26",0.43524595654009901,null,20606.533348000001,3.7721497520855101,null,7574.152,10960.066000000001,-3385.9140000000007,32131.599999999999,0.10537645184180063,null,7574.152,6498.0460000000003,0.16560455250701511,6378.1610000000001,0.18751345411318399,null,4.4000000000000003E-3,null,4.4000000000000003E-3,4.4000000000000003E-3,null,4.4000000000000003E-3,4.4000000000000003E-3,null,4.3759583902E-3,4.7211714657E-3,null,3.7234944416E-3,null,-2.7855153203000002E-3,8.4848484850000003E-2,0.24305555556,0.25793720988000002,0.53512260906999998,-0.29525734583000002]
[null,{"$f":"IF($B126>=Base!$G$3,\"\",$B126+1)","v":121},{"$f":"IF($B127=\"\",\"\",INDEX(Base!$B:$B,MATCH('Guia de BTC'!$B127,Base!$F:$F,0)))","v":"GOLD11<XBSP>"},"GOLD11","Trend Ouro","-",14.61,{"$f":"IFERROR((_xll.ECONOMATICA(C127,\"Partic in ibovespa\")/100),\"\")","v":""},null,"",null,null,null,null,null,"","","",null,77290.589540000001,120526.83882999999,"2024-04-17",0.64127285084624508,null,11860.283181999999,6.5167575136234221,null,5440.335,6157.134,-716.79899999999998,14115.321,5.0781629408215373E-2,null,5440.335,5600.1379999999999,-2.8535546802596623E-2,5666.2790000000005,-3.987519852093413E-2,null,0.01,null,1E-3,0.01,null,1E-3,0.01,null,1E-3,0.01,null,9.5750924407999993E-3,null,-1.3504388924999999E-2,-1.4170040486000001E-2,0.3809073724,0.47426841574,0.56423982869,0.47575757576]
[null,{"$f":"IF($B127>=Base!$G$3,\"\",$B127+1)","v":122},{"$f":"IF($B128=\"\",\"\",INDEX(Base!$B:$B,MATCH('Guia de BTC'!$B128,Base!$F:$F,0)))","v":"CEAB3<XBSP>"},"CEAB3","Cea Modas","Tecidos vestuário e calçados",10.79,{"$f":"IFERROR((_xll.ECONOMATICA(C128,\"Partic in ibovespa\")/100),\"\")","v":""},"ON","ON",0.32929753478000001,null,0.32929753478000001,3290096.9641999998,3290096.9641999998,3290096.9641999998,1083420.8194982219,7.0275828311350777E-2,null,76138.295499999993,137908.08288,"2024-04-08",0.55209451041568991,null,22319.704522,3.4112591152339089,null,7421.4290000000001,6482.7650000000003,938.66399999999976,65946.899999999994,1.4233633423254162E-2,null,7421.4290000000001,7329.0649999999996,1.2602426093915264E-2,7030.8440000000001,5.5553074424635307E-2,null,1.23E-2,null,1.1999999999999999E-3,1.23E-2,null,6.1222019841000001E-3,1.23E-2,1.23E-2,6.8668733749999997E-3,1.2410198067E-2,2.3021488054000001E-3,9.1150004181000006E-3,null,9.3545369491000001E-3,6.0963618485000003E-2,0.37803320561999998,1.0670498084,2.3930817609999999,0.31585365854000003]
[null,{"$f":"IF($B128>=Base!$G$3,\"\",$B128+1)","v":123},{"$f":"IF($B129=\"\",\"\",INDEX(Base!$B:$B,MATCH('Guia de BTC'!$B129,Base!$F:$F,0)))","v":"JHSF3<XBSP>"},"JHSF3","JHSF Part","Incorporações",4.5599999999999996,{"$f":"IFERROR((_xll.ECONOMATICA(C129,\"Partic in ibovespa\")/100),\"\")","v":""},"ON","ON",0.43119321111999998,null,0.43119321111999998,3082526.6617999999,3082526.6617999999,3082526.6617999999,1329164.5696645561,5.7061808703749176E-2,null,75844.534409999993,93551.639120000007,"2023-09-20",0.81072373636033401,null,14540.000173,5.2162677790636636,null,17067.453000000001,19611.035,-2543.5819999999985,65488.2,3.8840310162746854E-2,null,17067.453000000001,17022.096000000001,2.6645954763737656E-3,16653.826000000001,2.4836755229699303E-2,null,2E-3,null,1.5E-3,1.6333162157999999E-3,null,1.445165757E-3,1.5300097252E-3,null,1.4514668198E-3,1.6168133862000001E-3,1E-3,1.5046088428000001E-3,null,8.8495575218999999E-3,4.3478260868000003E-2,-0.13331769043,1.3353415437000001E-2,-0.29492265446999999,-8.5554520499999995E-2]
[null,{"$f":"IF($B129>=Base!$G$3,\"\",$B129+1)","v":124},{"$f":"IF($B130=\"\",\"\",INDEX(Base!$B:$B,MATCH('Guia de BTC'!$B130,Base!$F:$F,0)))","v":"BHIA3<XBSP>"},"BHIA3","Casas Bahia","Eletrodomésticos",5.96,{"$f":"IFERROR((_xll.ECONOMATICA(C130,\"Partic in ibovespa\")/100),\"\")","v":""},"ON","ON",0.99874778036,null,0.99874778036,566343.04,566343.04,566343.04,565633.85412233474,0.13182872864938661,null,74566.791870000001,529765.06689000002,"2023-09-19",0.1407544523608292,null,25852.921869999998,2.8842694162367808,null,12130.36,13122.705,-992.34499999999935,138386.29999999999,7.1708326619036667E-3,null,12130.36,11939.462,1.5988827637292369E-2,12473.074000000001,-2.747630616157648E-2,null,0.1012,null,8.9099999999999999E-2,0.11646331873,null,0.10850414705,0.13902580228,null,0.11081252686,0.15807630504,0.17034026769999999,0.14606623894000001,null,-4.0257648952999998E-2,-0.19892473118000001,-0.47627416519999999,-0.67342465753000003,-0.92383386582000004,-0.97182033096999998]
[null,{"$f":"IF($B130>=Base!$G$3,\"\",$B130+1)","v":125},{"$f":"IF($B131=\"\",\"\",INDEX(Base!$B:$B,MATCH('Guia de BTC'!$B131,Base!$F:$F,0)))","v":"SBFG3<XBSP>"},"SBFG3","Grupo Sbf","Produtos diversos",17.73,{"$f":"IFERROR((_xll.ECONOMATICA(C131,\"Partic in ibovespa\")/100),\"\")","v":""},"ON","ON",0.60251060180000005,null,0.60251060180000005,4321459.9177000001,4321459.9177000001,4321459.9177000001,2603725.4156680056,2.8064140331499968E-2,null,73071.315449999995,160535.16235999999,"2024-01-25",0.45517327404034774,null,30297.261348,2.411812559910588,null,4167.1890000000003,6323.4189999999999,-2156.2299999999996,42305.8,5.0967716010570638E-2,null,4167.1890000000003,4321.6440000000002,-3.5739871215676233E-2,4255.0640000000003,-2.065186328572266E-2,null,8.9999999999999998E-4,null,8.9999999999999998E-4,9.8092048900999995E-4,null,9.5203107959999998E-4,9.9070105644000011E-4,null,9.8020955897999999E-4,9.805967179700001E-4,null,8.7060618200999996E-4,null,4.5325779047000001E-3,2.5448235973999998E-2,0.53397157880000001,1.4480934176,-0.17711467051999999,-0.41564041389]
[null,{"$f":"IF($B131>=Base!$G$3,\"\",$B131+1)","v":126},{"$f":"IF($B132=\"\",\"\",INDEX(Base!$B:$B,MATCH('Guia de BTC'!$B132,Base!$F:$F,0)))","v":"POMO4<XBSP>"},"POMO4","Marcopolo","Material rodoviário",7.97,{"$f":"IFERROR((_xll.ECONOMATICA(C132,\"Partic in ibovespa\")/100),\"\")","v":""},"PN","PN",0.48187212754999997,0.91747152857000003,0.76031334054999999,8282917.1437999997,5745321.1161000002,5745321.1161000002,5271168.5465137661,1.2921197793427859E-2,null,68109.811392000003,241805.56023,"2024-08-23",0.28167181650916334,null,77166.841216999994,0.88263054853404166,null,9313.7610000000004,13360.632,-4046.8709999999992,174720.8,2.3161930348304265E-2,null,9313.7610000000004,9425.7119999999995,-1.1877192937785441E-2,9960.6129999999994,-6.4940983049938672E-2,null,4.8999999999999998E-3,null,4.4000000000000003E-3,5.4138955496000002E-3,null,4.5498674500999998E-3,5.5965881440999997E-3,null,5.1401341220999996E-3,6.3537018565000001E-3,null,5.6587859514999998E-3,null,5.0441361909000001E-3,8.4353741497000007E-2,0.43744201304000002,0.69170845267000003,3.3860166753000001,3.2936689160000001]
[null,{"$f":"IF($B132>=Base!$G$3,\"\",$B132+1)","v":127},{"$f":"IF($B133=\"\",\"\",INDEX(Base!$B:$B,MATCH('Guia de BTC'!$B133,Base!$F:$F,0)))","v":"ALPA4<XBSP>"},"ALPA4","Alpargatas","Calçados",7.35,{"$f":"IFERROR((_xll.ECONOMATICA(C133,\"Partic in ibovespa\")/100),\"\")","v":5.5000000000000003E-4},"PN","PN",3.3576138747000002E-2,0.48452754248000002,0.26038570465999999,4985129.9171000002,2472751.0553000001,2472751.0553000001,1198115.9919893357,5.0331905302317966E-2,null,60303.460650000001,451743.34211999999,"2023-09-19",0.13349053550407641,null,30957.589521999998,1.9479378588938707,null,7893.4009999999998,18209.217000000001,-10315.816000000001,65728.899999999994,0.15694490551340431,null,7893.4009999999998,8015.0739999999996,-1.5180521103111411E-2,8061.9629999999997,-2.0908307319197572E-2,null,1.2999999999999999E-3,null,1.4E-3,1.3713664288E-3,1.5E-3,1.3755826446000001E-3,1.5277110206E-3,1.05851106E-3,1.4333115704000001E-3,2.2591065700000002E-3,1.0259445777E-3,1.9539278480999998E-3,null,-1.0767160160999999E-2,-4.5454545454000003E-2,-0.27371541502000002,-0.10256410256,-0.65083135392000002,-0.86977552338999997]
[null,{"$f":"IF($B133>=Base!$G$3,\"\",$B133+1)","v":128},{"$f":"IF($B134=\"\",\"\",INDEX(Base!$B:$B,MATCH('Guia de BTC'!$B134,Base!$F:$F,0)))","v":"SMAC11<XBSP>"},"SMAC11","It Now Small","-",54.14,{"$f":"IFERROR((_xll.ECONOMATICA(C134,\"Partic in ibovespa\")/100),\"\")","v":""},null,"",null,null,null,null,null,"","","",null,57320.86335,60544.489670000003,"2024-08-27",0.9467560741271337,null,788.11920435000002,72.731209991609433,null,1058.98,1071.5250000000001,-12.545000000000073,786.53099999999995,1.5949784560303503E-2,null,1058.98,1054.67,4.0865863255805657E-3,1054.845,3.9200072048499734E-3,null,0.05,null,null,0.05,null,null,0.05,null,0.05,4.6484932646000003E-2,null,5.0022563004000001E-2,null,-6.6055045872000003E-3,-3.8638454452999999E-3,-9.0848026868000004E-2,-2.1507319718E-2,-2.0090497737000002E-2,-0.20685613828999999]
[null,{"$f":"IF($B134>=Base!$G$3,\"\",$B134+1)","v":129},{"$f":"IF($B135=\"\",\"\",INDEX(Base!$B:$B,MATCH('Guia de BTC'!$B135,Base!$F:$F,0)))","v":"MILS3<XBSP>"},"MILS3","Mills","Máq. e equip. industriais",11.28,{"$f":"IFERROR((_xll.ECONOMATICA(C135,\"Partic in ibovespa\")/100),\"\")","v":""},"ON",{"$f":"LEFT(I135,2)","v":"ON"},0.72157013850999996,null,0.72157013850999996,2644720.08,2644720.08,{"$f":"IF(N135=\"\",\"\",IF(O135>1,O135,N135))","v":2644720.08},{"$f":"IFERROR(IF(J135=\"on\",P135*K135,IF(J135=\"pn\",P135*L135,IF(J135=\"un\",P135*M135,\"\"))),\"\")","v":1908351.0344457782},{"$f":"IFERROR(T135/Q135,\"\")","v":2.887043056834699E-2},null,55094.916039999996,84179.253289999993,"2024-04-25",{"$f":"IFERROR(T135/U135,\"\")","v":0.65449518600736922},null,9240.4423043999996,{"$f":"IFERROR(T135/Y135,\"\")","v":5.9623678418256647},null,4976.3159999999998,3795.15,{"$f":"IF(AB135=\"\",\"\",AB135-AC135)","v":1181.1659999999997},15224.2,7.7584766358823429E-2,null,4976.3159999999998,5009.43,{"$f":"IFERROR((AH135/AI135)-1,\"\")","v":-6.6103329121278698E-3},5136.518,{"$f":"IFERROR((AH135/AK135)-1,\"\")","v":-3.1188832590482551E-2},null,5.9999999999999995E-4,null,5.9999999999999995E-4,5.9999999999999995E-4,null,5.7566557594999998E-4,5.9999999999999995E-4,null,5.8600514960999996E-4,5.9999999999999995E-4,null,5.9091549036000002E-4,null,0,2.4523160764000001E-2,-0.14083645625999999,-7.1117436024999994E-2,8.5424754822999993E-2,0.90589653050999996]
[null,{"$f":"IF($B135>=Base!$G$3,\"\",$B135+1)","v":130},{"$f":"IF($B136=\"\",\"\",INDEX(Base!$B:$B,MATCH('Guia de BTC'!$B136,Base!$F:$F,0)))","v":"MYPK3<XBSP>"},"MYPK3","Iochp-Maxion","Automóveis e motocicletas",11.77,{"$f":"IFERROR((_xll.ECONOMATICA(C136,\"Partic in ibovespa\")/100),\"\")","v":""},"ON","ON",0.84714811352999997,null,0.84714811352999997,1762792.9,1762792.9,1762792.9,1493346.6797790779,3.6173086244107387E-2,null,54018.95824,106799.30663000001,"2024-01-04",0.50579877289976749,null,10423.234913,5.1825521242572039,null,4675.5360000000001,3450.0729999999999,1225.4630000000002,25265,{"$f":"IFERROR(ABS(AD136/AE136),\"\")","v":4.850437363942213E-2},null,4675.5360000000001,4902.45,-4.6285836673499947E-2,4609.88,1.4242453165809188E-2,null,2.7000000000000001E-3,null,2.5000000000000001E-3,2.7000000000000001E-3,null,2.2586327310000001E-3,2.7000000000000001E-3,null,2.3213466252999999E-3,2.8212583008E-3,1E-3,2.5665481423E-3,null,-2.8075970272000001E-2,1.7286084701000001E-2,-7.0793663850999999E-2,-0.18741725420999999,-1.6336691318000002E-2,-0.14242079965000001]
[null,{"$f":"IF($B136>=Base!$G$3,\"\",$B136+1)","v":131},{"$f":"IF($B137=\"\",\"\",INDEX(Base!$B:$B,MATCH('Guia de BTC'!$B137,Base!$F:$F,0)))","v":"CMIG3<XBSP>"},"CMIG3","Cemig","Energia elétrica",14.63,{"$f":"IFERROR((_xll.ECONOMATICA(C137,\"Partic in ibovespa\")/100),\"\")","v":""},"ON","ON",0.49027986835999998,0.97557021153000001,0.81335321292999996,36289920.32,13994853.18,13994853.18,6861394.7748079272,7.2373666550020225E-3,null,49658.429750000003,169681.00875000001,"2023-09-19",0.29265755853187075,null,3019.9535652,16.443441489376447,null,3438.3530000000001,3489.8180000000002,-51.465000000000146,4115.7,1.2504555725636015E-2,null,3438.3530000000001,3224.2620000000002,6.6400000992475228E-2,3523.297,-2.4109236320412397E-2,null,1.55E-2,null,1.55E-2,1.55E-2,null,1.1999133984E-2,1.55E-2,null,1.5317946971E-2,1.55E-2,null,1.5482253384E-2,null,-8.8075880748999993E-3,1.8093249826E-2,0.35562250310999999,7.7547890211999995E-2,0.33891422877999999,0.98490922117000002]
[null,{"$f":"IF($B137>=Base!$G$3,\"\",$B137+1)","v":132},{"$f":"IF($B138=\"\",\"\",INDEX(Base!$B:$B,MATCH('Guia de BTC'!$B138,Base!$F:$F,0)))","v":"OIBR3<XBSP>"},"OIBR3","Oi","Telecomunicações",5.15,{"$f":"IFERROR((_xll.ECONOMATICA(C138,\"Partic in ibovespa\")/100),\"\")","v":""},"ON","ON",0.89997387557999997,0.98839134911000004,0.90208590974000002,349814.68095000001,331932.95095000003,331932.95095000003,298730.98429917754,0.162808234921127,null,48635.864269999998,112057.77815,"2024-02-27",0.4340248849561899,null,4591.4606956999996,10.592677906520798,null,9916.1039999999994,10494.321,-578.21700000000055,19153.5,3.0188581721356439E-2,null,9916.1039999999994,10165.165000000001,-2.4501422259255112E-2,10399.191000000001,-4.6454286684416202E-2,null,3.8399999999999997E-2,null,3.8199999999999998E-2,3.8265271266000003E-2,null,3.7257461212E-2,3.8232697811999998E-2,null,3.7902907000999998E-2,3.4795115327999997E-2,null,3.4415028706000002E-2,null,-5.7915057914E-3,4.0404040405000001E-2,-0.18783867543999999,-0.21244962467,-0.90192768910999999,-0.94585591170000005]
[null,{"$f":"IF($B138>=Base!$G$3,\"\",$B138+1)","v":133},{"$f":"IF($B139=\"\",\"\",INDEX(Base!$B:$B,MATCH('Guia de BTC'!$B139,Base!$F:$F,0)))","v":"BRSR6<XBSP>"},"BRSR6","Banrisul","Bancos",12.1,{"$f":"IFERROR((_xll.ECONOMATICA(C139,\"Partic in ibovespa\")/100),\"\")","v":""},"PNB","PN",1.8673005969000001E-2,0.99631413200999996,0.50611282766999999,5150614.1531999996,2450569.8314,2450569.8314,2441537.3545011831,1.6625239300626204E-2,null,40591.142780000002,146643.57733,"2023-11-01",0.27680136777252473,null,15788.741695000001,2.5708915608426515,null,3240.902,5791.8289999999997,-2550.9269999999997,22655.5,0.11259636732802188,null,3240.902,2919.8150000000001,0.10996826853756136,3323.114,-2.4739446194142034E-2,null,2.3999999999999998E-3,null,2.3E-3,2.3999999999999998E-3,null,2.3047663345999998E-3,2.3999999999999998E-3,1E-3,2.2798854108000001E-3,3.4737505747000001E-3,1E-3,3.1097610548999999E-3,null,-1.6501650152E-3,-2.7101087584999999E-2,-5.2983827729000003E-2,3.2054359169999998E-2,0.20077511067000001,0.26861595817]
[null,{"$f":"IF($B139>=Base!$G$3,\"\",$B139+1)","v":134},{"$f":"IF($B140=\"\",\"\",INDEX(Base!$B:$B,MATCH('Guia de BTC'!$B140,Base!$F:$F,0)))","v":"LJQQ3<XBSP>"},"LJQQ3","Quero-Quero","Produtos diversos",3.96,{"$f":"IFERROR((_xll.ECONOMATICA(C140,\"Partic in ibovespa\")/100),\"\")","v":""},"ON","ON",0.96181040411999996,null,0.96181040411999996,772489.08,772489.08,772489.08,742988.03421308694,5.4244959574195659E-2,null,40303.355880000003,79249.557690000001,"2024-04-30",0.50856253403526097,null,11496.856739000001,3.5055978164259178,null,9707.2829999999994,8296.7340000000004,1410.5489999999991,65871.899999999994,2.1413516233781009E-2,null,9707.2829999999994,9948.2800000000007,-2.4224991656849326E-2,7039.8850000000002,0.37889795074777477,null,4.0000000000000002E-4,null,4.0000000000000002E-4,4.0000000000000002E-4,null,3.8228976628000002E-4,4.0000000000000002E-4,null,3.8847997772000002E-4,4.0000000000000002E-4,null,3.8592248111000001E-4,null,-0.01,-6.8235294118000001E-2,-0.34322465410000003,-7.9341702622999999E-2,-0.32495103564,-0.76826903431000004]
[null,{"$f":"IF($B140>=Base!$G$3,\"\",$B140+1)","v":135},{"$f":"IF($B141=\"\",\"\",INDEX(Base!$B:$B,MATCH('Guia de BTC'!$B141,Base!$F:$F,0)))","v":"NEOE3<XBSP>"},"NEOE3","Neoenergia","Energia elétrica",19.75,{"$f":"IFERROR((_xll.ECONOMATICA(C141,\"Partic in ibovespa\")/100),\"\")","v":""},"ON","ON",0.1606829504,null,0.1606829504,23947189.024999999,23947189.024999999,23947189.024999999,3847904.9863234991,1.0226035699908492E-2,null,39348.813759999997,231161.35282,"2024-03-21",0.17022228534300027,null,16636.10313,2.3652662797600725,null,1988.9670000000001,1918.6659999999999,70.301000000000158,20825.7,3.375684850929388E-3,null,1988.9670000000001,2043.056,-2.6474555763522867E-2,2002.76,-6.8869959455950536E-3,null,1.4E-3,null,1.4E-3,1.4E-3,null,8.8330184070999995E-4,1.3959327813000001E-3,null,9.9888073661999997E-4,1.1062783262E-3,null,9.9749375475000003E-4,null,5.0658561303999999E-4,-7.5376884414999996E-3,-3.4990390816E-2,8.2718457411999999E-2,0.35335621691000002,0.45728751642999999]
[null,{"$f":"IF($B141>=Base!$G$3,\"\",$B141+1)","v":136},{"$f":"IF($B142=\"\",\"\",INDEX(Base!$B:$B,MATCH('Guia de BTC'!$B142,Base!$F:$F,0)))","v":"GOLL4<XBSP>"},"GOLL4","Gol","Transporte aéreo",1.1399999999999999,{"$f":"IFERROR((_xll.ECONOMATICA(C142,\"Partic in ibovespa\")/100),\"\")","v":""},"PN","PN",0,0.52245055428999998,5.5241569393999997E-2,477075.76254000003,383801.5257,383801.5257,200517.31983931267,0.19305094059216851,null,38710.057200000003,221502.88373999999,"2024-01-17",0.17476096268542424,null,5466.8994347999997,7.0808065269296776,null,35978.07,30803.399000000001,5174.6709999999985,74007.399999999994,6.9920994387047769E-2,null,35978.07,35441.686999999998,1.5134240082872008E-2,35318.222999999998,1.8682904856226923E-2,null,0.1067,null,0.1109,0.11584345091999999,null,0.10754508215,0.11642525635000001,null,0.1092297612,0.12395091755,null,0.11149838199000001,null,2.7027027027000002E-2,5.5555555554999997E-2,-0.87290969900000004,-0.82985074626999999,-0.88834476003999996,-0.94040773653999998]
[null,{"$f":"IF($B142>=Base!$G$3,\"\",$B142+1)","v":137},{"$f":"IF($B143=\"\",\"\",INDEX(Base!$B:$B,MATCH('Guia de BTC'!$B143,Base!$F:$F,0)))","v":"POSI3<XBSP>"},"POSI3","Positivo Tec","Computadores e equipamentos",6.05,{"$f":"IFERROR((_xll.ECONOMATICA(C143,\"Partic in ibovespa\")/100),\"\")","v":""},"ON","ON",0.51101764870999999,null,0.51101764870999999,847453.75,847453.75,847453.75,433063.82271547214,8.6991417532356383E-2,null,37672.83582,43604.500099999997,"2024-07-02",0.86396669457517761,null,11889.109,3.1686845347283805,null,5913.3810000000003,4422.01,1491.3710000000001,37148.699999999997,4.0145980882238148E-2,null,5913.3810000000003,5889.674,4.0251803410511489E-3,5866.2730000000001,8.0303115794304603E-3,null,2.8999999999999998E-3,null,2.8E-3,2.8215728681999998E-3,null,2.3493922605000001E-3,2.8277285831E-3,null,2.4597846271E-3,2.1190719824E-3,null,2.0772576542E-3,null,-1.6260162602E-2,-7.3506891271000005E-2,-8.9349371794000002E-2,-0.15939942012,-0.48483880671000001,-0.41582654421999998]
[null,{"$f":"IF($B143>=Base!$G$3,\"\",$B143+1)","v":138},{"$f":"IF($B144=\"\",\"\",INDEX(Base!$B:$B,MATCH('Guia de BTC'!$B144,Base!$F:$F,0)))","v":"CPLE3<XBSP>"},"CPLE3","Copel","Energia elétrica",9.6999999999999993,{"$f":"IFERROR((_xll.ECONOMATICA(C144,\"Partic in ibovespa\")/100),\"\")","v":""},"ON","ON",0.99992532455000005,0.99993955292000003,0.99993334988000004,30752575.247000001,12613368.810000001,12613368.810000001,12612426.901008099,2.9377576465508355E-3,null,37052.253570000001,74669.022939999995,"2024-08-07",0.49621987955799551,null,49071.170913000002,0.75507172298152903,null,3916.8609999999999,5012.8320000000003,-1095.9710000000005,132171.1,8.2920623343529752E-3,null,3916.8609999999999,4421.9589999999998,-0.11422493967040404,4298.8999999999996,-8.8869013003326391E-2,null,1E-4,null,1E-4,1.3461060692E-4,null,1E-4,1.7557501398999999E-4,null,1.9646499028999999E-4,2.1568612215E-4,null,2.2731321152999999E-4,null,1.0319917436999999E-3,3.4115138593E-2,2.7072418851999999E-2,0.22795714525999999,0.70346744961999996,1.0545660744000001]
[null,{"$f":"IF($B144>=Base!$G$3,\"\",$B144+1)","v":139},{"$f":"IF($B145=\"\",\"\",INDEX(Base!$B:$B,MATCH('Guia de BTC'!$B145,Base!$F:$F,0)))","v":"SRNA3<XBSP>"},"SRNA3","Serena","Energia elétrica",8.99,{"$f":"IFERROR((_xll.ECONOMATICA(C145,\"Partic in ibovespa\")/100),\"\")","v":""},"ON","ON",0.67067020074000006,null,0.67067020074000006,5598022.1705,5598022.1705,5598022.1705,3754426.6528362059,9.858342599938584E-3,null,37012.424209999997,158202.12450999999,"2024-03-19",0.23395655604903354,null,22444.857521999998,1.6490380557649413,null,4241.6760000000004,3319.8420000000001,921.83400000000029,32781.699999999997,2.8120384238767372E-2,null,4241.6760000000004,4060.6959999999999,4.4568714328775183E-2,4169.732,1.7253866675364327E-2,null,7.0000000000000001E-3,null,6.6E-3,7.0000000000000001E-3,null,5.1480071880999996E-3,7.0000000000000001E-3,null,5.4136168537999999E-3,6.9745107392000004E-3,null,5.1813412795000003E-3,null,-2.2197558254999999E-3,0.1098765432,-0.11949069539,-0.15188679245,-0.13391136802,-0.43406106820000001]
[null,{"$f":"IF($B145>=Base!$G$3,\"\",$B145+1)","v":140},{"$f":"IF($B146=\"\",\"\",INDEX(Base!$B:$B,MATCH('Guia de BTC'!$B146,Base!$F:$F,0)))","v":"FESA4<XBSP>"},"FESA4","Ferbasa","Siderurgia",7.97,{"$f":"IFERROR((_xll.ECONOMATICA(C146,\"Partic in ibovespa\")/100),\"\")","v":""},"PN","PN",1.0638790760000001E-2,0.68175415251000004,0.45804903193000002,3322050.7960000001,1775610.7960000001,1775610.7960000001,1210530.0334145867,3.0418444221605629E-2,null,36822.440300000002,66988.976320000002,"2023-11-10",0.54967910129127351,null,4630.8206957000002,7.9516013941528518,null,4537.4160000000002,4854.21,-316.79399999999987,11013,2.8765459002996447E-2,null,4537.4160000000002,4561.32,-5.2405882507694512E-3,4682.875,-3.1061901075728038E-2,null,2.3999999999999998E-3,null,1.5E-3,2.3999999999999998E-3,null,1.4701049695000001E-3,2.3999999999999998E-3,null,1.6422515318999999E-3,2.3285167621E-3,null,1.6486618313999999E-3,null,7.5853350189999998E-3,-1.5366285479E-2,-0.30481843993000002,-0.33389437634000002,-0.32424062695,-0.28665348619999997]
[null,{"$f":"IF($B146>=Base!$G$3,\"\",$B146+1)","v":141},{"$f":"IF($B147=\"\",\"\",INDEX(Base!$B:$B,MATCH('Guia de BTC'!$B147,Base!$F:$F,0)))","v":"TTEN3<XBSP>"},"TTEN3","3tentos","Agricultura",11.94,{"$f":"IFERROR((_xll.ECONOMATICA(C147,\"Partic in ibovespa\")/100),\"\")","v":""},"ON","ON",0.22519108143,null,0.22519108143,5941200.7199999997,5941200.7199999997,5941200.7199999997,1337905.4151294946,2.6830002176593072E-2,null,35896.0052,83696.931719999993,"2024-06-25",0.42888077809216019,null,12954.709695,2.7708845697912028,null,2964.3339999999998,5343.0420000000004,-2378.7080000000005,25116.2,9.470811667370066E-2,null,2964.3339999999998,3307.0320000000002,-0.10362705894590685,3624.93,-0.18223689836769263,null,7.4999999999999997E-3,null,7.4999999999999997E-3,7.4999999999999997E-3,null,6.8150991188999999E-3,7.4999999999999997E-3,1E-3,6.6867607915999999E-3,7.4476879509999998E-3,1E-3,5.5312114103999999E-3,null,-4.0963855420999999E-2,-2.5062656641E-3,3.6462754559999999E-3,-0.14176838377000001,0.19026448019,0.21484073009999999]
[null,{"$f":"IF($B147>=Base!$G$3,\"\",$B147+1)","v":142},{"$f":"IF($B148=\"\",\"\",INDEX(Base!$B:$B,MATCH('Guia de BTC'!$B148,Base!$F:$F,0)))","v":"MLAS3<XBSP>"},"MLAS3","Multilaser","Computadores e equipamentos",1.76,{"$f":"IFERROR((_xll.ECONOMATICA(C148,\"Partic in ibovespa\")/100),\"\")","v":""},"ON","ON",0.47299007570000001,null,0.47299007570000001,1423598.2464000001,1423598.2464000001,1423598.2464000001,673347.84233112331,5.2931911471802137E-2,null,35641.588380000001,66058.463759999999,"2023-09-19",0.53954612855501871,null,5631.2314348,6.3292707452479009,null,19216.86,20937.763999999999,-1720.9039999999986,91736.6,1.8759186627801756E-2,null,19216.86,19379.509999999998,-8.3928850626253659E-3,19398.548999999999,-9.3661128984440234E-3,null,4.1000000000000003E-3,null,4.1000000000000003E-3,4.1000000000000003E-3,null,4.0468611301999998E-3,4.0378990648999996E-3,null,3.9403053839000002E-3,3.9809819064999998E-3,null,3.7457785641000002E-3,null,-1.6759776537000001E-2,-5.3763440859999997E-2,-0.15789473683999999,-0.43589743590000002,-0.69965870307,-0.75966781948999995]
[null,{"$f":"IF($B148>=Base!$G$3,\"\",$B148+1)","v":143},{"$f":"IF($B149=\"\",\"\",INDEX(Base!$B:$B,MATCH('Guia de BTC'!$B149,Base!$F:$F,0)))","v":"CBAV3<XBSP>"},"CBAV3","Cba","Minerais metálicos",4.96,{"$f":"IFERROR((_xll.ECONOMATICA(C149,\"Partic in ibovespa\")/100),\"\")","v":""},"ON","ON",0.31400683508999999,null,0.31400683508999999,3229322.08,3229322.08,3229322.08,1014029.2058270557,3.4929960297456104E-2,null,35419.999900000003,130587.07992,"2023-11-13",0.27123663322358482,null,17163.657217,2.0636627411154387,null,7254.0879999999997,6314.7550000000001,939.33299999999963,88438.8,1.0621277086527629E-2,null,7254.0879999999997,6956.8230000000003,4.2729993274228661E-2,6805.0950000000003,6.5978946656879867E-2,null,5.4000000000000003E-3,1E-3,1E-3,5.9440825329E-3,1E-3,2.2619668568000001E-3,6.4143105569000004E-3,1E-3,3.6264013563999998E-3,6.9018056304999999E-3,1E-3,3.9628312540999997E-3,null,-6.0120240478000004E-3,-4.0160642575000002E-3,-2.7450980392000002E-2,4.5383729212999997E-2,-0.59274103785999999,-0.60441562333999999]
[null,{"$f":"IF($B149>=Base!$G$3,\"\",$B149+1)","v":144},{"$f":"IF($B150=\"\",\"\",INDEX(Base!$B:$B,MATCH('Guia de BTC'!$B150,Base!$F:$F,0)))","v":"ZAMP3<XBSP>"},"ZAMP3","Zamp S.A.","Restaurante e similares",3.11,{"$f":"IFERROR((_xll.ECONOMATICA(C150,\"Partic in ibovespa\")/100),\"\")","v":""},"ON","ON",0.34076170282000001,null,0.34076170282000001,856355.43957000005,856355.43957000005,856355.43957000005,291813.13780704286,0.12008359425945718,null,35041.970439999997,96620.53615,"2023-11-29",0.36267621601269701,null,1999.3019999999999,17.527102178660353,null,11270.868,9305.8729999999996,1964.9950000000008,12442.4,0.15792732913264329,null,11270.868,10872.717000000001,3.6619273728912383E-2,10948.554,2.9438956048442488E-2,null,4.4000000000000003E-3,null,4.1999999999999997E-3,4.4460863944999996E-3,null,4.2405401164999999E-3,4.4659001267000004E-3,null,4.3492844960999998E-3,5.3512324586E-3,null,5.3576706087000003E-3,null,9.7402597402999995E-3,1.9672131148E-2,-0.45028725064000003,-0.46711519195000001,-0.61316510229999999,-0.64793677849999998]
[null,{"$f":"IF($B150>=Base!$G$3,\"\",$B150+1)","v":145},{"$f":"IF($B151=\"\",\"\",INDEX(Base!$B:$B,MATCH('Guia de BTC'!$B151,Base!$F:$F,0)))","v":"CLSA3<XBSP>"},"CLSA3","Clearsale","Serviços financeiros diversos",8.19,{"$f":"IFERROR((_xll.ECONOMATICA(C151,\"Partic in ibovespa\")/100),\"\")","v":""},"ON","ON",0.29591288190999998,null,0.29591288190999998,1539114.4313999999,1539114.4313999999,1539114.4313999999,455443.78698484495,7.4686635128325685E-2,null,34015.56394,60975.554100000001,"2024-05-20",0.55785575780442154,null,15785.180434,2.1549049807966232,null,4165.5339999999997,3510.107,655.42699999999968,33148.1,1.9772686820662411E-2,null,4165.5339999999997,3906.6880000000001,6.6257146718652571E-2,3543.1030000000001,0.17567397843077082,null,3.7999999999999999E-2,null,3.1099999999999999E-2,3.4901667090999997E-2,null,2.3410616027000002E-2,3.0313440289000002E-2,null,2.4498346946000001E-2,2.8172754681000001E-2,0.19,2.5165782524999999E-2,null,2.6315789472999999E-2,-4.4340723454000003E-2,1.1839999999999999,0.53658536585000005,0.64457831325000003,-0.69094339623000001]
[null,{"$f":"IF($B151>=Base!$G$3,\"\",$B151+1)","v":146},{"$f":"IF($B152=\"\",\"\",INDEX(Base!$B:$B,MATCH('Guia de BTC'!$B152,Base!$F:$F,0)))","v":"CASH3<XBSP>"},"CASH3","Meliuz","Programas e serviços",4.1900000000000004,{"$f":"IFERROR((_xll.ECONOMATICA(C152,\"Partic in ibovespa\")/100),\"\")","v":""},"ON","ON",0.75266968331999995,null,0.75266968331999995,364760.79358,364760.79358,364760.79358,274544.39099141047,0.12050676610266314,null,33084.456709999999,108258.20818,"2023-09-27",0.30560691208735652,null,9885.3395216999998,3.3468204746406531,null,5753.5069999999996,5544.5770000000002,208.92999999999938,25108.7,8.3210202041523202E-3,null,5753.5069999999996,5816.34,-1.0802841649559802E-2,5918.5569999999998,-2.7886864990909088E-2,null,1.1000000000000001E-3,null,1.1000000000000001E-3,1.1000000000000001E-3,null,9.4858294399E-4,1.1000000000000001E-3,null,7.9944575316000005E-4,1.363129399E-3,null,1.1141732235E-3,null,-4.5558086560000002E-2,-1.4109330991999999E-2,0.24667481334999999,0.60373216280999997,-0.20072058338000001,-0.86060387108000003]
[null,{"$f":"IF($B152>=Base!$G$3,\"\",$B152+1)","v":147},{"$f":"IF($B153=\"\",\"\",INDEX(Base!$B:$B,MATCH('Guia de BTC'!$B153,Base!$F:$F,0)))","v":"VVEO3<XBSP>"},"VVEO3","Viveo","Medicamentos e outros produtos",2.35,{"$f":"IFERROR((_xll.ECONOMATICA(C153,\"Partic in ibovespa\")/100),\"\")","v":""},"ON","ON",0.55229800260999995,null,0.55229800260999995,748461.85880000005,748461.85880000005,748461.85880000005,413373.98964500782,7.7704549716794011E-2,null,32121.03973,55951.65539,"2024-04-04",0.57408560133040953,null,6310.6344783000004,5.0899857756700522,null,15750.439,19575.490000000002,-3825.0510000000013,78572.600000000006,4.8681741472218064E-2,null,15750.439,15280.998,3.0720572046406991E-2,15700.239,3.1974035554491742E-3,null,3.1E-2,null,3.04E-2,3.1E-2,null,2.6670977041999999E-2,3.1E-2,null,2.7355273233000001E-2,3.2500116624999999E-2,null,3.0269765221E-2,null,-3.2921810699999998E-2,0.23684210525999999,-0.82685099571999998,-0.86483331785999995,-0.85744235360999999,-0.89841653852000003]
[null,{"$f":"IF($B153>=Base!$G$3,\"\",$B153+1)","v":148},{"$f":"IF($B154=\"\",\"\",INDEX(Base!$B:$B,MATCH('Guia de BTC'!$B154,Base!$F:$F,0)))","v":"TASA4<XBSP>"},"TASA4","Taurus Armas","Armas e munições",10.97,{"$f":"IFERROR((_xll.ECONOMATICA(C154,\"Partic in ibovespa\")/100),\"\")","v":""},"PN","PN",0.17202325298000001,0.84480651490000003,0.59805190901000005,1392461.7150999999,875989.82339999999,875989.82339999999,740041.90979442047,4.3345795144103402E-2,null,32077.705020000001,45482.727469999998,"2024-05-24",0.70527223859119204,null,3471.1549129999999,9.2412196585822617,null,2876.1680000000001,2571.3719999999998,304.79600000000028,5161.8,5.9048393971095403E-2,null,2876.1680000000001,2861.181,5.2380468065460484E-3,2827.65,1.7158417767404011E-2,null,1.5E-3,null,1.5E-3,1.5E-3,null,1.4849791283E-3,1.5E-3,null,1.4708939153000001E-3,1.6200811247000001E-3,null,1.5159267855E-3,null,-3.6330608527E-3,-2.7482269504000002E-2,-0.25997238285000002,-0.32156696136000001,-0.23459115951000001,-0.39642193680999999]
[null,{"$f":"IF($B154>=Base!$G$3,\"\",$B154+1)","v":149},{"$f":"IF($B155=\"\",\"\",INDEX(Base!$B:$B,MATCH('Guia de BTC'!$B155,Base!$F:$F,0)))","v":"NASD11<XBSP>"},"NASD11","Trend Nasdaq","-",14.83,{"$f":"IFERROR((_xll.ECONOMATICA(C155,\"Partic in ibovespa\")/100),\"\")","v":""},null,"",null,null,null,null,null,"","","",null,31636.576590000001,70494.256859999994,"2024-05-23",0.44878232637914789,null,12886.668186999999,2.4549849604969891,null,2127.8789999999999,2298.857,-170.97800000000007,33988.49,5.030467667142614E-3,null,2127.8789999999999,2128.4589999999998,-2.7249761447123433E-4,1983.835,7.2608861120002421E-2,null,2.0899999999999998E-2,null,2.0899999999999998E-2,2.0899999999999998E-2,null,2.0899999999999998E-2,2.0418267608000001E-2,null,2.0899999999999998E-2,2.0098740441000001E-2,0.02,1.7319927696E-2,null,-3.3602150543E-3,-3.6387264458000002E-2,0.29746281715,0.44120505345,0.70459770114999998,0.31355181577000002]
[null,{"$f":"IF($B155>=Base!$G$3,\"\",$B155+1)","v":150},{"$f":"IF($B156=\"\",\"\",INDEX(Base!$B:$B,MATCH('Guia de BTC'!$B156,Base!$F:$F,0)))","v":"ORVR3<XBSP>"},"ORVR3","Orizon","Água e saneamento",46.84,{"$f":"IFERROR((_xll.ECONOMATICA(C156,\"Partic in ibovespa\")/100),\"\")","v":""},"ON","ON",0.56018804089999996,null,0.56018804089999996,3885424.84,3885424.84,3885424.84,2176568.5291837957,1.4512095073728202E-2,null,31586.56943,84767.795849999995,"2024-04-24",0.37262464020998842,null,23285.830173999999,1.3564716908941588,null,668.83,607.43499999999995,61.395000000000095,8415.2999999999993,7.2956400841324848E-3,null,668.83,668.44299999999998,5.7895736809276954E-4,651.54399999999998,2.6530825239738265E-2,null,2.5499999999999998E-2,null,2.5499999999999998E-2,2.5499999999999998E-2,null,2.5499999999999998E-2,2.5573410505000001E-2,null,2.5923586405000001E-2,2.7884808649999999E-2,2.9700000000000001E-2,2.8013582113999999E-2,null,-2.4166666666000002E-2,1.2318997191E-2,0.21158820485999999,0.22939632545999999,0.17511289513,0.56393989983000004]
[null,{"$f":"IF($B156>=Base!$G$3,\"\",$B156+1)","v":151},{"$f":"IF($B157=\"\",\"\",INDEX(Base!$B:$B,MATCH('Guia de BTC'!$B157,Base!$F:$F,0)))","v":"ANIM3<XBSP>"},"ANIM3","Anima","Serviços educacionais",3.17,{"$f":"IFERROR((_xll.ECONOMATICA(C157,\"Partic in ibovespa\")/100),\"\")","v":""},"ON","ON",0.63644477072000005,null,0.63644477072000005,1196320.7557000001,1196320.7557000001,1196320.7557000001,761392.08906906378,4.114209270062244E-2,null,31325.263910000001,102722.02107,"2024-03-04",0.30495178719909899,null,19369.516478000001,1.6172455283320779,null,9617.607,10014.224,-396.61700000000019,134358.9,2.9519220535446497E-3,null,9617.607,10559.523999999999,-8.9200706395477614E-2,9748.1319999999996,-1.338974482495725E-2,null,1.2999999999999999E-3,null,1.2999999999999999E-3,1.2999999999999999E-3,null,1.2975285784999999E-3,1.2999999999999999E-3,null,1.298978685E-3,8.5154128134999998E-4,null,4.3762430741000003E-4,null,-3.1446540888000001E-3,-3.3536585366000002E-2,-0.19039216476000001,5.8900570436999998E-2,-0.28356132039999998,-0.61870634159000004]
[null,{"$f":"IF($B157>=Base!$G$3,\"\",$B157+1)","v":152},{"$f":"IF($B158=\"\",\"\",INDEX(Base!$B:$B,MATCH('Guia de BTC'!$B158,Base!$F:$F,0)))","v":"XINA11<XBSP>"},"XINA11","Trend China","-",5.71,{"$f":"IFERROR((_xll.ECONOMATICA(C158,\"Partic in ibovespa\")/100),\"\")","v":""},null,"",null,null,null,null,null,"","","",null,30738.410260000001,45075.898930000003,"2024-05-17",0.68192561856025968,null,1362.5786751999999,22.558998478005833,null,5500.6350000000002,5471.2439999999997,29.391000000000531,6239.4840000000004,4.7104856747770376E-3,null,5500.6350000000002,5590.6289999999999,-1.609729424005768E-2,5560.866,-1.0831226647072589E-2,null,5.0000000000000001E-3,null,null,5.0000000000000001E-3,null,null,5.0000000000000001E-3,null,null,5.0005782303999997E-3,null,5.0000000000000001E-3,null,-8.6805555556999994E-3,-4.0336134453000001E-2,0.14889336015999999,7.3308270677000006E-2,-4.1946308724999999E-2,-0.35625704621999998]
[null,{"$f":"IF($B158>=Base!$G$3,\"\",$B158+1)","v":153},{"$f":"IF($B159=\"\",\"\",INDEX(Base!$B:$B,MATCH('Guia de BTC'!$B159,Base!$F:$F,0)))","v":"EVEN3<XBSP>"},"EVEN3","Even","Incorporações",6.65,{"$f":"IFERROR((_xll.ECONOMATICA(C159,\"Partic in ibovespa\")/100),\"\")","v":""},"ON","ON",0.97152346999999994,null,0.97152346999999994,1322332.7893999999,1322332.7893999999,1322332.7893999999,1284677.3400526671,2.3581936339562126E-2,null,30295.179250000001,39634.089849999997,"2023-12-07",0.76437176593825584,null,4047.4845651999999,7.4849400317609396,null,4654.7030000000004,5455.6450000000004,-800.94200000000001,12517.3,6.3986802265664319E-2,null,4654.7030000000004,4616.1639999999998,8.348706848370302E-3,4659.8310000000001,-1.1004690942654216E-3,null,1.2E-2,null,1.2E-2,1.2011443883E-2,null,1.0952967688E-2,1.2297179929E-2,null,1.1746307052000001E-2,1.2129218383E-2,null,1.0263611956E-2,null,-2.9985007495000001E-3,4.7244094489000001E-2,-0.13388942105000001,8.5778558812E-2,0.17909726282999999,2.3787190547999999E-4]
[null,{"$f":"IF($B159>=Base!$G$3,\"\",$B159+1)","v":154},{"$f":"IF($B160=\"\",\"\",INDEX(Base!$B:$B,MATCH('Guia de BTC'!$B160,Base!$F:$F,0)))","v":"ARML3<XBSP>"},"ARML3","Armac","Máq. e equip. industriais",9.01,{"$f":"IFERROR((_xll.ECONOMATICA(C160,\"Partic in ibovespa\")/100),\"\")","v":""},"ON","ON",0.48839842402,null,0.48839842402,3118637.4989,3118637.4989,3118637.4989,1523137.6395524344,1.8780824041880844E-2,null,28605.78,54917.080430000002,"2023-12-08",0.52089040014540333,null,5553.3222174000002,5.1511111511539278,null,3203.1239999999998,3103.88,99.243999999999687,18042,5.5007205409599649E-3,null,3203.1239999999998,3193.5079999999998,3.011108786951544E-3,3260.8989999999999,-1.7717506736639188E-2,null,9.1999999999999998E-3,null,9.1000000000000004E-3,9.1394553866999996E-3,null,9.1000000000000004E-3,9.1175822730000002E-3,null,9.1000000000000004E-3,9.0752085700999997E-3,null,9.0463533850000007E-3,null,1.1111111107000001E-3,4.1618497109000001E-2,-0.45747255855000002,-0.24925383138000001,-0.39428698113999999,-0.52158630451999999]
[null,{"$f":"IF($B160>=Base!$G$3,\"\",$B160+1)","v":155},{"$f":"IF($B161=\"\",\"\",INDEX(Base!$B:$B,MATCH('Guia de BTC'!$B161,Base!$F:$F,0)))","v":"AMER3<XBSP>"},"AMER3","Americanas","Produtos diversos",6.52,{"$f":"IFERROR((_xll.ECONOMATICA(C161,\"Partic in ibovespa\")/100),\"\")","v":""},"ON","ON",0.50760098767999995,null,0.50760098767999995,1285642.4957999999,1285642.4957999999,1285642.4957999999,652593.4006714602,4.3166761763167139E-2,null,28170.343854999999,214164.79824999999,"2024-08-15",0.13153582701353209,null,58606.463738999999,0.4806695722242304,null,4203.3220000000001,424298.886,-420095.56400000001,29564.225999999999,14.209591145731332,null,4203.3220000000001,3713.6469999999999,0.13185825147085883,2432.9830000000002,0.72764133575943601,null,0.31459999999999999,0.41070000000000001,null,0.39094694117000001,0.41070000000000001,0.5,0.44367582792999999,0.41070000000000001,0.5,0.96009044266999999,0.92658215070000005,0.88581460815000002,null,-9.1185410338000001E-3,0.12998266897999999,-0.92835164834999995,-0.91849999999999998,-0.99605087826000005,-0.99818154035999995]
[null,{"$f":"IF($B161>=Base!$G$3,\"\",$B161+1)","v":156},{"$f":"IF($B162=\"\",\"\",INDEX(Base!$B:$B,MATCH('Guia de BTC'!$B162,Base!$F:$F,0)))","v":"KEPL3<XBSP>"},"KEPL3","Kepler Weber","Máq. e equip. industriais",10.92,{"$f":"IFERROR((_xll.ECONOMATICA(C162,\"Partic in ibovespa\")/100),\"\")","v":""},"ON","ON",0.98046007979000005,null,0.98046007979000005,1930437.6,1930437.6,1930437.6,1892717.0033256162,1.4879650529115548E-2,null,28162.967560000001,34976.508889999997,"2023-11-27",0.80519664351212505,null,8791.6519129999997,3.2033760934456597,null,2534.6419999999998,2310.511,224.13099999999986,25636.1,8.7427884896688606E-3,null,2534.6419999999998,2538.4589999999998,-1.5036681703348709E-3,2366.2930000000001,7.1144613114267674E-2,null,7.4999999999999997E-3,null,7.0000000000000001E-3,7.4999999999999997E-3,null,6.9936553910000003E-3,7.4999999999999997E-3,null,6.8808459360999996E-3,6.7041999670000001E-3,null,5.7541492377000004E-3,null,-1.8281535648999999E-3,-2.2381378693000002E-2,6.6106515877000005E-2,-1.5581127639999999E-2,0.25594379028999997,1.3189323063]
[null,{"$f":"IF($B162>=Base!$G$3,\"\",$B162+1)","v":157},{"$f":"IF($B163=\"\",\"\",INDEX(Base!$B:$B,MATCH('Guia de BTC'!$B163,Base!$F:$F,0)))","v":"RAPT4<XBSP>"},"RAPT4","Randon Part","Material rodoviário",11.15,{"$f":"IFERROR((_xll.ECONOMATICA(C163,\"Partic in ibovespa\")/100),\"\")","v":""},"PN","PN",0.18288520464999999,0.83006424367999998,0.6010954745,3380839.7,2361324.7000000002,2361324.7000000002,1960051.2011884029,1.4112654217006413E-2,null,27661.524850000002,147447.84426000001,"2023-10-09",0.18760209746589074,null,30108.990652,0.91871312358863733,null,2507.5889999999999,3836.373,-1328.7840000000001,50388,2.6371040723981904E-2,null,2507.5889999999999,2563.154,-2.1678369696085387E-2,3381.1280000000002,-0.25835727011813814,null,1.5E-3,null,1.4E-3,1.5E-3,1.5E-3,1.0598975994000001E-3,1.5563422961E-3,1.5E-3,1.3082359971E-3,1.504549714E-3,1.4295519203000001E-3,1.1896352197999999E-3,null,1.7969451928E-3,1.2715712988E-2,-0.11739735019,-2.1755017368999999E-2,0.31347573398,0.12287115905]
[null,{"$f":"IF($B163>=Base!$G$3,\"\",$B163+1)","v":158},{"$f":"IF($B164=\"\",\"\",INDEX(Base!$B:$B,MATCH('Guia de BTC'!$B164,Base!$F:$F,0)))","v":"LOGG3<XBSP>"},"LOGG3","Log Com Prop","Exploração de imóveis",22.85,{"$f":"IFERROR((_xll.ECONOMATICA(C164,\"Partic in ibovespa\")/100),\"\")","v":""},"ON","ON",0.52412900839999998,null,0.52412900839999998,2117258.15,2117258.15,2117258.15,1109716.4146863185,2.4113398374452203E-2,null,26759.03399,47437.26152,"2024-07-04",0.56409314392480558,null,7720.1786522000002,3.4661159016539784,null,1136.56,1427.4590000000001,-290.89900000000011,8460.2999999999993,3.4384005295320513E-2,null,1136.56,1151.6410000000001,-1.3095226724300524E-2,1319.5150000000001,-0.13865321728059188,null,0.01,null,0.01,0.01,null,0.01,6.9191661681000001E-3,null,6.1956214452000002E-3,4.2008401749999997E-3,null,2.5490368173999999E-3,null,-9.9653379539000001E-3,-2.3504273504000001E-2,3.6046430647E-2,0.17230067587,-7.8575117584000001E-2,-7.6322148382999999E-2]
[null,{"$f":"IF($B164>=Base!$G$3,\"\",$B164+1)","v":159},{"$f":"IF($B165=\"\",\"\",INDEX(Base!$B:$B,MATCH('Guia de BTC'!$B165,Base!$F:$F,0)))","v":"DASA3<XBSP>"},"DASA3","Dasa","Serviços médico-hospitalares análises e diagnósticos",3.06,{"$f":"IFERROR((_xll.ECONOMATICA(C165,\"Partic in ibovespa\")/100),\"\")","v":""},"ON","ON",0.19442360017999999,null,0.19442360017999999,2303567.5225999998,2303567.5225999998,2303567.5225999998,447867.89100161544,5.9518726962955806E-2,null,26656.526720000002,54357.147239999998,"2023-09-19",0.49039598421721742,null,2842.4323478000001,9.3780690121373524,null,8501.1659999999993,8753.9330000000009,-252.76700000000164,26922.400000000001,9.3887246307907783E-3,null,8501.1659999999993,8026.4219999999996,5.9147650098636761E-2,7091.8059999999996,0.19873076054251904,null,3.9800000000000002E-2,0.35010000000000002,2.86E-2,3.4530748707E-2,0.35010000000000002,3.1238057345999999E-2,3.3755900168000001E-2,0.35010000000000002,3.1123610776999999E-2,3.2341018791000001E-2,0.35010000000000002,3.0649127309000001E-2,null,-1.2903225805E-2,2.3411371237999998E-2,-0.68191268190999998,-0.73275109169999997,-0.85042046793000003,-0.93218283831000004]
[null,{"$f":"IF($B165>=Base!$G$3,\"\",$B165+1)","v":160},{"$f":"IF($B166=\"\",\"\",INDEX(Base!$B:$B,MATCH('Guia de BTC'!$B166,Base!$F:$F,0)))","v":"AERI3<XBSP>"},"AERI3","Aeris","Máq. e equip. industriais",8.14,{"$f":"IFERROR((_xll.ECONOMATICA(C166,\"Partic in ibovespa\")/100),\"\")","v":""},"ON","ON",0.57084636371999997,null,0.57084636371999997,498452.41973999998,498452.41973999998,498452.41973999998,284539.75129601412,8.2714861114485311E-2,null,23535.666010000001,33772.674789999997,"2023-10-04",0.69688486791010262,null,4286.4456522,5.4907183992687321,null,2449.8110000000001,1986.021,463.79000000000019,6405.8,7.2401573573948635E-2,null,2449.8110000000001,2425.2089999999998,1.0144280348621582E-2,2421.6849999999999,1.1614227283895495E-2,null,1.89E-2,1.89E-2,1.89E-2,1.89E-2,1.89E-2,1.8893386985E-2,1.89E-2,1.89E-2,1.8894215993000001E-2,1.7040332678000002E-2,1.89E-2,1.6639558416999999E-2,null,-7.3170731703000001E-3,-0.32727272727000001,-0.54777777778000003,-0.55760869565000004,-0.82606837607000005,-0.95789522907000002]
[null,{"$f":"IF($B166>=Base!$G$3,\"\",$B166+1)","v":161},{"$f":"IF($B167=\"\",\"\",INDEX(Base!$B:$B,MATCH('Guia de BTC'!$B167,Base!$F:$F,0)))","v":"GFSA3<XBSP>"},"GFSA3","Gafisa","Incorporações",2.52,{"$f":"IFERROR((_xll.ECONOMATICA(C167,\"Partic in ibovespa\")/100),\"\")","v":""},"ON",{"$f":"LEFT(I167,2)","v":"ON"},0.99815541224000004,null,0.99815541224000004,225395.14032000001,225395.14032000001,{"$f":"IF(N167=\"\",\"\",IF(O167>1,O167,N167))","v":225395.14032000001},{"$f":"IFERROR(IF(J167=\"on\",P167*K167,IF(J167=\"pn\",P167*L167,IF(J167=\"un\",P167*M167,\"\"))),\"\")","v":224979.37920300226},{"$f":"IFERROR(T167/Q167,\"\")","v":0.10388252733559022},null,23371.426510000001,98208.115510000003,"2024-02-07",{"$f":"IFERROR(T167/U167,\"\")","v":0.23797856611575258},null,9567.16,{"$f":"IFERROR(T167/Y167,\"\")","v":2.4428802810865502},null,8943.3369999999995,8140.2790000000005,{"$f":"IF(AB167=\"\",\"\",AB167-AC167)","v":803.05799999999908},75929.100000000006,1.057641931749486E-2,null,8943.3369999999995,9489.6790000000001,{"$f":"IFERROR((AH167/AI167)-1,\"\")","v":-5.7572231895304471E-2},9887.5580000000009,{"$f":"IFERROR((AH167/AK167)-1,\"\")","v":-9.5495874714464524E-2},null,7.8100000000000003E-2,null,7.9299999999999995E-2,7.9041807475000003E-2,null,7.1627099979000006E-2,7.3073883138000006E-2,null,5.8575148434000003E-2,4.9135848184999997E-2,null,4.1697179887000002E-2,null,-7.8740157478000006E-3,-4.1825095057000002E-2,-0.71603944471000003,-0.30215354102000003,-0.72260039978000001,-0.88681354104999999]
[null,{"$f":"IF($B167>=Base!$G$3,\"\",$B167+1)","v":162},{"$f":"IF($B168=\"\",\"\",INDEX(Base!$B:$B,MATCH('Guia de BTC'!$B168,Base!$F:$F,0)))","v":"AZEV4<XBSP>"},"AZEV4","Azevedo","Construção pesada",1.33,{"$f":"IFERROR((_xll.ECONOMATICA(C168,\"Partic in ibovespa\")/100),\"\")","v":""},"PN","PN",0.63919169318000002,0.90654471004000003,0.81533509477999999,248932.11266000001,164006.93106,164006.93106,148679.61576233798,0.15027006806174079,null,22342.095979999998,22368.4012,"2024-09-17",0.99882400088567791,null,7123.5225216999997,3.1363831463914775,null,16167.342000000001,11000.852999999999,5166.4890000000014,70910.7,7.2859088966827315E-2,null,16167.342000000001,16121.063,2.870716403750917E-3,15886.777,1.7660284398780313E-2,null,3.7499999999999999E-2,null,3.2899999999999999E-2,3.6812951298000003E-2,null,3.1526259633999999E-2,3.6706779911E-2,null,3.2169236555000001E-2,3.4847432960000001E-2,1E-3,3.3373013112999998E-2,null,1.5267175573000001E-2,-0.11333333332999999,-0.32142857142999998,-0.37558685446000001,-0.36057692308,-0.73021963824000002]
[null,{"$f":"IF($B168>=Base!$G$3,\"\",$B168+1)","v":163},{"$f":"IF($B169=\"\",\"\",INDEX(Base!$B:$B,MATCH('Guia de BTC'!$B169,Base!$F:$F,0)))","v":"GUAR3<XBSP>"},"GUAR3","Guararapes","Tecidos vestuário e calçados",8.92,{"$f":"IFERROR((_xll.ECONOMATICA(C169,\"Partic in ibovespa\")/100),\"\")","v":""},"ON","ON",0.16414835737,null,0.16414835737,4452841.1648000004,4452841.1648000004,4452841.1648000004,730926.56283143756,3.0342708457723189E-2,null,22178.2916,50706.886919999997,"2023-09-21",0.43738223636151397,null,9028.2839999999997,2.4565345529670979,null,2501.9389999999999,3724.9540000000002,-1223.0150000000003,33149.5,3.6893919968626988E-2,null,2501.9389999999999,2525.4050000000002,-9.2919749505526728E-3,2487.886,5.648570714252843E-3,null,1.18E-2,null,5.0000000000000001E-3,1.18E-2,null,4.5507900774000003E-3,1.1827448818E-2,null,5.4093976695000004E-3,1.2880027622000001E-2,null,4.7134134525999996E-3,null,-2.2371364657000001E-3,3.0023094686999999E-2,0.38687615180000001,0.54517377049000004,-1.4031281045E-2,-0.33002159785000001]
[null,{"$f":"IF($B169>=Base!$G$3,\"\",$B169+1)","v":164},{"$f":"IF($B170=\"\",\"\",INDEX(Base!$B:$B,MATCH('Guia de BTC'!$B170,Base!$F:$F,0)))","v":"AURA33<XBSP>"},"AURA33","Aura 360","Minerais metálicos",21.13,{"$f":"IFERROR((_xll.ECONOMATICA(C170,\"Partic in ibovespa\")/100),\"\")","v":""},"ON","ON",0.40522300696000002,null,0.40522300696000002,4589343.7675999999,4589343.7675999999,4589343.7675999999,1859707.6814800075,1.1382370348201179E-2,null,21167.881570000001,21167.881570000001,"2024-09-18",1,null,6359.7464183000002,3.3284159741165134,null,1057.71,308.22899999999998,749.48099999999999,4750.0389999999998,0.15778417819306326,null,1057.71,621.66300000000001,0.7014202228538613,538.18700000000001,0.96532060417661514,null,null,null,2.35E-2,0.11890000000000001,null,3.5401211123000001E-2,0.10332464629,null,3.9305043211999999E-2,0.10593685646999999,null,5.4323643222E-2,null,-1.7209302326000001E-2,0.16098901098999999,0.8771722381,1.141110005,1.2503247845000001,0.35990466837000001]
[null,{"$f":"IF($B170>=Base!$G$3,\"\",$B170+1)","v":165},{"$f":"IF($B171=\"\",\"\",INDEX(Base!$B:$B,MATCH('Guia de BTC'!$B171,Base!$F:$F,0)))","v":"QUAL3<XBSP>"},"QUAL3","Qualicorp","Serviços médico-hospitalares análises e diagnósticos",2.12,{"$f":"IFERROR((_xll.ECONOMATICA(C171,\"Partic in ibovespa\")/100),\"\")","v":""},"ON","ON",0.98046924922000001,null,0.98046924922000001,592006.42143999995,592006.42143999995,592006.42143999995,580444.09156269568,3.640125891042479E-2,null,21128.895659999998,77442.749790000002,"2023-09-26",0.2728324564571224,null,9802.0593477999992,2.1555567978418968,null,10294.253000000001,11278.593000000001,-984.34000000000015,62420.2,1.5769574592840143E-2,null,10294.253000000001,10299.064,-4.6712982849705931E-4,10293.684999999999,5.5179461971199828E-5,null,1.5E-3,null,1.5E-3,1.5377374265E-3,null,6.3043893042999996E-4,1.7827834897E-3,null,1.2416785087999999E-3,1.8721252222E-3,null,1.5484217883000001E-3,null,-2.3041474653999999E-2,-6.6079295154999995E-2,-0.37647058824000001,-0.29801324502999998,-0.74454865535000003,-0.90153996765]
[null,{"$f":"IF($B171>=Base!$G$3,\"\",$B171+1)","v":166},{"$f":"IF($B172=\"\",\"\",INDEX(Base!$B:$B,MATCH('Guia de BTC'!$B172,Base!$F:$F,0)))","v":"GRND3<XBSP>"},"GRND3","Grendene","Calçados",6.07,{"$f":"IFERROR((_xll.ECONOMATICA(C172,\"Partic in ibovespa\")/100),\"\")","v":""},"ON","ON",0.29717797952000002,null,0.29717797952000002,5476111.2000000002,5476111.2000000002,5476111.2000000002,1627379.6620428427,1.2762672131423755E-2,null,20769.713059999998,104132.43197000001,"2024-03-15",0.19945479681088829,null,4317.5767826000001,4.8105023039086969,null,3395.5819999999999,7893.165,-4497.5830000000005,19860.900000000001,0.22645413853350049,null,3395.5819999999999,3315.799,2.4061470553552899E-2,3479.2669999999998,-2.4052480019498335E-2,null,1.6000000000000001E-3,1.6000000000000001E-3,1.6000000000000001E-3,1.6000000000000001E-3,1.6000000000000001E-3,1.5897609037E-3,1.6000000000000001E-3,1.6000000000000001E-3,1.5933989142E-3,1.6000000000000001E-3,1.6000000000000001E-3,1.5121100149E-3,null,-8.1699346409999998E-3,1.1666666667E-2,-0.10468015821,-8.6588347344999997E-2,5.0099908929E-2,-0.19412921388000001]
[null,{"$f":"IF($B172>=Base!$G$3,\"\",$B172+1)","v":167},{"$f":"IF($B173=\"\",\"\",INDEX(Base!$B:$B,MATCH('Guia de BTC'!$B173,Base!$F:$F,0)))","v":"PNVL3<XBSP>"},"PNVL3","Dimed","Medicamentos e outros produtos",10.38,{"$f":"IFERROR((_xll.ECONOMATICA(C173,\"Partic in ibovespa\")/100),\"\")","v":""},"ON","ON",0.47604243350999997,null,0.47604243350999997,1550333.3515999999,1550333.3515999999,1550333.3515999999,738024.46144737839,2.7020876125014297E-2,null,19942.06755,22827.882969999999,"2024-09-10",0.87358374739381284,null,3751.1875217000002,5.3162011855281648,null,1949.0609999999999,1446.905,502.15599999999995,7228.9,6.9465063840971647E-2,null,1949.0609999999999,1941.152,4.0743846952737695E-3,1966.509,-8.8725757166634445E-3,null,1.4E-3,null,1.2999999999999999E-3,1.3728226630000001E-3,null,1.2439565324E-3,1.2505657511E-3,null,1.2339142032E-3,1.0512965705999999E-3,1E-3,1.0178191872E-3,null,2.8985507251000002E-3,3.0784508440999999E-2,-0.21213978658999999,-0.12478453949,-7.9101146984000004E-2,-0.32780404740000002]
[null,{"$f":"IF($B173>=Base!$G$3,\"\",$B173+1)","v":168},{"$f":"IF($B174=\"\",\"\",INDEX(Base!$B:$B,MATCH('Guia de BTC'!$B174,Base!$F:$F,0)))","v":"SOJA3<XBSP>"},"SOJA3","Boa Safra","Agricultura",12.75,{"$f":"IFERROR((_xll.ECONOMATICA(C174,\"Partic in ibovespa\")/100),\"\")","v":""},"ON","ON",0.34165439324000002,null,0.34165439324000002,1718780.8859999999,1718780.8859999999,1718780.8859999999,587229.04071883962,3.3905350024289488E-2,null,19910.206170000001,38475.662300000004,"2024-04-18",0.51747533323162576,null,10805.736086999999,1.8425589899380634,null,1542.8209999999999,364.57100000000003,1178.25,10661.9,0.11051032180005441,null,1542.8209999999999,1535.4010000000001,4.8326137601837349E-3,1455.251,6.0175186273708103E-2,null,1.9599999999999999E-2,null,1.9599999999999999E-2,1.9632158404E-2,null,1.7143370468000001E-2,1.9732709381999999E-2,null,1.7932862176E-2,1.9895060693E-2,null,2.0788898835E-2,null,-9.3240093238000001E-3,-7.7821011672999998E-3,-0.21441774491999999,-2.7733710591999999E-2,-9.2541760841E-4,-1.495638392E-3]
[null,{"$f":"IF($B174>=Base!$G$3,\"\",$B174+1)","v":169},{"$f":"IF($B175=\"\",\"\",INDEX(Base!$B:$B,MATCH('Guia de BTC'!$B175,Base!$F:$F,0)))","v":"RANI3<XBSP>"},"RANI3","Irani","Embalagens",7.72,{"$f":"IFERROR((_xll.ECONOMATICA(C175,\"Partic in ibovespa\")/100),\"\")","v":""},"ON",{"$f":"LEFT(I175,2)","v":"ON"},0.44272981221000002,null,0.44272981221000002,1846963.68,1846963.68,{"$f":"IF(N175=\"\",\"\",IF(O175>1,O175,N175))","v":1846963.68},{"$f":"IFERROR(IF(J175=\"on\",P175*K175,IF(J175=\"pn\",P175*L175,IF(J175=\"un\",P175*M175,\"\"))),\"\")","v":817705.88320509053},{"$f":"IFERROR(T175/Q175,\"\")","v":2.3820713718791475E-2},null,19478.337749999999,21577.19644,"2024-02-26",0.90272792409169911,null,10726.638086999999,1.815884678127297,null,2493.884,1880.635,613.24900000000002,17351.7,3.5342300754392944E-2,null,2493.884,2498.9520000000002,-2.0280501586266153E-3,2480.8490000000002,5.2542496540497474E-3,null,4.0000000000000001E-3,null,2.3999999999999998E-3,3.8416973052999999E-3,null,3.0362000782999999E-3,3.6750608905000001E-3,null,3.1923653629999998E-3,3.3905160881000001E-3,null,3.0829824547999999E-3,null,-5.1546391751000004E-3,-3.3792240299999998E-2,-0.25408917071999998,-0.34268512502999998,0.13646456424,0.56532328030000001]
[null,{"$f":"IF($B175>=Base!$G$3,\"\",$B175+1)","v":170},{"$f":"IF($B176=\"\",\"\",INDEX(Base!$B:$B,MATCH('Guia de BTC'!$B176,Base!$F:$F,0)))","v":"PGMN3<XBSP>"},"PGMN3","Pague Menos","Medicamentos e outros produtos",2.87,{"$f":"IFERROR((_xll.ECONOMATICA(C176,\"Partic in ibovespa\")/100),\"\")","v":""},"ON","ON",0.30996742551000001,null,0.30996742551000001,1668357.9550000001,1668357.9550000001,1668357.9550000001,517136.62014047848,3.6949976613161378E-2,null,19108.186020000001,26868.797449999998,"2024-04-22",0.71116640242490647,null,2387.0780869999999,8.0048432952666957,null,6190.7349999999997,5878.9620000000004,311.77299999999923,18959.2,1.644441748596983E-2,null,6190.7349999999997,6085.0370000000003,1.7370149105091715E-2,6025.232,2.7468319892080428E-2,null,6.0600000000000001E-2,null,3.6900000000000002E-2,6.1655021499999997E-2,null,3.8427733003000002E-2,6.1746907581000002E-2,null,5.2059941838000001E-2,6.6033979734999998E-2,null,5.7713703488E-2,null,-3.4722222226000001E-3,-6.8181818182999995E-2,-0.2028676968,-0.14454094291,-0.34083146115000001,-0.74315502899999997]
[null,{"$f":"IF($B176>=Base!$G$3,\"\",$B176+1)","v":171},{"$f":"IF($B177=\"\",\"\",INDEX(Base!$B:$B,MATCH('Guia de BTC'!$B177,Base!$F:$F,0)))","v":"FRAS3<XBSP>"},"FRAS3","Fras-Le","Material rodoviário",20.66,{"$f":"IFERROR((_xll.ECONOMATICA(C177,\"Partic in ibovespa\")/100),\"\")","v":""},"ON","ON",0.33152153683000002,null,0.33152153683000002,5516550.5599999996,5516550.5599999996,5516550.5599999996,1828855.3196515972,1.02954229717783E-2,null,18828.839070000002,29876.770789999999,"2024-06-20",0.63021667242238133,null,11752.452347,1.6021200098553354,null,969.80200000000002,969.96100000000001,-0.15899999999999181,11414.7,1.3929406817524053E-5,null,969.80200000000002,951.12099999999998,1.9641034106070654E-2,1017.7910000000001,-4.7150151651960015E-2,null,3.32E-2,null,3.32E-2,3.32E-2,null,3.32E-2,3.32E-2,null,3.32E-2,3.32E-2,null,3.2996827495999997E-2,null,9.6899224809000005E-4,4.6605876393999997E-2,0.23911169095000001,0.44571765044,0.77768661656000004,0.52403854205]
[null,{"$f":"IF($B177>=Base!$G$3,\"\",$B177+1)","v":172},{"$f":"IF($B178=\"\",\"\",INDEX(Base!$B:$B,MATCH('Guia de BTC'!$B178,Base!$F:$F,0)))","v":"JALL3<XBSP>"},"JALL3","Jallesmachad","Açúcar e álcool",6.71,{"$f":"IFERROR((_xll.ECONOMATICA(C178,\"Partic in ibovespa\")/100),\"\")","v":""},"ON","ON",0.31701089178000003,null,0.31701089178000003,2023384.8254,2023384.8254,{"$f":"IF(N178=\"\",\"\",IF(O178>1,O178,N178))","v":2023384.8254},{"$f":"IFERROR(IF(J178=\"on\",P178*K178,IF(J178=\"pn\",P178*L178,IF(J178=\"un\",P178*M178,\"\"))),\"\")","v":641435.02791417367},{"$f":"IFERROR(T178/Q178,\"\")","v":2.88731018794285E-2},null,18520.21891,41402.744839999999,"2024-07-03",0.44731862540928097,null,3450.0585652,5.3680882686483855,null,2764.1149999999998,3417.3969999999999,-653.28200000000015,12137.9,5.3821666021305184E-2,null,2764.1149999999998,2798.826,-1.240198568971429E-2,2821.0929999999998,-2.019713635814202E-2,null,1.78E-2,null,1.78E-2,1.78E-2,null,1.78E-2,1.78E-2,null,1.78E-2,1.7919222591000001E-2,null,1.7233393175E-2,null,-4.4510385750999998E-3,-1.4880952385E-3,-0.13576296119,-0.25378652155999998,-4.3227679434000004E-3,-0.25266558838999997]
[null,{"$f":"IF($B178>=Base!$G$3,\"\",$B178+1)","v":173},{"$f":"IF($B179=\"\",\"\",INDEX(Base!$B:$B,MATCH('Guia de BTC'!$B179,Base!$F:$F,0)))","v":"ABCB4<XBSP>"},"ABCB4","Abc Brasil","Bancos",23.05,{"$f":"IFERROR((_xll.ECONOMATICA(C179,\"Partic in ibovespa\")/100),\"\")","v":""},"PN","PN",0,0.60713809202000002,0.30199751564999999,5534191.1560000004,2699923.8788000001,2699923.8788000001,1639226.6323738699,9.8201690858866764E-3,null,16097.4827,180556.20981999999,"2024-06-26",8.9154965736420233E-2,null,16656.730478000001,0.96642511693764588,null,690.35500000000002,2640.51,-1950.1550000000002,14311.5,0.13626489187017435,null,690.35500000000002,667.19500000000005,3.4712490351396452E-2,688.72299999999996,2.3696028737243413E-3,null,2.0000000000000001E-4,null,4.0000000000000002E-4,3.6513085939E-4,null,4.0056150879999998E-4,3.7558323958000002E-4,null,5.7398960898000001E-4,4.5174497203999999E-4,1E-3,5.337732007E-4,null,-6.0370849515000002E-3,-8.6021505384999992E-3,-9.5529040645E-3,0.20509209341000001,0.32051279602999999,0.93819839840999997]
[null,{"$f":"IF($B179>=Base!$G$3,\"\",$B179+1)","v":174},{"$f":"IF($B180=\"\",\"\",INDEX(Base!$B:$B,MATCH('Guia de BTC'!$B180,Base!$F:$F,0)))","v":"USIM3<XBSP>"},"USIM3","Usiminas","Siderurgia",6.1,{"$f":"IFERROR((_xll.ECONOMATICA(C180,\"Partic in ibovespa\")/100),\"\")","v":""},"ON","ON",0.22831529767,0.94056613911999998,0.53969558559999997,7593496.1634999998,4286677.5707999999,4286677.5707999999,978714.06559251447,1.612763798428108E-2,null,15784.34614,34095.264649999997,"2024-03-12",0.46294833907382504,null,2201.7796521999999,7.1689036294928119,null,2557.3020000000001,2868.1610000000001,-310.85899999999992,14134.5,2.1992925112313835E-2,null,2557.3020000000001,2493.3440000000001,2.5651494539060904E-2,2559.5590000000002,-8.8179252754094772E-4,null,3.9800000000000002E-2,null,3.9800000000000002E-2,3.9800000000000002E-2,null,3.9800000000000002E-2,3.9800000000000002E-2,null,3.9800000000000002E-2,3.9800000000000002E-2,null,3.9558079718000003E-2,null,2.0066889630000001E-2,1.6420361244E-3,-0.31489197767999999,-0.10848743912,-0.16889943876999999,-0.49032380024]
[null,{"$f":"IF($B180>=Base!$G$3,\"\",$B180+1)","v":175},{"$f":"IF($B181=\"\",\"\",INDEX(Base!$B:$B,MATCH('Guia de BTC'!$B181,Base!$F:$F,0)))","v":"SEQL3<XBSP>"},"SEQL3","Sequoia Log","Serviços diversos",4.97,{"$f":"IFERROR((_xll.ECONOMATICA(C181,\"Partic in ibovespa\")/100),\"\")","v":""},"ON","ON",0.97194854913999995,null,0.97194854913999995,111415.79008000001,111415.79008000001,111415.79008000001,108290.4155195428,0.13758316531079556,null,14898.93814,20848.24928,"2024-04-22",0.71463737505732661,null,5270.9579565000004,2.8266091786270158,null,2609.8560000000002,2204.203,405.65300000000025,33471.800000000003,1.2119246649418323E-2,null,2609.8560000000002,2428.8229999999999,7.4535279021979095E-2,2223.8150000000001,0.17359402648151945,null,0.13220000000000001,null,0.13220000000000001,0.13194119015,null,0.13109041198999999,0.13182609814999999,0.13100000000000001,0.13105393148,0.13467919102000001,0.13352793566999999,0.13296793060000001,null,-9.9601593620000008E-3,-0.22222222221999999,-0.34605263157999999,-0.51274509804000001,-0.96219669910000005,-0.98480739469]
[null,{"$f":"IF($B181>=Base!$G$3,\"\",$B181+1)","v":176},{"$f":"IF($B182=\"\",\"\",INDEX(Base!$B:$B,MATCH('Guia de BTC'!$B182,Base!$F:$F,0)))","v":"TRIS3<XBSP>"},"TRIS3","Trisul","Incorporações",5.23,{"$f":"IFERROR((_xll.ECONOMATICA(C182,\"Partic in ibovespa\")/100),\"\")","v":""},"ON","ON",0.38311458701000001,null,0.38311458701000001,952450.99,952450.99,952450.99,364897.86768111563,3.6863138706403953E-2,null,13451.280710000001,24299.31034,"2023-11-06",0.55356635730757131,null,1957.2090435,6.8726847316961113,null,2840.7829999999999,3150.5329999999999,-309.75,10132.299999999999,3.0570551602301554E-2,null,2840.7829999999999,2700.27,5.203664818703313E-2,2712.5520000000001,4.727319513137429E-2,null,9.9000000000000008E-3,null,9.9000000000000008E-3,9.9000000000000008E-3,null,9.8660817678999993E-3,9.9000000000000008E-3,null,9.8209294464999992E-3,9.8278029912000006E-3,null,8.2631205359000003E-3,null,2.1484375E-2,0.13203463203999999,-5.8625278008999998E-2,-6.5073050075E-2,0.17585051429000001,-0.21054551996000001]
[null,{"$f":"IF($B182>=Base!$G$3,\"\",$B182+1)","v":177},{"$f":"IF($B183=\"\",\"\",INDEX(Base!$B:$B,MATCH('Guia de BTC'!$B183,Base!$F:$F,0)))","v":"ITSA3<XBSP>"},"ITSA3","Itausa","Bancos",11.09,{"$f":"IFERROR((_xll.ECONOMATICA(C183,\"Partic in ibovespa\")/100),\"\")","v":""},"ON","ON",0.36220577764,0.81203166812000005,0.65744753349999996,114593052.58,39361759.18,39361759.18,14257056.59307031,8.9657175915349623E-4,null,12782.47431,13209.106519999999,"2024-09-17",0.96770166026339233,null,1392.0026522000001,9.1827945081841982,null,1154.8969999999999,945.33900000000006,209.55799999999988,3401.8,6.1602093009583123E-2,null,1154.8969999999999,1194.7760000000001,-3.3377804709836978E-2,1114.7349999999999,3.6028293720032245E-2,null,9.1000000000000004E-3,null,2.0999999999999999E-3,9.1000000000000004E-3,null,4.1648513779000002E-3,9.2382577468999999E-3,1E-3,4.0953053079000002E-3,9.3441108462999998E-3,1E-3,4.2774784753000002E-3,null,-5.3811659191000004E-3,1.7760751060999998E-2,0.12903820528000001,0.33750704744999999,0.58125379034000002,0.50102579354999999]
[null,{"$f":"IF($B183>=Base!$G$3,\"\",$B183+1)","v":178},{"$f":"IF($B184=\"\",\"\",INDEX(Base!$B:$B,MATCH('Guia de BTC'!$B184,Base!$F:$F,0)))","v":"UTEC11<XBSP>"},"UTEC11","Trend Us Tec","-",18.239999999999998,{"$f":"IFERROR((_xll.ECONOMATICA(C184,\"Partic in ibovespa\")/100),\"\")","v":""},null,"",null,null,null,null,null,"","","",null,12166.29687,23075.85296,"2023-10-30",0.52723064629893535,null,2152.8706691000002,5.6511972802741912,null,962.73699999999997,990.51700000000005,-27.780000000000086,1995.1320000000001,1.3923890750085752E-2,null,962.73699999999997,963.73699999999997,-1.0376274855069534E-3,963.73,-1.0303715771015076E-3,null,null,null,null,0.03,null,null,3.4414441465000001E-2,null,0.08,4.3513690280000003E-2,null,3.7398851858000001E-2,null,-9.2341118960999995E-3,-4.8016701462000003E-2,0.30192719486000003,0.48413344182000001,0.76402321083000002]
[null,{"$f":"IF($B184>=Base!$G$3,\"\",$B184+1)","v":179},{"$f":"IF($B185=\"\",\"\",INDEX(Base!$B:$B,MATCH('Guia de BTC'!$B185,Base!$F:$F,0)))","v":"VULC3<XBSP>"},"VULC3","Vulcabras","Calçados",18,{"$f":"IFERROR((_xll.ECONOMATICA(C185,\"Partic in ibovespa\")/100),\"\")","v":""},"ON","ON",0.35083217333,null,0.35083217333,4908006,4908006,{"$f":"IF(N185=\"\",\"\",IF(O185>1,O185,N185))","v":4908006},{"$f":"IFERROR(IF(J185=\"on\",P185*K185,IF(J185=\"pn\",P185*L185,IF(J185=\"un\",P185*M185,\"\"))),\"\")","v":1721886.4116966799},{"$f":"IFERROR(T185/Q185,\"\")","v":7.0551745210821592E-3},null,12148.209140000001,121076.74059,"2024-02-02",0.10033478834004347,null,13451.623,0.9031035987255962,null,679.49599999999998,1576.4490000000001,-896.95300000000009,18914.400000000001,4.742169986888297E-2,null,679.49599999999998,668.32,1.6722528130237002E-2,713.44600000000003,-4.7585942033454565E-2,null,1.8E-3,null,1.8E-3,1.8E-3,null,1.8E-3,1.9393048447E-3,null,1.8523729279999999E-3,7.9930381973000004E-4,null,9.8950366516000008E-4,null,-2.7700831014999998E-3,1.8675721562000001E-2,2.4158040903999999E-2,-8.1112760363000001E-3,0.59591759584000004,1.5792966638000001]
[null,{"$f":"IF($B185>=Base!$G$3,\"\",$B185+1)","v":180},{"$f":"IF($B186=\"\",\"\",INDEX(Base!$B:$B,MATCH('Guia de BTC'!$B186,Base!$F:$F,0)))","v":"ROMI3<XBSP>"},"ROMI3","Romi","Máq. e equip. industriais",11.61,{"$f":"IFERROR((_xll.ECONOMATICA(C186,\"Partic in ibovespa\")/100),\"\")","v":""},"ON","ON",0.53538520740999995,null,0.53538520740999995,1081712.3726999999,1081712.3726999999,1081712.3726999999,579132.8030159527,2.0397255134716671E-2,null,11812.71954,24739.823369999998,"2023-10-26",0.47747792550226281,null,2474.6154348,4.7735576905729236,null,1074.7059999999999,1267.6369999999999,-192.93100000000004,2953,6.5333897731120902E-2,null,1074.7059999999999,998.06600000000003,7.6788508976360248E-2,1019.998,5.3635399285096419E-2,null,1.2999999999999999E-3,null,1.2999999999999999E-3,1.2999999999999999E-3,null,1.2999999999999999E-3,1.2999999999999999E-3,1.2999999999999999E-3,1.2999999999999999E-3,1.2714367412E-3,1.2999999999999999E-3,1.258535009E-3,null,5.0678733032000003E-2,5.5454545453999998E-2,-6.2289180540000003E-2,-5.9084773197E-2,0.2289975206,-0.16545827694000001]
[null,{"$f":"IF($B186>=Base!$G$3,\"\",$B186+1)","v":181},{"$f":"IF($B187=\"\",\"\",INDEX(Base!$B:$B,MATCH('Guia de BTC'!$B187,Base!$F:$F,0)))","v":"PLPL3<XBSP>"},"PLPL3","Planoeplano","Incorporações",13.07,{"$f":"IFERROR((_xll.ECONOMATICA(C187,\"Partic in ibovespa\")/100),\"\")","v":""},"ON","ON",0.26748147876,null,0.26748147876,2591205.92,2591205.92,2591205.92,693099.5912532662,1.7036454759190935E-2,null,11807.95983,25236.944329999998,"2023-10-30",0.46788389575212891,null,8848.8775217000002,1.3344019963033138,null,959.64099999999996,718.31299999999999,241.32799999999997,21769.3,1.1085703261014363E-2,null,959.64099999999996,970.84500000000003,-1.1540462174703503E-2,950.80200000000002,9.2963624392881083E-3,null,9.2799999999999994E-2,null,8.6400000000000005E-2,9.2799999999999994E-2,null,7.6335796040000001E-2,9.1886239553000001E-2,null,7.7170706221999993E-2,8.9765879664000001E-2,null,7.5455711731000005E-2,null,1.5325670501E-3,8.6450540317000002E-2,0.16915301032999999,0.38355695649999999,3.0179469274000001,2.9057524384]
[null,{"$f":"IF($B187>=Base!$G$3,\"\",$B187+1)","v":182},{"$f":"IF($B188=\"\",\"\",INDEX(Base!$B:$B,MATCH('Guia de BTC'!$B188,Base!$F:$F,0)))","v":"VLID3<XBSP>"},"VLID3","Valid","Serviços diversos",23.84,{"$f":"IFERROR((_xll.ECONOMATICA(C188,\"Partic in ibovespa\")/100),\"\")","v":""},"ON","ON",0.94939709878,null,0.94939709878,1913853.6725000001,1913853.6725000001,1913853.6725000001,1817007.1241609484,6.4519199259680908E-3,null,11723.18447,12212.37772,"2024-09-03",0.95994283331092378,null,9888.0646087000005,1.1855893882090305,null,512.57600000000002,446.19600000000003,66.38,12064.3,5.5021841300365538E-3,null,512.57600000000002,536.48500000000001,-4.4566017689217752E-2,460.447,0.11321389866803355,null,2.0000000000000001E-4,null,4.0000000000000002E-4,2.0000000000000001E-4,null,3.8576211501E-4,2.0000000000000001E-4,null,5.9494315332999997E-4,3.4888135871000001E-4,null,4.9547705758999996E-4,null,-2.9276453369999999E-3,4.7912087912000002E-2,0.23435726370000001,0.41723280253,1.7127795071,2.5367671067000002]
[null,{"$f":"IF($B188>=Base!$G$3,\"\",$B188+1)","v":183},{"$f":"IF($B189=\"\",\"\",INDEX(Base!$B:$B,MATCH('Guia de BTC'!$B189,Base!$F:$F,0)))","v":"BLAU3<XBSP>"},"BLAU3","Blau","Medicamentos e outros produtos",13.98,{"$f":"IFERROR((_xll.ECONOMATICA(C189,\"Partic in ibovespa\")/100),\"\")","v":""},"ON","ON",0.16545006573000001,null,0.16545006573000001,2483976.7311999998,2483976.7311999998,2483976.7311999998,410974.11344883055,2.6336147523188479E-2,null,10823.47488,108666.65919999999,"2023-11-10",9.9602536414407417E-2,null,5130.1034782999996,2.1097966007474485,null,783.31899999999996,798.82799999999997,-15.509000000000015,4821.3,3.216767261941803E-3,null,783.31899999999996,756.303,3.5721132932171384E-2,747.17100000000005,4.8379822022000196E-2,null,2.8299999999999999E-2,null,9.2999999999999992E-3,2.8426924007000001E-2,null,9.7286671110000007E-3,2.8620474529E-2,null,2.3344396399999998E-2,2.9633476977000001E-2,null,2.1367161759000001E-2,null,-3.8514442916000001E-2,7.1581961310999997E-4,-0.12544892190000001,-0.13805506356,-0.51711103181999996,-0.68351319069000005]
[null,{"$f":"IF($B189>=Base!$G$3,\"\",$B189+1)","v":184},{"$f":"IF($B190=\"\",\"\",INDEX(Base!$B:$B,MATCH('Guia de BTC'!$B190,Base!$F:$F,0)))","v":"PTBL3<XBSP>"},"PTBL3","Portobello","Produtos para construção",4.9000000000000004,{"$f":"IFERROR((_xll.ECONOMATICA(C190,\"Partic in ibovespa\")/100),\"\")","v":""},"ON","ON",0.38753497967,null,0.38753497967,690836.3,690836.3,690836.3,267723.23147579806,3.9515685402730379E-2,null,10579.26699,26599.423900000002,"2023-10-09",0.39772541803057621,null,2119.2436957,4.9920011612942883,null,2135.2330000000002,2716.8159999999998,-581.58299999999963,12566.9,4.6278955032665145E-2,null,2135.2330000000002,2145.962,-4.9996225469043365E-3,2133.893,6.2796025855105242E-4,null,1.9300000000000001E-2,null,1.9300000000000001E-2,1.9300000000000001E-2,null,1.9300000000000001E-2,1.9300000000000001E-2,null,1.9300000000000001E-2,1.9290493118000001E-2,null,1.7817547364999999E-2,null,-1.6064257028E-2,2.0449897747E-3,-0.34316353887000001,-0.17785234898999999,-0.55371874786999997,-0.50842307461000003]
[null,{"$f":"IF($B190>=Base!$G$3,\"\",$B190+1)","v":185},{"$f":"IF($B191=\"\",\"\",INDEX(Base!$B:$B,MATCH('Guia de BTC'!$B191,Base!$F:$F,0)))","v":"BRAP3<XBSP>"},"BRAP3","Bradespar","Minerais metálicos",17.47,{"$f":"IFERROR((_xll.ECONOMATICA(C191,\"Partic in ibovespa\")/100),\"\")","v":""},"ON","ON",0.21971891738999999,0.98378168896999996,0.71557041156000001,7142920.1500000004,2410685.2999999998,2410685.2999999998,529673.16428398725,1.9163022472020022E-2,null,10150.13875,19878.69846,"2024-08-30",0.51060378879553669,null,2871.6476087000001,3.5346045661204877,null,572.50199999999995,513.88599999999997,58.615999999999985,1425.8,4.1110955253191181E-2,null,572.50199999999995,563.25300000000004,1.6420684843223121E-2,562.63800000000003,1.753169888987216E-2,null,1.2E-2,null,1.1299999999999999E-2,1.2145002877000001E-2,null,1.0066594642E-2,1.4218373087E-2,null,1.040330052E-2,1.6563381592E-2,1E-3,1.4899393875E-2,null,-1.6328828829999999E-2,-2.4022346367999999E-2,-0.21125074463999999,-7.9724843478999996E-2,4.5929041518000001E-2,0.21848680884999999]
[null,{"$f":"IF($B191>=Base!$G$3,\"\",$B191+1)","v":186},{"$f":"IF($B192=\"\",\"\",INDEX(Base!$B:$B,MATCH('Guia de BTC'!$B192,Base!$F:$F,0)))","v":"MTRE3<XBSP>"},"MTRE3","Mitre Realty","Incorporações",3.98,{"$f":"IFERROR((_xll.ECONOMATICA(C192,\"Partic in ibovespa\")/100),\"\")","v":""},"ON","ON",0.54063830125000001,null,0.54063830125000001,420983.78360000002,420983.78360000002,420983.78360000002,227599.95761930163,4.1802803038804862E-2,null,9514.3161999999993,37966.978690000004,"2024-03-19",0.25059450417912615,null,2583.6492609000002,3.6825107587110097,null,2496.598,2912.8589999999999,-416.26099999999997,14869.3,2.7994660138674986E-2,null,2496.598,2676.4349999999999,-6.7192739595768214E-2,2862.596,-0.12785527542133091,null,1.03E-2,null,1.03E-2,1.03E-2,null,1.03E-2,1.03E-2,null,1.03E-2,1.03E-2,null,1.0073113135999999E-2,null,2.5773195874999998E-2,6.9892473119000001E-2,-0.33042307896000001,-0.21135873162999999,-2.5179462002999999E-2,-0.38689030827999998]
[null,{"$f":"IF($B192>=Base!$G$3,\"\",$B192+1)","v":187},{"$f":"IF($B193=\"\",\"\",INDEX(Base!$B:$B,MATCH('Guia de BTC'!$B193,Base!$F:$F,0)))","v":"MATD3<XBSP>"},"MATD3","Mater Dei","Serviços médico-hospitalares análises e diagnósticos",4.9000000000000004,{"$f":"IFERROR((_xll.ECONOMATICA(C193,\"Partic in ibovespa\")/100),\"\")","v":""},"ON","ON",0.27679779914000002,null,0.27679779914000002,1860074.2363,1860074.2363,1860074.2363,514864.45484485634,1.8275777054439252E-2,null,9409.5479899999991,32817.983619999999,"2023-12-04",0.28671926035899459,null,3332.2321304000002,2.823797269150778,null,1995.8710000000001,1234.3230000000001,761.548,13031.7,5.8438116285672623E-2,null,1995.8710000000001,2043.8720000000001,-2.348532589124952E-2,2155.721,-7.4151525174176003E-2,null,0.1024,null,5.67E-2,0.1024,null,5.67E-2,0.1024,null,5.67E-2,0.10232423992,null,0.10126744749,null,1.8711018712999999E-2,5.1502145920999998E-2,-0.40533611883999998,-0.44828406581000002,-0.39786129423,-0.73367174018000003]
[null,{"$f":"IF($B193>=Base!$G$3,\"\",$B193+1)","v":188},{"$f":"IF($B194=\"\",\"\",INDEX(Base!$B:$B,MATCH('Guia de BTC'!$B194,Base!$F:$F,0)))","v":"ETER3<XBSP>"},"ETER3","Eternit","Produtos para construção",5.91,{"$f":"IFERROR((_xll.ECONOMATICA(C194,\"Partic in ibovespa\")/100),\"\")","v":""},"ON","ON",0.99704562773000005,null,0.99704562773000005,364357.41,364357.41,364357.41,363280.96257152699,2.4570022543481288E-2,null,8925.8214399999997,21617.155839999999,"2023-10-09",0.41290452389133536,null,1340.8836087,6.6566713039722165,null,1519.5830000000001,1638.624,-119.04099999999994,17103.7,6.9599560329051567E-3,null,1519.5830000000001,1552.3330000000001,-2.1097277452711505E-2,1594.6690000000001,-4.7085633444934327E-2,null,7.4999999999999997E-3,null,null,7.4999999999999997E-3,null,null,7.4999999999999997E-3,null,7.4999999999999997E-3,7.4999999999999997E-3,7.4999999999999997E-3,7.4999999999999997E-3,null,1.7211703960000001E-2,8.5324232094999997E-3,-0.28420048921000002,-0.26712756145,-0.49451668556,-0.58595198208999999]
[null,{"$f":"IF($B194>=Base!$G$3,\"\",$B194+1)","v":189},{"$f":"IF($B195=\"\",\"\",INDEX(Base!$B:$B,MATCH('Guia de BTC'!$B195,Base!$F:$F,0)))","v":"SAPR4<XBSP>"},"SAPR4","Sanepar","Água e saneamento",6.5,{"$f":"IFERROR((_xll.ECONOMATICA(C195,\"Partic in ibovespa\")/100),\"\")","v":""},"PN","PN",0.39917293936999998,0.99998411566000001,0.79971368936999998,9586080.3017999995,6548556.6900000004,6548556.6900000004,6548452.6704990268,1.3443426490137764E-3,null,8803.3642099999997,25333.837100000001,"2024-05-06",0.34749430870856907,null,8969.6561304000006,0.98146061365313619,null,1422.578,1191.5129999999999,231.06500000000005,24879.200000000001,9.2874770892954778E-3,null,1422.578,1663.6079999999999,-0.14488389091661014,1433.4680000000001,-7.5969606576499205E-3,null,6.93E-2,null,1E-3,6.93E-2,null,1.2663070994000001E-2,6.9281942779999994E-2,null,3.1434511525999999E-2,6.9026163565999998E-2,null,2.7585807410999998E-2,null,-9.1463414628000003E-3,0.11111111110999999,0.15924183271,0.45584955110000003,1.1170484975999999,1.1395951950000001]
[null,{"$f":"IF($B195>=Base!$G$3,\"\",$B195+1)","v":190},{"$f":"IF($B196=\"\",\"\",INDEX(Base!$B:$B,MATCH('Guia de BTC'!$B196,Base!$F:$F,0)))","v":"USAL11<XBSP>"},"USAL11","Trend Us Lrg","-",13.03,{"$f":"IFERROR((_xll.ECONOMATICA(C196,\"Partic in ibovespa\")/100),\"\")","v":""},null,"",null,null,null,null,null,"","","",null,8580.6512000000002,58598.247750000002,"2024-03-18",0.14643187346843489,null,2486.7280360999998,3.4505788632428249,null,691.89200000000005,1244.4939999999999,-552.60199999999986,5073.4719999999998,0.10891988760359768,null,691.89200000000005,692.38800000000003,-7.1636134652819372E-4,630.53,9.7318129192901281E-2,null,0.08,null,null,2.5006673398E-3,null,null,2.5006673398E-3,null,0.08,9.3544223616999992E-3,null,2.5722410543E-2,null,-8.3713850836000005E-3,-3.5529237601999997E-2,0.32823649336999999,0.43344334432999998,0.53655660377000003]
[null,{"$f":"IF($B196>=Base!$G$3,\"\",$B196+1)","v":191},{"$f":"IF($B197=\"\",\"\",INDEX(Base!$B:$B,MATCH('Guia de BTC'!$B197,Base!$F:$F,0)))","v":"SANB4<XBSP>"},"SANB4","Santander BR","Bancos",15.83,{"$f":"IFERROR((_xll.ECONOMATICA(C197,\"Partic in ibovespa\")/100),\"\")","v":""},"PN","PN",9.345713471E-2,0.10454923039,9.8900392650000002E-2,113342376.28,57946759.780000001,57946759.780000001,6058289.1385932053,1.4030094826365034E-3,null,8499.8371100000004,57167.492420000002,"2023-11-09",0.148683049582674,null,1549.0610435000001,5.4870898378511832,null,523.33699999999999,434.89299999999997,88.444000000000017,2271.6999999999998,3.8932957696879003E-2,null,523.33699999999999,525.05899999999997,-3.279631431896135E-3,527.40700000000004,-7.7170003431885625E-3,null,1.35E-2,null,null,1.35E-2,null,1.35E-2,1.3472496834E-2,null,1.2465325669999999E-2,1.1792230725E-2,null,1.0318101745999999E-2,null,-1.0624999999E-2,-3.4756097561000003E-2,-2.9142452179000002E-2,0.19085281056,0.13407613068999999,4.0494120622000002E-2]
[null,{"$f":"IF($B197>=Base!$G$3,\"\",$B197+1)","v":192},{"$f":"IF($B198=\"\",\"\",INDEX(Base!$B:$B,MATCH('Guia de BTC'!$B198,Base!$F:$F,0)))","v":"LAVV3<XBSP>"},"LAVV3","Lavvi","Incorporações",8.74,{"$f":"IFERROR((_xll.ECONOMATICA(C198,\"Partic in ibovespa\")/100),\"\")","v":""},"ON","ON",0.37061352222999999,null,0.37061352222999999,1708096.2365000001,1708096.2365000001,1708096.2365000001,633043.56251707207,1.3419367438510051E-2,null,8495.0441699999992,17316.254069999999,"2024-06-25",0.49058209331297942,null,6566.9028695999996,1.2936150174119212,null,988.56,1591.1320000000001,-602.57200000000012,10447.200000000001,5.7677846695765381E-2,null,988.56,1028.645,-3.8968740430372018E-2,1033.8720000000001,-4.3827475741678001E-2,null,2.5499999999999998E-2,null,2.5499999999999998E-2,2.5499999999999998E-2,null,2.4576286320000001E-2,2.5499999999999998E-2,null,2.4763911212999999E-2,2.5499999999999998E-2,null,2.2732642896000001E-2,null,1.746216531E-2,5.3012048192999997E-2,2.2145605621999999E-2,0.18574286999,0.8294288152,0.82165873632999997]
[null,{"$f":"IF($B198>=Base!$G$3,\"\",$B198+1)","v":193},{"$f":"IF($B199=\"\",\"\",INDEX(Base!$B:$B,MATCH('Guia de BTC'!$B199,Base!$F:$F,0)))","v":"BRBI11<XBSP>"},"BRBI11","BR Partners","Bancos",15.56,{"$f":"IFERROR((_xll.ECONOMATICA(C199,\"Partic in ibovespa\")/100),\"\")","v":""},"UNT N2","UN",0.23554702491999999,0.82554480858000001,0.44990466467000001,1633733.1542,0,1633733.1542,735024.16690061241,1.0939171665476978E-2,null,8040.5555400000003,63822.33741,"2023-09-27",0.12598340747608167,null,4601.4990870000001,1.7473774063578338,null,529.94299999999998,489.32799999999997,40.615000000000009,5724.6,7.0948188519721917E-3,null,529.94299999999998,530.24,-5.6012371756186674E-4,539.15800000000002,-1.7091464839620318E-2,null,0.1089,null,null,0.10284935527,null,null,0.10180176714,0.2,null,9.9716650838999998E-2,0.2,5.2348452534999999E-2,null,-4.4785668587999997E-3,-8.9171974522999995E-3,6.9960504928999995E-2,0.23457592787000001,0.28994598274,-4.0953187320000001E-2]
[null,{"$f":"IF($B199>=Base!$G$3,\"\",$B199+1)","v":194},{"$f":"IF($B200=\"\",\"\",INDEX(Base!$B:$B,MATCH('Guia de BTC'!$B200,Base!$F:$F,0)))","v":"HBOR3<XBSP>"},"HBOR3","Helbor","Incorporações",2,{"$f":"IFERROR((_xll.ECONOMATICA(C200,\"Partic in ibovespa\")/100),\"\")","v":""},"ON","ON",0.49006315019000002,null,0.49006315019000002,265388,265388,265388,130056.87930262373,5.7164813732771269E-2,null,7434.6772799999999,11080.34808,"2023-09-27",0.67097867560853741,null,954.71617390999995,7.7873167787150726,null,3583.192,3226.46,356.73199999999997,8588.2999999999993,{"$f":"IFERROR(ABS(AD200/AE200),\"\")","v":4.1536974721423335E-2},null,3583.192,3636.9810000000002,-1.4789464118729279E-2,3857.0149999999999,-7.0993501451251828E-2,null,1.9800000000000002E-2,null,1.9800000000000002E-2,1.9800000000000002E-2,null,1.9800000000000002E-2,1.9800000000000002E-2,null,1.9800000000000002E-2,1.9003542561000002E-2,null,1.7096399256000001E-2,null,-1.4778325122000001E-2,-3.3816425120999999E-2,-0.41396168243999998,-0.26641302802,-0.24490269363,-0.64692642593000005]
[null,{"$f":"IF($B200>=Base!$G$3,\"\",$B200+1)","v":195},{"$f":"IF($B201=\"\",\"\",INDEX(Base!$B:$B,MATCH('Guia de BTC'!$B201,Base!$F:$F,0)))","v":"SANB3<XBSP>"},"SANB3","Santander BR","Bancos",14.58,{"$f":"IFERROR((_xll.ECONOMATICA(C201,\"Partic in ibovespa\")/100),\"\")","v":""},"ON","ON",9.345713471E-2,0.10454923039,9.8900392650000002E-2,113342376.28,55395616.5,55395616.5,5177115.5935839992,1.4062619152298969E-3,null,7280.3804899999996,53668.655160000002,"2023-11-09",0.13565423743701646,null,1360.6882608999999,5.3505131918934454,null,494.15300000000002,425.863,68.29000000000002,2371.6,2.8794906392309E-2,null,494.15300000000002,478.31700000000001,3.3107750717620288E-2,476.58499999999998,3.6862259617906679E-2,null,8.3000000000000001E-3,null,8.0999999999999996E-3,8.2175754173999995E-3,null,8.0999999999999996E-3,8.3898733521999991E-3,null,9.0340998704000006E-3,8.8626191071999993E-3,null,9.3290272796999994E-3,null,-1.3698630136000001E-3,-2.4096385541999998E-2,1.1999459238E-3,0.23606590588000001,0.15455084047000001,9.8018086312E-2]
[null,{"$f":"IF($B201>=Base!$G$3,\"\",$B201+1)","v":196},{"$f":"IF($B202=\"\",\"\",INDEX(Base!$B:$B,MATCH('Guia de BTC'!$B202,Base!$F:$F,0)))","v":"CAML3<XBSP>"},"CAML3","Camil","Alimentos diversos",9.39,{"$f":"IFERROR((_xll.ECONOMATICA(C202,\"Partic in ibovespa\")/100),\"\")","v":""},"ON","ON",0.27029345999999999,null,0.27029345999999999,3202658.8684999999,3202658.8684999999,3202658.8684999999,865657.74676654988,8.3537399128135806E-3,null,7231.4796699999997,67743.760930000004,"2023-09-19",0.1067475376436854,null,4236.5669564999998,1.7069197168960168,null,763.66800000000001,787.39700000000005,-23.729000000000042,10744.8,2.2084170947807352E-3,null,763.66800000000001,755.01199999999994,1.1464718441561272E-2,778.76499999999999,-1.9385822423966137E-2,null,9.5999999999999992E-3,null,9.5999999999999992E-3,9.5999999999999992E-3,null,9.5999999999999992E-3,9.5999999999999992E-3,null,9.5999999999999992E-3,9.5974068883000006E-3,null,9.2830208370999999E-3,null,-1.3655462183999999E-2,-7.0855282584E-3,0.13756682640000001,0.17321804398999999,-4.1056394083999999E-3,9.4049376148000005E-2]
[null,{"$f":"IF($B202>=Base!$G$3,\"\",$B202+1)","v":197},{"$f":"IF($B203=\"\",\"\",INDEX(Base!$B:$B,MATCH('Guia de BTC'!$B203,Base!$F:$F,0)))","v":"JSLG3<XBSP>"},"JSLG3","JSL","Transporte rodoviário",9.42,{"$f":"IFERROR((_xll.ECONOMATICA(C203,\"Partic in ibovespa\")/100),\"\")","v":""},"ON","ON",0.22064585114999999,null,0.22064585114999999,2680448.9424000001,2680448.9424000001,2680448.9424000001,591429.93835996534,1.2126873353568291E-2,null,7172.19596,16804.547979999999,"2024-06-11",0.42680088560168461,null,5988.7379129999999,1.1976139320491916,null,742.88499999999999,1023.369,-280.48400000000004,8689.1,3.2279982967165763E-2,null,742.88499999999999,732.327,1.4417056861210975E-2,721.57399999999996,2.9534046404111169E-2,null,2.3199999999999998E-2,null,2.3199999999999998E-2,2.3199999999999998E-2,null,2.3199999999999998E-2,2.3199999999999998E-2,null,2.3199999999999998E-2,2.3095537111999999E-2,null,2.1411490843000001E-2,null,-1.5673981191999999E-2,-4.9445005046000003E-2,-0.24337349397999999,0.11271765941,0.77962818649999999,0.12733654072]
[null,{"$f":"IF($B203>=Base!$G$3,\"\",$B203+1)","v":198},{"$f":"IF($B204=\"\",\"\",INDEX(Base!$B:$B,MATCH('Guia de BTC'!$B204,Base!$F:$F,0)))","v":"IBOB11<XBSP>"},"IBOB11","Pactual Ibov","-",108.89,{"$f":"IFERROR((_xll.ECONOMATICA(C204,\"Partic in ibovespa\")/100),\"\")","v":""},null,"",null,null,null,null,null,"","","",null,6767.2529199999999,53743.237880000001,"2024-09-17",0.12591822128600041,null,3918.3194973999998,1.7270804293755038,null,61.61,1.4E-2,61.595999999999997,99.906999999999996,0.61653337603971692,null,61.61,484.85500000000002,-0.87293108248857909,38.389000000000003,0.60488681653598664,null,1E-3,null,null,1E-3,null,null,1.0055848463999999E-3,null,null,1.0042669005999999E-3,null,null,null,-1.0450745183E-2,-1.4570135745999999E-2,-3.9334065122999997E-3,0.13309053069999999,0.24303652968,0.23584156169000001]
[null,{"$f":"IF($B204>=Base!$G$3,\"\",$B204+1)","v":199},{"$f":"IF($B205=\"\",\"\",INDEX(Base!$B:$B,MATCH('Guia de BTC'!$B205,Base!$F:$F,0)))","v":"LOGN3<XBSP>"},"LOGN3","Log-In","Transporte hidroviário",36,{"$f":"IFERROR((_xll.ECONOMATICA(C205,\"Partic in ibovespa\")/100),\"\")","v":""},"ON","ON",0.24456482528000001,null,0.24456482528000001,3819157.7039999999,3819157.7039999999,3819157.7039999999,934031.63659552601,7.0872814052942209E-3,null,6619.7450500000004,22517.29664,"2023-12-19",0.29398489329489957,null,404.91704348000002,16.348398163504243,null,183.25899999999999,193.78399999999999,-10.525000000000006,350.9,2.9994300370475936E-2,null,183.25899999999999,183.76,-2.7263822377013858E-3,181.63800000000001,8.9243440249286987E-3,null,2.0400000000000001E-2,null,2.0400000000000001E-2,2.0400000000000001E-2,null,2.0400000000000001E-2,2.0400000000000001E-2,null,2.0400000000000001E-2,2.0400000000000001E-2,null,2.0400000000000001E-2,null,1.7524024871999999E-2,2.8277634961000001E-2,-6.4692127825000001E-2,-0.26153846153999999,-1.9607843135999999E-2,0.67441860465000003]
[null,{"$f":"IF($B205>=Base!$G$3,\"\",$B205+1)","v":200},{"$f":"IF($B206=\"\",\"\",INDEX(Base!$B:$B,MATCH('Guia de BTC'!$B206,Base!$F:$F,0)))","v":"IFCM3<XBSP>"},"IFCM3","Infracomm","Programas e serviços",0.22,{"$f":"IFERROR((_xll.ECONOMATICA(C206,\"Partic in ibovespa\")/100),\"\")","v":""},"ON","ON",0.82231637452999995,null,0.82231637452999995,140246.34096,140246.34096,140246.34096,115326.86263932544,5.5709779690210598E-2,null,6424.8341099999998,88613.310530000002,"2023-12-18",7.2504165249811708E-2,null,2756.0113477999998,2.3312074223238075,null,37587.199999999997,51653.841999999997,-14066.642,271051.3,5.1896604074579245E-2,null,37587.199999999997,37293.631999999998,7.8717996681041402E-3,38500.656999999999,-2.3725750965756354E-2,null,1.3599999999999999E-2,null,1.3599999999999999E-2,1.3599999999999999E-2,null,1.3599999999999999E-2,1.3599999999999999E-2,null,1.3599999999999999E-2,1.3599999999999999E-2,null,1.3599112131999999E-2,null,0.22222222221999999,0.57142857143000003,-0.88108108108000005,-0.85714285714000005,-0.96283783783999999,-0.98568064768999997]
[null,{"$f":"IF($B206>=Base!$G$3,\"\",$B206+1)","v":201},{"$f":"IF($B207=\"\",\"\",INDEX(Base!$B:$B,MATCH('Guia de BTC'!$B207,Base!$F:$F,0)))","v":"SEER3<XBSP>"},"SEER3","Ser Educa","Serviços educacionais",7.2,{"$f":"IFERROR((_xll.ECONOMATICA(C207,\"Partic in ibovespa\")/100),\"\")","v":""},"ON","ON",0.40595458135000001,null,0.40595458135000001,924010.92,924010.92,924010.92,375106.46619142836,1.701205768269377E-2,null,6381.33284,11345.647070000001,"2023-10-26",0.56244767712486221,null,2965.8773913,2.1515834938823759,null,1019.027,1563.1959999999999,-544.16899999999987,8894,6.1183831796716874E-2,null,1019.027,1020.431,-1.3758892075995677E-3,1232.096,-0.17293214165129989,null,3.2000000000000002E-3,null,3.2000000000000002E-3,3.2000000000000002E-3,null,1.1738671529E-3,3.2000000000000002E-3,null,2.5369102535999998E-3,3.2000000000000002E-3,null,2.9112314131000002E-3,null,1.8387553040000001E-2,0.11627906976000001,-8.3969465650000005E-2,0.12149532709999999,0.26760563380000002,-0.40865716432999999]
[null,{"$f":"IF($B207>=Base!$G$3,\"\",$B207+1)","v":202},{"$f":"IF($B208=\"\",\"\",INDEX(Base!$B:$B,MATCH('Guia de BTC'!$B208,Base!$F:$F,0)))","v":"SPXI11<XBSP>"},"SPXI11","It Now Spxi","-",333.61,{"$f":"IFERROR((_xll.ECONOMATICA(C208,\"Partic in ibovespa\")/100),\"\")","v":""},null,"",null,null,null,null,null,"","","",null,5749.8764899999996,8310.9865300000001,"2024-09-04",0.69184042944177404,null,7020.6131660999999,0.81899918909705383,null,17.18,6.4829999999999997,10.696999999999999,306.291,3.4924304011544574E-2,null,17.18,17.239000000000001,-3.4224723011776481E-3,7.2380000000000004,1.3735838629455648,null,null,null,0.12,0.12,null,0.12,0.11583502134,null,0.12,9.3424363053000004E-2,null,9.1534704305000006E-2,null,-7.3789758699000004E-3,-3.3574739282999998E-2,0.33071400080000002,0.43026795284000002,0.53242994947,0.34157719064999997]
[null,{"$f":"IF($B208>=Base!$G$3,\"\",$B208+1)","v":203},{"$f":"IF($B209=\"\",\"\",INDEX(Base!$B:$B,MATCH('Guia de BTC'!$B209,Base!$F:$F,0)))","v":"PRNR3<XBSP>"},"PRNR3","Priner","Serviços diversos",13.24,{"$f":"IFERROR((_xll.ECONOMATICA(C209,\"Partic in ibovespa\")/100),\"\")","v":""},"ON","ON",0.94421725658,null,0.94421725658,594750.82267999998,594750.82267999998,594750.82267999998,561573.99013960757,1.0125214610787874E-2,null,5686.05717,18442.749049999999,"2023-09-25",0.30830854741798919,null,4937.6343913000001,1.1515751713044418,null,427.322,656.54300000000001,-229.221,5849.6,3.9185756291028447E-2,null,427.322,447.36700000000002,-4.4806612915123445E-2,473.88799999999998,-9.8263724761968985E-2,null,2.81E-2,null,2.81E-2,2.81E-2,null,2.81E-2,2.7563002151E-2,null,2.7772929452000002E-2,2.5489462054E-2,1.7293832106E-3,2.0313736648E-2,null,1.1459129106999999E-2,-3.0120481923999998E-3,0.13796028752,0.30915785289999997,1.2231803602,0.68131060348000005]
[null,{"$f":"IF($B209>=Base!$G$3,\"\",$B209+1)","v":204},{"$f":"IF($B210=\"\",\"\",INDEX(Base!$B:$B,MATCH('Guia de BTC'!$B210,Base!$F:$F,0)))","v":"DESK3<XBSP>"},"DESK3","Desktopsigma","Telecomunicações",16,{"$f":"IFERROR((_xll.ECONOMATICA(C210,\"Partic in ibovespa\")/100),\"\")","v":""},"ON","ON",0.30907134292999999,null,0.30907134292999999,1845712,1845712,1845712,570456.68650201615,9.9645043076901692E-3,null,5684.3181100000002,21369.761119999999,"2024-04-19",0.26599820550544367,null,3735.7873912999999,1.5215850139753109,null,360.44900000000001,246.81200000000001,113.637,5636.8,2.0159842463809252E-2,null,360.44900000000001,354.79399999999998,1.5938826473953949E-2,333.55399999999997,8.0631621866324554E-2,null,6.9500000000000006E-2,null,6.9500000000000006E-2,6.9500000000000006E-2,null,6.9500000000000006E-2,6.9458023982999995E-2,null,6.9454137533999996E-2,6.7415551483999997E-2,null,6.4418554372000003E-2,null,6.2539086866000002E-4,3.8961038960999998E-2,0.13685613395999999,2.9000552015999999E-2,0.48760083114000002,-0.20189497575000001]
[null,{"$f":"IF($B210>=Base!$G$3,\"\",$B210+1)","v":205},{"$f":"IF($B211=\"\",\"\",INDEX(Base!$B:$B,MATCH('Guia de BTC'!$B211,Base!$F:$F,0)))","v":"KLBN4<XBSP>"},"KLBN4","Klabin S/A","Papel e celulose",4.26,{"$f":"IFERROR((_xll.ECONOMATICA(C211,\"Partic in ibovespa\")/100),\"\")","v":""},"PN","PN",0.38742958671,0.78748398673999997,0.63924256071999996,25944321.239,16229247.85,16229247.85,12780272.798709573,4.4033536440381933E-4,null,5627.6060799999996,20497.733929000002,"2024-05-08",0.2745477182742681,null,4712.6606522000002,1.1941462573531318,null,1294.7380000000001,1293.482,1.2560000000000855,29201.1,4.3012078312121308E-5,null,1294.7380000000001,1304.163,-7.2268573790239543E-3,1231.58,5.1282092921288269E-2,null,9.9400000000000002E-2,null,4.1500000000000002E-2,9.9042858031999997E-2,null,3.3814508149E-2,9.8916836509000003E-2,1E-3,3.8393862064000001E-2,9.3019664375999997E-2,1E-3,1.9670692831000001E-2,null,-4.6728971956000002E-3,-2.2935779816E-2,0.10224725688,7.1474353179E-2,0.43803007363000002,0.28407875355000001]
[null,{"$f":"IF($B211>=Base!$G$3,\"\",$B211+1)","v":206},{"$f":"IF($B212=\"\",\"\",INDEX(Base!$B:$B,MATCH('Guia de BTC'!$B212,Base!$F:$F,0)))","v":"BRIT3<XBSP>"},"BRIT3","Brisanet","Telecomunicações",3.39,{"$f":"IFERROR((_xll.ECONOMATICA(C212,\"Partic in ibovespa\")/100),\"\")","v":""},"ON","ON",0.20038095466,null,0.20038095466,1511075.2652,1511075.2652,1511075.2652,302790.70420388866,1.8334580331970125E-2,null,5551.5404900000003,6925.8599199999999,"2024-07-04",0.80156696123302484,null,1918.0879565,2.8943096541464572,null,1584.2360000000001,1187.145,397.09100000000012,12050.6,3.2951969196554534E-2,null,1584.2360000000001,1619.49,-2.1768581467004999E-2,1620.692,-2.2494095114926171E-2,null,0.29620000000000002,null,0.29010000000000002,0.29168869264000002,null,0.29010000000000002,0.29014577360999999,null,0.29000472497000002,0.28982655482000003,null,0.28929595303,null,0,-3.9660056657000002E-2,-6.5022292117000002E-2,-7.4995387667999999E-2,0.10031577647999999,-0.66033596995999999]
[null,{"$f":"IF($B212>=Base!$G$3,\"\",$B212+1)","v":207},{"$f":"IF($B213=\"\",\"\",INDEX(Base!$B:$B,MATCH('Guia de BTC'!$B213,Base!$F:$F,0)))","v":"ENJU3<XBSP>"},"ENJU3","Enjoei","Programas e serviços",1.61,{"$f":"IFERROR((_xll.ECONOMATICA(C213,\"Partic in ibovespa\")/100),\"\")","v":""},"ON","ON",0.64966915341999998,null,0.64966915341999998,330078.01721999998,330078.01721999998,330078.01721999998,214441.50600986957,2.5471318736908184E-2,null,5462.1079499999996,7827.4322300000003,"2023-09-20",0.69781606400442764,null,1606.9578260999999,3.3990362791637421,null,3436.7710000000002,2911.5320000000002,525.23900000000003,18800.3,2.7937798864911732E-2,null,3436.7710000000002,3332.1869999999999,3.1385993643213927E-2,3365.1439999999998,2.1284973243344218E-2,null,2.8799999999999999E-2,null,2.8799999999999999E-2,2.8799999999999999E-2,null,2.8818951932999999E-2,2.9066777459E-2,null,2.9018222000999998E-2,2.9353672094E-2,2.9399999999999999E-2,2.7969685248E-2,null,3.8709677418999999E-2,-4.7337278105999997E-2,-4.7337278105999997E-2,0.15827338129999999,0.15827338129999999,-0.69906542055999998]
[null,{"$f":"IF($B213>=Base!$G$3,\"\",$B213+1)","v":208},{"$f":"IF($B214=\"\",\"\",INDEX(Base!$B:$B,MATCH('Guia de BTC'!$B214,Base!$F:$F,0)))","v":"EURP11<XBSP>"},"EURP11","Trend Europa","-",12.54,{"$f":"IFERROR((_xll.ECONOMATICA(C214,\"Partic in ibovespa\")/100),\"\")","v":""},null,"",null,null,null,null,null,"","","",null,5297.10826,6814.8212599999997,"2024-04-17",0.77729232475863941,null,488.38972434999999,10.846068203113701,null,415.84699999999998,172.79599999999999,243.05099999999999,2140.165,0.11356647735104536,null,415.84699999999998,391.46199999999999,6.2292125417026334E-2,399.084,4.2003688446542453E-2,null,0.03,null,null,0.03,null,null,0.03,null,2.1000000000000001E-2,0.03,null,2.3346108771000001E-2,null,-7.1258907373999997E-3,-4.7112462006999999E-2,0.23303834808000001,0.33688699360000002,0.48402366864000002,0.12064343163000001]
[null,{"$f":"IF($B214>=Base!$G$3,\"\",$B214+1)","v":209},{"$f":"IF($B215=\"\",\"\",INDEX(Base!$B:$B,MATCH('Guia de BTC'!$B215,Base!$F:$F,0)))","v":"PORT3<XBSP>"},"PORT3","Wilson Sons","Serviços de apoio e armazenagem",17.25,{"$f":"IFERROR((_xll.ECONOMATICA(C215,\"Partic in ibovespa\")/100),\"\")","v":""},"ON","ON",0.42109262353999999,null,0.42109262353999999,7593258.5250000004,7593258.5250000004,7593258.5250000004,3197465.1535097207,1.5309724781915805E-3,null,4895.2311499999996,15227.23566,"2024-05-29",0.32147864913256352,null,18497.456956999999,0.26464346755230567,null,288.17399999999998,465.39800000000002,-177.22400000000005,6724,2.6356930398572287E-2,null,288.17399999999998,282.89400000000001,1.8664234660332069E-2,356.03199999999998,-0.19059522739529033,null,4.2799999999999998E-2,null,4.2799999999999998E-2,4.2799999999999998E-2,null,4.2799999999999998E-2,4.5187207751999997E-2,null,5.4781208806999999E-2,6.2126555678000003E-2,null,6.8267703986000003E-2,null,-8.0506037957000006E-3,2.9069767443E-3,3.3003623162999998E-2,0.36514099145000001,1.176376839,0.96325231438000003]
[null,{"$f":"IF($B215>=Base!$G$3,\"\",$B215+1)","v":210},{"$f":"IF($B216=\"\",\"\",INDEX(Base!$B:$B,MATCH('Guia de BTC'!$B216,Base!$F:$F,0)))","v":"ETHE11<XBSP>"},"ETHE11","Hashdex Eth","-",37.1,{"$f":"IFERROR((_xll.ECONOMATICA(C216,\"Partic in ibovespa\")/100),\"\")","v":""},null,"",null,null,null,null,null,"","","",null,4888.1178600000003,18107.536319999999,"2024-08-08",0.26994936106249934,null,3115.9940247999998,1.5687186243284739,null,124.687,260.55500000000001,-135.86799999999999,2903.502,4.6794526058532078E-2,null,124.687,121.86199999999999,2.318195992187877E-2,119.361,4.4620939837970441E-2,null,1.3100000000000001E-2,null,null,1.3100000000000001E-2,null,8.6E-3,1.3100000000000001E-2,null,3.8999977600000001E-3,1.3440349690999999E-2,1E-3,4.5880335461000003E-3,null,-2.0332717191000001E-2,-0.10666987719,0.10581222056,0.59432746025000005,0.63148636762999999,-0.30989583332999998]
[null,{"$f":"IF($B216>=Base!$G$3,\"\",$B216+1)","v":211},{"$f":"IF($B217=\"\",\"\",INDEX(Base!$B:$B,MATCH('Guia de BTC'!$B217,Base!$F:$F,0)))","v":"TRAD3<XBSP>"},"TRAD3","TC","Programas e serviços",5.0199999999999996,{"$f":"IFERROR((_xll.ECONOMATICA(C217,\"Partic in ibovespa\")/100),\"\")","v":""},"ON","ON",0.25676377704999997,null,0.25676377704999997,197526.24286,197526.24286,197526.24286,50717.584183229192,9.5535567950064321E-2,null,4845.3332099999998,11931.33569,"2023-09-19",0.40610149072085994,null,1302.6991739,3.7194567303624817,null,1415.884,1483.7809999999999,-67.896999999999935,1982.6285714000001,3.4245950542342682E-2,null,1415.884,1378.308,2.7262411594505709E-2,1310.047,8.0788704527394728E-2,null,0.48089999999999999,null,0.48089999999999999,0.48089999999999999,null,0.48089999999999999,0.48089999999999999,null,0.48089999999999999,0.44757155263999998,null,0.42410130929000001,null,4.5833333332000001E-2,0.61414790997000002,-0.17569786534000001,-0.32977303069000002,-0.83046268152000002,-0.89666129006999995]
[null,{"$f":"IF($B217>=Base!$G$3,\"\",$B217+1)","v":212},{"$f":"IF($B218=\"\",\"\",INDEX(Base!$B:$B,MATCH('Guia de BTC'!$B218,Base!$F:$F,0)))","v":"BMOB3<XBSP>"},"BMOB3","Bemobi Tech","Programas e serviços",14.62,{"$f":"IFERROR((_xll.ECONOMATICA(C218,\"Partic in ibovespa\")/100),\"\")","v":""},"ON","ON",0.94823668688999996,null,0.94823668688999996,1251594.6910000001,1251594.6910000001,1251594.6910000001,1186808.0031229535,4.0352607560768614E-3,null,4789.0797599999996,25381.821090000001,"2023-10-27",0.18868148755042696,null,3032.4083043000001,1.5792991178691251,null,302.85899999999998,636.11500000000001,-333.25600000000003,5272.6,6.3205249781891293E-2,null,302.85899999999998,324.28199999999998,-6.6062871204692231E-2,342.298,-0.11521831854115427,null,5.0000000000000001E-3,null,5.0000000000000001E-3,5.0000000000000001E-3,null,5.0000000000000001E-3,4.3548126949E-3,null,2.4800945744000002E-3,1.3507577631E-3,null,1.1121163336000001E-3,null,-5.4421768708999996E-3,-8.2810539523999999E-2,4.4285714285999998E-2,0.22375547227000001,3.1992095333000001E-2,-0.17208499628000001]
[null,{"$f":"IF($B218>=Base!$G$3,\"\",$B218+1)","v":213},{"$f":"IF($B219=\"\",\"\",INDEX(Base!$B:$B,MATCH('Guia de BTC'!$B219,Base!$F:$F,0)))","v":"SHUL4<XBSP>"},"SHUL4","Schulz","Motores compressores e outros",6.49,{"$f":"IFERROR((_xll.ECONOMATICA(C219,\"Partic in ibovespa\")/100),\"\")","v":""},"PN","PN",0.18367822589999999,0.84711954370999998,0.56365609235000003,2317895.3486000001,1326939.0138000001,1326939.0138000001,1124075.9719012533,4.1925240711523709E-3,null,4712.7155700000003,8601.4014800000004,"2024-02-02",0.54790089509924844,null,1611.9947391000001,2.9235303662536625,null,716.16800000000001,576.505,139.66300000000001,5598.1,2.4948286025615836E-2,null,716.16800000000001,669.97199999999998,6.8952135313117502E-2,639.85400000000004,0.11926783297439725,null,1.78E-2,null,2.1399999999999999E-2,1.8433878269999999E-2,null,2.1197905406000001E-2,1.9175638394000001E-2,null,2.1184788033000002E-2,2.0722540769E-2,null,2.0923256695E-2,null,-1.5384615389E-3,-2.9895366218999998E-2,-4.3094698842999997E-2,-0.11322694325,0.57952524721999998,0.53791678996000003]
[null,{"$f":"IF($B219>=Base!$G$3,\"\",$B219+1)","v":214},{"$f":"IF($B220=\"\",\"\",INDEX(Base!$B:$B,MATCH('Guia de BTC'!$B220,Base!$F:$F,0)))","v":"OPCT3<XBSP>"},"OPCT3","Oceanpact","Equipamentos e serviços",6.87,{"$f":"IFERROR((_xll.ECONOMATICA(C220,\"Partic in ibovespa\")/100),\"\")","v":""},"ON","ON",0.63374908807999997,null,0.63374908807999997,1366121.4909000001,1366121.4909000001,1366121.4909000001,865778.24906436505,5.0245226935432003E-3,null,4350.1224599999996,9600.1466099999998,"2024-09-03",0.45313083609251253,null,5517.8119129999995,0.78837817029447554,null,660.62599999999998,343.24200000000002,317.38399999999996,11480.6,2.764524502203717E-2,null,660.62599999999998,588.38400000000001,0.12278036112470758,508.67700000000002,0.29871411524405467,null,6.9699999999999998E-2,null,6.9699999999999998E-2,6.9699999999999998E-2,null,6.9699999999999998E-2,6.9699999999999998E-2,null,6.9699999999999998E-2,6.3338666252000006E-2,null,5.1016073152999997E-2,null,-5.7887120119999996E-3,6.1823802163E-2,8.1889763779999999E-2,0.29622641508999997,1.7154150198,0.70049504950999997]
[null,{"$f":"IF($B220>=Base!$G$3,\"\",$B220+1)","v":215},{"$f":"IF($B221=\"\",\"\",INDEX(Base!$B:$B,MATCH('Guia de BTC'!$B221,Base!$F:$F,0)))","v":"ELMD3<XBSP>"},"ELMD3","Eletromidia","Publicidade e propaganda",18.170000000000002,{"$f":"IFERROR((_xll.ECONOMATICA(C221,\"Partic in ibovespa\")/100),\"\")","v":""},"ON","ON",0.47126906219999998,null,0.47126906219999998,2529824.1083999998,2529824.1083999998,2529824.1083999998,1192227.8350966191,3.4613609232379368E-3,null,4126.7308400000002,9339.7873400000008,"2023-09-22",0.44184419727912133,null,1240.7073478,3.3261113890535472,null,228.41,253.26400000000001,-24.854000000000013,2057.6,1.2079121306376369E-2,null,228.41,232.11,-1.5940717763129664E-2,248.59899999999999,-8.1211107043873798E-2,null,null,null,0.05,0.05,null,4.9813070998000003E-2,0.14825635957,null,8.3473403491000006E-2,0.14954599599999999,null,0.12556477693000001,null,-1.6774891774999998E-2,9.4444444458000008E-3,0.16607402198999999,0.13139524067,0.73087385634000002,-1.5594653133E-2]
[null,{"$f":"IF($B221>=Base!$G$3,\"\",$B221+1)","v":216},{"$f":"IF($B222=\"\",\"\",INDEX(Base!$B:$B,MATCH('Guia de BTC'!$B222,Base!$F:$F,0)))","v":"LAND3<XBSP>"},"LAND3","Terrasantapa","Agricultura",13.88,{"$f":"IFERROR((_xll.ECONOMATICA(C222,\"Partic in ibovespa\")/100),\"\")","v":""},"ON","ON",0.54579682147999997,null,0.54579682147999997,1335353.1599999999,1335353.1599999999,1335353.1599999999,{"$f":"IFERROR(IF(J222=\"on\",P222*K222,IF(J222=\"pn\",P222*L222,IF(J222=\"un\",P222*M222,\"\"))),\"\")","v":728831.51028127375},5.3598619089512359E-3,null,3906.4362500000002,24223.566989999999,"2024-04-23",0.1612659379030619,null,1319.9601304,2.959510791296549,null,307.625,430.67500000000001,-123.05000000000001,1304.4000000000001,9.4334559950935301E-2,null,307.625,395.995,-0.22315938332554708,590.48599999999999,-0.47903083222972265,null,7.4399999999999994E-2,null,null,7.4342517265999997E-2,null,null,7.3325823065999995E-2,null,7.1900000000000006E-2,6.7281524036999996E-2,null,6.6800623399000003E-2,null,-9.9857346650000008E-3,9.2913385828000003E-2,-0.18300424910999999,-0.39530284181000003,-0.45842031309999998,-0.11977887473]
[null,{"$f":"IF($B222>=Base!$G$3,\"\",$B222+1)","v":217},{"$f":"IF($B223=\"\",\"\",INDEX(Base!$B:$B,MATCH('Guia de BTC'!$B223,Base!$F:$F,0)))","v":"AMAR3<XBSP>"},"AMAR3","Lojas Marisa","Tecidos vestuário e calçados",1.1000000000000001,{"$f":"IFERROR((_xll.ECONOMATICA(C223,\"Partic in ibovespa\")/100),\"\")","v":""},"ON","ON",7.0648404073999999E-2,null,7.0648404073999999E-2,564755.90709999995,564755.90709999995,564755.90709999995,39899.103527979205,9.6283202887154404E-2,null,3841.61348,21450.638920000001,"2023-09-20",0.17909086504729621,null,451.59765217,8.5067171220674513,null,3393.4690000000001,3007.8330000000001,385.63599999999997,7796.2,4.9464610964315946E-2,null,3393.4690000000001,3326.8870000000002,2.0013303728079634E-2,3317.6709999999998,2.2846750024339446E-2,null,0.1545,null,0.15690000000000001,0.15635979016000001,null,0.157695169,0.15716850419,null,0.157695169,0.16339062301000001,null,0.16352981283000001,null,9.1743119264999992E-3,-5.9829059828999998E-2,-0.66382529368999998,-0.60299368016999999,-0.89621826494000001,-0.95245092820999999]
[null,{"$f":"IF($B223>=Base!$G$3,\"\",$B223+1)","v":218},{"$f":"IF($B224=\"\",\"\",INDEX(Base!$B:$B,MATCH('Guia de BTC'!$B224,Base!$F:$F,0)))","v":"ESGU11<XBSP>"},"ESGU11","Trend Esg Us","-",11.59,{"$f":"IFERROR((_xll.ECONOMATICA(C224,\"Partic in ibovespa\")/100),\"\")","v":""},null,"",null,null,null,null,null,"","","",null,3771.2077100000001,6138.1586799999995,"2023-11-08",0.61438745829229691,null,538.55188783000006,7.0024965007465063,null,460.34199999999998,464.72699999999998,-4.3849999999999909,1605.0409999999999,2.7320174375607795E-3,null,460.34199999999998,468.13,-1.66364044175763E-2,462.15800000000002,-3.9293921126541953E-3,null,null,null,0.03,0.03,null,0.03,0.03,null,7.6055452044999999E-2,3.0199222806999999E-2,null,7.6055452044999999E-2,null,-7.7054794519000004E-3,-3.1746031745999999E-2,0.32305936073000002,0.42909987669999999,0.50715214564]
[null,{"$f":"IF($B224>=Base!$G$3,\"\",$B224+1)","v":219},{"$f":"IF($B225=\"\",\"\",INDEX(Base!$B:$B,MATCH('Guia de BTC'!$B225,Base!$F:$F,0)))","v":"DIVO11<XBSP>"},"DIVO11","It Now Idiv","-",96.27,{"$f":"IFERROR((_xll.ECONOMATICA(C225,\"Partic in ibovespa\")/100),\"\")","v":""},null,"",null,null,null,null,null,"","","",null,3657.7208300000002,15464.35187,"2024-09-11",0.23652597022806882,null,6347.1425422000002,0.57627834977409975,null,39.122,70.453000000000003,-31.331000000000003,1345.865,2.3279452248182397E-2,null,39.122,101.14,-0.61318963812537075,101.681,-0.61524768639175464,null,0.08,null,null,0.08,null,null,0.08,null,0.08,7.9877536804999996E-2,null,7.8185221993000001E-2,null,-9.3640666810000002E-3,-3.4161490676000001E-3,4.414316703E-2,0.18195211786000001,0.36650106458999998,0.47201834862000003]
[null,{"$f":"IF($B225>=Base!$G$3,\"\",$B225+1)","v":220},{"$f":"IF($B226=\"\",\"\",INDEX(Base!$B:$B,MATCH('Guia de BTC'!$B226,Base!$F:$F,0)))","v":"BRAX11<XBSP>"},"BRAX11","Ishares Ibrx Indice Brasil","-",112.06,{"$f":"IFERROR((_xll.ECONOMATICA(C226,\"Partic in ibovespa\")/100),\"\")","v":""},null,"",null,null,null,null,null,"","","",null,3521.8310299999998,5946.56333,"2024-06-14",0.59224645136336251,null,336.18384391000001,10.475908030080207,null,31.158999999999999,2.9710000000000001,28.187999999999999,45.070999999999998,0.62541323689290229,null,31.158999999999999,30.103000000000002,3.5079560176726421E-2,27.039000000000001,0.15237249898295047,null,0.05,null,0.05,0.05,null,0.05,0.05,null,4.9714622292000001E-2,4.9372076337999997E-2,null,4.8303148607000003E-2,null,-4.1766640006000002E-3,-9.5456955978000003E-3,5.9245960510000001E-3,0.13882113821,0.24207492795999999,0.19479688666]
[null,{"$f":"IF($B226>=Base!$G$3,\"\",$B226+1)","v":221},{"$f":"IF($B227=\"\",\"\",INDEX(Base!$B:$B,MATCH('Guia de BTC'!$B227,Base!$F:$F,0)))","v":"BREW11<XBSP>"},"BREW11","B Index Brew","-",123.79,{"$f":"IFERROR((_xll.ECONOMATICA(C227,\"Partic in ibovespa\")/100),\"\")","v":""},null,"",null,null,null,null,null,"","","",null,3393.1262000000002,null,null,"",null,208.34679043,16.285953784058972,null,27.428999999999998,9.4890000000000008,17.939999999999998,5.8140000000000001,3.0856553147574814,null,27.428999999999998,27.428999999999998,0,27.428999999999998,0,null,null,null,null,null,null,null,null,null,null,1.9699999999999999E-2,null,null,null,-5.6229416014000003E-3,3.5670855285999999E-3,-1.5429889444E-2,9.5680651443999995E-2]
[null,{"$f":"IF($B227>=Base!$G$3,\"\",$B227+1)","v":222},{"$f":"IF($B228=\"\",\"\",INDEX(Base!$B:$B,MATCH('Guia de BTC'!$B228,Base!$F:$F,0)))","v":"MDNE3<XBSP>"},"MDNE3","Moura Dubeux","Incorporações",15.43,{"$f":"IFERROR((_xll.ECONOMATICA(C228,\"Partic in ibovespa\")/100),\"\")","v":""},"ON","ON",0.62869687828999998,null,0.62869687828999998,1302177.4939999999,1302177.4939999999,1302177.4939999999,818674.92545729515,4.0622075949649636E-3,null,3325.6275000000001,6523.9706500000002,"2024-06-24",0.509755128956627,null,6188.2146522000003,0.53741308065609705,null,222.828,255.18600000000001,-32.358000000000004,10591.3,3.0551490374175036E-3,null,222.828,220.363,1.1186088408671191E-2,201.59299999999999,0.1053359987697986,null,9.2100000000000001E-2,null,null,9.2100000000000001E-2,null,null,9.1865170605999996E-2,null,null,8.3971480498999995E-2,null,5.6953647306999998E-2,null,3.5570469798999999E-2,8.2807017543000003E-2,0.15753938484999999,0.40272727272999997,1.3811728395,1.0655957162]
[null,{"$f":"IF($B228>=Base!$G$3,\"\",$B228+1)","v":223},{"$f":"IF($B229=\"\",\"\",INDEX(Base!$B:$B,MATCH('Guia de BTC'!$B229,Base!$F:$F,0)))","v":"TGMA3<XBSP>"},"TGMA3","Tegma","Transporte rodoviário",27.79,{"$f":"IFERROR((_xll.ECONOMATICA(C229,\"Partic in ibovespa\")/100),\"\")","v":""},"ON","ON",0.48484796467000002,null,0.48484796467000002,1832410.6839000001,1832410.6839000001,1832410.6839000001,888440.5905284778,3.6849543851351762E-3,null,3273.8630499999999,9884.6844500000007,"2024-07-26",0.33120562083294419,null,4221.9403043000002,0.7754403932868511,null,119.604,196.18299999999999,-76.578999999999994,3535.8,2.1658182023870126E-2,null,119.604,108.968,9.7606636810806835E-2,110.08799999999999,8.6439938957924678E-2,null,7.2400000000000006E-2,null,null,7.2400000000000006E-2,null,null,7.2400000000000006E-2,null,null,6.6856551003000003E-2,null,3.6661637258E-2,null,-2.8704700388999999E-3,5.8666666668000002E-2,5.9336679895000001E-2,0.17404329054000001,0.72925456531999999,1.0748285582999999]
[null,{"$f":"IF($B229>=Base!$G$3,\"\",$B229+1)","v":224},{"$f":"IF($B230=\"\",\"\",INDEX(Base!$B:$B,MATCH('Guia de BTC'!$B230,Base!$F:$F,0)))","v":"GGBR3<XBSP>"},"GGBR3","Gerdau","Siderurgia",16.420000000000002,{"$f":"IFERROR((_xll.ECONOMATICA(C230,\"Partic in ibovespa\")/100),\"\")","v":""},"ON","ON",2.4532801241000001E-2,0.89540283472000004,0.59775882485999998,37307999.343999997,11832773.005999999,11832773.005999999,290291.0682860681,1.1163469648354759E-2,null,3240.65553,14704.2752,"2023-09-20",0.22038866152341871,null,816.27686957000003,3.9700445410233405,null,199.071,266.66399999999999,-67.592999999999989,832.1,8.1231823098185302E-2,null,199.071,200.375,-6.5077978789769286E-3,206.93700000000001,-3.8011568738311685E-2,null,2.4199999999999999E-2,null,null,2.4199999999999999E-2,null,null,2.4199999999999999E-2,null,null,2.4111643230999999E-2,null,2.3722309034000001E-2,null,4.2813455656999996E-3,1.2954966072E-2,-5.0614772340000003E-2,-0.10854209049999999,0.29116953355000003,0.44722911616]
[null,{"$f":"IF($B230>=Base!$G$3,\"\",$B230+1)","v":225},{"$f":"IF($B231=\"\",\"\",INDEX(Base!$B:$B,MATCH('Guia de BTC'!$B231,Base!$F:$F,0)))","v":"BITI11<XBSP>"},"BITI11","Etf Galaxy B","-",90.3,{"$f":"IFERROR((_xll.ECONOMATICA(C231,\"Partic in ibovespa\")/100),\"\")","v":""},null,"",null,null,null,null,null,"","","",null,3085.0816799999998,3436.92605,"2024-09-11",{"$f":"IFERROR(T231/U231,\"\")","v":0.89762818143846879},null,484.77222174000002,{"$f":"IFERROR(T231/Y231,\"\")","v":6.3639819726606257},null,34.932000000000002,6.05,{"$f":"IF(AB231=\"\",\"\",AB231-AC231)","v":28.882000000000001},83.406000000000006,0.34628204205932428,null,34.932000000000002,34.932000000000002,{"$f":"IFERROR((AH231/AI231)-1,\"\")","v":0},34.74,{"$f":"IFERROR((AH231/AK231)-1,\"\")","v":5.5267702936097063E-3},null,5.0000000000000001E-3,null,5.0000000000000001E-3,5.0000000000000001E-3,null,5.0000000000000001E-3,5.0000000000000001E-3,null,5.0000000000000001E-3,4.5425819633000001E-3,null,5.0000000000000001E-3,null,9.9767209939999996E-4,-6.8191816981000002E-3,0.46853146852999999,1.4144385026999999]
[null,{"$f":"IF($B231>=Base!$G$3,\"\",$B231+1)","v":226},{"$f":"IF($B232=\"\",\"\",INDEX(Base!$B:$B,MATCH('Guia de BTC'!$B232,Base!$F:$F,0)))","v":"TAEE4<XBSP>"},"TAEE4","Taesa","Energia elétrica",11.58,{"$f":"IFERROR((_xll.ECONOMATICA(C232,\"Partic in ibovespa\")/100),\"\")","v":""},"PN","PN",0.37000688737999998,0.98724840736999997,0.63445265831999997,11920638.140000001,5127427.1399999997,5127427.1399999997,5062044.2778707137,5.9976413546447083E-4,null,3036.0326100000002,4253.5259500000002,"2024-01-11",0.7137684466225015,null,1941.9964348000001,1.5633564282586705,null,259.20400000000001,242.75,16.454000000000008,4915,3.3477110885045793E-3,null,259.20400000000001,207.69200000000001,0.24802110817941947,187.80600000000001,0.38016889769229945,null,3.5200000000000002E-2,null,3.49E-2,3.5200000000000002E-2,null,3.4962163546999998E-2,3.5200000000000002E-2,null,3.4487254270000003E-2,3.5140701486000001E-2,null,3.1933070393000001E-2,null,-1.7241379309999999E-3,-2.5252525253000001E-2,-2.3300314535000002E-2,8.5101642318000006E-2,3.1070626173E-2,0.28279632146]
[null,{"$f":"IF($B232>=Base!$G$3,\"\",$B232+1)","v":227},{"$f":"IF($B233=\"\",\"\",INDEX(Base!$B:$B,MATCH('Guia de BTC'!$B233,Base!$F:$F,0)))","v":"HBRE3<XBSP>"},"HBRE3","Hbr Realty","Exploração de imóveis",5,{"$f":"IFERROR((_xll.ECONOMATICA(C233,\"Partic in ibovespa\")/100),\"\")","v":""},"ON","ON",0.47136832371999998,null,0.47136832371999998,514506.66,514506.66,514506.66,242522.14186697596,1.1778571053387914E-2,null,2856.5642800000001,5432.7646199999999,"2024-09-16",0.52580306341341176,null,1449.3945652,1.970867249392388,null,560.06100000000004,404.16399999999999,155.89700000000005,6521.8,2.3903983562820086E-2,null,560.06100000000004,592.36400000000003,-5.453234835337728E-2,643.32600000000002,-0.12942893649564913,null,3.9100000000000003E-2,null,null,3.9100000000000003E-2,null,null,3.9726393908999999E-2,null,null,9.0079534481000006E-2,null,0.23485052059,null,-5.9642147116000001E-3,-6.8901303538999994E-2,-0.17627677101,-7.4074074074000004E-2,1.6260162602E-2,-0.62264150942999996]
[null,{"$f":"IF($B233>=Base!$G$3,\"\",$B233+1)","v":228},{"$f":"IF($B234=\"\",\"\",INDEX(Base!$B:$B,MATCH('Guia de BTC'!$B234,Base!$F:$F,0)))","v":"TAEE3<XBSP>"},"TAEE3","Taesa","Energia elétrica",11.5,{"$f":"IFERROR((_xll.ECONOMATICA(C234,\"Partic in ibovespa\")/100),\"\")","v":""},"ON","ON",0.37000688737999998,0.98724840736999997,0.63445265831999997,11920638.140000001,6793211,6793211,2513534.857425577,1.1316670511239257E-3,null,2844.4845799999998,2924.2039599999998,"2024-09-16",0.97273809177113624,null,956.90634782999996,2.972584084587282,null,242.46299999999999,173.96299999999999,68.5,2311.1,2.9639565574834496E-2,null,242.46299999999999,240.66399999999999,7.4751520792475379E-3,236.15700000000001,2.6702574981897653E-2,null,6.3E-2,null,null,6.2821795516000006E-2,null,6.2799999999999995E-2,6.2770128149000001E-2,null,6.2471926498999998E-2,5.4122845737999997E-2,null,4.9245533376000003E-2,null,-4.3290043295000002E-3,-2.2939677145999999E-2,-2.7110047835000001E-2,7.7648168091000003E-2,1.9753481029999999E-2,0.27609282237999999]
[null,{"$f":"IF($B234>=Base!$G$3,\"\",$B234+1)","v":229},{"$f":"IF($B235=\"\",\"\",INDEX(Base!$B:$B,MATCH('Guia de BTC'!$B235,Base!$F:$F,0)))","v":"BMGB4<XBSP>"},"BMGB4","Banco BMG","Bancos",3.9,{"$f":"IFERROR((_xll.ECONOMATICA(C235,\"Partic in ibovespa\")/100),\"\")","v":""},"PN","PN",7.2091207648999997E-2,0.63306495876000002,0.27459245230000001,2273715.7365000001,820200.56429999997,820200.56429999997,519240.23641350825,5.4053086474694159E-3,null,2806.6537400000002,15013.840850000001,"2024-01-10",0.18693775750260469,null,1987.1087826,1.4124308465526885,null,729.81600000000003,511.83800000000002,217.97800000000001,11097.8,1.9641550577591958E-2,null,729.81600000000003,731.40899999999999,-2.177987965693573E-3,700.50199999999995,4.1847132484989391E-2,null,1.5E-3,null,null,1.5E-3,null,null,1.5E-3,null,null,1.4453985743E-3,null,1.9471513189E-3,null,0,2.9023746701999999E-2,0.25039573040000002,0.85773653372000003,1.0770085758000001,0.53857501262999996]
[null,{"$f":"IF($B235>=Base!$G$3,\"\",$B235+1)","v":230},{"$f":"IF($B236=\"\",\"\",INDEX(Base!$B:$B,MATCH('Guia de BTC'!$B236,Base!$F:$F,0)))","v":"VITT3<XBSP>"},"VITT3","Vittia","Fertilizantes e defensivos",6.15,{"$f":"IFERROR((_xll.ECONOMATICA(C236,\"Partic in ibovespa\")/100),\"\")","v":""},"ON","ON",0.34818899862000002,null,0.34818899862000002,930080.76674999995,930080.76674999995,930080.76674999995,323843.89081040432,8.4532477149698634E-3,null,2737.5326300000002,6508.6152499999998,"2024-07-03",0.42060139136354696,null,1862.5975217,1.4697392206886668,null,434.84500000000003,829.577,-394.73199999999997,7814,5.0515996928589706E-2,null,434.84500000000003,437.82299999999998,-6.8018354449170815E-3,440.39,-1.259111242307942E-2,null,0.05,null,null,6.9124847000999995E-2,null,null,6.9091562812000004E-2,null,null,4.6433936770000003E-2,null,2.5949914894E-2,null,-1.6E-2,-6.4620355414999999E-3,-0.36538461538,-0.42832073818999999,-0.48134962101000001,-0.21666974416000001]
[null,{"$f":"IF($B236>=Base!$G$3,\"\",$B236+1)","v":231},{"$f":"IF($B237=\"\",\"\",INDEX(Base!$B:$B,MATCH('Guia de BTC'!$B237,Base!$F:$F,0)))","v":"ESPA3<XBSP>"},"ESPA3","Espacolaser","Produtos diversos",1.1100000000000001,{"$f":"IFERROR((_xll.ECONOMATICA(C237,\"Partic in ibovespa\")/100),\"\")","v":""},"ON","ON",0.52165828840999995,null,0.52165828840999995,401179.60326,401179.60326,401179.60326,209278.66518161443,1.2832613958376562E-2,null,2685.5923200000002,28233.402669999999,"2023-09-26",9.5121100045572379E-2,null,379.48652174,7.0769109471561071,null,2490.8560000000002,3530.2809999999999,-1039.4249999999997,13824.6,7.518662384445117E-2,null,2490.8560000000002,2514.0639999999999,-9.2312685755014945E-3,2513.192,-8.8875024271921621E-3,null,2.8899999999999999E-2,null,2.8899999999999999E-2,2.8899999999999999E-2,null,2.8899999999999999E-2,2.8899999999999999E-2,null,2.8898988701000002E-2,2.862167182E-2,null,2.6959839344000001E-2,null,0,4.7169811322000002E-2,-9.0163934426E-2,-0.31481481481000001,-0.39344262294999999,-0.93457129513000003]
[null,{"$f":"IF($B237>=Base!$G$3,\"\",$B237+1)","v":232},{"$f":"IF($B238=\"\",\"\",INDEX(Base!$B:$B,MATCH('Guia de BTC'!$B238,Base!$F:$F,0)))","v":"BBOV11<XBSP>"},"BBOV11","BB Etf Ibov","-",69.680000000000007,{"$f":"IFERROR((_xll.ECONOMATICA(C238,\"Partic in ibovespa\")/100),\"\")","v":""},null,"",null,null,null,null,null,"","","",null,2661.6064500000002,45529.194839999996,"2023-10-26",5.8459334924623511E-2,null,75561.124641000002,3.5224547843161584E-2,null,38.079000000000001,0.39,37.689,5728.3159999999998,6.5794205487267115E-3,null,38.079000000000001,41.915999999999997,-9.1540223303750223E-2,35.145000000000003,8.3482714468629871E-2,null,null,null,null,0.05,null,null,0.05,null,null,0.05,null,null,null,-5.8496219134999998E-3,-1.4008773170000001E-2,-1.0035842287E-3,0.13540817989000001,0.23568008511999999,0.21669285838999999]
[null,{"$f":"IF($B238>=Base!$G$3,\"\",$B238+1)","v":233},{"$f":"IF($B239=\"\",\"\",INDEX(Base!$B:$B,MATCH('Guia de BTC'!$B239,Base!$F:$F,0)))","v":"QBTC11<XBSP>"},"QBTC11","Qr Bitcoin","-",20.190000000000001,{"$f":"IFERROR((_xll.ECONOMATICA(C239,\"Partic in ibovespa\")/100),\"\")","v":""},null,{"$f":"LEFT(I239,2)","v":""},null,null,null,null,null,"","","",null,2647.5417900000002,6841.8037000000004,"2024-01-16",0.38696547081583182,null,6969.8456113000002,0.37985659046846326,null,132.965,163.30799999999999,-30.342999999999989,8938.1630000000005,3.3947691488732069E-3,null,132.965,127.581,4.22006411613014E-2,75.299000000000007,0.76582690341173176,null,1.89E-2,null,null,1.89E-2,null,null,1.89E-2,null,null,1.89E-2,null,1.7863971850999999E-2,null,-4.4378698220999997E-3,-1.416015625E-2,0.50896860987000003,1.5018587361,2.0590909091,0.26981132075999997]
[null,{"$f":"IF($B239>=Base!$G$3,\"\",$B239+1)","v":234},{"$f":"IF($B240=\"\",\"\",INDEX(Base!$B:$B,MATCH('Guia de BTC'!$B240,Base!$F:$F,0)))","v":"TECN3<XBSP>"},"TECN3","Technos","Acessórios",5.0599999999999996,{"$f":"IFERROR((_xll.ECONOMATICA(C240,\"Partic in ibovespa\")/100),\"\")","v":""},"ON","ON",0.35032118180999999,null,0.35032118180999999,324377.44790000003,324377.44790000003,324377.44790000003,113636.29090083971,2.1150176593648744E-2,null,2403.4276199999999,2966.7212599999998,"2024-08-22",0.8101292333746245,null,906.66495652000003,2.6508442867638098,null,446.00900000000001,380.00900000000001,66,5052.3999999999996,1.3063098725358246E-2,null,446.00900000000001,453.80799999999999,-1.7185682050558815E-2,486.44799999999998,-8.3131187711738885E-2,null,7.4899999999999994E-2,null,7.4899999999999994E-2,7.4899999999999994E-2,null,7.4899999999999994E-2,7.4832711334000004E-2,null,7.4716157626999999E-2,7.4761894497000006E-2,null,5.7772580551999998E-2,null,-5.8939096261000001E-3,-6.8139963169000006E-2,0.49842214987,0.53326917660999995,1.3710125064000001,0.49492389746999998]
[null,{"$f":"IF($B240>=Base!$G$3,\"\",$B240+1)","v":235},{"$f":"IF($B241=\"\",\"\",INDEX(Base!$B:$B,MATCH('Guia de BTC'!$B241,Base!$F:$F,0)))","v":"MEAL3<XBSP>"},"MEAL3","Imc S/A","Restaurante e similares",1.4,{"$f":"IFERROR((_xll.ECONOMATICA(C241,\"Partic in ibovespa\")/100),\"\")","v":""},"ON","ON",0.98179589847000004,null,0.98179589847000004,399620.24200000003,399620.24200000003,399620.24200000003,392345.5145411889,5.9726789351480965E-3,null,2343.3537900000001,13441.624889999999,"2024-04-25",0.17433560370691167,null,951.11130434999995,2.4638060543308065,null,1565.7070000000001,2074.39,-508.68299999999977,13671.2,3.7208365030136324E-2,null,1565.7070000000001,1590.972,-1.5880229193222628E-2,1719.8630000000001,-8.9632720745780325E-2,null,2.9399999999999999E-2,2.9399999999999999E-2,null,2.9399999999999999E-2,2.9399999999999999E-2,null,2.8136327403000001E-2,2.9399999999999999E-2,null,1.9669250121000001E-2,2.9399999999999999E-2,1.3299999999999999E-2,null,-2.7777777778000001E-2,-0.11949685534,-0.29292929292999997,-0.25925925925999999,-0.28205128205000002,-0.58208955224000003]
[null,{"$f":"IF($B241>=Base!$G$3,\"\",$B241+1)","v":236},{"$f":"IF($B242=\"\",\"\",INDEX(Base!$B:$B,MATCH('Guia de BTC'!$B242,Base!$F:$F,0)))","v":"WIZC3<XBSP>"},"WIZC3","Wiz Co","Corretoras de seguros e resseguros",5.9,{"$f":"IFERROR((_xll.ECONOMATICA(C242,\"Partic in ibovespa\")/100),\"\")","v":""},"ON","ON",0.47123827669000001,null,0.47123827669000001,943452.96380000003,943452.96380000003,943452.96380000003,444591.148799185,5.1342224112316485E-3,null,2282.6298400000001,18787.446759999999,"2023-10-23",0.12149760790592921,null,2902.3226522,0.78648383158562185,null,375.733,870.33,-494.59700000000004,7888.7,6.2696895559471152E-2,null,375.733,381.75400000000002,-1.5771936901774475E-2,377.185,-3.8495698397338352E-3,null,1.4999999999999999E-2,null,1.4999999999999999E-2,1.4999999999999999E-2,null,1.4999999999999999E-2,1.4999999999999999E-2,null,1.4999999999999999E-2,1.4984370142999999E-2,null,1.4259767171E-2,null,1.6977928699E-3,-4.3760129659000002E-2,-0.15759487456999999,0.11449583199,-0.17126958737,-0.44736740545999998]
[null,{"$f":"IF($B242>=Base!$G$3,\"\",$B242+1)","v":237},{"$f":"IF($B243=\"\",\"\",INDEX(Base!$B:$B,MATCH('Guia de BTC'!$B243,Base!$F:$F,0)))","v":"ALPK3<XBSP>"},"ALPK3","Estapar","Serviços diversos",3.22,{"$f":"IFERROR((_xll.ECONOMATICA(C243,\"Partic in ibovespa\")/100),\"\")","v":""},"ON","ON",0.4076651744,null,0.4076651744,694789.63959999999,694789.63959999999,694789.63959999999,283241.53959884716,7.8777248321703509E-3,null,2231.29891,3467.7666899999999,"2024-08-21",0.64343974363511747,null,757.11986956999999,2.9470880367559866,null,625.15499999999997,919.86300000000006,-294.70800000000008,2325.4,0.12673432527737166,null,625.15499999999997,624.65499999999997,8.0044184389782558E-4,603.255,3.6303055921625083E-2,null,6.7100000000000007E-2,null,null,6.7100000000000007E-2,null,null,6.7140593720999994E-2,null,null,6.7443105411000001E-2,null,6.7599999999999993E-2,null,-3.5928143712000003E-2,-0.13903743316,-0.32635983264000001,-0.27802690583,0.42477876106000001,-0.47727272726999997]
[null,{"$f":"IF($B243>=Base!$G$3,\"\",$B243+1)","v":238},{"$f":"IF($B244=\"\",\"\",INDEX(Base!$B:$B,MATCH('Guia de BTC'!$B244,Base!$F:$F,0)))","v":"WRLD11<XBSP>"},"WRLD11","Investo Wrld","-",113,{"$f":"IFERROR((_xll.ECONOMATICA(C244,\"Partic in ibovespa\")/100),\"\")","v":""},null,"",null,null,null,null,null,"","","",null,2227.9013500000001,9114.6154299999998,"2024-07-12",0.24443174449983351,null,1642.0077464999999,1.3568153711508695,null,19.663,66.161000000000001,-46.498000000000005,370.339,0.12555523452836456,null,19.663,18.786000000000001,4.6683700628127323E-2,24.177,-0.1867063738263639,null,2.5499999999999998E-2,null,null,2.5499999999999998E-2,null,2.5499999999999998E-2,2.5499999999999998E-2,null,2.5499999999999998E-2,2.517061906E-2,null,2.4259114373000001E-2,null,-9.1196071553000004E-3,-3.7888463174999998E-2,0.27698044977000003,0.37469586375000002,0.44501278772000002]
[null,{"$f":"IF($B244>=Base!$G$3,\"\",$B244+1)","v":239},{"$f":"IF($B245=\"\",\"\",INDEX(Base!$B:$B,MATCH('Guia de BTC'!$B245,Base!$F:$F,0)))","v":"PINE4<XBSP>"},"PINE4","Pine","Bancos",5.08,{"$f":"IFERROR((_xll.ECONOMATICA(C245,\"Partic in ibovespa\")/100),\"\")","v":""},"PN","PN",1.2275094334E-2,0.57913212565000005,0.29180242226000003,1048643.1634,513117.80536,513117.80536,297163.00532699982,7.3982368282376797E-3,null,2198.4822899999999,4780.9361699999999,"2024-01-31",0.45984347245531204,null,1169.3462173999999,1.8800952680107419,null,457.87400000000002,409.87900000000002,47.995000000000005,4998.1000000000004,9.6026490066225163E-3,null,457.87400000000002,446.76499999999999,2.4865421418419187E-2,447.79500000000002,2.2508067307585033E-2,null,6.8500000000000005E-2,null,null,6.8475069351999998E-2,null,null,6.8421203641999995E-2,null,null,6.7711134204999995E-2,null,6.7199999999999996E-2,null,-1.9646365407999999E-3,4.5267489711000003E-2,0.25877264539,0.47081188778999999,2.7070114981,1.7627727203000001]
[null,{"$f":"IF($B245>=Base!$G$3,\"\",$B245+1)","v":240},{"$f":"IF($B246=\"\",\"\",INDEX(Base!$B:$B,MATCH('Guia de BTC'!$B246,Base!$F:$F,0)))","v":"BITH11<XBSP>"},"BITH11","Hashdex Btcn","-",75.3,{"$f":"IFERROR((_xll.ECONOMATICA(C246,\"Partic in ibovespa\")/100),\"\")","v":""},null,"",null,null,null,null,null,"","","",null,2188.81603,28877.35066,"2024-03-07",7.5796982062896756E-2,null,5646.1308829999998,0.38766654109814053,null,29.600999999999999,86.435000000000002,-56.834000000000003,2334.6660000000002,2.4343524941040817E-2,null,29.600999999999999,28.766999999999999,2.8991552820940569E-2,34.128,-0.13264767932489452,null,7.3000000000000001E-3,null,null,7.5887688196999998E-3,null,6.0000000000000001E-3,7.6874011506000003E-3,null,3.5521769200999999E-3,5.7179473183000002E-3,null,2.9780703142E-3,null,-9.8619329391999994E-3,-1.3752455794E-2,0.53799019607999998,1.4884335757,2.012,0.26767676767999998]
[null,{"$f":"IF($B246>=Base!$G$3,\"\",$B246+1)","v":241},{"$f":"IF($B247=\"\",\"\",INDEX(Base!$B:$B,MATCH('Guia de BTC'!$B247,Base!$F:$F,0)))","v":"GOAU3<XBSP>"},"GOAU3","Gerdau Met","Siderurgia",10.8,{"$f":"IFERROR((_xll.ECONOMATICA(C247,\"Partic in ibovespa\")/100),\"\")","v":""},"ON","ON",0.20413904803999999,0.99098706914000001,0.71279842638000002,11046407.546,3943200.9707999998,3943200.9707999998,804961.29240951571,2.6957694493663182E-3,null,2169.9900600000001,4827.6863999999996,"2024-02-07",0.44948861218491742,null,343.24504347999999,6.3219851275913319,null,203.24799999999999,221.81100000000001,-18.563000000000017,845.5,2.1955056179775299E-2,null,203.24799999999999,205.66800000000001,-1.1766536359569923E-2,210.97399999999999,-3.6620626238304199E-2,null,3.9600000000000003E-2,1E-3,1E-3,3.9506075224000001E-2,1E-3,2.0797023004E-2,3.9505134490000003E-2,1E-3,2.0797023004E-2,3.9397720009999998E-2,1E-3,1.6250226393E-2,null,-6.4397424094E-3,2.3696682465E-2,3.7515925633000002E-3,3.7877706305000002E-2,0.40556722484000002,0.65478505272999998]
[null,{"$f":"IF($B247>=Base!$G$3,\"\",$B247+1)","v":242},{"$f":"IF($B248=\"\",\"\",INDEX(Base!$B:$B,MATCH('Guia de BTC'!$B248,Base!$F:$F,0)))","v":"MBLY3<XBSP>"},"MBLY3","Mobly","Programas e serviços",2.6,{"$f":"IFERROR((_xll.ECONOMATICA(C248,\"Partic in ibovespa\")/100),\"\")","v":""},"ON","ON",0.41738396186999999,null,0.41738396186999999,276871.40000000002,276871.40000000002,276871.40000000002,115561.68186049353,1.8548818738962976E-2,null,2143.53269,29084.454280000002,"2023-11-14",7.3700289142918721E-2,null,2336.1969130000002,0.91753082887495441,null,768.07299999999998,1382.779,-614.70600000000002,14533.9,4.229463530091717E-2,null,768.07299999999998,759.98,1.0648964446432707E-2,736.08399999999995,4.3458355296406515E-2,null,9.35E-2,null,9.35E-2,9.35E-2,null,9.35E-2,9.35E-2,null,9.35E-2,9.35E-2,9.35E-2,8.7024727605999996E-2,null,-2.2556390978E-2,-0.1156462585,0.28078817734,-0.31216931216999999,5.2631578946999998E-2,-0.70917225950999996]
[null,{"$f":"IF($B248>=Base!$G$3,\"\",$B248+1)","v":243},{"$f":"IF($B249=\"\",\"\",INDEX(Base!$B:$B,MATCH('Guia de BTC'!$B249,Base!$F:$F,0)))","v":"SYNE3<XBSP>"},"SYNE3","Syn Prop Tec","Exploração de imóveis",7.95,{"$f":"IFERROR((_xll.ECONOMATICA(C249,\"Partic in ibovespa\")/100),\"\")","v":""},"ON","ON",0.39208101546000002,null,0.39208101546000002,1213519.8,1213519.8,{"$f":"IF(N249=\"\",\"\",IF(O249>1,O249,N249))","v":1213519.8},{"$f":"IFERROR(IF(J249=\"on\",P249*K249,IF(J249=\"pn\",P249*L249,IF(J249=\"un\",P249*M249,\"\"))),\"\")","v":475798.07546481612},{"$f":"IFERROR(T249/Q249,\"\")","v":4.4687540989375605E-3},null,2126.2246,4148.3697499999998,"2024-08-21",0.51254462069105577,null,7830.4440000000004,0.2715330829260767,null,262.75700000000001,182.72499999999999,80.032000000000011,9188.7000000000007,8.709828376157672E-3,null,262.75700000000001,227.249,0.15625151265792159,228.749,0.14866950238033838,null,0.2,null,null,0.20498507424000001,null,null,0.23172782051999999,null,null,0.25512390687999997,null,null,null,1.2594458439000001E-3,-1.2562814072E-3,1.2447450368999999,1.6418498100000001,1.1721876215,1.1260585206]
[null,{"$f":"IF($B249>=Base!$G$3,\"\",$B249+1)","v":244},{"$f":"IF($B250=\"\",\"\",INDEX(Base!$B:$B,MATCH('Guia de BTC'!$B250,Base!$F:$F,0)))","v":"TFCO4<XBSP>"},"TFCO4","Track Field","Vestuário",11.47,{"$f":"IFERROR((_xll.ECONOMATICA(C250,\"Partic in ibovespa\")/100),\"\")","v":""},"PN","PN",0,0.72332934275000005,5.4858959222999999E-2,1831965.4715,825758.15008000005,825758.15008000005,597295.09996782232,3.4380916235720498E-3,null,2053.55528,5637.6615599999996,"2023-11-17",0.36425657307459941,null,2110.4274783000001,0.97305181112131278,null,171.815,181.04400000000001,-9.2290000000000134,3413.9,2.7033597937842391E-3,null,171.815,171.815,0,185.36,-7.3074018126888296E-2,null,0.05,null,null,0.05,null,null,0.05,null,null,0.1195104093,null,0.12,null,-6.9264069261E-3,-3.8558256495999997E-2,-0.22814230930000001,-8.3937572525999996E-2,1.1157051592000001E-2,-0.25729476228999998]
[null,{"$f":"IF($B250>=Base!$G$3,\"\",$B250+1)","v":245},{"$f":"IF($B251=\"\",\"\",INDEX(Base!$B:$B,MATCH('Guia de BTC'!$B251,Base!$F:$F,0)))","v":"PIBB11<XBSP>"},"PIBB11","Pibb Ind Brasil 50","-",235.45,{"$f":"IFERROR((_xll.ECONOMATICA(C251,\"Partic in ibovespa\")/100),\"\")","v":""},null,"",null,null,null,null,null,"","","",null,1772.1442300000001,8573.8104800000001,"2024-06-19",0.20669272246381634,null,881.78650521999998,2.0097202888786119,null,7.4269999999999996,8.8840000000000003,-1.4570000000000007,124.422,1.1710147723071489E-2,null,7.4269999999999996,7.6,-2.2763157894736818E-2,7.6,-2.2763157894736818E-2,null,0.08,null,null,0.08,null,null,0.08,null,null,0.08,null,null,null,-8.8819666616000003E-3,-1.9775187344000002E-2,1.3996554695E-2,0.14820052668,0.23921052632000001,0.23868897306]
[null,{"$f":"IF($B251>=Base!$G$3,\"\",$B251+1)","v":246},{"$f":"IF($B252=\"\",\"\",INDEX(Base!$B:$B,MATCH('Guia de BTC'!$B252,Base!$F:$F,0)))","v":"TECK11<XBSP>"},"TECK11","It Now Teck","-",79.16,{"$f":"IFERROR((_xll.ECONOMATICA(C252,\"Partic in ibovespa\")/100),\"\")","v":""},null,"",null,null,null,null,null,"","","",null,1753.24926,5944.0653899999998,"2024-06-26",0.29495793618784538,null,2247.8611216999998,0.77996333629101722,null,21.875,0.221,21.654,607.58199999999999,3.5639633827203573E-2,null,21.875,21.875,0,1.875,10.666666666666666,null,null,null,null,0.12,null,null,0.12000090017999999,null,null,0.12000222029,null,null,null,-1.0870923403000001E-2,-2.8473244966999999E-2,0.42144011492,0.61683006535999996,1.2584878745000001,0.55276579050999997]
[null,{"$f":"IF($B252>=Base!$G$3,\"\",$B252+1)","v":247},{"$f":"IF($B253=\"\",\"\",INDEX(Base!$B:$B,MATCH('Guia de BTC'!$B253,Base!$F:$F,0)))","v":"BIOM3<XBSP>"},"BIOM3","Biomm","Medicamentos e outros produtos",10.3,{"$f":"IFERROR((_xll.ECONOMATICA(C253,\"Partic in ibovespa\")/100),\"\")","v":""},"ON","ON",0.66706941872000003,null,0.66706941872000003,1306467.2542999999,1306467.2542999999,1306467.2542999999,871504.3519026154,1.9896640747856676E-3,null,1734.0009,6875.7862699999996,"2024-06-14",0.25218947068871006,null,1216.5971738999999,1.4252876278196327,null,178.197,251.26400000000001,-73.067000000000007,1526.3,4.7871977985979169E-2,null,178.197,191.495,-6.9443066398600539E-2,182.38399999999999,-2.2957057636634692E-2,null,7.0000000000000001E-3,null,7.0000000000000001E-3,7.0000000000000001E-3,null,2.4578498468000001E-2,1.2261773287E-2,null,2.8724199937000001E-2,2.1303480523999999E-2,null,2.8868262261000002E-2,null,3.0000000001000001E-2,0.14317425082999999,0.78200692041999997,1.0734687345,0.33969863992999999,-0.28837114031]
[null,{"$f":"IF($B253>=Base!$G$3,\"\",$B253+1)","v":248},{"$f":"IF($B254=\"\",\"\",INDEX(Base!$B:$B,MATCH('Guia de BTC'!$B254,Base!$F:$F,0)))","v":"CSED3<XBSP>"},"CSED3","Cruzeiro Edu","Serviços educacionais",3.51,{"$f":"IFERROR((_xll.ECONOMATICA(C254,\"Partic in ibovespa\")/100),\"\")","v":""},"ON","ON",0.12392383756,null,0.12392383756,1279544.3574999999,1279544.3574999999,1279544.3574999999,158566.04710964457,1.0662070795212305E-2,null,1690.6424199999999,4503.95388,"2024-06-06",0.37536850177515579,null,2233.8815217000001,0.7568183019453103,null,473.959,473.79599999999999,0.16300000000001091,10505.5,1.5515682261673497E-5,null,473.959,540.25699999999995,-0.12271567050496324,558.01599999999996,-0.1506354656497304,null,0.3982,null,null,0.3981624037,null,null,0.39769328087,null,0.39550000000000002,0.38530775417000002,null,0.38156759169999999,null,2.8571428574999998E-3,-3.8356164385000002E-2,-0.30909190649000001,-4.7845376495000001E-2,-6.5222315377000004E-2,-0.48975573645999998]
[null,{"$f":"IF($B254>=Base!$G$3,\"\",$B254+1)","v":249},{"$f":"IF($B255=\"\",\"\",INDEX(Base!$B:$B,MATCH('Guia de BTC'!$B255,Base!$F:$F,0)))","v":"AALR3<XBSP>"},"AALR3","Alliar","Serviços médico-hospitalares análises e diagnósticos",15.3,{"$f":"IFERROR((_xll.ECONOMATICA(C255,\"Partic in ibovespa\")/100),\"\")","v":""},"ON","ON",6.8261355787000003E-2,null,6.8261355787000003E-2,1808490.4317000001,1808490.4317000001,1808490.4317000001,123450.00879565893,1.3227370868015856E-2,null,1632.91905,7569.3649100000002,"2023-09-26",0.21572735221718883,null,629.49947826000005,2.59399587512535,null,105.17400000000001,135.69300000000001,-30.519000000000005,1005.3,3.0358102059086848E-2,null,105.17400000000001,102.074,3.0370123635793833E-2,103.739,1.3832791910467712E-2,null,5.0099999999999999E-2,null,5.0099999999999999E-2,5.0099999999999999E-2,null,5.0099999999999999E-2,5.0099999999999999E-2,null,5.0099999999999999E-2,5.0335098717000003E-2,null,5.0099999999999999E-2,null,-2.7954256670999999E-2,-4.3749999999999997E-2,0.47115384615,0.64693218514999995,-0.25219941349000002,0.26446280991999999]
[null,{"$f":"IF($B255>=Base!$G$3,\"\",$B255+1)","v":250},{"$f":"IF($B256=\"\",\"\",INDEX(Base!$B:$B,MATCH('Guia de BTC'!$B256,Base!$F:$F,0)))","v":"VIVR3<XBSP>"},"VIVR3","Viver","Incorporações",2.0299999999999998,{"$f":"IFERROR((_xll.ECONOMATICA(C256,\"Partic in ibovespa\")/100),\"\")","v":""},"ON","ON",0.99999284898999996,null,0.99999284898999996,56773.539830000002,56773.539830000002,56773.539830000002,56773.133841848939,2.6373727653841217E-2,null,1497.31917,4347.3845499999998,"2024-01-11",0.34441838599256192,null,137.91539130000001,10.85679528503792,null,635.05999999999995,675.673,-40.613000000000056,1671.2,2.430169937769271E-2,null,635.05999999999995,637.86099999999999,-4.3912388435726202E-3,635.53,-7.395402262678763E-4,null,5.0299999999999997E-2,null,5.0299999999999997E-2,5.0299999999999997E-2,null,5.0299999999999997E-2,5.0299999999999997E-2,null,5.0299999999999997E-2,5.0193099338000001E-2,null,5.0262746970000001E-2,null,4.9504950492999999E-3,-0.13617021276999999,-0.60581098175000003,-0.38747275308000001,-0.63467124915999995,-0.92667236541999998]
[null,{"$f":"IF($B256>=Base!$G$3,\"\",$B256+1)","v":251},{"$f":"IF($B257=\"\",\"\",INDEX(Base!$B:$B,MATCH('Guia de BTC'!$B257,Base!$F:$F,0)))","v":"PDGR3<XBSP>"},"PDGR3","PDG Realt","Incorporações",0.15,{"$f":"IFERROR((_xll.ECONOMATICA(C257,\"Partic in ibovespa\")/100),\"\")","v":""},"ON","ON",0.99986234110000005,null,0.99986234110000005,11667.9,11667.9,11667.9,11666.29380972069,0.12462618066318093,null,1453.9256399999999,1616.4119800000001,"2024-05-29",0.89947714938366141,null,205.51230434999999,7.0746403462241165,null,8941.6980000000003,7441.5450000000001,1500.1530000000002,150901.9,9.9412465979553631E-3,null,8941.6980000000003,9086.8389999999999,-1.5972661120110088E-2,9392.7469999999994,-4.8020988960950306E-2,null,0.15609999999999999,null,0.15609999999999999,0.15582562186999999,null,0.15609999999999999,0.15268334423999999,0.14899999999999999,0.14900083635,0.14923045712999999,0.14899467919000001,0.14712386453000001,null,0,-6.25E-2,-0.66666666666999996,-0.96478873238999996,-0.99817073171000004,-0.99924623116]
[null,{"$f":"IF($B257>=Base!$G$3,\"\",$B257+1)","v":252},{"$f":"IF($B258=\"\",\"\",INDEX(Base!$B:$B,MATCH('Guia de BTC'!$B258,Base!$F:$F,0)))","v":"AGXY3<XBSP>"},"AGXY3","Agrogalaxy","Agricultura",0.98,{"$f":"IFERROR((_xll.ECONOMATICA(C258,\"Partic in ibovespa\")/100),\"\")","v":""},"ON","ON",0.31938081596000001,null,0.31938081596000001,246124.93906,246124.93906,246124.93906,78607.583865088076,1.8438521052721535E-2,null,1449.40759,2696.2473,"2024-07-30",0.53756478124243279,null,366.63865217,3.9532318303634573,null,1209.182,1443.1089999999999,-233.92699999999991,6604.2,3.5420944247599999E-2,null,1209.182,1168.694,3.4643798975608764E-2,1175.0429999999999,2.9053404854120446E-2,null,4.9500000000000002E-2,null,4.9500000000000002E-2,4.9500000000000002E-2,null,4.9500000000000002E-2,4.9514731944000002E-2,null,4.9500000000000002E-2,4.9577520149999998E-2,null,4.9594596895000002E-2,null,-0.13274336282999999,-0.20325203251999999,-0.73002754821000004,-0.79497907950000002,-0.86310776995000005,-0.88202341495000003]
[null,{"$f":"IF($B258>=Base!$G$3,\"\",$B258+1)","v":253},{"$f":"IF($B259=\"\",\"\",INDEX(Base!$B:$B,MATCH('Guia de BTC'!$B259,Base!$F:$F,0)))","v":"LUPA3<XBSP>"},"LUPA3","Lupatech","Equipamentos e serviços",1.44,{"$f":"IFERROR((_xll.ECONOMATICA(C259,\"Partic in ibovespa\")/100),\"\")","v":""},"ON","ON",0.81764516397999998,null,0.81764516397999998,60659.595359999999,60659.595359999999,60659.595359999999,49598.024795087644,2.8676853682706956E-2,null,1422.3153,8205.6357100000005,"2023-11-03",0.17333395610856334,null,184.88499999999999,7.6929729291181008,null,953.28800000000001,938.97,14.317999999999984,3133.2,4.5697689263372856E-3,null,953.28800000000001,937.89200000000005,1.6415536117164731E-2,931.41099999999994,2.348801978933035E-2,null,6.9099999999999995E-2,null,6.9099999999999995E-2,6.9099999999999995E-2,null,6.9099999999999995E-2,6.9099999999999995E-2,null,6.9099999999999995E-2,6.9099999999999995E-2,null,6.9099999999999995E-2,null,6.9930069931000002E-3,-5.2631578948000003E-2,-0.36283185840999999,-0.38983050847,-0.67392137531999996,-0.68182195873999996]
[null,{"$f":"IF($B259>=Base!$G$3,\"\",$B259+1)","v":254},{"$f":"IF($B260=\"\",\"\",INDEX(Base!$B:$B,MATCH('Guia de BTC'!$B260,Base!$F:$F,0)))","v":"SAPR3<XBSP>"},"SAPR3","Sanepar","Água e saneamento",6.03,{"$f":"IFERROR((_xll.ECONOMATICA(C260,\"Partic in ibovespa\")/100),\"\")","v":""},"ON","ON",0.39917293936999998,0.99998411566000001,0.79971368936999998,9586080.3017999995,3037523.6118000001,3037523.6118000001,1212497.2285279848,1.1687026796097077E-3,null,1417.0487599999999,3159.5386800000001,"2024-04-30",0.4484986270210814,null,1081.3736957000001,1.3104154147958158,null,254.45599999999999,264.24900000000002,-9.7930000000000348,5002.8,1.9575037978731978E-3,null,254.45599999999999,255.09100000000001,-2.4893077372389882E-3,257.05399999999997,-1.0106825803138597E-2,null,0.17630000000000001,null,0.16889999999999999,0.16999743495,null,0.16889999999999999,0.16958129485000001,null,0.15206846746,0.15886609951,null,0.14460269934,null,-8.2236842109000008E-3,0.11666666666,0.1270811811,0.40509453910999998,1.1049459004,0.96302281937000001]
[null,{"$f":"IF($B260>=Base!$G$3,\"\",$B260+1)","v":255},{"$f":"IF($B261=\"\",\"\",INDEX(Base!$B:$B,MATCH('Guia de BTC'!$B261,Base!$F:$F,0)))","v":"POMO3<XBSP>"},"POMO3","Marcopolo","Material rodoviário",6.19,{"$f":"IFERROR((_xll.ECONOMATICA(C261,\"Partic in ibovespa\")/100),\"\")","v":""},"ON","ON",0.48187212754999997,0.91747152857000003,0.76031334054999999,8282917.1437999997,2537596.0277,2537596.0277,1222796.7967302278,1.1483223244898519E-3,null,1404.1648600000001,9536.8575600000004,"2024-03-01",0.14723559109128606,null,1921.134,0.73090417430538424,null,240.238,393.12599999999998,-152.88799999999998,3872,3.9485537190082638E-2,null,240.238,219.83799999999999,9.2795604035698975E-2,227.93799999999999,5.3962042309750879E-2,null,8.4500000000000006E-2,null,6.7000000000000004E-2,8.3723721030999995E-2,null,6.7000000000000004E-2,8.2381135031999994E-2,null,6.7000000000000004E-2,7.9583649483999999E-2,null,6.7621248905E-2,null,1.3093289690000001E-2,7.2790294628999996E-2,0.42852986699000001,0.70245073573000005,3.1882227026000001,2.9155474523999998]
[null,{"$f":"IF($B261>=Base!$G$3,\"\",$B261+1)","v":256},{"$f":"IF($B262=\"\",\"\",INDEX(Base!$B:$B,MATCH('Guia de BTC'!$B262,Base!$F:$F,0)))","v":"NGRD3<XBSP>"},"NGRD3","Neogrid","Programas e serviços",1.1599999999999999,{"$f":"IFERROR((_xll.ECONOMATICA(C262,\"Partic in ibovespa\")/100),\"\")","v":""},"ON","ON",0.45411162166000002,null,0.45411162166000002,265087.47924000002,265087.47924000002,265087.47924000002,120379.305079438,1.1579014840467689E-2,null,1393.8737599999999,3932.0764300000001,"2023-10-18",0.35448796197483878,null,885.75530434999996,1.5736555605759268,null,1131.3209999999999,2118.5419999999999,-987.221,15537.1,6.3539592330615111E-2,null,1131.3209999999999,1126.4559999999999,4.3188548864758758E-3,1090.9770000000001,3.6979698013798412E-2,null,6.1600000000000002E-2,null,6.1199999999999997E-2,6.0788704686999998E-2,null,6.0272167554999999E-2,6.0013926561999997E-2,null,5.9774198777E-2,5.7078210509999998E-2,null,5.6470212014000001E-2,null,3.5714285714000003E-2,-0.11450381679,-6.7081044414999999E-2,-0.10981015688,-0.27229908556999999,-0.76638065365999997]
[null,{"$f":"IF($B262>=Base!$G$3,\"\",$B262+1)","v":257},{"$f":"IF($B263=\"\",\"\",INDEX(Base!$B:$B,MATCH('Guia de BTC'!$B263,Base!$F:$F,0)))","v":"MELK3<XBSP>"},"MELK3","Melnick","Incorporações",3.68,{"$f":"IFERROR((_xll.ECONOMATICA(C263,\"Partic in ibovespa\")/100),\"\")","v":""},"ON","ON",0.73769318922000005,null,0.73769318922000005,750576.20031999995,750576.20031999995,750576.20031999995,553694.95096669043,2.2780637746430909E-3,null,1261.35241,3964.6150400000001,"2024-04-30",0.31815255637026485,null,7063.5807390999998,0.17857124546164868,null,371.19600000000003,250.60499999999999,120.59100000000004,6901.8,1.7472398504737901E-2,null,371.19600000000003,367.78100000000001,9.2854171368288441E-3,336.28199999999998,0.10382357664103359,null,0.1147,null,null,0.11210169641000001,null,null,0.11195181097,null,null,0.10808071412,null,null,null,1.3774104683000001E-2,8.5545722714000003E-2,-0.19695898075000001,-9.2513932404999999E-2,8.2018263645000006E-2,0.18337395477999999]
[null,{"$f":"IF($B263>=Base!$G$3,\"\",$B263+1)","v":258},{"$f":"IF($B264=\"\",\"\",INDEX(Base!$B:$B,MATCH('Guia de BTC'!$B264,Base!$F:$F,0)))","v":"PFRM3<XBSP>"},"PFRM3","Profarma","Medicamentos e outros produtos",6.23,{"$f":"IFERROR((_xll.ECONOMATICA(C264,\"Partic in ibovespa\")/100),\"\")","v":""},"ON","ON",0.73461237315000005,null,0.73461237315000005,763866.53,763866.53,763866.53,561145.8043731557,2.1339951054925605E-3,null,1197.4824000000001,3497.2778199999998,"2024-04-18",0.34240413877099424,null,1191.2146087000001,1.0052616810222301,null,194.03399999999999,204.58600000000001,-10.552000000000021,4132.3,{"$f":"IFERROR(ABS(AD264/AE264),\"\")","v":2.5535416112092589E-3},null,194.03399999999999,193.559,2.4540321039063784E-3,196.922,-1.4665705203075308E-2,null,5.4800000000000001E-2,null,5.3100000000000001E-2,5.3449258611999999E-2,null,5.3100000000000001E-2,0.27041087037,null,5.3100000000000001E-2,0.40274228944000001,null,0.27177911478,null,9.7244732587999996E-3,-1.4240506328E-2,6.8618326591999998E-2,0.68627812882999994,0.81522839161000005,0.3280085619]
[null,{"$f":"IF($B264>=Base!$G$3,\"\",$B264+1)","v":259},{"$f":"IF($B265=\"\",\"\",INDEX(Base!$B:$B,MATCH('Guia de BTC'!$B265,Base!$F:$F,0)))","v":"KRSA3<XBSP>"},"KRSA3","Kora Saude","Serviços médico-hospitalares análises e diagnósticos",0.5,{"$f":"IFERROR((_xll.ECONOMATICA(C265,\"Partic in ibovespa\")/100),\"\")","v":""},"ON","ON",0.20178880463000001,null,0.20178880463000001,384271,384271,384271,77541.585743974734,1.4931974615826954E-2,null,1157.84899,3263.9421200000002,"2023-11-16",0.35473943698486904,null,192.89417391000001,6.0025088706941752,null,2030.1010000000001,2075.348,-45.246999999999844,12317.6,3.6733616938364488E-3,null,2030.1010000000001,2031.3589999999999,-6.1928984487713556E-4,2085.35,-2.6493873930035661E-2,null,6.4399999999999999E-2,null,null,6.4399999999999999E-2,null,null,6.4399999999999999E-2,null,6.4399999999999999E-2,6.0053506990999997E-2,null,6.2787606208000002E-2,null,-1.9607843137000001E-2,-0.18032786884999999,-0.61538461538,-0.48979591837000003,-0.81617647058999998,-0.93506493505999999]
[null,{"$f":"IF($B265>=Base!$G$3,\"\",$B265+1)","v":260},{"$f":"IF($B266=\"\",\"\",INDEX(Base!$B:$B,MATCH('Guia de BTC'!$B266,Base!$F:$F,0)))","v":"IGTI3<XBSP>"},"IGTI3","Iguatemi SA","Exploração de imóveis",2.8,{"$f":"IFERROR((_xll.ECONOMATICA(C266,\"Partic in ibovespa\")/100),\"\")","v":""},"ON","ON",0.28575196863000002,0.95453584274000003,0.52905483088000005,3577589.1002000002,2159504.0572000002,2159504.0572000002,617082.53560937219,1.7471839791014579E-3,null,1078.15672,10369.973980000001,"2024-03-18",0.10396908633323301,null,100.95065217,10.680037194652231,null,387.24,392.39400000000001,-5.1539999999999964,975.5,5.2834443874935893E-3,null,387.24,389.92500000000001,-6.8859396037699305E-3,385.608,4.2322773386445078E-3,null,5.3400000000000003E-2,null,5.3400000000000003E-2,5.3400000000000003E-2,null,5.3400000000000003E-2,5.3400000000000003E-2,null,5.3400000000000003E-2,4.2742249792000003E-2,null,4.8756254595E-2,null,1.8181818180999999E-2,7.1942446047999998E-3,-3.5767902999999997E-2,3.3105818214999999E-2,5.97426759E-2,8.3490407076000001E-2]
[null,{"$f":"IF($B266>=Base!$G$3,\"\",$B266+1)","v":261},{"$f":"IF($B267=\"\",\"\",INDEX(Base!$B:$B,MATCH('Guia de BTC'!$B267,Base!$F:$F,0)))","v":"KLBN3<XBSP>"},"KLBN3","Klabin S/A","Papel e celulose",4.28,{"$f":"IFERROR((_xll.ECONOMATICA(C267,\"Partic in ibovespa\")/100),\"\")","v":""},"ON","ON",0.38742958671,0.78748398673999997,0.63924256071999996,25944321.239,9715073.3888000008,9715073.3888000008,3763906.8678801032,2.8521859803737223E-4,null,1073.5362399999999,3721.0157800000002,"2023-12-07",0.28850623148929505,null,998.95360870000002,1.0746607556651793,null,247.892,256.56200000000001,-8.6700000000000159,6861.7,1.2635352755148166E-3,null,247.892,245.15199999999999,1.1176739329069374E-2,245.43600000000001,1.0006681986342691E-2,null,0.37509999999999999,null,null,0.37118781226999997,null,null,0.36595262075000001,null,null,0.32446216305999998,null,null,null,-1.1547344111E-2,-9.2592592591000007E-3,0.10498727663,7.6485364998000002E-2,0.42481949183000001,-3.6442143034E-2]
[null,{"$f":"IF($B267>=Base!$G$3,\"\",$B267+1)","v":""},{"$f":"IF($B268=\"\",\"\",INDEX(Base!$B:$B,MATCH('Guia de BTC'!$B268,Base!$F:$F,0)))","v":""},null,null,null,null,{"$f":"IFERROR((_xll.ECONOMATICA(C268,\"Partic in ibovespa\")/100),\"\")","v":""},null,"",null,null,null,null,null,"","","",null,null,null,null,"",null,null,"",null,null,null,"",null,"",null,null,null,"",null,""]
[null,{"$f":"IF($B268>=Base!$G$3,\"\",$B268+1)","v":""},{"$f":"IF($B269=\"\",\"\",INDEX(Base!$B:$B,MATCH('Guia de BTC'!$B269,Base!$F:$F,0)))","v":""},null,null,null,null,{"$f":"IFERROR((_xll.ECONOMATICA(C269,\"Partic in ibovespa\")/100),\"\")","v":""},null,"",null,null,null,null,null,"","","",null,null,null,null,"",null,null,"",null,null,null,"",null,"",null,null,null,"",null,""]
[null,{"$f":"IF($B269>=Base!$G$3,\"\",$B269+1)","v":""},{"$f":"IF($B270=\"\",\"\",INDEX(Base!$B:$B,MATCH('Guia de BTC'!$B270,Base!$F:$F,0)))","v":""},null,null,null,null,{"$f":"IFERROR((_xll.ECONOMATICA(C270,\"Partic in ibovespa\")/100),\"\")","v":""},null,"",null,null,null,null,null,"","","",null,null,null,null,"",null,null,"",null,null,null,"",null,"",null,null,null,"",null,""]
[null,{"$f":"IF($B270>=Base!$G$3,\"\",$B270+1)","v":""},{"$f":"IF($B271=\"\",\"\",INDEX(Base!$B:$B,MATCH('Guia de BTC'!$B271,Base!$F:$F,0)))","v":""},null,null,null,null,{"$f":"IFERROR((_xll.ECONOMATICA(C271,\"Partic in ibovespa\")/100),\"\")","v":""},null,"",null,null,null,null,null,"","","",null,null,null,null,"",null,null,"",null,null,null,"",null,"",null,null,null,"",null,""]
[null,{"$f":"IF($B271>=Base!$G$3,\"\",$B271+1)","v":""},{"$f":"IF($B272=\"\",\"\",INDEX(Base!$B:$B,MATCH('Guia de BTC'!$B272,Base!$F:$F,0)))","v":""},null,null,null,null,{"$f":"IFERROR((_xll.ECONOMATICA(C272,\"Partic in ibovespa\")/100),\"\")","v":""},null,"",null,null,null,null,null,"","","",null,null,null,null,"",null,null,"",null,null,null,"",null,"",null,null,null,"",null,""]
[null,{"$f":"IF($B272>=Base!$G$3,\"\",$B272+1)","v":""},{"$f":"IF($B273=\"\",\"\",INDEX(Base!$B:$B,MATCH('Guia de BTC'!$B273,Base!$F:$F,0)))","v":""},null,null,null,null,{"$f":"IFERROR((_xll.ECONOMATICA(C273,\"Partic in ibovespa\")/100),\"\")","v":""},null,"",null,null,null,null,null,"","","",null,null,null,null,"",null,null,"",null,null,null,"",null,"",null,null,null,"",null,""]
[null,{"$f":"IF($B273>=Base!$G$3,\"\",$B273+1)","v":""},{"$f":"IF($B274=\"\",\"\",INDEX(Base!$B:$B,MATCH('Guia de BTC'!$B274,Base!$F:$F,0)))","v":""},null,null,null,null,{"$f":"IFERROR((_xll.ECONOMATICA(C274,\"Partic in ibovespa\")/100),\"\")","v":""},null,"",null,null,null,null,null,"","","",null,null,null,null,"",null,null,"",null,null,null,"",null,"",null,null,null,"",null,""]
[null,{"$f":"IF($B274>=Base!$G$3,\"\",$B274+1)","v":""},{"$f":"IF($B275=\"\",\"\",INDEX(Base!$B:$B,MATCH('Guia de BTC'!$B275,Base!$F:$F,0)))","v":""},null,null,null,null,{"$f":"IFERROR((_xll.ECONOMATICA(C275,\"Partic in ibovespa\")/100),\"\")","v":""},null,"",null,null,null,null,null,"","","",null,null,null,null,"",null,null,"",null,null,null,"",null,"",null,null,null,"",null,""]
[null,{"$f":"IF($B275>=Base!$G$3,\"\",$B275+1)","v":""},{"$f":"IF($B276=\"\",\"\",INDEX(Base!$B:$B,MATCH('Guia de BTC'!$B276,Base!$F:$F,0)))","v":""},null,null,null,null,{"$f":"IFERROR((_xll.ECONOMATICA(C276,\"Partic in ibovespa\")/100),\"\")","v":""},null,"",null,null,null,null,null,"","","",null,null,null,null,"",null,null,"",null,null,null,"",null,"",null,null,null,"",null,""]
[null,{"$f":"IF($B276>=Base!$G$3,\"\",$B276+1)","v":""},{"$f":"IF($B277=\"\",\"\",INDEX(Base!$B:$B,MATCH('Guia de BTC'!$B277,Base!$F:$F,0)))","v":""},null,null,null,null,{"$f":"IFERROR((_xll.ECONOMATICA(C277,\"Partic in ibovespa\")/100),\"\")","v":""},null,"",null,null,null,null,null,"","","",null,null,null,null,"",null,null,"",null,null,null,"",null,"",null,null,null,"",null,""]
[null,{"$f":"IF($B277>=Base!$G$3,\"\",$B277+1)","v":""},{"$f":"IF($B278=\"\",\"\",INDEX(Base!$B:$B,MATCH('Guia de BTC'!$B278,Base!$F:$F,0)))","v":""},null,null,null,null,{"$f":"IFERROR((_xll.ECONOMATICA(C278,\"Partic in ibovespa\")/100),\"\")","v":""},null,"",null,null,null,null,null,"","","",null,null,null,null,"",null,null,"",null,null,null,"",null,"",null,null,null,"",null,""]
[null,{"$f":"IF($B278>=Base!$G$3,\"\",$B278+1)","v":""},{"$f":"IF($B279=\"\",\"\",INDEX(Base!$B:$B,MATCH('Guia de BTC'!$B279,Base!$F:$F,0)))","v":""},null,null,null,null,{"$f":"IFERROR((_xll.ECONOMATICA(C279,\"Partic in ibovespa\")/100),\"\")","v":""},null,"",null,null,null,null,null,"","","",null,null,null,null,"",null,null,"",null,null,null,"",null,"",null,null,null,"",null,""]
[null,{"$f":"IF($B279>=Base!$G$3,\"\",$B279+1)","v":""},{"$f":"IF($B280=\"\",\"\",INDEX(Base!$B:$B,MATCH('Guia de BTC'!$B280,Base!$F:$F,0)))","v":""},null,null,null,null,{"$f":"IFERROR((_xll.ECONOMATICA(C280,\"Partic in ibovespa\")/100),\"\")","v":""},null,"",null,null,null,null,null,"","","",null,null,null,null,"",null,null,"",null,null,null,"",null,"",null,null,null,"",null,""]
[null,{"$f":"IF($B280>=Base!$G$3,\"\",$B280+1)","v":""},{"$f":"IF($B281=\"\",\"\",INDEX(Base!$B:$B,MATCH('Guia de BTC'!$B281,Base!$F:$F,0)))","v":""},null,null,null,null,{"$f":"IFERROR((_xll.ECONOMATICA(C281,\"Partic in ibovespa\")/100),\"\")","v":""},null,"",null,null,null,null,null,"","","",null,null,null,null,"",null,null,"",null,null,null,"",null,"",null,null,null,"",null,""]
[null,{"$f":"IF($B281>=Base!$G$3,\"\",$B281+1)","v":""},{"$f":"IF($B282=\"\",\"\",INDEX(Base!$B:$B,MATCH('Guia de BTC'!$B282,Base!$F:$F,0)))","v":""},null,null,null,null,{"$f":"IFERROR((_xll.ECONOMATICA(C282,\"Partic in ibovespa\")/100),\"\")","v":""},null,"",null,null,null,null,null,"","","",null,null,null,null,"",null,null,"",null,null,null,"",null,"",null,null,null,"",null,""]
[null,{"$f":"IF($B282>=Base!$G$3,\"\",$B282+1)","v":""},{"$f":"IF($B283=\"\",\"\",INDEX(Base!$B:$B,MATCH('Guia de BTC'!$B283,Base!$F:$F,0)))","v":""},null,null,null,null,{"$f":"IFERROR((_xll.ECONOMATICA(C283,\"Partic in ibovespa\")/100),\"\")","v":""},null,"",null,null,null,null,null,"","","",null,null,null,null,"",null,null,"",null,null,null,"",null,"",null,null,null,"",null,""]
[null,{"$f":"IF($B283>=Base!$G$3,\"\",$B283+1)","v":""},{"$f":"IF($B284=\"\",\"\",INDEX(Base!$B:$B,MATCH('Guia de BTC'!$B284,Base!$F:$F,0)))","v":""},null,null,null,null,{"$f":"IFERROR((_xll.ECONOMATICA(C284,\"Partic in ibovespa\")/100),\"\")","v":""},null,"",null,null,null,null,null,"","","",null,null,null,null,"",null,null,"",null,null,null,"",null,"",null,null,null,"",null,""]
[null,{"$f":"IF($B284>=Base!$G$3,\"\",$B284+1)","v":""},{"$f":"IF($B285=\"\",\"\",INDEX(Base!$B:$B,MATCH('Guia de BTC'!$B285,Base!$F:$F,0)))","v":""},null,null,null,null,{"$f":"IFERROR((_xll.ECONOMATICA(C285,\"Partic in ibovespa\")/100),\"\")","v":""},null,"",null,null,null,null,null,"","","",null,null,null,null,"",null,null,"",null,null,null,"",null,"",null,null,null,"",null,""]
[null,{"$f":"IF($B285>=Base!$G$3,\"\",$B285+1)","v":""},{"$f":"IF($B286=\"\",\"\",INDEX(Base!$B:$B,MATCH('Guia de BTC'!$B286,Base!$F:$F,0)))","v":""},null,null,null,null,{"$f":"IFERROR((_xll.ECONOMATICA(C286,\"Partic in ibovespa\")/100),\"\")","v":""},null,"",null,null,null,null,null,"","","",null,null,null,null,"",null,null,"",null,null,null,"",null,"",null,null,null,"",null,""]
[null,{"$f":"IF($B286>=Base!$G$3,\"\",$B286+1)","v":""},{"$f":"IF($B287=\"\",\"\",INDEX(Base!$B:$B,MATCH('Guia de BTC'!$B287,Base!$F:$F,0)))","v":""},null,null,null,null,{"$f":"IFERROR((_xll.ECONOMATICA(C287,\"Partic in ibovespa\")/100),\"\")","v":""},null,"",null,null,null,null,null,"","","",null,null,null,null,"",null,null,"",null,null,null,"",null,"",null,null,null,"",null,""]
[null,{"$f":"IF($B287>=Base!$G$3,\"\",$B287+1)","v":""},{"$f":"IF($B288=\"\",\"\",INDEX(Base!$B:$B,MATCH('Guia de BTC'!$B288,Base!$F:$F,0)))","v":""},null,null,null,null,{"$f":"IFERROR((_xll.ECONOMATICA(C288,\"Partic in ibovespa\")/100),\"\")","v":""},null,"",null,null,null,null,null,"","","",null,null,null,null,"",null,null,"",null,null,null,"",null,"",null,null,null,"",null,""]
[null,{"$f":"IF($B288>=Base!$G$3,\"\",$B288+1)","v":""},{"$f":"IF($B289=\"\",\"\",INDEX(Base!$B:$B,MATCH('Guia de BTC'!$B289,Base!$F:$F,0)))","v":""},null,null,null,null,{"$f":"IFERROR((_xll.ECONOMATICA(C289,\"Partic in ibovespa\")/100),\"\")","v":""},null,"",null,null,null,null,null,"","","",null,null,null,null,"",null,null,"",null,null,null,"",null,"",null,null,null,"",null,""]
[null,{"$f":"IF($B289>=Base!$G$3,\"\",$B289+1)","v":""},{"$f":"IF($B290=\"\",\"\",INDEX(Base!$B:$B,MATCH('Guia de BTC'!$B290,Base!$F:$F,0)))","v":""},null,null,null,null,{"$f":"IFERROR((_xll.ECONOMATICA(C290,\"Partic in ibovespa\")/100),\"\")","v":""},null,"",null,null,null,null,null,"","","",null,null,null,null,"",null,null,"",null,null,null,"",null,"",null,null,null,"",null,""]
[null,{"$f":"IF($B290>=Base!$G$3,\"\",$B290+1)","v":""},{"$f":"IF($B291=\"\",\"\",INDEX(Base!$B:$B,MATCH('Guia de BTC'!$B291,Base!$F:$F,0)))","v":""},null,null,null,null,{"$f":"IFERROR((_xll.ECONOMATICA(C291,\"Partic in ibovespa\")/100),\"\")","v":""},null,"",null,null,null,null,null,"","","",null,null,null,null,"",null,null,"",null,null,null,"",null,"",null,null,null,"",null,""]
[null,{"$f":"IF($B291>=Base!$G$3,\"\",$B291+1)","v":""},{"$f":"IF($B292=\"\",\"\",INDEX(Base!$B:$B,MATCH('Guia de BTC'!$B292,Base!$F:$F,0)))","v":""},null,null,null,null,{"$f":"IFERROR((_xll.ECONOMATICA(C292,\"Partic in ibovespa\")/100),\"\")","v":""},null,"",null,null,null,null,null,"","","",null,null,null,null,"",null,null,"",null,null,null,"",null,"",null,null,null,"",null,""]
[null,{"$f":"IF($B292>=Base!$G$3,\"\",$B292+1)","v":""},{"$f":"IF($B293=\"\",\"\",INDEX(Base!$B:$B,MATCH('Guia de BTC'!$B293,Base!$F:$F,0)))","v":""},null,null,null,null,{"$f":"IFERROR((_xll.ECONOMATICA(C293,\"Partic in ibovespa\")/100),\"\")","v":""},null,"",null,null,null,null,null,"","","",null,null,null,null,"",null,null,"",null,null,null,"",null,"",null,null,null,"",null,""]
[null,{"$f":"IF($B293>=Base!$G$3,\"\",$B293+1)","v":""},{"$f":"IF($B294=\"\",\"\",INDEX(Base!$B:$B,MATCH('Guia de BTC'!$B294,Base!$F:$F,0)))","v":""},null,null,null,null,{"$f":"IFERROR((_xll.ECONOMATICA(C294,\"Partic in ibovespa\")/100),\"\")","v":""},null,"",null,null,null,null,null,"","","",null,null,null,null,"",null,null,"",null,null,null,"",null,"",null,null,null,"",null,""]
[null,{"$f":"IF($B294>=Base!$G$3,\"\",$B294+1)","v":""},{"$f":"IF($B295=\"\",\"\",INDEX(Base!$B:$B,MATCH('Guia de BTC'!$B295,Base!$F:$F,0)))","v":""},null,null,null,null,{"$f":"IFERROR((_xll.ECONOMATICA(C295,\"Partic in ibovespa\")/100),\"\")","v":""},null,"",null,null,null,null,null,"","","",null,null,null,null,{"$f":"IFERROR(T295/U295,\"\")","v":""},null,null,{"$f":"IFERROR(T295/Y295,\"\")","v":""},null,null,null,{"$f":"IF(AB295=\"\",\"\",AB295-AC295)","v":""},null,"",null,null,null,{"$f":"IFERROR((AH295/AI295)-1,\"\")","v":""},null,{"$f":"IFERROR((AH295/AK295)-1,\"\")","v":""}]
[null,{"$f":"IF($B295>=Base!$G$3,\"\",$B295+1)","v":""},{"$f":"IF($B296=\"\",\"\",INDEX(Base!$B:$B,MATCH('Guia de BTC'!$B296,Base!$F:$F,0)))","v":""},null,null,null,null,{"$f":"IFERROR((_xll.ECONOMATICA(C296,\"Partic in ibovespa\")/100),\"\")","v":""},null,"",null,null,null,null,null,"","","",null,null,null,null,"",null,null,"",null,null,null,"",null,"",null,null,null,"",null,""]
[null,{"$f":"IF($B296>=Base!$G$3,\"\",$B296+1)","v":""},{"$f":"IF($B297=\"\",\"\",INDEX(Base!$B:$B,MATCH('Guia de BTC'!$B297,Base!$F:$F,0)))","v":""},null,null,null,null,{"$f":"IFERROR((_xll.ECONOMATICA(C297,\"Partic in ibovespa\")/100),\"\")","v":""},null,"",null,null,null,null,null,"","","",null,null,null,null,"",null,null,"",null,null,null,"",null,"",null,null,null,"",null,""]
[null,{"$f":"IF($B297>=Base!$G$3,\"\",$B297+1)","v":""},{"$f":"IF($B298=\"\",\"\",INDEX(Base!$B:$B,MATCH('Guia de BTC'!$B298,Base!$F:$F,0)))","v":""},null,null,null,null,{"$f":"IFERROR((_xll.ECONOMATICA(C298,\"Partic in ibovespa\")/100),\"\")","v":""},null,"",null,null,null,null,null,"","","",null,null,null,null,"",null,null,"",null,null,null,"",null,"",null,null,null,"",null,""]
[null,{"$f":"IF($B298>=Base!$G$3,\"\",$B298+1)","v":""},{"$f":"IF($B299=\"\",\"\",INDEX(Base!$B:$B,MATCH('Guia de BTC'!$B299,Base!$F:$F,0)))","v":""},null,null,null,null,{"$f":"IFERROR((_xll.ECONOMATICA(C299,\"Partic in ibovespa\")/100),\"\")","v":""},null,"",null,null,null,null,null,"","","",null,null,null,null,"",null,null,"",null,null,null,"",null,"",null,null,null,"",null,""]
[null,{"$f":"IF($B299>=Base!$G$3,\"\",$B299+1)","v":""},{"$f":"IF($B300=\"\",\"\",INDEX(Base!$B:$B,MATCH('Guia de BTC'!$B300,Base!$F:$F,0)))","v":""},null,null,null,null,{"$f":"IFERROR((_xll.ECONOMATICA(C300,\"Partic in ibovespa\")/100),\"\")","v":""},null,"",null,null,null,null,null,"","","",null,null,null,null,"",null,null,"",null,null,null,"",null,"",null,null,null,"",null,""]
[null,{"$f":"IF($B300>=Base!$G$3,\"\",$B300+1)","v":""},{"$f":"IF($B301=\"\",\"\",INDEX(Base!$B:$B,MATCH('Guia de BTC'!$B301,Base!$F:$F,0)))","v":""},null,null,null,null,{"$f":"IFERROR((_xll.ECONOMATICA(C301,\"Partic in ibovespa\")/100),\"\")","v":""},null,"",null,null,null,null,null,"","","",null,null,null,null,"",null,null,"",null,null,null,"",null,"",null,null,null,"",null,""]
[null,{"$f":"IF($B301>=Base!$G$3,\"\",$B301+1)","v":""},{"$f":"IF($B302=\"\",\"\",INDEX(Base!$B:$B,MATCH('Guia de BTC'!$B302,Base!$F:$F,0)))","v":""},null,null,null,null,{"$f":"IFERROR((_xll.ECONOMATICA(C302,\"Partic in ibovespa\")/100),\"\")","v":""},null,"",null,null,null,null,null,"","","",null,null,null,null,"",null,null,"",null,null,null,"",null,"",null,null,null,"",null,""]
[null,{"$f":"IF($B302>=Base!$G$3,\"\",$B302+1)","v":""},{"$f":"IF($B303=\"\",\"\",INDEX(Base!$B:$B,MATCH('Guia de BTC'!$B303,Base!$F:$F,0)))","v":""},null,null,null,null,{"$f":"IFERROR((_xll.ECONOMATICA(C303,\"Partic in ibovespa\")/100),\"\")","v":""},null,{"$f":"LEFT(I303,2)","v":""},null,null,null,null,null,"","","",null,null,null,null,"",null,null,"",null,null,null,"",null,"",null,null,null,"",null,""]
[null,{"$f":"IF($B303>=Base!$G$3,\"\",$B303+1)","v":""},{"$f":"IF($B304=\"\",\"\",INDEX(Base!$B:$B,MATCH('Guia de BTC'!$B304,Base!$F:$F,0)))","v":""},null,null,null,null,{"$f":"IFERROR((_xll.ECONOMATICA(C304,\"Partic in ibovespa\")/100),\"\")","v":""},null,"",null,null,null,null,null,"","","",null,null,null,null,"",null,null,"",null,null,null,"",null,"",null,null,null,"",null,""]
[null,{"$f":"IF($B304>=Base!$G$3,\"\",$B304+1)","v":""},{"$f":"IF($B305=\"\",\"\",INDEX(Base!$B:$B,MATCH('Guia de BTC'!$B305,Base!$F:$F,0)))","v":""},null,null,null,null,{"$f":"IFERROR((_xll.ECONOMATICA(C305,\"Partic in ibovespa\")/100),\"\")","v":""},null,"",null,null,null,null,null,"","","",null,null,null,null,"",null,null,"",null,null,null,"",null,"",null,null,null,"",null,""]
[null,{"$f":"IF($B305>=Base!$G$3,\"\",$B305+1)","v":""},{"$f":"IF($B306=\"\",\"\",INDEX(Base!$B:$B,MATCH('Guia de BTC'!$B306,Base!$F:$F,0)))","v":""},null,null,null,null,{"$f":"IFERROR((_xll.ECONOMATICA(C306,\"Partic in ibovespa\")/100),\"\")","v":""},null,"",null,null,null,null,null,"","","",null,null,null,null,"",null,null,"",null,null,null,"",null,"",null,null,null,"",null,""]
[null,{"$f":"IF($B306>=Base!$G$3,\"\",$B306+1)","v":""},{"$f":"IF($B307=\"\",\"\",INDEX(Base!$B:$B,MATCH('Guia de BTC'!$B307,Base!$F:$F,0)))","v":""},null,null,null,null,{"$f":"IFERROR((_xll.ECONOMATICA(C307,\"Partic in ibovespa\")/100),\"\")","v":""},null,"",null,null,null,null,null,"","","",null,null,null,null,"",null,null,"",null,null,null,"",null,"",null,null,null,"",null,""]
[null,{"$f":"IF($B307>=Base!$G$3,\"\",$B307+1)","v":""},{"$f":"IF($B308=\"\",\"\",INDEX(Base!$B:$B,MATCH('Guia de BTC'!$B308,Base!$F:$F,0)))","v":""},null,null,null,null,{"$f":"IFERROR((_xll.ECONOMATICA(C308,\"Partic in ibovespa\")/100),\"\")","v":""},null,"",null,null,null,null,null,"","","",null,null,null,null,"",null,null,"",null,null,null,"",null,"",null,null,null,"",null,""]
[null,{"$f":"IF($B308>=Base!$G$3,\"\",$B308+1)","v":""},{"$f":"IF($B309=\"\",\"\",INDEX(Base!$B:$B,MATCH('Guia de BTC'!$B309,Base!$F:$F,0)))","v":""},null,null,null,null,{"$f":"IFERROR((_xll.ECONOMATICA(C309,\"Partic in ibovespa\")/100),\"\")","v":""},null,"",null,null,null,null,null,"","","",null,null,null,null,"",null,null,"",null,null,null,"",null,"",null,null,null,"",null,""]
[null,{"$f":"IF($B309>=Base!$G$3,\"\",$B309+1)","v":""},{"$f":"IF($B310=\"\",\"\",INDEX(Base!$B:$B,MATCH('Guia de BTC'!$B310,Base!$F:$F,0)))","v":""},null,null,null,null,{"$f":"IFERROR((_xll.ECONOMATICA(C310,\"Partic in ibovespa\")/100),\"\")","v":""},null,"",null,null,null,null,null,"","","",null,null,null,null,"",null,null,"",null,null,null,"",null,"",null,null,null,"",null,""]
[null,{"$f":"IF($B310>=Base!$G$3,\"\",$B310+1)","v":""},{"$f":"IF($B311=\"\",\"\",INDEX(Base!$B:$B,MATCH('Guia de BTC'!$B311,Base!$F:$F,0)))","v":""},null,null,null,null,{"$f":"IFERROR((_xll.ECONOMATICA(C311,\"Partic in ibovespa\")/100),\"\")","v":""},null,"",null,null,null,null,null,"","","",null,null,null,null,"",null,null,"",null,null,null,"",null,"",null,null,null,"",null,""]
[null,{"$f":"IF($B311>=Base!$G$3,\"\",$B311+1)","v":""},{"$f":"IF($B312=\"\",\"\",INDEX(Base!$B:$B,MATCH('Guia de BTC'!$B312,Base!$F:$F,0)))","v":""},null,null,null,null,{"$f":"IFERROR((_xll.ECONOMATICA(C312,\"Partic in ibovespa\")/100),\"\")","v":""},null,"",null,null,null,null,null,"","","",null,null,null,null,"",null,null,"",null,null,null,"",null,"",null,null,null,"",null,""]
[null,{"$f":"IF($B312>=Base!$G$3,\"\",$B312+1)","v":""},{"$f":"IF($B313=\"\",\"\",INDEX(Base!$B:$B,MATCH('Guia de BTC'!$B313,Base!$F:$F,0)))","v":""},null,null,null,null,{"$f":"IFERROR((_xll.ECONOMATICA(C313,\"Partic in ibovespa\")/100),\"\")","v":""},null,"",null,null,null,null,null,{"$f":"IF(N313=\"\",\"\",IF(O313>1,O313,N313))","v":""},{"$f":"IFERROR(IF(J313=\"on\",P313*K313,IF(J313=\"pn\",P313*L313,IF(J313=\"un\",P313*M313,\"\"))),\"\")","v":""},{"$f":"IFERROR(T313/Q313,\"\")","v":""},null,null,null,null,"",null,null,"",null,null,null,"",null,"",null,null,null,"",null,""]
[null,{"$f":"IF($B313>=Base!$G$3,\"\",$B313+1)","v":""},{"$f":"IF($B314=\"\",\"\",INDEX(Base!$B:$B,MATCH('Guia de BTC'!$B314,Base!$F:$F,0)))","v":""},null,null,null,null,{"$f":"IFERROR((_xll.ECONOMATICA(C314,\"Partic in ibovespa\")/100),\"\")","v":""},null,"",null,null,null,null,null,"","","",null,null,null,null,"",null,null,"",null,null,null,"",null,"",null,null,null,"",null,""]
[null,{"$f":"IF($B314>=Base!$G$3,\"\",$B314+1)","v":""},{"$f":"IF($B315=\"\",\"\",INDEX(Base!$B:$B,MATCH('Guia de BTC'!$B315,Base!$F:$F,0)))","v":""},null,null,null,null,{"$f":"IFERROR((_xll.ECONOMATICA(C315,\"Partic in ibovespa\")/100),\"\")","v":""},null,"",null,null,null,null,null,"","","",null,null,null,null,"",null,null,"",null,null,null,"",null,"",null,null,null,"",null,""]
[null,{"$f":"IF($B315>=Base!$G$3,\"\",$B315+1)","v":""},{"$f":"IF($B316=\"\",\"\",INDEX(Base!$B:$B,MATCH('Guia de BTC'!$B316,Base!$F:$F,0)))","v":""},null,null,null,null,{"$f":"IFERROR((_xll.ECONOMATICA(C316,\"Partic in ibovespa\")/100),\"\")","v":""},null,"",null,null,null,null,null,"","","",null,null,null,null,"",null,null,"",null,null,null,"",null,"",null,null,null,"",null,""]
[null,{"$f":"IF($B316>=Base!$G$3,\"\",$B316+1)","v":""},{"$f":"IF($B317=\"\",\"\",INDEX(Base!$B:$B,MATCH('Guia de BTC'!$B317,Base!$F:$F,0)))","v":""},null,null,null,null,{"$f":"IFERROR((_xll.ECONOMATICA(C317,\"Partic in ibovespa\")/100),\"\")","v":""},null,"",null,null,null,null,null,"","","",null,null,null,null,"",null,null,"",null,null,null,"",null,"",null,null,null,"",null,""]
[null,{"$f":"IF($B317>=Base!$G$3,\"\",$B317+1)","v":""},{"$f":"IF($B318=\"\",\"\",INDEX(Base!$B:$B,MATCH('Guia de BTC'!$B318,Base!$F:$F,0)))","v":""},null,null,null,null,{"$f":"IFERROR((_xll.ECONOMATICA(C318,\"Partic in ibovespa\")/100),\"\")","v":""},null,"",null,null,null,null,null,"","","",null,null,null,null,"",null,null,"",null,null,null,"",null,"",null,null,null,"",null,""]
[null,{"$f":"IF($B318>=Base!$G$3,\"\",$B318+1)","v":""},{"$f":"IF($B319=\"\",\"\",INDEX(Base!$B:$B,MATCH('Guia de BTC'!$B319,Base!$F:$F,0)))","v":""},null,null,null,null,{"$f":"IFERROR((_xll.ECONOMATICA(C319,\"Partic in ibovespa\")/100),\"\")","v":""},null,"",null,null,null,null,null,"","","",null,null,null,null,"",null,null,"",null,null,null,"",null,"",null,null,null,"",null,""]
[null,{"$f":"IF($B319>=Base!$G$3,\"\",$B319+1)","v":""},{"$f":"IF($B320=\"\",\"\",INDEX(Base!$B:$B,MATCH('Guia de BTC'!$B320,Base!$F:$F,0)))","v":""},null,null,null,null,{"$f":"IFERROR((_xll.ECONOMATICA(C320,\"Partic in ibovespa\")/100),\"\")","v":""},null,"",null,null,null,null,null,"","","",null,null,null,null,"",null,null,"",null,null,null,"",null,"",null,null,null,"",null,""]
[null,{"$f":"IF($B320>=Base!$G$3,\"\",$B320+1)","v":""},{"$f":"IF($B321=\"\",\"\",INDEX(Base!$B:$B,MATCH('Guia de BTC'!$B321,Base!$F:$F,0)))","v":""},null,null,null,null,{"$f":"IFERROR((_xll.ECONOMATICA(C321,\"Partic in ibovespa\")/100),\"\")","v":""},null,"",null,null,null,null,null,"","","",null,null,null,null,"",null,null,"",null,null,null,"",null,"",null,null,null,"",null,""]
[null,{"$f":"IF($B321>=Base!$G$3,\"\",$B321+1)","v":""},{"$f":"IF($B322=\"\",\"\",INDEX(Base!$B:$B,MATCH('Guia de BTC'!$B322,Base!$F:$F,0)))","v":""},null,null,null,null,{"$f":"IFERROR((_xll.ECONOMATICA(C322,\"Partic in ibovespa\")/100),\"\")","v":""},null,"",null,null,null,null,null,"","","",null,null,null,null,"",null,null,"",null,null,null,"",null,"",null,null,null,"",null,""]
[null,{"$f":"IF($B322>=Base!$G$3,\"\",$B322+1)","v":""},{"$f":"IF($B323=\"\",\"\",INDEX(Base!$B:$B,MATCH('Guia de BTC'!$B323,Base!$F:$F,0)))","v":""},null,null,null,null,{"$f":"IFERROR((_xll.ECONOMATICA(C323,\"Partic in ibovespa\")/100),\"\")","v":""},null,"",null,null,null,null,null,"","","",null,null,null,null,"",null,null,"",null,null,null,"",null,"",null,null,null,"",null,""]
[null,{"$f":"IF($B323>=Base!$G$3,\"\",$B323+1)","v":""},{"$f":"IF($B324=\"\",\"\",INDEX(Base!$B:$B,MATCH('Guia de BTC'!$B324,Base!$F:$F,0)))","v":""},null,null,null,null,{"$f":"IFERROR((_xll.ECONOMATICA(C324,\"Partic in ibovespa\")/100),\"\")","v":""},null,"",null,null,null,null,null,"","","",null,null,null,null,"",null,null,"",null,null,null,"",null,"",null,null,null,"",null,""]
[null,{"$f":"IF($B324>=Base!$G$3,\"\",$B324+1)","v":""},{"$f":"IF($B325=\"\",\"\",INDEX(Base!$B:$B,MATCH('Guia de BTC'!$B325,Base!$F:$F,0)))","v":""},null,null,null,null,{"$f":"IFERROR((_xll.ECONOMATICA(C325,\"Partic in ibovespa\")/100),\"\")","v":""},null,"",null,null,null,null,null,"","","",null,null,null,null,"",null,null,"",null,null,null,"",null,"",null,null,null,"",null,""]
[null,{"$f":"IF($B325>=Base!$G$3,\"\",$B325+1)","v":""},{"$f":"IF($B326=\"\",\"\",INDEX(Base!$B:$B,MATCH('Guia de BTC'!$B326,Base!$F:$F,0)))","v":""},null,null,null,null,{"$f":"IFERROR((_xll.ECONOMATICA(C326,\"Partic in ibovespa\")/100),\"\")","v":""},null,"",null,null,null,null,null,"","","",null,null,null,null,"",null,null,"",null,null,null,"",null,"",null,null,null,"",null,""]
[null,{"$f":"IF($B326>=Base!$G$3,\"\",$B326+1)","v":""},{"$f":"IF($B327=\"\",\"\",INDEX(Base!$B:$B,MATCH('Guia de BTC'!$B327,Base!$F:$F,0)))","v":""},null,null,null,null,{"$f":"IFERROR((_xll.ECONOMATICA(C327,\"Partic in ibovespa\")/100),\"\")","v":""},null,"",null,null,null,null,null,"","","",null,null,null,null,"",null,null,"",null,null,null,"",null,"",null,null,null,"",null,""]
[null,{"$f":"IF($B327>=Base!$G$3,\"\",$B327+1)","v":""},{"$f":"IF($B328=\"\",\"\",INDEX(Base!$B:$B,MATCH('Guia de BTC'!$B328,Base!$F:$F,0)))","v":""},null,null,null,null,{"$f":"IFERROR((_xll.ECONOMATICA(C328,\"Partic in ibovespa\")/100),\"\")","v":""},null,"",null,null,null,null,null,"","","",null,null,null,null,"",null,null,"",null,null,null,"",null,{"$f":"IFERROR(ABS(AD328/AE328),\"\")","v":""},null,null,null,"",null,""]
[null,{"$f":"IF($B328>=Base!$G$3,\"\",$B328+1)","v":""},{"$f":"IF($B329=\"\",\"\",INDEX(Base!$B:$B,MATCH('Guia de BTC'!$B329,Base!$F:$F,0)))","v":""},null,null,null,null,{"$f":"IFERROR((_xll.ECONOMATICA(C329,\"Partic in ibovespa\")/100),\"\")","v":""},null,"",null,null,null,null,null,"","","",null,null,null,null,"",null,null,"",null,null,null,"",null,"",null,null,null,"",null,""]
[null,{"$f":"IF($B329>=Base!$G$3,\"\",$B329+1)","v":""},{"$f":"IF($B330=\"\",\"\",INDEX(Base!$B:$B,MATCH('Guia de BTC'!$B330,Base!$F:$F,0)))","v":""},null,null,null,null,{"$f":"IFERROR((_xll.ECONOMATICA(C330,\"Partic in ibovespa\")/100),\"\")","v":""},null,"",null,null,null,null,null,"","","",null,null,null,null,"",null,null,"",null,null,null,"",null,"",null,null,null,"",null,""]
[null,{"$f":"IF($B330>=Base!$G$3,\"\",$B330+1)","v":""},{"$f":"IF($B331=\"\",\"\",INDEX(Base!$B:$B,MATCH('Guia de BTC'!$B331,Base!$F:$F,0)))","v":""},null,null,null,null,{"$f":"IFERROR((_xll.ECONOMATICA(C331,\"Partic in ibovespa\")/100),\"\")","v":""},null,"",null,null,null,null,null,"","","",null,null,null,null,"",null,null,"",null,null,null,"",null,"",null,null,null,"",null,""]
[null,{"$f":"IF($B331>=Base!$G$3,\"\",$B331+1)","v":""},{"$f":"IF($B332=\"\",\"\",INDEX(Base!$B:$B,MATCH('Guia de BTC'!$B332,Base!$F:$F,0)))","v":""},null,null,null,null,{"$f":"IFERROR((_xll.ECONOMATICA(C332,\"Partic in ibovespa\")/100),\"\")","v":""},null,"",null,null,null,null,null,"","","",null,null,null,null,"",null,null,"",null,null,null,"",null,"",null,null,null,"",null,""]
[null,{"$f":"IF($B332>=Base!$G$3,\"\",$B332+1)","v":""},{"$f":"IF($B333=\"\",\"\",INDEX(Base!$B:$B,MATCH('Guia de BTC'!$B333,Base!$F:$F,0)))","v":""},null,null,null,null,{"$f":"IFERROR((_xll.ECONOMATICA(C333,\"Partic in ibovespa\")/100),\"\")","v":""},null,"",null,null,null,null,null,"","","",null,null,null,null,"",null,null,"",null,null,null,"",null,"",null,null,null,"",null,""]
[null,{"$f":"IF($B333>=Base!$G$3,\"\",$B333+1)","v":""},{"$f":"IF($B334=\"\",\"\",INDEX(Base!$B:$B,MATCH('Guia de BTC'!$B334,Base!$F:$F,0)))","v":""},null,null,null,null,{"$f":"IFERROR((_xll.ECONOMATICA(C334,\"Partic in ibovespa\")/100),\"\")","v":""},null,"",null,null,null,null,null,"","","",null,null,null,null,"",null,null,"",null,null,null,"",null,"",null,null,null,"",null,""]
[null,{"$f":"IF($B334>=Base!$G$3,\"\",$B334+1)","v":""},{"$f":"IF($B335=\"\",\"\",INDEX(Base!$B:$B,MATCH('Guia de BTC'!$B335,Base!$F:$F,0)))","v":""},null,null,null,null,{"$f":"IFERROR((_xll.ECONOMATICA(C335,\"Partic in ibovespa\")/100),\"\")","v":""},null,"",null,null,null,null,null,"","","",null,null,null,null,"",null,null,"",null,null,null,"",null,"",null,null,null,"",null,""]
[null,{"$f":"IF($B335>=Base!$G$3,\"\",$B335+1)","v":""},{"$f":"IF($B336=\"\",\"\",INDEX(Base!$B:$B,MATCH('Guia de BTC'!$B336,Base!$F:$F,0)))","v":""},null,null,null,null,{"$f":"IFERROR((_xll.ECONOMATICA(C336,\"Partic in ibovespa\")/100),\"\")","v":""},null,"",null,null,null,null,null,"","","",null,null,null,null,"",null,null,"",null,null,null,"",null,"",null,null,null,"",null,""]
[null,{"$f":"IF($B336>=Base!$G$3,\"\",$B336+1)","v":""},{"$f":"IF($B337=\"\",\"\",INDEX(Base!$B:$B,MATCH('Guia de BTC'!$B337,Base!$F:$F,0)))","v":""},null,null,null,null,{"$f":"IFERROR((_xll.ECONOMATICA(C337,\"Partic in ibovespa\")/100),\"\")","v":""},null,"",null,null,null,null,null,"","","",null,null,null,null,"",null,null,"",null,null,null,"",null,"",null,null,null,"",null,""]
[null,{"$f":"IF($B337>=Base!$G$3,\"\",$B337+1)","v":""},{"$f":"IF($B338=\"\",\"\",INDEX(Base!$B:$B,MATCH('Guia de BTC'!$B338,Base!$F:$F,0)))","v":""},null,null,null,null,{"$f":"IFERROR((_xll.ECONOMATICA(C338,\"Partic in ibovespa\")/100),\"\")","v":""},null,"",null,null,null,null,null,"","","",null,null,null,null,"",null,null,"",null,null,null,"",null,"",null,null,null,"",null,""]
[null,{"$f":"IF($B338>=Base!$G$3,\"\",$B338+1)","v":""},{"$f":"IF($B339=\"\",\"\",INDEX(Base!$B:$B,MATCH('Guia de BTC'!$B339,Base!$F:$F,0)))","v":""},null,null,null,null,{"$f":"IFERROR((_xll.ECONOMATICA(C339,\"Partic in ibovespa\")/100),\"\")","v":""},null,"",null,null,null,null,null,"","","",null,null,null,null,"",null,null,"",null,null,null,"",null,"",null,null,null,"",null,""]
[null,{"$f":"IF($B339>=Base!$G$3,\"\",$B339+1)","v":""},{"$f":"IF($B340=\"\",\"\",INDEX(Base!$B:$B,MATCH('Guia de BTC'!$B340,Base!$F:$F,0)))","v":""},null,null,null,null,{"$f":"IFERROR((_xll.ECONOMATICA(C340,\"Partic in ibovespa\")/100),\"\")","v":""},null,"",null,null,null,null,null,"","","",null,null,null,null,"",null,null,"",null,null,null,"",null,"",null,null,null,"",null,""]
[null,{"$f":"IF($B340>=Base!$G$3,\"\",$B340+1)","v":""},{"$f":"IF($B341=\"\",\"\",INDEX(Base!$B:$B,MATCH('Guia de BTC'!$B341,Base!$F:$F,0)))","v":""},null,null,null,null,{"$f":"IFERROR((_xll.ECONOMATICA(C341,\"Partic in ibovespa\")/100),\"\")","v":""},null,"",null,null,null,null,null,"","","",null,null,null,null,"",null,null,"",null,null,null,"",null,"",null,null,null,"",null,""]
[null,{"$f":"IF($B341>=Base!$G$3,\"\",$B341+1)","v":""},{"$f":"IF($B342=\"\",\"\",INDEX(Base!$B:$B,MATCH('Guia de BTC'!$B342,Base!$F:$F,0)))","v":""},null,null,null,null,{"$f":"IFERROR((_xll.ECONOMATICA(C342,\"Partic in ibovespa\")/100),\"\")","v":""},null,"",null,null,null,null,null,"","","",null,null,null,null,"",null,null,"",null,null,null,"",null,"",null,null,null,"",null,""]
[null,{"$f":"IF($B342>=Base!$G$3,\"\",$B342+1)","v":""},{"$f":"IF($B343=\"\",\"\",INDEX(Base!$B:$B,MATCH('Guia de BTC'!$B343,Base!$F:$F,0)))","v":""},null,null,null,null,{"$f":"IFERROR((_xll.ECONOMATICA(C343,\"Partic in ibovespa\")/100),\"\")","v":""},null,"",null,null,null,null,null,"","","",null,null,null,null,"",null,null,"",null,null,null,"",null,"",null,null,null,"",null,""]
[null,{"$f":"IF($B343>=Base!$G$3,\"\",$B343+1)","v":""},{"$f":"IF($B344=\"\",\"\",INDEX(Base!$B:$B,MATCH('Guia de BTC'!$B344,Base!$F:$F,0)))","v":""},null,null,null,null,{"$f":"IFERROR((_xll.ECONOMATICA(C344,\"Partic in ibovespa\")/100),\"\")","v":""},null,"",null,null,null,null,null,"","","",null,null,null,null,"",null,null,"",null,null,null,"",null,"",null,null,null,"",null,""]
[null,{"$f":"IF($B344>=Base!$G$3,\"\",$B344+1)","v":""},{"$f":"IF($B345=\"\",\"\",INDEX(Base!$B:$B,MATCH('Guia de BTC'!$B345,Base!$F:$F,0)))","v":""},null,null,null,null,{"$f":"IFERROR((_xll.ECONOMATICA(C345,\"Partic in ibovespa\")/100),\"\")","v":""},null,"",null,null,null,null,null,"","","",null,null,null,null,"",null,null,"",null,null,null,"",null,"",null,null,null,"",null,""]
[null,{"$f":"IF($B345>=Base!$G$3,\"\",$B345+1)","v":""},{"$f":"IF($B346=\"\",\"\",INDEX(Base!$B:$B,MATCH('Guia de BTC'!$B346,Base!$F:$F,0)))","v":""},null,null,null,null,{"$f":"IFERROR((_xll.ECONOMATICA(C346,\"Partic in ibovespa\")/100),\"\")","v":""},null,"",null,null,null,null,null,"","","",null,null,null,null,"",null,null,"",null,null,null,"",null,"",null,null,null,"",null,""]
[null,{"$f":"IF($B346>=Base!$G$3,\"\",$B346+1)","v":""},{"$f":"IF($B347=\"\",\"\",INDEX(Base!$B:$B,MATCH('Guia de BTC'!$B347,Base!$F:$F,0)))","v":""},null,null,null,null,{"$f":"IFERROR((_xll.ECONOMATICA(C347,\"Partic in ibovespa\")/100),\"\")","v":""},null,"",null,null,null,null,null,"","","",null,null,null,null,"",null,null,"",null,null,null,"",null,"",null,null,null,"",null,""]
[null,{"$f":"IF($B347>=Base!$G$3,\"\",$B347+1)","v":""},{"$f":"IF($B348=\"\",\"\",INDEX(Base!$B:$B,MATCH('Guia de BTC'!$B348,Base!$F:$F,0)))","v":""},null,null,null,null,{"$f":"IFERROR((_xll.ECONOMATICA(C348,\"Partic in ibovespa\")/100),\"\")","v":""},null,"",null,null,null,null,null,"","","",null,null,null,null,"",null,null,"",null,null,null,"",null,"",null,null,null,"",null,""]
[null,{"$f":"IF($B348>=Base!$G$3,\"\",$B348+1)","v":""},{"$f":"IF($B349=\"\",\"\",INDEX(Base!$B:$B,MATCH('Guia de BTC'!$B349,Base!$F:$F,0)))","v":""},null,null,null,null,{"$f":"IFERROR((_xll.ECONOMATICA(C349,\"Partic in ibovespa\")/100),\"\")","v":""},null,"",null,null,null,null,null,"","","",null,null,null,null,"",null,null,"",null,null,null,"",null,"",null,null,null,"",null,""]
[null,{"$f":"IF($B349>=Base!$G$3,\"\",$B349+1)","v":""},{"$f":"IF($B350=\"\",\"\",INDEX(Base!$B:$B,MATCH('Guia de BTC'!$B350,Base!$F:$F,0)))","v":""},null,null,null,null,{"$f":"IFERROR((_xll.ECONOMATICA(C350,\"Partic in ibovespa\")/100),\"\")","v":""},null,"",null,null,null,null,null,"","","",null,null,null,null,"",null,null,"",null,null,null,"",null,"",null,null,null,"",null,""]
[null,{"$f":"IF($B350>=Base!$G$3,\"\",$B350+1)","v":""},{"$f":"IF($B351=\"\",\"\",INDEX(Base!$B:$B,MATCH('Guia de BTC'!$B351,Base!$F:$F,0)))","v":""},null,null,null,null,{"$f":"IFERROR((_xll.ECONOMATICA(C351,\"Partic in ibovespa\")/100),\"\")","v":""},null,"",null,null,null,null,null,"","","",null,null,null,null,"",null,null,"",null,null,null,"",null,"",null,null,null,"",null,""]
[null,{"$f":"IF($B351>=Base!$G$3,\"\",$B351+1)","v":""},{"$f":"IF($B352=\"\",\"\",INDEX(Base!$B:$B,MATCH('Guia de BTC'!$B352,Base!$F:$F,0)))","v":""},null,null,null,null,{"$f":"IFERROR((_xll.ECONOMATICA(C352,\"Partic in ibovespa\")/100),\"\")","v":""},null,"",null,null,null,null,null,"","","",null,null,null,null,"",null,null,"",null,null,null,"",null,"",null,null,null,"",null,""]
[null,{"$f":"IF($B352>=Base!$G$3,\"\",$B352+1)","v":""},{"$f":"IF($B353=\"\",\"\",INDEX(Base!$B:$B,MATCH('Guia de BTC'!$B353,Base!$F:$F,0)))","v":""},null,null,null,null,{"$f":"IFERROR((_xll.ECONOMATICA(C353,\"Partic in ibovespa\")/100),\"\")","v":""},null,"",null,null,null,null,null,"","","",null,null,null,null,"",null,null,"",null,null,null,"",null,"",null,null,null,"",null,""]
[null,{"$f":"IF($B353>=Base!$G$3,\"\",$B353+1)","v":""},{"$f":"IF($B354=\"\",\"\",INDEX(Base!$B:$B,MATCH('Guia de BTC'!$B354,Base!$F:$F,0)))","v":""},null,null,null,null,{"$f":"IFERROR((_xll.ECONOMATICA(C354,\"Partic in ibovespa\")/100),\"\")","v":""},null,"",null,null,null,null,null,"","","",null,null,null,null,"",null,null,"",null,null,null,"",null,"",null,null,null,"",null,""]
[null,{"$f":"IF($B354>=Base!$G$3,\"\",$B354+1)","v":""},{"$f":"IF($B355=\"\",\"\",INDEX(Base!$B:$B,MATCH('Guia de BTC'!$B355,Base!$F:$F,0)))","v":""},null,null,null,null,{"$f":"IFERROR((_xll.ECONOMATICA(C355,\"Partic in ibovespa\")/100),\"\")","v":""},null,"",null,null,null,null,null,"","","",null,null,null,null,"",null,null,"",null,null,null,"",null,"",null,null,null,"",null,""]
[null,{"$f":"IF($B355>=Base!$G$3,\"\",$B355+1)","v":""},{"$f":"IF($B356=\"\",\"\",INDEX(Base!$B:$B,MATCH('Guia de BTC'!$B356,Base!$F:$F,0)))","v":""},null,null,null,null,{"$f":"IFERROR((_xll.ECONOMATICA(C356,\"Partic in ibovespa\")/100),\"\")","v":""},null,"",null,null,null,null,null,"","","",null,null,null,null,"",null,null,"",null,null,null,"",null,"",null,null,null,"",null,""]
[null,{"$f":"IF($B356>=Base!$G$3,\"\",$B356+1)","v":""},{"$f":"IF($B357=\"\",\"\",INDEX(Base!$B:$B,MATCH('Guia de BTC'!$B357,Base!$F:$F,0)))","v":""},null,null,null,null,{"$f":"IFERROR((_xll.ECONOMATICA(C357,\"Partic in ibovespa\")/100),\"\")","v":""},null,"",null,null,null,null,null,"","","",null,null,null,null,"",null,null,"",null,null,null,"",null,"",null,null,null,"",null,""]
[null,{"$f":"IF($B357>=Base!$G$3,\"\",$B357+1)","v":""},{"$f":"IF($B358=\"\",\"\",INDEX(Base!$B:$B,MATCH('Guia de BTC'!$B358,Base!$F:$F,0)))","v":""},null,null,null,null,{"$f":"IFERROR((_xll.ECONOMATICA(C358,\"Partic in ibovespa\")/100),\"\")","v":""},null,"",null,null,null,null,null,"","","",null,null,null,null,"",null,null,"",null,null,null,"",null,"",null,null,null,"",null,""]
[null,{"$f":"IF($B358>=Base!$G$3,\"\",$B358+1)","v":""},{"$f":"IF($B359=\"\",\"\",INDEX(Base!$B:$B,MATCH('Guia de BTC'!$B359,Base!$F:$F,0)))","v":""},null,null,null,null,{"$f":"IFERROR((_xll.ECONOMATICA(C359,\"Partic in ibovespa\")/100),\"\")","v":""},null,"",null,null,null,null,null,"","","",null,null,null,null,{"$f":"IFERROR(T359/U359,\"\")","v":""},null,null,{"$f":"IFERROR(T359/Y359,\"\")","v":""},null,null,null,{"$f":"IF(AB359=\"\",\"\",AB359-AC359)","v":""},null,"",null,null,null,{"$f":"IFERROR((AH359/AI359)-1,\"\")","v":""},null,{"$f":"IFERROR((AH359/AK359)-1,\"\")","v":""}]
[null,{"$f":"IF($B359>=Base!$G$3,\"\",$B359+1)","v":""},{"$f":"IF($B360=\"\",\"\",INDEX(Base!$B:$B,MATCH('Guia de BTC'!$B360,Base!$F:$F,0)))","v":""},null,null,null,null,{"$f":"IFERROR((_xll.ECONOMATICA(C360,\"Partic in ibovespa\")/100),\"\")","v":""},null,"",null,null,null,null,null,"","","",null,null,null,null,"",null,null,"",null,null,null,"",null,"",null,null,null,"",null,""]
[null,{"$f":"IF($B360>=Base!$G$3,\"\",$B360+1)","v":""},{"$f":"IF($B361=\"\",\"\",INDEX(Base!$B:$B,MATCH('Guia de BTC'!$B361,Base!$F:$F,0)))","v":""},null,null,null,null,{"$f":"IFERROR((_xll.ECONOMATICA(C361,\"Partic in ibovespa\")/100),\"\")","v":""},null,"",null,null,null,null,null,"","","",null,null,null,null,"",null,null,"",null,null,null,"",null,"",null,null,null,"",null,""]
[null,{"$f":"IF($B361>=Base!$G$3,\"\",$B361+1)","v":""},{"$f":"IF($B362=\"\",\"\",INDEX(Base!$B:$B,MATCH('Guia de BTC'!$B362,Base!$F:$F,0)))","v":""},null,null,null,null,{"$f":"IFERROR((_xll.ECONOMATICA(C362,\"Partic in ibovespa\")/100),\"\")","v":""},null,"",null,null,null,null,null,"","","",null,null,null,null,"",null,null,"",null,null,null,"",null,"",null,null,null,"",null,""]
[null,{"$f":"IF($B362>=Base!$G$3,\"\",$B362+1)","v":""},{"$f":"IF($B363=\"\",\"\",INDEX(Base!$B:$B,MATCH('Guia de BTC'!$B363,Base!$F:$F,0)))","v":""},null,null,null,null,{"$f":"IFERROR((_xll.ECONOMATICA(C363,\"Partic in ibovespa\")/100),\"\")","v":""},null,"",null,null,null,null,null,"","","",null,null,null,null,"",null,null,"",null,null,null,"",null,"",null,null,null,"",null,""]
[null,{"$f":"IF($B363>=Base!$G$3,\"\",$B363+1)","v":""},{"$f":"IF($B364=\"\",\"\",INDEX(Base!$B:$B,MATCH('Guia de BTC'!$B364,Base!$F:$F,0)))","v":""},null,null,null,null,{"$f":"IFERROR((_xll.ECONOMATICA(C364,\"Partic in ibovespa\")/100),\"\")","v":""},null,"",null,null,null,null,null,"","","",null,null,null,null,"",null,null,"",null,null,null,"",null,"",null,null,null,"",null,""]
[null,{"$f":"IF($B364>=Base!$G$3,\"\",$B364+1)","v":""},{"$f":"IF($B365=\"\",\"\",INDEX(Base!$B:$B,MATCH('Guia de BTC'!$B365,Base!$F:$F,0)))","v":""},null,null,null,null,{"$f":"IFERROR((_xll.ECONOMATICA(C365,\"Partic in ibovespa\")/100),\"\")","v":""},null,"",null,null,null,null,null,"","","",null,null,null,null,"",null,null,"",null,null,null,"",null,"",null,null,null,"",null,""]
[null,{"$f":"IF($B365>=Base!$G$3,\"\",$B365+1)","v":""},{"$f":"IF($B366=\"\",\"\",INDEX(Base!$B:$B,MATCH('Guia de BTC'!$B366,Base!$F:$F,0)))","v":""},null,null,null,null,{"$f":"IFERROR((_xll.ECONOMATICA(C366,\"Partic in ibovespa\")/100),\"\")","v":""},null,"",null,null,null,null,null,"","","",null,null,null,null,"",null,null,"",null,null,null,"",null,"",null,null,null,"",null,""]
[null,{"$f":"IF($B366>=Base!$G$3,\"\",$B366+1)","v":""},{"$f":"IF($B367=\"\",\"\",INDEX(Base!$B:$B,MATCH('Guia de BTC'!$B367,Base!$F:$F,0)))","v":""},null,null,null,null,{"$f":"IFERROR((_xll.ECONOMATICA(C367,\"Partic in ibovespa\")/100),\"\")","v":""},null,{"$f":"LEFT(I367,2)","v":""},null,null,null,null,null,"","","",null,null,null,null,"",null,null,"",null,null,null,"",null,"",null,null,null,"",null,""]
[null,{"$f":"IF($B367>=Base!$G$3,\"\",$B367+1)","v":""},{"$f":"IF($B368=\"\",\"\",INDEX(Base!$B:$B,MATCH('Guia de BTC'!$B368,Base!$F:$F,0)))","v":""},null,null,null,null,{"$f":"IFERROR((_xll.ECONOMATICA(C368,\"Partic in ibovespa\")/100),\"\")","v":""},null,"",null,null,null,null,null,"","","",null,null,null,null,"",null,null,"",null,null,null,"",null,"",null,null,null,"",null,""]
[null,{"$f":"IF($B368>=Base!$G$3,\"\",$B368+1)","v":""},{"$f":"IF($B369=\"\",\"\",INDEX(Base!$B:$B,MATCH('Guia de BTC'!$B369,Base!$F:$F,0)))","v":""},null,null,null,null,{"$f":"IFERROR((_xll.ECONOMATICA(C369,\"Partic in ibovespa\")/100),\"\")","v":""},null,"",null,null,null,null,null,"","","",null,null,null,null,"",null,null,"",null,null,null,"",null,"",null,null,null,"",null,""]
[null,{"$f":"IF($B369>=Base!$G$3,\"\",$B369+1)","v":""},{"$f":"IF($B370=\"\",\"\",INDEX(Base!$B:$B,MATCH('Guia de BTC'!$B370,Base!$F:$F,0)))","v":""},null,null,null,null,{"$f":"IFERROR((_xll.ECONOMATICA(C370,\"Partic in ibovespa\")/100),\"\")","v":""},null,"",null,null,null,null,null,"","","",null,null,null,null,"",null,null,"",null,null,null,"",null,"",null,null,null,"",null,""]
[null,{"$f":"IF($B370>=Base!$G$3,\"\",$B370+1)","v":""},{"$f":"IF($B371=\"\",\"\",INDEX(Base!$B:$B,MATCH('Guia de BTC'!$B371,Base!$F:$F,0)))","v":""},null,null,null,null,{"$f":"IFERROR((_xll.ECONOMATICA(C371,\"Partic in ibovespa\")/100),\"\")","v":""},null,"",null,null,null,null,null,"","","",null,null,null,null,"",null,null,"",null,null,null,"",null,"",null,null,null,"",null,""]
[null,{"$f":"IF($B371>=Base!$G$3,\"\",$B371+1)","v":""},{"$f":"IF($B372=\"\",\"\",INDEX(Base!$B:$B,MATCH('Guia de BTC'!$B372,Base!$F:$F,0)))","v":""},null,null,null,null,{"$f":"IFERROR((_xll.ECONOMATICA(C372,\"Partic in ibovespa\")/100),\"\")","v":""},null,"",null,null,null,null,null,"","","",null,null,null,null,"",null,null,"",null,null,null,"",null,"",null,null,null,"",null,""]
[null,{"$f":"IF($B372>=Base!$G$3,\"\",$B372+1)","v":""},{"$f":"IF($B373=\"\",\"\",INDEX(Base!$B:$B,MATCH('Guia de BTC'!$B373,Base!$F:$F,0)))","v":""},null,null,null,null,{"$f":"IFERROR((_xll.ECONOMATICA(C373,\"Partic in ibovespa\")/100),\"\")","v":""},null,"",null,null,null,null,null,"","","",null,null,null,null,"",null,null,"",null,null,null,"",null,"",null,null,null,"",null,""]
[null,{"$f":"IF($B373>=Base!$G$3,\"\",$B373+1)","v":""},{"$f":"IF($B374=\"\",\"\",INDEX(Base!$B:$B,MATCH('Guia de BTC'!$B374,Base!$F:$F,0)))","v":""},null,null,null,null,{"$f":"IFERROR((_xll.ECONOMATICA(C374,\"Partic in ibovespa\")/100),\"\")","v":""},null,"",null,null,null,null,null,"","","",null,null,null,null,"",null,null,"",null,null,null,"",null,"",null,null,null,"",null,""]
[null,{"$f":"IF($B374>=Base!$G$3,\"\",$B374+1)","v":""},{"$f":"IF($B375=\"\",\"\",INDEX(Base!$B:$B,MATCH('Guia de BTC'!$B375,Base!$F:$F,0)))","v":""},null,null,null,null,{"$f":"IFERROR((_xll.ECONOMATICA(C375,\"Partic in ibovespa\")/100),\"\")","v":""},null,"",null,null,null,null,null,"","","",null,null,null,null,"",null,null,"",null,null,null,"",null,"",null,null,null,"",null,""]
[null,{"$f":"IF($B375>=Base!$G$3,\"\",$B375+1)","v":""},{"$f":"IF($B376=\"\",\"\",INDEX(Base!$B:$B,MATCH('Guia de BTC'!$B376,Base!$F:$F,0)))","v":""},null,null,null,null,{"$f":"IFERROR((_xll.ECONOMATICA(C376,\"Partic in ibovespa\")/100),\"\")","v":""},null,"",null,null,null,null,null,"","","",null,null,null,null,"",null,null,"",null,null,null,"",null,"",null,null,null,"",null,""]
[null,{"$f":"IF($B376>=Base!$G$3,\"\",$B376+1)","v":""},{"$f":"IF($B377=\"\",\"\",INDEX(Base!$B:$B,MATCH('Guia de BTC'!$B377,Base!$F:$F,0)))","v":""},null,null,null,null,{"$f":"IFERROR((_xll.ECONOMATICA(C377,\"Partic in ibovespa\")/100),\"\")","v":""},null,"",null,null,null,null,null,{"$f":"IF(N377=\"\",\"\",IF(O377>1,O377,N377))","v":""},{"$f":"IFERROR(IF(J377=\"on\",P377*K377,IF(J377=\"pn\",P377*L377,IF(J377=\"un\",P377*M377,\"\"))),\"\")","v":""},{"$f":"IFERROR(T377/Q377,\"\")","v":""},null,null,null,null,"",null,null,"",null,null,null,"",null,"",null,null,null,"",null,""]
[null,{"$f":"IF($B377>=Base!$G$3,\"\",$B377+1)","v":""},{"$f":"IF($B378=\"\",\"\",INDEX(Base!$B:$B,MATCH('Guia de BTC'!$B378,Base!$F:$F,0)))","v":""},null,null,null,null,{"$f":"IFERROR((_xll.ECONOMATICA(C378,\"Partic in ibovespa\")/100),\"\")","v":""},null,"",null,null,null,null,null,"","","",null,null,null,null,"",null,null,"",null,null,null,"",null,"",null,null,null,"",null,""]
[null,{"$f":"IF($B378>=Base!$G$3,\"\",$B378+1)","v":""},{"$f":"IF($B379=\"\",\"\",INDEX(Base!$B:$B,MATCH('Guia de BTC'!$B379,Base!$F:$F,0)))","v":""},null,null,null,null,{"$f":"IFERROR((_xll.ECONOMATICA(C379,\"Partic in ibovespa\")/100),\"\")","v":""},null,"",null,null,null,null,null,"","","",null,null,null,null,"",null,null,"",null,null,null,"",null,"",null,null,null,"",null,""]
[null,{"$f":"IF($B379>=Base!$G$3,\"\",$B379+1)","v":""},{"$f":"IF($B380=\"\",\"\",INDEX(Base!$B:$B,MATCH('Guia de BTC'!$B380,Base!$F:$F,0)))","v":""},null,null,null,null,{"$f":"IFERROR((_xll.ECONOMATICA(C380,\"Partic in ibovespa\")/100),\"\")","v":""},null,"",null,null,null,null,null,"","","",null,null,null,null,"",null,null,"",null,null,null,"",null,"",null,null,null,"",null,""]
[null,{"$f":"IF($B380>=Base!$G$3,\"\",$B380+1)","v":""},{"$f":"IF($B381=\"\",\"\",INDEX(Base!$B:$B,MATCH('Guia de BTC'!$B381,Base!$F:$F,0)))","v":""},null,null,null,null,{"$f":"IFERROR((_xll.ECONOMATICA(C381,\"Partic in ibovespa\")/100),\"\")","v":""},null,"",null,null,null,null,null,"","","",null,null,null,null,"",null,null,"",null,null,null,"",null,"",null,null,null,"",null,""]
[null,{"$f":"IF($B381>=Base!$G$3,\"\",$B381+1)","v":""},{"$f":"IF($B382=\"\",\"\",INDEX(Base!$B:$B,MATCH('Guia de BTC'!$B382,Base!$F:$F,0)))","v":""},null,null,null,null,{"$f":"IFERROR((_xll.ECONOMATICA(C382,\"Partic in ibovespa\")/100),\"\")","v":""},null,"",null,null,null,null,null,"","","",null,null,null,null,"",null,null,"",null,null,null,"",null,"",null,null,null,"",null,""]
[null,{"$f":"IF($B382>=Base!$G$3,\"\",$B382+1)","v":""},{"$f":"IF($B383=\"\",\"\",INDEX(Base!$B:$B,MATCH('Guia de BTC'!$B383,Base!$F:$F,0)))","v":""},null,null,null,null,{"$f":"IFERROR((_xll.ECONOMATICA(C383,\"Partic in ibovespa\")/100),\"\")","v":""},null,"",null,null,null,null,null,"","","",null,null,null,null,"",null,null,"",null,null,null,"",null,"",null,null,null,"",null,""]
[null,{"$f":"IF($B383>=Base!$G$3,\"\",$B383+1)","v":""},{"$f":"IF($B384=\"\",\"\",INDEX(Base!$B:$B,MATCH('Guia de BTC'!$B384,Base!$F:$F,0)))","v":""},null,null,null,null,{"$f":"IFERROR((_xll.ECONOMATICA(C384,\"Partic in ibovespa\")/100),\"\")","v":""},null,"",null,null,null,null,null,"","","",null,null,null,null,"",null,null,"",null,null,null,"",null,"",null,null,null,"",null,""]
[null,{"$f":"IF($B384>=Base!$G$3,\"\",$B384+1)","v":""},{"$f":"IF($B385=\"\",\"\",INDEX(Base!$B:$B,MATCH('Guia de BTC'!$B385,Base!$F:$F,0)))","v":""},null,null,null,null,{"$f":"IFERROR((_xll.ECONOMATICA(C385,\"Partic in ibovespa\")/100),\"\")","v":""},null,"",null,null,null,null,null,"","","",null,null,null,null,"",null,null,"",null,null,null,"",null,"",null,null,null,"",null,""]
[null,{"$f":"IF($B385>=Base!$G$3,\"\",$B385+1)","v":""},{"$f":"IF($B386=\"\",\"\",INDEX(Base!$B:$B,MATCH('Guia de BTC'!$B386,Base!$F:$F,0)))","v":""},null,null,null,null,{"$f":"IFERROR((_xll.ECONOMATICA(C386,\"Partic in ibovespa\")/100),\"\")","v":""},null,"",null,null,null,null,null,"","","",null,null,null,null,"",null,null,"",null,null,null,"",null,"",null,null,null,"",null,""]
[null,{"$f":"IF($B386>=Base!$G$3,\"\",$B386+1)","v":""},{"$f":"IF($B387=\"\",\"\",INDEX(Base!$B:$B,MATCH('Guia de BTC'!$B387,Base!$F:$F,0)))","v":""},null,null,null,null,{"$f":"IFERROR((_xll.ECONOMATICA(C387,\"Partic in ibovespa\")/100),\"\")","v":""},null,"",null,null,null,null,null,"","","",null,null,null,null,"",null,null,"",null,null,null,"",null,"",null,null,null,"",null,""]
[null,{"$f":"IF($B387>=Base!$G$3,\"\",$B387+1)","v":""},{"$f":"IF($B388=\"\",\"\",INDEX(Base!$B:$B,MATCH('Guia de BTC'!$B388,Base!$F:$F,0)))","v":""},null,null,null,null,{"$f":"IFERROR((_xll.ECONOMATICA(C388,\"Partic in ibovespa\")/100),\"\")","v":""},null,"",null,null,null,null,null,"","","",null,null,null,null,"",null,null,"",null,null,null,"",null,"",null,null,null,"",null,""]
[null,{"$f":"IF($B388>=Base!$G$3,\"\",$B388+1)","v":""},{"$f":"IF($B389=\"\",\"\",INDEX(Base!$B:$B,MATCH('Guia de BTC'!$B389,Base!$F:$F,0)))","v":""},null,null,null,null,{"$f":"IFERROR((_xll.ECONOMATICA(C389,\"Partic in ibovespa\")/100),\"\")","v":""},null,"",null,null,null,null,null,"","","",null,null,null,null,"",null,null,"",null,null,null,"",null,"",null,null,null,"",null,""]
[null,{"$f":"IF($B389>=Base!$G$3,\"\",$B389+1)","v":""},{"$f":"IF($B390=\"\",\"\",INDEX(Base!$B:$B,MATCH('Guia de BTC'!$B390,Base!$F:$F,0)))","v":""},null,null,null,null,{"$f":"IFERROR((_xll.ECONOMATICA(C390,\"Partic in ibovespa\")/100),\"\")","v":""},null,"",null,null,null,null,null,"","","",null,null,null,null,"",null,null,"",null,null,null,"",null,"",null,null,null,"",null,""]
[null,{"$f":"IF($B390>=Base!$G$3,\"\",$B390+1)","v":""},{"$f":"IF($B391=\"\",\"\",INDEX(Base!$B:$B,MATCH('Guia de BTC'!$B391,Base!$F:$F,0)))","v":""},null,null,null,null,{"$f":"IFERROR((_xll.ECONOMATICA(C391,\"Partic in ibovespa\")/100),\"\")","v":""},null,"",null,null,null,null,null,"","","",null,null,null,null,"",null,null,"",null,null,null,"",null,"",null,null,null,"",null,""]
[null,{"$f":"IF($B391>=Base!$G$3,\"\",$B391+1)","v":""},{"$f":"IF($B392=\"\",\"\",INDEX(Base!$B:$B,MATCH('Guia de BTC'!$B392,Base!$F:$F,0)))","v":""},null,null,null,null,{"$f":"IFERROR((_xll.ECONOMATICA(C392,\"Partic in ibovespa\")/100),\"\")","v":""},null,"",null,null,null,null,null,"","","",null,null,null,null,"",null,null,"",null,null,null,"",null,{"$f":"IFERROR(ABS(AD392/AE392),\"\")","v":""},null,null,null,"",null,""]
[null,{"$f":"IF($B392>=Base!$G$3,\"\",$B392+1)","v":""},{"$f":"IF($B393=\"\",\"\",INDEX(Base!$B:$B,MATCH('Guia de BTC'!$B393,Base!$F:$F,0)))","v":""},null,null,null,null,{"$f":"IFERROR((_xll.ECONOMATICA(C393,\"Partic in ibovespa\")/100),\"\")","v":""},null,"",null,null,null,null,null,"","","",null,null,null,null,"",null,null,"",null,null,null,"",null,"",null,null,null,"",null,""]
[null,{"$f":"IF($B393>=Base!$G$3,\"\",$B393+1)","v":""},{"$f":"IF($B394=\"\",\"\",INDEX(Base!$B:$B,MATCH('Guia de BTC'!$B394,Base!$F:$F,0)))","v":""},null,null,null,null,{"$f":"IFERROR((_xll.ECONOMATICA(C394,\"Partic in ibovespa\")/100),\"\")","v":""},null,"",null,null,null,null,null,"","","",null,null,null,null,"",null,null,"",null,null,null,"",null,"",null,null,null,"",null,""]
[null,{"$f":"IF($B394>=Base!$G$3,\"\",$B394+1)","v":""},{"$f":"IF($B395=\"\",\"\",INDEX(Base!$B:$B,MATCH('Guia de BTC'!$B395,Base!$F:$F,0)))","v":""},null,null,null,null,{"$f":"IFERROR((_xll.ECONOMATICA(C395,\"Partic in ibovespa\")/100),\"\")","v":""},null,"",null,null,null,null,null,"","","",null,null,null,null,"",null,null,"",null,null,null,"",null,"",null,null,null,"",null,""]
[null,{"$f":"IF($B395>=Base!$G$3,\"\",$B395+1)","v":""},{"$f":"IF($B396=\"\",\"\",INDEX(Base!$B:$B,MATCH('Guia de BTC'!$B396,Base!$F:$F,0)))","v":""},null,null,null,null,{"$f":"IFERROR((_xll.ECONOMATICA(C396,\"Partic in ibovespa\")/100),\"\")","v":""},null,"",null,null,null,null,null,"","","",null,null,null,null,"",null,null,"",null,null,null,"",null,"",null,null,null,"",null,""]
[null,{"$f":"IF($B396>=Base!$G$3,\"\",$B396+1)","v":""},{"$f":"IF($B397=\"\",\"\",INDEX(Base!$B:$B,MATCH('Guia de BTC'!$B397,Base!$F:$F,0)))","v":""},null,null,null,null,{"$f":"IFERROR((_xll.ECONOMATICA(C397,\"Partic in ibovespa\")/100),\"\")","v":""},null,"",null,null,null,null,null,"","","",null,null,null,null,"",null,null,"",null,null,null,"",null,"",null,null,null,"",null,""]
[null,{"$f":"IF($B397>=Base!$G$3,\"\",$B397+1)","v":""},{"$f":"IF($B398=\"\",\"\",INDEX(Base!$B:$B,MATCH('Guia de BTC'!$B398,Base!$F:$F,0)))","v":""},null,null,null,null,{"$f":"IFERROR((_xll.ECONOMATICA(C398,\"Partic in ibovespa\")/100),\"\")","v":""},null,"",null,null,null,null,null,"","","",null,null,null,null,"",null,null,"",null,null,null,"",null,"",null,null,null,"",null,""]
[null,{"$f":"IF($B398>=Base!$G$3,\"\",$B398+1)","v":""},{"$f":"IF($B399=\"\",\"\",INDEX(Base!$B:$B,MATCH('Guia de BTC'!$B399,Base!$F:$F,0)))","v":""},null,null,null,null,{"$f":"IFERROR((_xll.ECONOMATICA(C399,\"Partic in ibovespa\")/100),\"\")","v":""},null,"",null,null,null,null,null,"","","",null,null,null,null,"",null,null,"",null,null,null,"",null,"",null,null,null,"",null,""]
[null,{"$f":"IF($B399>=Base!$G$3,\"\",$B399+1)","v":""},{"$f":"IF($B400=\"\",\"\",INDEX(Base!$B:$B,MATCH('Guia de BTC'!$B400,Base!$F:$F,0)))","v":""},null,null,null,null,{"$f":"IFERROR((_xll.ECONOMATICA(C400,\"Partic in ibovespa\")/100),\"\")","v":""},null,"",null,null,null,null,null,"","","",null,null,null,null,"",null,null,"",null,null,null,"",null,"",null,null,null,"",null,""]
[null,{"$f":"IF($B400>=Base!$G$3,\"\",$B400+1)","v":""},{"$f":"IF($B401=\"\",\"\",INDEX(Base!$B:$B,MATCH('Guia de BTC'!$B401,Base!$F:$F,0)))","v":""},null,null,null,null,{"$f":"IFERROR((_xll.ECONOMATICA(C401,\"Partic in ibovespa\")/100),\"\")","v":""},null,"",null,null,null,null,null,"","","",null,null,null,null,"",null,null,"",null,null,null,"",null,"",null,null,null,"",null,""]
[null,{"$f":"IF($B401>=Base!$G$3,\"\",$B401+1)","v":""},{"$f":"IF($B402=\"\",\"\",INDEX(Base!$B:$B,MATCH('Guia de BTC'!$B402,Base!$F:$F,0)))","v":""},null,null,null,null,{"$f":"IFERROR((_xll.ECONOMATICA(C402,\"Partic in ibovespa\")/100),\"\")","v":""},null,{"$f":"LEFT(I402,2)","v":""},null,null,null,null,null,null,{"$f":"IFERROR(IF(J402=\"on\",P402*K402,IF(J402=\"pn\",P402*L402,IF(J402=\"un\",P402*M402,\"\"))),\"\")","v":""},null,null,null,null,null,{"$f":"IFERROR(T402/U402,\"\")","v":""},null,null,{"$f":"IFERROR(T402/Y402,\"\")","v":""}]
[null,{"$f":"IF($B402>=Base!$G$3,\"\",$B402+1)","v":""},{"$f":"IF($B403=\"\",\"\",INDEX(Base!$B:$B,MATCH('Guia de BTC'!$B403,Base!$F:$F,0)))","v":""}]
[null,{"$f":"IF($B403>=Base!$G$3,\"\",$B403+1)","v":""},{"$f":"IF($B404=\"\",\"\",INDEX(Base!$B:$B,MATCH('Guia de BTC'!$B404,Base!$F:$F,0)))","v":""}]
[null,{"$f":"IF($B404>=Base!$G$3,\"\",$B404+1)","v":""},{"$f":"IF($B405=\"\",\"\",INDEX(Base!$B:$B,MATCH('Guia de BTC'!$B405,Base!$F:$F,0)))","v":""}]
[null,{"$f":"IF($B405>=Base!$G$3,\"\",$B405+1)","v":""},{"$f":"IF($B406=\"\",\"\",INDEX(Base!$B:$B,MATCH('Guia de BTC'!$B406,Base!$F:$F,0)))","v":""}]
[null,{"$f":"IF($B406>=Base!$G$3,\"\",$B406+1)","v":""},{"$f":"IF($B407=\"\",\"\",INDEX(Base!$B:$B,MATCH('Guia de BTC'!$B407,Base!$F:$F,0)))","v":""}]
[null,{"$f":"IF($B407>=Base!$G$3,\"\",$B407+1)","v":""},{"$f":"IF($B408=\"\",\"\",INDEX(Base!$B:$B,MATCH('Guia de BTC'!$B408,Base!$F:$F,0)))","v":""}]
[null,{"$f":"IF($B408>=Base!$G$3,\"\",$B408+1)","v":""},{"$f":"IF($B409=\"\",\"\",INDEX(Base!$B:$B,MATCH('Guia de BTC'!$B409,Base!$F:$F,0)))","v":""}]
[null,{"$f":"IF($B409>=Base!$G$3,\"\",$B409+1)","v":""},{"$f":"IF($B410=\"\",\"\",INDEX(Base!$B:$B,MATCH('Guia de BTC'!$B410,Base!$F:$F,0)))","v":""}]
[null,{"$f":"IF($B410>=Base!$G$3,\"\",$B410+1)","v":""},{"$f":"IF($B411=\"\",\"\",INDEX(Base!$B:$B,MATCH('Guia de BTC'!$B411,Base!$F:$F,0)))","v":""}]
[null,{"$f":"IF($B411>=Base!$G$3,\"\",$B411+1)","v":""},{"$f":"IF($B412=\"\",\"\",INDEX(Base!$B:$B,MATCH('Guia de BTC'!$B412,Base!$F:$F,0)))","v":""}]
[null,{"$f":"IF($B412>=Base!$G$3,\"\",$B412+1)","v":""},{"$f":"IF($B413=\"\",\"\",INDEX(Base!$B:$B,MATCH('Guia de BTC'!$B413,Base!$F:$F,0)))","v":""}]
[null,{"$f":"IF($B413>=Base!$G$3,\"\",$B413+1)","v":""},{"$f":"IF($B414=\"\",\"\",INDEX(Base!$B:$B,MATCH('Guia de BTC'!$B414,Base!$F:$F,0)))","v":""}]
[null,{"$f":"IF($B414>=Base!$G$3,\"\",$B414+1)","v":""},{"$f":"IF($B415=\"\",\"\",INDEX(Base!$B:$B,MATCH('Guia de BTC'!$B415,Base!$F:$F,0)))","v":""}]
[null,{"$f":"IF($B415>=Base!$G$3,\"\",$B415+1)","v":""},{"$f":"IF($B416=\"\",\"\",INDEX(Base!$B:$B,MATCH('Guia de BTC'!$B416,Base!$F:$F,0)))","v":""}]
[null,{"$f":"IF($B416>=Base!$G$3,\"\",$B416+1)","v":""},{"$f":"IF($B417=\"\",\"\",INDEX(Base!$B:$B,MATCH('Guia de BTC'!$B417,Base!$F:$F,0)))","v":""}]
[null,{"$f":"IF($B417>=Base!$G$3,\"\",$B417+1)","v":""},{"$f":"IF($B418=\"\",\"\",INDEX(Base!$B:$B,MATCH('Guia de BTC'!$B418,Base!$F:$F,0)))","v":""}]
[null,{"$f":"IF($B418>=Base!$G$3,\"\",$B418+1)","v":""},{"$f":"IF($B419=\"\",\"\",INDEX(Base!$B:$B,MATCH('Guia de BTC'!$B419,Base!$F:$F,0)))","v":""}]
[null,{"$f":"IF($B419>=Base!$G$3,\"\",$B419+1)","v":""},{"$f":"IF($B420=\"\",\"\",INDEX(Base!$B:$B,MATCH('Guia de BTC'!$B420,Base!$F:$F,0)))","v":""}]
[null,{"$f":"IF($B420>=Base!$G$3,\"\",$B420+1)","v":""},{"$f":"IF($B421=\"\",\"\",INDEX(Base!$B:$B,MATCH('Guia de BTC'!$B421,Base!$F:$F,0)))","v":""}]
[null,{"$f":"IF($B421>=Base!$G$3,\"\",$B421+1)","v":""},{"$f":"IF($B422=\"\",\"\",INDEX(Base!$B:$B,MATCH('Guia de BTC'!$B422,Base!$F:$F,0)))","v":""}]
[null,{"$f":"IF($B422>=Base!$G$3,\"\",$B422+1)","v":""},{"$f":"IF($B423=\"\",\"\",INDEX(Base!$B:$B,MATCH('Guia de BTC'!$B423,Base!$F:$F,0)))","v":""}]
[null,{"$f":"IF($B423>=Base!$G$3,\"\",$B423+1)","v":""},{"$f":"IF($B424=\"\",\"\",INDEX(Base!$B:$B,MATCH('Guia de BTC'!$B424,Base!$F:$F,0)))","v":""}]
[null,{"$f":"IF($B424>=Base!$G$3,\"\",$B424+1)","v":""},{"$f":"IF($B425=\"\",\"\",INDEX(Base!$B:$B,MATCH('Guia de BTC'!$B425,Base!$F:$F,0)))","v":""}]
[null,{"$f":"IF($B425>=Base!$G$3,\"\",$B425+1)","v":""},{"$f":"IF($B426=\"\",\"\",INDEX(Base!$B:$B,MATCH('Guia de BTC'!$B426,Base!$F:$F,0)))","v":""}]
[null,{"$f":"IF($B426>=Base!$G$3,\"\",$B426+1)","v":""},{"$f":"IF($B427=\"\",\"\",INDEX(Base!$B:$B,MATCH('Guia de BTC'!$B427,Base!$F:$F,0)))","v":""}]
[null,{"$f":"IF($B427>=Base!$G$3,\"\",$B427+1)","v":""},{"$f":"IF($B428=\"\",\"\",INDEX(Base!$B:$B,MATCH('Guia de BTC'!$B428,Base!$F:$F,0)))","v":""}]
[null,{"$f":"IF($B428>=Base!$G$3,\"\",$B428+1)","v":""},{"$f":"IF($B429=\"\",\"\",INDEX(Base!$B:$B,MATCH('Guia de BTC'!$B429,Base!$F:$F,0)))","v":""}]
[null,{"$f":"IF($B429>=Base!$G$3,\"\",$B429+1)","v":""},{"$f":"IF($B430=\"\",\"\",INDEX(Base!$B:$B,MATCH('Guia de BTC'!$B430,Base!$F:$F,0)))","v":""}]
[null,{"$f":"IF($B430>=Base!$G$3,\"\",$B430+1)","v":""},{"$f":"IF($B431=\"\",\"\",INDEX(Base!$B:$B,MATCH('Guia de BTC'!$B431,Base!$F:$F,0)))","v":""}]
[null,{"$f":"IF($B431>=Base!$G$3,\"\",$B431+1)","v":""},{"$f":"IF($B432=\"\",\"\",INDEX(Base!$B:$B,MATCH('Guia de BTC'!$B432,Base!$F:$F,0)))","v":""}]
[null,{"$f":"IF($B432>=Base!$G$3,\"\",$B432+1)","v":""},{"$f":"IF($B433=\"\",\"\",INDEX(Base!$B:$B,MATCH('Guia de BTC'!$B433,Base!$F:$F,0)))","v":""}]
[null,{"$f":"IF($B433>=Base!$G$3,\"\",$B433+1)","v":""},{"$f":"IF($B434=\"\",\"\",INDEX(Base!$B:$B,MATCH('Guia de BTC'!$B434,Base!$F:$F,0)))","v":""}]
[null,{"$f":"IF($B434>=Base!$G$3,\"\",$B434+1)","v":""},{"$f":"IF($B435=\"\",\"\",INDEX(Base!$B:$B,MATCH('Guia de BTC'!$B435,Base!$F:$F,0)))","v":""}]
[null,{"$f":"IF($B435>=Base!$G$3,\"\",$B435+1)","v":""},{"$f":"IF($B436=\"\",\"\",INDEX(Base!$B:$B,MATCH('Guia de BTC'!$B436,Base!$F:$F,0)))","v":""}]
[null,{"$f":"IF($B436>=Base!$G$3,\"\",$B436+1)","v":""},{"$f":"IF($B437=\"\",\"\",INDEX(Base!$B:$B,MATCH('Guia de BTC'!$B437,Base!$F:$F,0)))","v":""}]
[null,{"$f":"IF($B437>=Base!$G$3,\"\",$B437+1)","v":""},{"$f":"IF($B438=\"\",\"\",INDEX(Base!$B:$B,MATCH('Guia de BTC'!$B438,Base!$F:$F,0)))","v":""}]
[null,{"$f":"IF($B438>=Base!$G$3,\"\",$B438+1)","v":""},{"$f":"IF($B439=\"\",\"\",INDEX(Base!$B:$B,MATCH('Guia de BTC'!$B439,Base!$F:$F,0)))","v":""}]
[null,{"$f":"IF($B439>=Base!$G$3,\"\",$B439+1)","v":""},{"$f":"IF($B440=\"\",\"\",INDEX(Base!$B:$B,MATCH('Guia de BTC'!$B440,Base!$F:$F,0)))","v":""}]
[null,{"$f":"IF($B440>=Base!$G$3,\"\",$B440+1)","v":""},{"$f":"IF($B441=\"\",\"\",INDEX(Base!$B:$B,MATCH('Guia de BTC'!$B441,Base!$F:$F,0)))","v":""}]
[null,{"$f":"IF($B441>=Base!$G$3,\"\",$B441+1)","v":""},{"$f":"IF($B442=\"\",\"\",INDEX(Base!$B:$B,MATCH('Guia de BTC'!$B442,Base!$F:$F,0)))","v":""}]
[null,{"$f":"IF($B442>=Base!$G$3,\"\",$B442+1)","v":""},{"$f":"IF($B443=\"\",\"\",INDEX(Base!$B:$B,MATCH('Guia de BTC'!$B443,Base!$F:$F,0)))","v":""}]
[null,{"$f":"IF($B443>=Base!$G$3,\"\",$B443+1)","v":""},{"$f":"IF($B444=\"\",\"\",INDEX(Base!$B:$B,MATCH('Guia de BTC'!$B444,Base!$F:$F,0)))","v":""}]
[null,{"$f":"IF($B444>=Base!$G$3,\"\",$B444+1)","v":""},{"$f":"IF($B445=\"\",\"\",INDEX(Base!$B:$B,MATCH('Guia de BTC'!$B445,Base!$F:$F,0)))","v":""}]
[null,{"$f":"IF($B445>=Base!$G$3,\"\",$B445+1)","v":""},{"$f":"IF($B446=\"\",\"\",INDEX(Base!$B:$B,MATCH('Guia de BTC'!$B446,Base!$F:$F,0)))","v":""}]
[null,{"$f":"IF($B446>=Base!$G$3,\"\",$B446+1)","v":""},{"$f":"IF($B447=\"\",\"\",INDEX(Base!$B:$B,MATCH('Guia de BTC'!$B447,Base!$F:$F,0)))","v":""}]
[null,{"$f":"IF($B447>=Base!$G$3,\"\",$B447+1)","v":""},{"$f":"IF($B448=\"\",\"\",INDEX(Base!$B:$B,MATCH('Guia de BTC'!$B448,Base!$F:$F,0)))","v":""}]
[null,{"$f":"IF($B448>=Base!$G$3,\"\",$B448+1)","v":""},{"$f":"IF($B449=\"\",\"\",INDEX(Base!$B:$B,MATCH('Guia de BTC'!$B449,Base!$F:$F,0)))","v":""}]
[null,{"$f":"IF($B449>=Base!$G$3,\"\",$B449+1)","v":""},{"$f":"IF($B450=\"\",\"\",INDEX(Base!$B:$B,MATCH('Guia de BTC'!$B450,Base!$F:$F,0)))","v":""}]

{"sheet":"Lâmina Gera","index":3,"n_rows":41,"n_cols":16,"rows_kept":41,"cut":false,"hidden":false,"merged":[[3,10,3,11],[19,14,19,15],[4,2,4,4],[11,2,11,4],[2,3,2,4]]}
[null,null,null,null,null,"Lâmina Geral de BTC"]
[]
[null,null,"Data Base:",{"$f":"'Lâmina Empréstimo BTC'!$D$3","v":"2024-09-18"},null,"← Não Modificar"]
[null,null,null,null,null,null,null,null,null,null,{"$f":"IF(OR($O$20=\"Volume Médio\",O20=\"Valor Alugado\"),'Guia de BTC'!D3,\"\")","v":""}]
[null,null,"Taxa Média Basket Ibovespa"]
[null,null,"1d",{"$f":"IFERROR(SUMPRODUCT('Guia de BTC'!$H:$H,'Guia de BTC'!AN:AN),\"\")","v":9.0166750000000018E-3},{"$f":"IFERROR(SUMPRODUCT('Guia de BTC'!$H:$H,'Guia de BTC'!AP:AP),\"\")","v":6.5595670000000005E-3}]
[null,null,"3d",{"$f":"IFERROR(SUMPRODUCT('Guia de BTC'!$H:$H,'Guia de BTC'!AQ:AQ),\"\")","v":8.1599958047072849E-3},{"$f":"IFERROR(SUMPRODUCT('Guia de BTC'!$H:$H,'Guia de BTC'!AS:AS),\"\")","v":6.5180421326955515E-3}]
[null,null,"15d",{"$f":"IFERROR(SUMPRODUCT('Guia de BTC'!$H:$H,'Guia de BTC'!AW:AW),\"\")","v":8.4402336382325138E-3},{"$f":"IFERROR(SUMPRODUCT('Guia de BTC'!$H:$H,'Guia de BTC'!AY:AY),\"\")","v":7.0962285288624092E-3}]
[null,null,"% Float Ibov",{"$f":"IFERROR(SUMPRODUCT('Guia de BTC'!$H:$H,'Guia de BTC'!$R:$R),\"\")","v":4.2777648941803116E-2}]
[null,null,"Dias de Giro",{"$f":"IFERROR(SUMPRODUCT('Guia de BTC'!$H:$H,'Guia de BTC'!$Z:$Z),\"\")","v":6.5612643808699307}]
[]
[null,null,"Retorno Ibovespa"]
[null,null,{"$f":"IFERROR(N21,\"\")","v":"Retorno setembro-24"},{"$f":"IFERROR(_xll.ECONOMATICA(\"ibov\",\"return\",\"in the month\",'Guia de BTC'!$D$2,,,,\"decimal\",\"false\",\"false\"),\"\")","v":-1.6590099071000002E-2},{"$f":"IF(D13>0,\"p\",\"q\")","v":"q"}]
[null,null,{"$f":"IFERROR(O21,\"\")","v":"Retorno 2024"},{"$f":"IFERROR(_xll.ECONOMATICA(\"ibov\",\"return\",\"in the year\",'Guia de BTC'!$D$2,,,,\"decimal\",\"false\",\"false\"),\"\")","v":-3.2607908287999999E-3},{"$f":"IF(D14>0,\"p\",\"q\")","v":"q"}]
[null,null,"12m",{"$f":"IFERROR(_xll.ECONOMATICA(\"ibov\",\"return\",C15,'Guia de BTC'!$D$2,,,,\"decimal\",\"false\",\"false\"),\"\")","v":0.13069332945000001},{"$f":"IF(D15>0,\"p\",\"q\")","v":"p"}]
[]
[]
[]
[]
[null,{"$f":"\"20 Mairores em \"&O20","v":"20 Mairores em Taxa Média De Aluguel"},null,null,null,null,null,null,null,null,null,null,null,"Selecione o Atributo Para Ser o Rankig →","Taxa Média De Aluguel"]
[null,"Nº","Ticker","Preço R$","% IBOV","Valor de Mercado\nFree Float R$","% Float Alugado ","Valor Alugado\nR$","Volume\n Médio R$","Dias de \nGiro","▲ 1M Aluguel vs à Vista Qdade ações","▲ de 1 dia Qdade Ações","Taxa Média De Aluguel",{"$f":"\"Retorno \"&TEXT('Guia de BTC'!D2,\"mmmm-aa\")","v":"Retorno setembro-24"},{"$f":"\"Retorno \"&TEXT('Guia de BTC'!D2,\"aaa\")","v":"Retorno 2024"},"Retorno 12M"]
[null,1,{"$f":"'Base Resumo'!G5","v":"CMIN3"},{"$f":"IFERROR(INDEX('Guia de BTC'!G:G,MATCH('Lâmina Gera'!$C22&\"<xbsp>\",'Guia de BTC'!$C:$C,0)),\"\")","v":6.33},{"$f":"IFERROR(INDEX('Guia de BTC'!H:H,MATCH('Lâmina Gera'!$C22&\"<xbsp>\",'Guia de BTC'!$C:$C,0)),\"\")","v":3.1800000000000001E-3},{"$f":"IFERROR(INDEX('Guia de BTC'!Q:Q,MATCH('Lâmina Gera'!$C22&\"<xbsp>\",'Guia de BTC'!$C:$C,0)),\"\")","v":7029840.6540943477},{"$f":"IFERROR(INDEX('Guia de BTC'!R:R,MATCH('Lâmina Gera'!$C22&\"<xbsp>\",'Guia de BTC'!$C:$C,0)),\"\")","v":0.10441240387895553},{"$f":"IFERROR(INDEX('Guia de BTC'!T:T,MATCH('Lâmina Gera'!$C22&\"<xbsp>\",'Guia de BTC'!$C:$C,0)),\"\")","v":734002.56157999998},{"$f":"IFERROR(INDEX('Guia de BTC'!Y:Y,MATCH('Lâmina Gera'!$C22&\"<xbsp>\",'Guia de BTC'!$C:$C,0)),\"\")","v":90748.241825999998},{"$f":"IFERROR(INDEX('Guia de BTC'!Z:Z,MATCH('Lâmina Gera'!$C22&\"<xbsp>\",'Guia de BTC'!$C:$C,0)),\"\")","v":8.0883391987623412},{"$f":"IFERROR(INDEX('Guia de BTC'!AF:AF,MATCH('Lâmina Gera'!$C22&\"<xbsp>\",'Guia de BTC'!$C:$C,0)),\"\")","v":7.6726048744703026E-2},{"$f":"IFERROR(INDEX('Guia de BTC'!AJ:AJ,MATCH('Lâmina Gera'!$C22&\"<xbsp>\",'Guia de BTC'!$C:$C,0)),\"\")","v":-2.2800893495907304E-2},{"$f":"IFERROR(INDEX('Guia de BTC'!AN:AN,MATCH('Lâmina Gera'!$C22&\"<xbsp>\",'Guia de BTC'!$C:$C,0)),\"\")","v":0.96279999999999999},{"$f":"IFERROR(INDEX('Guia de BTC'!BB:BB,MATCH('Lâmina Gera'!$C22&\"<xbsp>\",'Guia de BTC'!$C:$C,0)),\"\")","v":0.11443661971000001},{"$f":"IFERROR(INDEX('Guia de BTC'!BC:BC,MATCH('Lâmina Gera'!$C22&\"<xbsp>\",'Guia de BTC'!$C:$C,0)),\"\")","v":-0.15379272551000001},{"$f":"IFERROR(INDEX('Guia de BTC'!BD:BD,MATCH('Lâmina Gera'!$C22&\"<xbsp>\",'Guia de BTC'!$C:$C,0)),\"\")","v":0.53596402059000003}]
[null,{"$f":"B22+1","v":2},{"$f":"'Base Resumo'!G6","v":"AMBP3"},{"$f":"IFERROR(INDEX('Guia de BTC'!G:G,MATCH('Lâmina Gera'!$C23&\"<xbsp>\",'Guia de BTC'!$C:$C,0)),\"\")","v":69.83},{"$f":"IFERROR(INDEX('Guia de BTC'!H:H,MATCH('Lâmina Gera'!$C23&\"<xbsp>\",'Guia de BTC'!$C:$C,0)),\"\")","v":""},{"$f":"IFERROR(INDEX('Guia de BTC'!Q:Q,MATCH('Lâmina Gera'!$C23&\"<xbsp>\",'Guia de BTC'!$C:$C,0)),\"\")","v":2787373.9923836947},{"$f":"IFERROR(INDEX('Guia de BTC'!R:R,MATCH('Lâmina Gera'!$C23&\"<xbsp>\",'Guia de BTC'!$C:$C,0)),\"\")","v":8.5846516948867746E-2},{"$f":"IFERROR(INDEX('Guia de BTC'!T:T,MATCH('Lâmina Gera'!$C23&\"<xbsp>\",'Guia de BTC'!$C:$C,0)),\"\")","v":239286.34868},{"$f":"IFERROR(INDEX('Guia de BTC'!Y:Y,MATCH('Lâmina Gera'!$C23&\"<xbsp>\",'Guia de BTC'!$C:$C,0)),\"\")","v":31393.359521999999},{"$f":"IFERROR(INDEX('Guia de BTC'!Z:Z,MATCH('Lâmina Gera'!$C23&\"<xbsp>\",'Guia de BTC'!$C:$C,0)),\"\")","v":7.6221962963954741},{"$f":"IFERROR(INDEX('Guia de BTC'!AF:AF,MATCH('Lâmina Gera'!$C23&\"<xbsp>\",'Guia de BTC'!$C:$C,0)),\"\")","v":9.4244278246178852E-3},{"$f":"IFERROR(INDEX('Guia de BTC'!AJ:AJ,MATCH('Lâmina Gera'!$C23&\"<xbsp>\",'Guia de BTC'!$C:$C,0)),\"\")","v":-2.3103495498919879E-2},{"$f":"IFERROR(INDEX('Guia de BTC'!AN:AN,MATCH('Lâmina Gera'!$C23&\"<xbsp>\",'Guia de BTC'!$C:$C,0)),\"\")","v":0.94620000000000004},{"$f":"IFERROR(INDEX('Guia de BTC'!BB:BB,MATCH('Lâmina Gera'!$C23&\"<xbsp>\",'Guia de BTC'!$C:$C,0)),\"\")","v":-2.0067358968E-2},{"$f":"IFERROR(INDEX('Guia de BTC'!BC:BC,MATCH('Lâmina Gera'!$C23&\"<xbsp>\",'Guia de BTC'!$C:$C,0)),\"\")","v":3.2972307692},{"$f":"IFERROR(INDEX('Guia de BTC'!BD:BD,MATCH('Lâmina Gera'!$C23&\"<xbsp>\",'Guia de BTC'!$C:$C,0)),\"\")","v":2.2120515179}]
[null,3,{"$f":"'Base Resumo'!G7","v":"AZUL4"},{"$f":"IFERROR(INDEX('Guia de BTC'!G:G,MATCH('Lâmina Gera'!$C24&\"<xbsp>\",'Guia de BTC'!$C:$C,0)),\"\")","v":5.62},{"$f":"IFERROR(INDEX('Guia de BTC'!H:H,MATCH('Lâmina Gera'!$C24&\"<xbsp>\",'Guia de BTC'!$C:$C,0)),\"\")","v":8.4000000000000003E-4},{"$f":"IFERROR(INDEX('Guia de BTC'!Q:Q,MATCH('Lâmina Gera'!$C24&\"<xbsp>\",'Guia de BTC'!$C:$C,0)),\"\")","v":1834041.1343471983},{"$f":"IFERROR(INDEX('Guia de BTC'!R:R,MATCH('Lâmina Gera'!$C24&\"<xbsp>\",'Guia de BTC'!$C:$C,0)),\"\")","v":0.13567445923647101},{"$f":"IFERROR(INDEX('Guia de BTC'!T:T,MATCH('Lâmina Gera'!$C24&\"<xbsp>\",'Guia de BTC'!$C:$C,0)),\"\")","v":248832.53912},{"$f":"IFERROR(INDEX('Guia de BTC'!Y:Y,MATCH('Lâmina Gera'!$C24&\"<xbsp>\",'Guia de BTC'!$C:$C,0)),\"\")","v":207564.62361000001},{"$f":"IFERROR(INDEX('Guia de BTC'!Z:Z,MATCH('Lâmina Gera'!$C24&\"<xbsp>\",'Guia de BTC'!$C:$C,0)),\"\")","v":1.1988196003358436},{"$f":"IFERROR(INDEX('Guia de BTC'!AF:AF,MATCH('Lâmina Gera'!$C24&\"<xbsp>\",'Guia de BTC'!$C:$C,0)),\"\")","v":3.6249034229402295E-2},{"$f":"IFERROR(INDEX('Guia de BTC'!AJ:AJ,MATCH('Lâmina Gera'!$C24&\"<xbsp>\",'Guia de BTC'!$C:$C,0)),\"\")","v":-2.9035130028452705E-2},{"$f":"IFERROR(INDEX('Guia de BTC'!AN:AN,MATCH('Lâmina Gera'!$C24&\"<xbsp>\",'Guia de BTC'!$C:$C,0)),\"\")","v":0.51639999999999997},{"$f":"IFERROR(INDEX('Guia de BTC'!BB:BB,MATCH('Lâmina Gera'!$C24&\"<xbsp>\",'Guia de BTC'!$C:$C,0)),\"\")","v":4.2671614100999997E-2},{"$f":"IFERROR(INDEX('Guia de BTC'!BC:BC,MATCH('Lâmina Gera'!$C24&\"<xbsp>\",'Guia de BTC'!$C:$C,0)),\"\")","v":-0.64896939412999999},{"$f":"IFERROR(INDEX('Guia de BTC'!BD:BD,MATCH('Lâmina Gera'!$C24&\"<xbsp>\",'Guia de BTC'!$C:$C,0)),\"\")","v":-0.59684361549999998}]
[null,{"$f":"B24+1","v":4},{"$f":"'Base Resumo'!G8","v":"TRAD3"},{"$f":"IFERROR(INDEX('Guia de BTC'!G:G,MATCH('Lâmina Gera'!$C25&\"<xbsp>\",'Guia de BTC'!$C:$C,0)),\"\")","v":5.0199999999999996},{"$f":"IFERROR(INDEX('Guia de BTC'!H:H,MATCH('Lâmina Gera'!$C25&\"<xbsp>\",'Guia de BTC'!$C:$C,0)),\"\")","v":""},{"$f":"IFERROR(INDEX('Guia de BTC'!Q:Q,MATCH('Lâmina Gera'!$C25&\"<xbsp>\",'Guia de BTC'!$C:$C,0)),\"\")","v":50717.584183229192},{"$f":"IFERROR(INDEX('Guia de BTC'!R:R,MATCH('Lâmina Gera'!$C25&\"<xbsp>\",'Guia de BTC'!$C:$C,0)),\"\")","v":9.5535567950064321E-2},{"$f":"IFERROR(INDEX('Guia de BTC'!T:T,MATCH('Lâmina Gera'!$C25&\"<xbsp>\",'Guia de BTC'!$C:$C,0)),\"\")","v":4845.3332099999998},{"$f":"IFERROR(INDEX('Guia de BTC'!Y:Y,MATCH('Lâmina Gera'!$C25&\"<xbsp>\",'Guia de BTC'!$C:$C,0)),\"\")","v":1302.6991739},{"$f":"IFERROR(INDEX('Guia de BTC'!Z:Z,MATCH('Lâmina Gera'!$C25&\"<xbsp>\",'Guia de BTC'!$C:$C,0)),\"\")","v":3.7194567303624817},{"$f":"IFERROR(INDEX('Guia de BTC'!AF:AF,MATCH('Lâmina Gera'!$C25&\"<xbsp>\",'Guia de BTC'!$C:$C,0)),\"\")","v":3.4245950542342682E-2},{"$f":"IFERROR(INDEX('Guia de BTC'!AJ:AJ,MATCH('Lâmina Gera'!$C25&\"<xbsp>\",'Guia de BTC'!$C:$C,0)),\"\")","v":2.7262411594505709E-2},{"$f":"IFERROR(INDEX('Guia de BTC'!AN:AN,MATCH('Lâmina Gera'!$C25&\"<xbsp>\",'Guia de BTC'!$C:$C,0)),\"\")","v":0.48089999999999999},{"$f":"IFERROR(INDEX('Guia de BTC'!BB:BB,MATCH('Lâmina Gera'!$C25&\"<xbsp>\",'Guia de BTC'!$C:$C,0)),\"\")","v":0.61414790997000002},{"$f":"IFERROR(INDEX('Guia de BTC'!BC:BC,MATCH('Lâmina Gera'!$C25&\"<xbsp>\",'Guia de BTC'!$C:$C,0)),\"\")","v":-0.17569786534000001},{"$f":"IFERROR(INDEX('Guia de BTC'!BD:BD,MATCH('Lâmina Gera'!$C25&\"<xbsp>\",'Guia de BTC'!$C:$C,0)),\"\")","v":-0.32977303069000002}]
[null,5,{"$f":"'Base Resumo'!G9","v":"CRFB3"},{"$f":"IFERROR(INDEX('Guia de BTC'!G:G,MATCH('Lâmina Gera'!$C26&\"<xbsp>\",'Guia de BTC'!$C:$C,0)),\"\")","v":9.15},{"$f":"IFERROR(INDEX('Guia de BTC'!H:H,MATCH('Lâmina Gera'!$C26&\"<xbsp>\",'Guia de BTC'!$C:$C,0)),\"\")","v":2.2000000000000001E-3},{"$f":"IFERROR(INDEX('Guia de BTC'!Q:Q,MATCH('Lâmina Gera'!$C26&\"<xbsp>\",'Guia de BTC'!$C:$C,0)),\"\")","v":4872116.5691866074},{"$f":"IFERROR(INDEX('Guia de BTC'!R:R,MATCH('Lâmina Gera'!$C26&\"<xbsp>\",'Guia de BTC'!$C:$C,0)),\"\")","v":0.12554495307818905},{"$f":"IFERROR(INDEX('Guia de BTC'!T:T,MATCH('Lâmina Gera'!$C26&\"<xbsp>\",'Guia de BTC'!$C:$C,0)),\"\")","v":611669.64607000002},{"$f":"IFERROR(INDEX('Guia de BTC'!Y:Y,MATCH('Lâmina Gera'!$C26&\"<xbsp>\",'Guia de BTC'!$C:$C,0)),\"\")","v":82361.266522000005},{"$f":"IFERROR(INDEX('Guia de BTC'!Z:Z,MATCH('Lâmina Gera'!$C26&\"<xbsp>\",'Guia de BTC'!$C:$C,0)),\"\")","v":7.4266663432939479},{"$f":"IFERROR(INDEX('Guia de BTC'!AF:AF,MATCH('Lâmina Gera'!$C26&\"<xbsp>\",'Guia de BTC'!$C:$C,0)),\"\")","v":7.1987847972421484E-2},{"$f":"IFERROR(INDEX('Guia de BTC'!AJ:AJ,MATCH('Lâmina Gera'!$C26&\"<xbsp>\",'Guia de BTC'!$C:$C,0)),\"\")","v":2.3778956220477099E-4},{"$f":"IFERROR(INDEX('Guia de BTC'!AN:AN,MATCH('Lâmina Gera'!$C26&\"<xbsp>\",'Guia de BTC'!$C:$C,0)),\"\")","v":0.4118},{"$f":"IFERROR(INDEX('Guia de BTC'!BB:BB,MATCH('Lâmina Gera'!$C26&\"<xbsp>\",'Guia de BTC'!$C:$C,0)),\"\")","v":2.0066889630000001E-2},{"$f":"IFERROR(INDEX('Guia de BTC'!BC:BC,MATCH('Lâmina Gera'!$C26&\"<xbsp>\",'Guia de BTC'!$C:$C,0)),\"\")","v":-0.26506024096000003},{"$f":"IFERROR(INDEX('Guia de BTC'!BD:BD,MATCH('Lâmina Gera'!$C26&\"<xbsp>\",'Guia de BTC'!$C:$C,0)),\"\")","v":-4.3887147336999999E-2}]
[null,6,{"$f":"'Base Resumo'!G10","v":"CSED3"},{"$f":"IFERROR(INDEX('Guia de BTC'!G:G,MATCH('Lâmina Gera'!$C27&\"<xbsp>\",'Guia de BTC'!$C:$C,0)),\"\")","v":3.51},{"$f":"IFERROR(INDEX('Guia de BTC'!H:H,MATCH('Lâmina Gera'!$C27&\"<xbsp>\",'Guia de BTC'!$C:$C,0)),\"\")","v":""},{"$f":"IFERROR(INDEX('Guia de BTC'!Q:Q,MATCH('Lâmina Gera'!$C27&\"<xbsp>\",'Guia de BTC'!$C:$C,0)),\"\")","v":158566.04710964457},{"$f":"IFERROR(INDEX('Guia de BTC'!R:R,MATCH('Lâmina Gera'!$C27&\"<xbsp>\",'Guia de BTC'!$C:$C,0)),\"\")","v":1.0662070795212305E-2},{"$f":"IFERROR(INDEX('Guia de BTC'!T:T,MATCH('Lâmina Gera'!$C27&\"<xbsp>\",'Guia de BTC'!$C:$C,0)),\"\")","v":1690.6424199999999},{"$f":"IFERROR(INDEX('Guia de BTC'!Y:Y,MATCH('Lâmina Gera'!$C27&\"<xbsp>\",'Guia de BTC'!$C:$C,0)),\"\")","v":2233.8815217000001},{"$f":"IFERROR(INDEX('Guia de BTC'!Z:Z,MATCH('Lâmina Gera'!$C27&\"<xbsp>\",'Guia de BTC'!$C:$C,0)),\"\")","v":0.7568183019453103},{"$f":"IFERROR(INDEX('Guia de BTC'!AF:AF,MATCH('Lâmina Gera'!$C27&\"<xbsp>\",'Guia de BTC'!$C:$C,0)),\"\")","v":1.5515682261673497E-5},{"$f":"IFERROR(INDEX('Guia de BTC'!AJ:AJ,MATCH('Lâmina Gera'!$C27&\"<xbsp>\",'Guia de BTC'!$C:$C,0)),\"\")","v":-0.12271567050496324},{"$f":"IFERROR(INDEX('Guia de BTC'!AN:AN,MATCH('Lâmina Gera'!$C27&\"<xbsp>\",'Guia de BTC'!$C:$C,0)),\"\")","v":0.3982},{"$f":"IFERROR(INDEX('Guia de BTC'!BB:BB,MATCH('Lâmina Gera'!$C27&\"<xbsp>\",'Guia de BTC'!$C:$C,0)),\"\")","v":-3.8356164385000002E-2},{"$f":"IFERROR(INDEX('Guia de BTC'!BC:BC,MATCH('Lâmina Gera'!$C27&\"<xbsp>\",'Guia de BTC'!$C:$C,0)),\"\")","v":-0.30909190649000001},{"$f":"IFERROR(INDEX('Guia de BTC'!BD:BD,MATCH('Lâmina Gera'!$C27&\"<xbsp>\",'Guia de BTC'!$C:$C,0)),\"\")","v":-4.7845376495000001E-2}]
[null,7,{"$f":"'Base Resumo'!G11","v":"KLBN3"},{"$f":"IFERROR(INDEX('Guia de BTC'!G:G,MATCH('Lâmina Gera'!$C28&\"<xbsp>\",'Guia de BTC'!$C:$C,0)),\"\")","v":4.28},{"$f":"IFERROR(INDEX('Guia de BTC'!H:H,MATCH('Lâmina Gera'!$C28&\"<xbsp>\",'Guia de BTC'!$C:$C,0)),\"\")","v":""},{"$f":"IFERROR(INDEX('Guia de BTC'!Q:Q,MATCH('Lâmina Gera'!$C28&\"<xbsp>\",'Guia de BTC'!$C:$C,0)),\"\")","v":3763906.8678801032},{"$f":"IFERROR(INDEX('Guia de BTC'!R:R,MATCH('Lâmina Gera'!$C28&\"<xbsp>\",'Guia de BTC'!$C:$C,0)),\"\")","v":2.8521859803737223E-4},{"$f":"IFERROR(INDEX('Guia de BTC'!T:T,MATCH('Lâmina Gera'!$C28&\"<xbsp>\",'Guia de BTC'!$C:$C,0)),\"\")","v":1073.5362399999999},{"$f":"IFERROR(INDEX('Guia de BTC'!Y:Y,MATCH('Lâmina Gera'!$C28&\"<xbsp>\",'Guia de BTC'!$C:$C,0)),\"\")","v":998.95360870000002},{"$f":"IFERROR(INDEX('Guia de BTC'!Z:Z,MATCH('Lâmina Gera'!$C28&\"<xbsp>\",'Guia de BTC'!$C:$C,0)),\"\")","v":1.0746607556651793},{"$f":"IFERROR(INDEX('Guia de BTC'!AF:AF,MATCH('Lâmina Gera'!$C28&\"<xbsp>\",'Guia de BTC'!$C:$C,0)),\"\")","v":1.2635352755148166E-3},{"$f":"IFERROR(INDEX('Guia de BTC'!AJ:AJ,MATCH('Lâmina Gera'!$C28&\"<xbsp>\",'Guia de BTC'!$C:$C,0)),\"\")","v":1.1176739329069374E-2},{"$f":"IFERROR(INDEX('Guia de BTC'!AN:AN,MATCH('Lâmina Gera'!$C28&\"<xbsp>\",'Guia de BTC'!$C:$C,0)),\"\")","v":0.37509999999999999},{"$f":"IFERROR(INDEX('Guia de BTC'!BB:BB,MATCH('Lâmina Gera'!$C28&\"<xbsp>\",'Guia de BTC'!$C:$C,0)),\"\")","v":-9.2592592591000007E-3},{"$f":"IFERROR(INDEX('Guia de BTC'!BC:BC,MATCH('Lâmina Gera'!$C28&\"<xbsp>\",'Guia de BTC'!$C:$C,0)),\"\")","v":0.10498727663},{"$f":"IFERROR(INDEX('Guia de BTC'!BD:BD,MATCH('Lâmina Gera'!$C28&\"<xbsp>\",'Guia de BTC'!$C:$C,0)),\"\")","v":7.6485364998000002E-2}]
[null,8,{"$f":"'Base Resumo'!G12","v":"AMER3"},{"$f":"IFERROR(INDEX('Guia de BTC'!G:G,MATCH('Lâmina Gera'!$C29&\"<xbsp>\",'Guia de BTC'!$C:$C,0)),\"\")","v":6.52},{"$f":"IFERROR(INDEX('Guia de BTC'!H:H,MATCH('Lâmina Gera'!$C29&\"<xbsp>\",'Guia de BTC'!$C:$C,0)),\"\")","v":""},{"$f":"IFERROR(INDEX('Guia de BTC'!Q:Q,MATCH('Lâmina Gera'!$C29&\"<xbsp>\",'Guia de BTC'!$C:$C,0)),\"\")","v":652593.4006714602},{"$f":"IFERROR(INDEX('Guia de BTC'!R:R,MATCH('Lâmina Gera'!$C29&\"<xbsp>\",'Guia de BTC'!$C:$C,0)),\"\")","v":4.3166761763167139E-2},{"$f":"IFERROR(INDEX('Guia de BTC'!T:T,MATCH('Lâmina Gera'!$C29&\"<xbsp>\",'Guia de BTC'!$C:$C,0)),\"\")","v":28170.343854999999},{"$f":"IFERROR(INDEX('Guia de BTC'!Y:Y,MATCH('Lâmina Gera'!$C29&\"<xbsp>\",'Guia de BTC'!$C:$C,0)),\"\")","v":58606.463738999999},{"$f":"IFERROR(INDEX('Guia de BTC'!Z:Z,MATCH('Lâmina Gera'!$C29&\"<xbsp>\",'Guia de BTC'!$C:$C,0)),\"\")","v":0.4806695722242304},{"$f":"IFERROR(INDEX('Guia de BTC'!AF:AF,MATCH('Lâmina Gera'!$C29&\"<xbsp>\",'Guia de BTC'!$C:$C,0)),\"\")","v":14.209591145731332},{"$f":"IFERROR(INDEX('Guia de BTC'!AJ:AJ,MATCH('Lâmina Gera'!$C29&\"<xbsp>\",'Guia de BTC'!$C:$C,0)),\"\")","v":0.13185825147085883},{"$f":"IFERROR(INDEX('Guia de BTC'!AN:AN,MATCH('Lâmina Gera'!$C29&\"<xbsp>\",'Guia de BTC'!$C:$C,0)),\"\")","v":0.31459999999999999},{"$f":"IFERROR(INDEX('Guia de BTC'!BB:BB,MATCH('Lâmina Gera'!$C29&\"<xbsp>\",'Guia de BTC'!$C:$C,0)),\"\")","v":0.12998266897999999},{"$f":"IFERROR(INDEX('Guia de BTC'!BC:BC,MATCH('Lâmina Gera'!$C29&\"<xbsp>\",'Guia de BTC'!$C:$C,0)),\"\")","v":-0.92835164834999995},{"$f":"IFERROR(INDEX('Guia de BTC'!BD:BD,MATCH('Lâmina Gera'!$C29&\"<xbsp>\",'Guia de BTC'!$C:$C,0)),\"\")","v":-0.91849999999999998}]
[null,9,{"$f":"'Base Resumo'!G13","v":"BRIT3"},{"$f":"IFERROR(INDEX('Guia de BTC'!G:G,MATCH('Lâmina Gera'!$C30&\"<xbsp>\",'Guia de BTC'!$C:$C,0)),\"\")","v":3.39},{"$f":"IFERROR(INDEX('Guia de BTC'!H:H,MATCH('Lâmina Gera'!$C30&\"<xbsp>\",'Guia de BTC'!$C:$C,0)),\"\")","v":""},{"$f":"IFERROR(INDEX('Guia de BTC'!Q:Q,MATCH('Lâmina Gera'!$C30&\"<xbsp>\",'Guia de BTC'!$C:$C,0)),\"\")","v":302790.70420388866},{"$f":"IFERROR(INDEX('Guia de BTC'!R:R,MATCH('Lâmina Gera'!$C30&\"<xbsp>\",'Guia de BTC'!$C:$C,0)),\"\")","v":1.8334580331970125E-2},{"$f":"IFERROR(INDEX('Guia de BTC'!T:T,MATCH('Lâmina Gera'!$C30&\"<xbsp>\",'Guia de BTC'!$C:$C,0)),\"\")","v":5551.5404900000003},{"$f":"IFERROR(INDEX('Guia de BTC'!Y:Y,MATCH('Lâmina Gera'!$C30&\"<xbsp>\",'Guia de BTC'!$C:$C,0)),\"\")","v":1918.0879565},{"$f":"IFERROR(INDEX('Guia de BTC'!Z:Z,MATCH('Lâmina Gera'!$C30&\"<xbsp>\",'Guia de BTC'!$C:$C,0)),\"\")","v":2.8943096541464572},{"$f":"IFERROR(INDEX('Guia de BTC'!AF:AF,MATCH('Lâmina Gera'!$C30&\"<xbsp>\",'Guia de BTC'!$C:$C,0)),\"\")","v":3.2951969196554534E-2},{"$f":"IFERROR(INDEX('Guia de BTC'!AJ:AJ,MATCH('Lâmina Gera'!$C30&\"<xbsp>\",'Guia de BTC'!$C:$C,0)),\"\")","v":-2.1768581467004999E-2},{"$f":"IFERROR(INDEX('Guia de BTC'!AN:AN,MATCH('Lâmina Gera'!$C30&\"<xbsp>\",'Guia de BTC'!$C:$C,0)),\"\")","v":0.29620000000000002},{"$f":"IFERROR(INDEX('Guia de BTC'!BB:BB,MATCH('Lâmina Gera'!$C30&\"<xbsp>\",'Guia de BTC'!$C:$C,0)),\"\")","v":-3.9660056657000002E-2},{"$f":"IFERROR(INDEX('Guia de BTC'!BC:BC,MATCH('Lâmina Gera'!$C30&\"<xbsp>\",'Guia de BTC'!$C:$C,0)),\"\")","v":-6.5022292117000002E-2},{"$f":"IFERROR(INDEX('Guia de BTC'!BD:BD,MATCH('Lâmina Gera'!$C30&\"<xbsp>\",'Guia de BTC'!$C:$C,0)),\"\")","v":-7.4995387667999999E-2}]
[null,10,{"$f":"'Base Resumo'!G14","v":"ONCO3"},{"$f":"IFERROR(INDEX('Guia de BTC'!G:G,MATCH('Lâmina Gera'!$C31&\"<xbsp>\",'Guia de BTC'!$C:$C,0)),\"\")","v":5.59},{"$f":"IFERROR(INDEX('Guia de BTC'!H:H,MATCH('Lâmina Gera'!$C31&\"<xbsp>\",'Guia de BTC'!$C:$C,0)),\"\")","v":""},{"$f":"IFERROR(INDEX('Guia de BTC'!Q:Q,MATCH('Lâmina Gera'!$C31&\"<xbsp>\",'Guia de BTC'!$C:$C,0)),\"\")","v":3110285.8494802373},{"$f":"IFERROR(INDEX('Guia de BTC'!R:R,MATCH('Lâmina Gera'!$C31&\"<xbsp>\",'Guia de BTC'!$C:$C,0)),\"\")","v":3.0033016642380325E-2},{"$f":"IFERROR(INDEX('Guia de BTC'!T:T,MATCH('Lâmina Gera'!$C31&\"<xbsp>\",'Guia de BTC'!$C:$C,0)),\"\")","v":93411.266680000001},{"$f":"IFERROR(INDEX('Guia de BTC'!Y:Y,MATCH('Lâmina Gera'!$C31&\"<xbsp>\",'Guia de BTC'!$C:$C,0)),\"\")","v":24817.998217},{"$f":"IFERROR(INDEX('Guia de BTC'!Z:Z,MATCH('Lâmina Gera'!$C31&\"<xbsp>\",'Guia de BTC'!$C:$C,0)),\"\")","v":3.763851776571348},{"$f":"IFERROR(INDEX('Guia de BTC'!AF:AF,MATCH('Lâmina Gera'!$C31&\"<xbsp>\",'Guia de BTC'!$C:$C,0)),\"\")","v":2.0152641016289812E-2},{"$f":"IFERROR(INDEX('Guia de BTC'!AJ:AJ,MATCH('Lâmina Gera'!$C31&\"<xbsp>\",'Guia de BTC'!$C:$C,0)),\"\")","v":4.0297341970618739E-4},{"$f":"IFERROR(INDEX('Guia de BTC'!AN:AN,MATCH('Lâmina Gera'!$C31&\"<xbsp>\",'Guia de BTC'!$C:$C,0)),\"\")","v":0.27660000000000001},{"$f":"IFERROR(INDEX('Guia de BTC'!BB:BB,MATCH('Lâmina Gera'!$C31&\"<xbsp>\",'Guia de BTC'!$C:$C,0)),\"\")","v":-0.16066066066000001},{"$f":"IFERROR(INDEX('Guia de BTC'!BC:BC,MATCH('Lâmina Gera'!$C31&\"<xbsp>\",'Guia de BTC'!$C:$C,0)),\"\")","v":-0.56999999999999995},{"$f":"IFERROR(INDEX('Guia de BTC'!BD:BD,MATCH('Lâmina Gera'!$C31&\"<xbsp>\",'Guia de BTC'!$C:$C,0)),\"\")","v":-0.51934651762999995}]
[null,{"$f":"B31+1","v":11},{"$f":"'Base Resumo'!G15","v":"PETZ3"},{"$f":"IFERROR(INDEX('Guia de BTC'!G:G,MATCH('Lâmina Gera'!$C32&\"<xbsp>\",'Guia de BTC'!$C:$C,0)),\"\")","v":4.67},{"$f":"IFERROR(INDEX('Guia de BTC'!H:H,MATCH('Lâmina Gera'!$C32&\"<xbsp>\",'Guia de BTC'!$C:$C,0)),\"\")","v":6.4999999999999997E-4},{"$f":"IFERROR(INDEX('Guia de BTC'!Q:Q,MATCH('Lâmina Gera'!$C32&\"<xbsp>\",'Guia de BTC'!$C:$C,0)),\"\")","v":1401054.2815977226},{"$f":"IFERROR(INDEX('Guia de BTC'!R:R,MATCH('Lâmina Gera'!$C32&\"<xbsp>\",'Guia de BTC'!$C:$C,0)),\"\")","v":0.19835902869735875},{"$f":"IFERROR(INDEX('Guia de BTC'!T:T,MATCH('Lâmina Gera'!$C32&\"<xbsp>\",'Guia de BTC'!$C:$C,0)),\"\")","v":277911.76645},{"$f":"IFERROR(INDEX('Guia de BTC'!Y:Y,MATCH('Lâmina Gera'!$C32&\"<xbsp>\",'Guia de BTC'!$C:$C,0)),\"\")","v":94783.340739000007},{"$f":"IFERROR(INDEX('Guia de BTC'!Z:Z,MATCH('Lâmina Gera'!$C32&\"<xbsp>\",'Guia de BTC'!$C:$C,0)),\"\")","v":2.932073972949226},{"$f":"IFERROR(INDEX('Guia de BTC'!AF:AF,MATCH('Lâmina Gera'!$C32&\"<xbsp>\",'Guia de BTC'!$C:$C,0)),\"\")","v":0.11421144700398198},{"$f":"IFERROR(INDEX('Guia de BTC'!AJ:AJ,MATCH('Lâmina Gera'!$C32&\"<xbsp>\",'Guia de BTC'!$C:$C,0)),\"\")","v":1.8803711912323884E-2},{"$f":"IFERROR(INDEX('Guia de BTC'!AN:AN,MATCH('Lâmina Gera'!$C32&\"<xbsp>\",'Guia de BTC'!$C:$C,0)),\"\")","v":0.22370000000000001},{"$f":"IFERROR(INDEX('Guia de BTC'!BB:BB,MATCH('Lâmina Gera'!$C32&\"<xbsp>\",'Guia de BTC'!$C:$C,0)),\"\")","v":-3.9094650207000002E-2},{"$f":"IFERROR(INDEX('Guia de BTC'!BC:BC,MATCH('Lâmina Gera'!$C32&\"<xbsp>\",'Guia de BTC'!$C:$C,0)),\"\")","v":0.18297570693000001},{"$f":"IFERROR(INDEX('Guia de BTC'!BD:BD,MATCH('Lâmina Gera'!$C32&\"<xbsp>\",'Guia de BTC'!$C:$C,0)),\"\")","v":-0.15195026453999999}]
[null,12,{"$f":"'Base Resumo'!G16","v":"ASAI3"},{"$f":"IFERROR(INDEX('Guia de BTC'!G:G,MATCH('Lâmina Gera'!$C33&\"<xbsp>\",'Guia de BTC'!$C:$C,0)),\"\")","v":8.74},{"$f":"IFERROR(INDEX('Guia de BTC'!H:H,MATCH('Lâmina Gera'!$C33&\"<xbsp>\",'Guia de BTC'!$C:$C,0)),\"\")","v":5.3400000000000001E-3},{"$f":"IFERROR(INDEX('Guia de BTC'!Q:Q,MATCH('Lâmina Gera'!$C33&\"<xbsp>\",'Guia de BTC'!$C:$C,0)),\"\")","v":11794038.550222406},{"$f":"IFERROR(INDEX('Guia de BTC'!R:R,MATCH('Lâmina Gera'!$C33&\"<xbsp>\",'Guia de BTC'!$C:$C,0)),\"\")","v":7.2618847612114096E-2},{"$f":"IFERROR(INDEX('Guia de BTC'!T:T,MATCH('Lâmina Gera'!$C33&\"<xbsp>\",'Guia de BTC'!$C:$C,0)),\"\")","v":856469.48820999998},{"$f":"IFERROR(INDEX('Guia de BTC'!Y:Y,MATCH('Lâmina Gera'!$C33&\"<xbsp>\",'Guia de BTC'!$C:$C,0)),\"\")","v":171449.16635000001},{"$f":"IFERROR(INDEX('Guia de BTC'!Z:Z,MATCH('Lâmina Gera'!$C33&\"<xbsp>\",'Guia de BTC'!$C:$C,0)),\"\")","v":4.9954718733457399},{"$f":"IFERROR(INDEX('Guia de BTC'!AF:AF,MATCH('Lâmina Gera'!$C33&\"<xbsp>\",'Guia de BTC'!$C:$C,0)),\"\")","v":8.0694352586425482E-3},{"$f":"IFERROR(INDEX('Guia de BTC'!AJ:AJ,MATCH('Lâmina Gera'!$C33&\"<xbsp>\",'Guia de BTC'!$C:$C,0)),\"\")","v":2.0310350127015875E-2},{"$f":"IFERROR(INDEX('Guia de BTC'!AN:AN,MATCH('Lâmina Gera'!$C33&\"<xbsp>\",'Guia de BTC'!$C:$C,0)),\"\")","v":0.21129999999999999},{"$f":"IFERROR(INDEX('Guia de BTC'!BB:BB,MATCH('Lâmina Gera'!$C33&\"<xbsp>\",'Guia de BTC'!$C:$C,0)),\"\")","v":-8.6729362591999995E-2},{"$f":"IFERROR(INDEX('Guia de BTC'!BC:BC,MATCH('Lâmina Gera'!$C33&\"<xbsp>\",'Guia de BTC'!$C:$C,0)),\"\")","v":-0.35402808574},{"$f":"IFERROR(INDEX('Guia de BTC'!BD:BD,MATCH('Lâmina Gera'!$C33&\"<xbsp>\",'Guia de BTC'!$C:$C,0)),\"\")","v":-0.28711256117}]
[null,13,{"$f":"'Base Resumo'!G17","v":"SYNE3"},{"$f":"IFERROR(INDEX('Guia de BTC'!G:G,MATCH('Lâmina Gera'!$C34&\"<xbsp>\",'Guia de BTC'!$C:$C,0)),\"\")","v":7.95},{"$f":"IFERROR(INDEX('Guia de BTC'!H:H,MATCH('Lâmina Gera'!$C34&\"<xbsp>\",'Guia de BTC'!$C:$C,0)),\"\")","v":""},{"$f":"IFERROR(INDEX('Guia de BTC'!Q:Q,MATCH('Lâmina Gera'!$C34&\"<xbsp>\",'Guia de BTC'!$C:$C,0)),\"\")","v":475798.07546481612},{"$f":"IFERROR(INDEX('Guia de BTC'!R:R,MATCH('Lâmina Gera'!$C34&\"<xbsp>\",'Guia de BTC'!$C:$C,0)),\"\")","v":4.4687540989375605E-3},{"$f":"IFERROR(INDEX('Guia de BTC'!T:T,MATCH('Lâmina Gera'!$C34&\"<xbsp>\",'Guia de BTC'!$C:$C,0)),\"\")","v":2126.2246},{"$f":"IFERROR(INDEX('Guia de BTC'!Y:Y,MATCH('Lâmina Gera'!$C34&\"<xbsp>\",'Guia de BTC'!$C:$C,0)),\"\")","v":7830.4440000000004},{"$f":"IFERROR(INDEX('Guia de BTC'!Z:Z,MATCH('Lâmina Gera'!$C34&\"<xbsp>\",'Guia de BTC'!$C:$C,0)),\"\")","v":0.2715330829260767},{"$f":"IFERROR(INDEX('Guia de BTC'!AF:AF,MATCH('Lâmina Gera'!$C34&\"<xbsp>\",'Guia de BTC'!$C:$C,0)),\"\")","v":8.709828376157672E-3},{"$f":"IFERROR(INDEX('Guia de BTC'!AJ:AJ,MATCH('Lâmina Gera'!$C34&\"<xbsp>\",'Guia de BTC'!$C:$C,0)),\"\")","v":0.15625151265792159},{"$f":"IFERROR(INDEX('Guia de BTC'!AN:AN,MATCH('Lâmina Gera'!$C34&\"<xbsp>\",'Guia de BTC'!$C:$C,0)),\"\")","v":0.2},{"$f":"IFERROR(INDEX('Guia de BTC'!BB:BB,MATCH('Lâmina Gera'!$C34&\"<xbsp>\",'Guia de BTC'!$C:$C,0)),\"\")","v":-1.2562814072E-3},{"$f":"IFERROR(INDEX('Guia de BTC'!BC:BC,MATCH('Lâmina Gera'!$C34&\"<xbsp>\",'Guia de BTC'!$C:$C,0)),\"\")","v":1.2447450368999999},{"$f":"IFERROR(INDEX('Guia de BTC'!BD:BD,MATCH('Lâmina Gera'!$C34&\"<xbsp>\",'Guia de BTC'!$C:$C,0)),\"\")","v":1.6418498100000001}]
[null,14,{"$f":"'Base Resumo'!G18","v":"SAPR3"},{"$f":"IFERROR(INDEX('Guia de BTC'!G:G,MATCH('Lâmina Gera'!$C35&\"<xbsp>\",'Guia de BTC'!$C:$C,0)),\"\")","v":6.03},{"$f":"IFERROR(INDEX('Guia de BTC'!H:H,MATCH('Lâmina Gera'!$C35&\"<xbsp>\",'Guia de BTC'!$C:$C,0)),\"\")","v":""},{"$f":"IFERROR(INDEX('Guia de BTC'!Q:Q,MATCH('Lâmina Gera'!$C35&\"<xbsp>\",'Guia de BTC'!$C:$C,0)),\"\")","v":1212497.2285279848},{"$f":"IFERROR(INDEX('Guia de BTC'!R:R,MATCH('Lâmina Gera'!$C35&\"<xbsp>\",'Guia de BTC'!$C:$C,0)),\"\")","v":1.1687026796097077E-3},{"$f":"IFERROR(INDEX('Guia de BTC'!T:T,MATCH('Lâmina Gera'!$C35&\"<xbsp>\",'Guia de BTC'!$C:$C,0)),\"\")","v":1417.0487599999999},{"$f":"IFERROR(INDEX('Guia de BTC'!Y:Y,MATCH('Lâmina Gera'!$C35&\"<xbsp>\",'Guia de BTC'!$C:$C,0)),\"\")","v":1081.3736957000001},{"$f":"IFERROR(INDEX('Guia de BTC'!Z:Z,MATCH('Lâmina Gera'!$C35&\"<xbsp>\",'Guia de BTC'!$C:$C,0)),\"\")","v":1.3104154147958158},{"$f":"IFERROR(INDEX('Guia de BTC'!AF:AF,MATCH('Lâmina Gera'!$C35&\"<xbsp>\",'Guia de BTC'!$C:$C,0)),\"\")","v":1.9575037978731978E-3},{"$f":"IFERROR(INDEX('Guia de BTC'!AJ:AJ,MATCH('Lâmina Gera'!$C35&\"<xbsp>\",'Guia de BTC'!$C:$C,0)),\"\")","v":-2.4893077372389882E-3},{"$f":"IFERROR(INDEX('Guia de BTC'!AN:AN,MATCH('Lâmina Gera'!$C35&\"<xbsp>\",'Guia de BTC'!$C:$C,0)),\"\")","v":0.17630000000000001},{"$f":"IFERROR(INDEX('Guia de BTC'!BB:BB,MATCH('Lâmina Gera'!$C35&\"<xbsp>\",'Guia de BTC'!$C:$C,0)),\"\")","v":0.11666666666},{"$f":"IFERROR(INDEX('Guia de BTC'!BC:BC,MATCH('Lâmina Gera'!$C35&\"<xbsp>\",'Guia de BTC'!$C:$C,0)),\"\")","v":0.1270811811},{"$f":"IFERROR(INDEX('Guia de BTC'!BD:BD,MATCH('Lâmina Gera'!$C35&\"<xbsp>\",'Guia de BTC'!$C:$C,0)),\"\")","v":0.40509453910999998}]
[null,15,{"$f":"'Base Resumo'!G19","v":"PDGR3"},{"$f":"IFERROR(INDEX('Guia de BTC'!G:G,MATCH('Lâmina Gera'!$C36&\"<xbsp>\",'Guia de BTC'!$C:$C,0)),\"\")","v":0.15},{"$f":"IFERROR(INDEX('Guia de BTC'!H:H,MATCH('Lâmina Gera'!$C36&\"<xbsp>\",'Guia de BTC'!$C:$C,0)),\"\")","v":""},{"$f":"IFERROR(INDEX('Guia de BTC'!Q:Q,MATCH('Lâmina Gera'!$C36&\"<xbsp>\",'Guia de BTC'!$C:$C,0)),\"\")","v":11666.29380972069},{"$f":"IFERROR(INDEX('Guia de BTC'!R:R,MATCH('Lâmina Gera'!$C36&\"<xbsp>\",'Guia de BTC'!$C:$C,0)),\"\")","v":0.12462618066318093},{"$f":"IFERROR(INDEX('Guia de BTC'!T:T,MATCH('Lâmina Gera'!$C36&\"<xbsp>\",'Guia de BTC'!$C:$C,0)),\"\")","v":1453.9256399999999},{"$f":"IFERROR(INDEX('Guia de BTC'!Y:Y,MATCH('Lâmina Gera'!$C36&\"<xbsp>\",'Guia de BTC'!$C:$C,0)),\"\")","v":205.51230434999999},{"$f":"IFERROR(INDEX('Guia de BTC'!Z:Z,MATCH('Lâmina Gera'!$C36&\"<xbsp>\",'Guia de BTC'!$C:$C,0)),\"\")","v":7.0746403462241165},{"$f":"IFERROR(INDEX('Guia de BTC'!AF:AF,MATCH('Lâmina Gera'!$C36&\"<xbsp>\",'Guia de BTC'!$C:$C,0)),\"\")","v":9.9412465979553631E-3},{"$f":"IFERROR(INDEX('Guia de BTC'!AJ:AJ,MATCH('Lâmina Gera'!$C36&\"<xbsp>\",'Guia de BTC'!$C:$C,0)),\"\")","v":-1.5972661120110088E-2},{"$f":"IFERROR(INDEX('Guia de BTC'!AN:AN,MATCH('Lâmina Gera'!$C36&\"<xbsp>\",'Guia de BTC'!$C:$C,0)),\"\")","v":0.15609999999999999},{"$f":"IFERROR(INDEX('Guia de BTC'!BB:BB,MATCH('Lâmina Gera'!$C36&\"<xbsp>\",'Guia de BTC'!$C:$C,0)),\"\")","v":-6.25E-2},{"$f":"IFERROR(INDEX('Guia de BTC'!BC:BC,MATCH('Lâmina Gera'!$C36&\"<xbsp>\",'Guia de BTC'!$C:$C,0)),\"\")","v":-0.66666666666999996},{"$f":"IFERROR(INDEX('Guia de BTC'!BD:BD,MATCH('Lâmina Gera'!$C36&\"<xbsp>\",'Guia de BTC'!$C:$C,0)),\"\")","v":-0.96478873238999996}]
[null,16,{"$f":"'Base Resumo'!G20","v":"AMAR3"},{"$f":"IFERROR(INDEX('Guia de BTC'!G:G,MATCH('Lâmina Gera'!$C37&\"<xbsp>\",'Guia de BTC'!$C:$C,0)),\"\")","v":1.1000000000000001},{"$f":"IFERROR(INDEX('Guia de BTC'!H:H,MATCH('Lâmina Gera'!$C37&\"<xbsp>\",'Guia de BTC'!$C:$C,0)),\"\")","v":""},{"$f":"IFERROR(INDEX('Guia de BTC'!Q:Q,MATCH('Lâmina Gera'!$C37&\"<xbsp>\",'Guia de BTC'!$C:$C,0)),\"\")","v":39899.103527979205},{"$f":"IFERROR(INDEX('Guia de BTC'!R:R,MATCH('Lâmina Gera'!$C37&\"<xbsp>\",'Guia de BTC'!$C:$C,0)),\"\")","v":9.6283202887154404E-2},{"$f":"IFERROR(INDEX('Guia de BTC'!T:T,MATCH('Lâmina Gera'!$C37&\"<xbsp>\",'Guia de BTC'!$C:$C,0)),\"\")","v":3841.61348},{"$f":"IFERROR(INDEX('Guia de BTC'!Y:Y,MATCH('Lâmina Gera'!$C37&\"<xbsp>\",'Guia de BTC'!$C:$C,0)),\"\")","v":451.59765217},{"$f":"IFERROR(INDEX('Guia de BTC'!Z:Z,MATCH('Lâmina Gera'!$C37&\"<xbsp>\",'Guia de BTC'!$C:$C,0)),\"\")","v":8.5067171220674513},{"$f":"IFERROR(INDEX('Guia de BTC'!AF:AF,MATCH('Lâmina Gera'!$C37&\"<xbsp>\",'Guia de BTC'!$C:$C,0)),\"\")","v":4.9464610964315946E-2},{"$f":"IFERROR(INDEX('Guia de BTC'!AJ:AJ,MATCH('Lâmina Gera'!$C37&\"<xbsp>\",'Guia de BTC'!$C:$C,0)),\"\")","v":2.0013303728079634E-2},{"$f":"IFERROR(INDEX('Guia de BTC'!AN:AN,MATCH('Lâmina Gera'!$C37&\"<xbsp>\",'Guia de BTC'!$C:$C,0)),\"\")","v":0.1545},{"$f":"IFERROR(INDEX('Guia de BTC'!BB:BB,MATCH('Lâmina Gera'!$C37&\"<xbsp>\",'Guia de BTC'!$C:$C,0)),\"\")","v":-5.9829059828999998E-2},{"$f":"IFERROR(INDEX('Guia de BTC'!BC:BC,MATCH('Lâmina Gera'!$C37&\"<xbsp>\",'Guia de BTC'!$C:$C,0)),\"\")","v":-0.66382529368999998},{"$f":"IFERROR(INDEX('Guia de BTC'!BD:BD,MATCH('Lâmina Gera'!$C37&\"<xbsp>\",'Guia de BTC'!$C:$C,0)),\"\")","v":-0.60299368016999999}]
[null,17,{"$f":"'Base Resumo'!G21","v":"SEQL3"},{"$f":"IFERROR(INDEX('Guia de BTC'!G:G,MATCH('Lâmina Gera'!$C38&\"<xbsp>\",'Guia de BTC'!$C:$C,0)),\"\")","v":4.97},{"$f":"IFERROR(INDEX('Guia de BTC'!H:H,MATCH('Lâmina Gera'!$C38&\"<xbsp>\",'Guia de BTC'!$C:$C,0)),\"\")","v":""},{"$f":"IFERROR(INDEX('Guia de BTC'!Q:Q,MATCH('Lâmina Gera'!$C38&\"<xbsp>\",'Guia de BTC'!$C:$C,0)),\"\")","v":108290.4155195428},{"$f":"IFERROR(INDEX('Guia de BTC'!R:R,MATCH('Lâmina Gera'!$C38&\"<xbsp>\",'Guia de BTC'!$C:$C,0)),\"\")","v":0.13758316531079556},{"$f":"IFERROR(INDEX('Guia de BTC'!T:T,MATCH('Lâmina Gera'!$C38&\"<xbsp>\",'Guia de BTC'!$C:$C,0)),\"\")","v":14898.93814},{"$f":"IFERROR(INDEX('Guia de BTC'!Y:Y,MATCH('Lâmina Gera'!$C38&\"<xbsp>\",'Guia de BTC'!$C:$C,0)),\"\")","v":5270.9579565000004},{"$f":"IFERROR(INDEX('Guia de BTC'!Z:Z,MATCH('Lâmina Gera'!$C38&\"<xbsp>\",'Guia de BTC'!$C:$C,0)),\"\")","v":2.8266091786270158},{"$f":"IFERROR(INDEX('Guia de BTC'!AF:AF,MATCH('Lâmina Gera'!$C38&\"<xbsp>\",'Guia de BTC'!$C:$C,0)),\"\")","v":1.2119246649418323E-2},{"$f":"IFERROR(INDEX('Guia de BTC'!AJ:AJ,MATCH('Lâmina Gera'!$C38&\"<xbsp>\",'Guia de BTC'!$C:$C,0)),\"\")","v":7.4535279021979095E-2},{"$f":"IFERROR(INDEX('Guia de BTC'!AN:AN,MATCH('Lâmina Gera'!$C38&\"<xbsp>\",'Guia de BTC'!$C:$C,0)),\"\")","v":0.13220000000000001},{"$f":"IFERROR(INDEX('Guia de BTC'!BB:BB,MATCH('Lâmina Gera'!$C38&\"<xbsp>\",'Guia de BTC'!$C:$C,0)),\"\")","v":-0.22222222221999999},{"$f":"IFERROR(INDEX('Guia de BTC'!BC:BC,MATCH('Lâmina Gera'!$C38&\"<xbsp>\",'Guia de BTC'!$C:$C,0)),\"\")","v":-0.34605263157999999},{"$f":"IFERROR(INDEX('Guia de BTC'!BD:BD,MATCH('Lâmina Gera'!$C38&\"<xbsp>\",'Guia de BTC'!$C:$C,0)),\"\")","v":-0.51274509804000001}]
[null,18,{"$f":"'Base Resumo'!G22","v":"MELK3"},{"$f":"IFERROR(INDEX('Guia de BTC'!G:G,MATCH('Lâmina Gera'!$C39&\"<xbsp>\",'Guia de BTC'!$C:$C,0)),\"\")","v":3.68},{"$f":"IFERROR(INDEX('Guia de BTC'!H:H,MATCH('Lâmina Gera'!$C39&\"<xbsp>\",'Guia de BTC'!$C:$C,0)),\"\")","v":""},{"$f":"IFERROR(INDEX('Guia de BTC'!Q:Q,MATCH('Lâmina Gera'!$C39&\"<xbsp>\",'Guia de BTC'!$C:$C,0)),\"\")","v":553694.95096669043},{"$f":"IFERROR(INDEX('Guia de BTC'!R:R,MATCH('Lâmina Gera'!$C39&\"<xbsp>\",'Guia de BTC'!$C:$C,0)),\"\")","v":2.2780637746430909E-3},{"$f":"IFERROR(INDEX('Guia de BTC'!T:T,MATCH('Lâmina Gera'!$C39&\"<xbsp>\",'Guia de BTC'!$C:$C,0)),\"\")","v":1261.35241},{"$f":"IFERROR(INDEX('Guia de BTC'!Y:Y,MATCH('Lâmina Gera'!$C39&\"<xbsp>\",'Guia de BTC'!$C:$C,0)),\"\")","v":7063.5807390999998},{"$f":"IFERROR(INDEX('Guia de BTC'!Z:Z,MATCH('Lâmina Gera'!$C39&\"<xbsp>\",'Guia de BTC'!$C:$C,0)),\"\")","v":0.17857124546164868},{"$f":"IFERROR(INDEX('Guia de BTC'!AF:AF,MATCH('Lâmina Gera'!$C39&\"<xbsp>\",'Guia de BTC'!$C:$C,0)),\"\")","v":1.7472398504737901E-2},{"$f":"IFERROR(INDEX('Guia de BTC'!AJ:AJ,MATCH('Lâmina Gera'!$C39&\"<xbsp>\",'Guia de BTC'!$C:$C,0)),\"\")","v":9.2854171368288441E-3},{"$f":"IFERROR(INDEX('Guia de BTC'!AN:AN,MATCH('Lâmina Gera'!$C39&\"<xbsp>\",'Guia de BTC'!$C:$C,0)),\"\")","v":0.1147},{"$f":"IFERROR(INDEX('Guia de BTC'!BB:BB,MATCH('Lâmina Gera'!$C39&\"<xbsp>\",'Guia de BTC'!$C:$C,0)),\"\")","v":8.5545722714000003E-2},{"$f":"IFERROR(INDEX('Guia de BTC'!BC:BC,MATCH('Lâmina Gera'!$C39&\"<xbsp>\",'Guia de BTC'!$C:$C,0)),\"\")","v":-0.19695898075000001},{"$f":"IFERROR(INDEX('Guia de BTC'!BD:BD,MATCH('Lâmina Gera'!$C39&\"<xbsp>\",'Guia de BTC'!$C:$C,0)),\"\")","v":-9.2513932404999999E-2}]
[null,19,{"$f":"'Base Resumo'!G23","v":"BRBI11"},{"$f":"IFERROR(INDEX('Guia de BTC'!G:G,MATCH('Lâmina Gera'!$C40&\"<xbsp>\",'Guia de BTC'!$C:$C,0)),\"\")","v":15.56},{"$f":"IFERROR(INDEX('Guia de BTC'!H:H,MATCH('Lâmina Gera'!$C40&\"<xbsp>\",'Guia de BTC'!$C:$C,0)),\"\")","v":""},{"$f":"IFERROR(INDEX('Guia de BTC'!Q:Q,MATCH('Lâmina Gera'!$C40&\"<xbsp>\",'Guia de BTC'!$C:$C,0)),\"\")","v":735024.16690061241},{"$f":"IFERROR(INDEX('Guia de BTC'!R:R,MATCH('Lâmina Gera'!$C40&\"<xbsp>\",'Guia de BTC'!$C:$C,0)),\"\")","v":1.0939171665476978E-2},{"$f":"IFERROR(INDEX('Guia de BTC'!T:T,MATCH('Lâmina Gera'!$C40&\"<xbsp>\",'Guia de BTC'!$C:$C,0)),\"\")","v":8040.5555400000003},{"$f":"IFERROR(INDEX('Guia de BTC'!Y:Y,MATCH('Lâmina Gera'!$C40&\"<xbsp>\",'Guia de BTC'!$C:$C,0)),\"\")","v":4601.4990870000001},{"$f":"IFERROR(INDEX('Guia de BTC'!Z:Z,MATCH('Lâmina Gera'!$C40&\"<xbsp>\",'Guia de BTC'!$C:$C,0)),\"\")","v":1.7473774063578338},{"$f":"IFERROR(INDEX('Guia de BTC'!AF:AF,MATCH('Lâmina Gera'!$C40&\"<xbsp>\",'Guia de BTC'!$C:$C,0)),\"\")","v":7.0948188519721917E-3},{"$f":"IFERROR(INDEX('Guia de BTC'!AJ:AJ,MATCH('Lâmina Gera'!$C40&\"<xbsp>\",'Guia de BTC'!$C:$C,0)),\"\")","v":-5.6012371756186674E-4},{"$f":"IFERROR(INDEX('Guia de BTC'!AN:AN,MATCH('Lâmina Gera'!$C40&\"<xbsp>\",'Guia de BTC'!$C:$C,0)),\"\")","v":0.1089},{"$f":"IFERROR(INDEX('Guia de BTC'!BB:BB,MATCH('Lâmina Gera'!$C40&\"<xbsp>\",'Guia de BTC'!$C:$C,0)),\"\")","v":-8.9171974522999995E-3},{"$f":"IFERROR(INDEX('Guia de BTC'!BC:BC,MATCH('Lâmina Gera'!$C40&\"<xbsp>\",'Guia de BTC'!$C:$C,0)),\"\")","v":6.9960504928999995E-2},{"$f":"IFERROR(INDEX('Guia de BTC'!BD:BD,MATCH('Lâmina Gera'!$C40&\"<xbsp>\",'Guia de BTC'!$C:$C,0)),\"\")","v":0.23457592787000001}]
[null,{"$f":"B40+1","v":20},{"$f":"'Base Resumo'!G24","v":"GOLL4"},{"$f":"IFERROR(INDEX('Guia de BTC'!G:G,MATCH('Lâmina Gera'!$C41&\"<xbsp>\",'Guia de BTC'!$C:$C,0)),\"\")","v":1.1399999999999999},{"$f":"IFERROR(INDEX('Guia de BTC'!H:H,MATCH('Lâmina Gera'!$C41&\"<xbsp>\",'Guia de BTC'!$C:$C,0)),\"\")","v":""},{"$f":"IFERROR(INDEX('Guia de BTC'!Q:Q,MATCH('Lâmina Gera'!$C41&\"<xbsp>\",'Guia de BTC'!$C:$C,0)),\"\")","v":200517.31983931267},{"$f":"IFERROR(INDEX('Guia de BTC'!R:R,MATCH('Lâmina Gera'!$C41&\"<xbsp>\",'Guia de BTC'!$C:$C,0)),\"\")","v":0.19305094059216851},{"$f":"IFERROR(INDEX('Guia de BTC'!T:T,MATCH('Lâmina Gera'!$C41&\"<xbsp>\",'Guia de BTC'!$C:$C,0)),\"\")","v":38710.057200000003},{"$f":"IFERROR(INDEX('Guia de BTC'!Y:Y,MATCH('Lâmina Gera'!$C41&\"<xbsp>\",'Guia de BTC'!$C:$C,0)),\"\")","v":5466.8994347999997},{"$f":"IFERROR(INDEX('Guia de BTC'!Z:Z,MATCH('Lâmina Gera'!$C41&\"<xbsp>\",'Guia de BTC'!$C:$C,0)),\"\")","v":7.0808065269296776},{"$f":"IFERROR(INDEX('Guia de BTC'!AF:AF,MATCH('Lâmina Gera'!$C41&\"<xbsp>\",'Guia de BTC'!$C:$C,0)),\"\")","v":6.9920994387047769E-2},{"$f":"IFERROR(INDEX('Guia de BTC'!AJ:AJ,MATCH('Lâmina Gera'!$C41&\"<xbsp>\",'Guia de BTC'!$C:$C,0)),\"\")","v":1.5134240082872008E-2},{"$f":"IFERROR(INDEX('Guia de BTC'!AN:AN,MATCH('Lâmina Gera'!$C41&\"<xbsp>\",'Guia de BTC'!$C:$C,0)),\"\")","v":0.1067},{"$f":"IFERROR(INDEX('Guia de BTC'!BB:BB,MATCH('Lâmina Gera'!$C41&\"<xbsp>\",'Guia de BTC'!$C:$C,0)),\"\")","v":5.5555555554999997E-2},{"$f":"IFERROR(INDEX('Guia de BTC'!BC:BC,MATCH('Lâmina Gera'!$C41&\"<xbsp>\",'Guia de BTC'!$C:$C,0)),\"\")","v":-0.87290969900000004},{"$f":"IFERROR(INDEX('Guia de BTC'!BD:BD,MATCH('Lâmina Gera'!$C41&\"<xbsp>\",'Guia de BTC'!$C:$C,0)),\"\")","v":-0.82985074626999999}]

{"sheet":"Base Resumo","index":4,"n_rows":600,"n_cols":11,"rows_kept":600,"cut":false,"hidden":false,"merged":[]}
[null,null,null,null,"Planilha Auxiliar Não Modificar"]
[]
[null,null,{"$f":"'Lâmina Gera'!O20","v":"Taxa Média De Aluguel"},null,null,"Descrecente",null,null,"Dados para o Gráfico"]
[null,"Nº","Ticker",{"$f":"_xll.ECONOMATICA(C5:C600,\"ticker\")","v":"Código"},"Valor","Maior Valor","Código",null,"Série (%)","Série ($)","Série (1,2)"]
[null,{"$f":"IFERROR(RANK(E5,$E$5:$E$400)+COUNTIF($E$5:E5,E5)-1,\"\")","v":126},{"$f":"IF('Guia de BTC'!C7=0,\"\",'Guia de BTC'!C7)","v":"BOVA11<XBSP>"},"BOVA11",{"$f":"IF(C5=\"\",\"\",IFERROR(INDEX(IF($C$3=\"% IBOV\",'Guia de BTC'!H:H,IF($C$3=\"% Float Alugado\",'Guia de BTC'!R:R,IF($C$3=\"Valor Alugado\",'Guia de BTC'!T:T,IF($C$3=\"Volume Médio\",'Guia de BTC'!Y:Y,IF($C$3=\"Dias de Giro\",'Guia de BTC'!Z:Z,IF($C$3=\"Aluguel vs Vista\",'Guia de BTC'!AF:AF,IF($C$3=\"Ações Alugadas\",'Guia de BTC'!AD:AD,IF($C$3=\"▲ de 1 dia\",'Guia de BTC'!AJ:AJ,IF($C$3=\"Taxa Média De Aluguel\",'Guia de BTC'!AN:AN,\"\"))))))))),MATCH(C5,'Guia de BTC'!C:C,0)),\"\"))","v":9.2999999999999992E-3},{"$f":"IF(C5=\"\",\"\",IFERROR(VLOOKUP(ROW()-4,$B$3:$E$600,4,FALSE),\"\"))","v":0.96279999999999999},{"$f":"IF(C5=\"\",\"\",IFERROR(VLOOKUP(ROW()-4,$B$3:$E$600,3,FALSE),\"\"))","v":"CMIN3"},null,{"$f":"IF($C$3=\"% IBOV\",F5,\nIF($C$3=\"% Float Alugado\",F5,\nIF($C$3=\"Aluguel vs Vista\",F5,\nIF($C$3=\"▲ de 1 dia\",F5,\nIF($C$3=\"Taxa Média De Aluguel\",F5,NA())))))","v":0.96279999999999999},{"$f":"IF($C$3=\"Valor Alugado\",F5,IF($C$3=\"Volume Médio\",F5,NA()))","v":{"$error":"#N/A"}},{"$f":"IF($C$3=\"Dias de Giro\",F5,NA())","v":{"$error":"#N/A"}}]
[null,{"$f":"IFERROR(RANK(E6,$E$5:$E$400)+COUNTIF($E$5:E6,E6)-1,\"\")","v":251},{"$f":"IF('Guia de BTC'!C8=0,\"\",'Guia de BTC'!C8)","v":"PETR4<XBSP>"},"PETR4",{"$f":"IF(C6=\"\",\"\",IFERROR(INDEX(IF($C$3=\"% IBOV\",'Guia de BTC'!H:H,IF($C$3=\"% Float Alugado\",'Guia de BTC'!R:R,IF($C$3=\"Valor Alugado\",'Guia de BTC'!T:T,IF($C$3=\"Volume Médio\",'Guia de BTC'!Y:Y,IF($C$3=\"Dias de Giro\",'Guia de BTC'!Z:Z,IF($C$3=\"Aluguel vs Vista\",'Guia de BTC'!AF:AF,IF($C$3=\"Ações Alugadas\",'Guia de BTC'!AD:AD,IF($C$3=\"▲ de 1 dia\",'Guia de BTC'!AJ:AJ,IF($C$3=\"Taxa Média De Aluguel\",'Guia de BTC'!AN:AN,\"\"))))))))),MATCH(C6,'Guia de BTC'!C:C,0)),\"\"))","v":1E-4},{"$f":"IF(C6=\"\",\"\",IFERROR(VLOOKUP(ROW()-4,$B$3:$E$600,4,FALSE),\"\"))","v":0.94620000000000004},{"$f":"IF(C6=\"\",\"\",IFERROR(VLOOKUP(ROW()-4,$B$3:$E$600,3,FALSE),\"\"))","v":"AMBP3"},null,{"$f":"IF($C$3=\"% IBOV\",F6,\nIF($C$3=\"% Float Alugado\",F6,\nIF($C$3=\"Aluguel vs Vista\",F6,\nIF($C$3=\"▲ de 1 dia\",F6,\nIF($C$3=\"Taxa Média De Aluguel\",F6,NA())))))","v":0.94620000000000004},{"$f":"IF($C$3=\"Valor Alugado\",F6,IF($C$3=\"Volume Médio\",F6,NA()))","v":{"$error":"#N/A"}},{"$f":"IF($C$3=\"Dias de Giro\",F6,NA())","v":{"$error":"#N/A"}}]
[null,{"$f":"IFERROR(RANK(E7,$E$5:$E$400)+COUNTIF($E$5:E7,E7)-1,\"\")","v":226},{"$f":"IF('Guia de BTC'!C9=0,\"\",'Guia de BTC'!C9)","v":"ITUB4<XBSP>"},"ITUB4",{"$f":"IF(C7=\"\",\"\",IFERROR(INDEX(IF($C$3=\"% IBOV\",'Guia de BTC'!H:H,IF($C$3=\"% Float Alugado\",'Guia de BTC'!R:R,IF($C$3=\"Valor Alugado\",'Guia de BTC'!T:T,IF($C$3=\"Volume Médio\",'Guia de BTC'!Y:Y,IF($C$3=\"Dias de Giro\",'Guia de BTC'!Z:Z,IF($C$3=\"Aluguel vs Vista\",'Guia de BTC'!AF:AF,IF($C$3=\"Ações Alugadas\",'Guia de BTC'!AD:AD,IF($C$3=\"▲ de 1 dia\",'Guia de BTC'!AJ:AJ,IF($C$3=\"Taxa Média De Aluguel\",'Guia de BTC'!AN:AN,\"\"))))))))),MATCH(C7,'Guia de BTC'!C:C,0)),\"\"))","v":5.0000000000000001E-4},{"$f":"IF(C7=\"\",\"\",IFERROR(VLOOKUP(ROW()-4,$B$3:$E$600,4,FALSE),\"\"))","v":0.51639999999999997},{"$f":"IF(C7=\"\",\"\",IFERROR(VLOOKUP(ROW()-4,$B$3:$E$600,3,FALSE),\"\"))","v":"AZUL4"},null,0.51639999999999997,{"$error":"#N/A"},{"$error":"#N/A"}]
[null,{"$f":"IFERROR(RANK(E8,$E$5:$E$400)+COUNTIF($E$5:E8,E8)-1,\"\")","v":236},{"$f":"IF('Guia de BTC'!C10=0,\"\",'Guia de BTC'!C10)","v":"VALE3<XBSP>"},"VALE3",{"$f":"IF(C8=\"\",\"\",IFERROR(INDEX(IF($C$3=\"% IBOV\",'Guia de BTC'!H:H,IF($C$3=\"% Float Alugado\",'Guia de BTC'!R:R,IF($C$3=\"Valor Alugado\",'Guia de BTC'!T:T,IF($C$3=\"Volume Médio\",'Guia de BTC'!Y:Y,IF($C$3=\"Dias de Giro\",'Guia de BTC'!Z:Z,IF($C$3=\"Aluguel vs Vista\",'Guia de BTC'!AF:AF,IF($C$3=\"Ações Alugadas\",'Guia de BTC'!AD:AD,IF($C$3=\"▲ de 1 dia\",'Guia de BTC'!AJ:AJ,IF($C$3=\"Taxa Média De Aluguel\",'Guia de BTC'!AN:AN,\"\"))))))))),MATCH(C8,'Guia de BTC'!C:C,0)),\"\"))","v":2.9999999999999997E-4},0.48089999999999999,"TRAD3",null,0.48089999999999999,{"$error":"#N/A"},{"$error":"#N/A"}]
[null,{"$f":"IFERROR(RANK(E9,$E$5:$E$400)+COUNTIF($E$5:E9,E9)-1,\"\")","v":227},{"$f":"IF('Guia de BTC'!C11=0,\"\",'Guia de BTC'!C11)","v":"BBAS3<XBSP>"},"BBAS3",{"$f":"IF(C9=\"\",\"\",IFERROR(INDEX(IF($C$3=\"% IBOV\",'Guia de BTC'!H:H,IF($C$3=\"% Float Alugado\",'Guia de BTC'!R:R,IF($C$3=\"Valor Alugado\",'Guia de BTC'!T:T,IF($C$3=\"Volume Médio\",'Guia de BTC'!Y:Y,IF($C$3=\"Dias de Giro\",'Guia de BTC'!Z:Z,IF($C$3=\"Aluguel vs Vista\",'Guia de BTC'!AF:AF,IF($C$3=\"Ações Alugadas\",'Guia de BTC'!AD:AD,IF($C$3=\"▲ de 1 dia\",'Guia de BTC'!AJ:AJ,IF($C$3=\"Taxa Média De Aluguel\",'Guia de BTC'!AN:AN,\"\"))))))))),MATCH(C9,'Guia de BTC'!C:C,0)),\"\"))","v":5.0000000000000001E-4},0.4118,"CRFB3",null,0.4118,{"$error":"#N/A"},{"$error":"#N/A"}]
[null,{"$f":"IFERROR(RANK(E10,$E$5:$E$400)+COUNTIF($E$5:E10,E10)-1,\"\")","v":219},{"$f":"IF('Guia de BTC'!C12=0,\"\",'Guia de BTC'!C12)","v":"WEGE3<XBSP>"},"WEGE3",{"$f":"IF(C10=\"\",\"\",IFERROR(INDEX(IF($C$3=\"% IBOV\",'Guia de BTC'!H:H,IF($C$3=\"% Float Alugado\",'Guia de BTC'!R:R,IF($C$3=\"Valor Alugado\",'Guia de BTC'!T:T,IF($C$3=\"Volume Médio\",'Guia de BTC'!Y:Y,IF($C$3=\"Dias de Giro\",'Guia de BTC'!Z:Z,IF($C$3=\"Aluguel vs Vista\",'Guia de BTC'!AF:AF,IF($C$3=\"Ações Alugadas\",'Guia de BTC'!AD:AD,IF($C$3=\"▲ de 1 dia\",'Guia de BTC'!AJ:AJ,IF($C$3=\"Taxa Média De Aluguel\",'Guia de BTC'!AN:AN,\"\"))))))))),MATCH(C10,'Guia de BTC'!C:C,0)),\"\"))","v":5.9999999999999995E-4},0.3982,"CSED3",null,0.3982,{"$error":"#N/A"},{"$error":"#N/A"}]
[null,{"$f":"IFERROR(RANK(E11,$E$5:$E$400)+COUNTIF($E$5:E11,E11)-1,\"\")","v":237},{"$f":"IF('Guia de BTC'!C13=0,\"\",'Guia de BTC'!C13)","v":"BBDC4<XBSP>"},"BBDC4",{"$f":"IF(C11=\"\",\"\",IFERROR(INDEX(IF($C$3=\"% IBOV\",'Guia de BTC'!H:H,IF($C$3=\"% Float Alugado\",'Guia de BTC'!R:R,IF($C$3=\"Valor Alugado\",'Guia de BTC'!T:T,IF($C$3=\"Volume Médio\",'Guia de BTC'!Y:Y,IF($C$3=\"Dias de Giro\",'Guia de BTC'!Z:Z,IF($C$3=\"Aluguel vs Vista\",'Guia de BTC'!AF:AF,IF($C$3=\"Ações Alugadas\",'Guia de BTC'!AD:AD,IF($C$3=\"▲ de 1 dia\",'Guia de BTC'!AJ:AJ,IF($C$3=\"Taxa Média De Aluguel\",'Guia de BTC'!AN:AN,\"\"))))))))),MATCH(C11,'Guia de BTC'!C:C,0)),\"\"))","v":2.9999999999999997E-4},0.37509999999999999,"KLBN3",null,0.37509999999999999,{"$error":"#N/A"},{"$error":"#N/A"}]
[null,{"$f":"IFERROR(RANK(E12,$E$5:$E$400)+COUNTIF($E$5:E12,E12)-1,\"\")","v":212},{"$f":"IF('Guia de BTC'!C14=0,\"\",'Guia de BTC'!C14)","v":"PETR3<XBSP>"},"PETR3",{"$f":"IF(C12=\"\",\"\",IFERROR(INDEX(IF($C$3=\"% IBOV\",'Guia de BTC'!H:H,IF($C$3=\"% Float Alugado\",'Guia de BTC'!R:R,IF($C$3=\"Valor Alugado\",'Guia de BTC'!T:T,IF($C$3=\"Volume Médio\",'Guia de BTC'!Y:Y,IF($C$3=\"Dias de Giro\",'Guia de BTC'!Z:Z,IF($C$3=\"Aluguel vs Vista\",'Guia de BTC'!AF:AF,IF($C$3=\"Ações Alugadas\",'Guia de BTC'!AD:AD,IF($C$3=\"▲ de 1 dia\",'Guia de BTC'!AJ:AJ,IF($C$3=\"Taxa Média De Aluguel\",'Guia de BTC'!AN:AN,\"\"))))))))),MATCH(C12,'Guia de BTC'!C:C,0)),\"\"))","v":1.1000000000000001E-3},0.31459999999999999,"AMER3",null,0.31459999999999999,{"$error":"#N/A"},{"$error":"#N/A"}]
[null,{"$f":"IFERROR(RANK(E13,$E$5:$E$400)+COUNTIF($E$5:E13,E13)-1,\"\")","v":178},{"$f":"IF('Guia de BTC'!C15=0,\"\",'Guia de BTC'!C15)","v":"RENT3<XBSP>"},"RENT3",{"$f":"IF(C13=\"\",\"\",IFERROR(INDEX(IF($C$3=\"% IBOV\",'Guia de BTC'!H:H,IF($C$3=\"% Float Alugado\",'Guia de BTC'!R:R,IF($C$3=\"Valor Alugado\",'Guia de BTC'!T:T,IF($C$3=\"Volume Médio\",'Guia de BTC'!Y:Y,IF($C$3=\"Dias de Giro\",'Guia de BTC'!Z:Z,IF($C$3=\"Aluguel vs Vista\",'Guia de BTC'!AF:AF,IF($C$3=\"Ações Alugadas\",'Guia de BTC'!AD:AD,IF($C$3=\"▲ de 1 dia\",'Guia de BTC'!AJ:AJ,IF($C$3=\"Taxa Média De Aluguel\",'Guia de BTC'!AN:AN,\"\"))))))))),MATCH(C13,'Guia de BTC'!C:C,0)),\"\"))","v":2.3E-3},0.29620000000000002,"BRIT3",null,0.29620000000000002,{"$error":"#N/A"},{"$error":"#N/A"}]
[null,{"$f":"IFERROR(RANK(E14,$E$5:$E$400)+COUNTIF($E$5:E14,E14)-1,\"\")","v":189},{"$f":"IF('Guia de BTC'!C16=0,\"\",'Guia de BTC'!C16)","v":"ABEV3<XBSP>"},"ABEV3",{"$f":"IF(C14=\"\",\"\",IFERROR(INDEX(IF($C$3=\"% IBOV\",'Guia de BTC'!H:H,IF($C$3=\"% Float Alugado\",'Guia de BTC'!R:R,IF($C$3=\"Valor Alugado\",'Guia de BTC'!T:T,IF($C$3=\"Volume Médio\",'Guia de BTC'!Y:Y,IF($C$3=\"Dias de Giro\",'Guia de BTC'!Z:Z,IF($C$3=\"Aluguel vs Vista\",'Guia de BTC'!AF:AF,IF($C$3=\"Ações Alugadas\",'Guia de BTC'!AD:AD,IF($C$3=\"▲ de 1 dia\",'Guia de BTC'!AJ:AJ,IF($C$3=\"Taxa Média De Aluguel\",'Guia de BTC'!AN:AN,\"\"))))))))),MATCH(C14,'Guia de BTC'!C:C,0)),\"\"))","v":1.8E-3},0.27660000000000001,"ONCO3",null,0.27660000000000001,{"$error":"#N/A"},{"$error":"#N/A"}]
[null,{"$f":"IFERROR(RANK(E15,$E$5:$E$400)+COUNTIF($E$5:E15,E15)-1,\"\")","v":228},{"$f":"IF('Guia de BTC'!C17=0,\"\",'Guia de BTC'!C17)","v":"B3SA3<XBSP>"},"B3SA3",{"$f":"IF(C15=\"\",\"\",IFERROR(INDEX(IF($C$3=\"% IBOV\",'Guia de BTC'!H:H,IF($C$3=\"% Float Alugado\",'Guia de BTC'!R:R,IF($C$3=\"Valor Alugado\",'Guia de BTC'!T:T,IF($C$3=\"Volume Médio\",'Guia de BTC'!Y:Y,IF($C$3=\"Dias de Giro\",'Guia de BTC'!Z:Z,IF($C$3=\"Aluguel vs Vista\",'Guia de BTC'!AF:AF,IF($C$3=\"Ações Alugadas\",'Guia de BTC'!AD:AD,IF($C$3=\"▲ de 1 dia\",'Guia de BTC'!AJ:AJ,IF($C$3=\"Taxa Média De Aluguel\",'Guia de BTC'!AN:AN,\"\"))))))))),MATCH(C15,'Guia de BTC'!C:C,0)),\"\"))","v":5.0000000000000001E-4},0.22370000000000001,"PETZ3",null,0.22370000000000001,{"$error":"#N/A"},{"$error":"#N/A"}]
[null,{"$f":"IFERROR(RANK(E16,$E$5:$E$400)+COUNTIF($E$5:E16,E16)-1,\"\")","v":216},{"$f":"IF('Guia de BTC'!C18=0,\"\",'Guia de BTC'!C18)","v":"ELET3<XBSP>"},"ELET3",{"$f":"IF(C16=\"\",\"\",IFERROR(INDEX(IF($C$3=\"% IBOV\",'Guia de BTC'!H:H,IF($C$3=\"% Float Alugado\",'Guia de BTC'!R:R,IF($C$3=\"Valor Alugado\",'Guia de BTC'!T:T,IF($C$3=\"Volume Médio\",'Guia de BTC'!Y:Y,IF($C$3=\"Dias de Giro\",'Guia de BTC'!Z:Z,IF($C$3=\"Aluguel vs Vista\",'Guia de BTC'!AF:AF,IF($C$3=\"Ações Alugadas\",'Guia de BTC'!AD:AD,IF($C$3=\"▲ de 1 dia\",'Guia de BTC'!AJ:AJ,IF($C$3=\"Taxa Média De Aluguel\",'Guia de BTC'!AN:AN,\"\"))))))))),MATCH(C16,'Guia de BTC'!C:C,0)),\"\"))","v":8.0000000000000004E-4},0.21129999999999999,"ASAI3",null,0.21129999999999999,{"$error":"#N/A"},{"$error":"#N/A"}]
[null,{"$f":"IFERROR(RANK(E17,$E$5:$E$400)+COUNTIF($E$5:E17,E17)-1,\"\")","v":37},{"$f":"IF('Guia de BTC'!C19=0,\"\",'Guia de BTC'!C19)","v":"EMBR3<XBSP>"},"EMBR3",{"$f":"IF(C17=\"\",\"\",IFERROR(INDEX(IF($C$3=\"% IBOV\",'Guia de BTC'!H:H,IF($C$3=\"% Float Alugado\",'Guia de BTC'!R:R,IF($C$3=\"Valor Alugado\",'Guia de BTC'!T:T,IF($C$3=\"Volume Médio\",'Guia de BTC'!Y:Y,IF($C$3=\"Dias de Giro\",'Guia de BTC'!Z:Z,IF($C$3=\"Aluguel vs Vista\",'Guia de BTC'!AF:AF,IF($C$3=\"Ações Alugadas\",'Guia de BTC'!AD:AD,IF($C$3=\"▲ de 1 dia\",'Guia de BTC'!AJ:AJ,IF($C$3=\"Taxa Média De Aluguel\",'Guia de BTC'!AN:AN,\"\"))))))))),MATCH(C17,'Guia de BTC'!C:C,0)),\"\"))","v":7.2999999999999995E-2},0.2,"SYNE3",null,0.2,{"$error":"#N/A"},{"$error":"#N/A"}]
[null,{"$f":"IFERROR(RANK(E18,$E$5:$E$400)+COUNTIF($E$5:E18,E18)-1,\"\")","v":233},{"$f":"IF('Guia de BTC'!C20=0,\"\",'Guia de BTC'!C20)","v":"PRIO3<XBSP>"},"PRIO3",{"$f":"IF(C18=\"\",\"\",IFERROR(INDEX(IF($C$3=\"% IBOV\",'Guia de BTC'!H:H,IF($C$3=\"% Float Alugado\",'Guia de BTC'!R:R,IF($C$3=\"Valor Alugado\",'Guia de BTC'!T:T,IF($C$3=\"Volume Médio\",'Guia de BTC'!Y:Y,IF($C$3=\"Dias de Giro\",'Guia de BTC'!Z:Z,IF($C$3=\"Aluguel vs Vista\",'Guia de BTC'!AF:AF,IF($C$3=\"Ações Alugadas\",'Guia de BTC'!AD:AD,IF($C$3=\"▲ de 1 dia\",'Guia de BTC'!AJ:AJ,IF($C$3=\"Taxa Média De Aluguel\",'Guia de BTC'!AN:AN,\"\"))))))))),MATCH(C18,'Guia de BTC'!C:C,0)),\"\"))","v":4.0000000000000002E-4},0.17630000000000001,"SAPR3",null,0.17630000000000001,{"$error":"#N/A"},{"$error":"#N/A"}]
[null,{"$f":"IFERROR(RANK(E19,$E$5:$E$400)+COUNTIF($E$5:E19,E19)-1,\"\")","v":117},{"$f":"IF('Guia de BTC'!C21=0,\"\",'Guia de BTC'!C21)","v":"BRAV3<XBSP>"},"BRAV3",{"$f":"IF(C19=\"\",\"\",IFERROR(INDEX(IF($C$3=\"% IBOV\",'Guia de BTC'!H:H,IF($C$3=\"% Float Alugado\",'Guia de BTC'!R:R,IF($C$3=\"Valor Alugado\",'Guia de BTC'!T:T,IF($C$3=\"Volume Médio\",'Guia de BTC'!Y:Y,IF($C$3=\"Dias de Giro\",'Guia de BTC'!Z:Z,IF($C$3=\"Aluguel vs Vista\",'Guia de BTC'!AF:AF,IF($C$3=\"Ações Alugadas\",'Guia de BTC'!AD:AD,IF($C$3=\"▲ de 1 dia\",'Guia de BTC'!AJ:AJ,IF($C$3=\"Taxa Média De Aluguel\",'Guia de BTC'!AN:AN,\"\"))))))))),MATCH(C19,'Guia de BTC'!C:C,0)),\"\"))","v":1.1299999999999999E-2},0.15609999999999999,"PDGR3",null,0.15609999999999999,{"$error":"#N/A"},{"$error":"#N/A"}]
[null,{"$f":"IFERROR(RANK(E20,$E$5:$E$400)+COUNTIF($E$5:E20,E20)-1,\"\")","v":107},{"$f":"IF('Guia de BTC'!C22=0,\"\",'Guia de BTC'!C22)","v":"BOVV11<XBSP>"},"BOVV11",{"$f":"IF(C20=\"\",\"\",IFERROR(INDEX(IF($C$3=\"% IBOV\",'Guia de BTC'!H:H,IF($C$3=\"% Float Alugado\",'Guia de BTC'!R:R,IF($C$3=\"Valor Alugado\",'Guia de BTC'!T:T,IF($C$3=\"Volume Médio\",'Guia de BTC'!Y:Y,IF($C$3=\"Dias de Giro\",'Guia de BTC'!Z:Z,IF($C$3=\"Aluguel vs Vista\",'Guia de BTC'!AF:AF,IF($C$3=\"Ações Alugadas\",'Guia de BTC'!AD:AD,IF($C$3=\"▲ de 1 dia\",'Guia de BTC'!AJ:AJ,IF($C$3=\"Taxa Média De Aluguel\",'Guia de BTC'!AN:AN,\"\"))))))))),MATCH(C20,'Guia de BTC'!C:C,0)),\"\"))","v":1.38E-2},0.1545,"AMAR3",null,0.1545,{"$error":"#N/A"},{"$error":"#N/A"}]
[null,{"$f":"IFERROR(RANK(E21,$E$5:$E$400)+COUNTIF($E$5:E21,E21)-1,\"\")","v":193},{"$f":"IF('Guia de BTC'!C23=0,\"\",'Guia de BTC'!C23)","v":"CMIG4<XBSP>"},"CMIG4",{"$f":"IF(C21=\"\",\"\",IFERROR(INDEX(IF($C$3=\"% IBOV\",'Guia de BTC'!H:H,IF($C$3=\"% Float Alugado\",'Guia de BTC'!R:R,IF($C$3=\"Valor Alugado\",'Guia de BTC'!T:T,IF($C$3=\"Volume Médio\",'Guia de BTC'!Y:Y,IF($C$3=\"Dias de Giro\",'Guia de BTC'!Z:Z,IF($C$3=\"Aluguel vs Vista\",'Guia de BTC'!AF:AF,IF($C$3=\"Ações Alugadas\",'Guia de BTC'!AD:AD,IF($C$3=\"▲ de 1 dia\",'Guia de BTC'!AJ:AJ,IF($C$3=\"Taxa Média De Aluguel\",'Guia de BTC'!AN:AN,\"\"))))))))),MATCH(C21,'Guia de BTC'!C:C,0)),\"\"))","v":1.6999999999999999E-3},0.13220000000000001,"SEQL3",null,0.13220000000000001,{"$f":"IF($C$3=\"Valor Alugado\",F21,IF($C$3=\"Volume Médio\",F21,NA()))","v":{"$error":"#N/A"}},{"$f":"IF($C$3=\"Dias de Giro\",F21,NA())","v":{"$error":"#N/A"}}]
[null,{"$f":"IFERROR(RANK(E22,$E$5:$E$400)+COUNTIF($E$5:E22,E22)-1,\"\")","v":66},{"$f":"IF('Guia de BTC'!C24=0,\"\",'Guia de BTC'!C24)","v":"SMAL11<XBSP>"},"SMAL11",{"$f":"IF(C22=\"\",\"\",IFERROR(INDEX(IF($C$3=\"% IBOV\",'Guia de BTC'!H:H,IF($C$3=\"% Float Alugado\",'Guia de BTC'!R:R,IF($C$3=\"Valor Alugado\",'Guia de BTC'!T:T,IF($C$3=\"Volume Médio\",'Guia de BTC'!Y:Y,IF($C$3=\"Dias de Giro\",'Guia de BTC'!Z:Z,IF($C$3=\"Aluguel vs Vista\",'Guia de BTC'!AF:AF,IF($C$3=\"Ações Alugadas\",'Guia de BTC'!AD:AD,IF($C$3=\"▲ de 1 dia\",'Guia de BTC'!AJ:AJ,IF($C$3=\"Taxa Média De Aluguel\",'Guia de BTC'!AN:AN,\"\"))))))))),MATCH(C22,'Guia de BTC'!C:C,0)),\"\"))","v":3.85E-2},0.1147,"MELK3",null,0.1147,{"$f":"IF($C$3=\"Valor Alugado\",F22,IF($C$3=\"Volume Médio\",F22,NA()))","v":{"$error":"#N/A"}},{"$f":"IF($C$3=\"Dias de Giro\",F22,NA())","v":{"$error":"#N/A"}}]
[null,{"$f":"IFERROR(RANK(E23,$E$5:$E$400)+COUNTIF($E$5:E23,E23)-1,\"\")","v":195},{"$f":"IF('Guia de BTC'!C25=0,\"\",'Guia de BTC'!C25)","v":"BBSE3<XBSP>"},"BBSE3",{"$f":"IF(C23=\"\",\"\",IFERROR(INDEX(IF($C$3=\"% IBOV\",'Guia de BTC'!H:H,IF($C$3=\"% Float Alugado\",'Guia de BTC'!R:R,IF($C$3=\"Valor Alugado\",'Guia de BTC'!T:T,IF($C$3=\"Volume Médio\",'Guia de BTC'!Y:Y,IF($C$3=\"Dias de Giro\",'Guia de BTC'!Z:Z,IF($C$3=\"Aluguel vs Vista\",'Guia de BTC'!AF:AF,IF($C$3=\"Ações Alugadas\",'Guia de BTC'!AD:AD,IF($C$3=\"▲ de 1 dia\",'Guia de BTC'!AJ:AJ,IF($C$3=\"Taxa Média De Aluguel\",'Guia de BTC'!AN:AN,\"\"))))))))),MATCH(C23,'Guia de BTC'!C:C,0)),\"\"))","v":1.5E-3},0.1089,"BRBI11",null,0.1089,{"$error":"#N/A"},{"$error":"#N/A"}]
[null,{"$f":"IFERROR(RANK(E24,$E$5:$E$400)+COUNTIF($E$5:E24,E24)-1,\"\")","v":229},{"$f":"IF('Guia de BTC'!C26=0,\"\",'Guia de BTC'!C26)","v":"BPAC11<XBSP>"},"BPAC11",{"$f":"IF(C24=\"\",\"\",IFERROR(INDEX(IF($C$3=\"% IBOV\",'Guia de BTC'!H:H,IF($C$3=\"% Float Alugado\",'Guia de BTC'!R:R,IF($C$3=\"Valor Alugado\",'Guia de BTC'!T:T,IF($C$3=\"Volume Médio\",'Guia de BTC'!Y:Y,IF($C$3=\"Dias de Giro\",'Guia de BTC'!Z:Z,IF($C$3=\"Aluguel vs Vista\",'Guia de BTC'!AF:AF,IF($C$3=\"Ações Alugadas\",'Guia de BTC'!AD:AD,IF($C$3=\"▲ de 1 dia\",'Guia de BTC'!AJ:AJ,IF($C$3=\"Taxa Média De Aluguel\",'Guia de BTC'!AN:AN,\"\"))))))))),MATCH(C24,'Guia de BTC'!C:C,0)),\"\"))","v":5.0000000000000001E-4},0.1067,"GOLL4",null,0.1067,{"$error":"#N/A"},{"$error":"#N/A"}]
[null,{"$f":"IFERROR(RANK(E25,$E$5:$E$400)+COUNTIF($E$5:E25,E25)-1,\"\")","v":173},{"$f":"IF('Guia de BTC'!C27=0,\"\",'Guia de BTC'!C27)","v":"TAEE11<XBSP>"},"TAEE11",{"$f":"IF(C25=\"\",\"\",IFERROR(INDEX(IF($C$3=\"% IBOV\",'Guia de BTC'!H:H,IF($C$3=\"% Float Alugado\",'Guia de BTC'!R:R,IF($C$3=\"Valor Alugado\",'Guia de BTC'!T:T,IF($C$3=\"Volume Médio\",'Guia de BTC'!Y:Y,IF($C$3=\"Dias de Giro\",'Guia de BTC'!Z:Z,IF($C$3=\"Aluguel vs Vista\",'Guia de BTC'!AF:AF,IF($C$3=\"Ações Alugadas\",'Guia de BTC'!AD:AD,IF($C$3=\"▲ de 1 dia\",'Guia de BTC'!AJ:AJ,IF($C$3=\"Taxa Média De Aluguel\",'Guia de BTC'!AN:AN,\"\"))))))))),MATCH(C25,'Guia de BTC'!C:C,0)),\"\"))","v":2.5999999999999999E-3},0.106,"RAIZ4"]
[null,{"$f":"IFERROR(RANK(E26,$E$5:$E$400)+COUNTIF($E$5:E26,E26)-1,\"\")","v":246},{"$f":"IF('Guia de BTC'!C28=0,\"\",'Guia de BTC'!C28)","v":"SUZB3<XBSP>"},"SUZB3",{"$f":"IF(C26=\"\",\"\",IFERROR(INDEX(IF($C$3=\"% IBOV\",'Guia de BTC'!H:H,IF($C$3=\"% Float Alugado\",'Guia de BTC'!R:R,IF($C$3=\"Valor Alugado\",'Guia de BTC'!T:T,IF($C$3=\"Volume Médio\",'Guia de BTC'!Y:Y,IF($C$3=\"Dias de Giro\",'Guia de BTC'!Z:Z,IF($C$3=\"Aluguel vs Vista\",'Guia de BTC'!AF:AF,IF($C$3=\"Ações Alugadas\",'Guia de BTC'!AD:AD,IF($C$3=\"▲ de 1 dia\",'Guia de BTC'!AJ:AJ,IF($C$3=\"Taxa Média De Aluguel\",'Guia de BTC'!AN:AN,\"\"))))))))),MATCH(C26,'Guia de BTC'!C:C,0)),\"\"))","v":2.0000000000000001E-4},0.1024,"MATD3"]
[null,{"$f":"IFERROR(RANK(E27,$E$5:$E$400)+COUNTIF($E$5:E27,E27)-1,\"\")","v":90},{"$f":"IF('Guia de BTC'!C29=0,\"\",'Guia de BTC'!C29)","v":"EGIE3<XBSP>"},"EGIE3",{"$f":"IF(C27=\"\",\"\",IFERROR(INDEX(IF($C$3=\"% IBOV\",'Guia de BTC'!H:H,IF($C$3=\"% Float Alugado\",'Guia de BTC'!R:R,IF($C$3=\"Valor Alugado\",'Guia de BTC'!T:T,IF($C$3=\"Volume Médio\",'Guia de BTC'!Y:Y,IF($C$3=\"Dias de Giro\",'Guia de BTC'!Z:Z,IF($C$3=\"Aluguel vs Vista\",'Guia de BTC'!AF:AF,IF($C$3=\"Ações Alugadas\",'Guia de BTC'!AD:AD,IF($C$3=\"▲ de 1 dia\",'Guia de BTC'!AJ:AJ,IF($C$3=\"Taxa Média De Aluguel\",'Guia de BTC'!AN:AN,\"\"))))))))),MATCH(C27,'Guia de BTC'!C:C,0)),\"\"))","v":2.3900000000000001E-2},0.1012,"BHIA3"]
[null,{"$f":"IFERROR(RANK(E28,$E$5:$E$400)+COUNTIF($E$5:E28,E28)-1,\"\")","v":185},{"$f":"IF('Guia de BTC'!C30=0,\"\",'Guia de BTC'!C30)","v":"VIVT3<XBSP>"},"VIVT3",{"$f":"IF(C28=\"\",\"\",IFERROR(INDEX(IF($C$3=\"% IBOV\",'Guia de BTC'!H:H,IF($C$3=\"% Float Alugado\",'Guia de BTC'!R:R,IF($C$3=\"Valor Alugado\",'Guia de BTC'!T:T,IF($C$3=\"Volume Médio\",'Guia de BTC'!Y:Y,IF($C$3=\"Dias de Giro\",'Guia de BTC'!Z:Z,IF($C$3=\"Aluguel vs Vista\",'Guia de BTC'!AF:AF,IF($C$3=\"Ações Alugadas\",'Guia de BTC'!AD:AD,IF($C$3=\"▲ de 1 dia\",'Guia de BTC'!AJ:AJ,IF($C$3=\"Taxa Média De Aluguel\",'Guia de BTC'!AN:AN,\"\"))))))))),MATCH(C28,'Guia de BTC'!C:C,0)),\"\"))","v":1.9E-3},9.9400000000000002E-2,"KLBN4"]
[null,{"$f":"IFERROR(RANK(E29,$E$5:$E$400)+COUNTIF($E$5:E29,E29)-1,\"\")","v":166},{"$f":"IF('Guia de BTC'!C31=0,\"\",'Guia de BTC'!C31)","v":"EQTL3<XBSP>"},"EQTL3",{"$f":"IF(C29=\"\",\"\",IFERROR(INDEX(IF($C$3=\"% IBOV\",'Guia de BTC'!H:H,IF($C$3=\"% Float Alugado\",'Guia de BTC'!R:R,IF($C$3=\"Valor Alugado\",'Guia de BTC'!T:T,IF($C$3=\"Volume Médio\",'Guia de BTC'!Y:Y,IF($C$3=\"Dias de Giro\",'Guia de BTC'!Z:Z,IF($C$3=\"Aluguel vs Vista\",'Guia de BTC'!AF:AF,IF($C$3=\"Ações Alugadas\",'Guia de BTC'!AD:AD,IF($C$3=\"▲ de 1 dia\",'Guia de BTC'!AJ:AJ,IF($C$3=\"Taxa Média De Aluguel\",'Guia de BTC'!AN:AN,\"\"))))))))),MATCH(C29,'Guia de BTC'!C:C,0)),\"\"))","v":3.3999999999999998E-3},9.8799999999999999E-2,"HBSA3"]
[null,{"$f":"IFERROR(RANK(E30,$E$5:$E$400)+COUNTIF($E$5:E30,E30)-1,\"\")","v":238},{"$f":"IF('Guia de BTC'!C32=0,\"\",'Guia de BTC'!C32)","v":"GGBR4<XBSP>"},"GGBR4",{"$f":"IF(C30=\"\",\"\",IFERROR(INDEX(IF($C$3=\"% IBOV\",'Guia de BTC'!H:H,IF($C$3=\"% Float Alugado\",'Guia de BTC'!R:R,IF($C$3=\"Valor Alugado\",'Guia de BTC'!T:T,IF($C$3=\"Volume Médio\",'Guia de BTC'!Y:Y,IF($C$3=\"Dias de Giro\",'Guia de BTC'!Z:Z,IF($C$3=\"Aluguel vs Vista\",'Guia de BTC'!AF:AF,IF($C$3=\"Ações Alugadas\",'Guia de BTC'!AD:AD,IF($C$3=\"▲ de 1 dia\",'Guia de BTC'!AJ:AJ,IF($C$3=\"Taxa Média De Aluguel\",'Guia de BTC'!AN:AN,\"\"))))))))),MATCH(C30,'Guia de BTC'!C:C,0)),\"\"))","v":2.9999999999999997E-4},9.4100000000000003E-2,"ODPV3"]
[null,{"$f":"IFERROR(RANK(E31,$E$5:$E$400)+COUNTIF($E$5:E31,E31)-1,\"\")","v":220},{"$f":"IF('Guia de BTC'!C33=0,\"\",'Guia de BTC'!C33)","v":"ITSA4<XBSP>"},"ITSA4",{"$f":"IF(C31=\"\",\"\",IFERROR(INDEX(IF($C$3=\"% IBOV\",'Guia de BTC'!H:H,IF($C$3=\"% Float Alugado\",'Guia de BTC'!R:R,IF($C$3=\"Valor Alugado\",'Guia de BTC'!T:T,IF($C$3=\"Volume Médio\",'Guia de BTC'!Y:Y,IF($C$3=\"Dias de Giro\",'Guia de BTC'!Z:Z,IF($C$3=\"Aluguel vs Vista\",'Guia de BTC'!AF:AF,IF($C$3=\"Ações Alugadas\",'Guia de BTC'!AD:AD,IF($C$3=\"▲ de 1 dia\",'Guia de BTC'!AJ:AJ,IF($C$3=\"Taxa Média De Aluguel\",'Guia de BTC'!AN:AN,\"\"))))))))),MATCH(C31,'Guia de BTC'!C:C,0)),\"\"))","v":5.9999999999999995E-4},9.35E-2,"MBLY3"]
[null,{"$f":"IFERROR(RANK(E32,$E$5:$E$400)+COUNTIF($E$5:E32,E32)-1,\"\")","v":180},{"$f":"IF('Guia de BTC'!C34=0,\"\",'Guia de BTC'!C34)","v":"NTCO3<XBSP>"},"NTCO3",{"$f":"IF(C32=\"\",\"\",IFERROR(INDEX(IF($C$3=\"% IBOV\",'Guia de BTC'!H:H,IF($C$3=\"% Float Alugado\",'Guia de BTC'!R:R,IF($C$3=\"Valor Alugado\",'Guia de BTC'!T:T,IF($C$3=\"Volume Médio\",'Guia de BTC'!Y:Y,IF($C$3=\"Dias de Giro\",'Guia de BTC'!Z:Z,IF($C$3=\"Aluguel vs Vista\",'Guia de BTC'!AF:AF,IF($C$3=\"Ações Alugadas\",'Guia de BTC'!AD:AD,IF($C$3=\"▲ de 1 dia\",'Guia de BTC'!AJ:AJ,IF($C$3=\"Taxa Média De Aluguel\",'Guia de BTC'!AN:AN,\"\"))))))))),MATCH(C32,'Guia de BTC'!C:C,0)),\"\"))","v":2E-3},9.2799999999999994E-2,"PLPL3"]
[null,{"$f":"IFERROR(RANK(E33,$E$5:$E$400)+COUNTIF($E$5:E33,E33)-1,\"\")","v":125},{"$f":"IF('Guia de BTC'!C35=0,\"\",'Guia de BTC'!C35)","v":"RADL3<XBSP>"},"RADL3",{"$f":"IF(C33=\"\",\"\",IFERROR(INDEX(IF($C$3=\"% IBOV\",'Guia de BTC'!H:H,IF($C$3=\"% Float Alugado\",'Guia de BTC'!R:R,IF($C$3=\"Valor Alugado\",'Guia de BTC'!T:T,IF($C$3=\"Volume Médio\",'Guia de BTC'!Y:Y,IF($C$3=\"Dias de Giro\",'Guia de BTC'!Z:Z,IF($C$3=\"Aluguel vs Vista\",'Guia de BTC'!AF:AF,IF($C$3=\"Ações Alugadas\",'Guia de BTC'!AD:AD,IF($C$3=\"▲ de 1 dia\",'Guia de BTC'!AJ:AJ,IF($C$3=\"Taxa Média De Aluguel\",'Guia de BTC'!AN:AN,\"\"))))))))),MATCH(C33,'Guia de BTC'!C:C,0)),\"\"))","v":9.4000000000000004E-3},9.2100000000000001E-2,"MDNE3"]
[null,{"$f":"IFERROR(RANK(E34,$E$5:$E$400)+COUNTIF($E$5:E34,E34)-1,\"\")","v":202},{"$f":"IF('Guia de BTC'!C36=0,\"\",'Guia de BTC'!C36)","v":"BRFS3<XBSP>"},"BRFS3",{"$f":"IF(C34=\"\",\"\",IFERROR(INDEX(IF($C$3=\"% IBOV\",'Guia de BTC'!H:H,IF($C$3=\"% Float Alugado\",'Guia de BTC'!R:R,IF($C$3=\"Valor Alugado\",'Guia de BTC'!T:T,IF($C$3=\"Volume Médio\",'Guia de BTC'!Y:Y,IF($C$3=\"Dias de Giro\",'Guia de BTC'!Z:Z,IF($C$3=\"Aluguel vs Vista\",'Guia de BTC'!AF:AF,IF($C$3=\"Ações Alugadas\",'Guia de BTC'!AD:AD,IF($C$3=\"▲ de 1 dia\",'Guia de BTC'!AJ:AJ,IF($C$3=\"Taxa Média De Aluguel\",'Guia de BTC'!AN:AN,\"\"))))))))),MATCH(C34,'Guia de BTC'!C:C,0)),\"\"))","v":1.4E-3},8.4500000000000006E-2,"POMO3"]
[null,{"$f":"IFERROR(RANK(E35,$E$5:$E$400)+COUNTIF($E$5:E35,E35)-1,\"\")","v":239},{"$f":"IF('Guia de BTC'!C37=0,\"\",'Guia de BTC'!C37)","v":"RDOR3<XBSP>"},"RDOR3",{"$f":"IF(C35=\"\",\"\",IFERROR(INDEX(IF($C$3=\"% IBOV\",'Guia de BTC'!H:H,IF($C$3=\"% Float Alugado\",'Guia de BTC'!R:R,IF($C$3=\"Valor Alugado\",'Guia de BTC'!T:T,IF($C$3=\"Volume Médio\",'Guia de BTC'!Y:Y,IF($C$3=\"Dias de Giro\",'Guia de BTC'!Z:Z,IF($C$3=\"Aluguel vs Vista\",'Guia de BTC'!AF:AF,IF($C$3=\"Ações Alugadas\",'Guia de BTC'!AD:AD,IF($C$3=\"▲ de 1 dia\",'Guia de BTC'!AJ:AJ,IF($C$3=\"Taxa Média De Aluguel\",'Guia de BTC'!AN:AN,\"\"))))))))),MATCH(C35,'Guia de BTC'!C:C,0)),\"\"))","v":2.9999999999999997E-4},0.08,"USAL11"]
[null,{"$f":"IFERROR(RANK(E36,$E$5:$E$400)+COUNTIF($E$5:E36,E36)-1,\"\")","v":85},{"$f":"IF('Guia de BTC'!C38=0,\"\",'Guia de BTC'!C38)","v":"IVVB11<XBSP>"},"IVVB11",{"$f":"IF(C36=\"\",\"\",IFERROR(INDEX(IF($C$3=\"% IBOV\",'Guia de BTC'!H:H,IF($C$3=\"% Float Alugado\",'Guia de BTC'!R:R,IF($C$3=\"Valor Alugado\",'Guia de BTC'!T:T,IF($C$3=\"Volume Médio\",'Guia de BTC'!Y:Y,IF($C$3=\"Dias de Giro\",'Guia de BTC'!Z:Z,IF($C$3=\"Aluguel vs Vista\",'Guia de BTC'!AF:AF,IF($C$3=\"Ações Alugadas\",'Guia de BTC'!AD:AD,IF($C$3=\"▲ de 1 dia\",'Guia de BTC'!AJ:AJ,IF($C$3=\"Taxa Média De Aluguel\",'Guia de BTC'!AN:AN,\"\"))))))))),MATCH(C36,'Guia de BTC'!C:C,0)),\"\"))","v":2.6200000000000001E-2},0.08,"DIVO11"]
[null,{"$f":"IFERROR(RANK(E37,$E$5:$E$400)+COUNTIF($E$5:E37,E37)-1,\"\")","v":240},{"$f":"IF('Guia de BTC'!C39=0,\"\",'Guia de BTC'!C39)","v":"JBSS3<XBSP>"},"JBSS3",{"$f":"IF(C37=\"\",\"\",IFERROR(INDEX(IF($C$3=\"% IBOV\",'Guia de BTC'!H:H,IF($C$3=\"% Float Alugado\",'Guia de BTC'!R:R,IF($C$3=\"Valor Alugado\",'Guia de BTC'!T:T,IF($C$3=\"Volume Médio\",'Guia de BTC'!Y:Y,IF($C$3=\"Dias de Giro\",'Guia de BTC'!Z:Z,IF($C$3=\"Aluguel vs Vista\",'Guia de BTC'!AF:AF,IF($C$3=\"Ações Alugadas\",'Guia de BTC'!AD:AD,IF($C$3=\"▲ de 1 dia\",'Guia de BTC'!AJ:AJ,IF($C$3=\"Taxa Média De Aluguel\",'Guia de BTC'!AN:AN,\"\"))))))))),MATCH(C37,'Guia de BTC'!C:C,0)),\"\"))","v":2.9999999999999997E-4},0.08,"PIBB11"]
[null,{"$f":"IFERROR(RANK(E38,$E$5:$E$400)+COUNTIF($E$5:E38,E38)-1,\"\")","v":241},{"$f":"IF('Guia de BTC'!C40=0,\"\",'Guia de BTC'!C40)","v":"CPLE6<XBSP>"},"CPLE6",{"$f":"IF(C38=\"\",\"\",IFERROR(INDEX(IF($C$3=\"% IBOV\",'Guia de BTC'!H:H,IF($C$3=\"% Float Alugado\",'Guia de BTC'!R:R,IF($C$3=\"Valor Alugado\",'Guia de BTC'!T:T,IF($C$3=\"Volume Médio\",'Guia de BTC'!Y:Y,IF($C$3=\"Dias de Giro\",'Guia de BTC'!Z:Z,IF($C$3=\"Aluguel vs Vista\",'Guia de BTC'!AF:AF,IF($C$3=\"Ações Alugadas\",'Guia de BTC'!AD:AD,IF($C$3=\"▲ de 1 dia\",'Guia de BTC'!AJ:AJ,IF($C$3=\"Taxa Média De Aluguel\",'Guia de BTC'!AN:AN,\"\"))))))))),MATCH(C38,'Guia de BTC'!C:C,0)),\"\"))","v":2.9999999999999997E-4},7.8100000000000003E-2,"GFSA3"]
[null,{"$f":"IFERROR(RANK(E39,$E$5:$E$400)+COUNTIF($E$5:E39,E39)-1,\"\")","v":12},{"$f":"IF('Guia de BTC'!C41=0,\"\",'Guia de BTC'!C41)","v":"ASAI3<XBSP>"},"ASAI3",{"$f":"IF(C39=\"\",\"\",IFERROR(INDEX(IF($C$3=\"% IBOV\",'Guia de BTC'!H:H,IF($C$3=\"% Float Alugado\",'Guia de BTC'!R:R,IF($C$3=\"Valor Alugado\",'Guia de BTC'!T:T,IF($C$3=\"Volume Médio\",'Guia de BTC'!Y:Y,IF($C$3=\"Dias de Giro\",'Guia de BTC'!Z:Z,IF($C$3=\"Aluguel vs Vista\",'Guia de BTC'!AF:AF,IF($C$3=\"Ações Alugadas\",'Guia de BTC'!AD:AD,IF($C$3=\"▲ de 1 dia\",'Guia de BTC'!AJ:AJ,IF($C$3=\"Taxa Média De Aluguel\",'Guia de BTC'!AN:AN,\"\"))))))))),MATCH(C39,'Guia de BTC'!C:C,0)),\"\"))","v":0.21129999999999999},7.4899999999999994E-2,"TECN3"]
[null,{"$f":"IFERROR(RANK(E40,$E$5:$E$400)+COUNTIF($E$5:E40,E40)-1,\"\")","v":71},{"$f":"IF('Guia de BTC'!C42=0,\"\",'Guia de BTC'!C42)","v":"MULT3<XBSP>"},"MULT3",{"$f":"IF(C40=\"\",\"\",IFERROR(INDEX(IF($C$3=\"% IBOV\",'Guia de BTC'!H:H,IF($C$3=\"% Float Alugado\",'Guia de BTC'!R:R,IF($C$3=\"Valor Alugado\",'Guia de BTC'!T:T,IF($C$3=\"Volume Médio\",'Guia de BTC'!Y:Y,IF($C$3=\"Dias de Giro\",'Guia de BTC'!Z:Z,IF($C$3=\"Aluguel vs Vista\",'Guia de BTC'!AF:AF,IF($C$3=\"Ações Alugadas\",'Guia de BTC'!AD:AD,IF($C$3=\"▲ de 1 dia\",'Guia de BTC'!AJ:AJ,IF($C$3=\"Taxa Média De Aluguel\",'Guia de BTC'!AN:AN,\"\"))))))))),MATCH(C40,'Guia de BTC'!C:C,0)),\"\"))","v":3.61E-2},7.4399999999999994E-2,"LAND3"]
[null,{"$f":"IFERROR(RANK(E41,$E$5:$E$400)+COUNTIF($E$5:E41,E41)-1,\"\")","v":146},{"$f":"IF('Guia de BTC'!C43=0,\"\",'Guia de BTC'!C43)","v":"TIMS3<XBSP>"},"TIMS3",{"$f":"IF(C41=\"\",\"\",IFERROR(INDEX(IF($C$3=\"% IBOV\",'Guia de BTC'!H:H,IF($C$3=\"% Float Alugado\",'Guia de BTC'!R:R,IF($C$3=\"Valor Alugado\",'Guia de BTC'!T:T,IF($C$3=\"Volume Médio\",'Guia de BTC'!Y:Y,IF($C$3=\"Dias de Giro\",'Guia de BTC'!Z:Z,IF($C$3=\"Aluguel vs Vista\",'Guia de BTC'!AF:AF,IF($C$3=\"Ações Alugadas\",'Guia de BTC'!AD:AD,IF($C$3=\"▲ de 1 dia\",'Guia de BTC'!AJ:AJ,IF($C$3=\"Taxa Média De Aluguel\",'Guia de BTC'!AN:AN,\"\"))))))))),MATCH(C41,'Guia de BTC'!C:C,0)),\"\"))","v":5.0000000000000001E-3},7.2999999999999995E-2,"EMBR3"]
[null,{"$f":"IFERROR(RANK(E42,$E$5:$E$400)+COUNTIF($E$5:E42,E42)-1,\"\")","v":142},{"$f":"IF('Guia de BTC'!C44=0,\"\",'Guia de BTC'!C44)","v":"CCRO3<XBSP>"},"CCRO3",{"$f":"IF(C42=\"\",\"\",IFERROR(INDEX(IF($C$3=\"% IBOV\",'Guia de BTC'!H:H,IF($C$3=\"% Float Alugado\",'Guia de BTC'!R:R,IF($C$3=\"Valor Alugado\",'Guia de BTC'!T:T,IF($C$3=\"Volume Médio\",'Guia de BTC'!Y:Y,IF($C$3=\"Dias de Giro\",'Guia de BTC'!Z:Z,IF($C$3=\"Aluguel vs Vista\",'Guia de BTC'!AF:AF,IF($C$3=\"Ações Alugadas\",'Guia de BTC'!AD:AD,IF($C$3=\"▲ de 1 dia\",'Guia de BTC'!AJ:AJ,IF($C$3=\"Taxa Média De Aluguel\",'Guia de BTC'!AN:AN,\"\"))))))))),MATCH(C42,'Guia de BTC'!C:C,0)),\"\"))","v":6.3E-3},7.2400000000000006E-2,"TGMA3"]
[null,{"$f":"IFERROR(RANK(E43,$E$5:$E$400)+COUNTIF($E$5:E43,E43)-1,\"\")","v":160},{"$f":"IF('Guia de BTC'!C45=0,\"\",'Guia de BTC'!C45)","v":"CXSE3<XBSP>"},"CXSE3",{"$f":"IF(C43=\"\",\"\",IFERROR(INDEX(IF($C$3=\"% IBOV\",'Guia de BTC'!H:H,IF($C$3=\"% Float Alugado\",'Guia de BTC'!R:R,IF($C$3=\"Valor Alugado\",'Guia de BTC'!T:T,IF($C$3=\"Volume Médio\",'Guia de BTC'!Y:Y,IF($C$3=\"Dias de Giro\",'Guia de BTC'!Z:Z,IF($C$3=\"Aluguel vs Vista\",'Guia de BTC'!AF:AF,IF($C$3=\"Ações Alugadas\",'Guia de BTC'!AD:AD,IF($C$3=\"▲ de 1 dia\",'Guia de BTC'!AJ:AJ,IF($C$3=\"Taxa Média De Aluguel\",'Guia de BTC'!AN:AN,\"\"))))))))),MATCH(C43,'Guia de BTC'!C:C,0)),\"\"))","v":3.7000000000000002E-3},6.9699999999999998E-2,"OPCT3"]
[null,{"$f":"IFERROR(RANK(E44,$E$5:$E$400)+COUNTIF($E$5:E44,E44)-1,\"\")","v":1},{"$f":"IF('Guia de BTC'!C46=0,\"\",'Guia de BTC'!C46)","v":"CMIN3<XBSP>"},"CMIN3",{"$f":"IF(C44=\"\",\"\",IFERROR(INDEX(IF($C$3=\"% IBOV\",'Guia de BTC'!H:H,IF($C$3=\"% Float Alugado\",'Guia de BTC'!R:R,IF($C$3=\"Valor Alugado\",'Guia de BTC'!T:T,IF($C$3=\"Volume Médio\",'Guia de BTC'!Y:Y,IF($C$3=\"Dias de Giro\",'Guia de BTC'!Z:Z,IF($C$3=\"Aluguel vs Vista\",'Guia de BTC'!AF:AF,IF($C$3=\"Ações Alugadas\",'Guia de BTC'!AD:AD,IF($C$3=\"▲ de 1 dia\",'Guia de BTC'!AJ:AJ,IF($C$3=\"Taxa Média De Aluguel\",'Guia de BTC'!AN:AN,\"\"))))))))),MATCH(C44,'Guia de BTC'!C:C,0)),\"\"))","v":0.96279999999999999},6.9500000000000006E-2,"DESK3"]
[null,{"$f":"IFERROR(RANK(E45,$E$5:$E$400)+COUNTIF($E$5:E45,E45)-1,\"\")","v":203},{"$f":"IF('Guia de BTC'!C47=0,\"\",'Guia de BTC'!C47)","v":"CSNA3<XBSP>"},"CSNA3",{"$f":"IF(C45=\"\",\"\",IFERROR(INDEX(IF($C$3=\"% IBOV\",'Guia de BTC'!H:H,IF($C$3=\"% Float Alugado\",'Guia de BTC'!R:R,IF($C$3=\"Valor Alugado\",'Guia de BTC'!T:T,IF($C$3=\"Volume Médio\",'Guia de BTC'!Y:Y,IF($C$3=\"Dias de Giro\",'Guia de BTC'!Z:Z,IF($C$3=\"Aluguel vs Vista\",'Guia de BTC'!AF:AF,IF($C$3=\"Ações Alugadas\",'Guia de BTC'!AD:AD,IF($C$3=\"▲ de 1 dia\",'Guia de BTC'!AJ:AJ,IF($C$3=\"Taxa Média De Aluguel\",'Guia de BTC'!AN:AN,\"\"))))))))),MATCH(C45,'Guia de BTC'!C:C,0)),\"\"))","v":1.4E-3},6.93E-2,"SAPR4"]
[null,{"$f":"IFERROR(RANK(E46,$E$5:$E$400)+COUNTIF($E$5:E46,E46)-1,\"\")","v":217},{"$f":"IF('Guia de BTC'!C48=0,\"\",'Guia de BTC'!C48)","v":"SBSP3<XBSP>"},"SBSP3",{"$f":"IF(C46=\"\",\"\",IFERROR(INDEX(IF($C$3=\"% IBOV\",'Guia de BTC'!H:H,IF($C$3=\"% Float Alugado\",'Guia de BTC'!R:R,IF($C$3=\"Valor Alugado\",'Guia de BTC'!T:T,IF($C$3=\"Volume Médio\",'Guia de BTC'!Y:Y,IF($C$3=\"Dias de Giro\",'Guia de BTC'!Z:Z,IF($C$3=\"Aluguel vs Vista\",'Guia de BTC'!AF:AF,IF($C$3=\"Ações Alugadas\",'Guia de BTC'!AD:AD,IF($C$3=\"▲ de 1 dia\",'Guia de BTC'!AJ:AJ,IF($C$3=\"Taxa Média De Aluguel\",'Guia de BTC'!AN:AN,\"\"))))))))),MATCH(C46,'Guia de BTC'!C:C,0)),\"\"))","v":6.9999999999999999E-4},6.9099999999999995E-2,"LUPA3"]
[null,{"$f":"IFERROR(RANK(E47,$E$5:$E$400)+COUNTIF($E$5:E47,E47)-1,\"\")","v":174},{"$f":"IF('Guia de BTC'!C49=0,\"\",'Guia de BTC'!C49)","v":"KLBN11<XBSP>"},"KLBN11",{"$f":"IF(C47=\"\",\"\",IFERROR(INDEX(IF($C$3=\"% IBOV\",'Guia de BTC'!H:H,IF($C$3=\"% Float Alugado\",'Guia de BTC'!R:R,IF($C$3=\"Valor Alugado\",'Guia de BTC'!T:T,IF($C$3=\"Volume Médio\",'Guia de BTC'!Y:Y,IF($C$3=\"Dias de Giro\",'Guia de BTC'!Z:Z,IF($C$3=\"Aluguel vs Vista\",'Guia de BTC'!AF:AF,IF($C$3=\"Ações Alugadas\",'Guia de BTC'!AD:AD,IF($C$3=\"▲ de 1 dia\",'Guia de BTC'!AJ:AJ,IF($C$3=\"Taxa Média De Aluguel\",'Guia de BTC'!AN:AN,\"\"))))))))),MATCH(C47,'Guia de BTC'!C:C,0)),\"\"))","v":2.5000000000000001E-3},6.8500000000000005E-2,"PINE4"]
[null,{"$f":"IFERROR(RANK(E48,$E$5:$E$400)+COUNTIF($E$5:E48,E48)-1,\"\")","v":221},{"$f":"IF('Guia de BTC'!C50=0,\"\",'Guia de BTC'!C50)","v":"CSAN3<XBSP>"},"CSAN3",{"$f":"IF(C48=\"\",\"\",IFERROR(INDEX(IF($C$3=\"% IBOV\",'Guia de BTC'!H:H,IF($C$3=\"% Float Alugado\",'Guia de BTC'!R:R,IF($C$3=\"Valor Alugado\",'Guia de BTC'!T:T,IF($C$3=\"Volume Médio\",'Guia de BTC'!Y:Y,IF($C$3=\"Dias de Giro\",'Guia de BTC'!Z:Z,IF($C$3=\"Aluguel vs Vista\",'Guia de BTC'!AF:AF,IF($C$3=\"Ações Alugadas\",'Guia de BTC'!AD:AD,IF($C$3=\"▲ de 1 dia\",'Guia de BTC'!AJ:AJ,IF($C$3=\"Taxa Média De Aluguel\",'Guia de BTC'!AN:AN,\"\"))))))))),MATCH(C48,'Guia de BTC'!C:C,0)),\"\"))","v":5.9999999999999995E-4},6.7100000000000007E-2,"ALPK3"]
[null,{"$f":"IFERROR(RANK(E49,$E$5:$E$400)+COUNTIF($E$5:E49,E49)-1,\"\")","v":242},{"$f":"IF('Guia de BTC'!C51=0,\"\",'Guia de BTC'!C51)","v":"CYRE3<XBSP>"},"CYRE3",{"$f":"IF(C49=\"\",\"\",IFERROR(INDEX(IF($C$3=\"% IBOV\",'Guia de BTC'!H:H,IF($C$3=\"% Float Alugado\",'Guia de BTC'!R:R,IF($C$3=\"Valor Alugado\",'Guia de BTC'!T:T,IF($C$3=\"Volume Médio\",'Guia de BTC'!Y:Y,IF($C$3=\"Dias de Giro\",'Guia de BTC'!Z:Z,IF($C$3=\"Aluguel vs Vista\",'Guia de BTC'!AF:AF,IF($C$3=\"Ações Alugadas\",'Guia de BTC'!AD:AD,IF($C$3=\"▲ de 1 dia\",'Guia de BTC'!AJ:AJ,IF($C$3=\"Taxa Média De Aluguel\",'Guia de BTC'!AN:AN,\"\"))))))))),MATCH(C49,'Guia de BTC'!C:C,0)),\"\"))","v":2.9999999999999997E-4},6.4399999999999999E-2,"KRSA3"]
[null,{"$f":"IFERROR(RANK(E50,$E$5:$E$400)+COUNTIF($E$5:E50,E50)-1,\"\")","v":74},{"$f":"IF('Guia de BTC'!C52=0,\"\",'Guia de BTC'!C52)","v":"SMFT3<XBSP>"},"SMFT3",{"$f":"IF(C50=\"\",\"\",IFERROR(INDEX(IF($C$3=\"% IBOV\",'Guia de BTC'!H:H,IF($C$3=\"% Float Alugado\",'Guia de BTC'!R:R,IF($C$3=\"Valor Alugado\",'Guia de BTC'!T:T,IF($C$3=\"Volume Médio\",'Guia de BTC'!Y:Y,IF($C$3=\"Dias de Giro\",'Guia de BTC'!Z:Z,IF($C$3=\"Aluguel vs Vista\",'Guia de BTC'!AF:AF,IF($C$3=\"Ações Alugadas\",'Guia de BTC'!AD:AD,IF($C$3=\"▲ de 1 dia\",'Guia de BTC'!AJ:AJ,IF($C$3=\"Taxa Média De Aluguel\",'Guia de BTC'!AN:AN,\"\"))))))))),MATCH(C50,'Guia de BTC'!C:C,0)),\"\"))","v":3.4000000000000002E-2},6.3E-2,"TAEE3"]
[null,{"$f":"IFERROR(RANK(E51,$E$5:$E$400)+COUNTIF($E$5:E51,E51)-1,\"\")","v":76},{"$f":"IF('Guia de BTC'!C53=0,\"\",'Guia de BTC'!C53)","v":"AZZA3<XBSP>"},"AZZA3",{"$f":"IF(C51=\"\",\"\",IFERROR(INDEX(IF($C$3=\"% IBOV\",'Guia de BTC'!H:H,IF($C$3=\"% Float Alugado\",'Guia de BTC'!R:R,IF($C$3=\"Valor Alugado\",'Guia de BTC'!T:T,IF($C$3=\"Volume Médio\",'Guia de BTC'!Y:Y,IF($C$3=\"Dias de Giro\",'Guia de BTC'!Z:Z,IF($C$3=\"Aluguel vs Vista\",'Guia de BTC'!AF:AF,IF($C$3=\"Ações Alugadas\",'Guia de BTC'!AD:AD,IF($C$3=\"▲ de 1 dia\",'Guia de BTC'!AJ:AJ,IF($C$3=\"Taxa Média De Aluguel\",'Guia de BTC'!AN:AN,\"\"))))))))),MATCH(C51,'Guia de BTC'!C:C,0)),\"\"))","v":3.3099999999999997E-2},6.1600000000000002E-2,"NGRD3"]
[null,{"$f":"IFERROR(RANK(E52,$E$5:$E$400)+COUNTIF($E$5:E52,E52)-1,\"\")","v":5},{"$f":"IF('Guia de BTC'!C54=0,\"\",'Guia de BTC'!C54)","v":"CRFB3<XBSP>"},"CRFB3",{"$f":"IF(C52=\"\",\"\",IFERROR(INDEX(IF($C$3=\"% IBOV\",'Guia de BTC'!H:H,IF($C$3=\"% Float Alugado\",'Guia de BTC'!R:R,IF($C$3=\"Valor Alugado\",'Guia de BTC'!T:T,IF($C$3=\"Volume Médio\",'Guia de BTC'!Y:Y,IF($C$3=\"Dias de Giro\",'Guia de BTC'!Z:Z,IF($C$3=\"Aluguel vs Vista\",'Guia de BTC'!AF:AF,IF($C$3=\"Ações Alugadas\",'Guia de BTC'!AD:AD,IF($C$3=\"▲ de 1 dia\",'Guia de BTC'!AJ:AJ,IF($C$3=\"Taxa Média De Aluguel\",'Guia de BTC'!AN:AN,\"\"))))))))),MATCH(C52,'Guia de BTC'!C:C,0)),\"\"))","v":0.4118},6.0600000000000001E-2,"PGMN3"]
[null,{"$f":"IFERROR(RANK(E53,$E$5:$E$400)+COUNTIF($E$5:E53,E53)-1,\"\")","v":128},{"$f":"IF('Guia de BTC'!C55=0,\"\",'Guia de BTC'!C55)","v":"LREN3<XBSP>"},"LREN3",{"$f":"IF(C53=\"\",\"\",IFERROR(INDEX(IF($C$3=\"% IBOV\",'Guia de BTC'!H:H,IF($C$3=\"% Float Alugado\",'Guia de BTC'!R:R,IF($C$3=\"Valor Alugado\",'Guia de BTC'!T:T,IF($C$3=\"Volume Médio\",'Guia de BTC'!Y:Y,IF($C$3=\"Dias de Giro\",'Guia de BTC'!Z:Z,IF($C$3=\"Aluguel vs Vista\",'Guia de BTC'!AF:AF,IF($C$3=\"Ações Alugadas\",'Guia de BTC'!AD:AD,IF($C$3=\"▲ de 1 dia\",'Guia de BTC'!AJ:AJ,IF($C$3=\"Taxa Média De Aluguel\",'Guia de BTC'!AN:AN,\"\"))))))))),MATCH(C53,'Guia de BTC'!C:C,0)),\"\"))","v":9.1000000000000004E-3},5.5899999999999998E-2,"LIGT3"]
[null,{"$f":"IFERROR(RANK(E54,$E$5:$E$400)+COUNTIF($E$5:E54,E54)-1,\"\")","v":186},{"$f":"IF('Guia de BTC'!C56=0,\"\",'Guia de BTC'!C56)","v":"SLCE3<XBSP>"},"SLCE3",{"$f":"IF(C54=\"\",\"\",IFERROR(INDEX(IF($C$3=\"% IBOV\",'Guia de BTC'!H:H,IF($C$3=\"% Float Alugado\",'Guia de BTC'!R:R,IF($C$3=\"Valor Alugado\",'Guia de BTC'!T:T,IF($C$3=\"Volume Médio\",'Guia de BTC'!Y:Y,IF($C$3=\"Dias de Giro\",'Guia de BTC'!Z:Z,IF($C$3=\"Aluguel vs Vista\",'Guia de BTC'!AF:AF,IF($C$3=\"Ações Alugadas\",'Guia de BTC'!AD:AD,IF($C$3=\"▲ de 1 dia\",'Guia de BTC'!AJ:AJ,IF($C$3=\"Taxa Média De Aluguel\",'Guia de BTC'!AN:AN,\"\"))))))))),MATCH(C54,'Guia de BTC'!C:C,0)),\"\"))","v":1.9E-3},5.4800000000000001E-2,"PFRM3"]
[null,{"$f":"IFERROR(RANK(E55,$E$5:$E$400)+COUNTIF($E$5:E55,E55)-1,\"\")","v":243},{"$f":"IF('Guia de BTC'!C57=0,\"\",'Guia de BTC'!C57)","v":"ENEV3<XBSP>"},"ENEV3",{"$f":"IF(C55=\"\",\"\",IFERROR(INDEX(IF($C$3=\"% IBOV\",'Guia de BTC'!H:H,IF($C$3=\"% Float Alugado\",'Guia de BTC'!R:R,IF($C$3=\"Valor Alugado\",'Guia de BTC'!T:T,IF($C$3=\"Volume Médio\",'Guia de BTC'!Y:Y,IF($C$3=\"Dias de Giro\",'Guia de BTC'!Z:Z,IF($C$3=\"Aluguel vs Vista\",'Guia de BTC'!AF:AF,IF($C$3=\"Ações Alugadas\",'Guia de BTC'!AD:AD,IF($C$3=\"▲ de 1 dia\",'Guia de BTC'!AJ:AJ,IF($C$3=\"Taxa Média De Aluguel\",'Guia de BTC'!AN:AN,\"\"))))))))),MATCH(C55,'Guia de BTC'!C:C,0)),\"\"))","v":2.9999999999999997E-4},5.3400000000000003E-2,"IGTI3"]
[null,{"$f":"IFERROR(RANK(E56,$E$5:$E$400)+COUNTIF($E$5:E56,E56)-1,\"\")","v":230},{"$f":"IF('Guia de BTC'!C58=0,\"\",'Guia de BTC'!C58)","v":"HAPV3<XBSP>"},"HAPV3",{"$f":"IF(C56=\"\",\"\",IFERROR(INDEX(IF($C$3=\"% IBOV\",'Guia de BTC'!H:H,IF($C$3=\"% Float Alugado\",'Guia de BTC'!R:R,IF($C$3=\"Valor Alugado\",'Guia de BTC'!T:T,IF($C$3=\"Volume Médio\",'Guia de BTC'!Y:Y,IF($C$3=\"Dias de Giro\",'Guia de BTC'!Z:Z,IF($C$3=\"Aluguel vs Vista\",'Guia de BTC'!AF:AF,IF($C$3=\"Ações Alugadas\",'Guia de BTC'!AD:AD,IF($C$3=\"▲ de 1 dia\",'Guia de BTC'!AJ:AJ,IF($C$3=\"Taxa Média De Aluguel\",'Guia de BTC'!AN:AN,\"\"))))))))),MATCH(C56,'Guia de BTC'!C:C,0)),\"\"))","v":5.0000000000000001E-4},5.0299999999999997E-2,"VIVR3"]
[null,{"$f":"IFERROR(RANK(E57,$E$5:$E$400)+COUNTIF($E$5:E57,E57)-1,\"\")","v":196},{"$f":"IF('Guia de BTC'!C59=0,\"\",'Guia de BTC'!C59)","v":"MRVE3<XBSP>"},"MRVE3",{"$f":"IF(C57=\"\",\"\",IFERROR(INDEX(IF($C$3=\"% IBOV\",'Guia de BTC'!H:H,IF($C$3=\"% Float Alugado\",'Guia de BTC'!R:R,IF($C$3=\"Valor Alugado\",'Guia de BTC'!T:T,IF($C$3=\"Volume Médio\",'Guia de BTC'!Y:Y,IF($C$3=\"Dias de Giro\",'Guia de BTC'!Z:Z,IF($C$3=\"Aluguel vs Vista\",'Guia de BTC'!AF:AF,IF($C$3=\"Ações Alugadas\",'Guia de BTC'!AD:AD,IF($C$3=\"▲ de 1 dia\",'Guia de BTC'!AJ:AJ,IF($C$3=\"Taxa Média De Aluguel\",'Guia de BTC'!AN:AN,\"\"))))))))),MATCH(C57,'Guia de BTC'!C:C,0)),\"\"))","v":1.5E-3},5.0099999999999999E-2,"AALR3"]
[null,{"$f":"IFERROR(RANK(E58,$E$5:$E$400)+COUNTIF($E$5:E58,E58)-1,\"\")","v":119},{"$f":"IF('Guia de BTC'!C60=0,\"\",'Guia de BTC'!C60)","v":"AURE3<XBSP>"},"AURE3",{"$f":"IF(C58=\"\",\"\",IFERROR(INDEX(IF($C$3=\"% IBOV\",'Guia de BTC'!H:H,IF($C$3=\"% Float Alugado\",'Guia de BTC'!R:R,IF($C$3=\"Valor Alugado\",'Guia de BTC'!T:T,IF($C$3=\"Volume Médio\",'Guia de BTC'!Y:Y,IF($C$3=\"Dias de Giro\",'Guia de BTC'!Z:Z,IF($C$3=\"Aluguel vs Vista\",'Guia de BTC'!AF:AF,IF($C$3=\"Ações Alugadas\",'Guia de BTC'!AD:AD,IF($C$3=\"▲ de 1 dia\",'Guia de BTC'!AJ:AJ,IF($C$3=\"Taxa Média De Aluguel\",'Guia de BTC'!AN:AN,\"\"))))))))),MATCH(C58,'Guia de BTC'!C:C,0)),\"\"))","v":1.0500000000000001E-2},0.05,"SMAC11"]
[null,{"$f":"IFERROR(RANK(E59,$E$5:$E$400)+COUNTIF($E$5:E59,E59)-1,\"\")","v":247},{"$f":"IF('Guia de BTC'!C61=0,\"\",'Guia de BTC'!C61)","v":"ELET6<XBSP>"},"ELET6",{"$f":"IF(C59=\"\",\"\",IFERROR(INDEX(IF($C$3=\"% IBOV\",'Guia de BTC'!H:H,IF($C$3=\"% Float Alugado\",'Guia de BTC'!R:R,IF($C$3=\"Valor Alugado\",'Guia de BTC'!T:T,IF($C$3=\"Volume Médio\",'Guia de BTC'!Y:Y,IF($C$3=\"Dias de Giro\",'Guia de BTC'!Z:Z,IF($C$3=\"Aluguel vs Vista\",'Guia de BTC'!AF:AF,IF($C$3=\"Ações Alugadas\",'Guia de BTC'!AD:AD,IF($C$3=\"▲ de 1 dia\",'Guia de BTC'!AJ:AJ,IF($C$3=\"Taxa Média De Aluguel\",'Guia de BTC'!AN:AN,\"\"))))))))),MATCH(C59,'Guia de BTC'!C:C,0)),\"\"))","v":2.0000000000000001E-4},0.05,"BRAX11"]
[null,{"$f":"IFERROR(RANK(E60,$E$5:$E$400)+COUNTIF($E$5:E60,E60)-1,\"\")","v":168},{"$f":"IF('Guia de BTC'!C62=0,\"\",'Guia de BTC'!C62)","v":"VAMO3<XBSP>"},"VAMO3",{"$f":"IF(C60=\"\",\"\",IFERROR(INDEX(IF($C$3=\"% IBOV\",'Guia de BTC'!H:H,IF($C$3=\"% Float Alugado\",'Guia de BTC'!R:R,IF($C$3=\"Valor Alugado\",'Guia de BTC'!T:T,IF($C$3=\"Volume Médio\",'Guia de BTC'!Y:Y,IF($C$3=\"Dias de Giro\",'Guia de BTC'!Z:Z,IF($C$3=\"Aluguel vs Vista\",'Guia de BTC'!AF:AF,IF($C$3=\"Ações Alugadas\",'Guia de BTC'!AD:AD,IF($C$3=\"▲ de 1 dia\",'Guia de BTC'!AJ:AJ,IF($C$3=\"Taxa Média De Aluguel\",'Guia de BTC'!AN:AN,\"\"))))))))),MATCH(C60,'Guia de BTC'!C:C,0)),\"\"))","v":3.3E-3},0.05,"VITT3"]
[null,{"$f":"IFERROR(RANK(E61,$E$5:$E$400)+COUNTIF($E$5:E61,E61)-1,\"\")","v":231},{"$f":"IF('Guia de BTC'!C63=0,\"\",'Guia de BTC'!C63)","v":"GMAT3<XBSP>"},"GMAT3",{"$f":"IF(C61=\"\",\"\",IFERROR(INDEX(IF($C$3=\"% IBOV\",'Guia de BTC'!H:H,IF($C$3=\"% Float Alugado\",'Guia de BTC'!R:R,IF($C$3=\"Valor Alugado\",'Guia de BTC'!T:T,IF($C$3=\"Volume Médio\",'Guia de BTC'!Y:Y,IF($C$3=\"Dias de Giro\",'Guia de BTC'!Z:Z,IF($C$3=\"Aluguel vs Vista\",'Guia de BTC'!AF:AF,IF($C$3=\"Ações Alugadas\",'Guia de BTC'!AD:AD,IF($C$3=\"▲ de 1 dia\",'Guia de BTC'!AJ:AJ,IF($C$3=\"Taxa Média De Aluguel\",'Guia de BTC'!AN:AN,\"\"))))))))),MATCH(C61,'Guia de BTC'!C:C,0)),\"\"))","v":5.0000000000000001E-4},0.05,"TFCO4"]
[null,{"$f":"IFERROR(RANK(E62,$E$5:$E$400)+COUNTIF($E$5:E62,E62)-1,\"\")","v":60},{"$f":"IF('Guia de BTC'!C64=0,\"\",'Guia de BTC'!C64)","v":"TOTS3<XBSP>"},"TOTS3",{"$f":"IF(C62=\"\",\"\",IFERROR(INDEX(IF($C$3=\"% IBOV\",'Guia de BTC'!H:H,IF($C$3=\"% Float Alugado\",'Guia de BTC'!R:R,IF($C$3=\"Valor Alugado\",'Guia de BTC'!T:T,IF($C$3=\"Volume Médio\",'Guia de BTC'!Y:Y,IF($C$3=\"Dias de Giro\",'Guia de BTC'!Z:Z,IF($C$3=\"Aluguel vs Vista\",'Guia de BTC'!AF:AF,IF($C$3=\"Ações Alugadas\",'Guia de BTC'!AD:AD,IF($C$3=\"▲ de 1 dia\",'Guia de BTC'!AJ:AJ,IF($C$3=\"Taxa Média De Aluguel\",'Guia de BTC'!AN:AN,\"\"))))))))),MATCH(C62,'Guia de BTC'!C:C,0)),\"\"))","v":4.2900000000000001E-2},4.9500000000000002E-2,"AGXY3"]
[null,{"$f":"IFERROR(RANK(E63,$E$5:$E$400)+COUNTIF($E$5:E63,E63)-1,\"\")","v":248},{"$f":"IF('Guia de BTC'!C65=0,\"\",'Guia de BTC'!C65)","v":"VBBR3<XBSP>"},"VBBR3",{"$f":"IF(C63=\"\",\"\",IFERROR(INDEX(IF($C$3=\"% IBOV\",'Guia de BTC'!H:H,IF($C$3=\"% Float Alugado\",'Guia de BTC'!R:R,IF($C$3=\"Valor Alugado\",'Guia de BTC'!T:T,IF($C$3=\"Volume Médio\",'Guia de BTC'!Y:Y,IF($C$3=\"Dias de Giro\",'Guia de BTC'!Z:Z,IF($C$3=\"Aluguel vs Vista\",'Guia de BTC'!AF:AF,IF($C$3=\"Ações Alugadas\",'Guia de BTC'!AD:AD,IF($C$3=\"▲ de 1 dia\",'Guia de BTC'!AJ:AJ,IF($C$3=\"Taxa Média De Aluguel\",'Guia de BTC'!AN:AN,\"\"))))))))),MATCH(C63,'Guia de BTC'!C:C,0)),\"\"))","v":2.0000000000000001E-4},4.4999999999999998E-2,"PCAR3"]
[null,{"$f":"IFERROR(RANK(E64,$E$5:$E$400)+COUNTIF($E$5:E64,E64)-1,\"\")","v":234},{"$f":"IF('Guia de BTC'!C66=0,\"\",'Guia de BTC'!C66)","v":"UGPA3<XBSP>"},"UGPA3",{"$f":"IF(C64=\"\",\"\",IFERROR(INDEX(IF($C$3=\"% IBOV\",'Guia de BTC'!H:H,IF($C$3=\"% Float Alugado\",'Guia de BTC'!R:R,IF($C$3=\"Valor Alugado\",'Guia de BTC'!T:T,IF($C$3=\"Volume Médio\",'Guia de BTC'!Y:Y,IF($C$3=\"Dias de Giro\",'Guia de BTC'!Z:Z,IF($C$3=\"Aluguel vs Vista\",'Guia de BTC'!AF:AF,IF($C$3=\"Ações Alugadas\",'Guia de BTC'!AD:AD,IF($C$3=\"▲ de 1 dia\",'Guia de BTC'!AJ:AJ,IF($C$3=\"Taxa Média De Aluguel\",'Guia de BTC'!AN:AN,\"\"))))))))),MATCH(C64,'Guia de BTC'!C:C,0)),\"\"))","v":4.0000000000000002E-4},4.2900000000000001E-2,"TOTS3"]
[null,{"$f":"IFERROR(RANK(E65,$E$5:$E$400)+COUNTIF($E$5:E65,E65)-1,\"\")","v":21},{"$f":"IF('Guia de BTC'!C67=0,\"\",'Guia de BTC'!C67)","v":"RAIZ4<XBSP>"},"RAIZ4",{"$f":"IF(C65=\"\",\"\",IFERROR(INDEX(IF($C$3=\"% IBOV\",'Guia de BTC'!H:H,IF($C$3=\"% Float Alugado\",'Guia de BTC'!R:R,IF($C$3=\"Valor Alugado\",'Guia de BTC'!T:T,IF($C$3=\"Volume Médio\",'Guia de BTC'!Y:Y,IF($C$3=\"Dias de Giro\",'Guia de BTC'!Z:Z,IF($C$3=\"Aluguel vs Vista\",'Guia de BTC'!AF:AF,IF($C$3=\"Ações Alugadas\",'Guia de BTC'!AD:AD,IF($C$3=\"▲ de 1 dia\",'Guia de BTC'!AJ:AJ,IF($C$3=\"Taxa Média De Aluguel\",'Guia de BTC'!AN:AN,\"\"))))))))),MATCH(C65,'Guia de BTC'!C:C,0)),\"\"))","v":0.106},4.2799999999999998E-2,"PORT3"]
[null,{"$f":"IFERROR(RANK(E66,$E$5:$E$400)+COUNTIF($E$5:E66,E66)-1,\"\")","v":140},{"$f":"IF('Guia de BTC'!C68=0,\"\",'Guia de BTC'!C68)","v":"BRKM5<XBSP>"},"BRKM5",{"$f":"IF(C66=\"\",\"\",IFERROR(INDEX(IF($C$3=\"% IBOV\",'Guia de BTC'!H:H,IF($C$3=\"% Float Alugado\",'Guia de BTC'!R:R,IF($C$3=\"Valor Alugado\",'Guia de BTC'!T:T,IF($C$3=\"Volume Médio\",'Guia de BTC'!Y:Y,IF($C$3=\"Dias de Giro\",'Guia de BTC'!Z:Z,IF($C$3=\"Aluguel vs Vista\",'Guia de BTC'!AF:AF,IF($C$3=\"Ações Alugadas\",'Guia de BTC'!AD:AD,IF($C$3=\"▲ de 1 dia\",'Guia de BTC'!AJ:AJ,IF($C$3=\"Taxa Média De Aluguel\",'Guia de BTC'!AN:AN,\"\"))))))))),MATCH(C66,'Guia de BTC'!C:C,0)),\"\"))","v":6.7000000000000002E-3},3.9800000000000002E-2,"DASA3"]
[null,{"$f":"IFERROR(RANK(E67,$E$5:$E$400)+COUNTIF($E$5:E67,E67)-1,\"\")","v":209},{"$f":"IF('Guia de BTC'!C69=0,\"\",'Guia de BTC'!C69)","v":"IGTI11<XBSP>"},"IGTI11",{"$f":"IF(C67=\"\",\"\",IFERROR(INDEX(IF($C$3=\"% IBOV\",'Guia de BTC'!H:H,IF($C$3=\"% Float Alugado\",'Guia de BTC'!R:R,IF($C$3=\"Valor Alugado\",'Guia de BTC'!T:T,IF($C$3=\"Volume Médio\",'Guia de BTC'!Y:Y,IF($C$3=\"Dias de Giro\",'Guia de BTC'!Z:Z,IF($C$3=\"Aluguel vs Vista\",'Guia de BTC'!AF:AF,IF($C$3=\"Ações Alugadas\",'Guia de BTC'!AD:AD,IF($C$3=\"▲ de 1 dia\",'Guia de BTC'!AJ:AJ,IF($C$3=\"Taxa Média De Aluguel\",'Guia de BTC'!AN:AN,\"\"))))))))),MATCH(C67,'Guia de BTC'!C:C,0)),\"\"))","v":1.1999999999999999E-3},3.9800000000000002E-2,"USIM3"]
[null,{"$f":"IFERROR(RANK(E68,$E$5:$E$400)+COUNTIF($E$5:E68,E68)-1,\"\")","v":161},{"$f":"IF('Guia de BTC'!C70=0,\"\",'Guia de BTC'!C70)","v":"ALOS3<XBSP>"},"ALOS3",{"$f":"IF(C68=\"\",\"\",IFERROR(INDEX(IF($C$3=\"% IBOV\",'Guia de BTC'!H:H,IF($C$3=\"% Float Alugado\",'Guia de BTC'!R:R,IF($C$3=\"Valor Alugado\",'Guia de BTC'!T:T,IF($C$3=\"Volume Médio\",'Guia de BTC'!Y:Y,IF($C$3=\"Dias de Giro\",'Guia de BTC'!Z:Z,IF($C$3=\"Aluguel vs Vista\",'Guia de BTC'!AF:AF,IF($C$3=\"Ações Alugadas\",'Guia de BTC'!AD:AD,IF($C$3=\"▲ de 1 dia\",'Guia de BTC'!AJ:AJ,IF($C$3=\"Taxa Média De Aluguel\",'Guia de BTC'!AN:AN,\"\"))))))))),MATCH(C68,'Guia de BTC'!C:C,0)),\"\"))","v":3.5999999999999999E-3},3.9600000000000003E-2,"GOAU3"]
[null,{"$f":"IFERROR(RANK(E69,$E$5:$E$400)+COUNTIF($E$5:E69,E69)-1,\"\")","v":147},{"$f":"IF('Guia de BTC'!C71=0,\"\",'Guia de BTC'!C71)","v":"RAIL3<XBSP>"},"RAIL3",{"$f":"IF(C69=\"\",\"\",IFERROR(INDEX(IF($C$3=\"% IBOV\",'Guia de BTC'!H:H,IF($C$3=\"% Float Alugado\",'Guia de BTC'!R:R,IF($C$3=\"Valor Alugado\",'Guia de BTC'!T:T,IF($C$3=\"Volume Médio\",'Guia de BTC'!Y:Y,IF($C$3=\"Dias de Giro\",'Guia de BTC'!Z:Z,IF($C$3=\"Aluguel vs Vista\",'Guia de BTC'!AF:AF,IF($C$3=\"Ações Alugadas\",'Guia de BTC'!AD:AD,IF($C$3=\"▲ de 1 dia\",'Guia de BTC'!AJ:AJ,IF($C$3=\"Taxa Média De Aluguel\",'Guia de BTC'!AN:AN,\"\"))))))))),MATCH(C69,'Guia de BTC'!C:C,0)),\"\"))","v":5.0000000000000001E-3},3.9100000000000003E-2,"HBRE3"]
[null,{"$f":"IFERROR(RANK(E70,$E$5:$E$400)+COUNTIF($E$5:E70,E70)-1,\"\")","v":103},{"$f":"IF('Guia de BTC'!C72=0,\"\",'Guia de BTC'!C72)","v":"MGLU3<XBSP>"},"MGLU3",{"$f":"IF(C70=\"\",\"\",IFERROR(INDEX(IF($C$3=\"% IBOV\",'Guia de BTC'!H:H,IF($C$3=\"% Float Alugado\",'Guia de BTC'!R:R,IF($C$3=\"Valor Alugado\",'Guia de BTC'!T:T,IF($C$3=\"Volume Médio\",'Guia de BTC'!Y:Y,IF($C$3=\"Dias de Giro\",'Guia de BTC'!Z:Z,IF($C$3=\"Aluguel vs Vista\",'Guia de BTC'!AF:AF,IF($C$3=\"Ações Alugadas\",'Guia de BTC'!AD:AD,IF($C$3=\"▲ de 1 dia\",'Guia de BTC'!AJ:AJ,IF($C$3=\"Taxa Média De Aluguel\",'Guia de BTC'!AN:AN,\"\"))))))))),MATCH(C70,'Guia de BTC'!C:C,0)),\"\"))","v":1.66E-2},3.85E-2,"SMAL11"]
[null,{"$f":"IFERROR(RANK(E71,$E$5:$E$400)+COUNTIF($E$5:E71,E71)-1,\"\")","v":116},{"$f":"IF('Guia de BTC'!C73=0,\"\",'Guia de BTC'!C73)","v":"CURY3<XBSP>"},"CURY3",{"$f":"IF(C71=\"\",\"\",IFERROR(INDEX(IF($C$3=\"% IBOV\",'Guia de BTC'!H:H,IF($C$3=\"% Float Alugado\",'Guia de BTC'!R:R,IF($C$3=\"Valor Alugado\",'Guia de BTC'!T:T,IF($C$3=\"Volume Médio\",'Guia de BTC'!Y:Y,IF($C$3=\"Dias de Giro\",'Guia de BTC'!Z:Z,IF($C$3=\"Aluguel vs Vista\",'Guia de BTC'!AF:AF,IF($C$3=\"Ações Alugadas\",'Guia de BTC'!AD:AD,IF($C$3=\"▲ de 1 dia\",'Guia de BTC'!AJ:AJ,IF($C$3=\"Taxa Média De Aluguel\",'Guia de BTC'!AN:AN,\"\"))))))))),MATCH(C71,'Guia de BTC'!C:C,0)),\"\"))","v":1.14E-2},{"$f":"IF(C71=\"\",\"\",IFERROR(VLOOKUP(ROW()-4,$B$3:$E$600,4,FALSE),\"\"))","v":3.8399999999999997E-2},{"$f":"IF(C71=\"\",\"\",IFERROR(VLOOKUP(ROW()-4,$B$3:$E$600,3,FALSE),\"\"))","v":"OIBR3"}]
[null,{"$f":"IFERROR(RANK(E72,$E$5:$E$400)+COUNTIF($E$5:E72,E72)-1,\"\")","v":152},{"$f":"IF('Guia de BTC'!C74=0,\"\",'Guia de BTC'!C74)","v":"HYPE3<XBSP>"},"HYPE3",{"$f":"IF(C72=\"\",\"\",IFERROR(INDEX(IF($C$3=\"% IBOV\",'Guia de BTC'!H:H,IF($C$3=\"% Float Alugado\",'Guia de BTC'!R:R,IF($C$3=\"Valor Alugado\",'Guia de BTC'!T:T,IF($C$3=\"Volume Médio\",'Guia de BTC'!Y:Y,IF($C$3=\"Dias de Giro\",'Guia de BTC'!Z:Z,IF($C$3=\"Aluguel vs Vista\",'Guia de BTC'!AF:AF,IF($C$3=\"Ações Alugadas\",'Guia de BTC'!AD:AD,IF($C$3=\"▲ de 1 dia\",'Guia de BTC'!AJ:AJ,IF($C$3=\"Taxa Média De Aluguel\",'Guia de BTC'!AN:AN,\"\"))))))))),MATCH(C72,'Guia de BTC'!C:C,0)),\"\"))","v":4.5999999999999999E-3},3.7999999999999999E-2,"CLSA3"]
[null,{"$f":"IFERROR(RANK(E73,$E$5:$E$400)+COUNTIF($E$5:E73,E73)-1,\"\")","v":190},{"$f":"IF('Guia de BTC'!C75=0,\"\",'Guia de BTC'!C75)","v":"BRAP4<XBSP>"},"BRAP4",{"$f":"IF(C73=\"\",\"\",IFERROR(INDEX(IF($C$3=\"% IBOV\",'Guia de BTC'!H:H,IF($C$3=\"% Float Alugado\",'Guia de BTC'!R:R,IF($C$3=\"Valor Alugado\",'Guia de BTC'!T:T,IF($C$3=\"Volume Médio\",'Guia de BTC'!Y:Y,IF($C$3=\"Dias de Giro\",'Guia de BTC'!Z:Z,IF($C$3=\"Aluguel vs Vista\",'Guia de BTC'!AF:AF,IF($C$3=\"Ações Alugadas\",'Guia de BTC'!AD:AD,IF($C$3=\"▲ de 1 dia\",'Guia de BTC'!AJ:AJ,IF($C$3=\"Taxa Média De Aluguel\",'Guia de BTC'!AN:AN,\"\"))))))))),MATCH(C73,'Guia de BTC'!C:C,0)),\"\"))","v":1.8E-3},3.7499999999999999E-2,"AZEV4"]
[null,{"$f":"IFERROR(RANK(E74,$E$5:$E$400)+COUNTIF($E$5:E74,E74)-1,\"\")","v":252},{"$f":"IF('Guia de BTC'!C76=0,\"\",'Guia de BTC'!C76)","v":"BBDC3<XBSP>"},"BBDC3",{"$f":"IF(C74=\"\",\"\",IFERROR(INDEX(IF($C$3=\"% IBOV\",'Guia de BTC'!H:H,IF($C$3=\"% Float Alugado\",'Guia de BTC'!R:R,IF($C$3=\"Valor Alugado\",'Guia de BTC'!T:T,IF($C$3=\"Volume Médio\",'Guia de BTC'!Y:Y,IF($C$3=\"Dias de Giro\",'Guia de BTC'!Z:Z,IF($C$3=\"Aluguel vs Vista\",'Guia de BTC'!AF:AF,IF($C$3=\"Ações Alugadas\",'Guia de BTC'!AD:AD,IF($C$3=\"▲ de 1 dia\",'Guia de BTC'!AJ:AJ,IF($C$3=\"Taxa Média De Aluguel\",'Guia de BTC'!AN:AN,\"\"))))))))),MATCH(C74,'Guia de BTC'!C:C,0)),\"\"))","v":1E-4},3.6200000000000003E-2,"CVCB3"]
[null,{"$f":"IFERROR(RANK(E75,$E$5:$E$400)+COUNTIF($E$5:E75,E75)-1,\"\")","v":169},{"$f":"IF('Guia de BTC'!C77=0,\"\",'Guia de BTC'!C77)","v":"TRPL4<XBSP>"},"TRPL4",{"$f":"IF(C75=\"\",\"\",IFERROR(INDEX(IF($C$3=\"% IBOV\",'Guia de BTC'!H:H,IF($C$3=\"% Float Alugado\",'Guia de BTC'!R:R,IF($C$3=\"Valor Alugado\",'Guia de BTC'!T:T,IF($C$3=\"Volume Médio\",'Guia de BTC'!Y:Y,IF($C$3=\"Dias de Giro\",'Guia de BTC'!Z:Z,IF($C$3=\"Aluguel vs Vista\",'Guia de BTC'!AF:AF,IF($C$3=\"Ações Alugadas\",'Guia de BTC'!AD:AD,IF($C$3=\"▲ de 1 dia\",'Guia de BTC'!AJ:AJ,IF($C$3=\"Taxa Média De Aluguel\",'Guia de BTC'!AN:AN,\"\"))))))))),MATCH(C75,'Guia de BTC'!C:C,0)),\"\"))","v":3.3E-3},3.61E-2,"MULT3"]
[null,{"$f":"IFERROR(RANK(E76,$E$5:$E$400)+COUNTIF($E$5:E76,E76)-1,\"\")","v":222},{"$f":"IF('Guia de BTC'!C78=0,\"\",'Guia de BTC'!C78)","v":"CSMG3<XBSP>"},"CSMG3",{"$f":"IF(C76=\"\",\"\",IFERROR(INDEX(IF($C$3=\"% IBOV\",'Guia de BTC'!H:H,IF($C$3=\"% Float Alugado\",'Guia de BTC'!R:R,IF($C$3=\"Valor Alugado\",'Guia de BTC'!T:T,IF($C$3=\"Volume Médio\",'Guia de BTC'!Y:Y,IF($C$3=\"Dias de Giro\",'Guia de BTC'!Z:Z,IF($C$3=\"Aluguel vs Vista\",'Guia de BTC'!AF:AF,IF($C$3=\"Ações Alugadas\",'Guia de BTC'!AD:AD,IF($C$3=\"▲ de 1 dia\",'Guia de BTC'!AJ:AJ,IF($C$3=\"Taxa Média De Aluguel\",'Guia de BTC'!AN:AN,\"\"))))))))),MATCH(C76,'Guia de BTC'!C:C,0)),\"\"))","v":5.9999999999999995E-4},3.5200000000000002E-2,"TAEE4"]
[null,{"$f":"IFERROR(RANK(E77,$E$5:$E$400)+COUNTIF($E$5:E77,E77)-1,\"\")","v":210},{"$f":"IF('Guia de BTC'!C79=0,\"\",'Guia de BTC'!C79)","v":"USIM5<XBSP>"},"USIM5",{"$f":"IF(C77=\"\",\"\",IFERROR(INDEX(IF($C$3=\"% IBOV\",'Guia de BTC'!H:H,IF($C$3=\"% Float Alugado\",'Guia de BTC'!R:R,IF($C$3=\"Valor Alugado\",'Guia de BTC'!T:T,IF($C$3=\"Volume Médio\",'Guia de BTC'!Y:Y,IF($C$3=\"Dias de Giro\",'Guia de BTC'!Z:Z,IF($C$3=\"Aluguel vs Vista\",'Guia de BTC'!AF:AF,IF($C$3=\"Ações Alugadas\",'Guia de BTC'!AD:AD,IF($C$3=\"▲ de 1 dia\",'Guia de BTC'!AJ:AJ,IF($C$3=\"Taxa Média De Aluguel\",'Guia de BTC'!AN:AN,\"\"))))))))),MATCH(C77,'Guia de BTC'!C:C,0)),\"\"))","v":1.1999999999999999E-3},3.4599999999999999E-2,"ITUB3"]
[null,{"$f":"IFERROR(RANK(E78,$E$5:$E$400)+COUNTIF($E$5:E78,E78)-1,\"\")","v":133},{"$f":"IF('Guia de BTC'!C80=0,\"\",'Guia de BTC'!C80)","v":"RECV3<XBSP>"},"RECV3",{"$f":"IF(C78=\"\",\"\",IFERROR(INDEX(IF($C$3=\"% IBOV\",'Guia de BTC'!H:H,IF($C$3=\"% Float Alugado\",'Guia de BTC'!R:R,IF($C$3=\"Valor Alugado\",'Guia de BTC'!T:T,IF($C$3=\"Volume Médio\",'Guia de BTC'!Y:Y,IF($C$3=\"Dias de Giro\",'Guia de BTC'!Z:Z,IF($C$3=\"Aluguel vs Vista\",'Guia de BTC'!AF:AF,IF($C$3=\"Ações Alugadas\",'Guia de BTC'!AD:AD,IF($C$3=\"▲ de 1 dia\",'Guia de BTC'!AJ:AJ,IF($C$3=\"Taxa Média De Aluguel\",'Guia de BTC'!AN:AN,\"\"))))))))),MATCH(C78,'Guia de BTC'!C:C,0)),\"\"))","v":7.4999999999999997E-3},3.4000000000000002E-2,"SMFT3"]
[null,{"$f":"IFERROR(RANK(E79,$E$5:$E$400)+COUNTIF($E$5:E79,E79)-1,\"\")","v":141},{"$f":"IF('Guia de BTC'!C81=0,\"\",'Guia de BTC'!C81)","v":"COGN3<XBSP>"},"COGN3",{"$f":"IF(C79=\"\",\"\",IFERROR(INDEX(IF($C$3=\"% IBOV\",'Guia de BTC'!H:H,IF($C$3=\"% Float Alugado\",'Guia de BTC'!R:R,IF($C$3=\"Valor Alugado\",'Guia de BTC'!T:T,IF($C$3=\"Volume Médio\",'Guia de BTC'!Y:Y,IF($C$3=\"Dias de Giro\",'Guia de BTC'!Z:Z,IF($C$3=\"Aluguel vs Vista\",'Guia de BTC'!AF:AF,IF($C$3=\"Ações Alugadas\",'Guia de BTC'!AD:AD,IF($C$3=\"▲ de 1 dia\",'Guia de BTC'!AJ:AJ,IF($C$3=\"Taxa Média De Aluguel\",'Guia de BTC'!AN:AN,\"\"))))))))),MATCH(C79,'Guia de BTC'!C:C,0)),\"\"))","v":6.6E-3},3.32E-2,"FRAS3"]
[null,{"$f":"IFERROR(RANK(E80,$E$5:$E$400)+COUNTIF($E$5:E80,E80)-1,\"\")","v":181},{"$f":"IF('Guia de BTC'!C82=0,\"\",'Guia de BTC'!C82)","v":"CPFE3<XBSP>"},"CPFE3",{"$f":"IF(C80=\"\",\"\",IFERROR(INDEX(IF($C$3=\"% IBOV\",'Guia de BTC'!H:H,IF($C$3=\"% Float Alugado\",'Guia de BTC'!R:R,IF($C$3=\"Valor Alugado\",'Guia de BTC'!T:T,IF($C$3=\"Volume Médio\",'Guia de BTC'!Y:Y,IF($C$3=\"Dias de Giro\",'Guia de BTC'!Z:Z,IF($C$3=\"Aluguel vs Vista\",'Guia de BTC'!AF:AF,IF($C$3=\"Ações Alugadas\",'Guia de BTC'!AD:AD,IF($C$3=\"▲ de 1 dia\",'Guia de BTC'!AJ:AJ,IF($C$3=\"Taxa Média De Aluguel\",'Guia de BTC'!AN:AN,\"\"))))))))),MATCH(C80,'Guia de BTC'!C:C,0)),\"\"))","v":2E-3},3.3099999999999997E-2,"AZZA3"]
[null,{"$f":"IFERROR(RANK(E81,$E$5:$E$400)+COUNTIF($E$5:E81,E81)-1,\"\")","v":223},{"$f":"IF('Guia de BTC'!C83=0,\"\",'Guia de BTC'!C83)","v":"FLRY3<XBSP>"},"FLRY3",{"$f":"IF(C81=\"\",\"\",IFERROR(INDEX(IF($C$3=\"% IBOV\",'Guia de BTC'!H:H,IF($C$3=\"% Float Alugado\",'Guia de BTC'!R:R,IF($C$3=\"Valor Alugado\",'Guia de BTC'!T:T,IF($C$3=\"Volume Médio\",'Guia de BTC'!Y:Y,IF($C$3=\"Dias de Giro\",'Guia de BTC'!Z:Z,IF($C$3=\"Aluguel vs Vista\",'Guia de BTC'!AF:AF,IF($C$3=\"Ações Alugadas\",'Guia de BTC'!AD:AD,IF($C$3=\"▲ de 1 dia\",'Guia de BTC'!AJ:AJ,IF($C$3=\"Taxa Média De Aluguel\",'Guia de BTC'!AN:AN,\"\"))))))))),MATCH(C81,'Guia de BTC'!C:C,0)),\"\"))","v":5.9999999999999995E-4},3.27E-2,"YDUQ3"]
[null,{"$f":"IFERROR(RANK(E82,$E$5:$E$400)+COUNTIF($E$5:E82,E82)-1,\"\")","v":91},{"$f":"IF('Guia de BTC'!C84=0,\"\",'Guia de BTC'!C84)","v":"EZTC3<XBSP>"},"EZTC3",{"$f":"IF(C82=\"\",\"\",IFERROR(INDEX(IF($C$3=\"% IBOV\",'Guia de BTC'!H:H,IF($C$3=\"% Float Alugado\",'Guia de BTC'!R:R,IF($C$3=\"Valor Alugado\",'Guia de BTC'!T:T,IF($C$3=\"Volume Médio\",'Guia de BTC'!Y:Y,IF($C$3=\"Dias de Giro\",'Guia de BTC'!Z:Z,IF($C$3=\"Aluguel vs Vista\",'Guia de BTC'!AF:AF,IF($C$3=\"Ações Alugadas\",'Guia de BTC'!AD:AD,IF($C$3=\"▲ de 1 dia\",'Guia de BTC'!AJ:AJ,IF($C$3=\"Taxa Média De Aluguel\",'Guia de BTC'!AN:AN,\"\"))))))))),MATCH(C82,'Guia de BTC'!C:C,0)),\"\"))","v":2.3199999999999998E-2},3.1E-2,"VVEO3"]
[null,{"$f":"IFERROR(RANK(E83,$E$5:$E$400)+COUNTIF($E$5:E83,E83)-1,\"\")","v":197},{"$f":"IF('Guia de BTC'!C85=0,\"\",'Guia de BTC'!C85)","v":"VIVA3<XBSP>"},"VIVA3",{"$f":"IF(C83=\"\",\"\",IFERROR(INDEX(IF($C$3=\"% IBOV\",'Guia de BTC'!H:H,IF($C$3=\"% Float Alugado\",'Guia de BTC'!R:R,IF($C$3=\"Valor Alugado\",'Guia de BTC'!T:T,IF($C$3=\"Volume Médio\",'Guia de BTC'!Y:Y,IF($C$3=\"Dias de Giro\",'Guia de BTC'!Z:Z,IF($C$3=\"Aluguel vs Vista\",'Guia de BTC'!AF:AF,IF($C$3=\"Ações Alugadas\",'Guia de BTC'!AD:AD,IF($C$3=\"▲ de 1 dia\",'Guia de BTC'!AJ:AJ,IF($C$3=\"Taxa Média De Aluguel\",'Guia de BTC'!AN:AN,\"\"))))))))),MATCH(C83,'Guia de BTC'!C:C,0)),\"\"))","v":1.5E-3},0.03,"EURP11"]
[null,{"$f":"IFERROR(RANK(E84,$E$5:$E$400)+COUNTIF($E$5:E84,E84)-1,\"\")","v":187},{"$f":"IF('Guia de BTC'!C86=0,\"\",'Guia de BTC'!C86)","v":"GGPS3<XBSP>"},"GGPS3",{"$f":"IF(C84=\"\",\"\",IFERROR(INDEX(IF($C$3=\"% IBOV\",'Guia de BTC'!H:H,IF($C$3=\"% Float Alugado\",'Guia de BTC'!R:R,IF($C$3=\"Valor Alugado\",'Guia de BTC'!T:T,IF($C$3=\"Volume Médio\",'Guia de BTC'!Y:Y,IF($C$3=\"Dias de Giro\",'Guia de BTC'!Z:Z,IF($C$3=\"Aluguel vs Vista\",'Guia de BTC'!AF:AF,IF($C$3=\"Ações Alugadas\",'Guia de BTC'!AD:AD,IF($C$3=\"▲ de 1 dia\",'Guia de BTC'!AJ:AJ,IF($C$3=\"Taxa Média De Aluguel\",'Guia de BTC'!AN:AN,\"\"))))))))),MATCH(C84,'Guia de BTC'!C:C,0)),\"\"))","v":1.9E-3},2.9399999999999999E-2,"MEAL3"]
[null,{"$f":"IFERROR(RANK(E85,$E$5:$E$400)+COUNTIF($E$5:E85,E85)-1,\"\")","v":244},{"$f":"IF('Guia de BTC'!C87=0,\"\",'Guia de BTC'!C87)","v":"ENGI11<XBSP>"},"ENGI11",{"$f":"IF(C85=\"\",\"\",IFERROR(INDEX(IF($C$3=\"% IBOV\",'Guia de BTC'!H:H,IF($C$3=\"% Float Alugado\",'Guia de BTC'!R:R,IF($C$3=\"Valor Alugado\",'Guia de BTC'!T:T,IF($C$3=\"Volume Médio\",'Guia de BTC'!Y:Y,IF($C$3=\"Dias de Giro\",'Guia de BTC'!Z:Z,IF($C$3=\"Aluguel vs Vista\",'Guia de BTC'!AF:AF,IF($C$3=\"Ações Alugadas\",'Guia de BTC'!AD:AD,IF($C$3=\"▲ de 1 dia\",'Guia de BTC'!AJ:AJ,IF($C$3=\"Taxa Média De Aluguel\",'Guia de BTC'!AN:AN,\"\"))))))))),MATCH(C85,'Guia de BTC'!C:C,0)),\"\"))","v":2.9999999999999997E-4},2.8899999999999999E-2,"ESPA3"]
[null,{"$f":"IFERROR(RANK(E86,$E$5:$E$400)+COUNTIF($E$5:E86,E86)-1,\"\")","v":179},{"$f":"IF('Guia de BTC'!C88=0,\"\",'Guia de BTC'!C88)","v":"AESB3<XBSP>"},"AESB3",{"$f":"IF(C86=\"\",\"\",IFERROR(INDEX(IF($C$3=\"% IBOV\",'Guia de BTC'!H:H,IF($C$3=\"% Float Alugado\",'Guia de BTC'!R:R,IF($C$3=\"Valor Alugado\",'Guia de BTC'!T:T,IF($C$3=\"Volume Médio\",'Guia de BTC'!Y:Y,IF($C$3=\"Dias de Giro\",'Guia de BTC'!Z:Z,IF($C$3=\"Aluguel vs Vista\",'Guia de BTC'!AF:AF,IF($C$3=\"Ações Alugadas\",'Guia de BTC'!AD:AD,IF($C$3=\"▲ de 1 dia\",'Guia de BTC'!AJ:AJ,IF($C$3=\"Taxa Média De Aluguel\",'Guia de BTC'!AN:AN,\"\"))))))))),MATCH(C86,'Guia de BTC'!C:C,0)),\"\"))","v":2.0999999999999999E-3},2.8799999999999999E-2,"ENJU3"]
[null,{"$f":"IFERROR(RANK(E87,$E$5:$E$400)+COUNTIF($E$5:E87,E87)-1,\"\")","v":165},{"$f":"IF('Guia de BTC'!C89=0,\"\",'Guia de BTC'!C89)","v":"SANB11<XBSP>"},"SANB11",{"$f":"IF(C87=\"\",\"\",IFERROR(INDEX(IF($C$3=\"% IBOV\",'Guia de BTC'!H:H,IF($C$3=\"% Float Alugado\",'Guia de BTC'!R:R,IF($C$3=\"Valor Alugado\",'Guia de BTC'!T:T,IF($C$3=\"Volume Médio\",'Guia de BTC'!Y:Y,IF($C$3=\"Dias de Giro\",'Guia de BTC'!Z:Z,IF($C$3=\"Aluguel vs Vista\",'Guia de BTC'!AF:AF,IF($C$3=\"Ações Alugadas\",'Guia de BTC'!AD:AD,IF($C$3=\"▲ de 1 dia\",'Guia de BTC'!AJ:AJ,IF($C$3=\"Taxa Média De Aluguel\",'Guia de BTC'!AN:AN,\"\"))))))))),MATCH(C87,'Guia de BTC'!C:C,0)),\"\"))","v":3.5000000000000001E-3},2.8299999999999999E-2,"BLAU3"]
[null,{"$f":"IFERROR(RANK(E88,$E$5:$E$400)+COUNTIF($E$5:E88,E88)-1,\"\")","v":11},{"$f":"IF('Guia de BTC'!C90=0,\"\",'Guia de BTC'!C90)","v":"PETZ3<XBSP>"},"PETZ3",{"$f":"IF(C88=\"\",\"\",IFERROR(INDEX(IF($C$3=\"% IBOV\",'Guia de BTC'!H:H,IF($C$3=\"% Float Alugado\",'Guia de BTC'!R:R,IF($C$3=\"Valor Alugado\",'Guia de BTC'!T:T,IF($C$3=\"Volume Médio\",'Guia de BTC'!Y:Y,IF($C$3=\"Dias de Giro\",'Guia de BTC'!Z:Z,IF($C$3=\"Aluguel vs Vista\",'Guia de BTC'!AF:AF,IF($C$3=\"Ações Alugadas\",'Guia de BTC'!AD:AD,IF($C$3=\"▲ de 1 dia\",'Guia de BTC'!AJ:AJ,IF($C$3=\"Taxa Média De Aluguel\",'Guia de BTC'!AN:AN,\"\"))))))))),MATCH(C88,'Guia de BTC'!C:C,0)),\"\"))","v":0.22370000000000001},2.81E-2,"PRNR3"]
[null,{"$f":"IFERROR(RANK(E89,$E$5:$E$400)+COUNTIF($E$5:E89,E89)-1,\"\")","v":77},{"$f":"IF('Guia de BTC'!C91=0,\"\",'Guia de BTC'!C91)","v":"YDUQ3<XBSP>"},"YDUQ3",{"$f":"IF(C89=\"\",\"\",IFERROR(INDEX(IF($C$3=\"% IBOV\",'Guia de BTC'!H:H,IF($C$3=\"% Float Alugado\",'Guia de BTC'!R:R,IF($C$3=\"Valor Alugado\",'Guia de BTC'!T:T,IF($C$3=\"Volume Médio\",'Guia de BTC'!Y:Y,IF($C$3=\"Dias de Giro\",'Guia de BTC'!Z:Z,IF($C$3=\"Aluguel vs Vista\",'Guia de BTC'!AF:AF,IF($C$3=\"Ações Alugadas\",'Guia de BTC'!AD:AD,IF($C$3=\"▲ de 1 dia\",'Guia de BTC'!AJ:AJ,IF($C$3=\"Taxa Média De Aluguel\",'Guia de BTC'!AN:AN,\"\"))))))))),MATCH(C89,'Guia de BTC'!C:C,0)),\"\"))","v":3.27E-2},2.6200000000000001E-2,"IVVB11"]
[null,{"$f":"IFERROR(RANK(E90,$E$5:$E$400)+COUNTIF($E$5:E90,E90)-1,\"\")","v":106},{"$f":"IF('Guia de BTC'!C92=0,\"\",'Guia de BTC'!C92)","v":"SIMH3<XBSP>"},"SIMH3",{"$f":"IF(C90=\"\",\"\",IFERROR(INDEX(IF($C$3=\"% IBOV\",'Guia de BTC'!H:H,IF($C$3=\"% Float Alugado\",'Guia de BTC'!R:R,IF($C$3=\"Valor Alugado\",'Guia de BTC'!T:T,IF($C$3=\"Volume Médio\",'Guia de BTC'!Y:Y,IF($C$3=\"Dias de Giro\",'Guia de BTC'!Z:Z,IF($C$3=\"Aluguel vs Vista\",'Guia de BTC'!AF:AF,IF($C$3=\"Ações Alugadas\",'Guia de BTC'!AD:AD,IF($C$3=\"▲ de 1 dia\",'Guia de BTC'!AJ:AJ,IF($C$3=\"Taxa Média De Aluguel\",'Guia de BTC'!AN:AN,\"\"))))))))),MATCH(C90,'Guia de BTC'!C:C,0)),\"\"))","v":1.3899999999999999E-2},2.5499999999999998E-2,"ORVR3"]
[null,{"$f":"IFERROR(RANK(E91,$E$5:$E$400)+COUNTIF($E$5:E91,E91)-1,\"\")","v":182},{"$f":"IF('Guia de BTC'!C93=0,\"\",'Guia de BTC'!C93)","v":"IRBR3<XBSP>"},"IRBR3",{"$f":"IF(C91=\"\",\"\",IFERROR(INDEX(IF($C$3=\"% IBOV\",'Guia de BTC'!H:H,IF($C$3=\"% Float Alugado\",'Guia de BTC'!R:R,IF($C$3=\"Valor Alugado\",'Guia de BTC'!T:T,IF($C$3=\"Volume Médio\",'Guia de BTC'!Y:Y,IF($C$3=\"Dias de Giro\",'Guia de BTC'!Z:Z,IF($C$3=\"Aluguel vs Vista\",'Guia de BTC'!AF:AF,IF($C$3=\"Ações Alugadas\",'Guia de BTC'!AD:AD,IF($C$3=\"▲ de 1 dia\",'Guia de BTC'!AJ:AJ,IF($C$3=\"Taxa Média De Aluguel\",'Guia de BTC'!AN:AN,\"\"))))))))),MATCH(C91,'Guia de BTC'!C:C,0)),\"\"))","v":2E-3},2.5499999999999998E-2,"LAVV3"]
[null,{"$f":"IFERROR(RANK(E92,$E$5:$E$400)+COUNTIF($E$5:E92,E92)-1,\"\")","v":110},{"$f":"IF('Guia de BTC'!C94=0,\"\",'Guia de BTC'!C94)","v":"DXCO3<XBSP>"},"DXCO3",{"$f":"IF(C92=\"\",\"\",IFERROR(INDEX(IF($C$3=\"% IBOV\",'Guia de BTC'!H:H,IF($C$3=\"% Float Alugado\",'Guia de BTC'!R:R,IF($C$3=\"Valor Alugado\",'Guia de BTC'!T:T,IF($C$3=\"Volume Médio\",'Guia de BTC'!Y:Y,IF($C$3=\"Dias de Giro\",'Guia de BTC'!Z:Z,IF($C$3=\"Aluguel vs Vista\",'Guia de BTC'!AF:AF,IF($C$3=\"Ações Alugadas\",'Guia de BTC'!AD:AD,IF($C$3=\"▲ de 1 dia\",'Guia de BTC'!AJ:AJ,IF($C$3=\"Taxa Média De Aluguel\",'Guia de BTC'!AN:AN,\"\"))))))))),MATCH(C92,'Guia de BTC'!C:C,0)),\"\"))","v":1.32E-2},2.5499999999999998E-2,"WRLD11"]
[null,{"$f":"IFERROR(RANK(E93,$E$5:$E$400)+COUNTIF($E$5:E93,E93)-1,\"\")","v":145},{"$f":"IF('Guia de BTC'!C95=0,\"\",'Guia de BTC'!C95)","v":"SMTO3<XBSP>"},"SMTO3",{"$f":"IF(C93=\"\",\"\",IFERROR(INDEX(IF($C$3=\"% IBOV\",'Guia de BTC'!H:H,IF($C$3=\"% Float Alugado\",'Guia de BTC'!R:R,IF($C$3=\"Valor Alugado\",'Guia de BTC'!T:T,IF($C$3=\"Volume Médio\",'Guia de BTC'!Y:Y,IF($C$3=\"Dias de Giro\",'Guia de BTC'!Z:Z,IF($C$3=\"Aluguel vs Vista\",'Guia de BTC'!AF:AF,IF($C$3=\"Ações Alugadas\",'Guia de BTC'!AD:AD,IF($C$3=\"▲ de 1 dia\",'Guia de BTC'!AJ:AJ,IF($C$3=\"Taxa Média De Aluguel\",'Guia de BTC'!AN:AN,\"\"))))))))),MATCH(C93,'Guia de BTC'!C:C,0)),\"\"))","v":5.1999999999999998E-3},2.4199999999999999E-2,"GGBR3"]
[null,{"$f":"IFERROR(RANK(E94,$E$5:$E$400)+COUNTIF($E$5:E94,E94)-1,\"\")","v":162},{"$f":"IF('Guia de BTC'!C96=0,\"\",'Guia de BTC'!C96)","v":"BOVB11<XBSP>"},"BOVB11",{"$f":"IF(C94=\"\",\"\",IFERROR(INDEX(IF($C$3=\"% IBOV\",'Guia de BTC'!H:H,IF($C$3=\"% Float Alugado\",'Guia de BTC'!R:R,IF($C$3=\"Valor Alugado\",'Guia de BTC'!T:T,IF($C$3=\"Volume Médio\",'Guia de BTC'!Y:Y,IF($C$3=\"Dias de Giro\",'Guia de BTC'!Z:Z,IF($C$3=\"Aluguel vs Vista\",'Guia de BTC'!AF:AF,IF($C$3=\"Ações Alugadas\",'Guia de BTC'!AD:AD,IF($C$3=\"▲ de 1 dia\",'Guia de BTC'!AJ:AJ,IF($C$3=\"Taxa Média De Aluguel\",'Guia de BTC'!AN:AN,\"\"))))))))),MATCH(C94,'Guia de BTC'!C:C,0)),\"\"))","v":3.5999999999999999E-3},2.3900000000000001E-2,"EGIE3"]
[null,{"$f":"IFERROR(RANK(E95,$E$5:$E$400)+COUNTIF($E$5:E95,E95)-1,\"\")","v":3},{"$f":"IF('Guia de BTC'!C97=0,\"\",'Guia de BTC'!C97)","v":"AZUL4<XBSP>"},"AZUL4",{"$f":"IF(C95=\"\",\"\",IFERROR(INDEX(IF($C$3=\"% IBOV\",'Guia de BTC'!H:H,IF($C$3=\"% Float Alugado\",'Guia de BTC'!R:R,IF($C$3=\"Valor Alugado\",'Guia de BTC'!T:T,IF($C$3=\"Volume Médio\",'Guia de BTC'!Y:Y,IF($C$3=\"Dias de Giro\",'Guia de BTC'!Z:Z,IF($C$3=\"Aluguel vs Vista\",'Guia de BTC'!AF:AF,IF($C$3=\"Ações Alugadas\",'Guia de BTC'!AD:AD,IF($C$3=\"▲ de 1 dia\",'Guia de BTC'!AJ:AJ,IF($C$3=\"Taxa Média De Aluguel\",'Guia de BTC'!AN:AN,\"\"))))))))),MATCH(C95,'Guia de BTC'!C:C,0)),\"\"))","v":0.51639999999999997},2.3199999999999998E-2,"EZTC3"]
[null,{"$f":"IFERROR(RANK(E96,$E$5:$E$400)+COUNTIF($E$5:E96,E96)-1,\"\")","v":188},{"$f":"IF('Guia de BTC'!C98=0,\"\",'Guia de BTC'!C98)","v":"STBP3<XBSP>"},"STBP3",{"$f":"IF(C96=\"\",\"\",IFERROR(INDEX(IF($C$3=\"% IBOV\",'Guia de BTC'!H:H,IF($C$3=\"% Float Alugado\",'Guia de BTC'!R:R,IF($C$3=\"Valor Alugado\",'Guia de BTC'!T:T,IF($C$3=\"Volume Médio\",'Guia de BTC'!Y:Y,IF($C$3=\"Dias de Giro\",'Guia de BTC'!Z:Z,IF($C$3=\"Aluguel vs Vista\",'Guia de BTC'!AF:AF,IF($C$3=\"Ações Alugadas\",'Guia de BTC'!AD:AD,IF($C$3=\"▲ de 1 dia\",'Guia de BTC'!AJ:AJ,IF($C$3=\"Taxa Média De Aluguel\",'Guia de BTC'!AN:AN,\"\"))))))))),MATCH(C96,'Guia de BTC'!C:C,0)),\"\"))","v":1.9E-3},2.3199999999999998E-2,"JSLG3"]
[null,{"$f":"IFERROR(RANK(E97,$E$5:$E$400)+COUNTIF($E$5:E97,E97)-1,\"\")","v":159},{"$f":"IF('Guia de BTC'!C99=0,\"\",'Guia de BTC'!C99)","v":"MRFG3<XBSP>"},"MRFG3",{"$f":"IF(C97=\"\",\"\",IFERROR(INDEX(IF($C$3=\"% IBOV\",'Guia de BTC'!H:H,IF($C$3=\"% Float Alugado\",'Guia de BTC'!R:R,IF($C$3=\"Valor Alugado\",'Guia de BTC'!T:T,IF($C$3=\"Volume Médio\",'Guia de BTC'!Y:Y,IF($C$3=\"Dias de Giro\",'Guia de BTC'!Z:Z,IF($C$3=\"Aluguel vs Vista\",'Guia de BTC'!AF:AF,IF($C$3=\"Ações Alugadas\",'Guia de BTC'!AD:AD,IF($C$3=\"▲ de 1 dia\",'Guia de BTC'!AJ:AJ,IF($C$3=\"Taxa Média De Aluguel\",'Guia de BTC'!AN:AN,\"\"))))))))),MATCH(C97,'Guia de BTC'!C:C,0)),\"\"))","v":3.8E-3},2.0899999999999998E-2,"NASD11"]
[null,{"$f":"IFERROR(RANK(E98,$E$5:$E$400)+COUNTIF($E$5:E98,E98)-1,\"\")","v":2},{"$f":"IF('Guia de BTC'!C100=0,\"\",'Guia de BTC'!C100)","v":"AMBP3<XBSP>"},"AMBP3",{"$f":"IF(C98=\"\",\"\",IFERROR(INDEX(IF($C$3=\"% IBOV\",'Guia de BTC'!H:H,IF($C$3=\"% Float Alugado\",'Guia de BTC'!R:R,IF($C$3=\"Valor Alugado\",'Guia de BTC'!T:T,IF($C$3=\"Volume Médio\",'Guia de BTC'!Y:Y,IF($C$3=\"Dias de Giro\",'Guia de BTC'!Z:Z,IF($C$3=\"Aluguel vs Vista\",'Guia de BTC'!AF:AF,IF($C$3=\"Ações Alugadas\",'Guia de BTC'!AD:AD,IF($C$3=\"▲ de 1 dia\",'Guia de BTC'!AJ:AJ,IF($C$3=\"Taxa Média De Aluguel\",'Guia de BTC'!AN:AN,\"\"))))))))),MATCH(C98,'Guia de BTC'!C:C,0)),\"\"))","v":0.94620000000000004},2.0400000000000001E-2,"LOGN3"]
[null,{"$f":"IFERROR(RANK(E99,$E$5:$E$400)+COUNTIF($E$5:E99,E99)-1,\"\")","v":102},{"$f":"IF('Guia de BTC'!C101=0,\"\",'Guia de BTC'!C101)","v":"DIRR3<XBSP>"},"DIRR3",{"$f":"IF(C99=\"\",\"\",IFERROR(INDEX(IF($C$3=\"% IBOV\",'Guia de BTC'!H:H,IF($C$3=\"% Float Alugado\",'Guia de BTC'!R:R,IF($C$3=\"Valor Alugado\",'Guia de BTC'!T:T,IF($C$3=\"Volume Médio\",'Guia de BTC'!Y:Y,IF($C$3=\"Dias de Giro\",'Guia de BTC'!Z:Z,IF($C$3=\"Aluguel vs Vista\",'Guia de BTC'!AF:AF,IF($C$3=\"Ações Alugadas\",'Guia de BTC'!AD:AD,IF($C$3=\"▲ de 1 dia\",'Guia de BTC'!AJ:AJ,IF($C$3=\"Taxa Média De Aluguel\",'Guia de BTC'!AN:AN,\"\"))))))))),MATCH(C99,'Guia de BTC'!C:C,0)),\"\"))","v":1.67E-2},1.9800000000000002E-2,"HBOR3"]
[null,{"$f":"IFERROR(RANK(E100,$E$5:$E$400)+COUNTIF($E$5:E100,E100)-1,\"\")","v":132},{"$f":"IF('Guia de BTC'!C102=0,\"\",'Guia de BTC'!C102)","v":"PSSA3<XBSP>"},"PSSA3",{"$f":"IF(C100=\"\",\"\",IFERROR(INDEX(IF($C$3=\"% IBOV\",'Guia de BTC'!H:H,IF($C$3=\"% Float Alugado\",'Guia de BTC'!R:R,IF($C$3=\"Valor Alugado\",'Guia de BTC'!T:T,IF($C$3=\"Volume Médio\",'Guia de BTC'!Y:Y,IF($C$3=\"Dias de Giro\",'Guia de BTC'!Z:Z,IF($C$3=\"Aluguel vs Vista\",'Guia de BTC'!AF:AF,IF($C$3=\"Ações Alugadas\",'Guia de BTC'!AD:AD,IF($C$3=\"▲ de 1 dia\",'Guia de BTC'!AJ:AJ,IF($C$3=\"Taxa Média De Aluguel\",'Guia de BTC'!AN:AN,\"\"))))))))),MATCH(C100,'Guia de BTC'!C:C,0)),\"\"))","v":7.9000000000000008E-3},1.9599999999999999E-2,"SOJA3"]
[null,{"$f":"IFERROR(RANK(E101,$E$5:$E$400)+COUNTIF($E$5:E101,E101)-1,\"\")","v":183},{"$f":"IF('Guia de BTC'!C103=0,\"\",'Guia de BTC'!C103)","v":"MDIA3<XBSP>"},"MDIA3",{"$f":"IF(C101=\"\",\"\",IFERROR(INDEX(IF($C$3=\"% IBOV\",'Guia de BTC'!H:H,IF($C$3=\"% Float Alugado\",'Guia de BTC'!R:R,IF($C$3=\"Valor Alugado\",'Guia de BTC'!T:T,IF($C$3=\"Volume Médio\",'Guia de BTC'!Y:Y,IF($C$3=\"Dias de Giro\",'Guia de BTC'!Z:Z,IF($C$3=\"Aluguel vs Vista\",'Guia de BTC'!AF:AF,IF($C$3=\"Ações Alugadas\",'Guia de BTC'!AD:AD,IF($C$3=\"▲ de 1 dia\",'Guia de BTC'!AJ:AJ,IF($C$3=\"Taxa Média De Aluguel\",'Guia de BTC'!AN:AN,\"\"))))))))),MATCH(C101,'Guia de BTC'!C:C,0)),\"\"))","v":2E-3},1.9300000000000001E-2,"PTBL3"]
[null,{"$f":"IFERROR(RANK(E102,$E$5:$E$400)+COUNTIF($E$5:E102,E102)-1,\"\")","v":157},{"$f":"IF('Guia de BTC'!C104=0,\"\",'Guia de BTC'!C104)","v":"MOVI3<XBSP>"},"MOVI3",{"$f":"IF(C102=\"\",\"\",IFERROR(INDEX(IF($C$3=\"% IBOV\",'Guia de BTC'!H:H,IF($C$3=\"% Float Alugado\",'Guia de BTC'!R:R,IF($C$3=\"Valor Alugado\",'Guia de BTC'!T:T,IF($C$3=\"Volume Médio\",'Guia de BTC'!Y:Y,IF($C$3=\"Dias de Giro\",'Guia de BTC'!Z:Z,IF($C$3=\"Aluguel vs Vista\",'Guia de BTC'!AF:AF,IF($C$3=\"Ações Alugadas\",'Guia de BTC'!AD:AD,IF($C$3=\"▲ de 1 dia\",'Guia de BTC'!AJ:AJ,IF($C$3=\"Taxa Média De Aluguel\",'Guia de BTC'!AN:AN,\"\"))))))))),MATCH(C102,'Guia de BTC'!C:C,0)),\"\"))","v":4.0000000000000001E-3},1.89E-2,"AERI3"]
[null,{"$f":"IFERROR(RANK(E103,$E$5:$E$400)+COUNTIF($E$5:E103,E103)-1,\"\")","v":175},{"$f":"IF('Guia de BTC'!C105=0,\"\",'Guia de BTC'!C105)","v":"BEEF3<XBSP>"},"BEEF3",{"$f":"IF(C103=\"\",\"\",IFERROR(INDEX(IF($C$3=\"% IBOV\",'Guia de BTC'!H:H,IF($C$3=\"% Float Alugado\",'Guia de BTC'!R:R,IF($C$3=\"Valor Alugado\",'Guia de BTC'!T:T,IF($C$3=\"Volume Médio\",'Guia de BTC'!Y:Y,IF($C$3=\"Dias de Giro\",'Guia de BTC'!Z:Z,IF($C$3=\"Aluguel vs Vista\",'Guia de BTC'!AF:AF,IF($C$3=\"Ações Alugadas\",'Guia de BTC'!AD:AD,IF($C$3=\"▲ de 1 dia\",'Guia de BTC'!AJ:AJ,IF($C$3=\"Taxa Média De Aluguel\",'Guia de BTC'!AN:AN,\"\"))))))))),MATCH(C103,'Guia de BTC'!C:C,0)),\"\"))","v":2.3999999999999998E-3},1.89E-2,"QBTC11"]
[null,{"$f":"IFERROR(RANK(E104,$E$5:$E$400)+COUNTIF($E$5:E104,E104)-1,\"\")","v":218},{"$f":"IF('Guia de BTC'!C106=0,\"\",'Guia de BTC'!C106)","v":"LWSA3<XBSP>"},"LWSA3",{"$f":"IF(C104=\"\",\"\",IFERROR(INDEX(IF($C$3=\"% IBOV\",'Guia de BTC'!H:H,IF($C$3=\"% Float Alugado\",'Guia de BTC'!R:R,IF($C$3=\"Valor Alugado\",'Guia de BTC'!T:T,IF($C$3=\"Volume Médio\",'Guia de BTC'!Y:Y,IF($C$3=\"Dias de Giro\",'Guia de BTC'!Z:Z,IF($C$3=\"Aluguel vs Vista\",'Guia de BTC'!AF:AF,IF($C$3=\"Ações Alugadas\",'Guia de BTC'!AD:AD,IF($C$3=\"▲ de 1 dia\",'Guia de BTC'!AJ:AJ,IF($C$3=\"Taxa Média De Aluguel\",'Guia de BTC'!AN:AN,\"\"))))))))),MATCH(C104,'Guia de BTC'!C:C,0)),\"\"))","v":6.9999999999999999E-4},1.78E-2,"JALL3"]
[null,{"$f":"IFERROR(RANK(E105,$E$5:$E$400)+COUNTIF($E$5:E105,E105)-1,\"\")","v":224},{"$f":"IF('Guia de BTC'!C107=0,\"\",'Guia de BTC'!C107)","v":"INTB3<XBSP>"},"INTB3",{"$f":"IF(C105=\"\",\"\",IFERROR(INDEX(IF($C$3=\"% IBOV\",'Guia de BTC'!H:H,IF($C$3=\"% Float Alugado\",'Guia de BTC'!R:R,IF($C$3=\"Valor Alugado\",'Guia de BTC'!T:T,IF($C$3=\"Volume Médio\",'Guia de BTC'!Y:Y,IF($C$3=\"Dias de Giro\",'Guia de BTC'!Z:Z,IF($C$3=\"Aluguel vs Vista\",'Guia de BTC'!AF:AF,IF($C$3=\"Ações Alugadas\",'Guia de BTC'!AD:AD,IF($C$3=\"▲ de 1 dia\",'Guia de BTC'!AJ:AJ,IF($C$3=\"Taxa Média De Aluguel\",'Guia de BTC'!AN:AN,\"\"))))))))),MATCH(C105,'Guia de BTC'!C:C,0)),\"\"))","v":5.9999999999999995E-4},1.78E-2,"SHUL4"]
[null,{"$f":"IFERROR(RANK(E106,$E$5:$E$400)+COUNTIF($E$5:E106,E106)-1,\"\")","v":191},{"$f":"IF('Guia de BTC'!C108=0,\"\",'Guia de BTC'!C108)","v":"TUPY3<XBSP>"},"TUPY3",{"$f":"IF(C106=\"\",\"\",IFERROR(INDEX(IF($C$3=\"% IBOV\",'Guia de BTC'!H:H,IF($C$3=\"% Float Alugado\",'Guia de BTC'!R:R,IF($C$3=\"Valor Alugado\",'Guia de BTC'!T:T,IF($C$3=\"Volume Médio\",'Guia de BTC'!Y:Y,IF($C$3=\"Dias de Giro\",'Guia de BTC'!Z:Z,IF($C$3=\"Aluguel vs Vista\",'Guia de BTC'!AF:AF,IF($C$3=\"Ações Alugadas\",'Guia de BTC'!AD:AD,IF($C$3=\"▲ de 1 dia\",'Guia de BTC'!AJ:AJ,IF($C$3=\"Taxa Média De Aluguel\",'Guia de BTC'!AN:AN,\"\"))))))))),MATCH(C106,'Guia de BTC'!C:C,0)),\"\"))","v":1.8E-3},1.67E-2,"DIRR3"]
[null,{"$f":"IFERROR(RANK(E107,$E$5:$E$400)+COUNTIF($E$5:E107,E107)-1,\"\")","v":245},{"$f":"IF('Guia de BTC'!C109=0,\"\",'Guia de BTC'!C109)","v":"SAPR11<XBSP>"},"SAPR11",{"$f":"IF(C107=\"\",\"\",IFERROR(INDEX(IF($C$3=\"% IBOV\",'Guia de BTC'!H:H,IF($C$3=\"% Float Alugado\",'Guia de BTC'!R:R,IF($C$3=\"Valor Alugado\",'Guia de BTC'!T:T,IF($C$3=\"Volume Médio\",'Guia de BTC'!Y:Y,IF($C$3=\"Dias de Giro\",'Guia de BTC'!Z:Z,IF($C$3=\"Aluguel vs Vista\",'Guia de BTC'!AF:AF,IF($C$3=\"Ações Alugadas\",'Guia de BTC'!AD:AD,IF($C$3=\"▲ de 1 dia\",'Guia de BTC'!AJ:AJ,IF($C$3=\"Taxa Média De Aluguel\",'Guia de BTC'!AN:AN,\"\"))))))))),MATCH(C107,'Guia de BTC'!C:C,0)),\"\"))","v":2.9999999999999997E-4},1.66E-2,"MGLU3"]
[null,{"$f":"IFERROR(RANK(E108,$E$5:$E$400)+COUNTIF($E$5:E108,E108)-1,\"\")","v":70},{"$f":"IF('Guia de BTC'!C110=0,\"\",'Guia de BTC'!C110)","v":"CVCB3<XBSP>"},"CVCB3",{"$f":"IF(C108=\"\",\"\",IFERROR(INDEX(IF($C$3=\"% IBOV\",'Guia de BTC'!H:H,IF($C$3=\"% Float Alugado\",'Guia de BTC'!R:R,IF($C$3=\"Valor Alugado\",'Guia de BTC'!T:T,IF($C$3=\"Volume Médio\",'Guia de BTC'!Y:Y,IF($C$3=\"Dias de Giro\",'Guia de BTC'!Z:Z,IF($C$3=\"Aluguel vs Vista\",'Guia de BTC'!AF:AF,IF($C$3=\"Ações Alugadas\",'Guia de BTC'!AD:AD,IF($C$3=\"▲ de 1 dia\",'Guia de BTC'!AJ:AJ,IF($C$3=\"Taxa Média De Aluguel\",'Guia de BTC'!AN:AN,\"\"))))))))),MATCH(C108,'Guia de BTC'!C:C,0)),\"\"))","v":3.6200000000000003E-2},1.55E-2,"CMIG3"]
[null,{"$f":"IFERROR(RANK(E109,$E$5:$E$400)+COUNTIF($E$5:E109,E109)-1,\"\")","v":130},{"$f":"IF('Guia de BTC'!C111=0,\"\",'Guia de BTC'!C111)","v":"GOAU4<XBSP>"},"GOAU4",{"$f":"IF(C109=\"\",\"\",IFERROR(INDEX(IF($C$3=\"% IBOV\",'Guia de BTC'!H:H,IF($C$3=\"% Float Alugado\",'Guia de BTC'!R:R,IF($C$3=\"Valor Alugado\",'Guia de BTC'!T:T,IF($C$3=\"Volume Médio\",'Guia de BTC'!Y:Y,IF($C$3=\"Dias de Giro\",'Guia de BTC'!Z:Z,IF($C$3=\"Aluguel vs Vista\",'Guia de BTC'!AF:AF,IF($C$3=\"Ações Alugadas\",'Guia de BTC'!AD:AD,IF($C$3=\"▲ de 1 dia\",'Guia de BTC'!AJ:AJ,IF($C$3=\"Taxa Média De Aluguel\",'Guia de BTC'!AN:AN,\"\"))))))))),MATCH(C109,'Guia de BTC'!C:C,0)),\"\"))","v":8.8999999999999999E-3},1.4999999999999999E-2,"WIZC3"]
[null,{"$f":"IFERROR(RANK(E110,$E$5:$E$400)+COUNTIF($E$5:E110,E110)-1,\"\")","v":59},{"$f":"IF('Guia de BTC'!C112=0,\"\",'Guia de BTC'!C112)","v":"PCAR3<XBSP>"},"PCAR3",{"$f":"IF(C110=\"\",\"\",IFERROR(INDEX(IF($C$3=\"% IBOV\",'Guia de BTC'!H:H,IF($C$3=\"% Float Alugado\",'Guia de BTC'!R:R,IF($C$3=\"Valor Alugado\",'Guia de BTC'!T:T,IF($C$3=\"Volume Médio\",'Guia de BTC'!Y:Y,IF($C$3=\"Dias de Giro\",'Guia de BTC'!Z:Z,IF($C$3=\"Aluguel vs Vista\",'Guia de BTC'!AF:AF,IF($C$3=\"Ações Alugadas\",'Guia de BTC'!AD:AD,IF($C$3=\"▲ de 1 dia\",'Guia de BTC'!AJ:AJ,IF($C$3=\"Taxa Média De Aluguel\",'Guia de BTC'!AN:AN,\"\"))))))))),MATCH(C110,'Guia de BTC'!C:C,0)),\"\"))","v":4.4999999999999998E-2},1.3899999999999999E-2,"SIMH3"]
[null,{"$f":"IFERROR(RANK(E111,$E$5:$E$400)+COUNTIF($E$5:E111,E111)-1,\"\")","v":153},{"$f":"IF('Guia de BTC'!C113=0,\"\",'Guia de BTC'!C113)","v":"HASH11<XBSP>"},"HASH11",{"$f":"IF(C111=\"\",\"\",IFERROR(INDEX(IF($C$3=\"% IBOV\",'Guia de BTC'!H:H,IF($C$3=\"% Float Alugado\",'Guia de BTC'!R:R,IF($C$3=\"Valor Alugado\",'Guia de BTC'!T:T,IF($C$3=\"Volume Médio\",'Guia de BTC'!Y:Y,IF($C$3=\"Dias de Giro\",'Guia de BTC'!Z:Z,IF($C$3=\"Aluguel vs Vista\",'Guia de BTC'!AF:AF,IF($C$3=\"Ações Alugadas\",'Guia de BTC'!AD:AD,IF($C$3=\"▲ de 1 dia\",'Guia de BTC'!AJ:AJ,IF($C$3=\"Taxa Média De Aluguel\",'Guia de BTC'!AN:AN,\"\"))))))))),MATCH(C111,'Guia de BTC'!C:C,0)),\"\"))","v":4.4999999999999997E-3},1.38E-2,"BOVV11"]
[null,{"$f":"IFERROR(RANK(E112,$E$5:$E$400)+COUNTIF($E$5:E112,E112)-1,\"\")","v":26},{"$f":"IF('Guia de BTC'!C114=0,\"\",'Guia de BTC'!C114)","v":"ODPV3<XBSP>"},"ODPV3",{"$f":"IF(C112=\"\",\"\",IFERROR(INDEX(IF($C$3=\"% IBOV\",'Guia de BTC'!H:H,IF($C$3=\"% Float Alugado\",'Guia de BTC'!R:R,IF($C$3=\"Valor Alugado\",'Guia de BTC'!T:T,IF($C$3=\"Volume Médio\",'Guia de BTC'!Y:Y,IF($C$3=\"Dias de Giro\",'Guia de BTC'!Z:Z,IF($C$3=\"Aluguel vs Vista\",'Guia de BTC'!AF:AF,IF($C$3=\"Ações Alugadas\",'Guia de BTC'!AD:AD,IF($C$3=\"▲ de 1 dia\",'Guia de BTC'!AJ:AJ,IF($C$3=\"Taxa Média De Aluguel\",'Guia de BTC'!AN:AN,\"\"))))))))),MATCH(C112,'Guia de BTC'!C:C,0)),\"\"))","v":9.4100000000000003E-2},1.3599999999999999E-2,"IFCM3"]
[null,{"$f":"IFERROR(RANK(E113,$E$5:$E$400)+COUNTIF($E$5:E113,E113)-1,\"\")","v":143},{"$f":"IF('Guia de BTC'!C115=0,\"\",'Guia de BTC'!C115)","v":"LEVE3<XBSP>"},"LEVE3",{"$f":"IF(C113=\"\",\"\",IFERROR(INDEX(IF($C$3=\"% IBOV\",'Guia de BTC'!H:H,IF($C$3=\"% Float Alugado\",'Guia de BTC'!R:R,IF($C$3=\"Valor Alugado\",'Guia de BTC'!T:T,IF($C$3=\"Volume Médio\",'Guia de BTC'!Y:Y,IF($C$3=\"Dias de Giro\",'Guia de BTC'!Z:Z,IF($C$3=\"Aluguel vs Vista\",'Guia de BTC'!AF:AF,IF($C$3=\"Ações Alugadas\",'Guia de BTC'!AD:AD,IF($C$3=\"▲ de 1 dia\",'Guia de BTC'!AJ:AJ,IF($C$3=\"Taxa Média De Aluguel\",'Guia de BTC'!AN:AN,\"\"))))))))),MATCH(C113,'Guia de BTC'!C:C,0)),\"\"))","v":6.0000000000000001E-3},1.35E-2,"SANB4"]
[null,{"$f":"IFERROR(RANK(E114,$E$5:$E$400)+COUNTIF($E$5:E114,E114)-1,\"\")","v":118},{"$f":"IF('Guia de BTC'!C116=0,\"\",'Guia de BTC'!C116)","v":"BOVX11<XBSP>"},"BOVX11",{"$f":"IF(C114=\"\",\"\",IFERROR(INDEX(IF($C$3=\"% IBOV\",'Guia de BTC'!H:H,IF($C$3=\"% Float Alugado\",'Guia de BTC'!R:R,IF($C$3=\"Valor Alugado\",'Guia de BTC'!T:T,IF($C$3=\"Volume Médio\",'Guia de BTC'!Y:Y,IF($C$3=\"Dias de Giro\",'Guia de BTC'!Z:Z,IF($C$3=\"Aluguel vs Vista\",'Guia de BTC'!AF:AF,IF($C$3=\"Ações Alugadas\",'Guia de BTC'!AD:AD,IF($C$3=\"▲ de 1 dia\",'Guia de BTC'!AJ:AJ,IF($C$3=\"Taxa Média De Aluguel\",'Guia de BTC'!AN:AN,\"\"))))))))),MATCH(C114,'Guia de BTC'!C:C,0)),\"\"))","v":1.0800000000000001E-2},1.32E-2,"DXCO3"]
[null,{"$f":"IFERROR(RANK(E115,$E$5:$E$400)+COUNTIF($E$5:E115,E115)-1,\"\")","v":163},{"$f":"IF('Guia de BTC'!C117=0,\"\",'Guia de BTC'!C117)","v":"ALUP11<XBSP>"},"ALUP11",{"$f":"IF(C115=\"\",\"\",IFERROR(INDEX(IF($C$3=\"% IBOV\",'Guia de BTC'!H:H,IF($C$3=\"% Float Alugado\",'Guia de BTC'!R:R,IF($C$3=\"Valor Alugado\",'Guia de BTC'!T:T,IF($C$3=\"Volume Médio\",'Guia de BTC'!Y:Y,IF($C$3=\"Dias de Giro\",'Guia de BTC'!Z:Z,IF($C$3=\"Aluguel vs Vista\",'Guia de BTC'!AF:AF,IF($C$3=\"Ações Alugadas\",'Guia de BTC'!AD:AD,IF($C$3=\"▲ de 1 dia\",'Guia de BTC'!AJ:AJ,IF($C$3=\"Taxa Média De Aluguel\",'Guia de BTC'!AN:AN,\"\"))))))))),MATCH(C115,'Guia de BTC'!C:C,0)),\"\"))","v":3.5999999999999999E-3},1.3100000000000001E-2,"ETHE11"]
[null,{"$f":"IFERROR(RANK(E116,$E$5:$E$400)+COUNTIF($E$5:E116,E116)-1,\"\")","v":49},{"$f":"IF('Guia de BTC'!C118=0,\"\",'Guia de BTC'!C118)","v":"LIGT3<XBSP>"},"LIGT3",{"$f":"IF(C116=\"\",\"\",IFERROR(INDEX(IF($C$3=\"% IBOV\",'Guia de BTC'!H:H,IF($C$3=\"% Float Alugado\",'Guia de BTC'!R:R,IF($C$3=\"Valor Alugado\",'Guia de BTC'!T:T,IF($C$3=\"Volume Médio\",'Guia de BTC'!Y:Y,IF($C$3=\"Dias de Giro\",'Guia de BTC'!Z:Z,IF($C$3=\"Aluguel vs Vista\",'Guia de BTC'!AF:AF,IF($C$3=\"Ações Alugadas\",'Guia de BTC'!AD:AD,IF($C$3=\"▲ de 1 dia\",'Guia de BTC'!AJ:AJ,IF($C$3=\"Taxa Média De Aluguel\",'Guia de BTC'!AN:AN,\"\"))))))))),MATCH(C116,'Guia de BTC'!C:C,0)),\"\"))","v":5.5899999999999998E-2},1.23E-2,"CEAB3"]
[null,{"$f":"IFERROR(RANK(E117,$E$5:$E$400)+COUNTIF($E$5:E117,E117)-1,\"\")","v":25},{"$f":"IF('Guia de BTC'!C119=0,\"\",'Guia de BTC'!C119)","v":"HBSA3<XBSP>"},"HBSA3",{"$f":"IF(C117=\"\",\"\",IFERROR(INDEX(IF($C$3=\"% IBOV\",'Guia de BTC'!H:H,IF($C$3=\"% Float Alugado\",'Guia de BTC'!R:R,IF($C$3=\"Valor Alugado\",'Guia de BTC'!T:T,IF($C$3=\"Volume Médio\",'Guia de BTC'!Y:Y,IF($C$3=\"Dias de Giro\",'Guia de BTC'!Z:Z,IF($C$3=\"Aluguel vs Vista\",'Guia de BTC'!AF:AF,IF($C$3=\"Ações Alugadas\",'Guia de BTC'!AD:AD,IF($C$3=\"▲ de 1 dia\",'Guia de BTC'!AJ:AJ,IF($C$3=\"Taxa Média De Aluguel\",'Guia de BTC'!AN:AN,\"\"))))))))),MATCH(C117,'Guia de BTC'!C:C,0)),\"\"))","v":9.8799999999999999E-2},1.2E-2,"EVEN3"]
[null,{"$f":"IFERROR(RANK(E118,$E$5:$E$400)+COUNTIF($E$5:E118,E118)-1,\"\")","v":211},{"$f":"IF('Guia de BTC'!C120=0,\"\",'Guia de BTC'!C120)","v":"ECOR3<XBSP>"},"ECOR3",{"$f":"IF(C118=\"\",\"\",IFERROR(INDEX(IF($C$3=\"% IBOV\",'Guia de BTC'!H:H,IF($C$3=\"% Float Alugado\",'Guia de BTC'!R:R,IF($C$3=\"Valor Alugado\",'Guia de BTC'!T:T,IF($C$3=\"Volume Médio\",'Guia de BTC'!Y:Y,IF($C$3=\"Dias de Giro\",'Guia de BTC'!Z:Z,IF($C$3=\"Aluguel vs Vista\",'Guia de BTC'!AF:AF,IF($C$3=\"Ações Alugadas\",'Guia de BTC'!AD:AD,IF($C$3=\"▲ de 1 dia\",'Guia de BTC'!AJ:AJ,IF($C$3=\"Taxa Média De Aluguel\",'Guia de BTC'!AN:AN,\"\"))))))))),MATCH(C118,'Guia de BTC'!C:C,0)),\"\"))","v":1.1999999999999999E-3},1.2E-2,"BRAP3"]
[null,{"$f":"IFERROR(RANK(E119,$E$5:$E$400)+COUNTIF($E$5:E119,E119)-1,\"\")","v":10},{"$f":"IF('Guia de BTC'!C121=0,\"\",'Guia de BTC'!C121)","v":"ONCO3<XBSP>"},"ONCO3",{"$f":"IF(C119=\"\",\"\",IFERROR(INDEX(IF($C$3=\"% IBOV\",'Guia de BTC'!H:H,IF($C$3=\"% Float Alugado\",'Guia de BTC'!R:R,IF($C$3=\"Valor Alugado\",'Guia de BTC'!T:T,IF($C$3=\"Volume Médio\",'Guia de BTC'!Y:Y,IF($C$3=\"Dias de Giro\",'Guia de BTC'!Z:Z,IF($C$3=\"Aluguel vs Vista\",'Guia de BTC'!AF:AF,IF($C$3=\"Ações Alugadas\",'Guia de BTC'!AD:AD,IF($C$3=\"▲ de 1 dia\",'Guia de BTC'!AJ:AJ,IF($C$3=\"Taxa Média De Aluguel\",'Guia de BTC'!AN:AN,\"\"))))))))),MATCH(C119,'Guia de BTC'!C:C,0)),\"\"))","v":0.27660000000000001},1.18E-2,"GUAR3"]
[null,{"$f":"IFERROR(RANK(E120,$E$5:$E$400)+COUNTIF($E$5:E120,E120)-1,\"\")","v":232},{"$f":"IF('Guia de BTC'!C122=0,\"\",'Guia de BTC'!C122)","v":"TEND3<XBSP>"},"TEND3",{"$f":"IF(C120=\"\",\"\",IFERROR(INDEX(IF($C$3=\"% IBOV\",'Guia de BTC'!H:H,IF($C$3=\"% Float Alugado\",'Guia de BTC'!R:R,IF($C$3=\"Valor Alugado\",'Guia de BTC'!T:T,IF($C$3=\"Volume Médio\",'Guia de BTC'!Y:Y,IF($C$3=\"Dias de Giro\",'Guia de BTC'!Z:Z,IF($C$3=\"Aluguel vs Vista\",'Guia de BTC'!AF:AF,IF($C$3=\"Ações Alugadas\",'Guia de BTC'!AD:AD,IF($C$3=\"▲ de 1 dia\",'Guia de BTC'!AJ:AJ,IF($C$3=\"Taxa Média De Aluguel\",'Guia de BTC'!AN:AN,\"\"))))))))),MATCH(C120,'Guia de BTC'!C:C,0)),\"\"))","v":5.0000000000000001E-4},1.14E-2,"CURY3"]
[null,{"$f":"IFERROR(RANK(E121,$E$5:$E$400)+COUNTIF($E$5:E121,E121)-1,\"\")","v":164},{"$f":"IF('Guia de BTC'!C123=0,\"\",'Guia de BTC'!C123)","v":"AGRO3<XBSP>"},"AGRO3",{"$f":"IF(C121=\"\",\"\",IFERROR(INDEX(IF($C$3=\"% IBOV\",'Guia de BTC'!H:H,IF($C$3=\"% Float Alugado\",'Guia de BTC'!R:R,IF($C$3=\"Valor Alugado\",'Guia de BTC'!T:T,IF($C$3=\"Volume Médio\",'Guia de BTC'!Y:Y,IF($C$3=\"Dias de Giro\",'Guia de BTC'!Z:Z,IF($C$3=\"Aluguel vs Vista\",'Guia de BTC'!AF:AF,IF($C$3=\"Ações Alugadas\",'Guia de BTC'!AD:AD,IF($C$3=\"▲ de 1 dia\",'Guia de BTC'!AJ:AJ,IF($C$3=\"Taxa Média De Aluguel\",'Guia de BTC'!AN:AN,\"\"))))))))),MATCH(C121,'Guia de BTC'!C:C,0)),\"\"))","v":3.5999999999999999E-3},1.1299999999999999E-2,"BRAV3"]
[null,{"$f":"IFERROR(RANK(E122,$E$5:$E$400)+COUNTIF($E$5:E122,E122)-1,\"\")","v":73},{"$f":"IF('Guia de BTC'!C124=0,\"\",'Guia de BTC'!C124)","v":"ITUB3<XBSP>"},"ITUB3",{"$f":"IF(C122=\"\",\"\",IFERROR(INDEX(IF($C$3=\"% IBOV\",'Guia de BTC'!H:H,IF($C$3=\"% Float Alugado\",'Guia de BTC'!R:R,IF($C$3=\"Valor Alugado\",'Guia de BTC'!T:T,IF($C$3=\"Volume Médio\",'Guia de BTC'!Y:Y,IF($C$3=\"Dias de Giro\",'Guia de BTC'!Z:Z,IF($C$3=\"Aluguel vs Vista\",'Guia de BTC'!AF:AF,IF($C$3=\"Ações Alugadas\",'Guia de BTC'!AD:AD,IF($C$3=\"▲ de 1 dia\",'Guia de BTC'!AJ:AJ,IF($C$3=\"Taxa Média De Aluguel\",'Guia de BTC'!AN:AN,\"\"))))))))),MATCH(C122,'Guia de BTC'!C:C,0)),\"\"))","v":3.4599999999999999E-2},1.0800000000000001E-2,"BOVX11"]
[null,{"$f":"IFERROR(RANK(E123,$E$5:$E$400)+COUNTIF($E$5:E123,E123)-1,\"\")","v":167},{"$f":"IF('Guia de BTC'!C125=0,\"\",'Guia de BTC'!C125)","v":"UNIP6<XBSP>"},"UNIP6",{"$f":"IF(C123=\"\",\"\",IFERROR(INDEX(IF($C$3=\"% IBOV\",'Guia de BTC'!H:H,IF($C$3=\"% Float Alugado\",'Guia de BTC'!R:R,IF($C$3=\"Valor Alugado\",'Guia de BTC'!T:T,IF($C$3=\"Volume Médio\",'Guia de BTC'!Y:Y,IF($C$3=\"Dias de Giro\",'Guia de BTC'!Z:Z,IF($C$3=\"Aluguel vs Vista\",'Guia de BTC'!AF:AF,IF($C$3=\"Ações Alugadas\",'Guia de BTC'!AD:AD,IF($C$3=\"▲ de 1 dia\",'Guia de BTC'!AJ:AJ,IF($C$3=\"Taxa Média De Aluguel\",'Guia de BTC'!AN:AN,\"\"))))))))),MATCH(C123,'Guia de BTC'!C:C,0)),\"\"))","v":3.3999999999999998E-3},1.0500000000000001E-2,"AURE3"]
[null,{"$f":"IFERROR(RANK(E124,$E$5:$E$400)+COUNTIF($E$5:E124,E124)-1,\"\")","v":154},{"$f":"IF('Guia de BTC'!C126=0,\"\",'Guia de BTC'!C126)","v":"BPAN4<XBSP>"},"BPAN4",{"$f":"IF(C124=\"\",\"\",IFERROR(INDEX(IF($C$3=\"% IBOV\",'Guia de BTC'!H:H,IF($C$3=\"% Float Alugado\",'Guia de BTC'!R:R,IF($C$3=\"Valor Alugado\",'Guia de BTC'!T:T,IF($C$3=\"Volume Médio\",'Guia de BTC'!Y:Y,IF($C$3=\"Dias de Giro\",'Guia de BTC'!Z:Z,IF($C$3=\"Aluguel vs Vista\",'Guia de BTC'!AF:AF,IF($C$3=\"Ações Alugadas\",'Guia de BTC'!AD:AD,IF($C$3=\"▲ de 1 dia\",'Guia de BTC'!AJ:AJ,IF($C$3=\"Taxa Média De Aluguel\",'Guia de BTC'!AN:AN,\"\"))))))))),MATCH(C124,'Guia de BTC'!C:C,0)),\"\"))","v":4.4000000000000003E-3},1.03E-2,"MTRE3"]
[null,{"$f":"IFERROR(RANK(E125,$E$5:$E$400)+COUNTIF($E$5:E125,E125)-1,\"\")","v":121},{"$f":"IF('Guia de BTC'!C127=0,\"\",'Guia de BTC'!C127)","v":"GOLD11<XBSP>"},"GOLD11",{"$f":"IF(C125=\"\",\"\",IFERROR(INDEX(IF($C$3=\"% IBOV\",'Guia de BTC'!H:H,IF($C$3=\"% Float Alugado\",'Guia de BTC'!R:R,IF($C$3=\"Valor Alugado\",'Guia de BTC'!T:T,IF($C$3=\"Volume Médio\",'Guia de BTC'!Y:Y,IF($C$3=\"Dias de Giro\",'Guia de BTC'!Z:Z,IF($C$3=\"Aluguel vs Vista\",'Guia de BTC'!AF:AF,IF($C$3=\"Ações Alugadas\",'Guia de BTC'!AD:AD,IF($C$3=\"▲ de 1 dia\",'Guia de BTC'!AJ:AJ,IF($C$3=\"Taxa Média De Aluguel\",'Guia de BTC'!AN:AN,\"\"))))))))),MATCH(C125,'Guia de BTC'!C:C,0)),\"\"))","v":0.01},0.01,"GOLD11"]
[null,{"$f":"IFERROR(RANK(E126,$E$5:$E$400)+COUNTIF($E$5:E126,E126)-1,\"\")","v":112},{"$f":"IF('Guia de BTC'!C128=0,\"\",'Guia de BTC'!C128)","v":"CEAB3<XBSP>"},"CEAB3",{"$f":"IF(C126=\"\",\"\",IFERROR(INDEX(IF($C$3=\"% IBOV\",'Guia de BTC'!H:H,IF($C$3=\"% Float Alugado\",'Guia de BTC'!R:R,IF($C$3=\"Valor Alugado\",'Guia de BTC'!T:T,IF($C$3=\"Volume Médio\",'Guia de BTC'!Y:Y,IF($C$3=\"Dias de Giro\",'Guia de BTC'!Z:Z,IF($C$3=\"Aluguel vs Vista\",'Guia de BTC'!AF:AF,IF($C$3=\"Ações Alugadas\",'Guia de BTC'!AD:AD,IF($C$3=\"▲ de 1 dia\",'Guia de BTC'!AJ:AJ,IF($C$3=\"Taxa Média De Aluguel\",'Guia de BTC'!AN:AN,\"\"))))))))),MATCH(C126,'Guia de BTC'!C:C,0)),\"\"))","v":1.23E-2},0.01,"LOGG3"]
[null,{"$f":"IFERROR(RANK(E127,$E$5:$E$400)+COUNTIF($E$5:E127,E127)-1,\"\")","v":184},{"$f":"IF('Guia de BTC'!C129=0,\"\",'Guia de BTC'!C129)","v":"JHSF3<XBSP>"},"JHSF3",{"$f":"IF(C127=\"\",\"\",IFERROR(INDEX(IF($C$3=\"% IBOV\",'Guia de BTC'!H:H,IF($C$3=\"% Float Alugado\",'Guia de BTC'!R:R,IF($C$3=\"Valor Alugado\",'Guia de BTC'!T:T,IF($C$3=\"Volume Médio\",'Guia de BTC'!Y:Y,IF($C$3=\"Dias de Giro\",'Guia de BTC'!Z:Z,IF($C$3=\"Aluguel vs Vista\",'Guia de BTC'!AF:AF,IF($C$3=\"Ações Alugadas\",'Guia de BTC'!AD:AD,IF($C$3=\"▲ de 1 dia\",'Guia de BTC'!AJ:AJ,IF($C$3=\"Taxa Média De Aluguel\",'Guia de BTC'!AN:AN,\"\"))))))))),MATCH(C127,'Guia de BTC'!C:C,0)),\"\"))","v":2E-3},9.9000000000000008E-3,"TRIS3"]
[null,{"$f":"IFERROR(RANK(E128,$E$5:$E$400)+COUNTIF($E$5:E128,E128)-1,\"\")","v":23},{"$f":"IF('Guia de BTC'!C130=0,\"\",'Guia de BTC'!C130)","v":"BHIA3<XBSP>"},"BHIA3",{"$f":"IF(C128=\"\",\"\",IFERROR(INDEX(IF($C$3=\"% IBOV\",'Guia de BTC'!H:H,IF($C$3=\"% Float Alugado\",'Guia de BTC'!R:R,IF($C$3=\"Valor Alugado\",'Guia de BTC'!T:T,IF($C$3=\"Volume Médio\",'Guia de BTC'!Y:Y,IF($C$3=\"Dias de Giro\",'Guia de BTC'!Z:Z,IF($C$3=\"Aluguel vs Vista\",'Guia de BTC'!AF:AF,IF($C$3=\"Ações Alugadas\",'Guia de BTC'!AD:AD,IF($C$3=\"▲ de 1 dia\",'Guia de BTC'!AJ:AJ,IF($C$3=\"Taxa Média De Aluguel\",'Guia de BTC'!AN:AN,\"\"))))))))),MATCH(C128,'Guia de BTC'!C:C,0)),\"\"))","v":0.1012},9.5999999999999992E-3,"CAML3"]
[null,{"$f":"IFERROR(RANK(E129,$E$5:$E$400)+COUNTIF($E$5:E129,E129)-1,\"\")","v":215},{"$f":"IF('Guia de BTC'!C131=0,\"\",'Guia de BTC'!C131)","v":"SBFG3<XBSP>"},"SBFG3",{"$f":"IF(C129=\"\",\"\",IFERROR(INDEX(IF($C$3=\"% IBOV\",'Guia de BTC'!H:H,IF($C$3=\"% Float Alugado\",'Guia de BTC'!R:R,IF($C$3=\"Valor Alugado\",'Guia de BTC'!T:T,IF($C$3=\"Volume Médio\",'Guia de BTC'!Y:Y,IF($C$3=\"Dias de Giro\",'Guia de BTC'!Z:Z,IF($C$3=\"Aluguel vs Vista\",'Guia de BTC'!AF:AF,IF($C$3=\"Ações Alugadas\",'Guia de BTC'!AD:AD,IF($C$3=\"▲ de 1 dia\",'Guia de BTC'!AJ:AJ,IF($C$3=\"Taxa Média De Aluguel\",'Guia de BTC'!AN:AN,\"\"))))))))),MATCH(C129,'Guia de BTC'!C:C,0)),\"\"))","v":8.9999999999999998E-4},9.4000000000000004E-3,"RADL3"]
[null,{"$f":"IFERROR(RANK(E130,$E$5:$E$400)+COUNTIF($E$5:E130,E130)-1,\"\")","v":151},{"$f":"IF('Guia de BTC'!C132=0,\"\",'Guia de BTC'!C132)","v":"POMO4<XBSP>"},"POMO4",{"$f":"IF(C130=\"\",\"\",IFERROR(INDEX(IF($C$3=\"% IBOV\",'Guia de BTC'!H:H,IF($C$3=\"% Float Alugado\",'Guia de BTC'!R:R,IF($C$3=\"Valor Alugado\",'Guia de BTC'!T:T,IF($C$3=\"Volume Médio\",'Guia de BTC'!Y:Y,IF($C$3=\"Dias de Giro\",'Guia de BTC'!Z:Z,IF($C$3=\"Aluguel vs Vista\",'Guia de BTC'!AF:AF,IF($C$3=\"Ações Alugadas\",'Guia de BTC'!AD:AD,IF($C$3=\"▲ de 1 dia\",'Guia de BTC'!AJ:AJ,IF($C$3=\"Taxa Média De Aluguel\",'Guia de BTC'!AN:AN,\"\"))))))))),MATCH(C130,'Guia de BTC'!C:C,0)),\"\"))","v":4.8999999999999998E-3},9.2999999999999992E-3,"BOVA11"]
[null,{"$f":"IFERROR(RANK(E131,$E$5:$E$400)+COUNTIF($E$5:E131,E131)-1,\"\")","v":206},{"$f":"IF('Guia de BTC'!C133=0,\"\",'Guia de BTC'!C133)","v":"ALPA4<XBSP>"},"ALPA4",{"$f":"IF(C131=\"\",\"\",IFERROR(INDEX(IF($C$3=\"% IBOV\",'Guia de BTC'!H:H,IF($C$3=\"% Float Alugado\",'Guia de BTC'!R:R,IF($C$3=\"Valor Alugado\",'Guia de BTC'!T:T,IF($C$3=\"Volume Médio\",'Guia de BTC'!Y:Y,IF($C$3=\"Dias de Giro\",'Guia de BTC'!Z:Z,IF($C$3=\"Aluguel vs Vista\",'Guia de BTC'!AF:AF,IF($C$3=\"Ações Alugadas\",'Guia de BTC'!AD:AD,IF($C$3=\"▲ de 1 dia\",'Guia de BTC'!AJ:AJ,IF($C$3=\"Taxa Média De Aluguel\",'Guia de BTC'!AN:AN,\"\"))))))))),MATCH(C131,'Guia de BTC'!C:C,0)),\"\"))","v":1.2999999999999999E-3},9.1999999999999998E-3,"ARML3"]
[null,{"$f":"IFERROR(RANK(E132,$E$5:$E$400)+COUNTIF($E$5:E132,E132)-1,\"\")","v":54},{"$f":"IF('Guia de BTC'!C134=0,\"\",'Guia de BTC'!C134)","v":"SMAC11<XBSP>"},"SMAC11",{"$f":"IF(C132=\"\",\"\",IFERROR(INDEX(IF($C$3=\"% IBOV\",'Guia de BTC'!H:H,IF($C$3=\"% Float Alugado\",'Guia de BTC'!R:R,IF($C$3=\"Valor Alugado\",'Guia de BTC'!T:T,IF($C$3=\"Volume Médio\",'Guia de BTC'!Y:Y,IF($C$3=\"Dias de Giro\",'Guia de BTC'!Z:Z,IF($C$3=\"Aluguel vs Vista\",'Guia de BTC'!AF:AF,IF($C$3=\"Ações Alugadas\",'Guia de BTC'!AD:AD,IF($C$3=\"▲ de 1 dia\",'Guia de BTC'!AJ:AJ,IF($C$3=\"Taxa Média De Aluguel\",'Guia de BTC'!AN:AN,\"\"))))))))),MATCH(C132,'Guia de BTC'!C:C,0)),\"\"))","v":0.05},9.1000000000000004E-3,"LREN3"]
[null,{"$f":"IFERROR(RANK(E133,$E$5:$E$400)+COUNTIF($E$5:E133,E133)-1,\"\")","v":225},{"$f":"IF('Guia de BTC'!C135=0,\"\",'Guia de BTC'!C135)","v":"MILS3<XBSP>"},"MILS3",{"$f":"IF(C133=\"\",\"\",IFERROR(INDEX(IF($C$3=\"% IBOV\",'Guia de BTC'!H:H,IF($C$3=\"% Float Alugado\",'Guia de BTC'!R:R,IF($C$3=\"Valor Alugado\",'Guia de BTC'!T:T,IF($C$3=\"Volume Médio\",'Guia de BTC'!Y:Y,IF($C$3=\"Dias de Giro\",'Guia de BTC'!Z:Z,IF($C$3=\"Aluguel vs Vista\",'Guia de BTC'!AF:AF,IF($C$3=\"Ações Alugadas\",'Guia de BTC'!AD:AD,IF($C$3=\"▲ de 1 dia\",'Guia de BTC'!AJ:AJ,IF($C$3=\"Taxa Média De Aluguel\",'Guia de BTC'!AN:AN,\"\"))))))))),MATCH(C133,'Guia de BTC'!C:C,0)),\"\"))","v":5.9999999999999995E-4},9.1000000000000004E-3,"ITSA3"]
[null,{"$f":"IFERROR(RANK(E134,$E$5:$E$400)+COUNTIF($E$5:E134,E134)-1,\"\")","v":172},{"$f":"IF('Guia de BTC'!C136=0,\"\",'Guia de BTC'!C136)","v":"MYPK3<XBSP>"},"MYPK3",{"$f":"IF(C134=\"\",\"\",IFERROR(INDEX(IF($C$3=\"% IBOV\",'Guia de BTC'!H:H,IF($C$3=\"% Float Alugado\",'Guia de BTC'!R:R,IF($C$3=\"Valor Alugado\",'Guia de BTC'!T:T,IF($C$3=\"Volume Médio\",'Guia de BTC'!Y:Y,IF($C$3=\"Dias de Giro\",'Guia de BTC'!Z:Z,IF($C$3=\"Aluguel vs Vista\",'Guia de BTC'!AF:AF,IF($C$3=\"Ações Alugadas\",'Guia de BTC'!AD:AD,IF($C$3=\"▲ de 1 dia\",'Guia de BTC'!AJ:AJ,IF($C$3=\"Taxa Média De Aluguel\",'Guia de BTC'!AN:AN,\"\"))))))))),MATCH(C134,'Guia de BTC'!C:C,0)),\"\"))","v":2.7000000000000001E-3},8.8999999999999999E-3,"GOAU4"]
[null,{"$f":"IFERROR(RANK(E135,$E$5:$E$400)+COUNTIF($E$5:E135,E135)-1,\"\")","v":104},{"$f":"IF('Guia de BTC'!C137=0,\"\",'Guia de BTC'!C137)","v":"CMIG3<XBSP>"},"CMIG3",{"$f":"IF(C135=\"\",\"\",IFERROR(INDEX(IF($C$3=\"% IBOV\",'Guia de BTC'!H:H,IF($C$3=\"% Float Alugado\",'Guia de BTC'!R:R,IF($C$3=\"Valor Alugado\",'Guia de BTC'!T:T,IF($C$3=\"Volume Médio\",'Guia de BTC'!Y:Y,IF($C$3=\"Dias de Giro\",'Guia de BTC'!Z:Z,IF($C$3=\"Aluguel vs Vista\",'Guia de BTC'!AF:AF,IF($C$3=\"Ações Alugadas\",'Guia de BTC'!AD:AD,IF($C$3=\"▲ de 1 dia\",'Guia de BTC'!AJ:AJ,IF($C$3=\"Taxa Média De Aluguel\",'Guia de BTC'!AN:AN,\"\"))))))))),MATCH(C135,'Guia de BTC'!C:C,0)),\"\"))","v":1.55E-2},{"$f":"IF(C135=\"\",\"\",IFERROR(VLOOKUP(ROW()-4,$B$3:$E$600,4,FALSE),\"\"))","v":8.3000000000000001E-3},{"$f":"IF(C135=\"\",\"\",IFERROR(VLOOKUP(ROW()-4,$B$3:$E$600,3,FALSE),\"\"))","v":"SANB3"}]
[null,{"$f":"IFERROR(RANK(E136,$E$5:$E$400)+COUNTIF($E$5:E136,E136)-1,\"\")","v":67},{"$f":"IF('Guia de BTC'!C138=0,\"\",'Guia de BTC'!C138)","v":"OIBR3<XBSP>"},"OIBR3",{"$f":"IF(C136=\"\",\"\",IFERROR(INDEX(IF($C$3=\"% IBOV\",'Guia de BTC'!H:H,IF($C$3=\"% Float Alugado\",'Guia de BTC'!R:R,IF($C$3=\"Valor Alugado\",'Guia de BTC'!T:T,IF($C$3=\"Volume Médio\",'Guia de BTC'!Y:Y,IF($C$3=\"Dias de Giro\",'Guia de BTC'!Z:Z,IF($C$3=\"Aluguel vs Vista\",'Guia de BTC'!AF:AF,IF($C$3=\"Ações Alugadas\",'Guia de BTC'!AD:AD,IF($C$3=\"▲ de 1 dia\",'Guia de BTC'!AJ:AJ,IF($C$3=\"Taxa Média De Aluguel\",'Guia de BTC'!AN:AN,\"\"))))))))),MATCH(C136,'Guia de BTC'!C:C,0)),\"\"))","v":3.8399999999999997E-2},7.9000000000000008E-3,"PSSA3"]
[null,{"$f":"IFERROR(RANK(E137,$E$5:$E$400)+COUNTIF($E$5:E137,E137)-1,\"\")","v":176},{"$f":"IF('Guia de BTC'!C139=0,\"\",'Guia de BTC'!C139)","v":"BRSR6<XBSP>"},"BRSR6",{"$f":"IF(C137=\"\",\"\",IFERROR(INDEX(IF($C$3=\"% IBOV\",'Guia de BTC'!H:H,IF($C$3=\"% Float Alugado\",'Guia de BTC'!R:R,IF($C$3=\"Valor Alugado\",'Guia de BTC'!T:T,IF($C$3=\"Volume Médio\",'Guia de BTC'!Y:Y,IF($C$3=\"Dias de Giro\",'Guia de BTC'!Z:Z,IF($C$3=\"Aluguel vs Vista\",'Guia de BTC'!AF:AF,IF($C$3=\"Ações Alugadas\",'Guia de BTC'!AD:AD,IF($C$3=\"▲ de 1 dia\",'Guia de BTC'!AJ:AJ,IF($C$3=\"Taxa Média De Aluguel\",'Guia de BTC'!AN:AN,\"\"))))))))),MATCH(C137,'Guia de BTC'!C:C,0)),\"\"))","v":2.3999999999999998E-3},7.4999999999999997E-3,"RECV3"]
[null,{"$f":"IFERROR(RANK(E138,$E$5:$E$400)+COUNTIF($E$5:E138,E138)-1,\"\")","v":235},{"$f":"IF('Guia de BTC'!C140=0,\"\",'Guia de BTC'!C140)","v":"LJQQ3<XBSP>"},"LJQQ3",{"$f":"IF(C138=\"\",\"\",IFERROR(INDEX(IF($C$3=\"% IBOV\",'Guia de BTC'!H:H,IF($C$3=\"% Float Alugado\",'Guia de BTC'!R:R,IF($C$3=\"Valor Alugado\",'Guia de BTC'!T:T,IF($C$3=\"Volume Médio\",'Guia de BTC'!Y:Y,IF($C$3=\"Dias de Giro\",'Guia de BTC'!Z:Z,IF($C$3=\"Aluguel vs Vista\",'Guia de BTC'!AF:AF,IF($C$3=\"Ações Alugadas\",'Guia de BTC'!AD:AD,IF($C$3=\"▲ de 1 dia\",'Guia de BTC'!AJ:AJ,IF($C$3=\"Taxa Média De Aluguel\",'Guia de BTC'!AN:AN,\"\"))))))))),MATCH(C138,'Guia de BTC'!C:C,0)),\"\"))","v":4.0000000000000002E-4},7.4999999999999997E-3,"TTEN3"]
[null,{"$f":"IFERROR(RANK(E139,$E$5:$E$400)+COUNTIF($E$5:E139,E139)-1,\"\")","v":204},{"$f":"IF('Guia de BTC'!C141=0,\"\",'Guia de BTC'!C141)","v":"NEOE3<XBSP>"},"NEOE3",{"$f":"IF(C139=\"\",\"\",IFERROR(INDEX(IF($C$3=\"% IBOV\",'Guia de BTC'!H:H,IF($C$3=\"% Float Alugado\",'Guia de BTC'!R:R,IF($C$3=\"Valor Alugado\",'Guia de BTC'!T:T,IF($C$3=\"Volume Médio\",'Guia de BTC'!Y:Y,IF($C$3=\"Dias de Giro\",'Guia de BTC'!Z:Z,IF($C$3=\"Aluguel vs Vista\",'Guia de BTC'!AF:AF,IF($C$3=\"Ações Alugadas\",'Guia de BTC'!AD:AD,IF($C$3=\"▲ de 1 dia\",'Guia de BTC'!AJ:AJ,IF($C$3=\"Taxa Média De Aluguel\",'Guia de BTC'!AN:AN,\"\"))))))))),MATCH(C139,'Guia de BTC'!C:C,0)),\"\"))","v":1.4E-3},7.4999999999999997E-3,"KEPL3"]
[null,{"$f":"IFERROR(RANK(E140,$E$5:$E$400)+COUNTIF($E$5:E140,E140)-1,\"\")","v":20},{"$f":"IF('Guia de BTC'!C142=0,\"\",'Guia de BTC'!C142)","v":"GOLL4<XBSP>"},"GOLL4",{"$f":"IF(C140=\"\",\"\",IFERROR(INDEX(IF($C$3=\"% IBOV\",'Guia de BTC'!H:H,IF($C$3=\"% Float Alugado\",'Guia de BTC'!R:R,IF($C$3=\"Valor Alugado\",'Guia de BTC'!T:T,IF($C$3=\"Volume Médio\",'Guia de BTC'!Y:Y,IF($C$3=\"Dias de Giro\",'Guia de BTC'!Z:Z,IF($C$3=\"Aluguel vs Vista\",'Guia de BTC'!AF:AF,IF($C$3=\"Ações Alugadas\",'Guia de BTC'!AD:AD,IF($C$3=\"▲ de 1 dia\",'Guia de BTC'!AJ:AJ,IF($C$3=\"Taxa Média De Aluguel\",'Guia de BTC'!AN:AN,\"\"))))))))),MATCH(C140,'Guia de BTC'!C:C,0)),\"\"))","v":0.1067},7.4999999999999997E-3,"ETER3"]
[null,{"$f":"IFERROR(RANK(E141,$E$5:$E$400)+COUNTIF($E$5:E141,E141)-1,\"\")","v":171},{"$f":"IF('Guia de BTC'!C143=0,\"\",'Guia de BTC'!C143)","v":"POSI3<XBSP>"},"POSI3",{"$f":"IF(C141=\"\",\"\",IFERROR(INDEX(IF($C$3=\"% IBOV\",'Guia de BTC'!H:H,IF($C$3=\"% Float Alugado\",'Guia de BTC'!R:R,IF($C$3=\"Valor Alugado\",'Guia de BTC'!T:T,IF($C$3=\"Volume Médio\",'Guia de BTC'!Y:Y,IF($C$3=\"Dias de Giro\",'Guia de BTC'!Z:Z,IF($C$3=\"Aluguel vs Vista\",'Guia de BTC'!AF:AF,IF($C$3=\"Ações Alugadas\",'Guia de BTC'!AD:AD,IF($C$3=\"▲ de 1 dia\",'Guia de BTC'!AJ:AJ,IF($C$3=\"Taxa Média De Aluguel\",'Guia de BTC'!AN:AN,\"\"))))))))),MATCH(C141,'Guia de BTC'!C:C,0)),\"\"))","v":2.8999999999999998E-3},7.3000000000000001E-3,"BITH11"]
[null,{"$f":"IFERROR(RANK(E142,$E$5:$E$400)+COUNTIF($E$5:E142,E142)-1,\"\")","v":253},{"$f":"IF('Guia de BTC'!C144=0,\"\",'Guia de BTC'!C144)","v":"CPLE3<XBSP>"},"CPLE3",{"$f":"IF(C142=\"\",\"\",IFERROR(INDEX(IF($C$3=\"% IBOV\",'Guia de BTC'!H:H,IF($C$3=\"% Float Alugado\",'Guia de BTC'!R:R,IF($C$3=\"Valor Alugado\",'Guia de BTC'!T:T,IF($C$3=\"Volume Médio\",'Guia de BTC'!Y:Y,IF($C$3=\"Dias de Giro\",'Guia de BTC'!Z:Z,IF($C$3=\"Aluguel vs Vista\",'Guia de BTC'!AF:AF,IF($C$3=\"Ações Alugadas\",'Guia de BTC'!AD:AD,IF($C$3=\"▲ de 1 dia\",'Guia de BTC'!AJ:AJ,IF($C$3=\"Taxa Média De Aluguel\",'Guia de BTC'!AN:AN,\"\"))))))))),MATCH(C142,'Guia de BTC'!C:C,0)),\"\"))","v":1E-4},7.0000000000000001E-3,"SRNA3"]
[null,{"$f":"IFERROR(RANK(E143,$E$5:$E$400)+COUNTIF($E$5:E143,E143)-1,\"\")","v":138},{"$f":"IF('Guia de BTC'!C145=0,\"\",'Guia de BTC'!C145)","v":"SRNA3<XBSP>"},"SRNA3",{"$f":"IF(C143=\"\",\"\",IFERROR(INDEX(IF($C$3=\"% IBOV\",'Guia de BTC'!H:H,IF($C$3=\"% Float Alugado\",'Guia de BTC'!R:R,IF($C$3=\"Valor Alugado\",'Guia de BTC'!T:T,IF($C$3=\"Volume Médio\",'Guia de BTC'!Y:Y,IF($C$3=\"Dias de Giro\",'Guia de BTC'!Z:Z,IF($C$3=\"Aluguel vs Vista\",'Guia de BTC'!AF:AF,IF($C$3=\"Ações Alugadas\",'Guia de BTC'!AD:AD,IF($C$3=\"▲ de 1 dia\",'Guia de BTC'!AJ:AJ,IF($C$3=\"Taxa Média De Aluguel\",'Guia de BTC'!AN:AN,\"\"))))))))),MATCH(C143,'Guia de BTC'!C:C,0)),\"\"))","v":7.0000000000000001E-3},7.0000000000000001E-3,"BIOM3"]
[null,{"$f":"IFERROR(RANK(E144,$E$5:$E$400)+COUNTIF($E$5:E144,E144)-1,\"\")","v":177},{"$f":"IF('Guia de BTC'!C146=0,\"\",'Guia de BTC'!C146)","v":"FESA4<XBSP>"},"FESA4",{"$f":"IF(C144=\"\",\"\",IFERROR(INDEX(IF($C$3=\"% IBOV\",'Guia de BTC'!H:H,IF($C$3=\"% Float Alugado\",'Guia de BTC'!R:R,IF($C$3=\"Valor Alugado\",'Guia de BTC'!T:T,IF($C$3=\"Volume Médio\",'Guia de BTC'!Y:Y,IF($C$3=\"Dias de Giro\",'Guia de BTC'!Z:Z,IF($C$3=\"Aluguel vs Vista\",'Guia de BTC'!AF:AF,IF($C$3=\"Ações Alugadas\",'Guia de BTC'!AD:AD,IF($C$3=\"▲ de 1 dia\",'Guia de BTC'!AJ:AJ,IF($C$3=\"Taxa Média De Aluguel\",'Guia de BTC'!AN:AN,\"\"))))))))),MATCH(C144,'Guia de BTC'!C:C,0)),\"\"))","v":2.3999999999999998E-3},6.7000000000000002E-3,"BRKM5"]
[null,{"$f":"IFERROR(RANK(E145,$E$5:$E$400)+COUNTIF($E$5:E145,E145)-1,\"\")","v":134},{"$f":"IF('Guia de BTC'!C147=0,\"\",'Guia de BTC'!C147)","v":"TTEN3<XBSP>"},"TTEN3",{"$f":"IF(C145=\"\",\"\",IFERROR(INDEX(IF($C$3=\"% IBOV\",'Guia de BTC'!H:H,IF($C$3=\"% Float Alugado\",'Guia de BTC'!R:R,IF($C$3=\"Valor Alugado\",'Guia de BTC'!T:T,IF($C$3=\"Volume Médio\",'Guia de BTC'!Y:Y,IF($C$3=\"Dias de Giro\",'Guia de BTC'!Z:Z,IF($C$3=\"Aluguel vs Vista\",'Guia de BTC'!AF:AF,IF($C$3=\"Ações Alugadas\",'Guia de BTC'!AD:AD,IF($C$3=\"▲ de 1 dia\",'Guia de BTC'!AJ:AJ,IF($C$3=\"Taxa Média De Aluguel\",'Guia de BTC'!AN:AN,\"\"))))))))),MATCH(C145,'Guia de BTC'!C:C,0)),\"\"))","v":7.4999999999999997E-3},6.6E-3,"COGN3"]
[null,{"$f":"IFERROR(RANK(E146,$E$5:$E$400)+COUNTIF($E$5:E146,E146)-1,\"\")","v":156},{"$f":"IF('Guia de BTC'!C148=0,\"\",'Guia de BTC'!C148)","v":"MLAS3<XBSP>"},"MLAS3",{"$f":"IF(C146=\"\",\"\",IFERROR(INDEX(IF($C$3=\"% IBOV\",'Guia de BTC'!H:H,IF($C$3=\"% Float Alugado\",'Guia de BTC'!R:R,IF($C$3=\"Valor Alugado\",'Guia de BTC'!T:T,IF($C$3=\"Volume Médio\",'Guia de BTC'!Y:Y,IF($C$3=\"Dias de Giro\",'Guia de BTC'!Z:Z,IF($C$3=\"Aluguel vs Vista\",'Guia de BTC'!AF:AF,IF($C$3=\"Ações Alugadas\",'Guia de BTC'!AD:AD,IF($C$3=\"▲ de 1 dia\",'Guia de BTC'!AJ:AJ,IF($C$3=\"Taxa Média De Aluguel\",'Guia de BTC'!AN:AN,\"\"))))))))),MATCH(C146,'Guia de BTC'!C:C,0)),\"\"))","v":4.1000000000000003E-3},6.3E-3,"CCRO3"]
[null,{"$f":"IFERROR(RANK(E147,$E$5:$E$400)+COUNTIF($E$5:E147,E147)-1,\"\")","v":144},{"$f":"IF('Guia de BTC'!C149=0,\"\",'Guia de BTC'!C149)","v":"CBAV3<XBSP>"},"CBAV3",{"$f":"IF(C147=\"\",\"\",IFERROR(INDEX(IF($C$3=\"% IBOV\",'Guia de BTC'!H:H,IF($C$3=\"% Float Alugado\",'Guia de BTC'!R:R,IF($C$3=\"Valor Alugado\",'Guia de BTC'!T:T,IF($C$3=\"Volume Médio\",'Guia de BTC'!Y:Y,IF($C$3=\"Dias de Giro\",'Guia de BTC'!Z:Z,IF($C$3=\"Aluguel vs Vista\",'Guia de BTC'!AF:AF,IF($C$3=\"Ações Alugadas\",'Guia de BTC'!AD:AD,IF($C$3=\"▲ de 1 dia\",'Guia de BTC'!AJ:AJ,IF($C$3=\"Taxa Média De Aluguel\",'Guia de BTC'!AN:AN,\"\"))))))))),MATCH(C147,'Guia de BTC'!C:C,0)),\"\"))","v":5.4000000000000003E-3},6.0000000000000001E-3,"LEVE3"]
[null,{"$f":"IFERROR(RANK(E148,$E$5:$E$400)+COUNTIF($E$5:E148,E148)-1,\"\")","v":155},{"$f":"IF('Guia de BTC'!C150=0,\"\",'Guia de BTC'!C150)","v":"ZAMP3<XBSP>"},"ZAMP3",{"$f":"IF(C148=\"\",\"\",IFERROR(INDEX(IF($C$3=\"% IBOV\",'Guia de BTC'!H:H,IF($C$3=\"% Float Alugado\",'Guia de BTC'!R:R,IF($C$3=\"Valor Alugado\",'Guia de BTC'!T:T,IF($C$3=\"Volume Médio\",'Guia de BTC'!Y:Y,IF($C$3=\"Dias de Giro\",'Guia de BTC'!Z:Z,IF($C$3=\"Aluguel vs Vista\",'Guia de BTC'!AF:AF,IF($C$3=\"Ações Alugadas\",'Guia de BTC'!AD:AD,IF($C$3=\"▲ de 1 dia\",'Guia de BTC'!AJ:AJ,IF($C$3=\"Taxa Média De Aluguel\",'Guia de BTC'!AN:AN,\"\"))))))))),MATCH(C148,'Guia de BTC'!C:C,0)),\"\"))","v":4.4000000000000003E-3},5.4000000000000003E-3,"CBAV3"]
[null,{"$f":"IFERROR(RANK(E149,$E$5:$E$400)+COUNTIF($E$5:E149,E149)-1,\"\")","v":68},{"$f":"IF('Guia de BTC'!C151=0,\"\",'Guia de BTC'!C151)","v":"CLSA3<XBSP>"},"CLSA3",{"$f":"IF(C149=\"\",\"\",IFERROR(INDEX(IF($C$3=\"% IBOV\",'Guia de BTC'!H:H,IF($C$3=\"% Float Alugado\",'Guia de BTC'!R:R,IF($C$3=\"Valor Alugado\",'Guia de BTC'!T:T,IF($C$3=\"Volume Médio\",'Guia de BTC'!Y:Y,IF($C$3=\"Dias de Giro\",'Guia de BTC'!Z:Z,IF($C$3=\"Aluguel vs Vista\",'Guia de BTC'!AF:AF,IF($C$3=\"Ações Alugadas\",'Guia de BTC'!AD:AD,IF($C$3=\"▲ de 1 dia\",'Guia de BTC'!AJ:AJ,IF($C$3=\"Taxa Média De Aluguel\",'Guia de BTC'!AN:AN,\"\"))))))))),MATCH(C149,'Guia de BTC'!C:C,0)),\"\"))","v":3.7999999999999999E-2},5.1999999999999998E-3,"SMTO3"]
[null,{"$f":"IFERROR(RANK(E150,$E$5:$E$400)+COUNTIF($E$5:E150,E150)-1,\"\")","v":213},{"$f":"IF('Guia de BTC'!C152=0,\"\",'Guia de BTC'!C152)","v":"CASH3<XBSP>"},"CASH3",{"$f":"IF(C150=\"\",\"\",IFERROR(INDEX(IF($C$3=\"% IBOV\",'Guia de BTC'!H:H,IF($C$3=\"% Float Alugado\",'Guia de BTC'!R:R,IF($C$3=\"Valor Alugado\",'Guia de BTC'!T:T,IF($C$3=\"Volume Médio\",'Guia de BTC'!Y:Y,IF($C$3=\"Dias de Giro\",'Guia de BTC'!Z:Z,IF($C$3=\"Aluguel vs Vista\",'Guia de BTC'!AF:AF,IF($C$3=\"Ações Alugadas\",'Guia de BTC'!AD:AD,IF($C$3=\"▲ de 1 dia\",'Guia de BTC'!AJ:AJ,IF($C$3=\"Taxa Média De Aluguel\",'Guia de BTC'!AN:AN,\"\"))))))))),MATCH(C150,'Guia de BTC'!C:C,0)),\"\"))","v":1.1000000000000001E-3},5.0000000000000001E-3,"TIMS3"]
[null,{"$f":"IFERROR(RANK(E151,$E$5:$E$400)+COUNTIF($E$5:E151,E151)-1,\"\")","v":78},{"$f":"IF('Guia de BTC'!C153=0,\"\",'Guia de BTC'!C153)","v":"VVEO3<XBSP>"},"VVEO3",{"$f":"IF(C151=\"\",\"\",IFERROR(INDEX(IF($C$3=\"% IBOV\",'Guia de BTC'!H:H,IF($C$3=\"% Float Alugado\",'Guia de BTC'!R:R,IF($C$3=\"Valor Alugado\",'Guia de BTC'!T:T,IF($C$3=\"Volume Médio\",'Guia de BTC'!Y:Y,IF($C$3=\"Dias de Giro\",'Guia de BTC'!Z:Z,IF($C$3=\"Aluguel vs Vista\",'Guia de BTC'!AF:AF,IF($C$3=\"Ações Alugadas\",'Guia de BTC'!AD:AD,IF($C$3=\"▲ de 1 dia\",'Guia de BTC'!AJ:AJ,IF($C$3=\"Taxa Média De Aluguel\",'Guia de BTC'!AN:AN,\"\"))))))))),MATCH(C151,'Guia de BTC'!C:C,0)),\"\"))","v":3.1E-2},5.0000000000000001E-3,"RAIL3"]
[null,{"$f":"IFERROR(RANK(E152,$E$5:$E$400)+COUNTIF($E$5:E152,E152)-1,\"\")","v":198},{"$f":"IF('Guia de BTC'!C154=0,\"\",'Guia de BTC'!C154)","v":"TASA4<XBSP>"},"TASA4",{"$f":"IF(C152=\"\",\"\",IFERROR(INDEX(IF($C$3=\"% IBOV\",'Guia de BTC'!H:H,IF($C$3=\"% Float Alugado\",'Guia de BTC'!R:R,IF($C$3=\"Valor Alugado\",'Guia de BTC'!T:T,IF($C$3=\"Volume Médio\",'Guia de BTC'!Y:Y,IF($C$3=\"Dias de Giro\",'Guia de BTC'!Z:Z,IF($C$3=\"Aluguel vs Vista\",'Guia de BTC'!AF:AF,IF($C$3=\"Ações Alugadas\",'Guia de BTC'!AD:AD,IF($C$3=\"▲ de 1 dia\",'Guia de BTC'!AJ:AJ,IF($C$3=\"Taxa Média De Aluguel\",'Guia de BTC'!AN:AN,\"\"))))))))),MATCH(C152,'Guia de BTC'!C:C,0)),\"\"))","v":1.5E-3},5.0000000000000001E-3,"XINA11"]
[null,{"$f":"IFERROR(RANK(E153,$E$5:$E$400)+COUNTIF($E$5:E153,E153)-1,\"\")","v":93},{"$f":"IF('Guia de BTC'!C155=0,\"\",'Guia de BTC'!C155)","v":"NASD11<XBSP>"},"NASD11",{"$f":"IF(C153=\"\",\"\",IFERROR(INDEX(IF($C$3=\"% IBOV\",'Guia de BTC'!H:H,IF($C$3=\"% Float Alugado\",'Guia de BTC'!R:R,IF($C$3=\"Valor Alugado\",'Guia de BTC'!T:T,IF($C$3=\"Volume Médio\",'Guia de BTC'!Y:Y,IF($C$3=\"Dias de Giro\",'Guia de BTC'!Z:Z,IF($C$3=\"Aluguel vs Vista\",'Guia de BTC'!AF:AF,IF($C$3=\"Ações Alugadas\",'Guia de BTC'!AD:AD,IF($C$3=\"▲ de 1 dia\",'Guia de BTC'!AJ:AJ,IF($C$3=\"Taxa Média De Aluguel\",'Guia de BTC'!AN:AN,\"\"))))))))),MATCH(C153,'Guia de BTC'!C:C,0)),\"\"))","v":2.0899999999999998E-2},5.0000000000000001E-3,"BMOB3"]
[null,{"$f":"IFERROR(RANK(E154,$E$5:$E$400)+COUNTIF($E$5:E154,E154)-1,\"\")","v":86},{"$f":"IF('Guia de BTC'!C156=0,\"\",'Guia de BTC'!C156)","v":"ORVR3<XBSP>"},"ORVR3",{"$f":"IF(C154=\"\",\"\",IFERROR(INDEX(IF($C$3=\"% IBOV\",'Guia de BTC'!H:H,IF($C$3=\"% Float Alugado\",'Guia de BTC'!R:R,IF($C$3=\"Valor Alugado\",'Guia de BTC'!T:T,IF($C$3=\"Volume Médio\",'Guia de BTC'!Y:Y,IF($C$3=\"Dias de Giro\",'Guia de BTC'!Z:Z,IF($C$3=\"Aluguel vs Vista\",'Guia de BTC'!AF:AF,IF($C$3=\"Ações Alugadas\",'Guia de BTC'!AD:AD,IF($C$3=\"▲ de 1 dia\",'Guia de BTC'!AJ:AJ,IF($C$3=\"Taxa Média De Aluguel\",'Guia de BTC'!AN:AN,\"\"))))))))),MATCH(C154,'Guia de BTC'!C:C,0)),\"\"))","v":2.5499999999999998E-2},5.0000000000000001E-3,"BITI11"]
[null,{"$f":"IFERROR(RANK(E155,$E$5:$E$400)+COUNTIF($E$5:E155,E155)-1,\"\")","v":207},{"$f":"IF('Guia de BTC'!C157=0,\"\",'Guia de BTC'!C157)","v":"ANIM3<XBSP>"},"ANIM3",{"$f":"IF(C155=\"\",\"\",IFERROR(INDEX(IF($C$3=\"% IBOV\",'Guia de BTC'!H:H,IF($C$3=\"% Float Alugado\",'Guia de BTC'!R:R,IF($C$3=\"Valor Alugado\",'Guia de BTC'!T:T,IF($C$3=\"Volume Médio\",'Guia de BTC'!Y:Y,IF($C$3=\"Dias de Giro\",'Guia de BTC'!Z:Z,IF($C$3=\"Aluguel vs Vista\",'Guia de BTC'!AF:AF,IF($C$3=\"Ações Alugadas\",'Guia de BTC'!AD:AD,IF($C$3=\"▲ de 1 dia\",'Guia de BTC'!AJ:AJ,IF($C$3=\"Taxa Média De Aluguel\",'Guia de BTC'!AN:AN,\"\"))))))))),MATCH(C155,'Guia de BTC'!C:C,0)),\"\"))","v":1.2999999999999999E-3},4.8999999999999998E-3,"POMO4"]
[null,{"$f":"IFERROR(RANK(E156,$E$5:$E$400)+COUNTIF($E$5:E156,E156)-1,\"\")","v":148},{"$f":"IF('Guia de BTC'!C158=0,\"\",'Guia de BTC'!C158)","v":"XINA11<XBSP>"},"XINA11",{"$f":"IF(C156=\"\",\"\",IFERROR(INDEX(IF($C$3=\"% IBOV\",'Guia de BTC'!H:H,IF($C$3=\"% Float Alugado\",'Guia de BTC'!R:R,IF($C$3=\"Valor Alugado\",'Guia de BTC'!T:T,IF($C$3=\"Volume Médio\",'Guia de BTC'!Y:Y,IF($C$3=\"Dias de Giro\",'Guia de BTC'!Z:Z,IF($C$3=\"Aluguel vs Vista\",'Guia de BTC'!AF:AF,IF($C$3=\"Ações Alugadas\",'Guia de BTC'!AD:AD,IF($C$3=\"▲ de 1 dia\",'Guia de BTC'!AJ:AJ,IF($C$3=\"Taxa Média De Aluguel\",'Guia de BTC'!AN:AN,\"\"))))))))),MATCH(C156,'Guia de BTC'!C:C,0)),\"\"))","v":5.0000000000000001E-3},4.5999999999999999E-3,"HYPE3"]
[null,{"$f":"IFERROR(RANK(E157,$E$5:$E$400)+COUNTIF($E$5:E157,E157)-1,\"\")","v":113},{"$f":"IF('Guia de BTC'!C159=0,\"\",'Guia de BTC'!C159)","v":"EVEN3<XBSP>"},"EVEN3",{"$f":"IF(C157=\"\",\"\",IFERROR(INDEX(IF($C$3=\"% IBOV\",'Guia de BTC'!H:H,IF($C$3=\"% Float Alugado\",'Guia de BTC'!R:R,IF($C$3=\"Valor Alugado\",'Guia de BTC'!T:T,IF($C$3=\"Volume Médio\",'Guia de BTC'!Y:Y,IF($C$3=\"Dias de Giro\",'Guia de BTC'!Z:Z,IF($C$3=\"Aluguel vs Vista\",'Guia de BTC'!AF:AF,IF($C$3=\"Ações Alugadas\",'Guia de BTC'!AD:AD,IF($C$3=\"▲ de 1 dia\",'Guia de BTC'!AJ:AJ,IF($C$3=\"Taxa Média De Aluguel\",'Guia de BTC'!AN:AN,\"\"))))))))),MATCH(C157,'Guia de BTC'!C:C,0)),\"\"))","v":1.2E-2},4.4999999999999997E-3,"HASH11"]
[null,{"$f":"IFERROR(RANK(E158,$E$5:$E$400)+COUNTIF($E$5:E158,E158)-1,\"\")","v":127},{"$f":"IF('Guia de BTC'!C160=0,\"\",'Guia de BTC'!C160)","v":"ARML3<XBSP>"},"ARML3",{"$f":"IF(C158=\"\",\"\",IFERROR(INDEX(IF($C$3=\"% IBOV\",'Guia de BTC'!H:H,IF($C$3=\"% Float Alugado\",'Guia de BTC'!R:R,IF($C$3=\"Valor Alugado\",'Guia de BTC'!T:T,IF($C$3=\"Volume Médio\",'Guia de BTC'!Y:Y,IF($C$3=\"Dias de Giro\",'Guia de BTC'!Z:Z,IF($C$3=\"Aluguel vs Vista\",'Guia de BTC'!AF:AF,IF($C$3=\"Ações Alugadas\",'Guia de BTC'!AD:AD,IF($C$3=\"▲ de 1 dia\",'Guia de BTC'!AJ:AJ,IF($C$3=\"Taxa Média De Aluguel\",'Guia de BTC'!AN:AN,\"\"))))))))),MATCH(C158,'Guia de BTC'!C:C,0)),\"\"))","v":9.1999999999999998E-3},4.4000000000000003E-3,"BPAN4"]
[null,{"$f":"IFERROR(RANK(E159,$E$5:$E$400)+COUNTIF($E$5:E159,E159)-1,\"\")","v":8},{"$f":"IF('Guia de BTC'!C161=0,\"\",'Guia de BTC'!C161)","v":"AMER3<XBSP>"},"AMER3",{"$f":"IF(C159=\"\",\"\",IFERROR(INDEX(IF($C$3=\"% IBOV\",'Guia de BTC'!H:H,IF($C$3=\"% Float Alugado\",'Guia de BTC'!R:R,IF($C$3=\"Valor Alugado\",'Guia de BTC'!T:T,IF($C$3=\"Volume Médio\",'Guia de BTC'!Y:Y,IF($C$3=\"Dias de Giro\",'Guia de BTC'!Z:Z,IF($C$3=\"Aluguel vs Vista\",'Guia de BTC'!AF:AF,IF($C$3=\"Ações Alugadas\",'Guia de BTC'!AD:AD,IF($C$3=\"▲ de 1 dia\",'Guia de BTC'!AJ:AJ,IF($C$3=\"Taxa Média De Aluguel\",'Guia de BTC'!AN:AN,\"\"))))))))),MATCH(C159,'Guia de BTC'!C:C,0)),\"\"))","v":0.31459999999999999},4.4000000000000003E-3,"ZAMP3"]
[null,{"$f":"IFERROR(RANK(E160,$E$5:$E$400)+COUNTIF($E$5:E160,E160)-1,\"\")","v":135},{"$f":"IF('Guia de BTC'!C162=0,\"\",'Guia de BTC'!C162)","v":"KEPL3<XBSP>"},"KEPL3",{"$f":"IF(C160=\"\",\"\",IFERROR(INDEX(IF($C$3=\"% IBOV\",'Guia de BTC'!H:H,IF($C$3=\"% Float Alugado\",'Guia de BTC'!R:R,IF($C$3=\"Valor Alugado\",'Guia de BTC'!T:T,IF($C$3=\"Volume Médio\",'Guia de BTC'!Y:Y,IF($C$3=\"Dias de Giro\",'Guia de BTC'!Z:Z,IF($C$3=\"Aluguel vs Vista\",'Guia de BTC'!AF:AF,IF($C$3=\"Ações Alugadas\",'Guia de BTC'!AD:AD,IF($C$3=\"▲ de 1 dia\",'Guia de BTC'!AJ:AJ,IF($C$3=\"Taxa Média De Aluguel\",'Guia de BTC'!AN:AN,\"\"))))))))),MATCH(C160,'Guia de BTC'!C:C,0)),\"\"))","v":7.4999999999999997E-3},4.1000000000000003E-3,"MLAS3"]
[null,{"$f":"IFERROR(RANK(E161,$E$5:$E$400)+COUNTIF($E$5:E161,E161)-1,\"\")","v":199},{"$f":"IF('Guia de BTC'!C163=0,\"\",'Guia de BTC'!C163)","v":"RAPT4<XBSP>"},"RAPT4",{"$f":"IF(C161=\"\",\"\",IFERROR(INDEX(IF($C$3=\"% IBOV\",'Guia de BTC'!H:H,IF($C$3=\"% Float Alugado\",'Guia de BTC'!R:R,IF($C$3=\"Valor Alugado\",'Guia de BTC'!T:T,IF($C$3=\"Volume Médio\",'Guia de BTC'!Y:Y,IF($C$3=\"Dias de Giro\",'Guia de BTC'!Z:Z,IF($C$3=\"Aluguel vs Vista\",'Guia de BTC'!AF:AF,IF($C$3=\"Ações Alugadas\",'Guia de BTC'!AD:AD,IF($C$3=\"▲ de 1 dia\",'Guia de BTC'!AJ:AJ,IF($C$3=\"Taxa Média De Aluguel\",'Guia de BTC'!AN:AN,\"\"))))))))),MATCH(C161,'Guia de BTC'!C:C,0)),\"\"))","v":1.5E-3},4.0000000000000001E-3,"MOVI3"]
[null,{"$f":"IFERROR(RANK(E162,$E$5:$E$400)+COUNTIF($E$5:E162,E162)-1,\"\")","v":122},{"$f":"IF('Guia de BTC'!C164=0,\"\",'Guia de BTC'!C164)","v":"LOGG3<XBSP>"},"LOGG3",{"$f":"IF(C162=\"\",\"\",IFERROR(INDEX(IF($C$3=\"% IBOV\",'Guia de BTC'!H:H,IF($C$3=\"% Float Alugado\",'Guia de BTC'!R:R,IF($C$3=\"Valor Alugado\",'Guia de BTC'!T:T,IF($C$3=\"Volume Médio\",'Guia de BTC'!Y:Y,IF($C$3=\"Dias de Giro\",'Guia de BTC'!Z:Z,IF($C$3=\"Aluguel vs Vista\",'Guia de BTC'!AF:AF,IF($C$3=\"Ações Alugadas\",'Guia de BTC'!AD:AD,IF($C$3=\"▲ de 1 dia\",'Guia de BTC'!AJ:AJ,IF($C$3=\"Taxa Média De Aluguel\",'Guia de BTC'!AN:AN,\"\"))))))))),MATCH(C162,'Guia de BTC'!C:C,0)),\"\"))","v":0.01},4.0000000000000001E-3,"RANI3"]
[null,{"$f":"IFERROR(RANK(E163,$E$5:$E$400)+COUNTIF($E$5:E163,E163)-1,\"\")","v":62},{"$f":"IF('Guia de BTC'!C165=0,\"\",'Guia de BTC'!C165)","v":"DASA3<XBSP>"},"DASA3",{"$f":"IF(C163=\"\",\"\",IFERROR(INDEX(IF($C$3=\"% IBOV\",'Guia de BTC'!H:H,IF($C$3=\"% Float Alugado\",'Guia de BTC'!R:R,IF($C$3=\"Valor Alugado\",'Guia de BTC'!T:T,IF($C$3=\"Volume Médio\",'Guia de BTC'!Y:Y,IF($C$3=\"Dias de Giro\",'Guia de BTC'!Z:Z,IF($C$3=\"Aluguel vs Vista\",'Guia de BTC'!AF:AF,IF($C$3=\"Ações Alugadas\",'Guia de BTC'!AD:AD,IF($C$3=\"▲ de 1 dia\",'Guia de BTC'!AJ:AJ,IF($C$3=\"Taxa Média De Aluguel\",'Guia de BTC'!AN:AN,\"\"))))))))),MATCH(C163,'Guia de BTC'!C:C,0)),\"\"))","v":3.9800000000000002E-2},3.8E-3,"MRFG3"]
[null,{"$f":"IFERROR(RANK(E164,$E$5:$E$400)+COUNTIF($E$5:E164,E164)-1,\"\")","v":98},{"$f":"IF('Guia de BTC'!C166=0,\"\",'Guia de BTC'!C166)","v":"AERI3<XBSP>"},"AERI3",{"$f":"IF(C164=\"\",\"\",IFERROR(INDEX(IF($C$3=\"% IBOV\",'Guia de BTC'!H:H,IF($C$3=\"% Float Alugado\",'Guia de BTC'!R:R,IF($C$3=\"Valor Alugado\",'Guia de BTC'!T:T,IF($C$3=\"Volume Médio\",'Guia de BTC'!Y:Y,IF($C$3=\"Dias de Giro\",'Guia de BTC'!Z:Z,IF($C$3=\"Aluguel vs Vista\",'Guia de BTC'!AF:AF,IF($C$3=\"Ações Alugadas\",'Guia de BTC'!AD:AD,IF($C$3=\"▲ de 1 dia\",'Guia de BTC'!AJ:AJ,IF($C$3=\"Taxa Média De Aluguel\",'Guia de BTC'!AN:AN,\"\"))))))))),MATCH(C164,'Guia de BTC'!C:C,0)),\"\"))","v":1.89E-2},3.7000000000000002E-3,"CXSE3"]
[null,{"$f":"IFERROR(RANK(E165,$E$5:$E$400)+COUNTIF($E$5:E165,E165)-1,\"\")","v":34},{"$f":"IF('Guia de BTC'!C167=0,\"\",'Guia de BTC'!C167)","v":"GFSA3<XBSP>"},"GFSA3",{"$f":"IF(C165=\"\",\"\",IFERROR(INDEX(IF($C$3=\"% IBOV\",'Guia de BTC'!H:H,IF($C$3=\"% Float Alugado\",'Guia de BTC'!R:R,IF($C$3=\"Valor Alugado\",'Guia de BTC'!T:T,IF($C$3=\"Volume Médio\",'Guia de BTC'!Y:Y,IF($C$3=\"Dias de Giro\",'Guia de BTC'!Z:Z,IF($C$3=\"Aluguel vs Vista\",'Guia de BTC'!AF:AF,IF($C$3=\"Ações Alugadas\",'Guia de BTC'!AD:AD,IF($C$3=\"▲ de 1 dia\",'Guia de BTC'!AJ:AJ,IF($C$3=\"Taxa Média De Aluguel\",'Guia de BTC'!AN:AN,\"\"))))))))),MATCH(C165,'Guia de BTC'!C:C,0)),\"\"))","v":7.8100000000000003E-2},3.5999999999999999E-3,"ALOS3"]
[null,{"$f":"IFERROR(RANK(E166,$E$5:$E$400)+COUNTIF($E$5:E166,E166)-1,\"\")","v":69},{"$f":"IF('Guia de BTC'!C168=0,\"\",'Guia de BTC'!C168)","v":"AZEV4<XBSP>"},"AZEV4",{"$f":"IF(C166=\"\",\"\",IFERROR(INDEX(IF($C$3=\"% IBOV\",'Guia de BTC'!H:H,IF($C$3=\"% Float Alugado\",'Guia de BTC'!R:R,IF($C$3=\"Valor Alugado\",'Guia de BTC'!T:T,IF($C$3=\"Volume Médio\",'Guia de BTC'!Y:Y,IF($C$3=\"Dias de Giro\",'Guia de BTC'!Z:Z,IF($C$3=\"Aluguel vs Vista\",'Guia de BTC'!AF:AF,IF($C$3=\"Ações Alugadas\",'Guia de BTC'!AD:AD,IF($C$3=\"▲ de 1 dia\",'Guia de BTC'!AJ:AJ,IF($C$3=\"Taxa Média De Aluguel\",'Guia de BTC'!AN:AN,\"\"))))))))),MATCH(C166,'Guia de BTC'!C:C,0)),\"\"))","v":3.7499999999999999E-2},3.5999999999999999E-3,"BOVB11"]
[null,{"$f":"IFERROR(RANK(E167,$E$5:$E$400)+COUNTIF($E$5:E167,E167)-1,\"\")","v":115},{"$f":"IF('Guia de BTC'!C169=0,\"\",'Guia de BTC'!C169)","v":"GUAR3<XBSP>"},"GUAR3",{"$f":"IF(C167=\"\",\"\",IFERROR(INDEX(IF($C$3=\"% IBOV\",'Guia de BTC'!H:H,IF($C$3=\"% Float Alugado\",'Guia de BTC'!R:R,IF($C$3=\"Valor Alugado\",'Guia de BTC'!T:T,IF($C$3=\"Volume Médio\",'Guia de BTC'!Y:Y,IF($C$3=\"Dias de Giro\",'Guia de BTC'!Z:Z,IF($C$3=\"Aluguel vs Vista\",'Guia de BTC'!AF:AF,IF($C$3=\"Ações Alugadas\",'Guia de BTC'!AD:AD,IF($C$3=\"▲ de 1 dia\",'Guia de BTC'!AJ:AJ,IF($C$3=\"Taxa Média De Aluguel\",'Guia de BTC'!AN:AN,\"\"))))))))),MATCH(C167,'Guia de BTC'!C:C,0)),\"\"))","v":1.18E-2},3.5999999999999999E-3,"ALUP11"]
[null,{"$f":"IFERROR(RANK(E168,$E$5:$E$400)+COUNTIF($E$5:E168,E168)-1,\"\")","v":254},{"$f":"IF('Guia de BTC'!C170=0,\"\",'Guia de BTC'!C170)","v":"AURA33<XBSP>"},"AURA33",{"$f":"IF(C168=\"\",\"\",IFERROR(INDEX(IF($C$3=\"% IBOV\",'Guia de BTC'!H:H,IF($C$3=\"% Float Alugado\",'Guia de BTC'!R:R,IF($C$3=\"Valor Alugado\",'Guia de BTC'!T:T,IF($C$3=\"Volume Médio\",'Guia de BTC'!Y:Y,IF($C$3=\"Dias de Giro\",'Guia de BTC'!Z:Z,IF($C$3=\"Aluguel vs Vista\",'Guia de BTC'!AF:AF,IF($C$3=\"Ações Alugadas\",'Guia de BTC'!AD:AD,IF($C$3=\"▲ de 1 dia\",'Guia de BTC'!AJ:AJ,IF($C$3=\"Taxa Média De Aluguel\",'Guia de BTC'!AN:AN,\"\"))))))))),MATCH(C168,'Guia de BTC'!C:C,0)),\"\"))","v":0},3.5999999999999999E-3,"AGRO3"]
[null,{"$f":"IFERROR(RANK(E169,$E$5:$E$400)+COUNTIF($E$5:E169,E169)-1,\"\")","v":200},{"$f":"IF('Guia de BTC'!C171=0,\"\",'Guia de BTC'!C171)","v":"QUAL3<XBSP>"},"QUAL3",{"$f":"IF(C169=\"\",\"\",IFERROR(INDEX(IF($C$3=\"% IBOV\",'Guia de BTC'!H:H,IF($C$3=\"% Float Alugado\",'Guia de BTC'!R:R,IF($C$3=\"Valor Alugado\",'Guia de BTC'!T:T,IF($C$3=\"Volume Médio\",'Guia de BTC'!Y:Y,IF($C$3=\"Dias de Giro\",'Guia de BTC'!Z:Z,IF($C$3=\"Aluguel vs Vista\",'Guia de BTC'!AF:AF,IF($C$3=\"Ações Alugadas\",'Guia de BTC'!AD:AD,IF($C$3=\"▲ de 1 dia\",'Guia de BTC'!AJ:AJ,IF($C$3=\"Taxa Média De Aluguel\",'Guia de BTC'!AN:AN,\"\"))))))))),MATCH(C169,'Guia de BTC'!C:C,0)),\"\"))","v":1.5E-3},3.5000000000000001E-3,"SANB11"]
[null,{"$f":"IFERROR(RANK(E170,$E$5:$E$400)+COUNTIF($E$5:E170,E170)-1,\"\")","v":194},{"$f":"IF('Guia de BTC'!C172=0,\"\",'Guia de BTC'!C172)","v":"GRND3<XBSP>"},"GRND3",{"$f":"IF(C170=\"\",\"\",IFERROR(INDEX(IF($C$3=\"% IBOV\",'Guia de BTC'!H:H,IF($C$3=\"% Float Alugado\",'Guia de BTC'!R:R,IF($C$3=\"Valor Alugado\",'Guia de BTC'!T:T,IF($C$3=\"Volume Médio\",'Guia de BTC'!Y:Y,IF($C$3=\"Dias de Giro\",'Guia de BTC'!Z:Z,IF($C$3=\"Aluguel vs Vista\",'Guia de BTC'!AF:AF,IF($C$3=\"Ações Alugadas\",'Guia de BTC'!AD:AD,IF($C$3=\"▲ de 1 dia\",'Guia de BTC'!AJ:AJ,IF($C$3=\"Taxa Média De Aluguel\",'Guia de BTC'!AN:AN,\"\"))))))))),MATCH(C170,'Guia de BTC'!C:C,0)),\"\"))","v":1.6000000000000001E-3},3.3999999999999998E-3,"EQTL3"]
[null,{"$f":"IFERROR(RANK(E171,$E$5:$E$400)+COUNTIF($E$5:E171,E171)-1,\"\")","v":205},{"$f":"IF('Guia de BTC'!C173=0,\"\",'Guia de BTC'!C173)","v":"PNVL3<XBSP>"},"PNVL3",{"$f":"IF(C171=\"\",\"\",IFERROR(INDEX(IF($C$3=\"% IBOV\",'Guia de BTC'!H:H,IF($C$3=\"% Float Alugado\",'Guia de BTC'!R:R,IF($C$3=\"Valor Alugado\",'Guia de BTC'!T:T,IF($C$3=\"Volume Médio\",'Guia de BTC'!Y:Y,IF($C$3=\"Dias de Giro\",'Guia de BTC'!Z:Z,IF($C$3=\"Aluguel vs Vista\",'Guia de BTC'!AF:AF,IF($C$3=\"Ações Alugadas\",'Guia de BTC'!AD:AD,IF($C$3=\"▲ de 1 dia\",'Guia de BTC'!AJ:AJ,IF($C$3=\"Taxa Média De Aluguel\",'Guia de BTC'!AN:AN,\"\"))))))))),MATCH(C171,'Guia de BTC'!C:C,0)),\"\"))","v":1.4E-3},3.3999999999999998E-3,"UNIP6"]
[null,{"$f":"IFERROR(RANK(E172,$E$5:$E$400)+COUNTIF($E$5:E172,E172)-1,\"\")","v":96},{"$f":"IF('Guia de BTC'!C174=0,\"\",'Guia de BTC'!C174)","v":"SOJA3<XBSP>"},"SOJA3",{"$f":"IF(C172=\"\",\"\",IFERROR(INDEX(IF($C$3=\"% IBOV\",'Guia de BTC'!H:H,IF($C$3=\"% Float Alugado\",'Guia de BTC'!R:R,IF($C$3=\"Valor Alugado\",'Guia de BTC'!T:T,IF($C$3=\"Volume Médio\",'Guia de BTC'!Y:Y,IF($C$3=\"Dias de Giro\",'Guia de BTC'!Z:Z,IF($C$3=\"Aluguel vs Vista\",'Guia de BTC'!AF:AF,IF($C$3=\"Ações Alugadas\",'Guia de BTC'!AD:AD,IF($C$3=\"▲ de 1 dia\",'Guia de BTC'!AJ:AJ,IF($C$3=\"Taxa Média De Aluguel\",'Guia de BTC'!AN:AN,\"\"))))))))),MATCH(C172,'Guia de BTC'!C:C,0)),\"\"))","v":1.9599999999999999E-2},3.3E-3,"VAMO3"]
[null,{"$f":"IFERROR(RANK(E173,$E$5:$E$400)+COUNTIF($E$5:E173,E173)-1,\"\")","v":158},{"$f":"IF('Guia de BTC'!C175=0,\"\",'Guia de BTC'!C175)","v":"RANI3<XBSP>"},"RANI3",{"$f":"IF(C173=\"\",\"\",IFERROR(INDEX(IF($C$3=\"% IBOV\",'Guia de BTC'!H:H,IF($C$3=\"% Float Alugado\",'Guia de BTC'!R:R,IF($C$3=\"Valor Alugado\",'Guia de BTC'!T:T,IF($C$3=\"Volume Médio\",'Guia de BTC'!Y:Y,IF($C$3=\"Dias de Giro\",'Guia de BTC'!Z:Z,IF($C$3=\"Aluguel vs Vista\",'Guia de BTC'!AF:AF,IF($C$3=\"Ações Alugadas\",'Guia de BTC'!AD:AD,IF($C$3=\"▲ de 1 dia\",'Guia de BTC'!AJ:AJ,IF($C$3=\"Taxa Média De Aluguel\",'Guia de BTC'!AN:AN,\"\"))))))))),MATCH(C173,'Guia de BTC'!C:C,0)),\"\"))","v":4.0000000000000001E-3},3.3E-3,"TRPL4"]
[null,{"$f":"IFERROR(RANK(E174,$E$5:$E$400)+COUNTIF($E$5:E174,E174)-1,\"\")","v":48},{"$f":"IF('Guia de BTC'!C176=0,\"\",'Guia de BTC'!C176)","v":"PGMN3<XBSP>"},"PGMN3",{"$f":"IF(C174=\"\",\"\",IFERROR(INDEX(IF($C$3=\"% IBOV\",'Guia de BTC'!H:H,IF($C$3=\"% Float Alugado\",'Guia de BTC'!R:R,IF($C$3=\"Valor Alugado\",'Guia de BTC'!T:T,IF($C$3=\"Volume Médio\",'Guia de BTC'!Y:Y,IF($C$3=\"Dias de Giro\",'Guia de BTC'!Z:Z,IF($C$3=\"Aluguel vs Vista\",'Guia de BTC'!AF:AF,IF($C$3=\"Ações Alugadas\",'Guia de BTC'!AD:AD,IF($C$3=\"▲ de 1 dia\",'Guia de BTC'!AJ:AJ,IF($C$3=\"Taxa Média De Aluguel\",'Guia de BTC'!AN:AN,\"\"))))))))),MATCH(C174,'Guia de BTC'!C:C,0)),\"\"))","v":6.0600000000000001E-2},3.2000000000000002E-3,"SEER3"]
[null,{"$f":"IFERROR(RANK(E175,$E$5:$E$400)+COUNTIF($E$5:E175,E175)-1,\"\")","v":75},{"$f":"IF('Guia de BTC'!C177=0,\"\",'Guia de BTC'!C177)","v":"FRAS3<XBSP>"},"FRAS3",{"$f":"IF(C175=\"\",\"\",IFERROR(INDEX(IF($C$3=\"% IBOV\",'Guia de BTC'!H:H,IF($C$3=\"% Float Alugado\",'Guia de BTC'!R:R,IF($C$3=\"Valor Alugado\",'Guia de BTC'!T:T,IF($C$3=\"Volume Médio\",'Guia de BTC'!Y:Y,IF($C$3=\"Dias de Giro\",'Guia de BTC'!Z:Z,IF($C$3=\"Aluguel vs Vista\",'Guia de BTC'!AF:AF,IF($C$3=\"Ações Alugadas\",'Guia de BTC'!AD:AD,IF($C$3=\"▲ de 1 dia\",'Guia de BTC'!AJ:AJ,IF($C$3=\"Taxa Média De Aluguel\",'Guia de BTC'!AN:AN,\"\"))))))))),MATCH(C175,'Guia de BTC'!C:C,0)),\"\"))","v":3.32E-2},2.8999999999999998E-3,"POSI3"]
[null,{"$f":"IFERROR(RANK(E176,$E$5:$E$400)+COUNTIF($E$5:E176,E176)-1,\"\")","v":100},{"$f":"IF('Guia de BTC'!C178=0,\"\",'Guia de BTC'!C178)","v":"JALL3<XBSP>"},"JALL3",{"$f":"IF(C176=\"\",\"\",IFERROR(INDEX(IF($C$3=\"% IBOV\",'Guia de BTC'!H:H,IF($C$3=\"% Float Alugado\",'Guia de BTC'!R:R,IF($C$3=\"Valor Alugado\",'Guia de BTC'!T:T,IF($C$3=\"Volume Médio\",'Guia de BTC'!Y:Y,IF($C$3=\"Dias de Giro\",'Guia de BTC'!Z:Z,IF($C$3=\"Aluguel vs Vista\",'Guia de BTC'!AF:AF,IF($C$3=\"Ações Alugadas\",'Guia de BTC'!AD:AD,IF($C$3=\"▲ de 1 dia\",'Guia de BTC'!AJ:AJ,IF($C$3=\"Taxa Média De Aluguel\",'Guia de BTC'!AN:AN,\"\"))))))))),MATCH(C176,'Guia de BTC'!C:C,0)),\"\"))","v":1.78E-2},2.7000000000000001E-3,"MYPK3"]
[null,{"$f":"IFERROR(RANK(E177,$E$5:$E$400)+COUNTIF($E$5:E177,E177)-1,\"\")","v":249},{"$f":"IF('Guia de BTC'!C179=0,\"\",'Guia de BTC'!C179)","v":"ABCB4<XBSP>"},"ABCB4",{"$f":"IF(C177=\"\",\"\",IFERROR(INDEX(IF($C$3=\"% IBOV\",'Guia de BTC'!H:H,IF($C$3=\"% Float Alugado\",'Guia de BTC'!R:R,IF($C$3=\"Valor Alugado\",'Guia de BTC'!T:T,IF($C$3=\"Volume Médio\",'Guia de BTC'!Y:Y,IF($C$3=\"Dias de Giro\",'Guia de BTC'!Z:Z,IF($C$3=\"Aluguel vs Vista\",'Guia de BTC'!AF:AF,IF($C$3=\"Ações Alugadas\",'Guia de BTC'!AD:AD,IF($C$3=\"▲ de 1 dia\",'Guia de BTC'!AJ:AJ,IF($C$3=\"Taxa Média De Aluguel\",'Guia de BTC'!AN:AN,\"\"))))))))),MATCH(C177,'Guia de BTC'!C:C,0)),\"\"))","v":2.0000000000000001E-4},2.5999999999999999E-3,"TAEE11"]
[null,{"$f":"IFERROR(RANK(E178,$E$5:$E$400)+COUNTIF($E$5:E178,E178)-1,\"\")","v":63},{"$f":"IF('Guia de BTC'!C180=0,\"\",'Guia de BTC'!C180)","v":"USIM3<XBSP>"},"USIM3",{"$f":"IF(C178=\"\",\"\",IFERROR(INDEX(IF($C$3=\"% IBOV\",'Guia de BTC'!H:H,IF($C$3=\"% Float Alugado\",'Guia de BTC'!R:R,IF($C$3=\"Valor Alugado\",'Guia de BTC'!T:T,IF($C$3=\"Volume Médio\",'Guia de BTC'!Y:Y,IF($C$3=\"Dias de Giro\",'Guia de BTC'!Z:Z,IF($C$3=\"Aluguel vs Vista\",'Guia de BTC'!AF:AF,IF($C$3=\"Ações Alugadas\",'Guia de BTC'!AD:AD,IF($C$3=\"▲ de 1 dia\",'Guia de BTC'!AJ:AJ,IF($C$3=\"Taxa Média De Aluguel\",'Guia de BTC'!AN:AN,\"\"))))))))),MATCH(C178,'Guia de BTC'!C:C,0)),\"\"))","v":3.9800000000000002E-2},2.5000000000000001E-3,"KLBN11"]
[null,{"$f":"IFERROR(RANK(E179,$E$5:$E$400)+COUNTIF($E$5:E179,E179)-1,\"\")","v":17},{"$f":"IF('Guia de BTC'!C181=0,\"\",'Guia de BTC'!C181)","v":"SEQL3<XBSP>"},"SEQL3",{"$f":"IF(C179=\"\",\"\",IFERROR(INDEX(IF($C$3=\"% IBOV\",'Guia de BTC'!H:H,IF($C$3=\"% Float Alugado\",'Guia de BTC'!R:R,IF($C$3=\"Valor Alugado\",'Guia de BTC'!T:T,IF($C$3=\"Volume Médio\",'Guia de BTC'!Y:Y,IF($C$3=\"Dias de Giro\",'Guia de BTC'!Z:Z,IF($C$3=\"Aluguel vs Vista\",'Guia de BTC'!AF:AF,IF($C$3=\"Ações Alugadas\",'Guia de BTC'!AD:AD,IF($C$3=\"▲ de 1 dia\",'Guia de BTC'!AJ:AJ,IF($C$3=\"Taxa Média De Aluguel\",'Guia de BTC'!AN:AN,\"\"))))))))),MATCH(C179,'Guia de BTC'!C:C,0)),\"\"))","v":0.13220000000000001},2.3999999999999998E-3,"BEEF3"]
[null,{"$f":"IFERROR(RANK(E180,$E$5:$E$400)+COUNTIF($E$5:E180,E180)-1,\"\")","v":123},{"$f":"IF('Guia de BTC'!C182=0,\"\",'Guia de BTC'!C182)","v":"TRIS3<XBSP>"},"TRIS3",{"$f":"IF(C180=\"\",\"\",IFERROR(INDEX(IF($C$3=\"% IBOV\",'Guia de BTC'!H:H,IF($C$3=\"% Float Alugado\",'Guia de BTC'!R:R,IF($C$3=\"Valor Alugado\",'Guia de BTC'!T:T,IF($C$3=\"Volume Médio\",'Guia de BTC'!Y:Y,IF($C$3=\"Dias de Giro\",'Guia de BTC'!Z:Z,IF($C$3=\"Aluguel vs Vista\",'Guia de BTC'!AF:AF,IF($C$3=\"Ações Alugadas\",'Guia de BTC'!AD:AD,IF($C$3=\"▲ de 1 dia\",'Guia de BTC'!AJ:AJ,IF($C$3=\"Taxa Média De Aluguel\",'Guia de BTC'!AN:AN,\"\"))))))))),MATCH(C180,'Guia de BTC'!C:C,0)),\"\"))","v":9.9000000000000008E-3},2.3999999999999998E-3,"BRSR6"]
[null,{"$f":"IFERROR(RANK(E181,$E$5:$E$400)+COUNTIF($E$5:E181,E181)-1,\"\")","v":129},{"$f":"IF('Guia de BTC'!C183=0,\"\",'Guia de BTC'!C183)","v":"ITSA3<XBSP>"},"ITSA3",{"$f":"IF(C181=\"\",\"\",IFERROR(INDEX(IF($C$3=\"% IBOV\",'Guia de BTC'!H:H,IF($C$3=\"% Float Alugado\",'Guia de BTC'!R:R,IF($C$3=\"Valor Alugado\",'Guia de BTC'!T:T,IF($C$3=\"Volume Médio\",'Guia de BTC'!Y:Y,IF($C$3=\"Dias de Giro\",'Guia de BTC'!Z:Z,IF($C$3=\"Aluguel vs Vista\",'Guia de BTC'!AF:AF,IF($C$3=\"Ações Alugadas\",'Guia de BTC'!AD:AD,IF($C$3=\"▲ de 1 dia\",'Guia de BTC'!AJ:AJ,IF($C$3=\"Taxa Média De Aluguel\",'Guia de BTC'!AN:AN,\"\"))))))))),MATCH(C181,'Guia de BTC'!C:C,0)),\"\"))","v":9.1000000000000004E-3},2.3999999999999998E-3,"FESA4"]
[null,{"$f":"IFERROR(RANK(E182,$E$5:$E$400)+COUNTIF($E$5:E182,E182)-1,\"\")","v":255},{"$f":"IF('Guia de BTC'!C184=0,\"\",'Guia de BTC'!C184)","v":"UTEC11<XBSP>"},"UTEC11",{"$f":"IF(C182=\"\",\"\",IFERROR(INDEX(IF($C$3=\"% IBOV\",'Guia de BTC'!H:H,IF($C$3=\"% Float Alugado\",'Guia de BTC'!R:R,IF($C$3=\"Valor Alugado\",'Guia de BTC'!T:T,IF($C$3=\"Volume Médio\",'Guia de BTC'!Y:Y,IF($C$3=\"Dias de Giro\",'Guia de BTC'!Z:Z,IF($C$3=\"Aluguel vs Vista\",'Guia de BTC'!AF:AF,IF($C$3=\"Ações Alugadas\",'Guia de BTC'!AD:AD,IF($C$3=\"▲ de 1 dia\",'Guia de BTC'!AJ:AJ,IF($C$3=\"Taxa Média De Aluguel\",'Guia de BTC'!AN:AN,\"\"))))))))),MATCH(C182,'Guia de BTC'!C:C,0)),\"\"))","v":0},2.3E-3,"RENT3"]
[null,{"$f":"IFERROR(RANK(E183,$E$5:$E$400)+COUNTIF($E$5:E183,E183)-1,\"\")","v":192},{"$f":"IF('Guia de BTC'!C185=0,\"\",'Guia de BTC'!C185)","v":"VULC3<XBSP>"},"VULC3",{"$f":"IF(C183=\"\",\"\",IFERROR(INDEX(IF($C$3=\"% IBOV\",'Guia de BTC'!H:H,IF($C$3=\"% Float Alugado\",'Guia de BTC'!R:R,IF($C$3=\"Valor Alugado\",'Guia de BTC'!T:T,IF($C$3=\"Volume Médio\",'Guia de BTC'!Y:Y,IF($C$3=\"Dias de Giro\",'Guia de BTC'!Z:Z,IF($C$3=\"Aluguel vs Vista\",'Guia de BTC'!AF:AF,IF($C$3=\"Ações Alugadas\",'Guia de BTC'!AD:AD,IF($C$3=\"▲ de 1 dia\",'Guia de BTC'!AJ:AJ,IF($C$3=\"Taxa Média De Aluguel\",'Guia de BTC'!AN:AN,\"\"))))))))),MATCH(C183,'Guia de BTC'!C:C,0)),\"\"))","v":1.8E-3},2.0999999999999999E-3,"AESB3"]
[null,{"$f":"IFERROR(RANK(E184,$E$5:$E$400)+COUNTIF($E$5:E184,E184)-1,\"\")","v":208},{"$f":"IF('Guia de BTC'!C186=0,\"\",'Guia de BTC'!C186)","v":"ROMI3<XBSP>"},"ROMI3",{"$f":"IF(C184=\"\",\"\",IFERROR(INDEX(IF($C$3=\"% IBOV\",'Guia de BTC'!H:H,IF($C$3=\"% Float Alugado\",'Guia de BTC'!R:R,IF($C$3=\"Valor Alugado\",'Guia de BTC'!T:T,IF($C$3=\"Volume Médio\",'Guia de BTC'!Y:Y,IF($C$3=\"Dias de Giro\",'Guia de BTC'!Z:Z,IF($C$3=\"Aluguel vs Vista\",'Guia de BTC'!AF:AF,IF($C$3=\"Ações Alugadas\",'Guia de BTC'!AD:AD,IF($C$3=\"▲ de 1 dia\",'Guia de BTC'!AJ:AJ,IF($C$3=\"Taxa Média De Aluguel\",'Guia de BTC'!AN:AN,\"\"))))))))),MATCH(C184,'Guia de BTC'!C:C,0)),\"\"))","v":1.2999999999999999E-3},2E-3,"NTCO3"]
[null,{"$f":"IFERROR(RANK(E185,$E$5:$E$400)+COUNTIF($E$5:E185,E185)-1,\"\")","v":28},{"$f":"IF('Guia de BTC'!C187=0,\"\",'Guia de BTC'!C187)","v":"PLPL3<XBSP>"},"PLPL3",{"$f":"IF(C185=\"\",\"\",IFERROR(INDEX(IF($C$3=\"% IBOV\",'Guia de BTC'!H:H,IF($C$3=\"% Float Alugado\",'Guia de BTC'!R:R,IF($C$3=\"Valor Alugado\",'Guia de BTC'!T:T,IF($C$3=\"Volume Médio\",'Guia de BTC'!Y:Y,IF($C$3=\"Dias de Giro\",'Guia de BTC'!Z:Z,IF($C$3=\"Aluguel vs Vista\",'Guia de BTC'!AF:AF,IF($C$3=\"Ações Alugadas\",'Guia de BTC'!AD:AD,IF($C$3=\"▲ de 1 dia\",'Guia de BTC'!AJ:AJ,IF($C$3=\"Taxa Média De Aluguel\",'Guia de BTC'!AN:AN,\"\"))))))))),MATCH(C185,'Guia de BTC'!C:C,0)),\"\"))","v":9.2799999999999994E-2},2E-3,"CPFE3"]
[null,{"$f":"IFERROR(RANK(E186,$E$5:$E$400)+COUNTIF($E$5:E186,E186)-1,\"\")","v":250},{"$f":"IF('Guia de BTC'!C188=0,\"\",'Guia de BTC'!C188)","v":"VLID3<XBSP>"},"VLID3",{"$f":"IF(C186=\"\",\"\",IFERROR(INDEX(IF($C$3=\"% IBOV\",'Guia de BTC'!H:H,IF($C$3=\"% Float Alugado\",'Guia de BTC'!R:R,IF($C$3=\"Valor Alugado\",'Guia de BTC'!T:T,IF($C$3=\"Volume Médio\",'Guia de BTC'!Y:Y,IF($C$3=\"Dias de Giro\",'Guia de BTC'!Z:Z,IF($C$3=\"Aluguel vs Vista\",'Guia de BTC'!AF:AF,IF($C$3=\"Ações Alugadas\",'Guia de BTC'!AD:AD,IF($C$3=\"▲ de 1 dia\",'Guia de BTC'!AJ:AJ,IF($C$3=\"Taxa Média De Aluguel\",'Guia de BTC'!AN:AN,\"\"))))))))),MATCH(C186,'Guia de BTC'!C:C,0)),\"\"))","v":2.0000000000000001E-4},2E-3,"IRBR3"]
[null,{"$f":"IFERROR(RANK(E187,$E$5:$E$400)+COUNTIF($E$5:E187,E187)-1,\"\")","v":83},{"$f":"IF('Guia de BTC'!C189=0,\"\",'Guia de BTC'!C189)","v":"BLAU3<XBSP>"},"BLAU3",{"$f":"IF(C187=\"\",\"\",IFERROR(INDEX(IF($C$3=\"% IBOV\",'Guia de BTC'!H:H,IF($C$3=\"% Float Alugado\",'Guia de BTC'!R:R,IF($C$3=\"Valor Alugado\",'Guia de BTC'!T:T,IF($C$3=\"Volume Médio\",'Guia de BTC'!Y:Y,IF($C$3=\"Dias de Giro\",'Guia de BTC'!Z:Z,IF($C$3=\"Aluguel vs Vista\",'Guia de BTC'!AF:AF,IF($C$3=\"Ações Alugadas\",'Guia de BTC'!AD:AD,IF($C$3=\"▲ de 1 dia\",'Guia de BTC'!AJ:AJ,IF($C$3=\"Taxa Média De Aluguel\",'Guia de BTC'!AN:AN,\"\"))))))))),MATCH(C187,'Guia de BTC'!C:C,0)),\"\"))","v":2.8299999999999999E-2},2E-3,"MDIA3"]
[null,{"$f":"IFERROR(RANK(E188,$E$5:$E$400)+COUNTIF($E$5:E188,E188)-1,\"\")","v":97},{"$f":"IF('Guia de BTC'!C190=0,\"\",'Guia de BTC'!C190)","v":"PTBL3<XBSP>"},"PTBL3",{"$f":"IF(C188=\"\",\"\",IFERROR(INDEX(IF($C$3=\"% IBOV\",'Guia de BTC'!H:H,IF($C$3=\"% Float Alugado\",'Guia de BTC'!R:R,IF($C$3=\"Valor Alugado\",'Guia de BTC'!T:T,IF($C$3=\"Volume Médio\",'Guia de BTC'!Y:Y,IF($C$3=\"Dias de Giro\",'Guia de BTC'!Z:Z,IF($C$3=\"Aluguel vs Vista\",'Guia de BTC'!AF:AF,IF($C$3=\"Ações Alugadas\",'Guia de BTC'!AD:AD,IF($C$3=\"▲ de 1 dia\",'Guia de BTC'!AJ:AJ,IF($C$3=\"Taxa Média De Aluguel\",'Guia de BTC'!AN:AN,\"\"))))))))),MATCH(C188,'Guia de BTC'!C:C,0)),\"\"))","v":1.9300000000000001E-2},2E-3,"JHSF3"]
[null,{"$f":"IFERROR(RANK(E189,$E$5:$E$400)+COUNTIF($E$5:E189,E189)-1,\"\")","v":114},{"$f":"IF('Guia de BTC'!C191=0,\"\",'Guia de BTC'!C191)","v":"BRAP3<XBSP>"},"BRAP3",{"$f":"IF(C189=\"\",\"\",IFERROR(INDEX(IF($C$3=\"% IBOV\",'Guia de BTC'!H:H,IF($C$3=\"% Float Alugado\",'Guia de BTC'!R:R,IF($C$3=\"Valor Alugado\",'Guia de BTC'!T:T,IF($C$3=\"Volume Médio\",'Guia de BTC'!Y:Y,IF($C$3=\"Dias de Giro\",'Guia de BTC'!Z:Z,IF($C$3=\"Aluguel vs Vista\",'Guia de BTC'!AF:AF,IF($C$3=\"Ações Alugadas\",'Guia de BTC'!AD:AD,IF($C$3=\"▲ de 1 dia\",'Guia de BTC'!AJ:AJ,IF($C$3=\"Taxa Média De Aluguel\",'Guia de BTC'!AN:AN,\"\"))))))))),MATCH(C189,'Guia de BTC'!C:C,0)),\"\"))","v":1.2E-2},1.9E-3,"VIVT3"]
[null,{"$f":"IFERROR(RANK(E190,$E$5:$E$400)+COUNTIF($E$5:E190,E190)-1,\"\")","v":120},{"$f":"IF('Guia de BTC'!C192=0,\"\",'Guia de BTC'!C192)","v":"MTRE3<XBSP>"},"MTRE3",{"$f":"IF(C190=\"\",\"\",IFERROR(INDEX(IF($C$3=\"% IBOV\",'Guia de BTC'!H:H,IF($C$3=\"% Float Alugado\",'Guia de BTC'!R:R,IF($C$3=\"Valor Alugado\",'Guia de BTC'!T:T,IF($C$3=\"Volume Médio\",'Guia de BTC'!Y:Y,IF($C$3=\"Dias de Giro\",'Guia de BTC'!Z:Z,IF($C$3=\"Aluguel vs Vista\",'Guia de BTC'!AF:AF,IF($C$3=\"Ações Alugadas\",'Guia de BTC'!AD:AD,IF($C$3=\"▲ de 1 dia\",'Guia de BTC'!AJ:AJ,IF($C$3=\"Taxa Média De Aluguel\",'Guia de BTC'!AN:AN,\"\"))))))))),MATCH(C190,'Guia de BTC'!C:C,0)),\"\"))","v":1.03E-2},1.9E-3,"SLCE3"]
[null,{"$f":"IFERROR(RANK(E191,$E$5:$E$400)+COUNTIF($E$5:E191,E191)-1,\"\")","v":22},{"$f":"IF('Guia de BTC'!C193=0,\"\",'Guia de BTC'!C193)","v":"MATD3<XBSP>"},"MATD3",{"$f":"IF(C191=\"\",\"\",IFERROR(INDEX(IF($C$3=\"% IBOV\",'Guia de BTC'!H:H,IF($C$3=\"% Float Alugado\",'Guia de BTC'!R:R,IF($C$3=\"Valor Alugado\",'Guia de BTC'!T:T,IF($C$3=\"Volume Médio\",'Guia de BTC'!Y:Y,IF($C$3=\"Dias de Giro\",'Guia de BTC'!Z:Z,IF($C$3=\"Aluguel vs Vista\",'Guia de BTC'!AF:AF,IF($C$3=\"Ações Alugadas\",'Guia de BTC'!AD:AD,IF($C$3=\"▲ de 1 dia\",'Guia de BTC'!AJ:AJ,IF($C$3=\"Taxa Média De Aluguel\",'Guia de BTC'!AN:AN,\"\"))))))))),MATCH(C191,'Guia de BTC'!C:C,0)),\"\"))","v":0.1024},1.9E-3,"GGPS3"]
[null,{"$f":"IFERROR(RANK(E192,$E$5:$E$400)+COUNTIF($E$5:E192,E192)-1,\"\")","v":136},{"$f":"IF('Guia de BTC'!C194=0,\"\",'Guia de BTC'!C194)","v":"ETER3<XBSP>"},"ETER3",{"$f":"IF(C192=\"\",\"\",IFERROR(INDEX(IF($C$3=\"% IBOV\",'Guia de BTC'!H:H,IF($C$3=\"% Float Alugado\",'Guia de BTC'!R:R,IF($C$3=\"Valor Alugado\",'Guia de BTC'!T:T,IF($C$3=\"Volume Médio\",'Guia de BTC'!Y:Y,IF($C$3=\"Dias de Giro\",'Guia de BTC'!Z:Z,IF($C$3=\"Aluguel vs Vista\",'Guia de BTC'!AF:AF,IF($C$3=\"Ações Alugadas\",'Guia de BTC'!AD:AD,IF($C$3=\"▲ de 1 dia\",'Guia de BTC'!AJ:AJ,IF($C$3=\"Taxa Média De Aluguel\",'Guia de BTC'!AN:AN,\"\"))))))))),MATCH(C192,'Guia de BTC'!C:C,0)),\"\"))","v":7.4999999999999997E-3},1.9E-3,"STBP3"]
[null,{"$f":"IFERROR(RANK(E193,$E$5:$E$400)+COUNTIF($E$5:E193,E193)-1,\"\")","v":41},{"$f":"IF('Guia de BTC'!C195=0,\"\",'Guia de BTC'!C195)","v":"SAPR4<XBSP>"},"SAPR4",{"$f":"IF(C193=\"\",\"\",IFERROR(INDEX(IF($C$3=\"% IBOV\",'Guia de BTC'!H:H,IF($C$3=\"% Float Alugado\",'Guia de BTC'!R:R,IF($C$3=\"Valor Alugado\",'Guia de BTC'!T:T,IF($C$3=\"Volume Médio\",'Guia de BTC'!Y:Y,IF($C$3=\"Dias de Giro\",'Guia de BTC'!Z:Z,IF($C$3=\"Aluguel vs Vista\",'Guia de BTC'!AF:AF,IF($C$3=\"Ações Alugadas\",'Guia de BTC'!AD:AD,IF($C$3=\"▲ de 1 dia\",'Guia de BTC'!AJ:AJ,IF($C$3=\"Taxa Média De Aluguel\",'Guia de BTC'!AN:AN,\"\"))))))))),MATCH(C193,'Guia de BTC'!C:C,0)),\"\"))","v":6.93E-2},1.8E-3,"ABEV3"]
[null,{"$f":"IFERROR(RANK(E194,$E$5:$E$400)+COUNTIF($E$5:E194,E194)-1,\"\")","v":31},{"$f":"IF('Guia de BTC'!C196=0,\"\",'Guia de BTC'!C196)","v":"USAL11<XBSP>"},"USAL11",{"$f":"IF(C194=\"\",\"\",IFERROR(INDEX(IF($C$3=\"% IBOV\",'Guia de BTC'!H:H,IF($C$3=\"% Float Alugado\",'Guia de BTC'!R:R,IF($C$3=\"Valor Alugado\",'Guia de BTC'!T:T,IF($C$3=\"Volume Médio\",'Guia de BTC'!Y:Y,IF($C$3=\"Dias de Giro\",'Guia de BTC'!Z:Z,IF($C$3=\"Aluguel vs Vista\",'Guia de BTC'!AF:AF,IF($C$3=\"Ações Alugadas\",'Guia de BTC'!AD:AD,IF($C$3=\"▲ de 1 dia\",'Guia de BTC'!AJ:AJ,IF($C$3=\"Taxa Média De Aluguel\",'Guia de BTC'!AN:AN,\"\"))))))))),MATCH(C194,'Guia de BTC'!C:C,0)),\"\"))","v":0.08},1.8E-3,"BRAP4"]
[null,{"$f":"IFERROR(RANK(E195,$E$5:$E$400)+COUNTIF($E$5:E195,E195)-1,\"\")","v":109},{"$f":"IF('Guia de BTC'!C197=0,\"\",'Guia de BTC'!C197)","v":"SANB4<XBSP>"},"SANB4",{"$f":"IF(C195=\"\",\"\",IFERROR(INDEX(IF($C$3=\"% IBOV\",'Guia de BTC'!H:H,IF($C$3=\"% Float Alugado\",'Guia de BTC'!R:R,IF($C$3=\"Valor Alugado\",'Guia de BTC'!T:T,IF($C$3=\"Volume Médio\",'Guia de BTC'!Y:Y,IF($C$3=\"Dias de Giro\",'Guia de BTC'!Z:Z,IF($C$3=\"Aluguel vs Vista\",'Guia de BTC'!AF:AF,IF($C$3=\"Ações Alugadas\",'Guia de BTC'!AD:AD,IF($C$3=\"▲ de 1 dia\",'Guia de BTC'!AJ:AJ,IF($C$3=\"Taxa Média De Aluguel\",'Guia de BTC'!AN:AN,\"\"))))))))),MATCH(C195,'Guia de BTC'!C:C,0)),\"\"))","v":1.35E-2},1.8E-3,"TUPY3"]
[null,{"$f":"IFERROR(RANK(E196,$E$5:$E$400)+COUNTIF($E$5:E196,E196)-1,\"\")","v":87},{"$f":"IF('Guia de BTC'!C198=0,\"\",'Guia de BTC'!C198)","v":"LAVV3<XBSP>"},"LAVV3",{"$f":"IF(C196=\"\",\"\",IFERROR(INDEX(IF($C$3=\"% IBOV\",'Guia de BTC'!H:H,IF($C$3=\"% Float Alugado\",'Guia de BTC'!R:R,IF($C$3=\"Valor Alugado\",'Guia de BTC'!T:T,IF($C$3=\"Volume Médio\",'Guia de BTC'!Y:Y,IF($C$3=\"Dias de Giro\",'Guia de BTC'!Z:Z,IF($C$3=\"Aluguel vs Vista\",'Guia de BTC'!AF:AF,IF($C$3=\"Ações Alugadas\",'Guia de BTC'!AD:AD,IF($C$3=\"▲ de 1 dia\",'Guia de BTC'!AJ:AJ,IF($C$3=\"Taxa Média De Aluguel\",'Guia de BTC'!AN:AN,\"\"))))))))),MATCH(C196,'Guia de BTC'!C:C,0)),\"\"))","v":2.5499999999999998E-2},1.8E-3,"VULC3"]
[null,{"$f":"IFERROR(RANK(E197,$E$5:$E$400)+COUNTIF($E$5:E197,E197)-1,\"\")","v":19},{"$f":"IF('Guia de BTC'!C199=0,\"\",'Guia de BTC'!C199)","v":"BRBI11<XBSP>"},"BRBI11",{"$f":"IF(C197=\"\",\"\",IFERROR(INDEX(IF($C$3=\"% IBOV\",'Guia de BTC'!H:H,IF($C$3=\"% Float Alugado\",'Guia de BTC'!R:R,IF($C$3=\"Valor Alugado\",'Guia de BTC'!T:T,IF($C$3=\"Volume Médio\",'Guia de BTC'!Y:Y,IF($C$3=\"Dias de Giro\",'Guia de BTC'!Z:Z,IF($C$3=\"Aluguel vs Vista\",'Guia de BTC'!AF:AF,IF($C$3=\"Ações Alugadas\",'Guia de BTC'!AD:AD,IF($C$3=\"▲ de 1 dia\",'Guia de BTC'!AJ:AJ,IF($C$3=\"Taxa Média De Aluguel\",'Guia de BTC'!AN:AN,\"\"))))))))),MATCH(C197,'Guia de BTC'!C:C,0)),\"\"))","v":0.1089},1.6999999999999999E-3,"CMIG4"]
[null,{"$f":"IFERROR(RANK(E198,$E$5:$E$400)+COUNTIF($E$5:E198,E198)-1,\"\")","v":95},{"$f":"IF('Guia de BTC'!C200=0,\"\",'Guia de BTC'!C200)","v":"HBOR3<XBSP>"},"HBOR3",{"$f":"IF(C198=\"\",\"\",IFERROR(INDEX(IF($C$3=\"% IBOV\",'Guia de BTC'!H:H,IF($C$3=\"% Float Alugado\",'Guia de BTC'!R:R,IF($C$3=\"Valor Alugado\",'Guia de BTC'!T:T,IF($C$3=\"Volume Médio\",'Guia de BTC'!Y:Y,IF($C$3=\"Dias de Giro\",'Guia de BTC'!Z:Z,IF($C$3=\"Aluguel vs Vista\",'Guia de BTC'!AF:AF,IF($C$3=\"Ações Alugadas\",'Guia de BTC'!AD:AD,IF($C$3=\"▲ de 1 dia\",'Guia de BTC'!AJ:AJ,IF($C$3=\"Taxa Média De Aluguel\",'Guia de BTC'!AN:AN,\"\"))))))))),MATCH(C198,'Guia de BTC'!C:C,0)),\"\"))","v":1.9800000000000002E-2},1.6000000000000001E-3,"GRND3"]
[null,{"$f":"IFERROR(RANK(E199,$E$5:$E$400)+COUNTIF($E$5:E199,E199)-1,\"\")","v":131},{"$f":"IF('Guia de BTC'!C201=0,\"\",'Guia de BTC'!C201)","v":"SANB3<XBSP>"},"SANB3",{"$f":"IF(C199=\"\",\"\",IFERROR(INDEX(IF($C$3=\"% IBOV\",'Guia de BTC'!H:H,IF($C$3=\"% Float Alugado\",'Guia de BTC'!R:R,IF($C$3=\"Valor Alugado\",'Guia de BTC'!T:T,IF($C$3=\"Volume Médio\",'Guia de BTC'!Y:Y,IF($C$3=\"Dias de Giro\",'Guia de BTC'!Z:Z,IF($C$3=\"Aluguel vs Vista\",'Guia de BTC'!AF:AF,IF($C$3=\"Ações Alugadas\",'Guia de BTC'!AD:AD,IF($C$3=\"▲ de 1 dia\",'Guia de BTC'!AJ:AJ,IF($C$3=\"Taxa Média De Aluguel\",'Guia de BTC'!AN:AN,\"\"))))))))),MATCH(C199,'Guia de BTC'!C:C,0)),\"\"))","v":8.3000000000000001E-3},{"$f":"IF(C199=\"\",\"\",IFERROR(VLOOKUP(ROW()-4,$B$3:$E$600,4,FALSE),\"\"))","v":1.5E-3},{"$f":"IF(C199=\"\",\"\",IFERROR(VLOOKUP(ROW()-4,$B$3:$E$600,3,FALSE),\"\"))","v":"BBSE3"}]
[null,{"$f":"IFERROR(RANK(E200,$E$5:$E$400)+COUNTIF($E$5:E200,E200)-1,\"\")","v":124},{"$f":"IF('Guia de BTC'!C202=0,\"\",'Guia de BTC'!C202)","v":"CAML3<XBSP>"},"CAML3",{"$f":"IF(C200=\"\",\"\",IFERROR(INDEX(IF($C$3=\"% IBOV\",'Guia de BTC'!H:H,IF($C$3=\"% Float Alugado\",'Guia de BTC'!R:R,IF($C$3=\"Valor Alugado\",'Guia de BTC'!T:T,IF($C$3=\"Volume Médio\",'Guia de BTC'!Y:Y,IF($C$3=\"Dias de Giro\",'Guia de BTC'!Z:Z,IF($C$3=\"Aluguel vs Vista\",'Guia de BTC'!AF:AF,IF($C$3=\"Ações Alugadas\",'Guia de BTC'!AD:AD,IF($C$3=\"▲ de 1 dia\",'Guia de BTC'!AJ:AJ,IF($C$3=\"Taxa Média De Aluguel\",'Guia de BTC'!AN:AN,\"\"))))))))),MATCH(C200,'Guia de BTC'!C:C,0)),\"\"))","v":9.5999999999999992E-3},1.5E-3,"MRVE3"]
[null,{"$f":"IFERROR(RANK(E201,$E$5:$E$400)+COUNTIF($E$5:E201,E201)-1,\"\")","v":92},{"$f":"IF('Guia de BTC'!C203=0,\"\",'Guia de BTC'!C203)","v":"JSLG3<XBSP>"},"JSLG3",{"$f":"IF(C201=\"\",\"\",IFERROR(INDEX(IF($C$3=\"% IBOV\",'Guia de BTC'!H:H,IF($C$3=\"% Float Alugado\",'Guia de BTC'!R:R,IF($C$3=\"Valor Alugado\",'Guia de BTC'!T:T,IF($C$3=\"Volume Médio\",'Guia de BTC'!Y:Y,IF($C$3=\"Dias de Giro\",'Guia de BTC'!Z:Z,IF($C$3=\"Aluguel vs Vista\",'Guia de BTC'!AF:AF,IF($C$3=\"Ações Alugadas\",'Guia de BTC'!AD:AD,IF($C$3=\"▲ de 1 dia\",'Guia de BTC'!AJ:AJ,IF($C$3=\"Taxa Média De Aluguel\",'Guia de BTC'!AN:AN,\"\"))))))))),MATCH(C201,'Guia de BTC'!C:C,0)),\"\"))","v":2.3199999999999998E-2},1.5E-3,"VIVA3"]
[null,{"$f":"IFERROR(RANK(E202,$E$5:$E$400)+COUNTIF($E$5:E202,E202)-1,\"\")","v":214},{"$f":"IF('Guia de BTC'!C204=0,\"\",'Guia de BTC'!C204)","v":"IBOB11<XBSP>"},"IBOB11",{"$f":"IF(C202=\"\",\"\",IFERROR(INDEX(IF($C$3=\"% IBOV\",'Guia de BTC'!H:H,IF($C$3=\"% Float Alugado\",'Guia de BTC'!R:R,IF($C$3=\"Valor Alugado\",'Guia de BTC'!T:T,IF($C$3=\"Volume Médio\",'Guia de BTC'!Y:Y,IF($C$3=\"Dias de Giro\",'Guia de BTC'!Z:Z,IF($C$3=\"Aluguel vs Vista\",'Guia de BTC'!AF:AF,IF($C$3=\"Ações Alugadas\",'Guia de BTC'!AD:AD,IF($C$3=\"▲ de 1 dia\",'Guia de BTC'!AJ:AJ,IF($C$3=\"Taxa Média De Aluguel\",'Guia de BTC'!AN:AN,\"\"))))))))),MATCH(C202,'Guia de BTC'!C:C,0)),\"\"))","v":1E-3},1.5E-3,"TASA4"]
[null,{"$f":"IFERROR(RANK(E203,$E$5:$E$400)+COUNTIF($E$5:E203,E203)-1,\"\")","v":94},{"$f":"IF('Guia de BTC'!C205=0,\"\",'Guia de BTC'!C205)","v":"LOGN3<XBSP>"},"LOGN3",{"$f":"IF(C203=\"\",\"\",IFERROR(INDEX(IF($C$3=\"% IBOV\",'Guia de BTC'!H:H,IF($C$3=\"% Float Alugado\",'Guia de BTC'!R:R,IF($C$3=\"Valor Alugado\",'Guia de BTC'!T:T,IF($C$3=\"Volume Médio\",'Guia de BTC'!Y:Y,IF($C$3=\"Dias de Giro\",'Guia de BTC'!Z:Z,IF($C$3=\"Aluguel vs Vista\",'Guia de BTC'!AF:AF,IF($C$3=\"Ações Alugadas\",'Guia de BTC'!AD:AD,IF($C$3=\"▲ de 1 dia\",'Guia de BTC'!AJ:AJ,IF($C$3=\"Taxa Média De Aluguel\",'Guia de BTC'!AN:AN,\"\"))))))))),MATCH(C203,'Guia de BTC'!C:C,0)),\"\"))","v":2.0400000000000001E-2},1.5E-3,"RAPT4"]
[null,{"$f":"IFERROR(RANK(E204,$E$5:$E$400)+COUNTIF($E$5:E204,E204)-1,\"\")","v":108},{"$f":"IF('Guia de BTC'!C206=0,\"\",'Guia de BTC'!C206)","v":"IFCM3<XBSP>"},"IFCM3",{"$f":"IF(C204=\"\",\"\",IFERROR(INDEX(IF($C$3=\"% IBOV\",'Guia de BTC'!H:H,IF($C$3=\"% Float Alugado\",'Guia de BTC'!R:R,IF($C$3=\"Valor Alugado\",'Guia de BTC'!T:T,IF($C$3=\"Volume Médio\",'Guia de BTC'!Y:Y,IF($C$3=\"Dias de Giro\",'Guia de BTC'!Z:Z,IF($C$3=\"Aluguel vs Vista\",'Guia de BTC'!AF:AF,IF($C$3=\"Ações Alugadas\",'Guia de BTC'!AD:AD,IF($C$3=\"▲ de 1 dia\",'Guia de BTC'!AJ:AJ,IF($C$3=\"Taxa Média De Aluguel\",'Guia de BTC'!AN:AN,\"\"))))))))),MATCH(C204,'Guia de BTC'!C:C,0)),\"\"))","v":1.3599999999999999E-2},1.5E-3,"QUAL3"]
[null,{"$f":"IFERROR(RANK(E205,$E$5:$E$400)+COUNTIF($E$5:E205,E205)-1,\"\")","v":170},{"$f":"IF('Guia de BTC'!C207=0,\"\",'Guia de BTC'!C207)","v":"SEER3<XBSP>"},"SEER3",{"$f":"IF(C205=\"\",\"\",IFERROR(INDEX(IF($C$3=\"% IBOV\",'Guia de BTC'!H:H,IF($C$3=\"% Float Alugado\",'Guia de BTC'!R:R,IF($C$3=\"Valor Alugado\",'Guia de BTC'!T:T,IF($C$3=\"Volume Médio\",'Guia de BTC'!Y:Y,IF($C$3=\"Dias de Giro\",'Guia de BTC'!Z:Z,IF($C$3=\"Aluguel vs Vista\",'Guia de BTC'!AF:AF,IF($C$3=\"Ações Alugadas\",'Guia de BTC'!AD:AD,IF($C$3=\"▲ de 1 dia\",'Guia de BTC'!AJ:AJ,IF($C$3=\"Taxa Média De Aluguel\",'Guia de BTC'!AN:AN,\"\"))))))))),MATCH(C205,'Guia de BTC'!C:C,0)),\"\"))","v":3.2000000000000002E-3},1.5E-3,"BMGB4"]
[null,{"$f":"IFERROR(RANK(E206,$E$5:$E$400)+COUNTIF($E$5:E206,E206)-1,\"\")","v":256},{"$f":"IF('Guia de BTC'!C208=0,\"\",'Guia de BTC'!C208)","v":"SPXI11<XBSP>"},"SPXI11",{"$f":"IF(C206=\"\",\"\",IFERROR(INDEX(IF($C$3=\"% IBOV\",'Guia de BTC'!H:H,IF($C$3=\"% Float Alugado\",'Guia de BTC'!R:R,IF($C$3=\"Valor Alugado\",'Guia de BTC'!T:T,IF($C$3=\"Volume Médio\",'Guia de BTC'!Y:Y,IF($C$3=\"Dias de Giro\",'Guia de BTC'!Z:Z,IF($C$3=\"Aluguel vs Vista\",'Guia de BTC'!AF:AF,IF($C$3=\"Ações Alugadas\",'Guia de BTC'!AD:AD,IF($C$3=\"▲ de 1 dia\",'Guia de BTC'!AJ:AJ,IF($C$3=\"Taxa Média De Aluguel\",'Guia de BTC'!AN:AN,\"\"))))))))),MATCH(C206,'Guia de BTC'!C:C,0)),\"\"))","v":0},1.4E-3,"BRFS3"]
[null,{"$f":"IFERROR(RANK(E207,$E$5:$E$400)+COUNTIF($E$5:E207,E207)-1,\"\")","v":84},{"$f":"IF('Guia de BTC'!C209=0,\"\",'Guia de BTC'!C209)","v":"PRNR3<XBSP>"},"PRNR3",{"$f":"IF(C207=\"\",\"\",IFERROR(INDEX(IF($C$3=\"% IBOV\",'Guia de BTC'!H:H,IF($C$3=\"% Float Alugado\",'Guia de BTC'!R:R,IF($C$3=\"Valor Alugado\",'Guia de BTC'!T:T,IF($C$3=\"Volume Médio\",'Guia de BTC'!Y:Y,IF($C$3=\"Dias de Giro\",'Guia de BTC'!Z:Z,IF($C$3=\"Aluguel vs Vista\",'Guia de BTC'!AF:AF,IF($C$3=\"Ações Alugadas\",'Guia de BTC'!AD:AD,IF($C$3=\"▲ de 1 dia\",'Guia de BTC'!AJ:AJ,IF($C$3=\"Taxa Média De Aluguel\",'Guia de BTC'!AN:AN,\"\"))))))))),MATCH(C207,'Guia de BTC'!C:C,0)),\"\"))","v":2.81E-2},1.4E-3,"CSNA3"]
[null,{"$f":"IFERROR(RANK(E208,$E$5:$E$400)+COUNTIF($E$5:E208,E208)-1,\"\")","v":40},{"$f":"IF('Guia de BTC'!C210=0,\"\",'Guia de BTC'!C210)","v":"DESK3<XBSP>"},"DESK3",{"$f":"IF(C208=\"\",\"\",IFERROR(INDEX(IF($C$3=\"% IBOV\",'Guia de BTC'!H:H,IF($C$3=\"% Float Alugado\",'Guia de BTC'!R:R,IF($C$3=\"Valor Alugado\",'Guia de BTC'!T:T,IF($C$3=\"Volume Médio\",'Guia de BTC'!Y:Y,IF($C$3=\"Dias de Giro\",'Guia de BTC'!Z:Z,IF($C$3=\"Aluguel vs Vista\",'Guia de BTC'!AF:AF,IF($C$3=\"Ações Alugadas\",'Guia de BTC'!AD:AD,IF($C$3=\"▲ de 1 dia\",'Guia de BTC'!AJ:AJ,IF($C$3=\"Taxa Média De Aluguel\",'Guia de BTC'!AN:AN,\"\"))))))))),MATCH(C208,'Guia de BTC'!C:C,0)),\"\"))","v":6.9500000000000006E-2},1.4E-3,"NEOE3"]
[null,{"$f":"IFERROR(RANK(E209,$E$5:$E$400)+COUNTIF($E$5:E209,E209)-1,\"\")","v":24},{"$f":"IF('Guia de BTC'!C211=0,\"\",'Guia de BTC'!C211)","v":"KLBN4<XBSP>"},"KLBN4",{"$f":"IF(C209=\"\",\"\",IFERROR(INDEX(IF($C$3=\"% IBOV\",'Guia de BTC'!H:H,IF($C$3=\"% Float Alugado\",'Guia de BTC'!R:R,IF($C$3=\"Valor Alugado\",'Guia de BTC'!T:T,IF($C$3=\"Volume Médio\",'Guia de BTC'!Y:Y,IF($C$3=\"Dias de Giro\",'Guia de BTC'!Z:Z,IF($C$3=\"Aluguel vs Vista\",'Guia de BTC'!AF:AF,IF($C$3=\"Ações Alugadas\",'Guia de BTC'!AD:AD,IF($C$3=\"▲ de 1 dia\",'Guia de BTC'!AJ:AJ,IF($C$3=\"Taxa Média De Aluguel\",'Guia de BTC'!AN:AN,\"\"))))))))),MATCH(C209,'Guia de BTC'!C:C,0)),\"\"))","v":9.9400000000000002E-2},1.4E-3,"PNVL3"]
[null,{"$f":"IFERROR(RANK(E210,$E$5:$E$400)+COUNTIF($E$5:E210,E210)-1,\"\")","v":9},{"$f":"IF('Guia de BTC'!C212=0,\"\",'Guia de BTC'!C212)","v":"BRIT3<XBSP>"},"BRIT3",{"$f":"IF(C210=\"\",\"\",IFERROR(INDEX(IF($C$3=\"% IBOV\",'Guia de BTC'!H:H,IF($C$3=\"% Float Alugado\",'Guia de BTC'!R:R,IF($C$3=\"Valor Alugado\",'Guia de BTC'!T:T,IF($C$3=\"Volume Médio\",'Guia de BTC'!Y:Y,IF($C$3=\"Dias de Giro\",'Guia de BTC'!Z:Z,IF($C$3=\"Aluguel vs Vista\",'Guia de BTC'!AF:AF,IF($C$3=\"Ações Alugadas\",'Guia de BTC'!AD:AD,IF($C$3=\"▲ de 1 dia\",'Guia de BTC'!AJ:AJ,IF($C$3=\"Taxa Média De Aluguel\",'Guia de BTC'!AN:AN,\"\"))))))))),MATCH(C210,'Guia de BTC'!C:C,0)),\"\"))","v":0.29620000000000002},1.2999999999999999E-3,"ALPA4"]
[null,{"$f":"IFERROR(RANK(E211,$E$5:$E$400)+COUNTIF($E$5:E211,E211)-1,\"\")","v":82},{"$f":"IF('Guia de BTC'!C213=0,\"\",'Guia de BTC'!C213)","v":"ENJU3<XBSP>"},"ENJU3",{"$f":"IF(C211=\"\",\"\",IFERROR(INDEX(IF($C$3=\"% IBOV\",'Guia de BTC'!H:H,IF($C$3=\"% Float Alugado\",'Guia de BTC'!R:R,IF($C$3=\"Valor Alugado\",'Guia de BTC'!T:T,IF($C$3=\"Volume Médio\",'Guia de BTC'!Y:Y,IF($C$3=\"Dias de Giro\",'Guia de BTC'!Z:Z,IF($C$3=\"Aluguel vs Vista\",'Guia de BTC'!AF:AF,IF($C$3=\"Ações Alugadas\",'Guia de BTC'!AD:AD,IF($C$3=\"▲ de 1 dia\",'Guia de BTC'!AJ:AJ,IF($C$3=\"Taxa Média De Aluguel\",'Guia de BTC'!AN:AN,\"\"))))))))),MATCH(C211,'Guia de BTC'!C:C,0)),\"\"))","v":2.8799999999999999E-2},1.2999999999999999E-3,"ANIM3"]
[null,{"$f":"IFERROR(RANK(E212,$E$5:$E$400)+COUNTIF($E$5:E212,E212)-1,\"\")","v":79},{"$f":"IF('Guia de BTC'!C214=0,\"\",'Guia de BTC'!C214)","v":"EURP11<XBSP>"},"EURP11",{"$f":"IF(C212=\"\",\"\",IFERROR(INDEX(IF($C$3=\"% IBOV\",'Guia de BTC'!H:H,IF($C$3=\"% Float Alugado\",'Guia de BTC'!R:R,IF($C$3=\"Valor Alugado\",'Guia de BTC'!T:T,IF($C$3=\"Volume Médio\",'Guia de BTC'!Y:Y,IF($C$3=\"Dias de Giro\",'Guia de BTC'!Z:Z,IF($C$3=\"Aluguel vs Vista\",'Guia de BTC'!AF:AF,IF($C$3=\"Ações Alugadas\",'Guia de BTC'!AD:AD,IF($C$3=\"▲ de 1 dia\",'Guia de BTC'!AJ:AJ,IF($C$3=\"Taxa Média De Aluguel\",'Guia de BTC'!AN:AN,\"\"))))))))),MATCH(C212,'Guia de BTC'!C:C,0)),\"\"))","v":0.03},1.2999999999999999E-3,"ROMI3"]
[null,{"$f":"IFERROR(RANK(E213,$E$5:$E$400)+COUNTIF($E$5:E213,E213)-1,\"\")","v":61},{"$f":"IF('Guia de BTC'!C215=0,\"\",'Guia de BTC'!C215)","v":"PORT3<XBSP>"},"PORT3",{"$f":"IF(C213=\"\",\"\",IFERROR(INDEX(IF($C$3=\"% IBOV\",'Guia de BTC'!H:H,IF($C$3=\"% Float Alugado\",'Guia de BTC'!R:R,IF($C$3=\"Valor Alugado\",'Guia de BTC'!T:T,IF($C$3=\"Volume Médio\",'Guia de BTC'!Y:Y,IF($C$3=\"Dias de Giro\",'Guia de BTC'!Z:Z,IF($C$3=\"Aluguel vs Vista\",'Guia de BTC'!AF:AF,IF($C$3=\"Ações Alugadas\",'Guia de BTC'!AD:AD,IF($C$3=\"▲ de 1 dia\",'Guia de BTC'!AJ:AJ,IF($C$3=\"Taxa Média De Aluguel\",'Guia de BTC'!AN:AN,\"\"))))))))),MATCH(C213,'Guia de BTC'!C:C,0)),\"\"))","v":4.2799999999999998E-2},1.1999999999999999E-3,"IGTI11"]
[null,{"$f":"IFERROR(RANK(E214,$E$5:$E$400)+COUNTIF($E$5:E214,E214)-1,\"\")","v":111},{"$f":"IF('Guia de BTC'!C216=0,\"\",'Guia de BTC'!C216)","v":"ETHE11<XBSP>"},"ETHE11",{"$f":"IF(C214=\"\",\"\",IFERROR(INDEX(IF($C$3=\"% IBOV\",'Guia de BTC'!H:H,IF($C$3=\"% Float Alugado\",'Guia de BTC'!R:R,IF($C$3=\"Valor Alugado\",'Guia de BTC'!T:T,IF($C$3=\"Volume Médio\",'Guia de BTC'!Y:Y,IF($C$3=\"Dias de Giro\",'Guia de BTC'!Z:Z,IF($C$3=\"Aluguel vs Vista\",'Guia de BTC'!AF:AF,IF($C$3=\"Ações Alugadas\",'Guia de BTC'!AD:AD,IF($C$3=\"▲ de 1 dia\",'Guia de BTC'!AJ:AJ,IF($C$3=\"Taxa Média De Aluguel\",'Guia de BTC'!AN:AN,\"\"))))))))),MATCH(C214,'Guia de BTC'!C:C,0)),\"\"))","v":1.3100000000000001E-2},1.1999999999999999E-3,"USIM5"]
[null,{"$f":"IFERROR(RANK(E215,$E$5:$E$400)+COUNTIF($E$5:E215,E215)-1,\"\")","v":4},{"$f":"IF('Guia de BTC'!C217=0,\"\",'Guia de BTC'!C217)","v":"TRAD3<XBSP>"},"TRAD3",{"$f":"IF(C215=\"\",\"\",IFERROR(INDEX(IF($C$3=\"% IBOV\",'Guia de BTC'!H:H,IF($C$3=\"% Float Alugado\",'Guia de BTC'!R:R,IF($C$3=\"Valor Alugado\",'Guia de BTC'!T:T,IF($C$3=\"Volume Médio\",'Guia de BTC'!Y:Y,IF($C$3=\"Dias de Giro\",'Guia de BTC'!Z:Z,IF($C$3=\"Aluguel vs Vista\",'Guia de BTC'!AF:AF,IF($C$3=\"Ações Alugadas\",'Guia de BTC'!AD:AD,IF($C$3=\"▲ de 1 dia\",'Guia de BTC'!AJ:AJ,IF($C$3=\"Taxa Média De Aluguel\",'Guia de BTC'!AN:AN,\"\"))))))))),MATCH(C215,'Guia de BTC'!C:C,0)),\"\"))","v":0.48089999999999999},1.1999999999999999E-3,"ECOR3"]
[null,{"$f":"IFERROR(RANK(E216,$E$5:$E$400)+COUNTIF($E$5:E216,E216)-1,\"\")","v":149},{"$f":"IF('Guia de BTC'!C218=0,\"\",'Guia de BTC'!C218)","v":"BMOB3<XBSP>"},"BMOB3",{"$f":"IF(C216=\"\",\"\",IFERROR(INDEX(IF($C$3=\"% IBOV\",'Guia de BTC'!H:H,IF($C$3=\"% Float Alugado\",'Guia de BTC'!R:R,IF($C$3=\"Valor Alugado\",'Guia de BTC'!T:T,IF($C$3=\"Volume Médio\",'Guia de BTC'!Y:Y,IF($C$3=\"Dias de Giro\",'Guia de BTC'!Z:Z,IF($C$3=\"Aluguel vs Vista\",'Guia de BTC'!AF:AF,IF($C$3=\"Ações Alugadas\",'Guia de BTC'!AD:AD,IF($C$3=\"▲ de 1 dia\",'Guia de BTC'!AJ:AJ,IF($C$3=\"Taxa Média De Aluguel\",'Guia de BTC'!AN:AN,\"\"))))))))),MATCH(C216,'Guia de BTC'!C:C,0)),\"\"))","v":5.0000000000000001E-3},1.1000000000000001E-3,"PETR3"]
[null,{"$f":"IFERROR(RANK(E217,$E$5:$E$400)+COUNTIF($E$5:E217,E217)-1,\"\")","v":101},{"$f":"IF('Guia de BTC'!C219=0,\"\",'Guia de BTC'!C219)","v":"SHUL4<XBSP>"},"SHUL4",{"$f":"IF(C217=\"\",\"\",IFERROR(INDEX(IF($C$3=\"% IBOV\",'Guia de BTC'!H:H,IF($C$3=\"% Float Alugado\",'Guia de BTC'!R:R,IF($C$3=\"Valor Alugado\",'Guia de BTC'!T:T,IF($C$3=\"Volume Médio\",'Guia de BTC'!Y:Y,IF($C$3=\"Dias de Giro\",'Guia de BTC'!Z:Z,IF($C$3=\"Aluguel vs Vista\",'Guia de BTC'!AF:AF,IF($C$3=\"Ações Alugadas\",'Guia de BTC'!AD:AD,IF($C$3=\"▲ de 1 dia\",'Guia de BTC'!AJ:AJ,IF($C$3=\"Taxa Média De Aluguel\",'Guia de BTC'!AN:AN,\"\"))))))))),MATCH(C217,'Guia de BTC'!C:C,0)),\"\"))","v":1.78E-2},1.1000000000000001E-3,"CASH3"]
[null,{"$f":"IFERROR(RANK(E218,$E$5:$E$400)+COUNTIF($E$5:E218,E218)-1,\"\")","v":39},{"$f":"IF('Guia de BTC'!C220=0,\"\",'Guia de BTC'!C220)","v":"OPCT3<XBSP>"},"OPCT3",{"$f":"IF(C218=\"\",\"\",IFERROR(INDEX(IF($C$3=\"% IBOV\",'Guia de BTC'!H:H,IF($C$3=\"% Float Alugado\",'Guia de BTC'!R:R,IF($C$3=\"Valor Alugado\",'Guia de BTC'!T:T,IF($C$3=\"Volume Médio\",'Guia de BTC'!Y:Y,IF($C$3=\"Dias de Giro\",'Guia de BTC'!Z:Z,IF($C$3=\"Aluguel vs Vista\",'Guia de BTC'!AF:AF,IF($C$3=\"Ações Alugadas\",'Guia de BTC'!AD:AD,IF($C$3=\"▲ de 1 dia\",'Guia de BTC'!AJ:AJ,IF($C$3=\"Taxa Média De Aluguel\",'Guia de BTC'!AN:AN,\"\"))))))))),MATCH(C218,'Guia de BTC'!C:C,0)),\"\"))","v":6.9699999999999998E-2},1E-3,"IBOB11"]
[null,{"$f":"IFERROR(RANK(E219,$E$5:$E$400)+COUNTIF($E$5:E219,E219)-1,\"\")","v":257},{"$f":"IF('Guia de BTC'!C221=0,\"\",'Guia de BTC'!C221)","v":"ELMD3<XBSP>"},"ELMD3",{"$f":"IF(C219=\"\",\"\",IFERROR(INDEX(IF($C$3=\"% IBOV\",'Guia de BTC'!H:H,IF($C$3=\"% Float Alugado\",'Guia de BTC'!R:R,IF($C$3=\"Valor Alugado\",'Guia de BTC'!T:T,IF($C$3=\"Volume Médio\",'Guia de BTC'!Y:Y,IF($C$3=\"Dias de Giro\",'Guia de BTC'!Z:Z,IF($C$3=\"Aluguel vs Vista\",'Guia de BTC'!AF:AF,IF($C$3=\"Ações Alugadas\",'Guia de BTC'!AD:AD,IF($C$3=\"▲ de 1 dia\",'Guia de BTC'!AJ:AJ,IF($C$3=\"Taxa Média De Aluguel\",'Guia de BTC'!AN:AN,\"\"))))))))),MATCH(C219,'Guia de BTC'!C:C,0)),\"\"))","v":0},8.9999999999999998E-4,"SBFG3"]
[null,{"$f":"IFERROR(RANK(E220,$E$5:$E$400)+COUNTIF($E$5:E220,E220)-1,\"\")","v":36},{"$f":"IF('Guia de BTC'!C222=0,\"\",'Guia de BTC'!C222)","v":"LAND3<XBSP>"},"LAND3",{"$f":"IF(C220=\"\",\"\",IFERROR(INDEX(IF($C$3=\"% IBOV\",'Guia de BTC'!H:H,IF($C$3=\"% Float Alugado\",'Guia de BTC'!R:R,IF($C$3=\"Valor Alugado\",'Guia de BTC'!T:T,IF($C$3=\"Volume Médio\",'Guia de BTC'!Y:Y,IF($C$3=\"Dias de Giro\",'Guia de BTC'!Z:Z,IF($C$3=\"Aluguel vs Vista\",'Guia de BTC'!AF:AF,IF($C$3=\"Ações Alugadas\",'Guia de BTC'!AD:AD,IF($C$3=\"▲ de 1 dia\",'Guia de BTC'!AJ:AJ,IF($C$3=\"Taxa Média De Aluguel\",'Guia de BTC'!AN:AN,\"\"))))))))),MATCH(C220,'Guia de BTC'!C:C,0)),\"\"))","v":7.4399999999999994E-2},8.0000000000000004E-4,"ELET3"]
[null,{"$f":"IFERROR(RANK(E221,$E$5:$E$400)+COUNTIF($E$5:E221,E221)-1,\"\")","v":16},{"$f":"IF('Guia de BTC'!C223=0,\"\",'Guia de BTC'!C223)","v":"AMAR3<XBSP>"},"AMAR3",{"$f":"IF(C221=\"\",\"\",IFERROR(INDEX(IF($C$3=\"% IBOV\",'Guia de BTC'!H:H,IF($C$3=\"% Float Alugado\",'Guia de BTC'!R:R,IF($C$3=\"Valor Alugado\",'Guia de BTC'!T:T,IF($C$3=\"Volume Médio\",'Guia de BTC'!Y:Y,IF($C$3=\"Dias de Giro\",'Guia de BTC'!Z:Z,IF($C$3=\"Aluguel vs Vista\",'Guia de BTC'!AF:AF,IF($C$3=\"Ações Alugadas\",'Guia de BTC'!AD:AD,IF($C$3=\"▲ de 1 dia\",'Guia de BTC'!AJ:AJ,IF($C$3=\"Taxa Média De Aluguel\",'Guia de BTC'!AN:AN,\"\"))))))))),MATCH(C221,'Guia de BTC'!C:C,0)),\"\"))","v":0.1545},6.9999999999999999E-4,"SBSP3"]
[null,{"$f":"IFERROR(RANK(E222,$E$5:$E$400)+COUNTIF($E$5:E222,E222)-1,\"\")","v":258},{"$f":"IF('Guia de BTC'!C224=0,\"\",'Guia de BTC'!C224)","v":"ESGU11<XBSP>"},"ESGU11",{"$f":"IF(C222=\"\",\"\",IFERROR(INDEX(IF($C$3=\"% IBOV\",'Guia de BTC'!H:H,IF($C$3=\"% Float Alugado\",'Guia de BTC'!R:R,IF($C$3=\"Valor Alugado\",'Guia de BTC'!T:T,IF($C$3=\"Volume Médio\",'Guia de BTC'!Y:Y,IF($C$3=\"Dias de Giro\",'Guia de BTC'!Z:Z,IF($C$3=\"Aluguel vs Vista\",'Guia de BTC'!AF:AF,IF($C$3=\"Ações Alugadas\",'Guia de BTC'!AD:AD,IF($C$3=\"▲ de 1 dia\",'Guia de BTC'!AJ:AJ,IF($C$3=\"Taxa Média De Aluguel\",'Guia de BTC'!AN:AN,\"\"))))))))),MATCH(C222,'Guia de BTC'!C:C,0)),\"\"))","v":0},6.9999999999999999E-4,"LWSA3"]
[null,{"$f":"IFERROR(RANK(E223,$E$5:$E$400)+COUNTIF($E$5:E223,E223)-1,\"\")","v":32},{"$f":"IF('Guia de BTC'!C225=0,\"\",'Guia de BTC'!C225)","v":"DIVO11<XBSP>"},"DIVO11",{"$f":"IF(C223=\"\",\"\",IFERROR(INDEX(IF($C$3=\"% IBOV\",'Guia de BTC'!H:H,IF($C$3=\"% Float Alugado\",'Guia de BTC'!R:R,IF($C$3=\"Valor Alugado\",'Guia de BTC'!T:T,IF($C$3=\"Volume Médio\",'Guia de BTC'!Y:Y,IF($C$3=\"Dias de Giro\",'Guia de BTC'!Z:Z,IF($C$3=\"Aluguel vs Vista\",'Guia de BTC'!AF:AF,IF($C$3=\"Ações Alugadas\",'Guia de BTC'!AD:AD,IF($C$3=\"▲ de 1 dia\",'Guia de BTC'!AJ:AJ,IF($C$3=\"Taxa Média De Aluguel\",'Guia de BTC'!AN:AN,\"\"))))))))),MATCH(C223,'Guia de BTC'!C:C,0)),\"\"))","v":0.08},5.9999999999999995E-4,"WEGE3"]
[null,{"$f":"IFERROR(RANK(E224,$E$5:$E$400)+COUNTIF($E$5:E224,E224)-1,\"\")","v":55},{"$f":"IF('Guia de BTC'!C226=0,\"\",'Guia de BTC'!C226)","v":"BRAX11<XBSP>"},"BRAX11",{"$f":"IF(C224=\"\",\"\",IFERROR(INDEX(IF($C$3=\"% IBOV\",'Guia de BTC'!H:H,IF($C$3=\"% Float Alugado\",'Guia de BTC'!R:R,IF($C$3=\"Valor Alugado\",'Guia de BTC'!T:T,IF($C$3=\"Volume Médio\",'Guia de BTC'!Y:Y,IF($C$3=\"Dias de Giro\",'Guia de BTC'!Z:Z,IF($C$3=\"Aluguel vs Vista\",'Guia de BTC'!AF:AF,IF($C$3=\"Ações Alugadas\",'Guia de BTC'!AD:AD,IF($C$3=\"▲ de 1 dia\",'Guia de BTC'!AJ:AJ,IF($C$3=\"Taxa Média De Aluguel\",'Guia de BTC'!AN:AN,\"\"))))))))),MATCH(C224,'Guia de BTC'!C:C,0)),\"\"))","v":0.05},5.9999999999999995E-4,"ITSA4"]
[null,{"$f":"IFERROR(RANK(E225,$E$5:$E$400)+COUNTIF($E$5:E225,E225)-1,\"\")","v":259},{"$f":"IF('Guia de BTC'!C227=0,\"\",'Guia de BTC'!C227)","v":"BREW11<XBSP>"},"BREW11",{"$f":"IF(C225=\"\",\"\",IFERROR(INDEX(IF($C$3=\"% IBOV\",'Guia de BTC'!H:H,IF($C$3=\"% Float Alugado\",'Guia de BTC'!R:R,IF($C$3=\"Valor Alugado\",'Guia de BTC'!T:T,IF($C$3=\"Volume Médio\",'Guia de BTC'!Y:Y,IF($C$3=\"Dias de Giro\",'Guia de BTC'!Z:Z,IF($C$3=\"Aluguel vs Vista\",'Guia de BTC'!AF:AF,IF($C$3=\"Ações Alugadas\",'Guia de BTC'!AD:AD,IF($C$3=\"▲ de 1 dia\",'Guia de BTC'!AJ:AJ,IF($C$3=\"Taxa Média De Aluguel\",'Guia de BTC'!AN:AN,\"\"))))))))),MATCH(C225,'Guia de BTC'!C:C,0)),\"\"))","v":0},5.9999999999999995E-4,"CSAN3"]
[null,{"$f":"IFERROR(RANK(E226,$E$5:$E$400)+COUNTIF($E$5:E226,E226)-1,\"\")","v":29},{"$f":"IF('Guia de BTC'!C228=0,\"\",'Guia de BTC'!C228)","v":"MDNE3<XBSP>"},"MDNE3",{"$f":"IF(C226=\"\",\"\",IFERROR(INDEX(IF($C$3=\"% IBOV\",'Guia de BTC'!H:H,IF($C$3=\"% Float Alugado\",'Guia de BTC'!R:R,IF($C$3=\"Valor Alugado\",'Guia de BTC'!T:T,IF($C$3=\"Volume Médio\",'Guia de BTC'!Y:Y,IF($C$3=\"Dias de Giro\",'Guia de BTC'!Z:Z,IF($C$3=\"Aluguel vs Vista\",'Guia de BTC'!AF:AF,IF($C$3=\"Ações Alugadas\",'Guia de BTC'!AD:AD,IF($C$3=\"▲ de 1 dia\",'Guia de BTC'!AJ:AJ,IF($C$3=\"Taxa Média De Aluguel\",'Guia de BTC'!AN:AN,\"\"))))))))),MATCH(C226,'Guia de BTC'!C:C,0)),\"\"))","v":9.2100000000000001E-2},5.9999999999999995E-4,"CSMG3"]
[null,{"$f":"IFERROR(RANK(E227,$E$5:$E$400)+COUNTIF($E$5:E227,E227)-1,\"\")","v":38},{"$f":"IF('Guia de BTC'!C229=0,\"\",'Guia de BTC'!C229)","v":"TGMA3<XBSP>"},"TGMA3",{"$f":"IF(C227=\"\",\"\",IFERROR(INDEX(IF($C$3=\"% IBOV\",'Guia de BTC'!H:H,IF($C$3=\"% Float Alugado\",'Guia de BTC'!R:R,IF($C$3=\"Valor Alugado\",'Guia de BTC'!T:T,IF($C$3=\"Volume Médio\",'Guia de BTC'!Y:Y,IF($C$3=\"Dias de Giro\",'Guia de BTC'!Z:Z,IF($C$3=\"Aluguel vs Vista\",'Guia de BTC'!AF:AF,IF($C$3=\"Ações Alugadas\",'Guia de BTC'!AD:AD,IF($C$3=\"▲ de 1 dia\",'Guia de BTC'!AJ:AJ,IF($C$3=\"Taxa Média De Aluguel\",'Guia de BTC'!AN:AN,\"\"))))))))),MATCH(C227,'Guia de BTC'!C:C,0)),\"\"))","v":7.2400000000000006E-2},5.9999999999999995E-4,"FLRY3"]
[null,{"$f":"IFERROR(RANK(E228,$E$5:$E$400)+COUNTIF($E$5:E228,E228)-1,\"\")","v":89},{"$f":"IF('Guia de BTC'!C230=0,\"\",'Guia de BTC'!C230)","v":"GGBR3<XBSP>"},"GGBR3",{"$f":"IF(C228=\"\",\"\",IFERROR(INDEX(IF($C$3=\"% IBOV\",'Guia de BTC'!H:H,IF($C$3=\"% Float Alugado\",'Guia de BTC'!R:R,IF($C$3=\"Valor Alugado\",'Guia de BTC'!T:T,IF($C$3=\"Volume Médio\",'Guia de BTC'!Y:Y,IF($C$3=\"Dias de Giro\",'Guia de BTC'!Z:Z,IF($C$3=\"Aluguel vs Vista\",'Guia de BTC'!AF:AF,IF($C$3=\"Ações Alugadas\",'Guia de BTC'!AD:AD,IF($C$3=\"▲ de 1 dia\",'Guia de BTC'!AJ:AJ,IF($C$3=\"Taxa Média De Aluguel\",'Guia de BTC'!AN:AN,\"\"))))))))),MATCH(C228,'Guia de BTC'!C:C,0)),\"\"))","v":2.4199999999999999E-2},5.9999999999999995E-4,"INTB3"]
[null,{"$f":"IFERROR(RANK(E229,$E$5:$E$400)+COUNTIF($E$5:E229,E229)-1,\"\")","v":150},{"$f":"IF('Guia de BTC'!C231=0,\"\",'Guia de BTC'!C231)","v":"BITI11<XBSP>"},"BITI11",{"$f":"IF(C229=\"\",\"\",IFERROR(INDEX(IF($C$3=\"% IBOV\",'Guia de BTC'!H:H,IF($C$3=\"% Float Alugado\",'Guia de BTC'!R:R,IF($C$3=\"Valor Alugado\",'Guia de BTC'!T:T,IF($C$3=\"Volume Médio\",'Guia de BTC'!Y:Y,IF($C$3=\"Dias de Giro\",'Guia de BTC'!Z:Z,IF($C$3=\"Aluguel vs Vista\",'Guia de BTC'!AF:AF,IF($C$3=\"Ações Alugadas\",'Guia de BTC'!AD:AD,IF($C$3=\"▲ de 1 dia\",'Guia de BTC'!AJ:AJ,IF($C$3=\"Taxa Média De Aluguel\",'Guia de BTC'!AN:AN,\"\"))))))))),MATCH(C229,'Guia de BTC'!C:C,0)),\"\"))","v":5.0000000000000001E-3},5.9999999999999995E-4,"MILS3"]
[null,{"$f":"IFERROR(RANK(E230,$E$5:$E$400)+COUNTIF($E$5:E230,E230)-1,\"\")","v":72},{"$f":"IF('Guia de BTC'!C232=0,\"\",'Guia de BTC'!C232)","v":"TAEE4<XBSP>"},"TAEE4",{"$f":"IF(C230=\"\",\"\",IFERROR(INDEX(IF($C$3=\"% IBOV\",'Guia de BTC'!H:H,IF($C$3=\"% Float Alugado\",'Guia de BTC'!R:R,IF($C$3=\"Valor Alugado\",'Guia de BTC'!T:T,IF($C$3=\"Volume Médio\",'Guia de BTC'!Y:Y,IF($C$3=\"Dias de Giro\",'Guia de BTC'!Z:Z,IF($C$3=\"Aluguel vs Vista\",'Guia de BTC'!AF:AF,IF($C$3=\"Ações Alugadas\",'Guia de BTC'!AD:AD,IF($C$3=\"▲ de 1 dia\",'Guia de BTC'!AJ:AJ,IF($C$3=\"Taxa Média De Aluguel\",'Guia de BTC'!AN:AN,\"\"))))))))),MATCH(C230,'Guia de BTC'!C:C,0)),\"\"))","v":3.5200000000000002E-2},5.0000000000000001E-4,"ITUB4"]
[null,{"$f":"IFERROR(RANK(E231,$E$5:$E$400)+COUNTIF($E$5:E231,E231)-1,\"\")","v":65},{"$f":"IF('Guia de BTC'!C233=0,\"\",'Guia de BTC'!C233)","v":"HBRE3<XBSP>"},"HBRE3",{"$f":"IF(C231=\"\",\"\",IFERROR(INDEX(IF($C$3=\"% IBOV\",'Guia de BTC'!H:H,IF($C$3=\"% Float Alugado\",'Guia de BTC'!R:R,IF($C$3=\"Valor Alugado\",'Guia de BTC'!T:T,IF($C$3=\"Volume Médio\",'Guia de BTC'!Y:Y,IF($C$3=\"Dias de Giro\",'Guia de BTC'!Z:Z,IF($C$3=\"Aluguel vs Vista\",'Guia de BTC'!AF:AF,IF($C$3=\"Ações Alugadas\",'Guia de BTC'!AD:AD,IF($C$3=\"▲ de 1 dia\",'Guia de BTC'!AJ:AJ,IF($C$3=\"Taxa Média De Aluguel\",'Guia de BTC'!AN:AN,\"\"))))))))),MATCH(C231,'Guia de BTC'!C:C,0)),\"\"))","v":3.9100000000000003E-2},5.0000000000000001E-4,"BBAS3"]
[null,{"$f":"IFERROR(RANK(E232,$E$5:$E$400)+COUNTIF($E$5:E232,E232)-1,\"\")","v":46},{"$f":"IF('Guia de BTC'!C234=0,\"\",'Guia de BTC'!C234)","v":"TAEE3<XBSP>"},"TAEE3",{"$f":"IF(C232=\"\",\"\",IFERROR(INDEX(IF($C$3=\"% IBOV\",'Guia de BTC'!H:H,IF($C$3=\"% Float Alugado\",'Guia de BTC'!R:R,IF($C$3=\"Valor Alugado\",'Guia de BTC'!T:T,IF($C$3=\"Volume Médio\",'Guia de BTC'!Y:Y,IF($C$3=\"Dias de Giro\",'Guia de BTC'!Z:Z,IF($C$3=\"Aluguel vs Vista\",'Guia de BTC'!AF:AF,IF($C$3=\"Ações Alugadas\",'Guia de BTC'!AD:AD,IF($C$3=\"▲ de 1 dia\",'Guia de BTC'!AJ:AJ,IF($C$3=\"Taxa Média De Aluguel\",'Guia de BTC'!AN:AN,\"\"))))))))),MATCH(C232,'Guia de BTC'!C:C,0)),\"\"))","v":6.3E-2},5.0000000000000001E-4,"B3SA3"]
[null,{"$f":"IFERROR(RANK(E233,$E$5:$E$400)+COUNTIF($E$5:E233,E233)-1,\"\")","v":201},{"$f":"IF('Guia de BTC'!C235=0,\"\",'Guia de BTC'!C235)","v":"BMGB4<XBSP>"},"BMGB4",{"$f":"IF(C233=\"\",\"\",IFERROR(INDEX(IF($C$3=\"% IBOV\",'Guia de BTC'!H:H,IF($C$3=\"% Float Alugado\",'Guia de BTC'!R:R,IF($C$3=\"Valor Alugado\",'Guia de BTC'!T:T,IF($C$3=\"Volume Médio\",'Guia de BTC'!Y:Y,IF($C$3=\"Dias de Giro\",'Guia de BTC'!Z:Z,IF($C$3=\"Aluguel vs Vista\",'Guia de BTC'!AF:AF,IF($C$3=\"Ações Alugadas\",'Guia de BTC'!AD:AD,IF($C$3=\"▲ de 1 dia\",'Guia de BTC'!AJ:AJ,IF($C$3=\"Taxa Média De Aluguel\",'Guia de BTC'!AN:AN,\"\"))))))))),MATCH(C233,'Guia de BTC'!C:C,0)),\"\"))","v":1.5E-3},5.0000000000000001E-4,"BPAC11"]
[null,{"$f":"IFERROR(RANK(E234,$E$5:$E$400)+COUNTIF($E$5:E234,E234)-1,\"\")","v":56},{"$f":"IF('Guia de BTC'!C236=0,\"\",'Guia de BTC'!C236)","v":"VITT3<XBSP>"},"VITT3",{"$f":"IF(C234=\"\",\"\",IFERROR(INDEX(IF($C$3=\"% IBOV\",'Guia de BTC'!H:H,IF($C$3=\"% Float Alugado\",'Guia de BTC'!R:R,IF($C$3=\"Valor Alugado\",'Guia de BTC'!T:T,IF($C$3=\"Volume Médio\",'Guia de BTC'!Y:Y,IF($C$3=\"Dias de Giro\",'Guia de BTC'!Z:Z,IF($C$3=\"Aluguel vs Vista\",'Guia de BTC'!AF:AF,IF($C$3=\"Ações Alugadas\",'Guia de BTC'!AD:AD,IF($C$3=\"▲ de 1 dia\",'Guia de BTC'!AJ:AJ,IF($C$3=\"Taxa Média De Aluguel\",'Guia de BTC'!AN:AN,\"\"))))))))),MATCH(C234,'Guia de BTC'!C:C,0)),\"\"))","v":0.05},5.0000000000000001E-4,"HAPV3"]
[null,{"$f":"IFERROR(RANK(E235,$E$5:$E$400)+COUNTIF($E$5:E235,E235)-1,\"\")","v":81},{"$f":"IF('Guia de BTC'!C237=0,\"\",'Guia de BTC'!C237)","v":"ESPA3<XBSP>"},"ESPA3",{"$f":"IF(C235=\"\",\"\",IFERROR(INDEX(IF($C$3=\"% IBOV\",'Guia de BTC'!H:H,IF($C$3=\"% Float Alugado\",'Guia de BTC'!R:R,IF($C$3=\"Valor Alugado\",'Guia de BTC'!T:T,IF($C$3=\"Volume Médio\",'Guia de BTC'!Y:Y,IF($C$3=\"Dias de Giro\",'Guia de BTC'!Z:Z,IF($C$3=\"Aluguel vs Vista\",'Guia de BTC'!AF:AF,IF($C$3=\"Ações Alugadas\",'Guia de BTC'!AD:AD,IF($C$3=\"▲ de 1 dia\",'Guia de BTC'!AJ:AJ,IF($C$3=\"Taxa Média De Aluguel\",'Guia de BTC'!AN:AN,\"\"))))))))),MATCH(C235,'Guia de BTC'!C:C,0)),\"\"))","v":2.8899999999999999E-2},5.0000000000000001E-4,"GMAT3"]
[null,{"$f":"IFERROR(RANK(E236,$E$5:$E$400)+COUNTIF($E$5:E236,E236)-1,\"\")","v":260},{"$f":"IF('Guia de BTC'!C238=0,\"\",'Guia de BTC'!C238)","v":"BBOV11<XBSP>"},"BBOV11",{"$f":"IF(C236=\"\",\"\",IFERROR(INDEX(IF($C$3=\"% IBOV\",'Guia de BTC'!H:H,IF($C$3=\"% Float Alugado\",'Guia de BTC'!R:R,IF($C$3=\"Valor Alugado\",'Guia de BTC'!T:T,IF($C$3=\"Volume Médio\",'Guia de BTC'!Y:Y,IF($C$3=\"Dias de Giro\",'Guia de BTC'!Z:Z,IF($C$3=\"Aluguel vs Vista\",'Guia de BTC'!AF:AF,IF($C$3=\"Ações Alugadas\",'Guia de BTC'!AD:AD,IF($C$3=\"▲ de 1 dia\",'Guia de BTC'!AJ:AJ,IF($C$3=\"Taxa Média De Aluguel\",'Guia de BTC'!AN:AN,\"\"))))))))),MATCH(C236,'Guia de BTC'!C:C,0)),\"\"))","v":0},5.0000000000000001E-4,"TEND3"]
[null,{"$f":"IFERROR(RANK(E237,$E$5:$E$400)+COUNTIF($E$5:E237,E237)-1,\"\")","v":99},{"$f":"IF('Guia de BTC'!C239=0,\"\",'Guia de BTC'!C239)","v":"QBTC11<XBSP>"},"QBTC11",{"$f":"IF(C237=\"\",\"\",IFERROR(INDEX(IF($C$3=\"% IBOV\",'Guia de BTC'!H:H,IF($C$3=\"% Float Alugado\",'Guia de BTC'!R:R,IF($C$3=\"Valor Alugado\",'Guia de BTC'!T:T,IF($C$3=\"Volume Médio\",'Guia de BTC'!Y:Y,IF($C$3=\"Dias de Giro\",'Guia de BTC'!Z:Z,IF($C$3=\"Aluguel vs Vista\",'Guia de BTC'!AF:AF,IF($C$3=\"Ações Alugadas\",'Guia de BTC'!AD:AD,IF($C$3=\"▲ de 1 dia\",'Guia de BTC'!AJ:AJ,IF($C$3=\"Taxa Média De Aluguel\",'Guia de BTC'!AN:AN,\"\"))))))))),MATCH(C237,'Guia de BTC'!C:C,0)),\"\"))","v":1.89E-2},4.0000000000000002E-4,"PRIO3"]
[null,{"$f":"IFERROR(RANK(E238,$E$5:$E$400)+COUNTIF($E$5:E238,E238)-1,\"\")","v":35},{"$f":"IF('Guia de BTC'!C240=0,\"\",'Guia de BTC'!C240)","v":"TECN3<XBSP>"},"TECN3",{"$f":"IF(C238=\"\",\"\",IFERROR(INDEX(IF($C$3=\"% IBOV\",'Guia de BTC'!H:H,IF($C$3=\"% Float Alugado\",'Guia de BTC'!R:R,IF($C$3=\"Valor Alugado\",'Guia de BTC'!T:T,IF($C$3=\"Volume Médio\",'Guia de BTC'!Y:Y,IF($C$3=\"Dias de Giro\",'Guia de BTC'!Z:Z,IF($C$3=\"Aluguel vs Vista\",'Guia de BTC'!AF:AF,IF($C$3=\"Ações Alugadas\",'Guia de BTC'!AD:AD,IF($C$3=\"▲ de 1 dia\",'Guia de BTC'!AJ:AJ,IF($C$3=\"Taxa Média De Aluguel\",'Guia de BTC'!AN:AN,\"\"))))))))),MATCH(C238,'Guia de BTC'!C:C,0)),\"\"))","v":7.4899999999999994E-2},4.0000000000000002E-4,"UGPA3"]
[null,{"$f":"IFERROR(RANK(E239,$E$5:$E$400)+COUNTIF($E$5:E239,E239)-1,\"\")","v":80},{"$f":"IF('Guia de BTC'!C241=0,\"\",'Guia de BTC'!C241)","v":"MEAL3<XBSP>"},"MEAL3",{"$f":"IF(C239=\"\",\"\",IFERROR(INDEX(IF($C$3=\"% IBOV\",'Guia de BTC'!H:H,IF($C$3=\"% Float Alugado\",'Guia de BTC'!R:R,IF($C$3=\"Valor Alugado\",'Guia de BTC'!T:T,IF($C$3=\"Volume Médio\",'Guia de BTC'!Y:Y,IF($C$3=\"Dias de Giro\",'Guia de BTC'!Z:Z,IF($C$3=\"Aluguel vs Vista\",'Guia de BTC'!AF:AF,IF($C$3=\"Ações Alugadas\",'Guia de BTC'!AD:AD,IF($C$3=\"▲ de 1 dia\",'Guia de BTC'!AJ:AJ,IF($C$3=\"Taxa Média De Aluguel\",'Guia de BTC'!AN:AN,\"\"))))))))),MATCH(C239,'Guia de BTC'!C:C,0)),\"\"))","v":2.9399999999999999E-2},4.0000000000000002E-4,"LJQQ3"]
[null,{"$f":"IFERROR(RANK(E240,$E$5:$E$400)+COUNTIF($E$5:E240,E240)-1,\"\")","v":105},{"$f":"IF('Guia de BTC'!C242=0,\"\",'Guia de BTC'!C242)","v":"WIZC3<XBSP>"},"WIZC3",{"$f":"IF(C240=\"\",\"\",IFERROR(INDEX(IF($C$3=\"% IBOV\",'Guia de BTC'!H:H,IF($C$3=\"% Float Alugado\",'Guia de BTC'!R:R,IF($C$3=\"Valor Alugado\",'Guia de BTC'!T:T,IF($C$3=\"Volume Médio\",'Guia de BTC'!Y:Y,IF($C$3=\"Dias de Giro\",'Guia de BTC'!Z:Z,IF($C$3=\"Aluguel vs Vista\",'Guia de BTC'!AF:AF,IF($C$3=\"Ações Alugadas\",'Guia de BTC'!AD:AD,IF($C$3=\"▲ de 1 dia\",'Guia de BTC'!AJ:AJ,IF($C$3=\"Taxa Média De Aluguel\",'Guia de BTC'!AN:AN,\"\"))))))))),MATCH(C240,'Guia de BTC'!C:C,0)),\"\"))","v":1.4999999999999999E-2},2.9999999999999997E-4,"VALE3"]
[null,{"$f":"IFERROR(RANK(E241,$E$5:$E$400)+COUNTIF($E$5:E241,E241)-1,\"\")","v":44},{"$f":"IF('Guia de BTC'!C243=0,\"\",'Guia de BTC'!C243)","v":"ALPK3<XBSP>"},"ALPK3",{"$f":"IF(C241=\"\",\"\",IFERROR(INDEX(IF($C$3=\"% IBOV\",'Guia de BTC'!H:H,IF($C$3=\"% Float Alugado\",'Guia de BTC'!R:R,IF($C$3=\"Valor Alugado\",'Guia de BTC'!T:T,IF($C$3=\"Volume Médio\",'Guia de BTC'!Y:Y,IF($C$3=\"Dias de Giro\",'Guia de BTC'!Z:Z,IF($C$3=\"Aluguel vs Vista\",'Guia de BTC'!AF:AF,IF($C$3=\"Ações Alugadas\",'Guia de BTC'!AD:AD,IF($C$3=\"▲ de 1 dia\",'Guia de BTC'!AJ:AJ,IF($C$3=\"Taxa Média De Aluguel\",'Guia de BTC'!AN:AN,\"\"))))))))),MATCH(C241,'Guia de BTC'!C:C,0)),\"\"))","v":6.7100000000000007E-2},2.9999999999999997E-4,"BBDC4"]
[null,{"$f":"IFERROR(RANK(E242,$E$5:$E$400)+COUNTIF($E$5:E242,E242)-1,\"\")","v":88},{"$f":"IF('Guia de BTC'!C244=0,\"\",'Guia de BTC'!C244)","v":"WRLD11<XBSP>"},"WRLD11",{"$f":"IF(C242=\"\",\"\",IFERROR(INDEX(IF($C$3=\"% IBOV\",'Guia de BTC'!H:H,IF($C$3=\"% Float Alugado\",'Guia de BTC'!R:R,IF($C$3=\"Valor Alugado\",'Guia de BTC'!T:T,IF($C$3=\"Volume Médio\",'Guia de BTC'!Y:Y,IF($C$3=\"Dias de Giro\",'Guia de BTC'!Z:Z,IF($C$3=\"Aluguel vs Vista\",'Guia de BTC'!AF:AF,IF($C$3=\"Ações Alugadas\",'Guia de BTC'!AD:AD,IF($C$3=\"▲ de 1 dia\",'Guia de BTC'!AJ:AJ,IF($C$3=\"Taxa Média De Aluguel\",'Guia de BTC'!AN:AN,\"\"))))))))),MATCH(C242,'Guia de BTC'!C:C,0)),\"\"))","v":2.5499999999999998E-2},2.9999999999999997E-4,"GGBR4"]
[null,{"$f":"IFERROR(RANK(E243,$E$5:$E$400)+COUNTIF($E$5:E243,E243)-1,\"\")","v":43},{"$f":"IF('Guia de BTC'!C245=0,\"\",'Guia de BTC'!C245)","v":"PINE4<XBSP>"},"PINE4",{"$f":"IF(C243=\"\",\"\",IFERROR(INDEX(IF($C$3=\"% IBOV\",'Guia de BTC'!H:H,IF($C$3=\"% Float Alugado\",'Guia de BTC'!R:R,IF($C$3=\"Valor Alugado\",'Guia de BTC'!T:T,IF($C$3=\"Volume Médio\",'Guia de BTC'!Y:Y,IF($C$3=\"Dias de Giro\",'Guia de BTC'!Z:Z,IF($C$3=\"Aluguel vs Vista\",'Guia de BTC'!AF:AF,IF($C$3=\"Ações Alugadas\",'Guia de BTC'!AD:AD,IF($C$3=\"▲ de 1 dia\",'Guia de BTC'!AJ:AJ,IF($C$3=\"Taxa Média De Aluguel\",'Guia de BTC'!AN:AN,\"\"))))))))),MATCH(C243,'Guia de BTC'!C:C,0)),\"\"))","v":6.8500000000000005E-2},2.9999999999999997E-4,"RDOR3"]
[null,{"$f":"IFERROR(RANK(E244,$E$5:$E$400)+COUNTIF($E$5:E244,E244)-1,\"\")","v":137},{"$f":"IF('Guia de BTC'!C246=0,\"\",'Guia de BTC'!C246)","v":"BITH11<XBSP>"},"BITH11",{"$f":"IF(C244=\"\",\"\",IFERROR(INDEX(IF($C$3=\"% IBOV\",'Guia de BTC'!H:H,IF($C$3=\"% Float Alugado\",'Guia de BTC'!R:R,IF($C$3=\"Valor Alugado\",'Guia de BTC'!T:T,IF($C$3=\"Volume Médio\",'Guia de BTC'!Y:Y,IF($C$3=\"Dias de Giro\",'Guia de BTC'!Z:Z,IF($C$3=\"Aluguel vs Vista\",'Guia de BTC'!AF:AF,IF($C$3=\"Ações Alugadas\",'Guia de BTC'!AD:AD,IF($C$3=\"▲ de 1 dia\",'Guia de BTC'!AJ:AJ,IF($C$3=\"Taxa Média De Aluguel\",'Guia de BTC'!AN:AN,\"\"))))))))),MATCH(C244,'Guia de BTC'!C:C,0)),\"\"))","v":7.3000000000000001E-3},2.9999999999999997E-4,"JBSS3"]
[null,{"$f":"IFERROR(RANK(E245,$E$5:$E$400)+COUNTIF($E$5:E245,E245)-1,\"\")","v":64},{"$f":"IF('Guia de BTC'!C247=0,\"\",'Guia de BTC'!C247)","v":"GOAU3<XBSP>"},"GOAU3",{"$f":"IF(C245=\"\",\"\",IFERROR(INDEX(IF($C$3=\"% IBOV\",'Guia de BTC'!H:H,IF($C$3=\"% Float Alugado\",'Guia de BTC'!R:R,IF($C$3=\"Valor Alugado\",'Guia de BTC'!T:T,IF($C$3=\"Volume Médio\",'Guia de BTC'!Y:Y,IF($C$3=\"Dias de Giro\",'Guia de BTC'!Z:Z,IF($C$3=\"Aluguel vs Vista\",'Guia de BTC'!AF:AF,IF($C$3=\"Ações Alugadas\",'Guia de BTC'!AD:AD,IF($C$3=\"▲ de 1 dia\",'Guia de BTC'!AJ:AJ,IF($C$3=\"Taxa Média De Aluguel\",'Guia de BTC'!AN:AN,\"\"))))))))),MATCH(C245,'Guia de BTC'!C:C,0)),\"\"))","v":3.9600000000000003E-2},2.9999999999999997E-4,"CPLE6"]
[null,{"$f":"IFERROR(RANK(E246,$E$5:$E$400)+COUNTIF($E$5:E246,E246)-1,\"\")","v":27},{"$f":"IF('Guia de BTC'!C248=0,\"\",'Guia de BTC'!C248)","v":"MBLY3<XBSP>"},"MBLY3",{"$f":"IF(C246=\"\",\"\",IFERROR(INDEX(IF($C$3=\"% IBOV\",'Guia de BTC'!H:H,IF($C$3=\"% Float Alugado\",'Guia de BTC'!R:R,IF($C$3=\"Valor Alugado\",'Guia de BTC'!T:T,IF($C$3=\"Volume Médio\",'Guia de BTC'!Y:Y,IF($C$3=\"Dias de Giro\",'Guia de BTC'!Z:Z,IF($C$3=\"Aluguel vs Vista\",'Guia de BTC'!AF:AF,IF($C$3=\"Ações Alugadas\",'Guia de BTC'!AD:AD,IF($C$3=\"▲ de 1 dia\",'Guia de BTC'!AJ:AJ,IF($C$3=\"Taxa Média De Aluguel\",'Guia de BTC'!AN:AN,\"\"))))))))),MATCH(C246,'Guia de BTC'!C:C,0)),\"\"))","v":9.35E-2},2.9999999999999997E-4,"CYRE3"]
[null,{"$f":"IFERROR(RANK(E247,$E$5:$E$400)+COUNTIF($E$5:E247,E247)-1,\"\")","v":13},{"$f":"IF('Guia de BTC'!C249=0,\"\",'Guia de BTC'!C249)","v":"SYNE3<XBSP>"},"SYNE3",{"$f":"IF(C247=\"\",\"\",IFERROR(INDEX(IF($C$3=\"% IBOV\",'Guia de BTC'!H:H,IF($C$3=\"% Float Alugado\",'Guia de BTC'!R:R,IF($C$3=\"Valor Alugado\",'Guia de BTC'!T:T,IF($C$3=\"Volume Médio\",'Guia de BTC'!Y:Y,IF($C$3=\"Dias de Giro\",'Guia de BTC'!Z:Z,IF($C$3=\"Aluguel vs Vista\",'Guia de BTC'!AF:AF,IF($C$3=\"Ações Alugadas\",'Guia de BTC'!AD:AD,IF($C$3=\"▲ de 1 dia\",'Guia de BTC'!AJ:AJ,IF($C$3=\"Taxa Média De Aluguel\",'Guia de BTC'!AN:AN,\"\"))))))))),MATCH(C247,'Guia de BTC'!C:C,0)),\"\"))","v":0.2},2.9999999999999997E-4,"ENEV3"]
[null,{"$f":"IFERROR(RANK(E248,$E$5:$E$400)+COUNTIF($E$5:E248,E248)-1,\"\")","v":57},{"$f":"IF('Guia de BTC'!C250=0,\"\",'Guia de BTC'!C250)","v":"TFCO4<XBSP>"},"TFCO4",{"$f":"IF(C248=\"\",\"\",IFERROR(INDEX(IF($C$3=\"% IBOV\",'Guia de BTC'!H:H,IF($C$3=\"% Float Alugado\",'Guia de BTC'!R:R,IF($C$3=\"Valor Alugado\",'Guia de BTC'!T:T,IF($C$3=\"Volume Médio\",'Guia de BTC'!Y:Y,IF($C$3=\"Dias de Giro\",'Guia de BTC'!Z:Z,IF($C$3=\"Aluguel vs Vista\",'Guia de BTC'!AF:AF,IF($C$3=\"Ações Alugadas\",'Guia de BTC'!AD:AD,IF($C$3=\"▲ de 1 dia\",'Guia de BTC'!AJ:AJ,IF($C$3=\"Taxa Média De Aluguel\",'Guia de BTC'!AN:AN,\"\"))))))))),MATCH(C248,'Guia de BTC'!C:C,0)),\"\"))","v":0.05},2.9999999999999997E-4,"ENGI11"]
[null,{"$f":"IFERROR(RANK(E249,$E$5:$E$400)+COUNTIF($E$5:E249,E249)-1,\"\")","v":33},{"$f":"IF('Guia de BTC'!C251=0,\"\",'Guia de BTC'!C251)","v":"PIBB11<XBSP>"},"PIBB11",{"$f":"IF(C249=\"\",\"\",IFERROR(INDEX(IF($C$3=\"% IBOV\",'Guia de BTC'!H:H,IF($C$3=\"% Float Alugado\",'Guia de BTC'!R:R,IF($C$3=\"Valor Alugado\",'Guia de BTC'!T:T,IF($C$3=\"Volume Médio\",'Guia de BTC'!Y:Y,IF($C$3=\"Dias de Giro\",'Guia de BTC'!Z:Z,IF($C$3=\"Aluguel vs Vista\",'Guia de BTC'!AF:AF,IF($C$3=\"Ações Alugadas\",'Guia de BTC'!AD:AD,IF($C$3=\"▲ de 1 dia\",'Guia de BTC'!AJ:AJ,IF($C$3=\"Taxa Média De Aluguel\",'Guia de BTC'!AN:AN,\"\"))))))))),MATCH(C249,'Guia de BTC'!C:C,0)),\"\"))","v":0.08},2.9999999999999997E-4,"SAPR11"]
[null,{"$f":"IFERROR(RANK(E250,$E$5:$E$400)+COUNTIF($E$5:E250,E250)-1,\"\")","v":261},{"$f":"IF('Guia de BTC'!C252=0,\"\",'Guia de BTC'!C252)","v":"TECK11<XBSP>"},"TECK11",{"$f":"IF(C250=\"\",\"\",IFERROR(INDEX(IF($C$3=\"% IBOV\",'Guia de BTC'!H:H,IF($C$3=\"% Float Alugado\",'Guia de BTC'!R:R,IF($C$3=\"Valor Alugado\",'Guia de BTC'!T:T,IF($C$3=\"Volume Médio\",'Guia de BTC'!Y:Y,IF($C$3=\"Dias de Giro\",'Guia de BTC'!Z:Z,IF($C$3=\"Aluguel vs Vista\",'Guia de BTC'!AF:AF,IF($C$3=\"Ações Alugadas\",'Guia de BTC'!AD:AD,IF($C$3=\"▲ de 1 dia\",'Guia de BTC'!AJ:AJ,IF($C$3=\"Taxa Média De Aluguel\",'Guia de BTC'!AN:AN,\"\"))))))))),MATCH(C250,'Guia de BTC'!C:C,0)),\"\"))","v":0},2.0000000000000001E-4,"SUZB3"]
[null,{"$f":"IFERROR(RANK(E251,$E$5:$E$400)+COUNTIF($E$5:E251,E251)-1,\"\")","v":139},{"$f":"IF('Guia de BTC'!C253=0,\"\",'Guia de BTC'!C253)","v":"BIOM3<XBSP>"},"BIOM3",{"$f":"IF(C251=\"\",\"\",IFERROR(INDEX(IF($C$3=\"% IBOV\",'Guia de BTC'!H:H,IF($C$3=\"% Float Alugado\",'Guia de BTC'!R:R,IF($C$3=\"Valor Alugado\",'Guia de BTC'!T:T,IF($C$3=\"Volume Médio\",'Guia de BTC'!Y:Y,IF($C$3=\"Dias de Giro\",'Guia de BTC'!Z:Z,IF($C$3=\"Aluguel vs Vista\",'Guia de BTC'!AF:AF,IF($C$3=\"Ações Alugadas\",'Guia de BTC'!AD:AD,IF($C$3=\"▲ de 1 dia\",'Guia de BTC'!AJ:AJ,IF($C$3=\"Taxa Média De Aluguel\",'Guia de BTC'!AN:AN,\"\"))))))))),MATCH(C251,'Guia de BTC'!C:C,0)),\"\"))","v":7.0000000000000001E-3},2.0000000000000001E-4,"ELET6"]
[null,{"$f":"IFERROR(RANK(E252,$E$5:$E$400)+COUNTIF($E$5:E252,E252)-1,\"\")","v":6},{"$f":"IF('Guia de BTC'!C254=0,\"\",'Guia de BTC'!C254)","v":"CSED3<XBSP>"},"CSED3",{"$f":"IF(C252=\"\",\"\",IFERROR(INDEX(IF($C$3=\"% IBOV\",'Guia de BTC'!H:H,IF($C$3=\"% Float Alugado\",'Guia de BTC'!R:R,IF($C$3=\"Valor Alugado\",'Guia de BTC'!T:T,IF($C$3=\"Volume Médio\",'Guia de BTC'!Y:Y,IF($C$3=\"Dias de Giro\",'Guia de BTC'!Z:Z,IF($C$3=\"Aluguel vs Vista\",'Guia de BTC'!AF:AF,IF($C$3=\"Ações Alugadas\",'Guia de BTC'!AD:AD,IF($C$3=\"▲ de 1 dia\",'Guia de BTC'!AJ:AJ,IF($C$3=\"Taxa Média De Aluguel\",'Guia de BTC'!AN:AN,\"\"))))))))),MATCH(C252,'Guia de BTC'!C:C,0)),\"\"))","v":0.3982},2.0000000000000001E-4,"VBBR3"]
[null,{"$f":"IFERROR(RANK(E253,$E$5:$E$400)+COUNTIF($E$5:E253,E253)-1,\"\")","v":53},{"$f":"IF('Guia de BTC'!C255=0,\"\",'Guia de BTC'!C255)","v":"AALR3<XBSP>"},"AALR3",{"$f":"IF(C253=\"\",\"\",IFERROR(INDEX(IF($C$3=\"% IBOV\",'Guia de BTC'!H:H,IF($C$3=\"% Float Alugado\",'Guia de BTC'!R:R,IF($C$3=\"Valor Alugado\",'Guia de BTC'!T:T,IF($C$3=\"Volume Médio\",'Guia de BTC'!Y:Y,IF($C$3=\"Dias de Giro\",'Guia de BTC'!Z:Z,IF($C$3=\"Aluguel vs Vista\",'Guia de BTC'!AF:AF,IF($C$3=\"Ações Alugadas\",'Guia de BTC'!AD:AD,IF($C$3=\"▲ de 1 dia\",'Guia de BTC'!AJ:AJ,IF($C$3=\"Taxa Média De Aluguel\",'Guia de BTC'!AN:AN,\"\"))))))))),MATCH(C253,'Guia de BTC'!C:C,0)),\"\"))","v":5.0099999999999999E-2},2.0000000000000001E-4,"ABCB4"]
[null,{"$f":"IFERROR(RANK(E254,$E$5:$E$400)+COUNTIF($E$5:E254,E254)-1,\"\")","v":52},{"$f":"IF('Guia de BTC'!C256=0,\"\",'Guia de BTC'!C256)","v":"VIVR3<XBSP>"},"VIVR3",{"$f":"IF(C254=\"\",\"\",IFERROR(INDEX(IF($C$3=\"% IBOV\",'Guia de BTC'!H:H,IF($C$3=\"% Float Alugado\",'Guia de BTC'!R:R,IF($C$3=\"Valor Alugado\",'Guia de BTC'!T:T,IF($C$3=\"Volume Médio\",'Guia de BTC'!Y:Y,IF($C$3=\"Dias de Giro\",'Guia de BTC'!Z:Z,IF($C$3=\"Aluguel vs Vista\",'Guia de BTC'!AF:AF,IF($C$3=\"Ações Alugadas\",'Guia de BTC'!AD:AD,IF($C$3=\"▲ de 1 dia\",'Guia de BTC'!AJ:AJ,IF($C$3=\"Taxa Média De Aluguel\",'Guia de BTC'!AN:AN,\"\"))))))))),MATCH(C254,'Guia de BTC'!C:C,0)),\"\"))","v":5.0299999999999997E-2},2.0000000000000001E-4,"VLID3"]
[null,{"$f":"IFERROR(RANK(E255,$E$5:$E$400)+COUNTIF($E$5:E255,E255)-1,\"\")","v":15},{"$f":"IF('Guia de BTC'!C257=0,\"\",'Guia de BTC'!C257)","v":"PDGR3<XBSP>"},"PDGR3",{"$f":"IF(C255=\"\",\"\",IFERROR(INDEX(IF($C$3=\"% IBOV\",'Guia de BTC'!H:H,IF($C$3=\"% Float Alugado\",'Guia de BTC'!R:R,IF($C$3=\"Valor Alugado\",'Guia de BTC'!T:T,IF($C$3=\"Volume Médio\",'Guia de BTC'!Y:Y,IF($C$3=\"Dias de Giro\",'Guia de BTC'!Z:Z,IF($C$3=\"Aluguel vs Vista\",'Guia de BTC'!AF:AF,IF($C$3=\"Ações Alugadas\",'Guia de BTC'!AD:AD,IF($C$3=\"▲ de 1 dia\",'Guia de BTC'!AJ:AJ,IF($C$3=\"Taxa Média De Aluguel\",'Guia de BTC'!AN:AN,\"\"))))))))),MATCH(C255,'Guia de BTC'!C:C,0)),\"\"))","v":0.15609999999999999},1E-4,"PETR4"]
[null,{"$f":"IFERROR(RANK(E256,$E$5:$E$400)+COUNTIF($E$5:E256,E256)-1,\"\")","v":58},{"$f":"IF('Guia de BTC'!C258=0,\"\",'Guia de BTC'!C258)","v":"AGXY3<XBSP>"},"AGXY3",{"$f":"IF(C256=\"\",\"\",IFERROR(INDEX(IF($C$3=\"% IBOV\",'Guia de BTC'!H:H,IF($C$3=\"% Float Alugado\",'Guia de BTC'!R:R,IF($C$3=\"Valor Alugado\",'Guia de BTC'!T:T,IF($C$3=\"Volume Médio\",'Guia de BTC'!Y:Y,IF($C$3=\"Dias de Giro\",'Guia de BTC'!Z:Z,IF($C$3=\"Aluguel vs Vista\",'Guia de BTC'!AF:AF,IF($C$3=\"Ações Alugadas\",'Guia de BTC'!AD:AD,IF($C$3=\"▲ de 1 dia\",'Guia de BTC'!AJ:AJ,IF($C$3=\"Taxa Média De Aluguel\",'Guia de BTC'!AN:AN,\"\"))))))))),MATCH(C256,'Guia de BTC'!C:C,0)),\"\"))","v":4.9500000000000002E-2},1E-4,"BBDC3"]
[null,{"$f":"IFERROR(RANK(E257,$E$5:$E$400)+COUNTIF($E$5:E257,E257)-1,\"\")","v":42},{"$f":"IF('Guia de BTC'!C259=0,\"\",'Guia de BTC'!C259)","v":"LUPA3<XBSP>"},"LUPA3",{"$f":"IF(C257=\"\",\"\",IFERROR(INDEX(IF($C$3=\"% IBOV\",'Guia de BTC'!H:H,IF($C$3=\"% Float Alugado\",'Guia de BTC'!R:R,IF($C$3=\"Valor Alugado\",'Guia de BTC'!T:T,IF($C$3=\"Volume Médio\",'Guia de BTC'!Y:Y,IF($C$3=\"Dias de Giro\",'Guia de BTC'!Z:Z,IF($C$3=\"Aluguel vs Vista\",'Guia de BTC'!AF:AF,IF($C$3=\"Ações Alugadas\",'Guia de BTC'!AD:AD,IF($C$3=\"▲ de 1 dia\",'Guia de BTC'!AJ:AJ,IF($C$3=\"Taxa Média De Aluguel\",'Guia de BTC'!AN:AN,\"\"))))))))),MATCH(C257,'Guia de BTC'!C:C,0)),\"\"))","v":6.9099999999999995E-2},1E-4,"CPLE3"]
[null,{"$f":"IFERROR(RANK(E258,$E$5:$E$400)+COUNTIF($E$5:E258,E258)-1,\"\")","v":14},{"$f":"IF('Guia de BTC'!C260=0,\"\",'Guia de BTC'!C260)","v":"SAPR3<XBSP>"},"SAPR3",{"$f":"IF(C258=\"\",\"\",IFERROR(INDEX(IF($C$3=\"% IBOV\",'Guia de BTC'!H:H,IF($C$3=\"% Float Alugado\",'Guia de BTC'!R:R,IF($C$3=\"Valor Alugado\",'Guia de BTC'!T:T,IF($C$3=\"Volume Médio\",'Guia de BTC'!Y:Y,IF($C$3=\"Dias de Giro\",'Guia de BTC'!Z:Z,IF($C$3=\"Aluguel vs Vista\",'Guia de BTC'!AF:AF,IF($C$3=\"Ações Alugadas\",'Guia de BTC'!AD:AD,IF($C$3=\"▲ de 1 dia\",'Guia de BTC'!AJ:AJ,IF($C$3=\"Taxa Média De Aluguel\",'Guia de BTC'!AN:AN,\"\"))))))))),MATCH(C258,'Guia de BTC'!C:C,0)),\"\"))","v":0.17630000000000001},0,"AURA33"]
[null,{"$f":"IFERROR(RANK(E259,$E$5:$E$400)+COUNTIF($E$5:E259,E259)-1,\"\")","v":30},{"$f":"IF('Guia de BTC'!C261=0,\"\",'Guia de BTC'!C261)","v":"POMO3<XBSP>"},"POMO3",{"$f":"IF(C259=\"\",\"\",IFERROR(INDEX(IF($C$3=\"% IBOV\",'Guia de BTC'!H:H,IF($C$3=\"% Float Alugado\",'Guia de BTC'!R:R,IF($C$3=\"Valor Alugado\",'Guia de BTC'!T:T,IF($C$3=\"Volume Médio\",'Guia de BTC'!Y:Y,IF($C$3=\"Dias de Giro\",'Guia de BTC'!Z:Z,IF($C$3=\"Aluguel vs Vista\",'Guia de BTC'!AF:AF,IF($C$3=\"Ações Alugadas\",'Guia de BTC'!AD:AD,IF($C$3=\"▲ de 1 dia\",'Guia de BTC'!AJ:AJ,IF($C$3=\"Taxa Média De Aluguel\",'Guia de BTC'!AN:AN,\"\"))))))))),MATCH(C259,'Guia de BTC'!C:C,0)),\"\"))","v":8.4500000000000006E-2},0,"UTEC11"]
[null,{"$f":"IFERROR(RANK(E260,$E$5:$E$400)+COUNTIF($E$5:E260,E260)-1,\"\")","v":47},{"$f":"IF('Guia de BTC'!C262=0,\"\",'Guia de BTC'!C262)","v":"NGRD3<XBSP>"},"NGRD3",{"$f":"IF(C260=\"\",\"\",IFERROR(INDEX(IF($C$3=\"% IBOV\",'Guia de BTC'!H:H,IF($C$3=\"% Float Alugado\",'Guia de BTC'!R:R,IF($C$3=\"Valor Alugado\",'Guia de BTC'!T:T,IF($C$3=\"Volume Médio\",'Guia de BTC'!Y:Y,IF($C$3=\"Dias de Giro\",'Guia de BTC'!Z:Z,IF($C$3=\"Aluguel vs Vista\",'Guia de BTC'!AF:AF,IF($C$3=\"Ações Alugadas\",'Guia de BTC'!AD:AD,IF($C$3=\"▲ de 1 dia\",'Guia de BTC'!AJ:AJ,IF($C$3=\"Taxa Média De Aluguel\",'Guia de BTC'!AN:AN,\"\"))))))))),MATCH(C260,'Guia de BTC'!C:C,0)),\"\"))","v":6.1600000000000002E-2},0,"SPXI11"]
[null,{"$f":"IFERROR(RANK(E261,$E$5:$E$400)+COUNTIF($E$5:E261,E261)-1,\"\")","v":18},{"$f":"IF('Guia de BTC'!C263=0,\"\",'Guia de BTC'!C263)","v":"MELK3<XBSP>"},"MELK3",{"$f":"IF(C261=\"\",\"\",IFERROR(INDEX(IF($C$3=\"% IBOV\",'Guia de BTC'!H:H,IF($C$3=\"% Float Alugado\",'Guia de BTC'!R:R,IF($C$3=\"Valor Alugado\",'Guia de BTC'!T:T,IF($C$3=\"Volume Médio\",'Guia de BTC'!Y:Y,IF($C$3=\"Dias de Giro\",'Guia de BTC'!Z:Z,IF($C$3=\"Aluguel vs Vista\",'Guia de BTC'!AF:AF,IF($C$3=\"Ações Alugadas\",'Guia de BTC'!AD:AD,IF($C$3=\"▲ de 1 dia\",'Guia de BTC'!AJ:AJ,IF($C$3=\"Taxa Média De Aluguel\",'Guia de BTC'!AN:AN,\"\"))))))))),MATCH(C261,'Guia de BTC'!C:C,0)),\"\"))","v":0.1147},0,"ELMD3"]
[null,{"$f":"IFERROR(RANK(E262,$E$5:$E$400)+COUNTIF($E$5:E262,E262)-1,\"\")","v":50},{"$f":"IF('Guia de BTC'!C264=0,\"\",'Guia de BTC'!C264)","v":"PFRM3<XBSP>"},"PFRM3",{"$f":"IF(C262=\"\",\"\",IFERROR(INDEX(IF($C$3=\"% IBOV\",'Guia de BTC'!H:H,IF($C$3=\"% Float Alugado\",'Guia de BTC'!R:R,IF($C$3=\"Valor Alugado\",'Guia de BTC'!T:T,IF($C$3=\"Volume Médio\",'Guia de BTC'!Y:Y,IF($C$3=\"Dias de Giro\",'Guia de BTC'!Z:Z,IF($C$3=\"Aluguel vs Vista\",'Guia de BTC'!AF:AF,IF($C$3=\"Ações Alugadas\",'Guia de BTC'!AD:AD,IF($C$3=\"▲ de 1 dia\",'Guia de BTC'!AJ:AJ,IF($C$3=\"Taxa Média De Aluguel\",'Guia de BTC'!AN:AN,\"\"))))))))),MATCH(C262,'Guia de BTC'!C:C,0)),\"\"))","v":5.4800000000000001E-2},0,"ESGU11"]
[null,{"$f":"IFERROR(RANK(E263,$E$5:$E$400)+COUNTIF($E$5:E263,E263)-1,\"\")","v":45},{"$f":"IF('Guia de BTC'!C265=0,\"\",'Guia de BTC'!C265)","v":"KRSA3<XBSP>"},"KRSA3",{"$f":"IF(C263=\"\",\"\",IFERROR(INDEX(IF($C$3=\"% IBOV\",'Guia de BTC'!H:H,IF($C$3=\"% Float Alugado\",'Guia de BTC'!R:R,IF($C$3=\"Valor Alugado\",'Guia de BTC'!T:T,IF($C$3=\"Volume Médio\",'Guia de BTC'!Y:Y,IF($C$3=\"Dias de Giro\",'Guia de BTC'!Z:Z,IF($C$3=\"Aluguel vs Vista\",'Guia de BTC'!AF:AF,IF($C$3=\"Ações Alugadas\",'Guia de BTC'!AD:AD,IF($C$3=\"▲ de 1 dia\",'Guia de BTC'!AJ:AJ,IF($C$3=\"Taxa Média De Aluguel\",'Guia de BTC'!AN:AN,\"\"))))))))),MATCH(C263,'Guia de BTC'!C:C,0)),\"\"))","v":6.4399999999999999E-2},{"$f":"IF(C263=\"\",\"\",IFERROR(VLOOKUP(ROW()-4,$B$3:$E$600,4,FALSE),\"\"))","v":0},{"$f":"IF(C263=\"\",\"\",IFERROR(VLOOKUP(ROW()-4,$B$3:$E$600,3,FALSE),\"\"))","v":"BREW11"}]
[null,{"$f":"IFERROR(RANK(E264,$E$5:$E$400)+COUNTIF($E$5:E264,E264)-1,\"\")","v":51},{"$f":"IF('Guia de BTC'!C266=0,\"\",'Guia de BTC'!C266)","v":"IGTI3<XBSP>"},"IGTI3",{"$f":"IF(C264=\"\",\"\",IFERROR(INDEX(IF($C$3=\"% IBOV\",'Guia de BTC'!H:H,IF($C$3=\"% Float Alugado\",'Guia de BTC'!R:R,IF($C$3=\"Valor Alugado\",'Guia de BTC'!T:T,IF($C$3=\"Volume Médio\",'Guia de BTC'!Y:Y,IF($C$3=\"Dias de Giro\",'Guia de BTC'!Z:Z,IF($C$3=\"Aluguel vs Vista\",'Guia de BTC'!AF:AF,IF($C$3=\"Ações Alugadas\",'Guia de BTC'!AD:AD,IF($C$3=\"▲ de 1 dia\",'Guia de BTC'!AJ:AJ,IF($C$3=\"Taxa Média De Aluguel\",'Guia de BTC'!AN:AN,\"\"))))))))),MATCH(C264,'Guia de BTC'!C:C,0)),\"\"))","v":5.3400000000000003E-2},0,"BBOV11"]
[null,{"$f":"IFERROR(RANK(E265,$E$5:$E$400)+COUNTIF($E$5:E265,E265)-1,\"\")","v":7},{"$f":"IF('Guia de BTC'!C267=0,\"\",'Guia de BTC'!C267)","v":"KLBN3<XBSP>"},"KLBN3",{"$f":"IF(C265=\"\",\"\",IFERROR(INDEX(IF($C$3=\"% IBOV\",'Guia de BTC'!H:H,IF($C$3=\"% Float Alugado\",'Guia de BTC'!R:R,IF($C$3=\"Valor Alugado\",'Guia de BTC'!T:T,IF($C$3=\"Volume Médio\",'Guia de BTC'!Y:Y,IF($C$3=\"Dias de Giro\",'Guia de BTC'!Z:Z,IF($C$3=\"Aluguel vs Vista\",'Guia de BTC'!AF:AF,IF($C$3=\"Ações Alugadas\",'Guia de BTC'!AD:AD,IF($C$3=\"▲ de 1 dia\",'Guia de BTC'!AJ:AJ,IF($C$3=\"Taxa Média De Aluguel\",'Guia de BTC'!AN:AN,\"\"))))))))),MATCH(C265,'Guia de BTC'!C:C,0)),\"\"))","v":0.37509999999999999},0,"TECK11"]
[null,{"$f":"IFERROR(RANK(E266,$E$5:$E$400)+COUNTIF($E$5:E266,E266)-1,\"\")","v":""},{"$f":"IF('Guia de BTC'!C268=0,\"\",'Guia de BTC'!C268)","v":""},null,{"$f":"IF(C266=\"\",\"\",IFERROR(INDEX(IF($C$3=\"% IBOV\",'Guia de BTC'!H:H,IF($C$3=\"% Float Alugado\",'Guia de BTC'!R:R,IF($C$3=\"Valor Alugado\",'Guia de BTC'!T:T,IF($C$3=\"Volume Médio\",'Guia de BTC'!Y:Y,IF($C$3=\"Dias de Giro\",'Guia de BTC'!Z:Z,IF($C$3=\"Aluguel vs Vista\",'Guia de BTC'!AF:AF,IF($C$3=\"Ações Alugadas\",'Guia de BTC'!AD:AD,IF($C$3=\"▲ de 1 dia\",'Guia de BTC'!AJ:AJ,IF($C$3=\"Taxa Média De Aluguel\",'Guia de BTC'!AN:AN,\"\"))))))))),MATCH(C266,'Guia de BTC'!C:C,0)),\"\"))","v":""},"",""]
[null,{"$f":"IFERROR(RANK(E267,$E$5:$E$400)+COUNTIF($E$5:E267,E267)-1,\"\")","v":""},{"$f":"IF('Guia de BTC'!C269=0,\"\",'Guia de BTC'!C269)","v":""},null,{"$f":"IF(C267=\"\",\"\",IFERROR(INDEX(IF($C$3=\"% IBOV\",'Guia de BTC'!H:H,IF($C$3=\"% Float Alugado\",'Guia de BTC'!R:R,IF($C$3=\"Valor Alugado\",'Guia de BTC'!T:T,IF($C$3=\"Volume Médio\",'Guia de BTC'!Y:Y,IF($C$3=\"Dias de Giro\",'Guia de BTC'!Z:Z,IF($C$3=\"Aluguel vs Vista\",'Guia de BTC'!AF:AF,IF($C$3=\"Ações Alugadas\",'Guia de BTC'!AD:AD,IF($C$3=\"▲ de 1 dia\",'Guia de BTC'!AJ:AJ,IF($C$3=\"Taxa Média De Aluguel\",'Guia de BTC'!AN:AN,\"\"))))))))),MATCH(C267,'Guia de BTC'!C:C,0)),\"\"))","v":""},"",""]
[null,{"$f":"IFERROR(RANK(E268,$E$5:$E$400)+COUNTIF($E$5:E268,E268)-1,\"\")","v":""},{"$f":"IF('Guia de BTC'!C270=0,\"\",'Guia de BTC'!C270)","v":""},null,{"$f":"IF(C268=\"\",\"\",IFERROR(INDEX(IF($C$3=\"% IBOV\",'Guia de BTC'!H:H,IF($C$3=\"% Float Alugado\",'Guia de BTC'!R:R,IF($C$3=\"Valor Alugado\",'Guia de BTC'!T:T,IF($C$3=\"Volume Médio\",'Guia de BTC'!Y:Y,IF($C$3=\"Dias de Giro\",'Guia de BTC'!Z:Z,IF($C$3=\"Aluguel vs Vista\",'Guia de BTC'!AF:AF,IF($C$3=\"Ações Alugadas\",'Guia de BTC'!AD:AD,IF($C$3=\"▲ de 1 dia\",'Guia de BTC'!AJ:AJ,IF($C$3=\"Taxa Média De Aluguel\",'Guia de BTC'!AN:AN,\"\"))))))))),MATCH(C268,'Guia de BTC'!C:C,0)),\"\"))","v":""},"",""]
[null,{"$f":"IFERROR(RANK(E269,$E$5:$E$400)+COUNTIF($E$5:E269,E269)-1,\"\")","v":""},{"$f":"IF('Guia de BTC'!C271=0,\"\",'Guia de BTC'!C271)","v":""},null,{"$f":"IF(C269=\"\",\"\",IFERROR(INDEX(IF($C$3=\"% IBOV\",'Guia de BTC'!H:H,IF($C$3=\"% Float Alugado\",'Guia de BTC'!R:R,IF($C$3=\"Valor Alugado\",'Guia de BTC'!T:T,IF($C$3=\"Volume Médio\",'Guia de BTC'!Y:Y,IF($C$3=\"Dias de Giro\",'Guia de BTC'!Z:Z,IF($C$3=\"Aluguel vs Vista\",'Guia de BTC'!AF:AF,IF($C$3=\"Ações Alugadas\",'Guia de BTC'!AD:AD,IF($C$3=\"▲ de 1 dia\",'Guia de BTC'!AJ:AJ,IF($C$3=\"Taxa Média De Aluguel\",'Guia de BTC'!AN:AN,\"\"))))))))),MATCH(C269,'Guia de BTC'!C:C,0)),\"\"))","v":""},"",""]
[null,{"$f":"IFERROR(RANK(E270,$E$5:$E$400)+COUNTIF($E$5:E270,E270)-1,\"\")","v":""},{"$f":"IF('Guia de BTC'!C272=0,\"\",'Guia de BTC'!C272)","v":""},null,{"$f":"IF(C270=\"\",\"\",IFERROR(INDEX(IF($C$3=\"% IBOV\",'Guia de BTC'!H:H,IF($C$3=\"% Float Alugado\",'Guia de BTC'!R:R,IF($C$3=\"Valor Alugado\",'Guia de BTC'!T:T,IF($C$3=\"Volume Médio\",'Guia de BTC'!Y:Y,IF($C$3=\"Dias de Giro\",'Guia de BTC'!Z:Z,IF($C$3=\"Aluguel vs Vista\",'Guia de BTC'!AF:AF,IF($C$3=\"Ações Alugadas\",'Guia de BTC'!AD:AD,IF($C$3=\"▲ de 1 dia\",'Guia de BTC'!AJ:AJ,IF($C$3=\"Taxa Média De Aluguel\",'Guia de BTC'!AN:AN,\"\"))))))))),MATCH(C270,'Guia de BTC'!C:C,0)),\"\"))","v":""},"",""]
[null,{"$f":"IFERROR(RANK(E271,$E$5:$E$400)+COUNTIF($E$5:E271,E271)-1,\"\")","v":""},{"$f":"IF('Guia de BTC'!C273=0,\"\",'Guia de BTC'!C273)","v":""},null,{"$f":"IF(C271=\"\",\"\",IFERROR(INDEX(IF($C$3=\"% IBOV\",'Guia de BTC'!H:H,IF($C$3=\"% Float Alugado\",'Guia de BTC'!R:R,IF($C$3=\"Valor Alugado\",'Guia de BTC'!T:T,IF($C$3=\"Volume Médio\",'Guia de BTC'!Y:Y,IF($C$3=\"Dias de Giro\",'Guia de BTC'!Z:Z,IF($C$3=\"Aluguel vs Vista\",'Guia de BTC'!AF:AF,IF($C$3=\"Ações Alugadas\",'Guia de BTC'!AD:AD,IF($C$3=\"▲ de 1 dia\",'Guia de BTC'!AJ:AJ,IF($C$3=\"Taxa Média De Aluguel\",'Guia de BTC'!AN:AN,\"\"))))))))),MATCH(C271,'Guia de BTC'!C:C,0)),\"\"))","v":""},"",""]
[null,{"$f":"IFERROR(RANK(E272,$E$5:$E$400)+COUNTIF($E$5:E272,E272)-1,\"\")","v":""},{"$f":"IF('Guia de BTC'!C274=0,\"\",'Guia de BTC'!C274)","v":""},null,{"$f":"IF(C272=\"\",\"\",IFERROR(INDEX(IF($C$3=\"% IBOV\",'Guia de BTC'!H:H,IF($C$3=\"% Float Alugado\",'Guia de BTC'!R:R,IF($C$3=\"Valor Alugado\",'Guia de BTC'!T:T,IF($C$3=\"Volume Médio\",'Guia de BTC'!Y:Y,IF($C$3=\"Dias de Giro\",'Guia de BTC'!Z:Z,IF($C$3=\"Aluguel vs Vista\",'Guia de BTC'!AF:AF,IF($C$3=\"Ações Alugadas\",'Guia de BTC'!AD:AD,IF($C$3=\"▲ de 1 dia\",'Guia de BTC'!AJ:AJ,IF($C$3=\"Taxa Média De Aluguel\",'Guia de BTC'!AN:AN,\"\"))))))))),MATCH(C272,'Guia de BTC'!C:C,0)),\"\"))","v":""},"",""]
[null,{"$f":"IFERROR(RANK(E273,$E$5:$E$400)+COUNTIF($E$5:E273,E273)-1,\"\")","v":""},{"$f":"IF('Guia de BTC'!C275=0,\"\",'Guia de BTC'!C275)","v":""},null,{"$f":"IF(C273=\"\",\"\",IFERROR(INDEX(IF($C$3=\"% IBOV\",'Guia de BTC'!H:H,IF($C$3=\"% Float Alugado\",'Guia de BTC'!R:R,IF($C$3=\"Valor Alugado\",'Guia de BTC'!T:T,IF($C$3=\"Volume Médio\",'Guia de BTC'!Y:Y,IF($C$3=\"Dias de Giro\",'Guia de BTC'!Z:Z,IF($C$3=\"Aluguel vs Vista\",'Guia de BTC'!AF:AF,IF($C$3=\"Ações Alugadas\",'Guia de BTC'!AD:AD,IF($C$3=\"▲ de 1 dia\",'Guia de BTC'!AJ:AJ,IF($C$3=\"Taxa Média De Aluguel\",'Guia de BTC'!AN:AN,\"\"))))))))),MATCH(C273,'Guia de BTC'!C:C,0)),\"\"))","v":""},"",""]
[null,{"$f":"IFERROR(RANK(E274,$E$5:$E$400)+COUNTIF($E$5:E274,E274)-1,\"\")","v":""},{"$f":"IF('Guia de BTC'!C276=0,\"\",'Guia de BTC'!C276)","v":""},null,{"$f":"IF(C274=\"\",\"\",IFERROR(INDEX(IF($C$3=\"% IBOV\",'Guia de BTC'!H:H,IF($C$3=\"% Float Alugado\",'Guia de BTC'!R:R,IF($C$3=\"Valor Alugado\",'Guia de BTC'!T:T,IF($C$3=\"Volume Médio\",'Guia de BTC'!Y:Y,IF($C$3=\"Dias de Giro\",'Guia de BTC'!Z:Z,IF($C$3=\"Aluguel vs Vista\",'Guia de BTC'!AF:AF,IF($C$3=\"Ações Alugadas\",'Guia de BTC'!AD:AD,IF($C$3=\"▲ de 1 dia\",'Guia de BTC'!AJ:AJ,IF($C$3=\"Taxa Média De Aluguel\",'Guia de BTC'!AN:AN,\"\"))))))))),MATCH(C274,'Guia de BTC'!C:C,0)),\"\"))","v":""},"",""]
[null,{"$f":"IFERROR(RANK(E275,$E$5:$E$400)+COUNTIF($E$5:E275,E275)-1,\"\")","v":""},{"$f":"IF('Guia de BTC'!C277=0,\"\",'Guia de BTC'!C277)","v":""},null,{"$f":"IF(C275=\"\",\"\",IFERROR(INDEX(IF($C$3=\"% IBOV\",'Guia de BTC'!H:H,IF($C$3=\"% Float Alugado\",'Guia de BTC'!R:R,IF($C$3=\"Valor Alugado\",'Guia de BTC'!T:T,IF($C$3=\"Volume Médio\",'Guia de BTC'!Y:Y,IF($C$3=\"Dias de Giro\",'Guia de BTC'!Z:Z,IF($C$3=\"Aluguel vs Vista\",'Guia de BTC'!AF:AF,IF($C$3=\"Ações Alugadas\",'Guia de BTC'!AD:AD,IF($C$3=\"▲ de 1 dia\",'Guia de BTC'!AJ:AJ,IF($C$3=\"Taxa Média De Aluguel\",'Guia de BTC'!AN:AN,\"\"))))))))),MATCH(C275,'Guia de BTC'!C:C,0)),\"\"))","v":""},"",""]
[null,{"$f":"IFERROR(RANK(E276,$E$5:$E$400)+COUNTIF($E$5:E276,E276)-1,\"\")","v":""},{"$f":"IF('Guia de BTC'!C278=0,\"\",'Guia de BTC'!C278)","v":""},null,{"$f":"IF(C276=\"\",\"\",IFERROR(INDEX(IF($C$3=\"% IBOV\",'Guia de BTC'!H:H,IF($C$3=\"% Float Alugado\",'Guia de BTC'!R:R,IF($C$3=\"Valor Alugado\",'Guia de BTC'!T:T,IF($C$3=\"Volume Médio\",'Guia de BTC'!Y:Y,IF($C$3=\"Dias de Giro\",'Guia de BTC'!Z:Z,IF($C$3=\"Aluguel vs Vista\",'Guia de BTC'!AF:AF,IF($C$3=\"Ações Alugadas\",'Guia de BTC'!AD:AD,IF($C$3=\"▲ de 1 dia\",'Guia de BTC'!AJ:AJ,IF($C$3=\"Taxa Média De Aluguel\",'Guia de BTC'!AN:AN,\"\"))))))))),MATCH(C276,'Guia de BTC'!C:C,0)),\"\"))","v":""},"",""]
[null,{"$f":"IFERROR(RANK(E277,$E$5:$E$400)+COUNTIF($E$5:E277,E277)-1,\"\")","v":""},{"$f":"IF('Guia de BTC'!C279=0,\"\",'Guia de BTC'!C279)","v":""},null,{"$f":"IF(C277=\"\",\"\",IFERROR(INDEX(IF($C$3=\"% IBOV\",'Guia de BTC'!H:H,IF($C$3=\"% Float Alugado\",'Guia de BTC'!R:R,IF($C$3=\"Valor Alugado\",'Guia de BTC'!T:T,IF($C$3=\"Volume Médio\",'Guia de BTC'!Y:Y,IF($C$3=\"Dias de Giro\",'Guia de BTC'!Z:Z,IF($C$3=\"Aluguel vs Vista\",'Guia de BTC'!AF:AF,IF($C$3=\"Ações Alugadas\",'Guia de BTC'!AD:AD,IF($C$3=\"▲ de 1 dia\",'Guia de BTC'!AJ:AJ,IF($C$3=\"Taxa Média De Aluguel\",'Guia de BTC'!AN:AN,\"\"))))))))),MATCH(C277,'Guia de BTC'!C:C,0)),\"\"))","v":""},"",""]
[null,{"$f":"IFERROR(RANK(E278,$E$5:$E$400)+COUNTIF($E$5:E278,E278)-1,\"\")","v":""},{"$f":"IF('Guia de BTC'!C280=0,\"\",'Guia de BTC'!C280)","v":""},null,{"$f":"IF(C278=\"\",\"\",IFERROR(INDEX(IF($C$3=\"% IBOV\",'Guia de BTC'!H:H,IF($C$3=\"% Float Alugado\",'Guia de BTC'!R:R,IF($C$3=\"Valor Alugado\",'Guia de BTC'!T:T,IF($C$3=\"Volume Médio\",'Guia de BTC'!Y:Y,IF($C$3=\"Dias de Giro\",'Guia de BTC'!Z:Z,IF($C$3=\"Aluguel vs Vista\",'Guia de BTC'!AF:AF,IF($C$3=\"Ações Alugadas\",'Guia de BTC'!AD:AD,IF($C$3=\"▲ de 1 dia\",'Guia de BTC'!AJ:AJ,IF($C$3=\"Taxa Média De Aluguel\",'Guia de BTC'!AN:AN,\"\"))))))))),MATCH(C278,'Guia de BTC'!C:C,0)),\"\"))","v":""},"",""]
[null,{"$f":"IFERROR(RANK(E279,$E$5:$E$400)+COUNTIF($E$5:E279,E279)-1,\"\")","v":""},{"$f":"IF('Guia de BTC'!C281=0,\"\",'Guia de BTC'!C281)","v":""},null,{"$f":"IF(C279=\"\",\"\",IFERROR(INDEX(IF($C$3=\"% IBOV\",'Guia de BTC'!H:H,IF($C$3=\"% Float Alugado\",'Guia de BTC'!R:R,IF($C$3=\"Valor Alugado\",'Guia de BTC'!T:T,IF($C$3=\"Volume Médio\",'Guia de BTC'!Y:Y,IF($C$3=\"Dias de Giro\",'Guia de BTC'!Z:Z,IF($C$3=\"Aluguel vs Vista\",'Guia de BTC'!AF:AF,IF($C$3=\"Ações Alugadas\",'Guia de BTC'!AD:AD,IF($C$3=\"▲ de 1 dia\",'Guia de BTC'!AJ:AJ,IF($C$3=\"Taxa Média De Aluguel\",'Guia de BTC'!AN:AN,\"\"))))))))),MATCH(C279,'Guia de BTC'!C:C,0)),\"\"))","v":""},"",""]
[null,{"$f":"IFERROR(RANK(E280,$E$5:$E$400)+COUNTIF($E$5:E280,E280)-1,\"\")","v":""},{"$f":"IF('Guia de BTC'!C282=0,\"\",'Guia de BTC'!C282)","v":""},null,{"$f":"IF(C280=\"\",\"\",IFERROR(INDEX(IF($C$3=\"% IBOV\",'Guia de BTC'!H:H,IF($C$3=\"% Float Alugado\",'Guia de BTC'!R:R,IF($C$3=\"Valor Alugado\",'Guia de BTC'!T:T,IF($C$3=\"Volume Médio\",'Guia de BTC'!Y:Y,IF($C$3=\"Dias de Giro\",'Guia de BTC'!Z:Z,IF($C$3=\"Aluguel vs Vista\",'Guia de BTC'!AF:AF,IF($C$3=\"Ações Alugadas\",'Guia de BTC'!AD:AD,IF($C$3=\"▲ de 1 dia\",'Guia de BTC'!AJ:AJ,IF($C$3=\"Taxa Média De Aluguel\",'Guia de BTC'!AN:AN,\"\"))))))))),MATCH(C280,'Guia de BTC'!C:C,0)),\"\"))","v":""},"",""]
[null,{"$f":"IFERROR(RANK(E281,$E$5:$E$400)+COUNTIF($E$5:E281,E281)-1,\"\")","v":""},{"$f":"IF('Guia de BTC'!C283=0,\"\",'Guia de BTC'!C283)","v":""},null,{"$f":"IF(C281=\"\",\"\",IFERROR(INDEX(IF($C$3=\"% IBOV\",'Guia de BTC'!H:H,IF($C$3=\"% Float Alugado\",'Guia de BTC'!R:R,IF($C$3=\"Valor Alugado\",'Guia de BTC'!T:T,IF($C$3=\"Volume Médio\",'Guia de BTC'!Y:Y,IF($C$3=\"Dias de Giro\",'Guia de BTC'!Z:Z,IF($C$3=\"Aluguel vs Vista\",'Guia de BTC'!AF:AF,IF($C$3=\"Ações Alugadas\",'Guia de BTC'!AD:AD,IF($C$3=\"▲ de 1 dia\",'Guia de BTC'!AJ:AJ,IF($C$3=\"Taxa Média De Aluguel\",'Guia de BTC'!AN:AN,\"\"))))))))),MATCH(C281,'Guia de BTC'!C:C,0)),\"\"))","v":""},"",""]
[null,{"$f":"IFERROR(RANK(E282,$E$5:$E$400)+COUNTIF($E$5:E282,E282)-1,\"\")","v":""},{"$f":"IF('Guia de BTC'!C284=0,\"\",'Guia de BTC'!C284)","v":""},null,{"$f":"IF(C282=\"\",\"\",IFERROR(INDEX(IF($C$3=\"% IBOV\",'Guia de BTC'!H:H,IF($C$3=\"% Float Alugado\",'Guia de BTC'!R:R,IF($C$3=\"Valor Alugado\",'Guia de BTC'!T:T,IF($C$3=\"Volume Médio\",'Guia de BTC'!Y:Y,IF($C$3=\"Dias de Giro\",'Guia de BTC'!Z:Z,IF($C$3=\"Aluguel vs Vista\",'Guia de BTC'!AF:AF,IF($C$3=\"Ações Alugadas\",'Guia de BTC'!AD:AD,IF($C$3=\"▲ de 1 dia\",'Guia de BTC'!AJ:AJ,IF($C$3=\"Taxa Média De Aluguel\",'Guia de BTC'!AN:AN,\"\"))))))))),MATCH(C282,'Guia de BTC'!C:C,0)),\"\"))","v":""},"",""]
[null,{"$f":"IFERROR(RANK(E283,$E$5:$E$400)+COUNTIF($E$5:E283,E283)-1,\"\")","v":""},{"$f":"IF('Guia de BTC'!C285=0,\"\",'Guia de BTC'!C285)","v":""},null,{"$f":"IF(C283=\"\",\"\",IFERROR(INDEX(IF($C$3=\"% IBOV\",'Guia de BTC'!H:H,IF($C$3=\"% Float Alugado\",'Guia de BTC'!R:R,IF($C$3=\"Valor Alugado\",'Guia de BTC'!T:T,IF($C$3=\"Volume Médio\",'Guia de BTC'!Y:Y,IF($C$3=\"Dias de Giro\",'Guia de BTC'!Z:Z,IF($C$3=\"Aluguel vs Vista\",'Guia de BTC'!AF:AF,IF($C$3=\"Ações Alugadas\",'Guia de BTC'!AD:AD,IF($C$3=\"▲ de 1 dia\",'Guia de BTC'!AJ:AJ,IF($C$3=\"Taxa Média De Aluguel\",'Guia de BTC'!AN:AN,\"\"))))))))),MATCH(C283,'Guia de BTC'!C:C,0)),\"\"))","v":""},"",""]
[null,{"$f":"IFERROR(RANK(E284,$E$5:$E$400)+COUNTIF($E$5:E284,E284)-1,\"\")","v":""},{"$f":"IF('Guia de BTC'!C286=0,\"\",'Guia de BTC'!C286)","v":""},null,{"$f":"IF(C284=\"\",\"\",IFERROR(INDEX(IF($C$3=\"% IBOV\",'Guia de BTC'!H:H,IF($C$3=\"% Float Alugado\",'Guia de BTC'!R:R,IF($C$3=\"Valor Alugado\",'Guia de BTC'!T:T,IF($C$3=\"Volume Médio\",'Guia de BTC'!Y:Y,IF($C$3=\"Dias de Giro\",'Guia de BTC'!Z:Z,IF($C$3=\"Aluguel vs Vista\",'Guia de BTC'!AF:AF,IF($C$3=\"Ações Alugadas\",'Guia de BTC'!AD:AD,IF($C$3=\"▲ de 1 dia\",'Guia de BTC'!AJ:AJ,IF($C$3=\"Taxa Média De Aluguel\",'Guia de BTC'!AN:AN,\"\"))))))))),MATCH(C284,'Guia de BTC'!C:C,0)),\"\"))","v":""},"",""]
[null,{"$f":"IFERROR(RANK(E285,$E$5:$E$400)+COUNTIF($E$5:E285,E285)-1,\"\")","v":""},{"$f":"IF('Guia de BTC'!C287=0,\"\",'Guia de BTC'!C287)","v":""},null,{"$f":"IF(C285=\"\",\"\",IFERROR(INDEX(IF($C$3=\"% IBOV\",'Guia de BTC'!H:H,IF($C$3=\"% Float Alugado\",'Guia de BTC'!R:R,IF($C$3=\"Valor Alugado\",'Guia de BTC'!T:T,IF($C$3=\"Volume Médio\",'Guia de BTC'!Y:Y,IF($C$3=\"Dias de Giro\",'Guia de BTC'!Z:Z,IF($C$3=\"Aluguel vs Vista\",'Guia de BTC'!AF:AF,IF($C$3=\"Ações Alugadas\",'Guia de BTC'!AD:AD,IF($C$3=\"▲ de 1 dia\",'Guia de BTC'!AJ:AJ,IF($C$3=\"Taxa Média De Aluguel\",'Guia de BTC'!AN:AN,\"\"))))))))),MATCH(C285,'Guia de BTC'!C:C,0)),\"\"))","v":""},"",""]
[null,{"$f":"IFERROR(RANK(E286,$E$5:$E$400)+COUNTIF($E$5:E286,E286)-1,\"\")","v":""},{"$f":"IF('Guia de BTC'!C288=0,\"\",'Guia de BTC'!C288)","v":""},null,{"$f":"IF(C286=\"\",\"\",IFERROR(INDEX(IF($C$3=\"% IBOV\",'Guia de BTC'!H:H,IF($C$3=\"% Float Alugado\",'Guia de BTC'!R:R,IF($C$3=\"Valor Alugado\",'Guia de BTC'!T:T,IF($C$3=\"Volume Médio\",'Guia de BTC'!Y:Y,IF($C$3=\"Dias de Giro\",'Guia de BTC'!Z:Z,IF($C$3=\"Aluguel vs Vista\",'Guia de BTC'!AF:AF,IF($C$3=\"Ações Alugadas\",'Guia de BTC'!AD:AD,IF($C$3=\"▲ de 1 dia\",'Guia de BTC'!AJ:AJ,IF($C$3=\"Taxa Média De Aluguel\",'Guia de BTC'!AN:AN,\"\"))))))))),MATCH(C286,'Guia de BTC'!C:C,0)),\"\"))","v":""},"",""]
[null,{"$f":"IFERROR(RANK(E287,$E$5:$E$400)+COUNTIF($E$5:E287,E287)-1,\"\")","v":""},{"$f":"IF('Guia de BTC'!C289=0,\"\",'Guia de BTC'!C289)","v":""},null,{"$f":"IF(C287=\"\",\"\",IFERROR(INDEX(IF($C$3=\"% IBOV\",'Guia de BTC'!H:H,IF($C$3=\"% Float Alugado\",'Guia de BTC'!R:R,IF($C$3=\"Valor Alugado\",'Guia de BTC'!T:T,IF($C$3=\"Volume Médio\",'Guia de BTC'!Y:Y,IF($C$3=\"Dias de Giro\",'Guia de BTC'!Z:Z,IF($C$3=\"Aluguel vs Vista\",'Guia de BTC'!AF:AF,IF($C$3=\"Ações Alugadas\",'Guia de BTC'!AD:AD,IF($C$3=\"▲ de 1 dia\",'Guia de BTC'!AJ:AJ,IF($C$3=\"Taxa Média De Aluguel\",'Guia de BTC'!AN:AN,\"\"))))))))),MATCH(C287,'Guia de BTC'!C:C,0)),\"\"))","v":""},"",""]
[null,{"$f":"IFERROR(RANK(E288,$E$5:$E$400)+COUNTIF($E$5:E288,E288)-1,\"\")","v":""},{"$f":"IF('Guia de BTC'!C290=0,\"\",'Guia de BTC'!C290)","v":""},null,{"$f":"IF(C288=\"\",\"\",IFERROR(INDEX(IF($C$3=\"% IBOV\",'Guia de BTC'!H:H,IF($C$3=\"% Float Alugado\",'Guia de BTC'!R:R,IF($C$3=\"Valor Alugado\",'Guia de BTC'!T:T,IF($C$3=\"Volume Médio\",'Guia de BTC'!Y:Y,IF($C$3=\"Dias de Giro\",'Guia de BTC'!Z:Z,IF($C$3=\"Aluguel vs Vista\",'Guia de BTC'!AF:AF,IF($C$3=\"Ações Alugadas\",'Guia de BTC'!AD:AD,IF($C$3=\"▲ de 1 dia\",'Guia de BTC'!AJ:AJ,IF($C$3=\"Taxa Média De Aluguel\",'Guia de BTC'!AN:AN,\"\"))))))))),MATCH(C288,'Guia de BTC'!C:C,0)),\"\"))","v":""},"",""]
[null,{"$f":"IFERROR(RANK(E289,$E$5:$E$400)+COUNTIF($E$5:E289,E289)-1,\"\")","v":""},{"$f":"IF('Guia de BTC'!C291=0,\"\",'Guia de BTC'!C291)","v":""},null,{"$f":"IF(C289=\"\",\"\",IFERROR(INDEX(IF($C$3=\"% IBOV\",'Guia de BTC'!H:H,IF($C$3=\"% Float Alugado\",'Guia de BTC'!R:R,IF($C$3=\"Valor Alugado\",'Guia de BTC'!T:T,IF($C$3=\"Volume Médio\",'Guia de BTC'!Y:Y,IF($C$3=\"Dias de Giro\",'Guia de BTC'!Z:Z,IF($C$3=\"Aluguel vs Vista\",'Guia de BTC'!AF:AF,IF($C$3=\"Ações Alugadas\",'Guia de BTC'!AD:AD,IF($C$3=\"▲ de 1 dia\",'Guia de BTC'!AJ:AJ,IF($C$3=\"Taxa Média De Aluguel\",'Guia de BTC'!AN:AN,\"\"))))))))),MATCH(C289,'Guia de BTC'!C:C,0)),\"\"))","v":""},"",""]
[null,{"$f":"IFERROR(RANK(E290,$E$5:$E$400)+COUNTIF($E$5:E290,E290)-1,\"\")","v":""},{"$f":"IF('Guia de BTC'!C292=0,\"\",'Guia de BTC'!C292)","v":""},null,{"$f":"IF(C290=\"\",\"\",IFERROR(INDEX(IF($C$3=\"% IBOV\",'Guia de BTC'!H:H,IF($C$3=\"% Float Alugado\",'Guia de BTC'!R:R,IF($C$3=\"Valor Alugado\",'Guia de BTC'!T:T,IF($C$3=\"Volume Médio\",'Guia de BTC'!Y:Y,IF($C$3=\"Dias de Giro\",'Guia de BTC'!Z:Z,IF($C$3=\"Aluguel vs Vista\",'Guia de BTC'!AF:AF,IF($C$3=\"Ações Alugadas\",'Guia de BTC'!AD:AD,IF($C$3=\"▲ de 1 dia\",'Guia de BTC'!AJ:AJ,IF($C$3=\"Taxa Média De Aluguel\",'Guia de BTC'!AN:AN,\"\"))))))))),MATCH(C290,'Guia de BTC'!C:C,0)),\"\"))","v":""},"",""]
[null,{"$f":"IFERROR(RANK(E291,$E$5:$E$400)+COUNTIF($E$5:E291,E291)-1,\"\")","v":""},{"$f":"IF('Guia de BTC'!C293=0,\"\",'Guia de BTC'!C293)","v":""},null,{"$f":"IF(C291=\"\",\"\",IFERROR(INDEX(IF($C$3=\"% IBOV\",'Guia de BTC'!H:H,IF($C$3=\"% Float Alugado\",'Guia de BTC'!R:R,IF($C$3=\"Valor Alugado\",'Guia de BTC'!T:T,IF($C$3=\"Volume Médio\",'Guia de BTC'!Y:Y,IF($C$3=\"Dias de Giro\",'Guia de BTC'!Z:Z,IF($C$3=\"Aluguel vs Vista\",'Guia de BTC'!AF:AF,IF($C$3=\"Ações Alugadas\",'Guia de BTC'!AD:AD,IF($C$3=\"▲ de 1 dia\",'Guia de BTC'!AJ:AJ,IF($C$3=\"Taxa Média De Aluguel\",'Guia de BTC'!AN:AN,\"\"))))))))),MATCH(C291,'Guia de BTC'!C:C,0)),\"\"))","v":""},"",""]
[null,{"$f":"IFERROR(RANK(E292,$E$5:$E$400)+COUNTIF($E$5:E292,E292)-1,\"\")","v":""},{"$f":"IF('Guia de BTC'!C294=0,\"\",'Guia de BTC'!C294)","v":""},null,{"$f":"IF(C292=\"\",\"\",IFERROR(INDEX(IF($C$3=\"% IBOV\",'Guia de BTC'!H:H,IF($C$3=\"% Float Alugado\",'Guia de BTC'!R:R,IF($C$3=\"Valor Alugado\",'Guia de BTC'!T:T,IF($C$3=\"Volume Médio\",'Guia de BTC'!Y:Y,IF($C$3=\"Dias de Giro\",'Guia de BTC'!Z:Z,IF($C$3=\"Aluguel vs Vista\",'Guia de BTC'!AF:AF,IF($C$3=\"Ações Alugadas\",'Guia de BTC'!AD:AD,IF($C$3=\"▲ de 1 dia\",'Guia de BTC'!AJ:AJ,IF($C$3=\"Taxa Média De Aluguel\",'Guia de BTC'!AN:AN,\"\"))))))))),MATCH(C292,'Guia de BTC'!C:C,0)),\"\"))","v":""},"",""]
[null,{"$f":"IFERROR(RANK(E293,$E$5:$E$400)+COUNTIF($E$5:E293,E293)-1,\"\")","v":""},{"$f":"IF('Guia de BTC'!C295=0,\"\",'Guia de BTC'!C295)","v":""},null,{"$f":"IF(C293=\"\",\"\",IFERROR(INDEX(IF($C$3=\"% IBOV\",'Guia de BTC'!H:H,IF($C$3=\"% Float Alugado\",'Guia de BTC'!R:R,IF($C$3=\"Valor Alugado\",'Guia de BTC'!T:T,IF($C$3=\"Volume Médio\",'Guia de BTC'!Y:Y,IF($C$3=\"Dias de Giro\",'Guia de BTC'!Z:Z,IF($C$3=\"Aluguel vs Vista\",'Guia de BTC'!AF:AF,IF($C$3=\"Ações Alugadas\",'Guia de BTC'!AD:AD,IF($C$3=\"▲ de 1 dia\",'Guia de BTC'!AJ:AJ,IF($C$3=\"Taxa Média De Aluguel\",'Guia de BTC'!AN:AN,\"\"))))))))),MATCH(C293,'Guia de BTC'!C:C,0)),\"\"))","v":""},"",""]
[null,{"$f":"IFERROR(RANK(E294,$E$5:$E$400)+COUNTIF($E$5:E294,E294)-1,\"\")","v":""},{"$f":"IF('Guia de BTC'!C296=0,\"\",'Guia de BTC'!C296)","v":""},null,{"$f":"IF(C294=\"\",\"\",IFERROR(INDEX(IF($C$3=\"% IBOV\",'Guia de BTC'!H:H,IF($C$3=\"% Float Alugado\",'Guia de BTC'!R:R,IF($C$3=\"Valor Alugado\",'Guia de BTC'!T:T,IF($C$3=\"Volume Médio\",'Guia de BTC'!Y:Y,IF($C$3=\"Dias de Giro\",'Guia de BTC'!Z:Z,IF($C$3=\"Aluguel vs Vista\",'Guia de BTC'!AF:AF,IF($C$3=\"Ações Alugadas\",'Guia de BTC'!AD:AD,IF($C$3=\"▲ de 1 dia\",'Guia de BTC'!AJ:AJ,IF($C$3=\"Taxa Média De Aluguel\",'Guia de BTC'!AN:AN,\"\"))))))))),MATCH(C294,'Guia de BTC'!C:C,0)),\"\"))","v":""},"",""]
[null,{"$f":"IFERROR(RANK(E295,$E$5:$E$400)+COUNTIF($E$5:E295,E295)-1,\"\")","v":""},{"$f":"IF('Guia de BTC'!C297=0,\"\",'Guia de BTC'!C297)","v":""},null,{"$f":"IF(C295=\"\",\"\",IFERROR(INDEX(IF($C$3=\"% IBOV\",'Guia de BTC'!H:H,IF($C$3=\"% Float Alugado\",'Guia de BTC'!R:R,IF($C$3=\"Valor Alugado\",'Guia de BTC'!T:T,IF($C$3=\"Volume Médio\",'Guia de BTC'!Y:Y,IF($C$3=\"Dias de Giro\",'Guia de BTC'!Z:Z,IF($C$3=\"Aluguel vs Vista\",'Guia de BTC'!AF:AF,IF($C$3=\"Ações Alugadas\",'Guia de BTC'!AD:AD,IF($C$3=\"▲ de 1 dia\",'Guia de BTC'!AJ:AJ,IF($C$3=\"Taxa Média De Aluguel\",'Guia de BTC'!AN:AN,\"\"))))))))),MATCH(C295,'Guia de BTC'!C:C,0)),\"\"))","v":""},"",""]
[null,{"$f":"IFERROR(RANK(E296,$E$5:$E$400)+COUNTIF($E$5:E296,E296)-1,\"\")","v":""},{"$f":"IF('Guia de BTC'!C298=0,\"\",'Guia de BTC'!C298)","v":""},null,{"$f":"IF(C296=\"\",\"\",IFERROR(INDEX(IF($C$3=\"% IBOV\",'Guia de BTC'!H:H,IF($C$3=\"% Float Alugado\",'Guia de BTC'!R:R,IF($C$3=\"Valor Alugado\",'Guia de BTC'!T:T,IF($C$3=\"Volume Médio\",'Guia de BTC'!Y:Y,IF($C$3=\"Dias de Giro\",'Guia de BTC'!Z:Z,IF($C$3=\"Aluguel vs Vista\",'Guia de BTC'!AF:AF,IF($C$3=\"Ações Alugadas\",'Guia de BTC'!AD:AD,IF($C$3=\"▲ de 1 dia\",'Guia de BTC'!AJ:AJ,IF($C$3=\"Taxa Média De Aluguel\",'Guia de BTC'!AN:AN,\"\"))))))))),MATCH(C296,'Guia de BTC'!C:C,0)),\"\"))","v":""},"",""]
[null,{"$f":"IFERROR(RANK(E297,$E$5:$E$400)+COUNTIF($E$5:E297,E297)-1,\"\")","v":""},{"$f":"IF('Guia de BTC'!C299=0,\"\",'Guia de BTC'!C299)","v":""},null,{"$f":"IF(C297=\"\",\"\",IFERROR(INDEX(IF($C$3=\"% IBOV\",'Guia de BTC'!H:H,IF($C$3=\"% Float Alugado\",'Guia de BTC'!R:R,IF($C$3=\"Valor Alugado\",'Guia de BTC'!T:T,IF($C$3=\"Volume Médio\",'Guia de BTC'!Y:Y,IF($C$3=\"Dias de Giro\",'Guia de BTC'!Z:Z,IF($C$3=\"Aluguel vs Vista\",'Guia de BTC'!AF:AF,IF($C$3=\"Ações Alugadas\",'Guia de BTC'!AD:AD,IF($C$3=\"▲ de 1 dia\",'Guia de BTC'!AJ:AJ,IF($C$3=\"Taxa Média De Aluguel\",'Guia de BTC'!AN:AN,\"\"))))))))),MATCH(C297,'Guia de BTC'!C:C,0)),\"\"))","v":""},"",""]
[null,{"$f":"IFERROR(RANK(E298,$E$5:$E$400)+COUNTIF($E$5:E298,E298)-1,\"\")","v":""},{"$f":"IF('Guia de BTC'!C300=0,\"\",'Guia de BTC'!C300)","v":""},null,{"$f":"IF(C298=\"\",\"\",IFERROR(INDEX(IF($C$3=\"% IBOV\",'Guia de BTC'!H:H,IF($C$3=\"% Float Alugado\",'Guia de BTC'!R:R,IF($C$3=\"Valor Alugado\",'Guia de BTC'!T:T,IF($C$3=\"Volume Médio\",'Guia de BTC'!Y:Y,IF($C$3=\"Dias de Giro\",'Guia de BTC'!Z:Z,IF($C$3=\"Aluguel vs Vista\",'Guia de BTC'!AF:AF,IF($C$3=\"Ações Alugadas\",'Guia de BTC'!AD:AD,IF($C$3=\"▲ de 1 dia\",'Guia de BTC'!AJ:AJ,IF($C$3=\"Taxa Média De Aluguel\",'Guia de BTC'!AN:AN,\"\"))))))))),MATCH(C298,'Guia de BTC'!C:C,0)),\"\"))","v":""},"",""]
[null,{"$f":"IFERROR(RANK(E299,$E$5:$E$400)+COUNTIF($E$5:E299,E299)-1,\"\")","v":""},{"$f":"IF('Guia de BTC'!C301=0,\"\",'Guia de BTC'!C301)","v":""},null,{"$f":"IF(C299=\"\",\"\",IFERROR(INDEX(IF($C$3=\"% IBOV\",'Guia de BTC'!H:H,IF($C$3=\"% Float Alugado\",'Guia de BTC'!R:R,IF($C$3=\"Valor Alugado\",'Guia de BTC'!T:T,IF($C$3=\"Volume Médio\",'Guia de BTC'!Y:Y,IF($C$3=\"Dias de Giro\",'Guia de BTC'!Z:Z,IF($C$3=\"Aluguel vs Vista\",'Guia de BTC'!AF:AF,IF($C$3=\"Ações Alugadas\",'Guia de BTC'!AD:AD,IF($C$3=\"▲ de 1 dia\",'Guia de BTC'!AJ:AJ,IF($C$3=\"Taxa Média De Aluguel\",'Guia de BTC'!AN:AN,\"\"))))))))),MATCH(C299,'Guia de BTC'!C:C,0)),\"\"))","v":""},"",""]
[null,{"$f":"IFERROR(RANK(E300,$E$5:$E$400)+COUNTIF($E$5:E300,E300)-1,\"\")","v":""},{"$f":"IF('Guia de BTC'!C302=0,\"\",'Guia de BTC'!C302)","v":""},null,{"$f":"IF(C300=\"\",\"\",IFERROR(INDEX(IF($C$3=\"% IBOV\",'Guia de BTC'!H:H,IF($C$3=\"% Float Alugado\",'Guia de BTC'!R:R,IF($C$3=\"Valor Alugado\",'Guia de BTC'!T:T,IF($C$3=\"Volume Médio\",'Guia de BTC'!Y:Y,IF($C$3=\"Dias de Giro\",'Guia de BTC'!Z:Z,IF($C$3=\"Aluguel vs Vista\",'Guia de BTC'!AF:AF,IF($C$3=\"Ações Alugadas\",'Guia de BTC'!AD:AD,IF($C$3=\"▲ de 1 dia\",'Guia de BTC'!AJ:AJ,IF($C$3=\"Taxa Média De Aluguel\",'Guia de BTC'!AN:AN,\"\"))))))))),MATCH(C300,'Guia de BTC'!C:C,0)),\"\"))","v":""},"",""]
[null,{"$f":"IFERROR(RANK(E301,$E$5:$E$400)+COUNTIF($E$5:E301,E301)-1,\"\")","v":""},{"$f":"IF('Guia de BTC'!C303=0,\"\",'Guia de BTC'!C303)","v":""},null,{"$f":"IF(C301=\"\",\"\",IFERROR(INDEX(IF($C$3=\"% IBOV\",'Guia de BTC'!H:H,IF($C$3=\"% Float Alugado\",'Guia de BTC'!R:R,IF($C$3=\"Valor Alugado\",'Guia de BTC'!T:T,IF($C$3=\"Volume Médio\",'Guia de BTC'!Y:Y,IF($C$3=\"Dias de Giro\",'Guia de BTC'!Z:Z,IF($C$3=\"Aluguel vs Vista\",'Guia de BTC'!AF:AF,IF($C$3=\"Ações Alugadas\",'Guia de BTC'!AD:AD,IF($C$3=\"▲ de 1 dia\",'Guia de BTC'!AJ:AJ,IF($C$3=\"Taxa Média De Aluguel\",'Guia de BTC'!AN:AN,\"\"))))))))),MATCH(C301,'Guia de BTC'!C:C,0)),\"\"))","v":""},"",""]
[null,{"$f":"IFERROR(RANK(E302,$E$5:$E$400)+COUNTIF($E$5:E302,E302)-1,\"\")","v":""},{"$f":"IF('Guia de BTC'!C304=0,\"\",'Guia de BTC'!C304)","v":""},null,{"$f":"IF(C302=\"\",\"\",IFERROR(INDEX(IF($C$3=\"% IBOV\",'Guia de BTC'!H:H,IF($C$3=\"% Float Alugado\",'Guia de BTC'!R:R,IF($C$3=\"Valor Alugado\",'Guia de BTC'!T:T,IF($C$3=\"Volume Médio\",'Guia de BTC'!Y:Y,IF($C$3=\"Dias de Giro\",'Guia de BTC'!Z:Z,IF($C$3=\"Aluguel vs Vista\",'Guia de BTC'!AF:AF,IF($C$3=\"Ações Alugadas\",'Guia de BTC'!AD:AD,IF($C$3=\"▲ de 1 dia\",'Guia de BTC'!AJ:AJ,IF($C$3=\"Taxa Média De Aluguel\",'Guia de BTC'!AN:AN,\"\"))))))))),MATCH(C302,'Guia de BTC'!C:C,0)),\"\"))","v":""},"",""]
[null,{"$f":"IFERROR(RANK(E303,$E$5:$E$400)+COUNTIF($E$5:E303,E303)-1,\"\")","v":""},{"$f":"IF('Guia de BTC'!C305=0,\"\",'Guia de BTC'!C305)","v":""},null,{"$f":"IF(C303=\"\",\"\",IFERROR(INDEX(IF($C$3=\"% IBOV\",'Guia de BTC'!H:H,IF($C$3=\"% Float Alugado\",'Guia de BTC'!R:R,IF($C$3=\"Valor Alugado\",'Guia de BTC'!T:T,IF($C$3=\"Volume Médio\",'Guia de BTC'!Y:Y,IF($C$3=\"Dias de Giro\",'Guia de BTC'!Z:Z,IF($C$3=\"Aluguel vs Vista\",'Guia de BTC'!AF:AF,IF($C$3=\"Ações Alugadas\",'Guia de BTC'!AD:AD,IF($C$3=\"▲ de 1 dia\",'Guia de BTC'!AJ:AJ,IF($C$3=\"Taxa Média De Aluguel\",'Guia de BTC'!AN:AN,\"\"))))))))),MATCH(C303,'Guia de BTC'!C:C,0)),\"\"))","v":""},"",""]
[null,{"$f":"IFERROR(RANK(E304,$E$5:$E$400)+COUNTIF($E$5:E304,E304)-1,\"\")","v":""},{"$f":"IF('Guia de BTC'!C306=0,\"\",'Guia de BTC'!C306)","v":""},null,{"$f":"IF(C304=\"\",\"\",IFERROR(INDEX(IF($C$3=\"% IBOV\",'Guia de BTC'!H:H,IF($C$3=\"% Float Alugado\",'Guia de BTC'!R:R,IF($C$3=\"Valor Alugado\",'Guia de BTC'!T:T,IF($C$3=\"Volume Médio\",'Guia de BTC'!Y:Y,IF($C$3=\"Dias de Giro\",'Guia de BTC'!Z:Z,IF($C$3=\"Aluguel vs Vista\",'Guia de BTC'!AF:AF,IF($C$3=\"Ações Alugadas\",'Guia de BTC'!AD:AD,IF($C$3=\"▲ de 1 dia\",'Guia de BTC'!AJ:AJ,IF($C$3=\"Taxa Média De Aluguel\",'Guia de BTC'!AN:AN,\"\"))))))))),MATCH(C304,'Guia de BTC'!C:C,0)),\"\"))","v":""},"",""]
[null,{"$f":"IFERROR(RANK(E305,$E$5:$E$400)+COUNTIF($E$5:E305,E305)-1,\"\")","v":""},{"$f":"IF('Guia de BTC'!C307=0,\"\",'Guia de BTC'!C307)","v":""},null,{"$f":"IF(C305=\"\",\"\",IFERROR(INDEX(IF($C$3=\"% IBOV\",'Guia de BTC'!H:H,IF($C$3=\"% Float Alugado\",'Guia de BTC'!R:R,IF($C$3=\"Valor Alugado\",'Guia de BTC'!T:T,IF($C$3=\"Volume Médio\",'Guia de BTC'!Y:Y,IF($C$3=\"Dias de Giro\",'Guia de BTC'!Z:Z,IF($C$3=\"Aluguel vs Vista\",'Guia de BTC'!AF:AF,IF($C$3=\"Ações Alugadas\",'Guia de BTC'!AD:AD,IF($C$3=\"▲ de 1 dia\",'Guia de BTC'!AJ:AJ,IF($C$3=\"Taxa Média De Aluguel\",'Guia de BTC'!AN:AN,\"\"))))))))),MATCH(C305,'Guia de BTC'!C:C,0)),\"\"))","v":""},"",""]
[null,{"$f":"IFERROR(RANK(E306,$E$5:$E$400)+COUNTIF($E$5:E306,E306)-1,\"\")","v":""},{"$f":"IF('Guia de BTC'!C308=0,\"\",'Guia de BTC'!C308)","v":""},null,{"$f":"IF(C306=\"\",\"\",IFERROR(INDEX(IF($C$3=\"% IBOV\",'Guia de BTC'!H:H,IF($C$3=\"% Float Alugado\",'Guia de BTC'!R:R,IF($C$3=\"Valor Alugado\",'Guia de BTC'!T:T,IF($C$3=\"Volume Médio\",'Guia de BTC'!Y:Y,IF($C$3=\"Dias de Giro\",'Guia de BTC'!Z:Z,IF($C$3=\"Aluguel vs Vista\",'Guia de BTC'!AF:AF,IF($C$3=\"Ações Alugadas\",'Guia de BTC'!AD:AD,IF($C$3=\"▲ de 1 dia\",'Guia de BTC'!AJ:AJ,IF($C$3=\"Taxa Média De Aluguel\",'Guia de BTC'!AN:AN,\"\"))))))))),MATCH(C306,'Guia de BTC'!C:C,0)),\"\"))","v":""},"",""]
[null,{"$f":"IFERROR(RANK(E307,$E$5:$E$400)+COUNTIF($E$5:E307,E307)-1,\"\")","v":""},{"$f":"IF('Guia de BTC'!C309=0,\"\",'Guia de BTC'!C309)","v":""},null,{"$f":"IF(C307=\"\",\"\",IFERROR(INDEX(IF($C$3=\"% IBOV\",'Guia de BTC'!H:H,IF($C$3=\"% Float Alugado\",'Guia de BTC'!R:R,IF($C$3=\"Valor Alugado\",'Guia de BTC'!T:T,IF($C$3=\"Volume Médio\",'Guia de BTC'!Y:Y,IF($C$3=\"Dias de Giro\",'Guia de BTC'!Z:Z,IF($C$3=\"Aluguel vs Vista\",'Guia de BTC'!AF:AF,IF($C$3=\"Ações Alugadas\",'Guia de BTC'!AD:AD,IF($C$3=\"▲ de 1 dia\",'Guia de BTC'!AJ:AJ,IF($C$3=\"Taxa Média De Aluguel\",'Guia de BTC'!AN:AN,\"\"))))))))),MATCH(C307,'Guia de BTC'!C:C,0)),\"\"))","v":""},"",""]
[null,{"$f":"IFERROR(RANK(E308,$E$5:$E$400)+COUNTIF($E$5:E308,E308)-1,\"\")","v":""},{"$f":"IF('Guia de BTC'!C310=0,\"\",'Guia de BTC'!C310)","v":""},null,{"$f":"IF(C308=\"\",\"\",IFERROR(INDEX(IF($C$3=\"% IBOV\",'Guia de BTC'!H:H,IF($C$3=\"% Float Alugado\",'Guia de BTC'!R:R,IF($C$3=\"Valor Alugado\",'Guia de BTC'!T:T,IF($C$3=\"Volume Médio\",'Guia de BTC'!Y:Y,IF($C$3=\"Dias de Giro\",'Guia de BTC'!Z:Z,IF($C$3=\"Aluguel vs Vista\",'Guia de BTC'!AF:AF,IF($C$3=\"Ações Alugadas\",'Guia de BTC'!AD:AD,IF($C$3=\"▲ de 1 dia\",'Guia de BTC'!AJ:AJ,IF($C$3=\"Taxa Média De Aluguel\",'Guia de BTC'!AN:AN,\"\"))))))))),MATCH(C308,'Guia de BTC'!C:C,0)),\"\"))","v":""},"",""]
[null,{"$f":"IFERROR(RANK(E309,$E$5:$E$400)+COUNTIF($E$5:E309,E309)-1,\"\")","v":""},{"$f":"IF('Guia de BTC'!C311=0,\"\",'Guia de BTC'!C311)","v":""},null,{"$f":"IF(C309=\"\",\"\",IFERROR(INDEX(IF($C$3=\"% IBOV\",'Guia de BTC'!H:H,IF($C$3=\"% Float Alugado\",'Guia de BTC'!R:R,IF($C$3=\"Valor Alugado\",'Guia de BTC'!T:T,IF($C$3=\"Volume Médio\",'Guia de BTC'!Y:Y,IF($C$3=\"Dias de Giro\",'Guia de BTC'!Z:Z,IF($C$3=\"Aluguel vs Vista\",'Guia de BTC'!AF:AF,IF($C$3=\"Ações Alugadas\",'Guia de BTC'!AD:AD,IF($C$3=\"▲ de 1 dia\",'Guia de BTC'!AJ:AJ,IF($C$3=\"Taxa Média De Aluguel\",'Guia de BTC'!AN:AN,\"\"))))))))),MATCH(C309,'Guia de BTC'!C:C,0)),\"\"))","v":""},"",""]
[null,{"$f":"IFERROR(RANK(E310,$E$5:$E$400)+COUNTIF($E$5:E310,E310)-1,\"\")","v":""},{"$f":"IF('Guia de BTC'!C312=0,\"\",'Guia de BTC'!C312)","v":""},null,{"$f":"IF(C310=\"\",\"\",IFERROR(INDEX(IF($C$3=\"% IBOV\",'Guia de BTC'!H:H,IF($C$3=\"% Float Alugado\",'Guia de BTC'!R:R,IF($C$3=\"Valor Alugado\",'Guia de BTC'!T:T,IF($C$3=\"Volume Médio\",'Guia de BTC'!Y:Y,IF($C$3=\"Dias de Giro\",'Guia de BTC'!Z:Z,IF($C$3=\"Aluguel vs Vista\",'Guia de BTC'!AF:AF,IF($C$3=\"Ações Alugadas\",'Guia de BTC'!AD:AD,IF($C$3=\"▲ de 1 dia\",'Guia de BTC'!AJ:AJ,IF($C$3=\"Taxa Média De Aluguel\",'Guia de BTC'!AN:AN,\"\"))))))))),MATCH(C310,'Guia de BTC'!C:C,0)),\"\"))","v":""},"",""]
[null,{"$f":"IFERROR(RANK(E311,$E$5:$E$400)+COUNTIF($E$5:E311,E311)-1,\"\")","v":""},{"$f":"IF('Guia de BTC'!C313=0,\"\",'Guia de BTC'!C313)","v":""},null,{"$f":"IF(C311=\"\",\"\",IFERROR(INDEX(IF($C$3=\"% IBOV\",'Guia de BTC'!H:H,IF($C$3=\"% Float Alugado\",'Guia de BTC'!R:R,IF($C$3=\"Valor Alugado\",'Guia de BTC'!T:T,IF($C$3=\"Volume Médio\",'Guia de BTC'!Y:Y,IF($C$3=\"Dias de Giro\",'Guia de BTC'!Z:Z,IF($C$3=\"Aluguel vs Vista\",'Guia de BTC'!AF:AF,IF($C$3=\"Ações Alugadas\",'Guia de BTC'!AD:AD,IF($C$3=\"▲ de 1 dia\",'Guia de BTC'!AJ:AJ,IF($C$3=\"Taxa Média De Aluguel\",'Guia de BTC'!AN:AN,\"\"))))))))),MATCH(C311,'Guia de BTC'!C:C,0)),\"\"))","v":""},"",""]
[null,{"$f":"IFERROR(RANK(E312,$E$5:$E$400)+COUNTIF($E$5:E312,E312)-1,\"\")","v":""},{"$f":"IF('Guia de BTC'!C314=0,\"\",'Guia de BTC'!C314)","v":""},null,{"$f":"IF(C312=\"\",\"\",IFERROR(INDEX(IF($C$3=\"% IBOV\",'Guia de BTC'!H:H,IF($C$3=\"% Float Alugado\",'Guia de BTC'!R:R,IF($C$3=\"Valor Alugado\",'Guia de BTC'!T:T,IF($C$3=\"Volume Médio\",'Guia de BTC'!Y:Y,IF($C$3=\"Dias de Giro\",'Guia de BTC'!Z:Z,IF($C$3=\"Aluguel vs Vista\",'Guia de BTC'!AF:AF,IF($C$3=\"Ações Alugadas\",'Guia de BTC'!AD:AD,IF($C$3=\"▲ de 1 dia\",'Guia de BTC'!AJ:AJ,IF($C$3=\"Taxa Média De Aluguel\",'Guia de BTC'!AN:AN,\"\"))))))))),MATCH(C312,'Guia de BTC'!C:C,0)),\"\"))","v":""},"",""]
[null,{"$f":"IFERROR(RANK(E313,$E$5:$E$400)+COUNTIF($E$5:E313,E313)-1,\"\")","v":""},{"$f":"IF('Guia de BTC'!C315=0,\"\",'Guia de BTC'!C315)","v":""},null,{"$f":"IF(C313=\"\",\"\",IFERROR(INDEX(IF($C$3=\"% IBOV\",'Guia de BTC'!H:H,IF($C$3=\"% Float Alugado\",'Guia de BTC'!R:R,IF($C$3=\"Valor Alugado\",'Guia de BTC'!T:T,IF($C$3=\"Volume Médio\",'Guia de BTC'!Y:Y,IF($C$3=\"Dias de Giro\",'Guia de BTC'!Z:Z,IF($C$3=\"Aluguel vs Vista\",'Guia de BTC'!AF:AF,IF($C$3=\"Ações Alugadas\",'Guia de BTC'!AD:AD,IF($C$3=\"▲ de 1 dia\",'Guia de BTC'!AJ:AJ,IF($C$3=\"Taxa Média De Aluguel\",'Guia de BTC'!AN:AN,\"\"))))))))),MATCH(C313,'Guia de BTC'!C:C,0)),\"\"))","v":""},"",""]
[null,{"$f":"IFERROR(RANK(E314,$E$5:$E$400)+COUNTIF($E$5:E314,E314)-1,\"\")","v":""},{"$f":"IF('Guia de BTC'!C316=0,\"\",'Guia de BTC'!C316)","v":""},null,{"$f":"IF(C314=\"\",\"\",IFERROR(INDEX(IF($C$3=\"% IBOV\",'Guia de BTC'!H:H,IF($C$3=\"% Float Alugado\",'Guia de BTC'!R:R,IF($C$3=\"Valor Alugado\",'Guia de BTC'!T:T,IF($C$3=\"Volume Médio\",'Guia de BTC'!Y:Y,IF($C$3=\"Dias de Giro\",'Guia de BTC'!Z:Z,IF($C$3=\"Aluguel vs Vista\",'Guia de BTC'!AF:AF,IF($C$3=\"Ações Alugadas\",'Guia de BTC'!AD:AD,IF($C$3=\"▲ de 1 dia\",'Guia de BTC'!AJ:AJ,IF($C$3=\"Taxa Média De Aluguel\",'Guia de BTC'!AN:AN,\"\"))))))))),MATCH(C314,'Guia de BTC'!C:C,0)),\"\"))","v":""},"",""]
[null,{"$f":"IFERROR(RANK(E315,$E$5:$E$400)+COUNTIF($E$5:E315,E315)-1,\"\")","v":""},{"$f":"IF('Guia de BTC'!C317=0,\"\",'Guia de BTC'!C317)","v":""},null,{"$f":"IF(C315=\"\",\"\",IFERROR(INDEX(IF($C$3=\"% IBOV\",'Guia de BTC'!H:H,IF($C$3=\"% Float Alugado\",'Guia de BTC'!R:R,IF($C$3=\"Valor Alugado\",'Guia de BTC'!T:T,IF($C$3=\"Volume Médio\",'Guia de BTC'!Y:Y,IF($C$3=\"Dias de Giro\",'Guia de BTC'!Z:Z,IF($C$3=\"Aluguel vs Vista\",'Guia de BTC'!AF:AF,IF($C$3=\"Ações Alugadas\",'Guia de BTC'!AD:AD,IF($C$3=\"▲ de 1 dia\",'Guia de BTC'!AJ:AJ,IF($C$3=\"Taxa Média De Aluguel\",'Guia de BTC'!AN:AN,\"\"))))))))),MATCH(C315,'Guia de BTC'!C:C,0)),\"\"))","v":""},"",""]
[null,{"$f":"IFERROR(RANK(E316,$E$5:$E$400)+COUNTIF($E$5:E316,E316)-1,\"\")","v":""},{"$f":"IF('Guia de BTC'!C318=0,\"\",'Guia de BTC'!C318)","v":""},null,{"$f":"IF(C316=\"\",\"\",IFERROR(INDEX(IF($C$3=\"% IBOV\",'Guia de BTC'!H:H,IF($C$3=\"% Float Alugado\",'Guia de BTC'!R:R,IF($C$3=\"Valor Alugado\",'Guia de BTC'!T:T,IF($C$3=\"Volume Médio\",'Guia de BTC'!Y:Y,IF($C$3=\"Dias de Giro\",'Guia de BTC'!Z:Z,IF($C$3=\"Aluguel vs Vista\",'Guia de BTC'!AF:AF,IF($C$3=\"Ações Alugadas\",'Guia de BTC'!AD:AD,IF($C$3=\"▲ de 1 dia\",'Guia de BTC'!AJ:AJ,IF($C$3=\"Taxa Média De Aluguel\",'Guia de BTC'!AN:AN,\"\"))))))))),MATCH(C316,'Guia de BTC'!C:C,0)),\"\"))","v":""},"",""]
[null,{"$f":"IFERROR(RANK(E317,$E$5:$E$400)+COUNTIF($E$5:E317,E317)-1,\"\")","v":""},{"$f":"IF('Guia de BTC'!C319=0,\"\",'Guia de BTC'!C319)","v":""},null,{"$f":"IF(C317=\"\",\"\",IFERROR(INDEX(IF($C$3=\"% IBOV\",'Guia de BTC'!H:H,IF($C$3=\"% Float Alugado\",'Guia de BTC'!R:R,IF($C$3=\"Valor Alugado\",'Guia de BTC'!T:T,IF($C$3=\"Volume Médio\",'Guia de BTC'!Y:Y,IF($C$3=\"Dias de Giro\",'Guia de BTC'!Z:Z,IF($C$3=\"Aluguel vs Vista\",'Guia de BTC'!AF:AF,IF($C$3=\"Ações Alugadas\",'Guia de BTC'!AD:AD,IF($C$3=\"▲ de 1 dia\",'Guia de BTC'!AJ:AJ,IF($C$3=\"Taxa Média De Aluguel\",'Guia de BTC'!AN:AN,\"\"))))))))),MATCH(C317,'Guia de BTC'!C:C,0)),\"\"))","v":""},"",""]
[null,{"$f":"IFERROR(RANK(E318,$E$5:$E$400)+COUNTIF($E$5:E318,E318)-1,\"\")","v":""},{"$f":"IF('Guia de BTC'!C320=0,\"\",'Guia de BTC'!C320)","v":""},null,{"$f":"IF(C318=\"\",\"\",IFERROR(INDEX(IF($C$3=\"% IBOV\",'Guia de BTC'!H:H,IF($C$3=\"% Float Alugado\",'Guia de BTC'!R:R,IF($C$3=\"Valor Alugado\",'Guia de BTC'!T:T,IF($C$3=\"Volume Médio\",'Guia de BTC'!Y:Y,IF($C$3=\"Dias de Giro\",'Guia de BTC'!Z:Z,IF($C$3=\"Aluguel vs Vista\",'Guia de BTC'!AF:AF,IF($C$3=\"Ações Alugadas\",'Guia de BTC'!AD:AD,IF($C$3=\"▲ de 1 dia\",'Guia de BTC'!AJ:AJ,IF($C$3=\"Taxa Média De Aluguel\",'Guia de BTC'!AN:AN,\"\"))))))))),MATCH(C318,'Guia de BTC'!C:C,0)),\"\"))","v":""},"",""]
[null,{"$f":"IFERROR(RANK(E319,$E$5:$E$400)+COUNTIF($E$5:E319,E319)-1,\"\")","v":""},{"$f":"IF('Guia de BTC'!C321=0,\"\",'Guia de BTC'!C321)","v":""},null,{"$f":"IF(C319=\"\",\"\",IFERROR(INDEX(IF($C$3=\"% IBOV\",'Guia de BTC'!H:H,IF($C$3=\"% Float Alugado\",'Guia de BTC'!R:R,IF($C$3=\"Valor Alugado\",'Guia de BTC'!T:T,IF($C$3=\"Volume Médio\",'Guia de BTC'!Y:Y,IF($C$3=\"Dias de Giro\",'Guia de BTC'!Z:Z,IF($C$3=\"Aluguel vs Vista\",'Guia de BTC'!AF:AF,IF($C$3=\"Ações Alugadas\",'Guia de BTC'!AD:AD,IF($C$3=\"▲ de 1 dia\",'Guia de BTC'!AJ:AJ,IF($C$3=\"Taxa Média De Aluguel\",'Guia de BTC'!AN:AN,\"\"))))))))),MATCH(C319,'Guia de BTC'!C:C,0)),\"\"))","v":""},"",""]
[null,{"$f":"IFERROR(RANK(E320,$E$5:$E$400)+COUNTIF($E$5:E320,E320)-1,\"\")","v":""},{"$f":"IF('Guia de BTC'!C322=0,\"\",'Guia de BTC'!C322)","v":""},null,{"$f":"IF(C320=\"\",\"\",IFERROR(INDEX(IF($C$3=\"% IBOV\",'Guia de BTC'!H:H,IF($C$3=\"% Float Alugado\",'Guia de BTC'!R:R,IF($C$3=\"Valor Alugado\",'Guia de BTC'!T:T,IF($C$3=\"Volume Médio\",'Guia de BTC'!Y:Y,IF($C$3=\"Dias de Giro\",'Guia de BTC'!Z:Z,IF($C$3=\"Aluguel vs Vista\",'Guia de BTC'!AF:AF,IF($C$3=\"Ações Alugadas\",'Guia de BTC'!AD:AD,IF($C$3=\"▲ de 1 dia\",'Guia de BTC'!AJ:AJ,IF($C$3=\"Taxa Média De Aluguel\",'Guia de BTC'!AN:AN,\"\"))))))))),MATCH(C320,'Guia de BTC'!C:C,0)),\"\"))","v":""},"",""]
[null,{"$f":"IFERROR(RANK(E321,$E$5:$E$400)+COUNTIF($E$5:E321,E321)-1,\"\")","v":""},{"$f":"IF('Guia de BTC'!C323=0,\"\",'Guia de BTC'!C323)","v":""},null,{"$f":"IF(C321=\"\",\"\",IFERROR(INDEX(IF($C$3=\"% IBOV\",'Guia de BTC'!H:H,IF($C$3=\"% Float Alugado\",'Guia de BTC'!R:R,IF($C$3=\"Valor Alugado\",'Guia de BTC'!T:T,IF($C$3=\"Volume Médio\",'Guia de BTC'!Y:Y,IF($C$3=\"Dias de Giro\",'Guia de BTC'!Z:Z,IF($C$3=\"Aluguel vs Vista\",'Guia de BTC'!AF:AF,IF($C$3=\"Ações Alugadas\",'Guia de BTC'!AD:AD,IF($C$3=\"▲ de 1 dia\",'Guia de BTC'!AJ:AJ,IF($C$3=\"Taxa Média De Aluguel\",'Guia de BTC'!AN:AN,\"\"))))))))),MATCH(C321,'Guia de BTC'!C:C,0)),\"\"))","v":""},"",""]
[null,{"$f":"IFERROR(RANK(E322,$E$5:$E$400)+COUNTIF($E$5:E322,E322)-1,\"\")","v":""},{"$f":"IF('Guia de BTC'!C324=0,\"\",'Guia de BTC'!C324)","v":""},null,{"$f":"IF(C322=\"\",\"\",IFERROR(INDEX(IF($C$3=\"% IBOV\",'Guia de BTC'!H:H,IF($C$3=\"% Float Alugado\",'Guia de BTC'!R:R,IF($C$3=\"Valor Alugado\",'Guia de BTC'!T:T,IF($C$3=\"Volume Médio\",'Guia de BTC'!Y:Y,IF($C$3=\"Dias de Giro\",'Guia de BTC'!Z:Z,IF($C$3=\"Aluguel vs Vista\",'Guia de BTC'!AF:AF,IF($C$3=\"Ações Alugadas\",'Guia de BTC'!AD:AD,IF($C$3=\"▲ de 1 dia\",'Guia de BTC'!AJ:AJ,IF($C$3=\"Taxa Média De Aluguel\",'Guia de BTC'!AN:AN,\"\"))))))))),MATCH(C322,'Guia de BTC'!C:C,0)),\"\"))","v":""},"",""]
[null,{"$f":"IFERROR(RANK(E323,$E$5:$E$400)+COUNTIF($E$5:E323,E323)-1,\"\")","v":""},{"$f":"IF('Guia de BTC'!C325=0,\"\",'Guia de BTC'!C325)","v":""},null,{"$f":"IF(C323=\"\",\"\",IFERROR(INDEX(IF($C$3=\"% IBOV\",'Guia de BTC'!H:H,IF($C$3=\"% Float Alugado\",'Guia de BTC'!R:R,IF($C$3=\"Valor Alugado\",'Guia de BTC'!T:T,IF($C$3=\"Volume Médio\",'Guia de BTC'!Y:Y,IF($C$3=\"Dias de Giro\",'Guia de BTC'!Z:Z,IF($C$3=\"Aluguel vs Vista\",'Guia de BTC'!AF:AF,IF($C$3=\"Ações Alugadas\",'Guia de BTC'!AD:AD,IF($C$3=\"▲ de 1 dia\",'Guia de BTC'!AJ:AJ,IF($C$3=\"Taxa Média De Aluguel\",'Guia de BTC'!AN:AN,\"\"))))))))),MATCH(C323,'Guia de BTC'!C:C,0)),\"\"))","v":""},"",""]
[null,{"$f":"IFERROR(RANK(E324,$E$5:$E$400)+COUNTIF($E$5:E324,E324)-1,\"\")","v":""},{"$f":"IF('Guia de BTC'!C326=0,\"\",'Guia de BTC'!C326)","v":""},null,{"$f":"IF(C324=\"\",\"\",IFERROR(INDEX(IF($C$3=\"% IBOV\",'Guia de BTC'!H:H,IF($C$3=\"% Float Alugado\",'Guia de BTC'!R:R,IF($C$3=\"Valor Alugado\",'Guia de BTC'!T:T,IF($C$3=\"Volume Médio\",'Guia de BTC'!Y:Y,IF($C$3=\"Dias de Giro\",'Guia de BTC'!Z:Z,IF($C$3=\"Aluguel vs Vista\",'Guia de BTC'!AF:AF,IF($C$3=\"Ações Alugadas\",'Guia de BTC'!AD:AD,IF($C$3=\"▲ de 1 dia\",'Guia de BTC'!AJ:AJ,IF($C$3=\"Taxa Média De Aluguel\",'Guia de BTC'!AN:AN,\"\"))))))))),MATCH(C324,'Guia de BTC'!C:C,0)),\"\"))","v":""},"",""]
[null,{"$f":"IFERROR(RANK(E325,$E$5:$E$400)+COUNTIF($E$5:E325,E325)-1,\"\")","v":""},{"$f":"IF('Guia de BTC'!C327=0,\"\",'Guia de BTC'!C327)","v":""},null,{"$f":"IF(C325=\"\",\"\",IFERROR(INDEX(IF($C$3=\"% IBOV\",'Guia de BTC'!H:H,IF($C$3=\"% Float Alugado\",'Guia de BTC'!R:R,IF($C$3=\"Valor Alugado\",'Guia de BTC'!T:T,IF($C$3=\"Volume Médio\",'Guia de BTC'!Y:Y,IF($C$3=\"Dias de Giro\",'Guia de BTC'!Z:Z,IF($C$3=\"Aluguel vs Vista\",'Guia de BTC'!AF:AF,IF($C$3=\"Ações Alugadas\",'Guia de BTC'!AD:AD,IF($C$3=\"▲ de 1 dia\",'Guia de BTC'!AJ:AJ,IF($C$3=\"Taxa Média De Aluguel\",'Guia de BTC'!AN:AN,\"\"))))))))),MATCH(C325,'Guia de BTC'!C:C,0)),\"\"))","v":""},"",""]
[null,{"$f":"IFERROR(RANK(E326,$E$5:$E$400)+COUNTIF($E$5:E326,E326)-1,\"\")","v":""},{"$f":"IF('Guia de BTC'!C328=0,\"\",'Guia de BTC'!C328)","v":""},null,{"$f":"IF(C326=\"\",\"\",IFERROR(INDEX(IF($C$3=\"% IBOV\",'Guia de BTC'!H:H,IF($C$3=\"% Float Alugado\",'Guia de BTC'!R:R,IF($C$3=\"Valor Alugado\",'Guia de BTC'!T:T,IF($C$3=\"Volume Médio\",'Guia de BTC'!Y:Y,IF($C$3=\"Dias de Giro\",'Guia de BTC'!Z:Z,IF($C$3=\"Aluguel vs Vista\",'Guia de BTC'!AF:AF,IF($C$3=\"Ações Alugadas\",'Guia de BTC'!AD:AD,IF($C$3=\"▲ de 1 dia\",'Guia de BTC'!AJ:AJ,IF($C$3=\"Taxa Média De Aluguel\",'Guia de BTC'!AN:AN,\"\"))))))))),MATCH(C326,'Guia de BTC'!C:C,0)),\"\"))","v":""},"",""]
[null,{"$f":"IFERROR(RANK(E327,$E$5:$E$400)+COUNTIF($E$5:E327,E327)-1,\"\")","v":""},{"$f":"IF('Guia de BTC'!C329=0,\"\",'Guia de BTC'!C329)","v":""},null,{"$f":"IF(C327=\"\",\"\",IFERROR(INDEX(IF($C$3=\"% IBOV\",'Guia de BTC'!H:H,IF($C$3=\"% Float Alugado\",'Guia de BTC'!R:R,IF($C$3=\"Valor Alugado\",'Guia de BTC'!T:T,IF($C$3=\"Volume Médio\",'Guia de BTC'!Y:Y,IF($C$3=\"Dias de Giro\",'Guia de BTC'!Z:Z,IF($C$3=\"Aluguel vs Vista\",'Guia de BTC'!AF:AF,IF($C$3=\"Ações Alugadas\",'Guia de BTC'!AD:AD,IF($C$3=\"▲ de 1 dia\",'Guia de BTC'!AJ:AJ,IF($C$3=\"Taxa Média De Aluguel\",'Guia de BTC'!AN:AN,\"\"))))))))),MATCH(C327,'Guia de BTC'!C:C,0)),\"\"))","v":""},{"$f":"IF(C327=\"\",\"\",IFERROR(VLOOKUP(ROW()-4,$B$3:$E$600,4,FALSE),\"\"))","v":""},{"$f":"IF(C327=\"\",\"\",IFERROR(VLOOKUP(ROW()-4,$B$3:$E$600,3,FALSE),\"\"))","v":""}]
[null,{"$f":"IFERROR(RANK(E328,$E$5:$E$400)+COUNTIF($E$5:E328,E328)-1,\"\")","v":""},{"$f":"IF('Guia de BTC'!C330=0,\"\",'Guia de BTC'!C330)","v":""},null,{"$f":"IF(C328=\"\",\"\",IFERROR(INDEX(IF($C$3=\"% IBOV\",'Guia de BTC'!H:H,IF($C$3=\"% Float Alugado\",'Guia de BTC'!R:R,IF($C$3=\"Valor Alugado\",'Guia de BTC'!T:T,IF($C$3=\"Volume Médio\",'Guia de BTC'!Y:Y,IF($C$3=\"Dias de Giro\",'Guia de BTC'!Z:Z,IF($C$3=\"Aluguel vs Vista\",'Guia de BTC'!AF:AF,IF($C$3=\"Ações Alugadas\",'Guia de BTC'!AD:AD,IF($C$3=\"▲ de 1 dia\",'Guia de BTC'!AJ:AJ,IF($C$3=\"Taxa Média De Aluguel\",'Guia de BTC'!AN:AN,\"\"))))))))),MATCH(C328,'Guia de BTC'!C:C,0)),\"\"))","v":""},"",""]
[null,{"$f":"IFERROR(RANK(E329,$E$5:$E$400)+COUNTIF($E$5:E329,E329)-1,\"\")","v":""},{"$f":"IF('Guia de BTC'!C331=0,\"\",'Guia de BTC'!C331)","v":""},null,{"$f":"IF(C329=\"\",\"\",IFERROR(INDEX(IF($C$3=\"% IBOV\",'Guia de BTC'!H:H,IF($C$3=\"% Float Alugado\",'Guia de BTC'!R:R,IF($C$3=\"Valor Alugado\",'Guia de BTC'!T:T,IF($C$3=\"Volume Médio\",'Guia de BTC'!Y:Y,IF($C$3=\"Dias de Giro\",'Guia de BTC'!Z:Z,IF($C$3=\"Aluguel vs Vista\",'Guia de BTC'!AF:AF,IF($C$3=\"Ações Alugadas\",'Guia de BTC'!AD:AD,IF($C$3=\"▲ de 1 dia\",'Guia de BTC'!AJ:AJ,IF($C$3=\"Taxa Média De Aluguel\",'Guia de BTC'!AN:AN,\"\"))))))))),MATCH(C329,'Guia de BTC'!C:C,0)),\"\"))","v":""},"",""]
[null,{"$f":"IFERROR(RANK(E330,$E$5:$E$400)+COUNTIF($E$5:E330,E330)-1,\"\")","v":""},{"$f":"IF('Guia de BTC'!C332=0,\"\",'Guia de BTC'!C332)","v":""},null,{"$f":"IF(C330=\"\",\"\",IFERROR(INDEX(IF($C$3=\"% IBOV\",'Guia de BTC'!H:H,IF($C$3=\"% Float Alugado\",'Guia de BTC'!R:R,IF($C$3=\"Valor Alugado\",'Guia de BTC'!T:T,IF($C$3=\"Volume Médio\",'Guia de BTC'!Y:Y,IF($C$3=\"Dias de Giro\",'Guia de BTC'!Z:Z,IF($C$3=\"Aluguel vs Vista\",'Guia de BTC'!AF:AF,IF($C$3=\"Ações Alugadas\",'Guia de BTC'!AD:AD,IF($C$3=\"▲ de 1 dia\",'Guia de BTC'!AJ:AJ,IF($C$3=\"Taxa Média De Aluguel\",'Guia de BTC'!AN:AN,\"\"))))))))),MATCH(C330,'Guia de BTC'!C:C,0)),\"\"))","v":""},"",""]
[null,{"$f":"IFERROR(RANK(E331,$E$5:$E$400)+COUNTIF($E$5:E331,E331)-1,\"\")","v":""},{"$f":"IF('Guia de BTC'!C333=0,\"\",'Guia de BTC'!C333)","v":""},null,{"$f":"IF(C331=\"\",\"\",IFERROR(INDEX(IF($C$3=\"% IBOV\",'Guia de BTC'!H:H,IF($C$3=\"% Float Alugado\",'Guia de BTC'!R:R,IF($C$3=\"Valor Alugado\",'Guia de BTC'!T:T,IF($C$3=\"Volume Médio\",'Guia de BTC'!Y:Y,IF($C$3=\"Dias de Giro\",'Guia de BTC'!Z:Z,IF($C$3=\"Aluguel vs Vista\",'Guia de BTC'!AF:AF,IF($C$3=\"Ações Alugadas\",'Guia de BTC'!AD:AD,IF($C$3=\"▲ de 1 dia\",'Guia de BTC'!AJ:AJ,IF($C$3=\"Taxa Média De Aluguel\",'Guia de BTC'!AN:AN,\"\"))))))))),MATCH(C331,'Guia de BTC'!C:C,0)),\"\"))","v":""},"",""]
[null,{"$f":"IFERROR(RANK(E332,$E$5:$E$400)+COUNTIF($E$5:E332,E332)-1,\"\")","v":""},{"$f":"IF('Guia de BTC'!C334=0,\"\",'Guia de BTC'!C334)","v":""},null,{"$f":"IF(C332=\"\",\"\",IFERROR(INDEX(IF($C$3=\"% IBOV\",'Guia de BTC'!H:H,IF($C$3=\"% Float Alugado\",'Guia de BTC'!R:R,IF($C$3=\"Valor Alugado\",'Guia de BTC'!T:T,IF($C$3=\"Volume Médio\",'Guia de BTC'!Y:Y,IF($C$3=\"Dias de Giro\",'Guia de BTC'!Z:Z,IF($C$3=\"Aluguel vs Vista\",'Guia de BTC'!AF:AF,IF($C$3=\"Ações Alugadas\",'Guia de BTC'!AD:AD,IF($C$3=\"▲ de 1 dia\",'Guia de BTC'!AJ:AJ,IF($C$3=\"Taxa Média De Aluguel\",'Guia de BTC'!AN:AN,\"\"))))))))),MATCH(C332,'Guia de BTC'!C:C,0)),\"\"))","v":""},"",""]
[null,{"$f":"IFERROR(RANK(E333,$E$5:$E$400)+COUNTIF($E$5:E333,E333)-1,\"\")","v":""},{"$f":"IF('Guia de BTC'!C335=0,\"\",'Guia de BTC'!C335)","v":""},null,{"$f":"IF(C333=\"\",\"\",IFERROR(INDEX(IF($C$3=\"% IBOV\",'Guia de BTC'!H:H,IF($C$3=\"% Float Alugado\",'Guia de BTC'!R:R,IF($C$3=\"Valor Alugado\",'Guia de BTC'!T:T,IF($C$3=\"Volume Médio\",'Guia de BTC'!Y:Y,IF($C$3=\"Dias de Giro\",'Guia de BTC'!Z:Z,IF($C$3=\"Aluguel vs Vista\",'Guia de BTC'!AF:AF,IF($C$3=\"Ações Alugadas\",'Guia de BTC'!AD:AD,IF($C$3=\"▲ de 1 dia\",'Guia de BTC'!AJ:AJ,IF($C$3=\"Taxa Média De Aluguel\",'Guia de BTC'!AN:AN,\"\"))))))))),MATCH(C333,'Guia de BTC'!C:C,0)),\"\"))","v":""},"",""]
[null,{"$f":"IFERROR(RANK(E334,$E$5:$E$400)+COUNTIF($E$5:E334,E334)-1,\"\")","v":""},{"$f":"IF('Guia de BTC'!C336=0,\"\",'Guia de BTC'!C336)","v":""},null,{"$f":"IF(C334=\"\",\"\",IFERROR(INDEX(IF($C$3=\"% IBOV\",'Guia de BTC'!H:H,IF($C$3=\"% Float Alugado\",'Guia de BTC'!R:R,IF($C$3=\"Valor Alugado\",'Guia de BTC'!T:T,IF($C$3=\"Volume Médio\",'Guia de BTC'!Y:Y,IF($C$3=\"Dias de Giro\",'Guia de BTC'!Z:Z,IF($C$3=\"Aluguel vs Vista\",'Guia de BTC'!AF:AF,IF($C$3=\"Ações Alugadas\",'Guia de BTC'!AD:AD,IF($C$3=\"▲ de 1 dia\",'Guia de BTC'!AJ:AJ,IF($C$3=\"Taxa Média De Aluguel\",'Guia de BTC'!AN:AN,\"\"))))))))),MATCH(C334,'Guia de BTC'!C:C,0)),\"\"))","v":""},"",""]
[null,{"$f":"IFERROR(RANK(E335,$E$5:$E$400)+COUNTIF($E$5:E335,E335)-1,\"\")","v":""},{"$f":"IF('Guia de BTC'!C337=0,\"\",'Guia de BTC'!C337)","v":""},null,{"$f":"IF(C335=\"\",\"\",IFERROR(INDEX(IF($C$3=\"% IBOV\",'Guia de BTC'!H:H,IF($C$3=\"% Float Alugado\",'Guia de BTC'!R:R,IF($C$3=\"Valor Alugado\",'Guia de BTC'!T:T,IF($C$3=\"Volume Médio\",'Guia de BTC'!Y:Y,IF($C$3=\"Dias de Giro\",'Guia de BTC'!Z:Z,IF($C$3=\"Aluguel vs Vista\",'Guia de BTC'!AF:AF,IF($C$3=\"Ações Alugadas\",'Guia de BTC'!AD:AD,IF($C$3=\"▲ de 1 dia\",'Guia de BTC'!AJ:AJ,IF($C$3=\"Taxa Média De Aluguel\",'Guia de BTC'!AN:AN,\"\"))))))))),MATCH(C335,'Guia de BTC'!C:C,0)),\"\"))","v":""},"",""]
[null,{"$f":"IFERROR(RANK(E336,$E$5:$E$400)+COUNTIF($E$5:E336,E336)-1,\"\")","v":""},{"$f":"IF('Guia de BTC'!C338=0,\"\",'Guia de BTC'!C338)","v":""},null,{"$f":"IF(C336=\"\",\"\",IFERROR(INDEX(IF($C$3=\"% IBOV\",'Guia de BTC'!H:H,IF($C$3=\"% Float Alugado\",'Guia de BTC'!R:R,IF($C$3=\"Valor Alugado\",'Guia de BTC'!T:T,IF($C$3=\"Volume Médio\",'Guia de BTC'!Y:Y,IF($C$3=\"Dias de Giro\",'Guia de BTC'!Z:Z,IF($C$3=\"Aluguel vs Vista\",'Guia de BTC'!AF:AF,IF($C$3=\"Ações Alugadas\",'Guia de BTC'!AD:AD,IF($C$3=\"▲ de 1 dia\",'Guia de BTC'!AJ:AJ,IF($C$3=\"Taxa Média De Aluguel\",'Guia de BTC'!AN:AN,\"\"))))))))),MATCH(C336,'Guia de BTC'!C:C,0)),\"\"))","v":""},"",""]
[null,{"$f":"IFERROR(RANK(E337,$E$5:$E$400)+COUNTIF($E$5:E337,E337)-1,\"\")","v":""},{"$f":"IF('Guia de BTC'!C339=0,\"\",'Guia de BTC'!C339)","v":""},null,{"$f":"IF(C337=\"\",\"\",IFERROR(INDEX(IF($C$3=\"% IBOV\",'Guia de BTC'!H:H,IF($C$3=\"% Float Alugado\",'Guia de BTC'!R:R,IF($C$3=\"Valor Alugado\",'Guia de BTC'!T:T,IF($C$3=\"Volume Médio\",'Guia de BTC'!Y:Y,IF($C$3=\"Dias de Giro\",'Guia de BTC'!Z:Z,IF($C$3=\"Aluguel vs Vista\",'Guia de BTC'!AF:AF,IF($C$3=\"Ações Alugadas\",'Guia de BTC'!AD:AD,IF($C$3=\"▲ de 1 dia\",'Guia de BTC'!AJ:AJ,IF($C$3=\"Taxa Média De Aluguel\",'Guia de BTC'!AN:AN,\"\"))))))))),MATCH(C337,'Guia de BTC'!C:C,0)),\"\"))","v":""},"",""]
[null,{"$f":"IFERROR(RANK(E338,$E$5:$E$400)+COUNTIF($E$5:E338,E338)-1,\"\")","v":""},{"$f":"IF('Guia de BTC'!C340=0,\"\",'Guia de BTC'!C340)","v":""},null,{"$f":"IF(C338=\"\",\"\",IFERROR(INDEX(IF($C$3=\"% IBOV\",'Guia de BTC'!H:H,IF($C$3=\"% Float Alugado\",'Guia de BTC'!R:R,IF($C$3=\"Valor Alugado\",'Guia de BTC'!T:T,IF($C$3=\"Volume Médio\",'Guia de BTC'!Y:Y,IF($C$3=\"Dias de Giro\",'Guia de BTC'!Z:Z,IF($C$3=\"Aluguel vs Vista\",'Guia de BTC'!AF:AF,IF($C$3=\"Ações Alugadas\",'Guia de BTC'!AD:AD,IF($C$3=\"▲ de 1 dia\",'Guia de BTC'!AJ:AJ,IF($C$3=\"Taxa Média De Aluguel\",'Guia de BTC'!AN:AN,\"\"))))))))),MATCH(C338,'Guia de BTC'!C:C,0)),\"\"))","v":""},"",""]
[null,{"$f":"IFERROR(RANK(E339,$E$5:$E$400)+COUNTIF($E$5:E339,E339)-1,\"\")","v":""},{"$f":"IF('Guia de BTC'!C341=0,\"\",'Guia de BTC'!C341)","v":""},null,{"$f":"IF(C339=\"\",\"\",IFERROR(INDEX(IF($C$3=\"% IBOV\",'Guia de BTC'!H:H,IF($C$3=\"% Float Alugado\",'Guia de BTC'!R:R,IF($C$3=\"Valor Alugado\",'Guia de BTC'!T:T,IF($C$3=\"Volume Médio\",'Guia de BTC'!Y:Y,IF($C$3=\"Dias de Giro\",'Guia de BTC'!Z:Z,IF($C$3=\"Aluguel vs Vista\",'Guia de BTC'!AF:AF,IF($C$3=\"Ações Alugadas\",'Guia de BTC'!AD:AD,IF($C$3=\"▲ de 1 dia\",'Guia de BTC'!AJ:AJ,IF($C$3=\"Taxa Média De Aluguel\",'Guia de BTC'!AN:AN,\"\"))))))))),MATCH(C339,'Guia de BTC'!C:C,0)),\"\"))","v":""},"",""]
[null,{"$f":"IFERROR(RANK(E340,$E$5:$E$400)+COUNTIF($E$5:E340,E340)-1,\"\")","v":""},{"$f":"IF('Guia de BTC'!C342=0,\"\",'Guia de BTC'!C342)","v":""},null,{"$f":"IF(C340=\"\",\"\",IFERROR(INDEX(IF($C$3=\"% IBOV\",'Guia de BTC'!H:H,IF($C$3=\"% Float Alugado\",'Guia de BTC'!R:R,IF($C$3=\"Valor Alugado\",'Guia de BTC'!T:T,IF($C$3=\"Volume Médio\",'Guia de BTC'!Y:Y,IF($C$3=\"Dias de Giro\",'Guia de BTC'!Z:Z,IF($C$3=\"Aluguel vs Vista\",'Guia de BTC'!AF:AF,IF($C$3=\"Ações Alugadas\",'Guia de BTC'!AD:AD,IF($C$3=\"▲ de 1 dia\",'Guia de BTC'!AJ:AJ,IF($C$3=\"Taxa Média De Aluguel\",'Guia de BTC'!AN:AN,\"\"))))))))),MATCH(C340,'Guia de BTC'!C:C,0)),\"\"))","v":""},"",""]
[null,{"$f":"IFERROR(RANK(E341,$E$5:$E$400)+COUNTIF($E$5:E341,E341)-1,\"\")","v":""},{"$f":"IF('Guia de BTC'!C343=0,\"\",'Guia de BTC'!C343)","v":""},null,{"$f":"IF(C341=\"\",\"\",IFERROR(INDEX(IF($C$3=\"% IBOV\",'Guia de BTC'!H:H,IF($C$3=\"% Float Alugado\",'Guia de BTC'!R:R,IF($C$3=\"Valor Alugado\",'Guia de BTC'!T:T,IF($C$3=\"Volume Médio\",'Guia de BTC'!Y:Y,IF($C$3=\"Dias de Giro\",'Guia de BTC'!Z:Z,IF($C$3=\"Aluguel vs Vista\",'Guia de BTC'!AF:AF,IF($C$3=\"Ações Alugadas\",'Guia de BTC'!AD:AD,IF($C$3=\"▲ de 1 dia\",'Guia de BTC'!AJ:AJ,IF($C$3=\"Taxa Média De Aluguel\",'Guia de BTC'!AN:AN,\"\"))))))))),MATCH(C341,'Guia de BTC'!C:C,0)),\"\"))","v":""},"",""]
[null,{"$f":"IFERROR(RANK(E342,$E$5:$E$400)+COUNTIF($E$5:E342,E342)-1,\"\")","v":""},{"$f":"IF('Guia de BTC'!C344=0,\"\",'Guia de BTC'!C344)","v":""},null,{"$f":"IF(C342=\"\",\"\",IFERROR(INDEX(IF($C$3=\"% IBOV\",'Guia de BTC'!H:H,IF($C$3=\"% Float Alugado\",'Guia de BTC'!R:R,IF($C$3=\"Valor Alugado\",'Guia de BTC'!T:T,IF($C$3=\"Volume Médio\",'Guia de BTC'!Y:Y,IF($C$3=\"Dias de Giro\",'Guia de BTC'!Z:Z,IF($C$3=\"Aluguel vs Vista\",'Guia de BTC'!AF:AF,IF($C$3=\"Ações Alugadas\",'Guia de BTC'!AD:AD,IF($C$3=\"▲ de 1 dia\",'Guia de BTC'!AJ:AJ,IF($C$3=\"Taxa Média De Aluguel\",'Guia de BTC'!AN:AN,\"\"))))))))),MATCH(C342,'Guia de BTC'!C:C,0)),\"\"))","v":""},"",""]
[null,{"$f":"IFERROR(RANK(E343,$E$5:$E$400)+COUNTIF($E$5:E343,E343)-1,\"\")","v":""},{"$f":"IF('Guia de BTC'!C345=0,\"\",'Guia de BTC'!C345)","v":""},null,{"$f":"IF(C343=\"\",\"\",IFERROR(INDEX(IF($C$3=\"% IBOV\",'Guia de BTC'!H:H,IF($C$3=\"% Float Alugado\",'Guia de BTC'!R:R,IF($C$3=\"Valor Alugado\",'Guia de BTC'!T:T,IF($C$3=\"Volume Médio\",'Guia de BTC'!Y:Y,IF($C$3=\"Dias de Giro\",'Guia de BTC'!Z:Z,IF($C$3=\"Aluguel vs Vista\",'Guia de BTC'!AF:AF,IF($C$3=\"Ações Alugadas\",'Guia de BTC'!AD:AD,IF($C$3=\"▲ de 1 dia\",'Guia de BTC'!AJ:AJ,IF($C$3=\"Taxa Média De Aluguel\",'Guia de BTC'!AN:AN,\"\"))))))))),MATCH(C343,'Guia de BTC'!C:C,0)),\"\"))","v":""},"",""]
[null,{"$f":"IFERROR(RANK(E344,$E$5:$E$400)+COUNTIF($E$5:E344,E344)-1,\"\")","v":""},{"$f":"IF('Guia de BTC'!C346=0,\"\",'Guia de BTC'!C346)","v":""},null,{"$f":"IF(C344=\"\",\"\",IFERROR(INDEX(IF($C$3=\"% IBOV\",'Guia de BTC'!H:H,IF($C$3=\"% Float Alugado\",'Guia de BTC'!R:R,IF($C$3=\"Valor Alugado\",'Guia de BTC'!T:T,IF($C$3=\"Volume Médio\",'Guia de BTC'!Y:Y,IF($C$3=\"Dias de Giro\",'Guia de BTC'!Z:Z,IF($C$3=\"Aluguel vs Vista\",'Guia de BTC'!AF:AF,IF($C$3=\"Ações Alugadas\",'Guia de BTC'!AD:AD,IF($C$3=\"▲ de 1 dia\",'Guia de BTC'!AJ:AJ,IF($C$3=\"Taxa Média De Aluguel\",'Guia de BTC'!AN:AN,\"\"))))))))),MATCH(C344,'Guia de BTC'!C:C,0)),\"\"))","v":""},"",""]
[null,{"$f":"IFERROR(RANK(E345,$E$5:$E$400)+COUNTIF($E$5:E345,E345)-1,\"\")","v":""},{"$f":"IF('Guia de BTC'!C347=0,\"\",'Guia de BTC'!C347)","v":""},null,{"$f":"IF(C345=\"\",\"\",IFERROR(INDEX(IF($C$3=\"% IBOV\",'Guia de BTC'!H:H,IF($C$3=\"% Float Alugado\",'Guia de BTC'!R:R,IF($C$3=\"Valor Alugado\",'Guia de BTC'!T:T,IF($C$3=\"Volume Médio\",'Guia de BTC'!Y:Y,IF($C$3=\"Dias de Giro\",'Guia de BTC'!Z:Z,IF($C$3=\"Aluguel vs Vista\",'Guia de BTC'!AF:AF,IF($C$3=\"Ações Alugadas\",'Guia de BTC'!AD:AD,IF($C$3=\"▲ de 1 dia\",'Guia de BTC'!AJ:AJ,IF($C$3=\"Taxa Média De Aluguel\",'Guia de BTC'!AN:AN,\"\"))))))))),MATCH(C345,'Guia de BTC'!C:C,0)),\"\"))","v":""},"",""]
[null,{"$f":"IFERROR(RANK(E346,$E$5:$E$400)+COUNTIF($E$5:E346,E346)-1,\"\")","v":""},{"$f":"IF('Guia de BTC'!C348=0,\"\",'Guia de BTC'!C348)","v":""},null,{"$f":"IF(C346=\"\",\"\",IFERROR(INDEX(IF($C$3=\"% IBOV\",'Guia de BTC'!H:H,IF($C$3=\"% Float Alugado\",'Guia de BTC'!R:R,IF($C$3=\"Valor Alugado\",'Guia de BTC'!T:T,IF($C$3=\"Volume Médio\",'Guia de BTC'!Y:Y,IF($C$3=\"Dias de Giro\",'Guia de BTC'!Z:Z,IF($C$3=\"Aluguel vs Vista\",'Guia de BTC'!AF:AF,IF($C$3=\"Ações Alugadas\",'Guia de BTC'!AD:AD,IF($C$3=\"▲ de 1 dia\",'Guia de BTC'!AJ:AJ,IF($C$3=\"Taxa Média De Aluguel\",'Guia de BTC'!AN:AN,\"\"))))))))),MATCH(C346,'Guia de BTC'!C:C,0)),\"\"))","v":""},"",""]
[null,{"$f":"IFERROR(RANK(E347,$E$5:$E$400)+COUNTIF($E$5:E347,E347)-1,\"\")","v":""},{"$f":"IF('Guia de BTC'!C349=0,\"\",'Guia de BTC'!C349)","v":""},null,{"$f":"IF(C347=\"\",\"\",IFERROR(INDEX(IF($C$3=\"% IBOV\",'Guia de BTC'!H:H,IF($C$3=\"% Float Alugado\",'Guia de BTC'!R:R,IF($C$3=\"Valor Alugado\",'Guia de BTC'!T:T,IF($C$3=\"Volume Médio\",'Guia de BTC'!Y:Y,IF($C$3=\"Dias de Giro\",'Guia de BTC'!Z:Z,IF($C$3=\"Aluguel vs Vista\",'Guia de BTC'!AF:AF,IF($C$3=\"Ações Alugadas\",'Guia de BTC'!AD:AD,IF($C$3=\"▲ de 1 dia\",'Guia de BTC'!AJ:AJ,IF($C$3=\"Taxa Média De Aluguel\",'Guia de BTC'!AN:AN,\"\"))))))))),MATCH(C347,'Guia de BTC'!C:C,0)),\"\"))","v":""},"",""]
[null,{"$f":"IFERROR(RANK(E348,$E$5:$E$400)+COUNTIF($E$5:E348,E348)-1,\"\")","v":""},{"$f":"IF('Guia de BTC'!C350=0,\"\",'Guia de BTC'!C350)","v":""},null,{"$f":"IF(C348=\"\",\"\",IFERROR(INDEX(IF($C$3=\"% IBOV\",'Guia de BTC'!H:H,IF($C$3=\"% Float Alugado\",'Guia de BTC'!R:R,IF($C$3=\"Valor Alugado\",'Guia de BTC'!T:T,IF($C$3=\"Volume Médio\",'Guia de BTC'!Y:Y,IF($C$3=\"Dias de Giro\",'Guia de BTC'!Z:Z,IF($C$3=\"Aluguel vs Vista\",'Guia de BTC'!AF:AF,IF($C$3=\"Ações Alugadas\",'Guia de BTC'!AD:AD,IF($C$3=\"▲ de 1 dia\",'Guia de BTC'!AJ:AJ,IF($C$3=\"Taxa Média De Aluguel\",'Guia de BTC'!AN:AN,\"\"))))))))),MATCH(C348,'Guia de BTC'!C:C,0)),\"\"))","v":""},"",""]
[null,{"$f":"IFERROR(RANK(E349,$E$5:$E$400)+COUNTIF($E$5:E349,E349)-1,\"\")","v":""},{"$f":"IF('Guia de BTC'!C351=0,\"\",'Guia de BTC'!C351)","v":""},null,{"$f":"IF(C349=\"\",\"\",IFERROR(INDEX(IF($C$3=\"% IBOV\",'Guia de BTC'!H:H,IF($C$3=\"% Float Alugado\",'Guia de BTC'!R:R,IF($C$3=\"Valor Alugado\",'Guia de BTC'!T:T,IF($C$3=\"Volume Médio\",'Guia de BTC'!Y:Y,IF($C$3=\"Dias de Giro\",'Guia de BTC'!Z:Z,IF($C$3=\"Aluguel vs Vista\",'Guia de BTC'!AF:AF,IF($C$3=\"Ações Alugadas\",'Guia de BTC'!AD:AD,IF($C$3=\"▲ de 1 dia\",'Guia de BTC'!AJ:AJ,IF($C$3=\"Taxa Média De Aluguel\",'Guia de BTC'!AN:AN,\"\"))))))))),MATCH(C349,'Guia de BTC'!C:C,0)),\"\"))","v":""},"",""]
[null,{"$f":"IFERROR(RANK(E350,$E$5:$E$400)+COUNTIF($E$5:E350,E350)-1,\"\")","v":""},{"$f":"IF('Guia de BTC'!C352=0,\"\",'Guia de BTC'!C352)","v":""},null,{"$f":"IF(C350=\"\",\"\",IFERROR(INDEX(IF($C$3=\"% IBOV\",'Guia de BTC'!H:H,IF($C$3=\"% Float Alugado\",'Guia de BTC'!R:R,IF($C$3=\"Valor Alugado\",'Guia de BTC'!T:T,IF($C$3=\"Volume Médio\",'Guia de BTC'!Y:Y,IF($C$3=\"Dias de Giro\",'Guia de BTC'!Z:Z,IF($C$3=\"Aluguel vs Vista\",'Guia de BTC'!AF:AF,IF($C$3=\"Ações Alugadas\",'Guia de BTC'!AD:AD,IF($C$3=\"▲ de 1 dia\",'Guia de BTC'!AJ:AJ,IF($C$3=\"Taxa Média De Aluguel\",'Guia de BTC'!AN:AN,\"\"))))))))),MATCH(C350,'Guia de BTC'!C:C,0)),\"\"))","v":""},"",""]
[null,{"$f":"IFERROR(RANK(E351,$E$5:$E$400)+COUNTIF($E$5:E351,E351)-1,\"\")","v":""},{"$f":"IF('Guia de BTC'!C353=0,\"\",'Guia de BTC'!C353)","v":""},null,{"$f":"IF(C351=\"\",\"\",IFERROR(INDEX(IF($C$3=\"% IBOV\",'Guia de BTC'!H:H,IF($C$3=\"% Float Alugado\",'Guia de BTC'!R:R,IF($C$3=\"Valor Alugado\",'Guia de BTC'!T:T,IF($C$3=\"Volume Médio\",'Guia de BTC'!Y:Y,IF($C$3=\"Dias de Giro\",'Guia de BTC'!Z:Z,IF($C$3=\"Aluguel vs Vista\",'Guia de BTC'!AF:AF,IF($C$3=\"Ações Alugadas\",'Guia de BTC'!AD:AD,IF($C$3=\"▲ de 1 dia\",'Guia de BTC'!AJ:AJ,IF($C$3=\"Taxa Média De Aluguel\",'Guia de BTC'!AN:AN,\"\"))))))))),MATCH(C351,'Guia de BTC'!C:C,0)),\"\"))","v":""},"",""]
[null,{"$f":"IFERROR(RANK(E352,$E$5:$E$400)+COUNTIF($E$5:E352,E352)-1,\"\")","v":""},{"$f":"IF('Guia de BTC'!C354=0,\"\",'Guia de BTC'!C354)","v":""},null,{"$f":"IF(C352=\"\",\"\",IFERROR(INDEX(IF($C$3=\"% IBOV\",'Guia de BTC'!H:H,IF($C$3=\"% Float Alugado\",'Guia de BTC'!R:R,IF($C$3=\"Valor Alugado\",'Guia de BTC'!T:T,IF($C$3=\"Volume Médio\",'Guia de BTC'!Y:Y,IF($C$3=\"Dias de Giro\",'Guia de BTC'!Z:Z,IF($C$3=\"Aluguel vs Vista\",'Guia de BTC'!AF:AF,IF($C$3=\"Ações Alugadas\",'Guia de BTC'!AD:AD,IF($C$3=\"▲ de 1 dia\",'Guia de BTC'!AJ:AJ,IF($C$3=\"Taxa Média De Aluguel\",'Guia de BTC'!AN:AN,\"\"))))))))),MATCH(C352,'Guia de BTC'!C:C,0)),\"\"))","v":""},"",""]
[null,{"$f":"IFERROR(RANK(E353,$E$5:$E$400)+COUNTIF($E$5:E353,E353)-1,\"\")","v":""},{"$f":"IF('Guia de BTC'!C355=0,\"\",'Guia de BTC'!C355)","v":""},null,{"$f":"IF(C353=\"\",\"\",IFERROR(INDEX(IF($C$3=\"% IBOV\",'Guia de BTC'!H:H,IF($C$3=\"% Float Alugado\",'Guia de BTC'!R:R,IF($C$3=\"Valor Alugado\",'Guia de BTC'!T:T,IF($C$3=\"Volume Médio\",'Guia de BTC'!Y:Y,IF($C$3=\"Dias de Giro\",'Guia de BTC'!Z:Z,IF($C$3=\"Aluguel vs Vista\",'Guia de BTC'!AF:AF,IF($C$3=\"Ações Alugadas\",'Guia de BTC'!AD:AD,IF($C$3=\"▲ de 1 dia\",'Guia de BTC'!AJ:AJ,IF($C$3=\"Taxa Média De Aluguel\",'Guia de BTC'!AN:AN,\"\"))))))))),MATCH(C353,'Guia de BTC'!C:C,0)),\"\"))","v":""},"",""]
[null,{"$f":"IFERROR(RANK(E354,$E$5:$E$400)+COUNTIF($E$5:E354,E354)-1,\"\")","v":""},{"$f":"IF('Guia de BTC'!C356=0,\"\",'Guia de BTC'!C356)","v":""},null,{"$f":"IF(C354=\"\",\"\",IFERROR(INDEX(IF($C$3=\"% IBOV\",'Guia de BTC'!H:H,IF($C$3=\"% Float Alugado\",'Guia de BTC'!R:R,IF($C$3=\"Valor Alugado\",'Guia de BTC'!T:T,IF($C$3=\"Volume Médio\",'Guia de BTC'!Y:Y,IF($C$3=\"Dias de Giro\",'Guia de BTC'!Z:Z,IF($C$3=\"Aluguel vs Vista\",'Guia de BTC'!AF:AF,IF($C$3=\"Ações Alugadas\",'Guia de BTC'!AD:AD,IF($C$3=\"▲ de 1 dia\",'Guia de BTC'!AJ:AJ,IF($C$3=\"Taxa Média De Aluguel\",'Guia de BTC'!AN:AN,\"\"))))))))),MATCH(C354,'Guia de BTC'!C:C,0)),\"\"))","v":""},"",""]
[null,{"$f":"IFERROR(RANK(E355,$E$5:$E$400)+COUNTIF($E$5:E355,E355)-1,\"\")","v":""},{"$f":"IF('Guia de BTC'!C357=0,\"\",'Guia de BTC'!C357)","v":""},null,{"$f":"IF(C355=\"\",\"\",IFERROR(INDEX(IF($C$3=\"% IBOV\",'Guia de BTC'!H:H,IF($C$3=\"% Float Alugado\",'Guia de BTC'!R:R,IF($C$3=\"Valor Alugado\",'Guia de BTC'!T:T,IF($C$3=\"Volume Médio\",'Guia de BTC'!Y:Y,IF($C$3=\"Dias de Giro\",'Guia de BTC'!Z:Z,IF($C$3=\"Aluguel vs Vista\",'Guia de BTC'!AF:AF,IF($C$3=\"Ações Alugadas\",'Guia de BTC'!AD:AD,IF($C$3=\"▲ de 1 dia\",'Guia de BTC'!AJ:AJ,IF($C$3=\"Taxa Média De Aluguel\",'Guia de BTC'!AN:AN,\"\"))))))))),MATCH(C355,'Guia de BTC'!C:C,0)),\"\"))","v":""},"",""]
[null,{"$f":"IFERROR(RANK(E356,$E$5:$E$400)+COUNTIF($E$5:E356,E356)-1,\"\")","v":""},{"$f":"IF('Guia de BTC'!C358=0,\"\",'Guia de BTC'!C358)","v":""},null,{"$f":"IF(C356=\"\",\"\",IFERROR(INDEX(IF($C$3=\"% IBOV\",'Guia de BTC'!H:H,IF($C$3=\"% Float Alugado\",'Guia de BTC'!R:R,IF($C$3=\"Valor Alugado\",'Guia de BTC'!T:T,IF($C$3=\"Volume Médio\",'Guia de BTC'!Y:Y,IF($C$3=\"Dias de Giro\",'Guia de BTC'!Z:Z,IF($C$3=\"Aluguel vs Vista\",'Guia de BTC'!AF:AF,IF($C$3=\"Ações Alugadas\",'Guia de BTC'!AD:AD,IF($C$3=\"▲ de 1 dia\",'Guia de BTC'!AJ:AJ,IF($C$3=\"Taxa Média De Aluguel\",'Guia de BTC'!AN:AN,\"\"))))))))),MATCH(C356,'Guia de BTC'!C:C,0)),\"\"))","v":""},"",""]
[null,{"$f":"IFERROR(RANK(E357,$E$5:$E$400)+COUNTIF($E$5:E357,E357)-1,\"\")","v":""},{"$f":"IF('Guia de BTC'!C359=0,\"\",'Guia de BTC'!C359)","v":""},null,{"$f":"IF(C357=\"\",\"\",IFERROR(INDEX(IF($C$3=\"% IBOV\",'Guia de BTC'!H:H,IF($C$3=\"% Float Alugado\",'Guia de BTC'!R:R,IF($C$3=\"Valor Alugado\",'Guia de BTC'!T:T,IF($C$3=\"Volume Médio\",'Guia de BTC'!Y:Y,IF($C$3=\"Dias de Giro\",'Guia de BTC'!Z:Z,IF($C$3=\"Aluguel vs Vista\",'Guia de BTC'!AF:AF,IF($C$3=\"Ações Alugadas\",'Guia de BTC'!AD:AD,IF($C$3=\"▲ de 1 dia\",'Guia de BTC'!AJ:AJ,IF($C$3=\"Taxa Média De Aluguel\",'Guia de BTC'!AN:AN,\"\"))))))))),MATCH(C357,'Guia de BTC'!C:C,0)),\"\"))","v":""},"",""]
[null,{"$f":"IFERROR(RANK(E358,$E$5:$E$400)+COUNTIF($E$5:E358,E358)-1,\"\")","v":""},{"$f":"IF('Guia de BTC'!C360=0,\"\",'Guia de BTC'!C360)","v":""},null,{"$f":"IF(C358=\"\",\"\",IFERROR(INDEX(IF($C$3=\"% IBOV\",'Guia de BTC'!H:H,IF($C$3=\"% Float Alugado\",'Guia de BTC'!R:R,IF($C$3=\"Valor Alugado\",'Guia de BTC'!T:T,IF($C$3=\"Volume Médio\",'Guia de BTC'!Y:Y,IF($C$3=\"Dias de Giro\",'Guia de BTC'!Z:Z,IF($C$3=\"Aluguel vs Vista\",'Guia de BTC'!AF:AF,IF($C$3=\"Ações Alugadas\",'Guia de BTC'!AD:AD,IF($C$3=\"▲ de 1 dia\",'Guia de BTC'!AJ:AJ,IF($C$3=\"Taxa Média De Aluguel\",'Guia de BTC'!AN:AN,\"\"))))))))),MATCH(C358,'Guia de BTC'!C:C,0)),\"\"))","v":""},"",""]
[null,{"$f":"IFERROR(RANK(E359,$E$5:$E$400)+COUNTIF($E$5:E359,E359)-1,\"\")","v":""},{"$f":"IF('Guia de BTC'!C361=0,\"\",'Guia de BTC'!C361)","v":""},null,{"$f":"IF(C359=\"\",\"\",IFERROR(INDEX(IF($C$3=\"% IBOV\",'Guia de BTC'!H:H,IF($C$3=\"% Float Alugado\",'Guia de BTC'!R:R,IF($C$3=\"Valor Alugado\",'Guia de BTC'!T:T,IF($C$3=\"Volume Médio\",'Guia de BTC'!Y:Y,IF($C$3=\"Dias de Giro\",'Guia de BTC'!Z:Z,IF($C$3=\"Aluguel vs Vista\",'Guia de BTC'!AF:AF,IF($C$3=\"Ações Alugadas\",'Guia de BTC'!AD:AD,IF($C$3=\"▲ de 1 dia\",'Guia de BTC'!AJ:AJ,IF($C$3=\"Taxa Média De Aluguel\",'Guia de BTC'!AN:AN,\"\"))))))))),MATCH(C359,'Guia de BTC'!C:C,0)),\"\"))","v":""},"",""]
[null,{"$f":"IFERROR(RANK(E360,$E$5:$E$400)+COUNTIF($E$5:E360,E360)-1,\"\")","v":""},{"$f":"IF('Guia de BTC'!C362=0,\"\",'Guia de BTC'!C362)","v":""},null,{"$f":"IF(C360=\"\",\"\",IFERROR(INDEX(IF($C$3=\"% IBOV\",'Guia de BTC'!H:H,IF($C$3=\"% Float Alugado\",'Guia de BTC'!R:R,IF($C$3=\"Valor Alugado\",'Guia de BTC'!T:T,IF($C$3=\"Volume Médio\",'Guia de BTC'!Y:Y,IF($C$3=\"Dias de Giro\",'Guia de BTC'!Z:Z,IF($C$3=\"Aluguel vs Vista\",'Guia de BTC'!AF:AF,IF($C$3=\"Ações Alugadas\",'Guia de BTC'!AD:AD,IF($C$3=\"▲ de 1 dia\",'Guia de BTC'!AJ:AJ,IF($C$3=\"Taxa Média De Aluguel\",'Guia de BTC'!AN:AN,\"\"))))))))),MATCH(C360,'Guia de BTC'!C:C,0)),\"\"))","v":""},"",""]
[null,{"$f":"IFERROR(RANK(E361,$E$5:$E$400)+COUNTIF($E$5:E361,E361)-1,\"\")","v":""},{"$f":"IF('Guia de BTC'!C363=0,\"\",'Guia de BTC'!C363)","v":""},null,{"$f":"IF(C361=\"\",\"\",IFERROR(INDEX(IF($C$3=\"% IBOV\",'Guia de BTC'!H:H,IF($C$3=\"% Float Alugado\",'Guia de BTC'!R:R,IF($C$3=\"Valor Alugado\",'Guia de BTC'!T:T,IF($C$3=\"Volume Médio\",'Guia de BTC'!Y:Y,IF($C$3=\"Dias de Giro\",'Guia de BTC'!Z:Z,IF($C$3=\"Aluguel vs Vista\",'Guia de BTC'!AF:AF,IF($C$3=\"Ações Alugadas\",'Guia de BTC'!AD:AD,IF($C$3=\"▲ de 1 dia\",'Guia de BTC'!AJ:AJ,IF($C$3=\"Taxa Média De Aluguel\",'Guia de BTC'!AN:AN,\"\"))))))))),MATCH(C361,'Guia de BTC'!C:C,0)),\"\"))","v":""},"",""]
[null,{"$f":"IFERROR(RANK(E362,$E$5:$E$400)+COUNTIF($E$5:E362,E362)-1,\"\")","v":""},{"$f":"IF('Guia de BTC'!C364=0,\"\",'Guia de BTC'!C364)","v":""},null,{"$f":"IF(C362=\"\",\"\",IFERROR(INDEX(IF($C$3=\"% IBOV\",'Guia de BTC'!H:H,IF($C$3=\"% Float Alugado\",'Guia de BTC'!R:R,IF($C$3=\"Valor Alugado\",'Guia de BTC'!T:T,IF($C$3=\"Volume Médio\",'Guia de BTC'!Y:Y,IF($C$3=\"Dias de Giro\",'Guia de BTC'!Z:Z,IF($C$3=\"Aluguel vs Vista\",'Guia de BTC'!AF:AF,IF($C$3=\"Ações Alugadas\",'Guia de BTC'!AD:AD,IF($C$3=\"▲ de 1 dia\",'Guia de BTC'!AJ:AJ,IF($C$3=\"Taxa Média De Aluguel\",'Guia de BTC'!AN:AN,\"\"))))))))),MATCH(C362,'Guia de BTC'!C:C,0)),\"\"))","v":""},"",""]
[null,{"$f":"IFERROR(RANK(E363,$E$5:$E$400)+COUNTIF($E$5:E363,E363)-1,\"\")","v":""},{"$f":"IF('Guia de BTC'!C365=0,\"\",'Guia de BTC'!C365)","v":""},null,{"$f":"IF(C363=\"\",\"\",IFERROR(INDEX(IF($C$3=\"% IBOV\",'Guia de BTC'!H:H,IF($C$3=\"% Float Alugado\",'Guia de BTC'!R:R,IF($C$3=\"Valor Alugado\",'Guia de BTC'!T:T,IF($C$3=\"Volume Médio\",'Guia de BTC'!Y:Y,IF($C$3=\"Dias de Giro\",'Guia de BTC'!Z:Z,IF($C$3=\"Aluguel vs Vista\",'Guia de BTC'!AF:AF,IF($C$3=\"Ações Alugadas\",'Guia de BTC'!AD:AD,IF($C$3=\"▲ de 1 dia\",'Guia de BTC'!AJ:AJ,IF($C$3=\"Taxa Média De Aluguel\",'Guia de BTC'!AN:AN,\"\"))))))))),MATCH(C363,'Guia de BTC'!C:C,0)),\"\"))","v":""},"",""]
[null,{"$f":"IFERROR(RANK(E364,$E$5:$E$400)+COUNTIF($E$5:E364,E364)-1,\"\")","v":""},{"$f":"IF('Guia de BTC'!C366=0,\"\",'Guia de BTC'!C366)","v":""},null,{"$f":"IF(C364=\"\",\"\",IFERROR(INDEX(IF($C$3=\"% IBOV\",'Guia de BTC'!H:H,IF($C$3=\"% Float Alugado\",'Guia de BTC'!R:R,IF($C$3=\"Valor Alugado\",'Guia de BTC'!T:T,IF($C$3=\"Volume Médio\",'Guia de BTC'!Y:Y,IF($C$3=\"Dias de Giro\",'Guia de BTC'!Z:Z,IF($C$3=\"Aluguel vs Vista\",'Guia de BTC'!AF:AF,IF($C$3=\"Ações Alugadas\",'Guia de BTC'!AD:AD,IF($C$3=\"▲ de 1 dia\",'Guia de BTC'!AJ:AJ,IF($C$3=\"Taxa Média De Aluguel\",'Guia de BTC'!AN:AN,\"\"))))))))),MATCH(C364,'Guia de BTC'!C:C,0)),\"\"))","v":""},"",""]
[null,{"$f":"IFERROR(RANK(E365,$E$5:$E$400)+COUNTIF($E$5:E365,E365)-1,\"\")","v":""},{"$f":"IF('Guia de BTC'!C367=0,\"\",'Guia de BTC'!C367)","v":""},null,{"$f":"IF(C365=\"\",\"\",IFERROR(INDEX(IF($C$3=\"% IBOV\",'Guia de BTC'!H:H,IF($C$3=\"% Float Alugado\",'Guia de BTC'!R:R,IF($C$3=\"Valor Alugado\",'Guia de BTC'!T:T,IF($C$3=\"Volume Médio\",'Guia de BTC'!Y:Y,IF($C$3=\"Dias de Giro\",'Guia de BTC'!Z:Z,IF($C$3=\"Aluguel vs Vista\",'Guia de BTC'!AF:AF,IF($C$3=\"Ações Alugadas\",'Guia de BTC'!AD:AD,IF($C$3=\"▲ de 1 dia\",'Guia de BTC'!AJ:AJ,IF($C$3=\"Taxa Média De Aluguel\",'Guia de BTC'!AN:AN,\"\"))))))))),MATCH(C365,'Guia de BTC'!C:C,0)),\"\"))","v":""},"",""]
[null,{"$f":"IFERROR(RANK(E366,$E$5:$E$400)+COUNTIF($E$5:E366,E366)-1,\"\")","v":""},{"$f":"IF('Guia de BTC'!C368=0,\"\",'Guia de BTC'!C368)","v":""},null,{"$f":"IF(C366=\"\",\"\",IFERROR(INDEX(IF($C$3=\"% IBOV\",'Guia de BTC'!H:H,IF($C$3=\"% Float Alugado\",'Guia de BTC'!R:R,IF($C$3=\"Valor Alugado\",'Guia de BTC'!T:T,IF($C$3=\"Volume Médio\",'Guia de BTC'!Y:Y,IF($C$3=\"Dias de Giro\",'Guia de BTC'!Z:Z,IF($C$3=\"Aluguel vs Vista\",'Guia de BTC'!AF:AF,IF($C$3=\"Ações Alugadas\",'Guia de BTC'!AD:AD,IF($C$3=\"▲ de 1 dia\",'Guia de BTC'!AJ:AJ,IF($C$3=\"Taxa Média De Aluguel\",'Guia de BTC'!AN:AN,\"\"))))))))),MATCH(C366,'Guia de BTC'!C:C,0)),\"\"))","v":""},"",""]
[null,{"$f":"IFERROR(RANK(E367,$E$5:$E$400)+COUNTIF($E$5:E367,E367)-1,\"\")","v":""},{"$f":"IF('Guia de BTC'!C369=0,\"\",'Guia de BTC'!C369)","v":""},null,{"$f":"IF(C367=\"\",\"\",IFERROR(INDEX(IF($C$3=\"% IBOV\",'Guia de BTC'!H:H,IF($C$3=\"% Float Alugado\",'Guia de BTC'!R:R,IF($C$3=\"Valor Alugado\",'Guia de BTC'!T:T,IF($C$3=\"Volume Médio\",'Guia de BTC'!Y:Y,IF($C$3=\"Dias de Giro\",'Guia de BTC'!Z:Z,IF($C$3=\"Aluguel vs Vista\",'Guia de BTC'!AF:AF,IF($C$3=\"Ações Alugadas\",'Guia de BTC'!AD:AD,IF($C$3=\"▲ de 1 dia\",'Guia de BTC'!AJ:AJ,IF($C$3=\"Taxa Média De Aluguel\",'Guia de BTC'!AN:AN,\"\"))))))))),MATCH(C367,'Guia de BTC'!C:C,0)),\"\"))","v":""},"",""]
[null,{"$f":"IFERROR(RANK(E368,$E$5:$E$400)+COUNTIF($E$5:E368,E368)-1,\"\")","v":""},{"$f":"IF('Guia de BTC'!C370=0,\"\",'Guia de BTC'!C370)","v":""},null,{"$f":"IF(C368=\"\",\"\",IFERROR(INDEX(IF($C$3=\"% IBOV\",'Guia de BTC'!H:H,IF($C$3=\"% Float Alugado\",'Guia de BTC'!R:R,IF($C$3=\"Valor Alugado\",'Guia de BTC'!T:T,IF($C$3=\"Volume Médio\",'Guia de BTC'!Y:Y,IF($C$3=\"Dias de Giro\",'Guia de BTC'!Z:Z,IF($C$3=\"Aluguel vs Vista\",'Guia de BTC'!AF:AF,IF($C$3=\"Ações Alugadas\",'Guia de BTC'!AD:AD,IF($C$3=\"▲ de 1 dia\",'Guia de BTC'!AJ:AJ,IF($C$3=\"Taxa Média De Aluguel\",'Guia de BTC'!AN:AN,\"\"))))))))),MATCH(C368,'Guia de BTC'!C:C,0)),\"\"))","v":""},"",""]
[null,{"$f":"IFERROR(RANK(E369,$E$5:$E$400)+COUNTIF($E$5:E369,E369)-1,\"\")","v":""},{"$f":"IF('Guia de BTC'!C371=0,\"\",'Guia de BTC'!C371)","v":""},null,{"$f":"IF(C369=\"\",\"\",IFERROR(INDEX(IF($C$3=\"% IBOV\",'Guia de BTC'!H:H,IF($C$3=\"% Float Alugado\",'Guia de BTC'!R:R,IF($C$3=\"Valor Alugado\",'Guia de BTC'!T:T,IF($C$3=\"Volume Médio\",'Guia de BTC'!Y:Y,IF($C$3=\"Dias de Giro\",'Guia de BTC'!Z:Z,IF($C$3=\"Aluguel vs Vista\",'Guia de BTC'!AF:AF,IF($C$3=\"Ações Alugadas\",'Guia de BTC'!AD:AD,IF($C$3=\"▲ de 1 dia\",'Guia de BTC'!AJ:AJ,IF($C$3=\"Taxa Média De Aluguel\",'Guia de BTC'!AN:AN,\"\"))))))))),MATCH(C369,'Guia de BTC'!C:C,0)),\"\"))","v":""},"",""]
[null,{"$f":"IFERROR(RANK(E370,$E$5:$E$400)+COUNTIF($E$5:E370,E370)-1,\"\")","v":""},{"$f":"IF('Guia de BTC'!C372=0,\"\",'Guia de BTC'!C372)","v":""},null,{"$f":"IF(C370=\"\",\"\",IFERROR(INDEX(IF($C$3=\"% IBOV\",'Guia de BTC'!H:H,IF($C$3=\"% Float Alugado\",'Guia de BTC'!R:R,IF($C$3=\"Valor Alugado\",'Guia de BTC'!T:T,IF($C$3=\"Volume Médio\",'Guia de BTC'!Y:Y,IF($C$3=\"Dias de Giro\",'Guia de BTC'!Z:Z,IF($C$3=\"Aluguel vs Vista\",'Guia de BTC'!AF:AF,IF($C$3=\"Ações Alugadas\",'Guia de BTC'!AD:AD,IF($C$3=\"▲ de 1 dia\",'Guia de BTC'!AJ:AJ,IF($C$3=\"Taxa Média De Aluguel\",'Guia de BTC'!AN:AN,\"\"))))))))),MATCH(C370,'Guia de BTC'!C:C,0)),\"\"))","v":""},"",""]
[null,{"$f":"IFERROR(RANK(E371,$E$5:$E$400)+COUNTIF($E$5:E371,E371)-1,\"\")","v":""},{"$f":"IF('Guia de BTC'!C373=0,\"\",'Guia de BTC'!C373)","v":""},null,{"$f":"IF(C371=\"\",\"\",IFERROR(INDEX(IF($C$3=\"% IBOV\",'Guia de BTC'!H:H,IF($C$3=\"% Float Alugado\",'Guia de BTC'!R:R,IF($C$3=\"Valor Alugado\",'Guia de BTC'!T:T,IF($C$3=\"Volume Médio\",'Guia de BTC'!Y:Y,IF($C$3=\"Dias de Giro\",'Guia de BTC'!Z:Z,IF($C$3=\"Aluguel vs Vista\",'Guia de BTC'!AF:AF,IF($C$3=\"Ações Alugadas\",'Guia de BTC'!AD:AD,IF($C$3=\"▲ de 1 dia\",'Guia de BTC'!AJ:AJ,IF($C$3=\"Taxa Média De Aluguel\",'Guia de BTC'!AN:AN,\"\"))))))))),MATCH(C371,'Guia de BTC'!C:C,0)),\"\"))","v":""},"",""]
[null,{"$f":"IFERROR(RANK(E372,$E$5:$E$400)+COUNTIF($E$5:E372,E372)-1,\"\")","v":""},{"$f":"IF('Guia de BTC'!C374=0,\"\",'Guia de BTC'!C374)","v":""},null,{"$f":"IF(C372=\"\",\"\",IFERROR(INDEX(IF($C$3=\"% IBOV\",'Guia de BTC'!H:H,IF($C$3=\"% Float Alugado\",'Guia de BTC'!R:R,IF($C$3=\"Valor Alugado\",'Guia de BTC'!T:T,IF($C$3=\"Volume Médio\",'Guia de BTC'!Y:Y,IF($C$3=\"Dias de Giro\",'Guia de BTC'!Z:Z,IF($C$3=\"Aluguel vs Vista\",'Guia de BTC'!AF:AF,IF($C$3=\"Ações Alugadas\",'Guia de BTC'!AD:AD,IF($C$3=\"▲ de 1 dia\",'Guia de BTC'!AJ:AJ,IF($C$3=\"Taxa Média De Aluguel\",'Guia de BTC'!AN:AN,\"\"))))))))),MATCH(C372,'Guia de BTC'!C:C,0)),\"\"))","v":""},"",""]
[null,{"$f":"IFERROR(RANK(E373,$E$5:$E$400)+COUNTIF($E$5:E373,E373)-1,\"\")","v":""},{"$f":"IF('Guia de BTC'!C375=0,\"\",'Guia de BTC'!C375)","v":""},null,{"$f":"IF(C373=\"\",\"\",IFERROR(INDEX(IF($C$3=\"% IBOV\",'Guia de BTC'!H:H,IF($C$3=\"% Float Alugado\",'Guia de BTC'!R:R,IF($C$3=\"Valor Alugado\",'Guia de BTC'!T:T,IF($C$3=\"Volume Médio\",'Guia de BTC'!Y:Y,IF($C$3=\"Dias de Giro\",'Guia de BTC'!Z:Z,IF($C$3=\"Aluguel vs Vista\",'Guia de BTC'!AF:AF,IF($C$3=\"Ações Alugadas\",'Guia de BTC'!AD:AD,IF($C$3=\"▲ de 1 dia\",'Guia de BTC'!AJ:AJ,IF($C$3=\"Taxa Média De Aluguel\",'Guia de BTC'!AN:AN,\"\"))))))))),MATCH(C373,'Guia de BTC'!C:C,0)),\"\"))","v":""},"",""]
[null,{"$f":"IFERROR(RANK(E374,$E$5:$E$400)+COUNTIF($E$5:E374,E374)-1,\"\")","v":""},{"$f":"IF('Guia de BTC'!C376=0,\"\",'Guia de BTC'!C376)","v":""},null,{"$f":"IF(C374=\"\",\"\",IFERROR(INDEX(IF($C$3=\"% IBOV\",'Guia de BTC'!H:H,IF($C$3=\"% Float Alugado\",'Guia de BTC'!R:R,IF($C$3=\"Valor Alugado\",'Guia de BTC'!T:T,IF($C$3=\"Volume Médio\",'Guia de BTC'!Y:Y,IF($C$3=\"Dias de Giro\",'Guia de BTC'!Z:Z,IF($C$3=\"Aluguel vs Vista\",'Guia de BTC'!AF:AF,IF($C$3=\"Ações Alugadas\",'Guia de BTC'!AD:AD,IF($C$3=\"▲ de 1 dia\",'Guia de BTC'!AJ:AJ,IF($C$3=\"Taxa Média De Aluguel\",'Guia de BTC'!AN:AN,\"\"))))))))),MATCH(C374,'Guia de BTC'!C:C,0)),\"\"))","v":""},"",""]
[null,{"$f":"IFERROR(RANK(E375,$E$5:$E$400)+COUNTIF($E$5:E375,E375)-1,\"\")","v":""},{"$f":"IF('Guia de BTC'!C377=0,\"\",'Guia de BTC'!C377)","v":""},null,{"$f":"IF(C375=\"\",\"\",IFERROR(INDEX(IF($C$3=\"% IBOV\",'Guia de BTC'!H:H,IF($C$3=\"% Float Alugado\",'Guia de BTC'!R:R,IF($C$3=\"Valor Alugado\",'Guia de BTC'!T:T,IF($C$3=\"Volume Médio\",'Guia de BTC'!Y:Y,IF($C$3=\"Dias de Giro\",'Guia de BTC'!Z:Z,IF($C$3=\"Aluguel vs Vista\",'Guia de BTC'!AF:AF,IF($C$3=\"Ações Alugadas\",'Guia de BTC'!AD:AD,IF($C$3=\"▲ de 1 dia\",'Guia de BTC'!AJ:AJ,IF($C$3=\"Taxa Média De Aluguel\",'Guia de BTC'!AN:AN,\"\"))))))))),MATCH(C375,'Guia de BTC'!C:C,0)),\"\"))","v":""},"",""]
[null,{"$f":"IFERROR(RANK(E376,$E$5:$E$400)+COUNTIF($E$5:E376,E376)-1,\"\")","v":""},{"$f":"IF('Guia de BTC'!C378=0,\"\",'Guia de BTC'!C378)","v":""},null,{"$f":"IF(C376=\"\",\"\",IFERROR(INDEX(IF($C$3=\"% IBOV\",'Guia de BTC'!H:H,IF($C$3=\"% Float Alugado\",'Guia de BTC'!R:R,IF($C$3=\"Valor Alugado\",'Guia de BTC'!T:T,IF($C$3=\"Volume Médio\",'Guia de BTC'!Y:Y,IF($C$3=\"Dias de Giro\",'Guia de BTC'!Z:Z,IF($C$3=\"Aluguel vs Vista\",'Guia de BTC'!AF:AF,IF($C$3=\"Ações Alugadas\",'Guia de BTC'!AD:AD,IF($C$3=\"▲ de 1 dia\",'Guia de BTC'!AJ:AJ,IF($C$3=\"Taxa Média De Aluguel\",'Guia de BTC'!AN:AN,\"\"))))))))),MATCH(C376,'Guia de BTC'!C:C,0)),\"\"))","v":""},"",""]
[null,{"$f":"IFERROR(RANK(E377,$E$5:$E$400)+COUNTIF($E$5:E377,E377)-1,\"\")","v":""},{"$f":"IF('Guia de BTC'!C379=0,\"\",'Guia de BTC'!C379)","v":""},null,{"$f":"IF(C377=\"\",\"\",IFERROR(INDEX(IF($C$3=\"% IBOV\",'Guia de BTC'!H:H,IF($C$3=\"% Float Alugado\",'Guia de BTC'!R:R,IF($C$3=\"Valor Alugado\",'Guia de BTC'!T:T,IF($C$3=\"Volume Médio\",'Guia de BTC'!Y:Y,IF($C$3=\"Dias de Giro\",'Guia de BTC'!Z:Z,IF($C$3=\"Aluguel vs Vista\",'Guia de BTC'!AF:AF,IF($C$3=\"Ações Alugadas\",'Guia de BTC'!AD:AD,IF($C$3=\"▲ de 1 dia\",'Guia de BTC'!AJ:AJ,IF($C$3=\"Taxa Média De Aluguel\",'Guia de BTC'!AN:AN,\"\"))))))))),MATCH(C377,'Guia de BTC'!C:C,0)),\"\"))","v":""},"",""]
[null,{"$f":"IFERROR(RANK(E378,$E$5:$E$400)+COUNTIF($E$5:E378,E378)-1,\"\")","v":""},{"$f":"IF('Guia de BTC'!C380=0,\"\",'Guia de BTC'!C380)","v":""},null,{"$f":"IF(C378=\"\",\"\",IFERROR(INDEX(IF($C$3=\"% IBOV\",'Guia de BTC'!H:H,IF($C$3=\"% Float Alugado\",'Guia de BTC'!R:R,IF($C$3=\"Valor Alugado\",'Guia de BTC'!T:T,IF($C$3=\"Volume Médio\",'Guia de BTC'!Y:Y,IF($C$3=\"Dias de Giro\",'Guia de BTC'!Z:Z,IF($C$3=\"Aluguel vs Vista\",'Guia de BTC'!AF:AF,IF($C$3=\"Ações Alugadas\",'Guia de BTC'!AD:AD,IF($C$3=\"▲ de 1 dia\",'Guia de BTC'!AJ:AJ,IF($C$3=\"Taxa Média De Aluguel\",'Guia de BTC'!AN:AN,\"\"))))))))),MATCH(C378,'Guia de BTC'!C:C,0)),\"\"))","v":""},"",""]
[null,{"$f":"IFERROR(RANK(E379,$E$5:$E$400)+COUNTIF($E$5:E379,E379)-1,\"\")","v":""},{"$f":"IF('Guia de BTC'!C381=0,\"\",'Guia de BTC'!C381)","v":""},null,{"$f":"IF(C379=\"\",\"\",IFERROR(INDEX(IF($C$3=\"% IBOV\",'Guia de BTC'!H:H,IF($C$3=\"% Float Alugado\",'Guia de BTC'!R:R,IF($C$3=\"Valor Alugado\",'Guia de BTC'!T:T,IF($C$3=\"Volume Médio\",'Guia de BTC'!Y:Y,IF($C$3=\"Dias de Giro\",'Guia de BTC'!Z:Z,IF($C$3=\"Aluguel vs Vista\",'Guia de BTC'!AF:AF,IF($C$3=\"Ações Alugadas\",'Guia de BTC'!AD:AD,IF($C$3=\"▲ de 1 dia\",'Guia de BTC'!AJ:AJ,IF($C$3=\"Taxa Média De Aluguel\",'Guia de BTC'!AN:AN,\"\"))))))))),MATCH(C379,'Guia de BTC'!C:C,0)),\"\"))","v":""},"",""]
[null,{"$f":"IFERROR(RANK(E380,$E$5:$E$400)+COUNTIF($E$5:E380,E380)-1,\"\")","v":""},{"$f":"IF('Guia de BTC'!C382=0,\"\",'Guia de BTC'!C382)","v":""},null,{"$f":"IF(C380=\"\",\"\",IFERROR(INDEX(IF($C$3=\"% IBOV\",'Guia de BTC'!H:H,IF($C$3=\"% Float Alugado\",'Guia de BTC'!R:R,IF($C$3=\"Valor Alugado\",'Guia de BTC'!T:T,IF($C$3=\"Volume Médio\",'Guia de BTC'!Y:Y,IF($C$3=\"Dias de Giro\",'Guia de BTC'!Z:Z,IF($C$3=\"Aluguel vs Vista\",'Guia de BTC'!AF:AF,IF($C$3=\"Ações Alugadas\",'Guia de BTC'!AD:AD,IF($C$3=\"▲ de 1 dia\",'Guia de BTC'!AJ:AJ,IF($C$3=\"Taxa Média De Aluguel\",'Guia de BTC'!AN:AN,\"\"))))))))),MATCH(C380,'Guia de BTC'!C:C,0)),\"\"))","v":""},"",""]
[null,{"$f":"IFERROR(RANK(E381,$E$5:$E$400)+COUNTIF($E$5:E381,E381)-1,\"\")","v":""},{"$f":"IF('Guia de BTC'!C383=0,\"\",'Guia de BTC'!C383)","v":""},null,{"$f":"IF(C381=\"\",\"\",IFERROR(INDEX(IF($C$3=\"% IBOV\",'Guia de BTC'!H:H,IF($C$3=\"% Float Alugado\",'Guia de BTC'!R:R,IF($C$3=\"Valor Alugado\",'Guia de BTC'!T:T,IF($C$3=\"Volume Médio\",'Guia de BTC'!Y:Y,IF($C$3=\"Dias de Giro\",'Guia de BTC'!Z:Z,IF($C$3=\"Aluguel vs Vista\",'Guia de BTC'!AF:AF,IF($C$3=\"Ações Alugadas\",'Guia de BTC'!AD:AD,IF($C$3=\"▲ de 1 dia\",'Guia de BTC'!AJ:AJ,IF($C$3=\"Taxa Média De Aluguel\",'Guia de BTC'!AN:AN,\"\"))))))))),MATCH(C381,'Guia de BTC'!C:C,0)),\"\"))","v":""},"",""]
[null,{"$f":"IFERROR(RANK(E382,$E$5:$E$400)+COUNTIF($E$5:E382,E382)-1,\"\")","v":""},{"$f":"IF('Guia de BTC'!C384=0,\"\",'Guia de BTC'!C384)","v":""},null,{"$f":"IF(C382=\"\",\"\",IFERROR(INDEX(IF($C$3=\"% IBOV\",'Guia de BTC'!H:H,IF($C$3=\"% Float Alugado\",'Guia de BTC'!R:R,IF($C$3=\"Valor Alugado\",'Guia de BTC'!T:T,IF($C$3=\"Volume Médio\",'Guia de BTC'!Y:Y,IF($C$3=\"Dias de Giro\",'Guia de BTC'!Z:Z,IF($C$3=\"Aluguel vs Vista\",'Guia de BTC'!AF:AF,IF($C$3=\"Ações Alugadas\",'Guia de BTC'!AD:AD,IF($C$3=\"▲ de 1 dia\",'Guia de BTC'!AJ:AJ,IF($C$3=\"Taxa Média De Aluguel\",'Guia de BTC'!AN:AN,\"\"))))))))),MATCH(C382,'Guia de BTC'!C:C,0)),\"\"))","v":""},"",""]
[null,{"$f":"IFERROR(RANK(E383,$E$5:$E$400)+COUNTIF($E$5:E383,E383)-1,\"\")","v":""},{"$f":"IF('Guia de BTC'!C385=0,\"\",'Guia de BTC'!C385)","v":""},null,{"$f":"IF(C383=\"\",\"\",IFERROR(INDEX(IF($C$3=\"% IBOV\",'Guia de BTC'!H:H,IF($C$3=\"% Float Alugado\",'Guia de BTC'!R:R,IF($C$3=\"Valor Alugado\",'Guia de BTC'!T:T,IF($C$3=\"Volume Médio\",'Guia de BTC'!Y:Y,IF($C$3=\"Dias de Giro\",'Guia de BTC'!Z:Z,IF($C$3=\"Aluguel vs Vista\",'Guia de BTC'!AF:AF,IF($C$3=\"Ações Alugadas\",'Guia de BTC'!AD:AD,IF($C$3=\"▲ de 1 dia\",'Guia de BTC'!AJ:AJ,IF($C$3=\"Taxa Média De Aluguel\",'Guia de BTC'!AN:AN,\"\"))))))))),MATCH(C383,'Guia de BTC'!C:C,0)),\"\"))","v":""},"",""]
[null,{"$f":"IFERROR(RANK(E384,$E$5:$E$400)+COUNTIF($E$5:E384,E384)-1,\"\")","v":""},{"$f":"IF('Guia de BTC'!C386=0,\"\",'Guia de BTC'!C386)","v":""},null,{"$f":"IF(C384=\"\",\"\",IFERROR(INDEX(IF($C$3=\"% IBOV\",'Guia de BTC'!H:H,IF($C$3=\"% Float Alugado\",'Guia de BTC'!R:R,IF($C$3=\"Valor Alugado\",'Guia de BTC'!T:T,IF($C$3=\"Volume Médio\",'Guia de BTC'!Y:Y,IF($C$3=\"Dias de Giro\",'Guia de BTC'!Z:Z,IF($C$3=\"Aluguel vs Vista\",'Guia de BTC'!AF:AF,IF($C$3=\"Ações Alugadas\",'Guia de BTC'!AD:AD,IF($C$3=\"▲ de 1 dia\",'Guia de BTC'!AJ:AJ,IF($C$3=\"Taxa Média De Aluguel\",'Guia de BTC'!AN:AN,\"\"))))))))),MATCH(C384,'Guia de BTC'!C:C,0)),\"\"))","v":""},"",""]
[null,{"$f":"IFERROR(RANK(E385,$E$5:$E$400)+COUNTIF($E$5:E385,E385)-1,\"\")","v":""},{"$f":"IF('Guia de BTC'!C387=0,\"\",'Guia de BTC'!C387)","v":""},null,{"$f":"IF(C385=\"\",\"\",IFERROR(INDEX(IF($C$3=\"% IBOV\",'Guia de BTC'!H:H,IF($C$3=\"% Float Alugado\",'Guia de BTC'!R:R,IF($C$3=\"Valor Alugado\",'Guia de BTC'!T:T,IF($C$3=\"Volume Médio\",'Guia de BTC'!Y:Y,IF($C$3=\"Dias de Giro\",'Guia de BTC'!Z:Z,IF($C$3=\"Aluguel vs Vista\",'Guia de BTC'!AF:AF,IF($C$3=\"Ações Alugadas\",'Guia de BTC'!AD:AD,IF($C$3=\"▲ de 1 dia\",'Guia de BTC'!AJ:AJ,IF($C$3=\"Taxa Média De Aluguel\",'Guia de BTC'!AN:AN,\"\"))))))))),MATCH(C385,'Guia de BTC'!C:C,0)),\"\"))","v":""},"",""]
[null,{"$f":"IFERROR(RANK(E386,$E$5:$E$400)+COUNTIF($E$5:E386,E386)-1,\"\")","v":""},{"$f":"IF('Guia de BTC'!C388=0,\"\",'Guia de BTC'!C388)","v":""},null,{"$f":"IF(C386=\"\",\"\",IFERROR(INDEX(IF($C$3=\"% IBOV\",'Guia de BTC'!H:H,IF($C$3=\"% Float Alugado\",'Guia de BTC'!R:R,IF($C$3=\"Valor Alugado\",'Guia de BTC'!T:T,IF($C$3=\"Volume Médio\",'Guia de BTC'!Y:Y,IF($C$3=\"Dias de Giro\",'Guia de BTC'!Z:Z,IF($C$3=\"Aluguel vs Vista\",'Guia de BTC'!AF:AF,IF($C$3=\"Ações Alugadas\",'Guia de BTC'!AD:AD,IF($C$3=\"▲ de 1 dia\",'Guia de BTC'!AJ:AJ,IF($C$3=\"Taxa Média De Aluguel\",'Guia de BTC'!AN:AN,\"\"))))))))),MATCH(C386,'Guia de BTC'!C:C,0)),\"\"))","v":""},"",""]
[null,{"$f":"IFERROR(RANK(E387,$E$5:$E$400)+COUNTIF($E$5:E387,E387)-1,\"\")","v":""},{"$f":"IF('Guia de BTC'!C389=0,\"\",'Guia de BTC'!C389)","v":""},null,{"$f":"IF(C387=\"\",\"\",IFERROR(INDEX(IF($C$3=\"% IBOV\",'Guia de BTC'!H:H,IF($C$3=\"% Float Alugado\",'Guia de BTC'!R:R,IF($C$3=\"Valor Alugado\",'Guia de BTC'!T:T,IF($C$3=\"Volume Médio\",'Guia de BTC'!Y:Y,IF($C$3=\"Dias de Giro\",'Guia de BTC'!Z:Z,IF($C$3=\"Aluguel vs Vista\",'Guia de BTC'!AF:AF,IF($C$3=\"Ações Alugadas\",'Guia de BTC'!AD:AD,IF($C$3=\"▲ de 1 dia\",'Guia de BTC'!AJ:AJ,IF($C$3=\"Taxa Média De Aluguel\",'Guia de BTC'!AN:AN,\"\"))))))))),MATCH(C387,'Guia de BTC'!C:C,0)),\"\"))","v":""},"",""]
[null,{"$f":"IFERROR(RANK(E388,$E$5:$E$400)+COUNTIF($E$5:E388,E388)-1,\"\")","v":""},{"$f":"IF('Guia de BTC'!C390=0,\"\",'Guia de BTC'!C390)","v":""},null,{"$f":"IF(C388=\"\",\"\",IFERROR(INDEX(IF($C$3=\"% IBOV\",'Guia de BTC'!H:H,IF($C$3=\"% Float Alugado\",'Guia de BTC'!R:R,IF($C$3=\"Valor Alugado\",'Guia de BTC'!T:T,IF($C$3=\"Volume Médio\",'Guia de BTC'!Y:Y,IF($C$3=\"Dias de Giro\",'Guia de BTC'!Z:Z,IF($C$3=\"Aluguel vs Vista\",'Guia de BTC'!AF:AF,IF($C$3=\"Ações Alugadas\",'Guia de BTC'!AD:AD,IF($C$3=\"▲ de 1 dia\",'Guia de BTC'!AJ:AJ,IF($C$3=\"Taxa Média De Aluguel\",'Guia de BTC'!AN:AN,\"\"))))))))),MATCH(C388,'Guia de BTC'!C:C,0)),\"\"))","v":""},"",""]
[null,{"$f":"IFERROR(RANK(E389,$E$5:$E$400)+COUNTIF($E$5:E389,E389)-1,\"\")","v":""},{"$f":"IF('Guia de BTC'!C391=0,\"\",'Guia de BTC'!C391)","v":""},null,{"$f":"IF(C389=\"\",\"\",IFERROR(INDEX(IF($C$3=\"% IBOV\",'Guia de BTC'!H:H,IF($C$3=\"% Float Alugado\",'Guia de BTC'!R:R,IF($C$3=\"Valor Alugado\",'Guia de BTC'!T:T,IF($C$3=\"Volume Médio\",'Guia de BTC'!Y:Y,IF($C$3=\"Dias de Giro\",'Guia de BTC'!Z:Z,IF($C$3=\"Aluguel vs Vista\",'Guia de BTC'!AF:AF,IF($C$3=\"Ações Alugadas\",'Guia de BTC'!AD:AD,IF($C$3=\"▲ de 1 dia\",'Guia de BTC'!AJ:AJ,IF($C$3=\"Taxa Média De Aluguel\",'Guia de BTC'!AN:AN,\"\"))))))))),MATCH(C389,'Guia de BTC'!C:C,0)),\"\"))","v":""},"",""]
[null,{"$f":"IFERROR(RANK(E390,$E$5:$E$400)+COUNTIF($E$5:E390,E390)-1,\"\")","v":""},{"$f":"IF('Guia de BTC'!C392=0,\"\",'Guia de BTC'!C392)","v":""},null,{"$f":"IF(C390=\"\",\"\",IFERROR(INDEX(IF($C$3=\"% IBOV\",'Guia de BTC'!H:H,IF($C$3=\"% Float Alugado\",'Guia de BTC'!R:R,IF($C$3=\"Valor Alugado\",'Guia de BTC'!T:T,IF($C$3=\"Volume Médio\",'Guia de BTC'!Y:Y,IF($C$3=\"Dias de Giro\",'Guia de BTC'!Z:Z,IF($C$3=\"Aluguel vs Vista\",'Guia de BTC'!AF:AF,IF($C$3=\"Ações Alugadas\",'Guia de BTC'!AD:AD,IF($C$3=\"▲ de 1 dia\",'Guia de BTC'!AJ:AJ,IF($C$3=\"Taxa Média De Aluguel\",'Guia de BTC'!AN:AN,\"\"))))))))),MATCH(C390,'Guia de BTC'!C:C,0)),\"\"))","v":""},"",""]
[null,{"$f":"IFERROR(RANK(E391,$E$5:$E$400)+COUNTIF($E$5:E391,E391)-1,\"\")","v":""},{"$f":"IF('Guia de BTC'!C393=0,\"\",'Guia de BTC'!C393)","v":""},null,{"$f":"IF(C391=\"\",\"\",IFERROR(INDEX(IF($C$3=\"% IBOV\",'Guia de BTC'!H:H,IF($C$3=\"% Float Alugado\",'Guia de BTC'!R:R,IF($C$3=\"Valor Alugado\",'Guia de BTC'!T:T,IF($C$3=\"Volume Médio\",'Guia de BTC'!Y:Y,IF($C$3=\"Dias de Giro\",'Guia de BTC'!Z:Z,IF($C$3=\"Aluguel vs Vista\",'Guia de BTC'!AF:AF,IF($C$3=\"Ações Alugadas\",'Guia de BTC'!AD:AD,IF($C$3=\"▲ de 1 dia\",'Guia de BTC'!AJ:AJ,IF($C$3=\"Taxa Média De Aluguel\",'Guia de BTC'!AN:AN,\"\"))))))))),MATCH(C391,'Guia de BTC'!C:C,0)),\"\"))","v":""},{"$f":"IF(C391=\"\",\"\",IFERROR(VLOOKUP(ROW()-4,$B$3:$E$600,4,FALSE),\"\"))","v":""},{"$f":"IF(C391=\"\",\"\",IFERROR(VLOOKUP(ROW()-4,$B$3:$E$600,3,FALSE),\"\"))","v":""}]
[null,{"$f":"IFERROR(RANK(E392,$E$5:$E$400)+COUNTIF($E$5:E392,E392)-1,\"\")","v":""},{"$f":"IF('Guia de BTC'!C394=0,\"\",'Guia de BTC'!C394)","v":""},null,{"$f":"IF(C392=\"\",\"\",IFERROR(INDEX(IF($C$3=\"% IBOV\",'Guia de BTC'!H:H,IF($C$3=\"% Float Alugado\",'Guia de BTC'!R:R,IF($C$3=\"Valor Alugado\",'Guia de BTC'!T:T,IF($C$3=\"Volume Médio\",'Guia de BTC'!Y:Y,IF($C$3=\"Dias de Giro\",'Guia de BTC'!Z:Z,IF($C$3=\"Aluguel vs Vista\",'Guia de BTC'!AF:AF,IF($C$3=\"Ações Alugadas\",'Guia de BTC'!AD:AD,IF($C$3=\"▲ de 1 dia\",'Guia de BTC'!AJ:AJ,IF($C$3=\"Taxa Média De Aluguel\",'Guia de BTC'!AN:AN,\"\"))))))))),MATCH(C392,'Guia de BTC'!C:C,0)),\"\"))","v":""},"",""]
[null,{"$f":"IFERROR(RANK(E393,$E$5:$E$400)+COUNTIF($E$5:E393,E393)-1,\"\")","v":""},{"$f":"IF('Guia de BTC'!C395=0,\"\",'Guia de BTC'!C395)","v":""},null,{"$f":"IF(C393=\"\",\"\",IFERROR(INDEX(IF($C$3=\"% IBOV\",'Guia de BTC'!H:H,IF($C$3=\"% Float Alugado\",'Guia de BTC'!R:R,IF($C$3=\"Valor Alugado\",'Guia de BTC'!T:T,IF($C$3=\"Volume Médio\",'Guia de BTC'!Y:Y,IF($C$3=\"Dias de Giro\",'Guia de BTC'!Z:Z,IF($C$3=\"Aluguel vs Vista\",'Guia de BTC'!AF:AF,IF($C$3=\"Ações Alugadas\",'Guia de BTC'!AD:AD,IF($C$3=\"▲ de 1 dia\",'Guia de BTC'!AJ:AJ,IF($C$3=\"Taxa Média De Aluguel\",'Guia de BTC'!AN:AN,\"\"))))))))),MATCH(C393,'Guia de BTC'!C:C,0)),\"\"))","v":""},"",""]
[null,{"$f":"IFERROR(RANK(E394,$E$5:$E$400)+COUNTIF($E$5:E394,E394)-1,\"\")","v":""},{"$f":"IF('Guia de BTC'!C396=0,\"\",'Guia de BTC'!C396)","v":""},null,{"$f":"IF(C394=\"\",\"\",IFERROR(INDEX(IF($C$3=\"% IBOV\",'Guia de BTC'!H:H,IF($C$3=\"% Float Alugado\",'Guia de BTC'!R:R,IF($C$3=\"Valor Alugado\",'Guia de BTC'!T:T,IF($C$3=\"Volume Médio\",'Guia de BTC'!Y:Y,IF($C$3=\"Dias de Giro\",'Guia de BTC'!Z:Z,IF($C$3=\"Aluguel vs Vista\",'Guia de BTC'!AF:AF,IF($C$3=\"Ações Alugadas\",'Guia de BTC'!AD:AD,IF($C$3=\"▲ de 1 dia\",'Guia de BTC'!AJ:AJ,IF($C$3=\"Taxa Média De Aluguel\",'Guia de BTC'!AN:AN,\"\"))))))))),MATCH(C394,'Guia de BTC'!C:C,0)),\"\"))","v":""},"",""]
[null,{"$f":"IFERROR(RANK(E395,$E$5:$E$400)+COUNTIF($E$5:E395,E395)-1,\"\")","v":""},{"$f":"IF('Guia de BTC'!C397=0,\"\",'Guia de BTC'!C397)","v":""},null,{"$f":"IF(C395=\"\",\"\",IFERROR(INDEX(IF($C$3=\"% IBOV\",'Guia de BTC'!H:H,IF($C$3=\"% Float Alugado\",'Guia de BTC'!R:R,IF($C$3=\"Valor Alugado\",'Guia de BTC'!T:T,IF($C$3=\"Volume Médio\",'Guia de BTC'!Y:Y,IF($C$3=\"Dias de Giro\",'Guia de BTC'!Z:Z,IF($C$3=\"Aluguel vs Vista\",'Guia de BTC'!AF:AF,IF($C$3=\"Ações Alugadas\",'Guia de BTC'!AD:AD,IF($C$3=\"▲ de 1 dia\",'Guia de BTC'!AJ:AJ,IF($C$3=\"Taxa Média De Aluguel\",'Guia de BTC'!AN:AN,\"\"))))))))),MATCH(C395,'Guia de BTC'!C:C,0)),\"\"))","v":""},"",""]
[null,{"$f":"IFERROR(RANK(E396,$E$5:$E$400)+COUNTIF($E$5:E396,E396)-1,\"\")","v":""},{"$f":"IF('Guia de BTC'!C398=0,\"\",'Guia de BTC'!C398)","v":""},null,{"$f":"IF(C396=\"\",\"\",IFERROR(INDEX(IF($C$3=\"% IBOV\",'Guia de BTC'!H:H,IF($C$3=\"% Float Alugado\",'Guia de BTC'!R:R,IF($C$3=\"Valor Alugado\",'Guia de BTC'!T:T,IF($C$3=\"Volume Médio\",'Guia de BTC'!Y:Y,IF($C$3=\"Dias de Giro\",'Guia de BTC'!Z:Z,IF($C$3=\"Aluguel vs Vista\",'Guia de BTC'!AF:AF,IF($C$3=\"Ações Alugadas\",'Guia de BTC'!AD:AD,IF($C$3=\"▲ de 1 dia\",'Guia de BTC'!AJ:AJ,IF($C$3=\"Taxa Média De Aluguel\",'Guia de BTC'!AN:AN,\"\"))))))))),MATCH(C396,'Guia de BTC'!C:C,0)),\"\"))","v":""},"",""]
[null,{"$f":"IFERROR(RANK(E397,$E$5:$E$400)+COUNTIF($E$5:E397,E397)-1,\"\")","v":""},{"$f":"IF('Guia de BTC'!C399=0,\"\",'Guia de BTC'!C399)","v":""},null,{"$f":"IF(C397=\"\",\"\",IFERROR(INDEX(IF($C$3=\"% IBOV\",'Guia de BTC'!H:H,IF($C$3=\"% Float Alugado\",'Guia de BTC'!R:R,IF($C$3=\"Valor Alugado\",'Guia de BTC'!T:T,IF($C$3=\"Volume Médio\",'Guia de BTC'!Y:Y,IF($C$3=\"Dias de Giro\",'Guia de BTC'!Z:Z,IF($C$3=\"Aluguel vs Vista\",'Guia de BTC'!AF:AF,IF($C$3=\"Ações Alugadas\",'Guia de BTC'!AD:AD,IF($C$3=\"▲ de 1 dia\",'Guia de BTC'!AJ:AJ,IF($C$3=\"Taxa Média De Aluguel\",'Guia de BTC'!AN:AN,\"\"))))))))),MATCH(C397,'Guia de BTC'!C:C,0)),\"\"))","v":""},"",""]
[null,{"$f":"IFERROR(RANK(E398,$E$5:$E$400)+COUNTIF($E$5:E398,E398)-1,\"\")","v":""},{"$f":"IF('Guia de BTC'!C400=0,\"\",'Guia de BTC'!C400)","v":""},null,{"$f":"IF(C398=\"\",\"\",IFERROR(INDEX(IF($C$3=\"% IBOV\",'Guia de BTC'!H:H,IF($C$3=\"% Float Alugado\",'Guia de BTC'!R:R,IF($C$3=\"Valor Alugado\",'Guia de BTC'!T:T,IF($C$3=\"Volume Médio\",'Guia de BTC'!Y:Y,IF($C$3=\"Dias de Giro\",'Guia de BTC'!Z:Z,IF($C$3=\"Aluguel vs Vista\",'Guia de BTC'!AF:AF,IF($C$3=\"Ações Alugadas\",'Guia de BTC'!AD:AD,IF($C$3=\"▲ de 1 dia\",'Guia de BTC'!AJ:AJ,IF($C$3=\"Taxa Média De Aluguel\",'Guia de BTC'!AN:AN,\"\"))))))))),MATCH(C398,'Guia de BTC'!C:C,0)),\"\"))","v":""},"",""]
[null,{"$f":"IFERROR(RANK(E399,$E$5:$E$400)+COUNTIF($E$5:E399,E399)-1,\"\")","v":""},{"$f":"IF('Guia de BTC'!C401=0,\"\",'Guia de BTC'!C401)","v":""},null,{"$f":"IF(C399=\"\",\"\",IFERROR(INDEX(IF($C$3=\"% IBOV\",'Guia de BTC'!H:H,IF($C$3=\"% Float Alugado\",'Guia de BTC'!R:R,IF($C$3=\"Valor Alugado\",'Guia de BTC'!T:T,IF($C$3=\"Volume Médio\",'Guia de BTC'!Y:Y,IF($C$3=\"Dias de Giro\",'Guia de BTC'!Z:Z,IF($C$3=\"Aluguel vs Vista\",'Guia de BTC'!AF:AF,IF($C$3=\"Ações Alugadas\",'Guia de BTC'!AD:AD,IF($C$3=\"▲ de 1 dia\",'Guia de BTC'!AJ:AJ,IF($C$3=\"Taxa Média De Aluguel\",'Guia de BTC'!AN:AN,\"\"))))))))),MATCH(C399,'Guia de BTC'!C:C,0)),\"\"))","v":""},"",""]
[null,{"$f":"IFERROR(RANK(E400,$E$5:$E$400)+COUNTIF($E$5:E400,E400)-1,\"\")","v":""},{"$f":"IF('Guia de BTC'!C402=0,\"\",'Guia de BTC'!C402)","v":""},null,{"$f":"IF(C400=\"\",\"\",IFERROR(INDEX(IF($C$3=\"% IBOV\",'Guia de BTC'!H:H,IF($C$3=\"% Float Alugado\",'Guia de BTC'!R:R,IF($C$3=\"Valor Alugado\",'Guia de BTC'!T:T,IF($C$3=\"Volume Médio\",'Guia de BTC'!Y:Y,IF($C$3=\"Dias de Giro\",'Guia de BTC'!Z:Z,IF($C$3=\"Aluguel vs Vista\",'Guia de BTC'!AF:AF,IF($C$3=\"Ações Alugadas\",'Guia de BTC'!AD:AD,IF($C$3=\"▲ de 1 dia\",'Guia de BTC'!AJ:AJ,IF($C$3=\"Taxa Média De Aluguel\",'Guia de BTC'!AN:AN,\"\"))))))))),MATCH(C400,'Guia de BTC'!C:C,0)),\"\"))","v":""},"",""]
[null,{"$f":"IFERROR(RANK(E401,$E$5:$E$400)+COUNTIF($E$5:E401,E401)-1,\"\")","v":""},{"$f":"IF('Guia de BTC'!C403=0,\"\",'Guia de BTC'!C403)","v":""},null,{"$f":"IF(C401=\"\",\"\",IFERROR(INDEX(IF($C$3=\"% IBOV\",'Guia de BTC'!H:H,IF($C$3=\"% Float Alugado\",'Guia de BTC'!R:R,IF($C$3=\"Valor Alugado\",'Guia de BTC'!T:T,IF($C$3=\"Volume Médio\",'Guia de BTC'!Y:Y,IF($C$3=\"Dias de Giro\",'Guia de BTC'!Z:Z,IF($C$3=\"Aluguel vs Vista\",'Guia de BTC'!AF:AF,IF($C$3=\"Ações Alugadas\",'Guia de BTC'!AD:AD,IF($C$3=\"▲ de 1 dia\",'Guia de BTC'!AJ:AJ,IF($C$3=\"Taxa Média De Aluguel\",'Guia de BTC'!AN:AN,\"\"))))))))),MATCH(C401,'Guia de BTC'!C:C,0)),\"\"))","v":""},"",""]
[null,{"$f":"IFERROR(RANK(E402,$E$5:$E$400)+COUNTIF($E$5:E402,E402)-1,\"\")","v":""},{"$f":"IF('Guia de BTC'!C404=0,\"\",'Guia de BTC'!C404)","v":""},null,{"$f":"IF(C402=\"\",\"\",IFERROR(INDEX(IF($C$3=\"% IBOV\",'Guia de BTC'!H:H,IF($C$3=\"% Float Alugado\",'Guia de BTC'!R:R,IF($C$3=\"Valor Alugado\",'Guia de BTC'!T:T,IF($C$3=\"Volume Médio\",'Guia de BTC'!Y:Y,IF($C$3=\"Dias de Giro\",'Guia de BTC'!Z:Z,IF($C$3=\"Aluguel vs Vista\",'Guia de BTC'!AF:AF,IF($C$3=\"Ações Alugadas\",'Guia de BTC'!AD:AD,IF($C$3=\"▲ de 1 dia\",'Guia de BTC'!AJ:AJ,IF($C$3=\"Taxa Média De Aluguel\",'Guia de BTC'!AN:AN,\"\"))))))))),MATCH(C402,'Guia de BTC'!C:C,0)),\"\"))","v":""},"",""]
[null,{"$f":"IFERROR(RANK(E403,$E$5:$E$400)+COUNTIF($E$5:E403,E403)-1,\"\")","v":""},{"$f":"IF('Guia de BTC'!C405=0,\"\",'Guia de BTC'!C405)","v":""},null,{"$f":"IF(C403=\"\",\"\",IFERROR(INDEX(IF($C$3=\"% IBOV\",'Guia de BTC'!H:H,IF($C$3=\"% Float Alugado\",'Guia de BTC'!R:R,IF($C$3=\"Valor Alugado\",'Guia de BTC'!T:T,IF($C$3=\"Volume Médio\",'Guia de BTC'!Y:Y,IF($C$3=\"Dias de Giro\",'Guia de BTC'!Z:Z,IF($C$3=\"Aluguel vs Vista\",'Guia de BTC'!AF:AF,IF($C$3=\"Ações Alugadas\",'Guia de BTC'!AD:AD,IF($C$3=\"▲ de 1 dia\",'Guia de BTC'!AJ:AJ,IF($C$3=\"Taxa Média De Aluguel\",'Guia de BTC'!AN:AN,\"\"))))))))),MATCH(C403,'Guia de BTC'!C:C,0)),\"\"))","v":""},"",""]
[null,{"$f":"IFERROR(RANK(E404,$E$5:$E$400)+COUNTIF($E$5:E404,E404)-1,\"\")","v":""},{"$f":"IF('Guia de BTC'!C406=0,\"\",'Guia de BTC'!C406)","v":""},null,{"$f":"IF(C404=\"\",\"\",IFERROR(INDEX(IF($C$3=\"% IBOV\",'Guia de BTC'!H:H,IF($C$3=\"% Float Alugado\",'Guia de BTC'!R:R,IF($C$3=\"Valor Alugado\",'Guia de BTC'!T:T,IF($C$3=\"Volume Médio\",'Guia de BTC'!Y:Y,IF($C$3=\"Dias de Giro\",'Guia de BTC'!Z:Z,IF($C$3=\"Aluguel vs Vista\",'Guia de BTC'!AF:AF,IF($C$3=\"Ações Alugadas\",'Guia de BTC'!AD:AD,IF($C$3=\"▲ de 1 dia\",'Guia de BTC'!AJ:AJ,IF($C$3=\"Taxa Média De Aluguel\",'Guia de BTC'!AN:AN,\"\"))))))))),MATCH(C404,'Guia de BTC'!C:C,0)),\"\"))","v":""},"",""]
[null,{"$f":"IFERROR(RANK(E405,$E$5:$E$400)+COUNTIF($E$5:E405,E405)-1,\"\")","v":""},{"$f":"IF('Guia de BTC'!C407=0,\"\",'Guia de BTC'!C407)","v":""},null,{"$f":"IF(C405=\"\",\"\",IFERROR(INDEX(IF($C$3=\"% IBOV\",'Guia de BTC'!H:H,IF($C$3=\"% Float Alugado\",'Guia de BTC'!R:R,IF($C$3=\"Valor Alugado\",'Guia de BTC'!T:T,IF($C$3=\"Volume Médio\",'Guia de BTC'!Y:Y,IF($C$3=\"Dias de Giro\",'Guia de BTC'!Z:Z,IF($C$3=\"Aluguel vs Vista\",'Guia de BTC'!AF:AF,IF($C$3=\"Ações Alugadas\",'Guia de BTC'!AD:AD,IF($C$3=\"▲ de 1 dia\",'Guia de BTC'!AJ:AJ,IF($C$3=\"Taxa Média De Aluguel\",'Guia de BTC'!AN:AN,\"\"))))))))),MATCH(C405,'Guia de BTC'!C:C,0)),\"\"))","v":""},"",""]
[null,{"$f":"IFERROR(RANK(E406,$E$5:$E$400)+COUNTIF($E$5:E406,E406)-1,\"\")","v":""},{"$f":"IF('Guia de BTC'!C408=0,\"\",'Guia de BTC'!C408)","v":""},null,{"$f":"IF(C406=\"\",\"\",IFERROR(INDEX(IF($C$3=\"% IBOV\",'Guia de BTC'!H:H,IF($C$3=\"% Float Alugado\",'Guia de BTC'!R:R,IF($C$3=\"Valor Alugado\",'Guia de BTC'!T:T,IF($C$3=\"Volume Médio\",'Guia de BTC'!Y:Y,IF($C$3=\"Dias de Giro\",'Guia de BTC'!Z:Z,IF($C$3=\"Aluguel vs Vista\",'Guia de BTC'!AF:AF,IF($C$3=\"Ações Alugadas\",'Guia de BTC'!AD:AD,IF($C$3=\"▲ de 1 dia\",'Guia de BTC'!AJ:AJ,IF($C$3=\"Taxa Média De Aluguel\",'Guia de BTC'!AN:AN,\"\"))))))))),MATCH(C406,'Guia de BTC'!C:C,0)),\"\"))","v":""},"",""]
[null,{"$f":"IFERROR(RANK(E407,$E$5:$E$400)+COUNTIF($E$5:E407,E407)-1,\"\")","v":""},{"$f":"IF('Guia de BTC'!C409=0,\"\",'Guia de BTC'!C409)","v":""},null,{"$f":"IF(C407=\"\",\"\",IFERROR(INDEX(IF($C$3=\"% IBOV\",'Guia de BTC'!H:H,IF($C$3=\"% Float Alugado\",'Guia de BTC'!R:R,IF($C$3=\"Valor Alugado\",'Guia de BTC'!T:T,IF($C$3=\"Volume Médio\",'Guia de BTC'!Y:Y,IF($C$3=\"Dias de Giro\",'Guia de BTC'!Z:Z,IF($C$3=\"Aluguel vs Vista\",'Guia de BTC'!AF:AF,IF($C$3=\"Ações Alugadas\",'Guia de BTC'!AD:AD,IF($C$3=\"▲ de 1 dia\",'Guia de BTC'!AJ:AJ,IF($C$3=\"Taxa Média De Aluguel\",'Guia de BTC'!AN:AN,\"\"))))))))),MATCH(C407,'Guia de BTC'!C:C,0)),\"\"))","v":""},"",""]
[null,{"$f":"IFERROR(RANK(E408,$E$5:$E$400)+COUNTIF($E$5:E408,E408)-1,\"\")","v":""},{"$f":"IF('Guia de BTC'!C410=0,\"\",'Guia de BTC'!C410)","v":""},null,{"$f":"IF(C408=\"\",\"\",IFERROR(INDEX(IF($C$3=\"% IBOV\",'Guia de BTC'!H:H,IF($C$3=\"% Float Alugado\",'Guia de BTC'!R:R,IF($C$3=\"Valor Alugado\",'Guia de BTC'!T:T,IF($C$3=\"Volume Médio\",'Guia de BTC'!Y:Y,IF($C$3=\"Dias de Giro\",'Guia de BTC'!Z:Z,IF($C$3=\"Aluguel vs Vista\",'Guia de BTC'!AF:AF,IF($C$3=\"Ações Alugadas\",'Guia de BTC'!AD:AD,IF($C$3=\"▲ de 1 dia\",'Guia de BTC'!AJ:AJ,IF($C$3=\"Taxa Média De Aluguel\",'Guia de BTC'!AN:AN,\"\"))))))))),MATCH(C408,'Guia de BTC'!C:C,0)),\"\"))","v":""},"",""]
[null,{"$f":"IFERROR(RANK(E409,$E$5:$E$400)+COUNTIF($E$5:E409,E409)-1,\"\")","v":""},{"$f":"IF('Guia de BTC'!C411=0,\"\",'Guia de BTC'!C411)","v":""},null,{"$f":"IF(C409=\"\",\"\",IFERROR(INDEX(IF($C$3=\"% IBOV\",'Guia de BTC'!H:H,IF($C$3=\"% Float Alugado\",'Guia de BTC'!R:R,IF($C$3=\"Valor Alugado\",'Guia de BTC'!T:T,IF($C$3=\"Volume Médio\",'Guia de BTC'!Y:Y,IF($C$3=\"Dias de Giro\",'Guia de BTC'!Z:Z,IF($C$3=\"Aluguel vs Vista\",'Guia de BTC'!AF:AF,IF($C$3=\"Ações Alugadas\",'Guia de BTC'!AD:AD,IF($C$3=\"▲ de 1 dia\",'Guia de BTC'!AJ:AJ,IF($C$3=\"Taxa Média De Aluguel\",'Guia de BTC'!AN:AN,\"\"))))))))),MATCH(C409,'Guia de BTC'!C:C,0)),\"\"))","v":""},"",""]
[null,{"$f":"IFERROR(RANK(E410,$E$5:$E$400)+COUNTIF($E$5:E410,E410)-1,\"\")","v":""},{"$f":"IF('Guia de BTC'!C412=0,\"\",'Guia de BTC'!C412)","v":""},null,{"$f":"IF(C410=\"\",\"\",IFERROR(INDEX(IF($C$3=\"% IBOV\",'Guia de BTC'!H:H,IF($C$3=\"% Float Alugado\",'Guia de BTC'!R:R,IF($C$3=\"Valor Alugado\",'Guia de BTC'!T:T,IF($C$3=\"Volume Médio\",'Guia de BTC'!Y:Y,IF($C$3=\"Dias de Giro\",'Guia de BTC'!Z:Z,IF($C$3=\"Aluguel vs Vista\",'Guia de BTC'!AF:AF,IF($C$3=\"Ações Alugadas\",'Guia de BTC'!AD:AD,IF($C$3=\"▲ de 1 dia\",'Guia de BTC'!AJ:AJ,IF($C$3=\"Taxa Média De Aluguel\",'Guia de BTC'!AN:AN,\"\"))))))))),MATCH(C410,'Guia de BTC'!C:C,0)),\"\"))","v":""},"",""]
[null,{"$f":"IFERROR(RANK(E411,$E$5:$E$400)+COUNTIF($E$5:E411,E411)-1,\"\")","v":""},{"$f":"IF('Guia de BTC'!C413=0,\"\",'Guia de BTC'!C413)","v":""},null,{"$f":"IF(C411=\"\",\"\",IFERROR(INDEX(IF($C$3=\"% IBOV\",'Guia de BTC'!H:H,IF($C$3=\"% Float Alugado\",'Guia de BTC'!R:R,IF($C$3=\"Valor Alugado\",'Guia de BTC'!T:T,IF($C$3=\"Volume Médio\",'Guia de BTC'!Y:Y,IF($C$3=\"Dias de Giro\",'Guia de BTC'!Z:Z,IF($C$3=\"Aluguel vs Vista\",'Guia de BTC'!AF:AF,IF($C$3=\"Ações Alugadas\",'Guia de BTC'!AD:AD,IF($C$3=\"▲ de 1 dia\",'Guia de BTC'!AJ:AJ,IF($C$3=\"Taxa Média De Aluguel\",'Guia de BTC'!AN:AN,\"\"))))))))),MATCH(C411,'Guia de BTC'!C:C,0)),\"\"))","v":""},"",""]
[null,{"$f":"IFERROR(RANK(E412,$E$5:$E$400)+COUNTIF($E$5:E412,E412)-1,\"\")","v":""},{"$f":"IF('Guia de BTC'!C414=0,\"\",'Guia de BTC'!C414)","v":""},null,{"$f":"IF(C412=\"\",\"\",IFERROR(INDEX(IF($C$3=\"% IBOV\",'Guia de BTC'!H:H,IF($C$3=\"% Float Alugado\",'Guia de BTC'!R:R,IF($C$3=\"Valor Alugado\",'Guia de BTC'!T:T,IF($C$3=\"Volume Médio\",'Guia de BTC'!Y:Y,IF($C$3=\"Dias de Giro\",'Guia de BTC'!Z:Z,IF($C$3=\"Aluguel vs Vista\",'Guia de BTC'!AF:AF,IF($C$3=\"Ações Alugadas\",'Guia de BTC'!AD:AD,IF($C$3=\"▲ de 1 dia\",'Guia de BTC'!AJ:AJ,IF($C$3=\"Taxa Média De Aluguel\",'Guia de BTC'!AN:AN,\"\"))))))))),MATCH(C412,'Guia de BTC'!C:C,0)),\"\"))","v":""},"",""]
[null,{"$f":"IFERROR(RANK(E413,$E$5:$E$400)+COUNTIF($E$5:E413,E413)-1,\"\")","v":""},{"$f":"IF('Guia de BTC'!C415=0,\"\",'Guia de BTC'!C415)","v":""},null,{"$f":"IF(C413=\"\",\"\",IFERROR(INDEX(IF($C$3=\"% IBOV\",'Guia de BTC'!H:H,IF($C$3=\"% Float Alugado\",'Guia de BTC'!R:R,IF($C$3=\"Valor Alugado\",'Guia de BTC'!T:T,IF($C$3=\"Volume Médio\",'Guia de BTC'!Y:Y,IF($C$3=\"Dias de Giro\",'Guia de BTC'!Z:Z,IF($C$3=\"Aluguel vs Vista\",'Guia de BTC'!AF:AF,IF($C$3=\"Ações Alugadas\",'Guia de BTC'!AD:AD,IF($C$3=\"▲ de 1 dia\",'Guia de BTC'!AJ:AJ,IF($C$3=\"Taxa Média De Aluguel\",'Guia de BTC'!AN:AN,\"\"))))))))),MATCH(C413,'Guia de BTC'!C:C,0)),\"\"))","v":""},"",""]
[null,{"$f":"IFERROR(RANK(E414,$E$5:$E$400)+COUNTIF($E$5:E414,E414)-1,\"\")","v":""},{"$f":"IF('Guia de BTC'!C416=0,\"\",'Guia de BTC'!C416)","v":""},null,{"$f":"IF(C414=\"\",\"\",IFERROR(INDEX(IF($C$3=\"% IBOV\",'Guia de BTC'!H:H,IF($C$3=\"% Float Alugado\",'Guia de BTC'!R:R,IF($C$3=\"Valor Alugado\",'Guia de BTC'!T:T,IF($C$3=\"Volume Médio\",'Guia de BTC'!Y:Y,IF($C$3=\"Dias de Giro\",'Guia de BTC'!Z:Z,IF($C$3=\"Aluguel vs Vista\",'Guia de BTC'!AF:AF,IF($C$3=\"Ações Alugadas\",'Guia de BTC'!AD:AD,IF($C$3=\"▲ de 1 dia\",'Guia de BTC'!AJ:AJ,IF($C$3=\"Taxa Média De Aluguel\",'Guia de BTC'!AN:AN,\"\"))))))))),MATCH(C414,'Guia de BTC'!C:C,0)),\"\"))","v":""},"",""]
[null,{"$f":"IFERROR(RANK(E415,$E$5:$E$400)+COUNTIF($E$5:E415,E415)-1,\"\")","v":""},{"$f":"IF('Guia de BTC'!C417=0,\"\",'Guia de BTC'!C417)","v":""},null,{"$f":"IF(C415=\"\",\"\",IFERROR(INDEX(IF($C$3=\"% IBOV\",'Guia de BTC'!H:H,IF($C$3=\"% Float Alugado\",'Guia de BTC'!R:R,IF($C$3=\"Valor Alugado\",'Guia de BTC'!T:T,IF($C$3=\"Volume Médio\",'Guia de BTC'!Y:Y,IF($C$3=\"Dias de Giro\",'Guia de BTC'!Z:Z,IF($C$3=\"Aluguel vs Vista\",'Guia de BTC'!AF:AF,IF($C$3=\"Ações Alugadas\",'Guia de BTC'!AD:AD,IF($C$3=\"▲ de 1 dia\",'Guia de BTC'!AJ:AJ,IF($C$3=\"Taxa Média De Aluguel\",'Guia de BTC'!AN:AN,\"\"))))))))),MATCH(C415,'Guia de BTC'!C:C,0)),\"\"))","v":""},"",""]
[null,{"$f":"IFERROR(RANK(E416,$E$5:$E$400)+COUNTIF($E$5:E416,E416)-1,\"\")","v":""},{"$f":"IF('Guia de BTC'!C418=0,\"\",'Guia de BTC'!C418)","v":""},null,{"$f":"IF(C416=\"\",\"\",IFERROR(INDEX(IF($C$3=\"% IBOV\",'Guia de BTC'!H:H,IF($C$3=\"% Float Alugado\",'Guia de BTC'!R:R,IF($C$3=\"Valor Alugado\",'Guia de BTC'!T:T,IF($C$3=\"Volume Médio\",'Guia de BTC'!Y:Y,IF($C$3=\"Dias de Giro\",'Guia de BTC'!Z:Z,IF($C$3=\"Aluguel vs Vista\",'Guia de BTC'!AF:AF,IF($C$3=\"Ações Alugadas\",'Guia de BTC'!AD:AD,IF($C$3=\"▲ de 1 dia\",'Guia de BTC'!AJ:AJ,IF($C$3=\"Taxa Média De Aluguel\",'Guia de BTC'!AN:AN,\"\"))))))))),MATCH(C416,'Guia de BTC'!C:C,0)),\"\"))","v":""},"",""]
[null,{"$f":"IFERROR(RANK(E417,$E$5:$E$400)+COUNTIF($E$5:E417,E417)-1,\"\")","v":""},{"$f":"IF('Guia de BTC'!C419=0,\"\",'Guia de BTC'!C419)","v":""},null,{"$f":"IF(C417=\"\",\"\",IFERROR(INDEX(IF($C$3=\"% IBOV\",'Guia de BTC'!H:H,IF($C$3=\"% Float Alugado\",'Guia de BTC'!R:R,IF($C$3=\"Valor Alugado\",'Guia de BTC'!T:T,IF($C$3=\"Volume Médio\",'Guia de BTC'!Y:Y,IF($C$3=\"Dias de Giro\",'Guia de BTC'!Z:Z,IF($C$3=\"Aluguel vs Vista\",'Guia de BTC'!AF:AF,IF($C$3=\"Ações Alugadas\",'Guia de BTC'!AD:AD,IF($C$3=\"▲ de 1 dia\",'Guia de BTC'!AJ:AJ,IF($C$3=\"Taxa Média De Aluguel\",'Guia de BTC'!AN:AN,\"\"))))))))),MATCH(C417,'Guia de BTC'!C:C,0)),\"\"))","v":""},"",""]
[null,{"$f":"IFERROR(RANK(E418,$E$5:$E$400)+COUNTIF($E$5:E418,E418)-1,\"\")","v":""},{"$f":"IF('Guia de BTC'!C420=0,\"\",'Guia de BTC'!C420)","v":""},null,{"$f":"IF(C418=\"\",\"\",IFERROR(INDEX(IF($C$3=\"% IBOV\",'Guia de BTC'!H:H,IF($C$3=\"% Float Alugado\",'Guia de BTC'!R:R,IF($C$3=\"Valor Alugado\",'Guia de BTC'!T:T,IF($C$3=\"Volume Médio\",'Guia de BTC'!Y:Y,IF($C$3=\"Dias de Giro\",'Guia de BTC'!Z:Z,IF($C$3=\"Aluguel vs Vista\",'Guia de BTC'!AF:AF,IF($C$3=\"Ações Alugadas\",'Guia de BTC'!AD:AD,IF($C$3=\"▲ de 1 dia\",'Guia de BTC'!AJ:AJ,IF($C$3=\"Taxa Média De Aluguel\",'Guia de BTC'!AN:AN,\"\"))))))))),MATCH(C418,'Guia de BTC'!C:C,0)),\"\"))","v":""},"",""]
[null,{"$f":"IFERROR(RANK(E419,$E$5:$E$400)+COUNTIF($E$5:E419,E419)-1,\"\")","v":""},{"$f":"IF('Guia de BTC'!C421=0,\"\",'Guia de BTC'!C421)","v":""},null,{"$f":"IF(C419=\"\",\"\",IFERROR(INDEX(IF($C$3=\"% IBOV\",'Guia de BTC'!H:H,IF($C$3=\"% Float Alugado\",'Guia de BTC'!R:R,IF($C$3=\"Valor Alugado\",'Guia de BTC'!T:T,IF($C$3=\"Volume Médio\",'Guia de BTC'!Y:Y,IF($C$3=\"Dias de Giro\",'Guia de BTC'!Z:Z,IF($C$3=\"Aluguel vs Vista\",'Guia de BTC'!AF:AF,IF($C$3=\"Ações Alugadas\",'Guia de BTC'!AD:AD,IF($C$3=\"▲ de 1 dia\",'Guia de BTC'!AJ:AJ,IF($C$3=\"Taxa Média De Aluguel\",'Guia de BTC'!AN:AN,\"\"))))))))),MATCH(C419,'Guia de BTC'!C:C,0)),\"\"))","v":""},"",""]
[null,{"$f":"IFERROR(RANK(E420,$E$5:$E$400)+COUNTIF($E$5:E420,E420)-1,\"\")","v":""},{"$f":"IF('Guia de BTC'!C422=0,\"\",'Guia de BTC'!C422)","v":""},null,{"$f":"IF(C420=\"\",\"\",IFERROR(INDEX(IF($C$3=\"% IBOV\",'Guia de BTC'!H:H,IF($C$3=\"% Float Alugado\",'Guia de BTC'!R:R,IF($C$3=\"Valor Alugado\",'Guia de BTC'!T:T,IF($C$3=\"Volume Médio\",'Guia de BTC'!Y:Y,IF($C$3=\"Dias de Giro\",'Guia de BTC'!Z:Z,IF($C$3=\"Aluguel vs Vista\",'Guia de BTC'!AF:AF,IF($C$3=\"Ações Alugadas\",'Guia de BTC'!AD:AD,IF($C$3=\"▲ de 1 dia\",'Guia de BTC'!AJ:AJ,IF($C$3=\"Taxa Média De Aluguel\",'Guia de BTC'!AN:AN,\"\"))))))))),MATCH(C420,'Guia de BTC'!C:C,0)),\"\"))","v":""},"",""]
[null,{"$f":"IFERROR(RANK(E421,$E$5:$E$400)+COUNTIF($E$5:E421,E421)-1,\"\")","v":""},{"$f":"IF('Guia de BTC'!C423=0,\"\",'Guia de BTC'!C423)","v":""},null,{"$f":"IF(C421=\"\",\"\",IFERROR(INDEX(IF($C$3=\"% IBOV\",'Guia de BTC'!H:H,IF($C$3=\"% Float Alugado\",'Guia de BTC'!R:R,IF($C$3=\"Valor Alugado\",'Guia de BTC'!T:T,IF($C$3=\"Volume Médio\",'Guia de BTC'!Y:Y,IF($C$3=\"Dias de Giro\",'Guia de BTC'!Z:Z,IF($C$3=\"Aluguel vs Vista\",'Guia de BTC'!AF:AF,IF($C$3=\"Ações Alugadas\",'Guia de BTC'!AD:AD,IF($C$3=\"▲ de 1 dia\",'Guia de BTC'!AJ:AJ,IF($C$3=\"Taxa Média De Aluguel\",'Guia de BTC'!AN:AN,\"\"))))))))),MATCH(C421,'Guia de BTC'!C:C,0)),\"\"))","v":""},"",""]
[null,{"$f":"IFERROR(RANK(E422,$E$5:$E$400)+COUNTIF($E$5:E422,E422)-1,\"\")","v":""},{"$f":"IF('Guia de BTC'!C424=0,\"\",'Guia de BTC'!C424)","v":""},null,{"$f":"IF(C422=\"\",\"\",IFERROR(INDEX(IF($C$3=\"% IBOV\",'Guia de BTC'!H:H,IF($C$3=\"% Float Alugado\",'Guia de BTC'!R:R,IF($C$3=\"Valor Alugado\",'Guia de BTC'!T:T,IF($C$3=\"Volume Médio\",'Guia de BTC'!Y:Y,IF($C$3=\"Dias de Giro\",'Guia de BTC'!Z:Z,IF($C$3=\"Aluguel vs Vista\",'Guia de BTC'!AF:AF,IF($C$3=\"Ações Alugadas\",'Guia de BTC'!AD:AD,IF($C$3=\"▲ de 1 dia\",'Guia de BTC'!AJ:AJ,IF($C$3=\"Taxa Média De Aluguel\",'Guia de BTC'!AN:AN,\"\"))))))))),MATCH(C422,'Guia de BTC'!C:C,0)),\"\"))","v":""},"",""]
[null,{"$f":"IFERROR(RANK(E423,$E$5:$E$400)+COUNTIF($E$5:E423,E423)-1,\"\")","v":""},{"$f":"IF('Guia de BTC'!C425=0,\"\",'Guia de BTC'!C425)","v":""},null,{"$f":"IF(C423=\"\",\"\",IFERROR(INDEX(IF($C$3=\"% IBOV\",'Guia de BTC'!H:H,IF($C$3=\"% Float Alugado\",'Guia de BTC'!R:R,IF($C$3=\"Valor Alugado\",'Guia de BTC'!T:T,IF($C$3=\"Volume Médio\",'Guia de BTC'!Y:Y,IF($C$3=\"Dias de Giro\",'Guia de BTC'!Z:Z,IF($C$3=\"Aluguel vs Vista\",'Guia de BTC'!AF:AF,IF($C$3=\"Ações Alugadas\",'Guia de BTC'!AD:AD,IF($C$3=\"▲ de 1 dia\",'Guia de BTC'!AJ:AJ,IF($C$3=\"Taxa Média De Aluguel\",'Guia de BTC'!AN:AN,\"\"))))))))),MATCH(C423,'Guia de BTC'!C:C,0)),\"\"))","v":""},"",""]
[null,{"$f":"IFERROR(RANK(E424,$E$5:$E$400)+COUNTIF($E$5:E424,E424)-1,\"\")","v":""},{"$f":"IF('Guia de BTC'!C426=0,\"\",'Guia de BTC'!C426)","v":""},null,{"$f":"IF(C424=\"\",\"\",IFERROR(INDEX(IF($C$3=\"% IBOV\",'Guia de BTC'!H:H,IF($C$3=\"% Float Alugado\",'Guia de BTC'!R:R,IF($C$3=\"Valor Alugado\",'Guia de BTC'!T:T,IF($C$3=\"Volume Médio\",'Guia de BTC'!Y:Y,IF($C$3=\"Dias de Giro\",'Guia de BTC'!Z:Z,IF($C$3=\"Aluguel vs Vista\",'Guia de BTC'!AF:AF,IF($C$3=\"Ações Alugadas\",'Guia de BTC'!AD:AD,IF($C$3=\"▲ de 1 dia\",'Guia de BTC'!AJ:AJ,IF($C$3=\"Taxa Média De Aluguel\",'Guia de BTC'!AN:AN,\"\"))))))))),MATCH(C424,'Guia de BTC'!C:C,0)),\"\"))","v":""},"",""]
[null,{"$f":"IFERROR(RANK(E425,$E$5:$E$400)+COUNTIF($E$5:E425,E425)-1,\"\")","v":""},{"$f":"IF('Guia de BTC'!C427=0,\"\",'Guia de BTC'!C427)","v":""},null,{"$f":"IF(C425=\"\",\"\",IFERROR(INDEX(IF($C$3=\"% IBOV\",'Guia de BTC'!H:H,IF($C$3=\"% Float Alugado\",'Guia de BTC'!R:R,IF($C$3=\"Valor Alugado\",'Guia de BTC'!T:T,IF($C$3=\"Volume Médio\",'Guia de BTC'!Y:Y,IF($C$3=\"Dias de Giro\",'Guia de BTC'!Z:Z,IF($C$3=\"Aluguel vs Vista\",'Guia de BTC'!AF:AF,IF($C$3=\"Ações Alugadas\",'Guia de BTC'!AD:AD,IF($C$3=\"▲ de 1 dia\",'Guia de BTC'!AJ:AJ,IF($C$3=\"Taxa Média De Aluguel\",'Guia de BTC'!AN:AN,\"\"))))))))),MATCH(C425,'Guia de BTC'!C:C,0)),\"\"))","v":""},"",""]
[null,{"$f":"IFERROR(RANK(E426,$E$5:$E$400)+COUNTIF($E$5:E426,E426)-1,\"\")","v":""},{"$f":"IF('Guia de BTC'!C428=0,\"\",'Guia de BTC'!C428)","v":""},null,{"$f":"IF(C426=\"\",\"\",IFERROR(INDEX(IF($C$3=\"% IBOV\",'Guia de BTC'!H:H,IF($C$3=\"% Float Alugado\",'Guia de BTC'!R:R,IF($C$3=\"Valor Alugado\",'Guia de BTC'!T:T,IF($C$3=\"Volume Médio\",'Guia de BTC'!Y:Y,IF($C$3=\"Dias de Giro\",'Guia de BTC'!Z:Z,IF($C$3=\"Aluguel vs Vista\",'Guia de BTC'!AF:AF,IF($C$3=\"Ações Alugadas\",'Guia de BTC'!AD:AD,IF($C$3=\"▲ de 1 dia\",'Guia de BTC'!AJ:AJ,IF($C$3=\"Taxa Média De Aluguel\",'Guia de BTC'!AN:AN,\"\"))))))))),MATCH(C426,'Guia de BTC'!C:C,0)),\"\"))","v":""},"",""]
[null,{"$f":"IFERROR(RANK(E427,$E$5:$E$400)+COUNTIF($E$5:E427,E427)-1,\"\")","v":""},{"$f":"IF('Guia de BTC'!C429=0,\"\",'Guia de BTC'!C429)","v":""},null,{"$f":"IF(C427=\"\",\"\",IFERROR(INDEX(IF($C$3=\"% IBOV\",'Guia de BTC'!H:H,IF($C$3=\"% Float Alugado\",'Guia de BTC'!R:R,IF($C$3=\"Valor Alugado\",'Guia de BTC'!T:T,IF($C$3=\"Volume Médio\",'Guia de BTC'!Y:Y,IF($C$3=\"Dias de Giro\",'Guia de BTC'!Z:Z,IF($C$3=\"Aluguel vs Vista\",'Guia de BTC'!AF:AF,IF($C$3=\"Ações Alugadas\",'Guia de BTC'!AD:AD,IF($C$3=\"▲ de 1 dia\",'Guia de BTC'!AJ:AJ,IF($C$3=\"Taxa Média De Aluguel\",'Guia de BTC'!AN:AN,\"\"))))))))),MATCH(C427,'Guia de BTC'!C:C,0)),\"\"))","v":""},"",""]
[null,{"$f":"IFERROR(RANK(E428,$E$5:$E$400)+COUNTIF($E$5:E428,E428)-1,\"\")","v":""},{"$f":"IF('Guia de BTC'!C430=0,\"\",'Guia de BTC'!C430)","v":""},null,{"$f":"IF(C428=\"\",\"\",IFERROR(INDEX(IF($C$3=\"% IBOV\",'Guia de BTC'!H:H,IF($C$3=\"% Float Alugado\",'Guia de BTC'!R:R,IF($C$3=\"Valor Alugado\",'Guia de BTC'!T:T,IF($C$3=\"Volume Médio\",'Guia de BTC'!Y:Y,IF($C$3=\"Dias de Giro\",'Guia de BTC'!Z:Z,IF($C$3=\"Aluguel vs Vista\",'Guia de BTC'!AF:AF,IF($C$3=\"Ações Alugadas\",'Guia de BTC'!AD:AD,IF($C$3=\"▲ de 1 dia\",'Guia de BTC'!AJ:AJ,IF($C$3=\"Taxa Média De Aluguel\",'Guia de BTC'!AN:AN,\"\"))))))))),MATCH(C428,'Guia de BTC'!C:C,0)),\"\"))","v":""},"",""]
[null,{"$f":"IFERROR(RANK(E429,$E$5:$E$400)+COUNTIF($E$5:E429,E429)-1,\"\")","v":""},{"$f":"IF('Guia de BTC'!C431=0,\"\",'Guia de BTC'!C431)","v":""},null,{"$f":"IF(C429=\"\",\"\",IFERROR(INDEX(IF($C$3=\"% IBOV\",'Guia de BTC'!H:H,IF($C$3=\"% Float Alugado\",'Guia de BTC'!R:R,IF($C$3=\"Valor Alugado\",'Guia de BTC'!T:T,IF($C$3=\"Volume Médio\",'Guia de BTC'!Y:Y,IF($C$3=\"Dias de Giro\",'Guia de BTC'!Z:Z,IF($C$3=\"Aluguel vs Vista\",'Guia de BTC'!AF:AF,IF($C$3=\"Ações Alugadas\",'Guia de BTC'!AD:AD,IF($C$3=\"▲ de 1 dia\",'Guia de BTC'!AJ:AJ,IF($C$3=\"Taxa Média De Aluguel\",'Guia de BTC'!AN:AN,\"\"))))))))),MATCH(C429,'Guia de BTC'!C:C,0)),\"\"))","v":""},"",""]
[null,{"$f":"IFERROR(RANK(E430,$E$5:$E$400)+COUNTIF($E$5:E430,E430)-1,\"\")","v":""},{"$f":"IF('Guia de BTC'!C432=0,\"\",'Guia de BTC'!C432)","v":""},null,{"$f":"IF(C430=\"\",\"\",IFERROR(INDEX(IF($C$3=\"% IBOV\",'Guia de BTC'!H:H,IF($C$3=\"% Float Alugado\",'Guia de BTC'!R:R,IF($C$3=\"Valor Alugado\",'Guia de BTC'!T:T,IF($C$3=\"Volume Médio\",'Guia de BTC'!Y:Y,IF($C$3=\"Dias de Giro\",'Guia de BTC'!Z:Z,IF($C$3=\"Aluguel vs Vista\",'Guia de BTC'!AF:AF,IF($C$3=\"Ações Alugadas\",'Guia de BTC'!AD:AD,IF($C$3=\"▲ de 1 dia\",'Guia de BTC'!AJ:AJ,IF($C$3=\"Taxa Média De Aluguel\",'Guia de BTC'!AN:AN,\"\"))))))))),MATCH(C430,'Guia de BTC'!C:C,0)),\"\"))","v":""},"",""]
[null,{"$f":"IFERROR(RANK(E431,$E$5:$E$400)+COUNTIF($E$5:E431,E431)-1,\"\")","v":""},{"$f":"IF('Guia de BTC'!C433=0,\"\",'Guia de BTC'!C433)","v":""},null,{"$f":"IF(C431=\"\",\"\",IFERROR(INDEX(IF($C$3=\"% IBOV\",'Guia de BTC'!H:H,IF($C$3=\"% Float Alugado\",'Guia de BTC'!R:R,IF($C$3=\"Valor Alugado\",'Guia de BTC'!T:T,IF($C$3=\"Volume Médio\",'Guia de BTC'!Y:Y,IF($C$3=\"Dias de Giro\",'Guia de BTC'!Z:Z,IF($C$3=\"Aluguel vs Vista\",'Guia de BTC'!AF:AF,IF($C$3=\"Ações Alugadas\",'Guia de BTC'!AD:AD,IF($C$3=\"▲ de 1 dia\",'Guia de BTC'!AJ:AJ,IF($C$3=\"Taxa Média De Aluguel\",'Guia de BTC'!AN:AN,\"\"))))))))),MATCH(C431,'Guia de BTC'!C:C,0)),\"\"))","v":""},"",""]
[null,{"$f":"IFERROR(RANK(E432,$E$5:$E$400)+COUNTIF($E$5:E432,E432)-1,\"\")","v":""},{"$f":"IF('Guia de BTC'!C434=0,\"\",'Guia de BTC'!C434)","v":""},null,{"$f":"IF(C432=\"\",\"\",IFERROR(INDEX(IF($C$3=\"% IBOV\",'Guia de BTC'!H:H,IF($C$3=\"% Float Alugado\",'Guia de BTC'!R:R,IF($C$3=\"Valor Alugado\",'Guia de BTC'!T:T,IF($C$3=\"Volume Médio\",'Guia de BTC'!Y:Y,IF($C$3=\"Dias de Giro\",'Guia de BTC'!Z:Z,IF($C$3=\"Aluguel vs Vista\",'Guia de BTC'!AF:AF,IF($C$3=\"Ações Alugadas\",'Guia de BTC'!AD:AD,IF($C$3=\"▲ de 1 dia\",'Guia de BTC'!AJ:AJ,IF($C$3=\"Taxa Média De Aluguel\",'Guia de BTC'!AN:AN,\"\"))))))))),MATCH(C432,'Guia de BTC'!C:C,0)),\"\"))","v":""},"",""]
[null,{"$f":"IFERROR(RANK(E433,$E$5:$E$400)+COUNTIF($E$5:E433,E433)-1,\"\")","v":""},{"$f":"IF('Guia de BTC'!C435=0,\"\",'Guia de BTC'!C435)","v":""},null,{"$f":"IF(C433=\"\",\"\",IFERROR(INDEX(IF($C$3=\"% IBOV\",'Guia de BTC'!H:H,IF($C$3=\"% Float Alugado\",'Guia de BTC'!R:R,IF($C$3=\"Valor Alugado\",'Guia de BTC'!T:T,IF($C$3=\"Volume Médio\",'Guia de BTC'!Y:Y,IF($C$3=\"Dias de Giro\",'Guia de BTC'!Z:Z,IF($C$3=\"Aluguel vs Vista\",'Guia de BTC'!AF:AF,IF($C$3=\"Ações Alugadas\",'Guia de BTC'!AD:AD,IF($C$3=\"▲ de 1 dia\",'Guia de BTC'!AJ:AJ,IF($C$3=\"Taxa Média De Aluguel\",'Guia de BTC'!AN:AN,\"\"))))))))),MATCH(C433,'Guia de BTC'!C:C,0)),\"\"))","v":""},"",""]
[null,{"$f":"IFERROR(RANK(E434,$E$5:$E$400)+COUNTIF($E$5:E434,E434)-1,\"\")","v":""},{"$f":"IF('Guia de BTC'!C436=0,\"\",'Guia de BTC'!C436)","v":""},null,{"$f":"IF(C434=\"\",\"\",IFERROR(INDEX(IF($C$3=\"% IBOV\",'Guia de BTC'!H:H,IF($C$3=\"% Float Alugado\",'Guia de BTC'!R:R,IF($C$3=\"Valor Alugado\",'Guia de BTC'!T:T,IF($C$3=\"Volume Médio\",'Guia de BTC'!Y:Y,IF($C$3=\"Dias de Giro\",'Guia de BTC'!Z:Z,IF($C$3=\"Aluguel vs Vista\",'Guia de BTC'!AF:AF,IF($C$3=\"Ações Alugadas\",'Guia de BTC'!AD:AD,IF($C$3=\"▲ de 1 dia\",'Guia de BTC'!AJ:AJ,IF($C$3=\"Taxa Média De Aluguel\",'Guia de BTC'!AN:AN,\"\"))))))))),MATCH(C434,'Guia de BTC'!C:C,0)),\"\"))","v":""},"",""]
[null,{"$f":"IFERROR(RANK(E435,$E$5:$E$400)+COUNTIF($E$5:E435,E435)-1,\"\")","v":""},{"$f":"IF('Guia de BTC'!C437=0,\"\",'Guia de BTC'!C437)","v":""},null,{"$f":"IF(C435=\"\",\"\",IFERROR(INDEX(IF($C$3=\"% IBOV\",'Guia de BTC'!H:H,IF($C$3=\"% Float Alugado\",'Guia de BTC'!R:R,IF($C$3=\"Valor Alugado\",'Guia de BTC'!T:T,IF($C$3=\"Volume Médio\",'Guia de BTC'!Y:Y,IF($C$3=\"Dias de Giro\",'Guia de BTC'!Z:Z,IF($C$3=\"Aluguel vs Vista\",'Guia de BTC'!AF:AF,IF($C$3=\"Ações Alugadas\",'Guia de BTC'!AD:AD,IF($C$3=\"▲ de 1 dia\",'Guia de BTC'!AJ:AJ,IF($C$3=\"Taxa Média De Aluguel\",'Guia de BTC'!AN:AN,\"\"))))))))),MATCH(C435,'Guia de BTC'!C:C,0)),\"\"))","v":""},"",""]
[null,{"$f":"IFERROR(RANK(E436,$E$5:$E$400)+COUNTIF($E$5:E436,E436)-1,\"\")","v":""},{"$f":"IF('Guia de BTC'!C438=0,\"\",'Guia de BTC'!C438)","v":""},null,{"$f":"IF(C436=\"\",\"\",IFERROR(INDEX(IF($C$3=\"% IBOV\",'Guia de BTC'!H:H,IF($C$3=\"% Float Alugado\",'Guia de BTC'!R:R,IF($C$3=\"Valor Alugado\",'Guia de BTC'!T:T,IF($C$3=\"Volume Médio\",'Guia de BTC'!Y:Y,IF($C$3=\"Dias de Giro\",'Guia de BTC'!Z:Z,IF($C$3=\"Aluguel vs Vista\",'Guia de BTC'!AF:AF,IF($C$3=\"Ações Alugadas\",'Guia de BTC'!AD:AD,IF($C$3=\"▲ de 1 dia\",'Guia de BTC'!AJ:AJ,IF($C$3=\"Taxa Média De Aluguel\",'Guia de BTC'!AN:AN,\"\"))))))))),MATCH(C436,'Guia de BTC'!C:C,0)),\"\"))","v":""},"",""]
[null,{"$f":"IFERROR(RANK(E437,$E$5:$E$400)+COUNTIF($E$5:E437,E437)-1,\"\")","v":""},{"$f":"IF('Guia de BTC'!C439=0,\"\",'Guia de BTC'!C439)","v":""},null,{"$f":"IF(C437=\"\",\"\",IFERROR(INDEX(IF($C$3=\"% IBOV\",'Guia de BTC'!H:H,IF($C$3=\"% Float Alugado\",'Guia de BTC'!R:R,IF($C$3=\"Valor Alugado\",'Guia de BTC'!T:T,IF($C$3=\"Volume Médio\",'Guia de BTC'!Y:Y,IF($C$3=\"Dias de Giro\",'Guia de BTC'!Z:Z,IF($C$3=\"Aluguel vs Vista\",'Guia de BTC'!AF:AF,IF($C$3=\"Ações Alugadas\",'Guia de BTC'!AD:AD,IF($C$3=\"▲ de 1 dia\",'Guia de BTC'!AJ:AJ,IF($C$3=\"Taxa Média De Aluguel\",'Guia de BTC'!AN:AN,\"\"))))))))),MATCH(C437,'Guia de BTC'!C:C,0)),\"\"))","v":""},"",""]
[null,{"$f":"IFERROR(RANK(E438,$E$5:$E$400)+COUNTIF($E$5:E438,E438)-1,\"\")","v":""},{"$f":"IF('Guia de BTC'!C440=0,\"\",'Guia de BTC'!C440)","v":""},null,{"$f":"IF(C438=\"\",\"\",IFERROR(INDEX(IF($C$3=\"% IBOV\",'Guia de BTC'!H:H,IF($C$3=\"% Float Alugado\",'Guia de BTC'!R:R,IF($C$3=\"Valor Alugado\",'Guia de BTC'!T:T,IF($C$3=\"Volume Médio\",'Guia de BTC'!Y:Y,IF($C$3=\"Dias de Giro\",'Guia de BTC'!Z:Z,IF($C$3=\"Aluguel vs Vista\",'Guia de BTC'!AF:AF,IF($C$3=\"Ações Alugadas\",'Guia de BTC'!AD:AD,IF($C$3=\"▲ de 1 dia\",'Guia de BTC'!AJ:AJ,IF($C$3=\"Taxa Média De Aluguel\",'Guia de BTC'!AN:AN,\"\"))))))))),MATCH(C438,'Guia de BTC'!C:C,0)),\"\"))","v":""},"",""]
[null,{"$f":"IFERROR(RANK(E439,$E$5:$E$400)+COUNTIF($E$5:E439,E439)-1,\"\")","v":""},{"$f":"IF('Guia de BTC'!C441=0,\"\",'Guia de BTC'!C441)","v":""},null,{"$f":"IF(C439=\"\",\"\",IFERROR(INDEX(IF($C$3=\"% IBOV\",'Guia de BTC'!H:H,IF($C$3=\"% Float Alugado\",'Guia de BTC'!R:R,IF($C$3=\"Valor Alugado\",'Guia de BTC'!T:T,IF($C$3=\"Volume Médio\",'Guia de BTC'!Y:Y,IF($C$3=\"Dias de Giro\",'Guia de BTC'!Z:Z,IF($C$3=\"Aluguel vs Vista\",'Guia de BTC'!AF:AF,IF($C$3=\"Ações Alugadas\",'Guia de BTC'!AD:AD,IF($C$3=\"▲ de 1 dia\",'Guia de BTC'!AJ:AJ,IF($C$3=\"Taxa Média De Aluguel\",'Guia de BTC'!AN:AN,\"\"))))))))),MATCH(C439,'Guia de BTC'!C:C,0)),\"\"))","v":""},"",""]
[null,{"$f":"IFERROR(RANK(E440,$E$5:$E$400)+COUNTIF($E$5:E440,E440)-1,\"\")","v":""},{"$f":"IF('Guia de BTC'!C442=0,\"\",'Guia de BTC'!C442)","v":""},null,{"$f":"IF(C440=\"\",\"\",IFERROR(INDEX(IF($C$3=\"% IBOV\",'Guia de BTC'!H:H,IF($C$3=\"% Float Alugado\",'Guia de BTC'!R:R,IF($C$3=\"Valor Alugado\",'Guia de BTC'!T:T,IF($C$3=\"Volume Médio\",'Guia de BTC'!Y:Y,IF($C$3=\"Dias de Giro\",'Guia de BTC'!Z:Z,IF($C$3=\"Aluguel vs Vista\",'Guia de BTC'!AF:AF,IF($C$3=\"Ações Alugadas\",'Guia de BTC'!AD:AD,IF($C$3=\"▲ de 1 dia\",'Guia de BTC'!AJ:AJ,IF($C$3=\"Taxa Média De Aluguel\",'Guia de BTC'!AN:AN,\"\"))))))))),MATCH(C440,'Guia de BTC'!C:C,0)),\"\"))","v":""},"",""]
[null,{"$f":"IFERROR(RANK(E441,$E$5:$E$400)+COUNTIF($E$5:E441,E441)-1,\"\")","v":""},{"$f":"IF('Guia de BTC'!C443=0,\"\",'Guia de BTC'!C443)","v":""},null,{"$f":"IF(C441=\"\",\"\",IFERROR(INDEX(IF($C$3=\"% IBOV\",'Guia de BTC'!H:H,IF($C$3=\"% Float Alugado\",'Guia de BTC'!R:R,IF($C$3=\"Valor Alugado\",'Guia de BTC'!T:T,IF($C$3=\"Volume Médio\",'Guia de BTC'!Y:Y,IF($C$3=\"Dias de Giro\",'Guia de BTC'!Z:Z,IF($C$3=\"Aluguel vs Vista\",'Guia de BTC'!AF:AF,IF($C$3=\"Ações Alugadas\",'Guia de BTC'!AD:AD,IF($C$3=\"▲ de 1 dia\",'Guia de BTC'!AJ:AJ,IF($C$3=\"Taxa Média De Aluguel\",'Guia de BTC'!AN:AN,\"\"))))))))),MATCH(C441,'Guia de BTC'!C:C,0)),\"\"))","v":""},"",""]
[null,{"$f":"IFERROR(RANK(E442,$E$5:$E$400)+COUNTIF($E$5:E442,E442)-1,\"\")","v":""},{"$f":"IF('Guia de BTC'!C444=0,\"\",'Guia de BTC'!C444)","v":""},null,{"$f":"IF(C442=\"\",\"\",IFERROR(INDEX(IF($C$3=\"% IBOV\",'Guia de BTC'!H:H,IF($C$3=\"% Float Alugado\",'Guia de BTC'!R:R,IF($C$3=\"Valor Alugado\",'Guia de BTC'!T:T,IF($C$3=\"Volume Médio\",'Guia de BTC'!Y:Y,IF($C$3=\"Dias de Giro\",'Guia de BTC'!Z:Z,IF($C$3=\"Aluguel vs Vista\",'Guia de BTC'!AF:AF,IF($C$3=\"Ações Alugadas\",'Guia de BTC'!AD:AD,IF($C$3=\"▲ de 1 dia\",'Guia de BTC'!AJ:AJ,IF($C$3=\"Taxa Média De Aluguel\",'Guia de BTC'!AN:AN,\"\"))))))))),MATCH(C442,'Guia de BTC'!C:C,0)),\"\"))","v":""},"",""]
[null,{"$f":"IFERROR(RANK(E443,$E$5:$E$400)+COUNTIF($E$5:E443,E443)-1,\"\")","v":""},{"$f":"IF('Guia de BTC'!C445=0,\"\",'Guia de BTC'!C445)","v":""},null,{"$f":"IF(C443=\"\",\"\",IFERROR(INDEX(IF($C$3=\"% IBOV\",'Guia de BTC'!H:H,IF($C$3=\"% Float Alugado\",'Guia de BTC'!R:R,IF($C$3=\"Valor Alugado\",'Guia de BTC'!T:T,IF($C$3=\"Volume Médio\",'Guia de BTC'!Y:Y,IF($C$3=\"Dias de Giro\",'Guia de BTC'!Z:Z,IF($C$3=\"Aluguel vs Vista\",'Guia de BTC'!AF:AF,IF($C$3=\"Ações Alugadas\",'Guia de BTC'!AD:AD,IF($C$3=\"▲ de 1 dia\",'Guia de BTC'!AJ:AJ,IF($C$3=\"Taxa Média De Aluguel\",'Guia de BTC'!AN:AN,\"\"))))))))),MATCH(C443,'Guia de BTC'!C:C,0)),\"\"))","v":""},"",""]
[null,{"$f":"IFERROR(RANK(E444,$E$5:$E$400)+COUNTIF($E$5:E444,E444)-1,\"\")","v":""},{"$f":"IF('Guia de BTC'!C446=0,\"\",'Guia de BTC'!C446)","v":""},null,{"$f":"IF(C444=\"\",\"\",IFERROR(INDEX(IF($C$3=\"% IBOV\",'Guia de BTC'!H:H,IF($C$3=\"% Float Alugado\",'Guia de BTC'!R:R,IF($C$3=\"Valor Alugado\",'Guia de BTC'!T:T,IF($C$3=\"Volume Médio\",'Guia de BTC'!Y:Y,IF($C$3=\"Dias de Giro\",'Guia de BTC'!Z:Z,IF($C$3=\"Aluguel vs Vista\",'Guia de BTC'!AF:AF,IF($C$3=\"Ações Alugadas\",'Guia de BTC'!AD:AD,IF($C$3=\"▲ de 1 dia\",'Guia de BTC'!AJ:AJ,IF($C$3=\"Taxa Média De Aluguel\",'Guia de BTC'!AN:AN,\"\"))))))))),MATCH(C444,'Guia de BTC'!C:C,0)),\"\"))","v":""},"",""]
[null,{"$f":"IFERROR(RANK(E445,$E$5:$E$400)+COUNTIF($E$5:E445,E445)-1,\"\")","v":""},{"$f":"IF('Guia de BTC'!C447=0,\"\",'Guia de BTC'!C447)","v":""},null,{"$f":"IF(C445=\"\",\"\",IFERROR(INDEX(IF($C$3=\"% IBOV\",'Guia de BTC'!H:H,IF($C$3=\"% Float Alugado\",'Guia de BTC'!R:R,IF($C$3=\"Valor Alugado\",'Guia de BTC'!T:T,IF($C$3=\"Volume Médio\",'Guia de BTC'!Y:Y,IF($C$3=\"Dias de Giro\",'Guia de BTC'!Z:Z,IF($C$3=\"Aluguel vs Vista\",'Guia de BTC'!AF:AF,IF($C$3=\"Ações Alugadas\",'Guia de BTC'!AD:AD,IF($C$3=\"▲ de 1 dia\",'Guia de BTC'!AJ:AJ,IF($C$3=\"Taxa Média De Aluguel\",'Guia de BTC'!AN:AN,\"\"))))))))),MATCH(C445,'Guia de BTC'!C:C,0)),\"\"))","v":""},"",""]
[null,{"$f":"IFERROR(RANK(E446,$E$5:$E$400)+COUNTIF($E$5:E446,E446)-1,\"\")","v":""},{"$f":"IF('Guia de BTC'!C448=0,\"\",'Guia de BTC'!C448)","v":""},null,{"$f":"IF(C446=\"\",\"\",IFERROR(INDEX(IF($C$3=\"% IBOV\",'Guia de BTC'!H:H,IF($C$3=\"% Float Alugado\",'Guia de BTC'!R:R,IF($C$3=\"Valor Alugado\",'Guia de BTC'!T:T,IF($C$3=\"Volume Médio\",'Guia de BTC'!Y:Y,IF($C$3=\"Dias de Giro\",'Guia de BTC'!Z:Z,IF($C$3=\"Aluguel vs Vista\",'Guia de BTC'!AF:AF,IF($C$3=\"Ações Alugadas\",'Guia de BTC'!AD:AD,IF($C$3=\"▲ de 1 dia\",'Guia de BTC'!AJ:AJ,IF($C$3=\"Taxa Média De Aluguel\",'Guia de BTC'!AN:AN,\"\"))))))))),MATCH(C446,'Guia de BTC'!C:C,0)),\"\"))","v":""},"",""]
[null,{"$f":"IFERROR(RANK(E447,$E$5:$E$400)+COUNTIF($E$5:E447,E447)-1,\"\")","v":""},{"$f":"IF('Guia de BTC'!C449=0,\"\",'Guia de BTC'!C449)","v":""},null,{"$f":"IF(C447=\"\",\"\",IFERROR(INDEX(IF($C$3=\"% IBOV\",'Guia de BTC'!H:H,IF($C$3=\"% Float Alugado\",'Guia de BTC'!R:R,IF($C$3=\"Valor Alugado\",'Guia de BTC'!T:T,IF($C$3=\"Volume Médio\",'Guia de BTC'!Y:Y,IF($C$3=\"Dias de Giro\",'Guia de BTC'!Z:Z,IF($C$3=\"Aluguel vs Vista\",'Guia de BTC'!AF:AF,IF($C$3=\"Ações Alugadas\",'Guia de BTC'!AD:AD,IF($C$3=\"▲ de 1 dia\",'Guia de BTC'!AJ:AJ,IF($C$3=\"Taxa Média De Aluguel\",'Guia de BTC'!AN:AN,\"\"))))))))),MATCH(C447,'Guia de BTC'!C:C,0)),\"\"))","v":""},"",""]
[null,{"$f":"IFERROR(RANK(E448,$E$5:$E$400)+COUNTIF($E$5:E448,E448)-1,\"\")","v":""},{"$f":"IF('Guia de BTC'!C450=0,\"\",'Guia de BTC'!C450)","v":""},null,{"$f":"IF(C448=\"\",\"\",IFERROR(INDEX(IF($C$3=\"% IBOV\",'Guia de BTC'!H:H,IF($C$3=\"% Float Alugado\",'Guia de BTC'!R:R,IF($C$3=\"Valor Alugado\",'Guia de BTC'!T:T,IF($C$3=\"Volume Médio\",'Guia de BTC'!Y:Y,IF($C$3=\"Dias de Giro\",'Guia de BTC'!Z:Z,IF($C$3=\"Aluguel vs Vista\",'Guia de BTC'!AF:AF,IF($C$3=\"Ações Alugadas\",'Guia de BTC'!AD:AD,IF($C$3=\"▲ de 1 dia\",'Guia de BTC'!AJ:AJ,IF($C$3=\"Taxa Média De Aluguel\",'Guia de BTC'!AN:AN,\"\"))))))))),MATCH(C448,'Guia de BTC'!C:C,0)),\"\"))","v":""},"",""]
[null,{"$f":"IFERROR(RANK(E449,$E$5:$E$400)+COUNTIF($E$5:E449,E449)-1,\"\")","v":""},{"$f":"IF('Guia de BTC'!C451=0,\"\",'Guia de BTC'!C451)","v":""},null,{"$f":"IF(C449=\"\",\"\",IFERROR(INDEX(IF($C$3=\"% IBOV\",'Guia de BTC'!H:H,IF($C$3=\"% Float Alugado\",'Guia de BTC'!R:R,IF($C$3=\"Valor Alugado\",'Guia de BTC'!T:T,IF($C$3=\"Volume Médio\",'Guia de BTC'!Y:Y,IF($C$3=\"Dias de Giro\",'Guia de BTC'!Z:Z,IF($C$3=\"Aluguel vs Vista\",'Guia de BTC'!AF:AF,IF($C$3=\"Ações Alugadas\",'Guia de BTC'!AD:AD,IF($C$3=\"▲ de 1 dia\",'Guia de BTC'!AJ:AJ,IF($C$3=\"Taxa Média De Aluguel\",'Guia de BTC'!AN:AN,\"\"))))))))),MATCH(C449,'Guia de BTC'!C:C,0)),\"\"))","v":""},"",""]
[null,{"$f":"IFERROR(RANK(E450,$E$5:$E$400)+COUNTIF($E$5:E450,E450)-1,\"\")","v":""},{"$f":"IF('Guia de BTC'!C452=0,\"\",'Guia de BTC'!C452)","v":""},null,{"$f":"IF(C450=\"\",\"\",IFERROR(INDEX(IF($C$3=\"% IBOV\",'Guia de BTC'!H:H,IF($C$3=\"% Float Alugado\",'Guia de BTC'!R:R,IF($C$3=\"Valor Alugado\",'Guia de BTC'!T:T,IF($C$3=\"Volume Médio\",'Guia de BTC'!Y:Y,IF($C$3=\"Dias de Giro\",'Guia de BTC'!Z:Z,IF($C$3=\"Aluguel vs Vista\",'Guia de BTC'!AF:AF,IF($C$3=\"Ações Alugadas\",'Guia de BTC'!AD:AD,IF($C$3=\"▲ de 1 dia\",'Guia de BTC'!AJ:AJ,IF($C$3=\"Taxa Média De Aluguel\",'Guia de BTC'!AN:AN,\"\"))))))))),MATCH(C450,'Guia de BTC'!C:C,0)),\"\"))","v":""},"",""]
[null,{"$f":"IFERROR(RANK(E451,$E$5:$E$400)+COUNTIF($E$5:E451,E451)-1,\"\")","v":""},{"$f":"IF('Guia de BTC'!C453=0,\"\",'Guia de BTC'!C453)","v":""},null,{"$f":"IF(C451=\"\",\"\",IFERROR(INDEX(IF($C$3=\"% IBOV\",'Guia de BTC'!H:H,IF($C$3=\"% Float Alugado\",'Guia de BTC'!R:R,IF($C$3=\"Valor Alugado\",'Guia de BTC'!T:T,IF($C$3=\"Volume Médio\",'Guia de BTC'!Y:Y,IF($C$3=\"Dias de Giro\",'Guia de BTC'!Z:Z,IF($C$3=\"Aluguel vs Vista\",'Guia de BTC'!AF:AF,IF($C$3=\"Ações Alugadas\",'Guia de BTC'!AD:AD,IF($C$3=\"▲ de 1 dia\",'Guia de BTC'!AJ:AJ,IF($C$3=\"Taxa Média De Aluguel\",'Guia de BTC'!AN:AN,\"\"))))))))),MATCH(C451,'Guia de BTC'!C:C,0)),\"\"))","v":""},"",""]
[null,{"$f":"IFERROR(RANK(E452,$E$5:$E$400)+COUNTIF($E$5:E452,E452)-1,\"\")","v":""},{"$f":"IF('Guia de BTC'!C454=0,\"\",'Guia de BTC'!C454)","v":""},null,{"$f":"IF(C452=\"\",\"\",IFERROR(INDEX(IF($C$3=\"% IBOV\",'Guia de BTC'!H:H,IF($C$3=\"% Float Alugado\",'Guia de BTC'!R:R,IF($C$3=\"Valor Alugado\",'Guia de BTC'!T:T,IF($C$3=\"Volume Médio\",'Guia de BTC'!Y:Y,IF($C$3=\"Dias de Giro\",'Guia de BTC'!Z:Z,IF($C$3=\"Aluguel vs Vista\",'Guia de BTC'!AF:AF,IF($C$3=\"Ações Alugadas\",'Guia de BTC'!AD:AD,IF($C$3=\"▲ de 1 dia\",'Guia de BTC'!AJ:AJ,IF($C$3=\"Taxa Média De Aluguel\",'Guia de BTC'!AN:AN,\"\"))))))))),MATCH(C452,'Guia de BTC'!C:C,0)),\"\"))","v":""},"",""]
[null,{"$f":"IFERROR(RANK(E453,$E$5:$E$400)+COUNTIF($E$5:E453,E453)-1,\"\")","v":""},{"$f":"IF('Guia de BTC'!C455=0,\"\",'Guia de BTC'!C455)","v":""},null,{"$f":"IF(C453=\"\",\"\",IFERROR(INDEX(IF($C$3=\"% IBOV\",'Guia de BTC'!H:H,IF($C$3=\"% Float Alugado\",'Guia de BTC'!R:R,IF($C$3=\"Valor Alugado\",'Guia de BTC'!T:T,IF($C$3=\"Volume Médio\",'Guia de BTC'!Y:Y,IF($C$3=\"Dias de Giro\",'Guia de BTC'!Z:Z,IF($C$3=\"Aluguel vs Vista\",'Guia de BTC'!AF:AF,IF($C$3=\"Ações Alugadas\",'Guia de BTC'!AD:AD,IF($C$3=\"▲ de 1 dia\",'Guia de BTC'!AJ:AJ,IF($C$3=\"Taxa Média De Aluguel\",'Guia de BTC'!AN:AN,\"\"))))))))),MATCH(C453,'Guia de BTC'!C:C,0)),\"\"))","v":""},"",""]
[null,{"$f":"IFERROR(RANK(E454,$E$5:$E$400)+COUNTIF($E$5:E454,E454)-1,\"\")","v":""},{"$f":"IF('Guia de BTC'!C456=0,\"\",'Guia de BTC'!C456)","v":""},null,{"$f":"IF(C454=\"\",\"\",IFERROR(INDEX(IF($C$3=\"% IBOV\",'Guia de BTC'!H:H,IF($C$3=\"% Float Alugado\",'Guia de BTC'!R:R,IF($C$3=\"Valor Alugado\",'Guia de BTC'!T:T,IF($C$3=\"Volume Médio\",'Guia de BTC'!Y:Y,IF($C$3=\"Dias de Giro\",'Guia de BTC'!Z:Z,IF($C$3=\"Aluguel vs Vista\",'Guia de BTC'!AF:AF,IF($C$3=\"Ações Alugadas\",'Guia de BTC'!AD:AD,IF($C$3=\"▲ de 1 dia\",'Guia de BTC'!AJ:AJ,IF($C$3=\"Taxa Média De Aluguel\",'Guia de BTC'!AN:AN,\"\"))))))))),MATCH(C454,'Guia de BTC'!C:C,0)),\"\"))","v":""},"",""]
[null,{"$f":"IFERROR(RANK(E455,$E$5:$E$400)+COUNTIF($E$5:E455,E455)-1,\"\")","v":""},{"$f":"IF('Guia de BTC'!C457=0,\"\",'Guia de BTC'!C457)","v":""},null,{"$f":"IF(C455=\"\",\"\",IFERROR(INDEX(IF($C$3=\"% IBOV\",'Guia de BTC'!H:H,IF($C$3=\"% Float Alugado\",'Guia de BTC'!R:R,IF($C$3=\"Valor Alugado\",'Guia de BTC'!T:T,IF($C$3=\"Volume Médio\",'Guia de BTC'!Y:Y,IF($C$3=\"Dias de Giro\",'Guia de BTC'!Z:Z,IF($C$3=\"Aluguel vs Vista\",'Guia de BTC'!AF:AF,IF($C$3=\"Ações Alugadas\",'Guia de BTC'!AD:AD,IF($C$3=\"▲ de 1 dia\",'Guia de BTC'!AJ:AJ,IF($C$3=\"Taxa Média De Aluguel\",'Guia de BTC'!AN:AN,\"\"))))))))),MATCH(C455,'Guia de BTC'!C:C,0)),\"\"))","v":""},{"$f":"IF(C455=\"\",\"\",IFERROR(VLOOKUP(ROW()-4,$B$3:$E$600,4,FALSE),\"\"))","v":""},{"$f":"IF(C455=\"\",\"\",IFERROR(VLOOKUP(ROW()-4,$B$3:$E$600,3,FALSE),\"\"))","v":""}]
[null,{"$f":"IFERROR(RANK(E456,$E$5:$E$400)+COUNTIF($E$5:E456,E456)-1,\"\")","v":""},{"$f":"IF('Guia de BTC'!C458=0,\"\",'Guia de BTC'!C458)","v":""},null,{"$f":"IF(C456=\"\",\"\",IFERROR(INDEX(IF($C$3=\"% IBOV\",'Guia de BTC'!H:H,IF($C$3=\"% Float Alugado\",'Guia de BTC'!R:R,IF($C$3=\"Valor Alugado\",'Guia de BTC'!T:T,IF($C$3=\"Volume Médio\",'Guia de BTC'!Y:Y,IF($C$3=\"Dias de Giro\",'Guia de BTC'!Z:Z,IF($C$3=\"Aluguel vs Vista\",'Guia de BTC'!AF:AF,IF($C$3=\"Ações Alugadas\",'Guia de BTC'!AD:AD,IF($C$3=\"▲ de 1 dia\",'Guia de BTC'!AJ:AJ,IF($C$3=\"Taxa Média De Aluguel\",'Guia de BTC'!AN:AN,\"\"))))))))),MATCH(C456,'Guia de BTC'!C:C,0)),\"\"))","v":""},"",""]
[null,{"$f":"IFERROR(RANK(E457,$E$5:$E$400)+COUNTIF($E$5:E457,E457)-1,\"\")","v":""},{"$f":"IF('Guia de BTC'!C459=0,\"\",'Guia de BTC'!C459)","v":""},null,{"$f":"IF(C457=\"\",\"\",IFERROR(INDEX(IF($C$3=\"% IBOV\",'Guia de BTC'!H:H,IF($C$3=\"% Float Alugado\",'Guia de BTC'!R:R,IF($C$3=\"Valor Alugado\",'Guia de BTC'!T:T,IF($C$3=\"Volume Médio\",'Guia de BTC'!Y:Y,IF($C$3=\"Dias de Giro\",'Guia de BTC'!Z:Z,IF($C$3=\"Aluguel vs Vista\",'Guia de BTC'!AF:AF,IF($C$3=\"Ações Alugadas\",'Guia de BTC'!AD:AD,IF($C$3=\"▲ de 1 dia\",'Guia de BTC'!AJ:AJ,IF($C$3=\"Taxa Média De Aluguel\",'Guia de BTC'!AN:AN,\"\"))))))))),MATCH(C457,'Guia de BTC'!C:C,0)),\"\"))","v":""},"",""]
[null,{"$f":"IFERROR(RANK(E458,$E$5:$E$400)+COUNTIF($E$5:E458,E458)-1,\"\")","v":""},{"$f":"IF('Guia de BTC'!C460=0,\"\",'Guia de BTC'!C460)","v":""},null,{"$f":"IF(C458=\"\",\"\",IFERROR(INDEX(IF($C$3=\"% IBOV\",'Guia de BTC'!H:H,IF($C$3=\"% Float Alugado\",'Guia de BTC'!R:R,IF($C$3=\"Valor Alugado\",'Guia de BTC'!T:T,IF($C$3=\"Volume Médio\",'Guia de BTC'!Y:Y,IF($C$3=\"Dias de Giro\",'Guia de BTC'!Z:Z,IF($C$3=\"Aluguel vs Vista\",'Guia de BTC'!AF:AF,IF($C$3=\"Ações Alugadas\",'Guia de BTC'!AD:AD,IF($C$3=\"▲ de 1 dia\",'Guia de BTC'!AJ:AJ,IF($C$3=\"Taxa Média De Aluguel\",'Guia de BTC'!AN:AN,\"\"))))))))),MATCH(C458,'Guia de BTC'!C:C,0)),\"\"))","v":""},"",""]
[null,{"$f":"IFERROR(RANK(E459,$E$5:$E$400)+COUNTIF($E$5:E459,E459)-1,\"\")","v":""},{"$f":"IF('Guia de BTC'!C461=0,\"\",'Guia de BTC'!C461)","v":""},null,{"$f":"IF(C459=\"\",\"\",IFERROR(INDEX(IF($C$3=\"% IBOV\",'Guia de BTC'!H:H,IF($C$3=\"% Float Alugado\",'Guia de BTC'!R:R,IF($C$3=\"Valor Alugado\",'Guia de BTC'!T:T,IF($C$3=\"Volume Médio\",'Guia de BTC'!Y:Y,IF($C$3=\"Dias de Giro\",'Guia de BTC'!Z:Z,IF($C$3=\"Aluguel vs Vista\",'Guia de BTC'!AF:AF,IF($C$3=\"Ações Alugadas\",'Guia de BTC'!AD:AD,IF($C$3=\"▲ de 1 dia\",'Guia de BTC'!AJ:AJ,IF($C$3=\"Taxa Média De Aluguel\",'Guia de BTC'!AN:AN,\"\"))))))))),MATCH(C459,'Guia de BTC'!C:C,0)),\"\"))","v":""},"",""]
[null,{"$f":"IFERROR(RANK(E460,$E$5:$E$400)+COUNTIF($E$5:E460,E460)-1,\"\")","v":""},{"$f":"IF('Guia de BTC'!C462=0,\"\",'Guia de BTC'!C462)","v":""},null,{"$f":"IF(C460=\"\",\"\",IFERROR(INDEX(IF($C$3=\"% IBOV\",'Guia de BTC'!H:H,IF($C$3=\"% Float Alugado\",'Guia de BTC'!R:R,IF($C$3=\"Valor Alugado\",'Guia de BTC'!T:T,IF($C$3=\"Volume Médio\",'Guia de BTC'!Y:Y,IF($C$3=\"Dias de Giro\",'Guia de BTC'!Z:Z,IF($C$3=\"Aluguel vs Vista\",'Guia de BTC'!AF:AF,IF($C$3=\"Ações Alugadas\",'Guia de BTC'!AD:AD,IF($C$3=\"▲ de 1 dia\",'Guia de BTC'!AJ:AJ,IF($C$3=\"Taxa Média De Aluguel\",'Guia de BTC'!AN:AN,\"\"))))))))),MATCH(C460,'Guia de BTC'!C:C,0)),\"\"))","v":""},"",""]
[null,{"$f":"IFERROR(RANK(E461,$E$5:$E$400)+COUNTIF($E$5:E461,E461)-1,\"\")","v":""},{"$f":"IF('Guia de BTC'!C463=0,\"\",'Guia de BTC'!C463)","v":""},null,{"$f":"IF(C461=\"\",\"\",IFERROR(INDEX(IF($C$3=\"% IBOV\",'Guia de BTC'!H:H,IF($C$3=\"% Float Alugado\",'Guia de BTC'!R:R,IF($C$3=\"Valor Alugado\",'Guia de BTC'!T:T,IF($C$3=\"Volume Médio\",'Guia de BTC'!Y:Y,IF($C$3=\"Dias de Giro\",'Guia de BTC'!Z:Z,IF($C$3=\"Aluguel vs Vista\",'Guia de BTC'!AF:AF,IF($C$3=\"Ações Alugadas\",'Guia de BTC'!AD:AD,IF($C$3=\"▲ de 1 dia\",'Guia de BTC'!AJ:AJ,IF($C$3=\"Taxa Média De Aluguel\",'Guia de BTC'!AN:AN,\"\"))))))))),MATCH(C461,'Guia de BTC'!C:C,0)),\"\"))","v":""},"",""]
[null,{"$f":"IFERROR(RANK(E462,$E$5:$E$400)+COUNTIF($E$5:E462,E462)-1,\"\")","v":""},{"$f":"IF('Guia de BTC'!C464=0,\"\",'Guia de BTC'!C464)","v":""},null,{"$f":"IF(C462=\"\",\"\",IFERROR(INDEX(IF($C$3=\"% IBOV\",'Guia de BTC'!H:H,IF($C$3=\"% Float Alugado\",'Guia de BTC'!R:R,IF($C$3=\"Valor Alugado\",'Guia de BTC'!T:T,IF($C$3=\"Volume Médio\",'Guia de BTC'!Y:Y,IF($C$3=\"Dias de Giro\",'Guia de BTC'!Z:Z,IF($C$3=\"Aluguel vs Vista\",'Guia de BTC'!AF:AF,IF($C$3=\"Ações Alugadas\",'Guia de BTC'!AD:AD,IF($C$3=\"▲ de 1 dia\",'Guia de BTC'!AJ:AJ,IF($C$3=\"Taxa Média De Aluguel\",'Guia de BTC'!AN:AN,\"\"))))))))),MATCH(C462,'Guia de BTC'!C:C,0)),\"\"))","v":""},"",""]
[null,{"$f":"IFERROR(RANK(E463,$E$5:$E$400)+COUNTIF($E$5:E463,E463)-1,\"\")","v":""},{"$f":"IF('Guia de BTC'!C465=0,\"\",'Guia de BTC'!C465)","v":""},null,{"$f":"IF(C463=\"\",\"\",IFERROR(INDEX(IF($C$3=\"% IBOV\",'Guia de BTC'!H:H,IF($C$3=\"% Float Alugado\",'Guia de BTC'!R:R,IF($C$3=\"Valor Alugado\",'Guia de BTC'!T:T,IF($C$3=\"Volume Médio\",'Guia de BTC'!Y:Y,IF($C$3=\"Dias de Giro\",'Guia de BTC'!Z:Z,IF($C$3=\"Aluguel vs Vista\",'Guia de BTC'!AF:AF,IF($C$3=\"Ações Alugadas\",'Guia de BTC'!AD:AD,IF($C$3=\"▲ de 1 dia\",'Guia de BTC'!AJ:AJ,IF($C$3=\"Taxa Média De Aluguel\",'Guia de BTC'!AN:AN,\"\"))))))))),MATCH(C463,'Guia de BTC'!C:C,0)),\"\"))","v":""},"",""]
[null,{"$f":"IFERROR(RANK(E464,$E$5:$E$400)+COUNTIF($E$5:E464,E464)-1,\"\")","v":""},{"$f":"IF('Guia de BTC'!C466=0,\"\",'Guia de BTC'!C466)","v":""},null,{"$f":"IF(C464=\"\",\"\",IFERROR(INDEX(IF($C$3=\"% IBOV\",'Guia de BTC'!H:H,IF($C$3=\"% Float Alugado\",'Guia de BTC'!R:R,IF($C$3=\"Valor Alugado\",'Guia de BTC'!T:T,IF($C$3=\"Volume Médio\",'Guia de BTC'!Y:Y,IF($C$3=\"Dias de Giro\",'Guia de BTC'!Z:Z,IF($C$3=\"Aluguel vs Vista\",'Guia de BTC'!AF:AF,IF($C$3=\"Ações Alugadas\",'Guia de BTC'!AD:AD,IF($C$3=\"▲ de 1 dia\",'Guia de BTC'!AJ:AJ,IF($C$3=\"Taxa Média De Aluguel\",'Guia de BTC'!AN:AN,\"\"))))))))),MATCH(C464,'Guia de BTC'!C:C,0)),\"\"))","v":""},"",""]
[null,{"$f":"IFERROR(RANK(E465,$E$5:$E$400)+COUNTIF($E$5:E465,E465)-1,\"\")","v":""},{"$f":"IF('Guia de BTC'!C467=0,\"\",'Guia de BTC'!C467)","v":""},null,{"$f":"IF(C465=\"\",\"\",IFERROR(INDEX(IF($C$3=\"% IBOV\",'Guia de BTC'!H:H,IF($C$3=\"% Float Alugado\",'Guia de BTC'!R:R,IF($C$3=\"Valor Alugado\",'Guia de BTC'!T:T,IF($C$3=\"Volume Médio\",'Guia de BTC'!Y:Y,IF($C$3=\"Dias de Giro\",'Guia de BTC'!Z:Z,IF($C$3=\"Aluguel vs Vista\",'Guia de BTC'!AF:AF,IF($C$3=\"Ações Alugadas\",'Guia de BTC'!AD:AD,IF($C$3=\"▲ de 1 dia\",'Guia de BTC'!AJ:AJ,IF($C$3=\"Taxa Média De Aluguel\",'Guia de BTC'!AN:AN,\"\"))))))))),MATCH(C465,'Guia de BTC'!C:C,0)),\"\"))","v":""},"",""]
[null,{"$f":"IFERROR(RANK(E466,$E$5:$E$400)+COUNTIF($E$5:E466,E466)-1,\"\")","v":""},{"$f":"IF('Guia de BTC'!C468=0,\"\",'Guia de BTC'!C468)","v":""},null,{"$f":"IF(C466=\"\",\"\",IFERROR(INDEX(IF($C$3=\"% IBOV\",'Guia de BTC'!H:H,IF($C$3=\"% Float Alugado\",'Guia de BTC'!R:R,IF($C$3=\"Valor Alugado\",'Guia de BTC'!T:T,IF($C$3=\"Volume Médio\",'Guia de BTC'!Y:Y,IF($C$3=\"Dias de Giro\",'Guia de BTC'!Z:Z,IF($C$3=\"Aluguel vs Vista\",'Guia de BTC'!AF:AF,IF($C$3=\"Ações Alugadas\",'Guia de BTC'!AD:AD,IF($C$3=\"▲ de 1 dia\",'Guia de BTC'!AJ:AJ,IF($C$3=\"Taxa Média De Aluguel\",'Guia de BTC'!AN:AN,\"\"))))))))),MATCH(C466,'Guia de BTC'!C:C,0)),\"\"))","v":""},"",""]
[null,{"$f":"IFERROR(RANK(E467,$E$5:$E$400)+COUNTIF($E$5:E467,E467)-1,\"\")","v":""},{"$f":"IF('Guia de BTC'!C469=0,\"\",'Guia de BTC'!C469)","v":""},null,{"$f":"IF(C467=\"\",\"\",IFERROR(INDEX(IF($C$3=\"% IBOV\",'Guia de BTC'!H:H,IF($C$3=\"% Float Alugado\",'Guia de BTC'!R:R,IF($C$3=\"Valor Alugado\",'Guia de BTC'!T:T,IF($C$3=\"Volume Médio\",'Guia de BTC'!Y:Y,IF($C$3=\"Dias de Giro\",'Guia de BTC'!Z:Z,IF($C$3=\"Aluguel vs Vista\",'Guia de BTC'!AF:AF,IF($C$3=\"Ações Alugadas\",'Guia de BTC'!AD:AD,IF($C$3=\"▲ de 1 dia\",'Guia de BTC'!AJ:AJ,IF($C$3=\"Taxa Média De Aluguel\",'Guia de BTC'!AN:AN,\"\"))))))))),MATCH(C467,'Guia de BTC'!C:C,0)),\"\"))","v":""},"",""]
[null,{"$f":"IFERROR(RANK(E468,$E$5:$E$400)+COUNTIF($E$5:E468,E468)-1,\"\")","v":""},{"$f":"IF('Guia de BTC'!C470=0,\"\",'Guia de BTC'!C470)","v":""},null,{"$f":"IF(C468=\"\",\"\",IFERROR(INDEX(IF($C$3=\"% IBOV\",'Guia de BTC'!H:H,IF($C$3=\"% Float Alugado\",'Guia de BTC'!R:R,IF($C$3=\"Valor Alugado\",'Guia de BTC'!T:T,IF($C$3=\"Volume Médio\",'Guia de BTC'!Y:Y,IF($C$3=\"Dias de Giro\",'Guia de BTC'!Z:Z,IF($C$3=\"Aluguel vs Vista\",'Guia de BTC'!AF:AF,IF($C$3=\"Ações Alugadas\",'Guia de BTC'!AD:AD,IF($C$3=\"▲ de 1 dia\",'Guia de BTC'!AJ:AJ,IF($C$3=\"Taxa Média De Aluguel\",'Guia de BTC'!AN:AN,\"\"))))))))),MATCH(C468,'Guia de BTC'!C:C,0)),\"\"))","v":""},"",""]
[null,{"$f":"IFERROR(RANK(E469,$E$5:$E$400)+COUNTIF($E$5:E469,E469)-1,\"\")","v":""},{"$f":"IF('Guia de BTC'!C471=0,\"\",'Guia de BTC'!C471)","v":""},null,{"$f":"IF(C469=\"\",\"\",IFERROR(INDEX(IF($C$3=\"% IBOV\",'Guia de BTC'!H:H,IF($C$3=\"% Float Alugado\",'Guia de BTC'!R:R,IF($C$3=\"Valor Alugado\",'Guia de BTC'!T:T,IF($C$3=\"Volume Médio\",'Guia de BTC'!Y:Y,IF($C$3=\"Dias de Giro\",'Guia de BTC'!Z:Z,IF($C$3=\"Aluguel vs Vista\",'Guia de BTC'!AF:AF,IF($C$3=\"Ações Alugadas\",'Guia de BTC'!AD:AD,IF($C$3=\"▲ de 1 dia\",'Guia de BTC'!AJ:AJ,IF($C$3=\"Taxa Média De Aluguel\",'Guia de BTC'!AN:AN,\"\"))))))))),MATCH(C469,'Guia de BTC'!C:C,0)),\"\"))","v":""},"",""]
[null,{"$f":"IFERROR(RANK(E470,$E$5:$E$400)+COUNTIF($E$5:E470,E470)-1,\"\")","v":""},{"$f":"IF('Guia de BTC'!C472=0,\"\",'Guia de BTC'!C472)","v":""},null,{"$f":"IF(C470=\"\",\"\",IFERROR(INDEX(IF($C$3=\"% IBOV\",'Guia de BTC'!H:H,IF($C$3=\"% Float Alugado\",'Guia de BTC'!R:R,IF($C$3=\"Valor Alugado\",'Guia de BTC'!T:T,IF($C$3=\"Volume Médio\",'Guia de BTC'!Y:Y,IF($C$3=\"Dias de Giro\",'Guia de BTC'!Z:Z,IF($C$3=\"Aluguel vs Vista\",'Guia de BTC'!AF:AF,IF($C$3=\"Ações Alugadas\",'Guia de BTC'!AD:AD,IF($C$3=\"▲ de 1 dia\",'Guia de BTC'!AJ:AJ,IF($C$3=\"Taxa Média De Aluguel\",'Guia de BTC'!AN:AN,\"\"))))))))),MATCH(C470,'Guia de BTC'!C:C,0)),\"\"))","v":""},"",""]
[null,{"$f":"IFERROR(RANK(E471,$E$5:$E$400)+COUNTIF($E$5:E471,E471)-1,\"\")","v":""},{"$f":"IF('Guia de BTC'!C473=0,\"\",'Guia de BTC'!C473)","v":""},null,{"$f":"IF(C471=\"\",\"\",IFERROR(INDEX(IF($C$3=\"% IBOV\",'Guia de BTC'!H:H,IF($C$3=\"% Float Alugado\",'Guia de BTC'!R:R,IF($C$3=\"Valor Alugado\",'Guia de BTC'!T:T,IF($C$3=\"Volume Médio\",'Guia de BTC'!Y:Y,IF($C$3=\"Dias de Giro\",'Guia de BTC'!Z:Z,IF($C$3=\"Aluguel vs Vista\",'Guia de BTC'!AF:AF,IF($C$3=\"Ações Alugadas\",'Guia de BTC'!AD:AD,IF($C$3=\"▲ de 1 dia\",'Guia de BTC'!AJ:AJ,IF($C$3=\"Taxa Média De Aluguel\",'Guia de BTC'!AN:AN,\"\"))))))))),MATCH(C471,'Guia de BTC'!C:C,0)),\"\"))","v":""},"",""]
[null,{"$f":"IFERROR(RANK(E472,$E$5:$E$400)+COUNTIF($E$5:E472,E472)-1,\"\")","v":""},{"$f":"IF('Guia de BTC'!C474=0,\"\",'Guia de BTC'!C474)","v":""},null,{"$f":"IF(C472=\"\",\"\",IFERROR(INDEX(IF($C$3=\"% IBOV\",'Guia de BTC'!H:H,IF($C$3=\"% Float Alugado\",'Guia de BTC'!R:R,IF($C$3=\"Valor Alugado\",'Guia de BTC'!T:T,IF($C$3=\"Volume Médio\",'Guia de BTC'!Y:Y,IF($C$3=\"Dias de Giro\",'Guia de BTC'!Z:Z,IF($C$3=\"Aluguel vs Vista\",'Guia de BTC'!AF:AF,IF($C$3=\"Ações Alugadas\",'Guia de BTC'!AD:AD,IF($C$3=\"▲ de 1 dia\",'Guia de BTC'!AJ:AJ,IF($C$3=\"Taxa Média De Aluguel\",'Guia de BTC'!AN:AN,\"\"))))))))),MATCH(C472,'Guia de BTC'!C:C,0)),\"\"))","v":""},"",""]
[null,{"$f":"IFERROR(RANK(E473,$E$5:$E$400)+COUNTIF($E$5:E473,E473)-1,\"\")","v":""},{"$f":"IF('Guia de BTC'!C475=0,\"\",'Guia de BTC'!C475)","v":""},null,{"$f":"IF(C473=\"\",\"\",IFERROR(INDEX(IF($C$3=\"% IBOV\",'Guia de BTC'!H:H,IF($C$3=\"% Float Alugado\",'Guia de BTC'!R:R,IF($C$3=\"Valor Alugado\",'Guia de BTC'!T:T,IF($C$3=\"Volume Médio\",'Guia de BTC'!Y:Y,IF($C$3=\"Dias de Giro\",'Guia de BTC'!Z:Z,IF($C$3=\"Aluguel vs Vista\",'Guia de BTC'!AF:AF,IF($C$3=\"Ações Alugadas\",'Guia de BTC'!AD:AD,IF($C$3=\"▲ de 1 dia\",'Guia de BTC'!AJ:AJ,IF($C$3=\"Taxa Média De Aluguel\",'Guia de BTC'!AN:AN,\"\"))))))))),MATCH(C473,'Guia de BTC'!C:C,0)),\"\"))","v":""},"",""]
[null,{"$f":"IFERROR(RANK(E474,$E$5:$E$400)+COUNTIF($E$5:E474,E474)-1,\"\")","v":""},{"$f":"IF('Guia de BTC'!C476=0,\"\",'Guia de BTC'!C476)","v":""},null,{"$f":"IF(C474=\"\",\"\",IFERROR(INDEX(IF($C$3=\"% IBOV\",'Guia de BTC'!H:H,IF($C$3=\"% Float Alugado\",'Guia de BTC'!R:R,IF($C$3=\"Valor Alugado\",'Guia de BTC'!T:T,IF($C$3=\"Volume Médio\",'Guia de BTC'!Y:Y,IF($C$3=\"Dias de Giro\",'Guia de BTC'!Z:Z,IF($C$3=\"Aluguel vs Vista\",'Guia de BTC'!AF:AF,IF($C$3=\"Ações Alugadas\",'Guia de BTC'!AD:AD,IF($C$3=\"▲ de 1 dia\",'Guia de BTC'!AJ:AJ,IF($C$3=\"Taxa Média De Aluguel\",'Guia de BTC'!AN:AN,\"\"))))))))),MATCH(C474,'Guia de BTC'!C:C,0)),\"\"))","v":""},"",""]
[null,{"$f":"IFERROR(RANK(E475,$E$5:$E$400)+COUNTIF($E$5:E475,E475)-1,\"\")","v":""},{"$f":"IF('Guia de BTC'!C477=0,\"\",'Guia de BTC'!C477)","v":""},null,{"$f":"IF(C475=\"\",\"\",IFERROR(INDEX(IF($C$3=\"% IBOV\",'Guia de BTC'!H:H,IF($C$3=\"% Float Alugado\",'Guia de BTC'!R:R,IF($C$3=\"Valor Alugado\",'Guia de BTC'!T:T,IF($C$3=\"Volume Médio\",'Guia de BTC'!Y:Y,IF($C$3=\"Dias de Giro\",'Guia de BTC'!Z:Z,IF($C$3=\"Aluguel vs Vista\",'Guia de BTC'!AF:AF,IF($C$3=\"Ações Alugadas\",'Guia de BTC'!AD:AD,IF($C$3=\"▲ de 1 dia\",'Guia de BTC'!AJ:AJ,IF($C$3=\"Taxa Média De Aluguel\",'Guia de BTC'!AN:AN,\"\"))))))))),MATCH(C475,'Guia de BTC'!C:C,0)),\"\"))","v":""},"",""]
[null,{"$f":"IFERROR(RANK(E476,$E$5:$E$400)+COUNTIF($E$5:E476,E476)-1,\"\")","v":""},{"$f":"IF('Guia de BTC'!C478=0,\"\",'Guia de BTC'!C478)","v":""},null,{"$f":"IF(C476=\"\",\"\",IFERROR(INDEX(IF($C$3=\"% IBOV\",'Guia de BTC'!H:H,IF($C$3=\"% Float Alugado\",'Guia de BTC'!R:R,IF($C$3=\"Valor Alugado\",'Guia de BTC'!T:T,IF($C$3=\"Volume Médio\",'Guia de BTC'!Y:Y,IF($C$3=\"Dias de Giro\",'Guia de BTC'!Z:Z,IF($C$3=\"Aluguel vs Vista\",'Guia de BTC'!AF:AF,IF($C$3=\"Ações Alugadas\",'Guia de BTC'!AD:AD,IF($C$3=\"▲ de 1 dia\",'Guia de BTC'!AJ:AJ,IF($C$3=\"Taxa Média De Aluguel\",'Guia de BTC'!AN:AN,\"\"))))))))),MATCH(C476,'Guia de BTC'!C:C,0)),\"\"))","v":""},"",""]
[null,{"$f":"IFERROR(RANK(E477,$E$5:$E$400)+COUNTIF($E$5:E477,E477)-1,\"\")","v":""},{"$f":"IF('Guia de BTC'!C479=0,\"\",'Guia de BTC'!C479)","v":""},null,{"$f":"IF(C477=\"\",\"\",IFERROR(INDEX(IF($C$3=\"% IBOV\",'Guia de BTC'!H:H,IF($C$3=\"% Float Alugado\",'Guia de BTC'!R:R,IF($C$3=\"Valor Alugado\",'Guia de BTC'!T:T,IF($C$3=\"Volume Médio\",'Guia de BTC'!Y:Y,IF($C$3=\"Dias de Giro\",'Guia de BTC'!Z:Z,IF($C$3=\"Aluguel vs Vista\",'Guia de BTC'!AF:AF,IF($C$3=\"Ações Alugadas\",'Guia de BTC'!AD:AD,IF($C$3=\"▲ de 1 dia\",'Guia de BTC'!AJ:AJ,IF($C$3=\"Taxa Média De Aluguel\",'Guia de BTC'!AN:AN,\"\"))))))))),MATCH(C477,'Guia de BTC'!C:C,0)),\"\"))","v":""},"",""]
[null,{"$f":"IFERROR(RANK(E478,$E$5:$E$400)+COUNTIF($E$5:E478,E478)-1,\"\")","v":""},{"$f":"IF('Guia de BTC'!C480=0,\"\",'Guia de BTC'!C480)","v":""},null,{"$f":"IF(C478=\"\",\"\",IFERROR(INDEX(IF($C$3=\"% IBOV\",'Guia de BTC'!H:H,IF($C$3=\"% Float Alugado\",'Guia de BTC'!R:R,IF($C$3=\"Valor Alugado\",'Guia de BTC'!T:T,IF($C$3=\"Volume Médio\",'Guia de BTC'!Y:Y,IF($C$3=\"Dias de Giro\",'Guia de BTC'!Z:Z,IF($C$3=\"Aluguel vs Vista\",'Guia de BTC'!AF:AF,IF($C$3=\"Ações Alugadas\",'Guia de BTC'!AD:AD,IF($C$3=\"▲ de 1 dia\",'Guia de BTC'!AJ:AJ,IF($C$3=\"Taxa Média De Aluguel\",'Guia de BTC'!AN:AN,\"\"))))))))),MATCH(C478,'Guia de BTC'!C:C,0)),\"\"))","v":""},"",""]
[null,{"$f":"IFERROR(RANK(E479,$E$5:$E$400)+COUNTIF($E$5:E479,E479)-1,\"\")","v":""},{"$f":"IF('Guia de BTC'!C481=0,\"\",'Guia de BTC'!C481)","v":""},null,{"$f":"IF(C479=\"\",\"\",IFERROR(INDEX(IF($C$3=\"% IBOV\",'Guia de BTC'!H:H,IF($C$3=\"% Float Alugado\",'Guia de BTC'!R:R,IF($C$3=\"Valor Alugado\",'Guia de BTC'!T:T,IF($C$3=\"Volume Médio\",'Guia de BTC'!Y:Y,IF($C$3=\"Dias de Giro\",'Guia de BTC'!Z:Z,IF($C$3=\"Aluguel vs Vista\",'Guia de BTC'!AF:AF,IF($C$3=\"Ações Alugadas\",'Guia de BTC'!AD:AD,IF($C$3=\"▲ de 1 dia\",'Guia de BTC'!AJ:AJ,IF($C$3=\"Taxa Média De Aluguel\",'Guia de BTC'!AN:AN,\"\"))))))))),MATCH(C479,'Guia de BTC'!C:C,0)),\"\"))","v":""},"",""]
[null,{"$f":"IFERROR(RANK(E480,$E$5:$E$400)+COUNTIF($E$5:E480,E480)-1,\"\")","v":""},{"$f":"IF('Guia de BTC'!C482=0,\"\",'Guia de BTC'!C482)","v":""},null,{"$f":"IF(C480=\"\",\"\",IFERROR(INDEX(IF($C$3=\"% IBOV\",'Guia de BTC'!H:H,IF($C$3=\"% Float Alugado\",'Guia de BTC'!R:R,IF($C$3=\"Valor Alugado\",'Guia de BTC'!T:T,IF($C$3=\"Volume Médio\",'Guia de BTC'!Y:Y,IF($C$3=\"Dias de Giro\",'Guia de BTC'!Z:Z,IF($C$3=\"Aluguel vs Vista\",'Guia de BTC'!AF:AF,IF($C$3=\"Ações Alugadas\",'Guia de BTC'!AD:AD,IF($C$3=\"▲ de 1 dia\",'Guia de BTC'!AJ:AJ,IF($C$3=\"Taxa Média De Aluguel\",'Guia de BTC'!AN:AN,\"\"))))))))),MATCH(C480,'Guia de BTC'!C:C,0)),\"\"))","v":""},"",""]
[null,{"$f":"IFERROR(RANK(E481,$E$5:$E$400)+COUNTIF($E$5:E481,E481)-1,\"\")","v":""},{"$f":"IF('Guia de BTC'!C483=0,\"\",'Guia de BTC'!C483)","v":""},null,{"$f":"IF(C481=\"\",\"\",IFERROR(INDEX(IF($C$3=\"% IBOV\",'Guia de BTC'!H:H,IF($C$3=\"% Float Alugado\",'Guia de BTC'!R:R,IF($C$3=\"Valor Alugado\",'Guia de BTC'!T:T,IF($C$3=\"Volume Médio\",'Guia de BTC'!Y:Y,IF($C$3=\"Dias de Giro\",'Guia de BTC'!Z:Z,IF($C$3=\"Aluguel vs Vista\",'Guia de BTC'!AF:AF,IF($C$3=\"Ações Alugadas\",'Guia de BTC'!AD:AD,IF($C$3=\"▲ de 1 dia\",'Guia de BTC'!AJ:AJ,IF($C$3=\"Taxa Média De Aluguel\",'Guia de BTC'!AN:AN,\"\"))))))))),MATCH(C481,'Guia de BTC'!C:C,0)),\"\"))","v":""},"",""]
[null,{"$f":"IFERROR(RANK(E482,$E$5:$E$400)+COUNTIF($E$5:E482,E482)-1,\"\")","v":""},{"$f":"IF('Guia de BTC'!C484=0,\"\",'Guia de BTC'!C484)","v":""},null,{"$f":"IF(C482=\"\",\"\",IFERROR(INDEX(IF($C$3=\"% IBOV\",'Guia de BTC'!H:H,IF($C$3=\"% Float Alugado\",'Guia de BTC'!R:R,IF($C$3=\"Valor Alugado\",'Guia de BTC'!T:T,IF($C$3=\"Volume Médio\",'Guia de BTC'!Y:Y,IF($C$3=\"Dias de Giro\",'Guia de BTC'!Z:Z,IF($C$3=\"Aluguel vs Vista\",'Guia de BTC'!AF:AF,IF($C$3=\"Ações Alugadas\",'Guia de BTC'!AD:AD,IF($C$3=\"▲ de 1 dia\",'Guia de BTC'!AJ:AJ,IF($C$3=\"Taxa Média De Aluguel\",'Guia de BTC'!AN:AN,\"\"))))))))),MATCH(C482,'Guia de BTC'!C:C,0)),\"\"))","v":""},"",""]
[null,{"$f":"IFERROR(RANK(E483,$E$5:$E$400)+COUNTIF($E$5:E483,E483)-1,\"\")","v":""},{"$f":"IF('Guia de BTC'!C485=0,\"\",'Guia de BTC'!C485)","v":""},null,{"$f":"IF(C483=\"\",\"\",IFERROR(INDEX(IF($C$3=\"% IBOV\",'Guia de BTC'!H:H,IF($C$3=\"% Float Alugado\",'Guia de BTC'!R:R,IF($C$3=\"Valor Alugado\",'Guia de BTC'!T:T,IF($C$3=\"Volume Médio\",'Guia de BTC'!Y:Y,IF($C$3=\"Dias de Giro\",'Guia de BTC'!Z:Z,IF($C$3=\"Aluguel vs Vista\",'Guia de BTC'!AF:AF,IF($C$3=\"Ações Alugadas\",'Guia de BTC'!AD:AD,IF($C$3=\"▲ de 1 dia\",'Guia de BTC'!AJ:AJ,IF($C$3=\"Taxa Média De Aluguel\",'Guia de BTC'!AN:AN,\"\"))))))))),MATCH(C483,'Guia de BTC'!C:C,0)),\"\"))","v":""},"",""]
[null,{"$f":"IFERROR(RANK(E484,$E$5:$E$400)+COUNTIF($E$5:E484,E484)-1,\"\")","v":""},{"$f":"IF('Guia de BTC'!C486=0,\"\",'Guia de BTC'!C486)","v":""},null,{"$f":"IF(C484=\"\",\"\",IFERROR(INDEX(IF($C$3=\"% IBOV\",'Guia de BTC'!H:H,IF($C$3=\"% Float Alugado\",'Guia de BTC'!R:R,IF($C$3=\"Valor Alugado\",'Guia de BTC'!T:T,IF($C$3=\"Volume Médio\",'Guia de BTC'!Y:Y,IF($C$3=\"Dias de Giro\",'Guia de BTC'!Z:Z,IF($C$3=\"Aluguel vs Vista\",'Guia de BTC'!AF:AF,IF($C$3=\"Ações Alugadas\",'Guia de BTC'!AD:AD,IF($C$3=\"▲ de 1 dia\",'Guia de BTC'!AJ:AJ,IF($C$3=\"Taxa Média De Aluguel\",'Guia de BTC'!AN:AN,\"\"))))))))),MATCH(C484,'Guia de BTC'!C:C,0)),\"\"))","v":""},"",""]
[null,{"$f":"IFERROR(RANK(E485,$E$5:$E$400)+COUNTIF($E$5:E485,E485)-1,\"\")","v":""},{"$f":"IF('Guia de BTC'!C487=0,\"\",'Guia de BTC'!C487)","v":""},null,{"$f":"IF(C485=\"\",\"\",IFERROR(INDEX(IF($C$3=\"% IBOV\",'Guia de BTC'!H:H,IF($C$3=\"% Float Alugado\",'Guia de BTC'!R:R,IF($C$3=\"Valor Alugado\",'Guia de BTC'!T:T,IF($C$3=\"Volume Médio\",'Guia de BTC'!Y:Y,IF($C$3=\"Dias de Giro\",'Guia de BTC'!Z:Z,IF($C$3=\"Aluguel vs Vista\",'Guia de BTC'!AF:AF,IF($C$3=\"Ações Alugadas\",'Guia de BTC'!AD:AD,IF($C$3=\"▲ de 1 dia\",'Guia de BTC'!AJ:AJ,IF($C$3=\"Taxa Média De Aluguel\",'Guia de BTC'!AN:AN,\"\"))))))))),MATCH(C485,'Guia de BTC'!C:C,0)),\"\"))","v":""},"",""]
[null,{"$f":"IFERROR(RANK(E486,$E$5:$E$400)+COUNTIF($E$5:E486,E486)-1,\"\")","v":""},{"$f":"IF('Guia de BTC'!C488=0,\"\",'Guia de BTC'!C488)","v":""},null,{"$f":"IF(C486=\"\",\"\",IFERROR(INDEX(IF($C$3=\"% IBOV\",'Guia de BTC'!H:H,IF($C$3=\"% Float Alugado\",'Guia de BTC'!R:R,IF($C$3=\"Valor Alugado\",'Guia de BTC'!T:T,IF($C$3=\"Volume Médio\",'Guia de BTC'!Y:Y,IF($C$3=\"Dias de Giro\",'Guia de BTC'!Z:Z,IF($C$3=\"Aluguel vs Vista\",'Guia de BTC'!AF:AF,IF($C$3=\"Ações Alugadas\",'Guia de BTC'!AD:AD,IF($C$3=\"▲ de 1 dia\",'Guia de BTC'!AJ:AJ,IF($C$3=\"Taxa Média De Aluguel\",'Guia de BTC'!AN:AN,\"\"))))))))),MATCH(C486,'Guia de BTC'!C:C,0)),\"\"))","v":""},"",""]
[null,{"$f":"IFERROR(RANK(E487,$E$5:$E$400)+COUNTIF($E$5:E487,E487)-1,\"\")","v":""},{"$f":"IF('Guia de BTC'!C489=0,\"\",'Guia de BTC'!C489)","v":""},null,{"$f":"IF(C487=\"\",\"\",IFERROR(INDEX(IF($C$3=\"% IBOV\",'Guia de BTC'!H:H,IF($C$3=\"% Float Alugado\",'Guia de BTC'!R:R,IF($C$3=\"Valor Alugado\",'Guia de BTC'!T:T,IF($C$3=\"Volume Médio\",'Guia de BTC'!Y:Y,IF($C$3=\"Dias de Giro\",'Guia de BTC'!Z:Z,IF($C$3=\"Aluguel vs Vista\",'Guia de BTC'!AF:AF,IF($C$3=\"Ações Alugadas\",'Guia de BTC'!AD:AD,IF($C$3=\"▲ de 1 dia\",'Guia de BTC'!AJ:AJ,IF($C$3=\"Taxa Média De Aluguel\",'Guia de BTC'!AN:AN,\"\"))))))))),MATCH(C487,'Guia de BTC'!C:C,0)),\"\"))","v":""},"",""]
[null,{"$f":"IFERROR(RANK(E488,$E$5:$E$400)+COUNTIF($E$5:E488,E488)-1,\"\")","v":""},{"$f":"IF('Guia de BTC'!C490=0,\"\",'Guia de BTC'!C490)","v":""},null,{"$f":"IF(C488=\"\",\"\",IFERROR(INDEX(IF($C$3=\"% IBOV\",'Guia de BTC'!H:H,IF($C$3=\"% Float Alugado\",'Guia de BTC'!R:R,IF($C$3=\"Valor Alugado\",'Guia de BTC'!T:T,IF($C$3=\"Volume Médio\",'Guia de BTC'!Y:Y,IF($C$3=\"Dias de Giro\",'Guia de BTC'!Z:Z,IF($C$3=\"Aluguel vs Vista\",'Guia de BTC'!AF:AF,IF($C$3=\"Ações Alugadas\",'Guia de BTC'!AD:AD,IF($C$3=\"▲ de 1 dia\",'Guia de BTC'!AJ:AJ,IF($C$3=\"Taxa Média De Aluguel\",'Guia de BTC'!AN:AN,\"\"))))))))),MATCH(C488,'Guia de BTC'!C:C,0)),\"\"))","v":""},"",""]
[null,{"$f":"IFERROR(RANK(E489,$E$5:$E$400)+COUNTIF($E$5:E489,E489)-1,\"\")","v":""},{"$f":"IF('Guia de BTC'!C491=0,\"\",'Guia de BTC'!C491)","v":""},null,{"$f":"IF(C489=\"\",\"\",IFERROR(INDEX(IF($C$3=\"% IBOV\",'Guia de BTC'!H:H,IF($C$3=\"% Float Alugado\",'Guia de BTC'!R:R,IF($C$3=\"Valor Alugado\",'Guia de BTC'!T:T,IF($C$3=\"Volume Médio\",'Guia de BTC'!Y:Y,IF($C$3=\"Dias de Giro\",'Guia de BTC'!Z:Z,IF($C$3=\"Aluguel vs Vista\",'Guia de BTC'!AF:AF,IF($C$3=\"Ações Alugadas\",'Guia de BTC'!AD:AD,IF($C$3=\"▲ de 1 dia\",'Guia de BTC'!AJ:AJ,IF($C$3=\"Taxa Média De Aluguel\",'Guia de BTC'!AN:AN,\"\"))))))))),MATCH(C489,'Guia de BTC'!C:C,0)),\"\"))","v":""},"",""]
[null,{"$f":"IFERROR(RANK(E490,$E$5:$E$400)+COUNTIF($E$5:E490,E490)-1,\"\")","v":""},{"$f":"IF('Guia de BTC'!C492=0,\"\",'Guia de BTC'!C492)","v":""},null,{"$f":"IF(C490=\"\",\"\",IFERROR(INDEX(IF($C$3=\"% IBOV\",'Guia de BTC'!H:H,IF($C$3=\"% Float Alugado\",'Guia de BTC'!R:R,IF($C$3=\"Valor Alugado\",'Guia de BTC'!T:T,IF($C$3=\"Volume Médio\",'Guia de BTC'!Y:Y,IF($C$3=\"Dias de Giro\",'Guia de BTC'!Z:Z,IF($C$3=\"Aluguel vs Vista\",'Guia de BTC'!AF:AF,IF($C$3=\"Ações Alugadas\",'Guia de BTC'!AD:AD,IF($C$3=\"▲ de 1 dia\",'Guia de BTC'!AJ:AJ,IF($C$3=\"Taxa Média De Aluguel\",'Guia de BTC'!AN:AN,\"\"))))))))),MATCH(C490,'Guia de BTC'!C:C,0)),\"\"))","v":""},"",""]
[null,{"$f":"IFERROR(RANK(E491,$E$5:$E$400)+COUNTIF($E$5:E491,E491)-1,\"\")","v":""},{"$f":"IF('Guia de BTC'!C493=0,\"\",'Guia de BTC'!C493)","v":""},null,{"$f":"IF(C491=\"\",\"\",IFERROR(INDEX(IF($C$3=\"% IBOV\",'Guia de BTC'!H:H,IF($C$3=\"% Float Alugado\",'Guia de BTC'!R:R,IF($C$3=\"Valor Alugado\",'Guia de BTC'!T:T,IF($C$3=\"Volume Médio\",'Guia de BTC'!Y:Y,IF($C$3=\"Dias de Giro\",'Guia de BTC'!Z:Z,IF($C$3=\"Aluguel vs Vista\",'Guia de BTC'!AF:AF,IF($C$3=\"Ações Alugadas\",'Guia de BTC'!AD:AD,IF($C$3=\"▲ de 1 dia\",'Guia de BTC'!AJ:AJ,IF($C$3=\"Taxa Média De Aluguel\",'Guia de BTC'!AN:AN,\"\"))))))))),MATCH(C491,'Guia de BTC'!C:C,0)),\"\"))","v":""},"",""]
[null,{"$f":"IFERROR(RANK(E492,$E$5:$E$400)+COUNTIF($E$5:E492,E492)-1,\"\")","v":""},{"$f":"IF('Guia de BTC'!C494=0,\"\",'Guia de BTC'!C494)","v":""},null,{"$f":"IF(C492=\"\",\"\",IFERROR(INDEX(IF($C$3=\"% IBOV\",'Guia de BTC'!H:H,IF($C$3=\"% Float Alugado\",'Guia de BTC'!R:R,IF($C$3=\"Valor Alugado\",'Guia de BTC'!T:T,IF($C$3=\"Volume Médio\",'Guia de BTC'!Y:Y,IF($C$3=\"Dias de Giro\",'Guia de BTC'!Z:Z,IF($C$3=\"Aluguel vs Vista\",'Guia de BTC'!AF:AF,IF($C$3=\"Ações Alugadas\",'Guia de BTC'!AD:AD,IF($C$3=\"▲ de 1 dia\",'Guia de BTC'!AJ:AJ,IF($C$3=\"Taxa Média De Aluguel\",'Guia de BTC'!AN:AN,\"\"))))))))),MATCH(C492,'Guia de BTC'!C:C,0)),\"\"))","v":""},"",""]
[null,{"$f":"IFERROR(RANK(E493,$E$5:$E$400)+COUNTIF($E$5:E493,E493)-1,\"\")","v":""},{"$f":"IF('Guia de BTC'!C495=0,\"\",'Guia de BTC'!C495)","v":""},null,{"$f":"IF(C493=\"\",\"\",IFERROR(INDEX(IF($C$3=\"% IBOV\",'Guia de BTC'!H:H,IF($C$3=\"% Float Alugado\",'Guia de BTC'!R:R,IF($C$3=\"Valor Alugado\",'Guia de BTC'!T:T,IF($C$3=\"Volume Médio\",'Guia de BTC'!Y:Y,IF($C$3=\"Dias de Giro\",'Guia de BTC'!Z:Z,IF($C$3=\"Aluguel vs Vista\",'Guia de BTC'!AF:AF,IF($C$3=\"Ações Alugadas\",'Guia de BTC'!AD:AD,IF($C$3=\"▲ de 1 dia\",'Guia de BTC'!AJ:AJ,IF($C$3=\"Taxa Média De Aluguel\",'Guia de BTC'!AN:AN,\"\"))))))))),MATCH(C493,'Guia de BTC'!C:C,0)),\"\"))","v":""},"",""]
[null,{"$f":"IFERROR(RANK(E494,$E$5:$E$400)+COUNTIF($E$5:E494,E494)-1,\"\")","v":""},{"$f":"IF('Guia de BTC'!C496=0,\"\",'Guia de BTC'!C496)","v":""},null,{"$f":"IF(C494=\"\",\"\",IFERROR(INDEX(IF($C$3=\"% IBOV\",'Guia de BTC'!H:H,IF($C$3=\"% Float Alugado\",'Guia de BTC'!R:R,IF($C$3=\"Valor Alugado\",'Guia de BTC'!T:T,IF($C$3=\"Volume Médio\",'Guia de BTC'!Y:Y,IF($C$3=\"Dias de Giro\",'Guia de BTC'!Z:Z,IF($C$3=\"Aluguel vs Vista\",'Guia de BTC'!AF:AF,IF($C$3=\"Ações Alugadas\",'Guia de BTC'!AD:AD,IF($C$3=\"▲ de 1 dia\",'Guia de BTC'!AJ:AJ,IF($C$3=\"Taxa Média De Aluguel\",'Guia de BTC'!AN:AN,\"\"))))))))),MATCH(C494,'Guia de BTC'!C:C,0)),\"\"))","v":""},"",""]
[null,{"$f":"IFERROR(RANK(E495,$E$5:$E$400)+COUNTIF($E$5:E495,E495)-1,\"\")","v":""},{"$f":"IF('Guia de BTC'!C497=0,\"\",'Guia de BTC'!C497)","v":""},null,{"$f":"IF(C495=\"\",\"\",IFERROR(INDEX(IF($C$3=\"% IBOV\",'Guia de BTC'!H:H,IF($C$3=\"% Float Alugado\",'Guia de BTC'!R:R,IF($C$3=\"Valor Alugado\",'Guia de BTC'!T:T,IF($C$3=\"Volume Médio\",'Guia de BTC'!Y:Y,IF($C$3=\"Dias de Giro\",'Guia de BTC'!Z:Z,IF($C$3=\"Aluguel vs Vista\",'Guia de BTC'!AF:AF,IF($C$3=\"Ações Alugadas\",'Guia de BTC'!AD:AD,IF($C$3=\"▲ de 1 dia\",'Guia de BTC'!AJ:AJ,IF($C$3=\"Taxa Média De Aluguel\",'Guia de BTC'!AN:AN,\"\"))))))))),MATCH(C495,'Guia de BTC'!C:C,0)),\"\"))","v":""},"",""]
[null,{"$f":"IFERROR(RANK(E496,$E$5:$E$400)+COUNTIF($E$5:E496,E496)-1,\"\")","v":""},{"$f":"IF('Guia de BTC'!C498=0,\"\",'Guia de BTC'!C498)","v":""},null,{"$f":"IF(C496=\"\",\"\",IFERROR(INDEX(IF($C$3=\"% IBOV\",'Guia de BTC'!H:H,IF($C$3=\"% Float Alugado\",'Guia de BTC'!R:R,IF($C$3=\"Valor Alugado\",'Guia de BTC'!T:T,IF($C$3=\"Volume Médio\",'Guia de BTC'!Y:Y,IF($C$3=\"Dias de Giro\",'Guia de BTC'!Z:Z,IF($C$3=\"Aluguel vs Vista\",'Guia de BTC'!AF:AF,IF($C$3=\"Ações Alugadas\",'Guia de BTC'!AD:AD,IF($C$3=\"▲ de 1 dia\",'Guia de BTC'!AJ:AJ,IF($C$3=\"Taxa Média De Aluguel\",'Guia de BTC'!AN:AN,\"\"))))))))),MATCH(C496,'Guia de BTC'!C:C,0)),\"\"))","v":""},"",""]
[null,{"$f":"IFERROR(RANK(E497,$E$5:$E$400)+COUNTIF($E$5:E497,E497)-1,\"\")","v":""},{"$f":"IF('Guia de BTC'!C499=0,\"\",'Guia de BTC'!C499)","v":""},null,{"$f":"IF(C497=\"\",\"\",IFERROR(INDEX(IF($C$3=\"% IBOV\",'Guia de BTC'!H:H,IF($C$3=\"% Float Alugado\",'Guia de BTC'!R:R,IF($C$3=\"Valor Alugado\",'Guia de BTC'!T:T,IF($C$3=\"Volume Médio\",'Guia de BTC'!Y:Y,IF($C$3=\"Dias de Giro\",'Guia de BTC'!Z:Z,IF($C$3=\"Aluguel vs Vista\",'Guia de BTC'!AF:AF,IF($C$3=\"Ações Alugadas\",'Guia de BTC'!AD:AD,IF($C$3=\"▲ de 1 dia\",'Guia de BTC'!AJ:AJ,IF($C$3=\"Taxa Média De Aluguel\",'Guia de BTC'!AN:AN,\"\"))))))))),MATCH(C497,'Guia de BTC'!C:C,0)),\"\"))","v":""},"",""]
[null,{"$f":"IFERROR(RANK(E498,$E$5:$E$400)+COUNTIF($E$5:E498,E498)-1,\"\")","v":""},{"$f":"IF('Guia de BTC'!C500=0,\"\",'Guia de BTC'!C500)","v":""},null,{"$f":"IF(C498=\"\",\"\",IFERROR(INDEX(IF($C$3=\"% IBOV\",'Guia de BTC'!H:H,IF($C$3=\"% Float Alugado\",'Guia de BTC'!R:R,IF($C$3=\"Valor Alugado\",'Guia de BTC'!T:T,IF($C$3=\"Volume Médio\",'Guia de BTC'!Y:Y,IF($C$3=\"Dias de Giro\",'Guia de BTC'!Z:Z,IF($C$3=\"Aluguel vs Vista\",'Guia de BTC'!AF:AF,IF($C$3=\"Ações Alugadas\",'Guia de BTC'!AD:AD,IF($C$3=\"▲ de 1 dia\",'Guia de BTC'!AJ:AJ,IF($C$3=\"Taxa Média De Aluguel\",'Guia de BTC'!AN:AN,\"\"))))))))),MATCH(C498,'Guia de BTC'!C:C,0)),\"\"))","v":""},"",""]
[null,{"$f":"IFERROR(RANK(E499,$E$5:$E$400)+COUNTIF($E$5:E499,E499)-1,\"\")","v":""},{"$f":"IF('Guia de BTC'!C501=0,\"\",'Guia de BTC'!C501)","v":""},null,{"$f":"IF(C499=\"\",\"\",IFERROR(INDEX(IF($C$3=\"% IBOV\",'Guia de BTC'!H:H,IF($C$3=\"% Float Alugado\",'Guia de BTC'!R:R,IF($C$3=\"Valor Alugado\",'Guia de BTC'!T:T,IF($C$3=\"Volume Médio\",'Guia de BTC'!Y:Y,IF($C$3=\"Dias de Giro\",'Guia de BTC'!Z:Z,IF($C$3=\"Aluguel vs Vista\",'Guia de BTC'!AF:AF,IF($C$3=\"Ações Alugadas\",'Guia de BTC'!AD:AD,IF($C$3=\"▲ de 1 dia\",'Guia de BTC'!AJ:AJ,IF($C$3=\"Taxa Média De Aluguel\",'Guia de BTC'!AN:AN,\"\"))))))))),MATCH(C499,'Guia de BTC'!C:C,0)),\"\"))","v":""},"",""]
[null,{"$f":"IFERROR(RANK(E500,$E$5:$E$400)+COUNTIF($E$5:E500,E500)-1,\"\")","v":""},{"$f":"IF('Guia de BTC'!C502=0,\"\",'Guia de BTC'!C502)","v":""},null,{"$f":"IF(C500=\"\",\"\",IFERROR(INDEX(IF($C$3=\"% IBOV\",'Guia de BTC'!H:H,IF($C$3=\"% Float Alugado\",'Guia de BTC'!R:R,IF($C$3=\"Valor Alugado\",'Guia de BTC'!T:T,IF($C$3=\"Volume Médio\",'Guia de BTC'!Y:Y,IF($C$3=\"Dias de Giro\",'Guia de BTC'!Z:Z,IF($C$3=\"Aluguel vs Vista\",'Guia de BTC'!AF:AF,IF($C$3=\"Ações Alugadas\",'Guia de BTC'!AD:AD,IF($C$3=\"▲ de 1 dia\",'Guia de BTC'!AJ:AJ,IF($C$3=\"Taxa Média De Aluguel\",'Guia de BTC'!AN:AN,\"\"))))))))),MATCH(C500,'Guia de BTC'!C:C,0)),\"\"))","v":""},"",""]
[null,{"$f":"IFERROR(RANK(E501,$E$5:$E$400)+COUNTIF($E$5:E501,E501)-1,\"\")","v":""},{"$f":"IF('Guia de BTC'!C503=0,\"\",'Guia de BTC'!C503)","v":""},null,{"$f":"IF(C501=\"\",\"\",IFERROR(INDEX(IF($C$3=\"% IBOV\",'Guia de BTC'!H:H,IF($C$3=\"% Float Alugado\",'Guia de BTC'!R:R,IF($C$3=\"Valor Alugado\",'Guia de BTC'!T:T,IF($C$3=\"Volume Médio\",'Guia de BTC'!Y:Y,IF($C$3=\"Dias de Giro\",'Guia de BTC'!Z:Z,IF($C$3=\"Aluguel vs Vista\",'Guia de BTC'!AF:AF,IF($C$3=\"Ações Alugadas\",'Guia de BTC'!AD:AD,IF($C$3=\"▲ de 1 dia\",'Guia de BTC'!AJ:AJ,IF($C$3=\"Taxa Média De Aluguel\",'Guia de BTC'!AN:AN,\"\"))))))))),MATCH(C501,'Guia de BTC'!C:C,0)),\"\"))","v":""},"",""]
[null,{"$f":"IFERROR(RANK(E502,$E$5:$E$400)+COUNTIF($E$5:E502,E502)-1,\"\")","v":""},{"$f":"IF('Guia de BTC'!C504=0,\"\",'Guia de BTC'!C504)","v":""},null,{"$f":"IF(C502=\"\",\"\",IFERROR(INDEX(IF($C$3=\"% IBOV\",'Guia de BTC'!H:H,IF($C$3=\"% Float Alugado\",'Guia de BTC'!R:R,IF($C$3=\"Valor Alugado\",'Guia de BTC'!T:T,IF($C$3=\"Volume Médio\",'Guia de BTC'!Y:Y,IF($C$3=\"Dias de Giro\",'Guia de BTC'!Z:Z,IF($C$3=\"Aluguel vs Vista\",'Guia de BTC'!AF:AF,IF($C$3=\"Ações Alugadas\",'Guia de BTC'!AD:AD,IF($C$3=\"▲ de 1 dia\",'Guia de BTC'!AJ:AJ,IF($C$3=\"Taxa Média De Aluguel\",'Guia de BTC'!AN:AN,\"\"))))))))),MATCH(C502,'Guia de BTC'!C:C,0)),\"\"))","v":""},"",""]
[null,{"$f":"IFERROR(RANK(E503,$E$5:$E$400)+COUNTIF($E$5:E503,E503)-1,\"\")","v":""},{"$f":"IF('Guia de BTC'!C505=0,\"\",'Guia de BTC'!C505)","v":""},null,{"$f":"IF(C503=\"\",\"\",IFERROR(INDEX(IF($C$3=\"% IBOV\",'Guia de BTC'!H:H,IF($C$3=\"% Float Alugado\",'Guia de BTC'!R:R,IF($C$3=\"Valor Alugado\",'Guia de BTC'!T:T,IF($C$3=\"Volume Médio\",'Guia de BTC'!Y:Y,IF($C$3=\"Dias de Giro\",'Guia de BTC'!Z:Z,IF($C$3=\"Aluguel vs Vista\",'Guia de BTC'!AF:AF,IF($C$3=\"Ações Alugadas\",'Guia de BTC'!AD:AD,IF($C$3=\"▲ de 1 dia\",'Guia de BTC'!AJ:AJ,IF($C$3=\"Taxa Média De Aluguel\",'Guia de BTC'!AN:AN,\"\"))))))))),MATCH(C503,'Guia de BTC'!C:C,0)),\"\"))","v":""},"",""]
[null,{"$f":"IFERROR(RANK(E504,$E$5:$E$400)+COUNTIF($E$5:E504,E504)-1,\"\")","v":""},{"$f":"IF('Guia de BTC'!C506=0,\"\",'Guia de BTC'!C506)","v":""},null,{"$f":"IF(C504=\"\",\"\",IFERROR(INDEX(IF($C$3=\"% IBOV\",'Guia de BTC'!H:H,IF($C$3=\"% Float Alugado\",'Guia de BTC'!R:R,IF($C$3=\"Valor Alugado\",'Guia de BTC'!T:T,IF($C$3=\"Volume Médio\",'Guia de BTC'!Y:Y,IF($C$3=\"Dias de Giro\",'Guia de BTC'!Z:Z,IF($C$3=\"Aluguel vs Vista\",'Guia de BTC'!AF:AF,IF($C$3=\"Ações Alugadas\",'Guia de BTC'!AD:AD,IF($C$3=\"▲ de 1 dia\",'Guia de BTC'!AJ:AJ,IF($C$3=\"Taxa Média De Aluguel\",'Guia de BTC'!AN:AN,\"\"))))))))),MATCH(C504,'Guia de BTC'!C:C,0)),\"\"))","v":""},"",""]
[null,{"$f":"IFERROR(RANK(E505,$E$5:$E$400)+COUNTIF($E$5:E505,E505)-1,\"\")","v":""},{"$f":"IF('Guia de BTC'!C507=0,\"\",'Guia de BTC'!C507)","v":""},null,{"$f":"IF(C505=\"\",\"\",IFERROR(INDEX(IF($C$3=\"% IBOV\",'Guia de BTC'!H:H,IF($C$3=\"% Float Alugado\",'Guia de BTC'!R:R,IF($C$3=\"Valor Alugado\",'Guia de BTC'!T:T,IF($C$3=\"Volume Médio\",'Guia de BTC'!Y:Y,IF($C$3=\"Dias de Giro\",'Guia de BTC'!Z:Z,IF($C$3=\"Aluguel vs Vista\",'Guia de BTC'!AF:AF,IF($C$3=\"Ações Alugadas\",'Guia de BTC'!AD:AD,IF($C$3=\"▲ de 1 dia\",'Guia de BTC'!AJ:AJ,IF($C$3=\"Taxa Média De Aluguel\",'Guia de BTC'!AN:AN,\"\"))))))))),MATCH(C505,'Guia de BTC'!C:C,0)),\"\"))","v":""},"",""]
[null,{"$f":"IFERROR(RANK(E506,$E$5:$E$400)+COUNTIF($E$5:E506,E506)-1,\"\")","v":""},{"$f":"IF('Guia de BTC'!C508=0,\"\",'Guia de BTC'!C508)","v":""},null,{"$f":"IF(C506=\"\",\"\",IFERROR(INDEX(IF($C$3=\"% IBOV\",'Guia de BTC'!H:H,IF($C$3=\"% Float Alugado\",'Guia de BTC'!R:R,IF($C$3=\"Valor Alugado\",'Guia de BTC'!T:T,IF($C$3=\"Volume Médio\",'Guia de BTC'!Y:Y,IF($C$3=\"Dias de Giro\",'Guia de BTC'!Z:Z,IF($C$3=\"Aluguel vs Vista\",'Guia de BTC'!AF:AF,IF($C$3=\"Ações Alugadas\",'Guia de BTC'!AD:AD,IF($C$3=\"▲ de 1 dia\",'Guia de BTC'!AJ:AJ,IF($C$3=\"Taxa Média De Aluguel\",'Guia de BTC'!AN:AN,\"\"))))))))),MATCH(C506,'Guia de BTC'!C:C,0)),\"\"))","v":""},"",""]
[null,{"$f":"IFERROR(RANK(E507,$E$5:$E$400)+COUNTIF($E$5:E507,E507)-1,\"\")","v":""},{"$f":"IF('Guia de BTC'!C509=0,\"\",'Guia de BTC'!C509)","v":""},null,{"$f":"IF(C507=\"\",\"\",IFERROR(INDEX(IF($C$3=\"% IBOV\",'Guia de BTC'!H:H,IF($C$3=\"% Float Alugado\",'Guia de BTC'!R:R,IF($C$3=\"Valor Alugado\",'Guia de BTC'!T:T,IF($C$3=\"Volume Médio\",'Guia de BTC'!Y:Y,IF($C$3=\"Dias de Giro\",'Guia de BTC'!Z:Z,IF($C$3=\"Aluguel vs Vista\",'Guia de BTC'!AF:AF,IF($C$3=\"Ações Alugadas\",'Guia de BTC'!AD:AD,IF($C$3=\"▲ de 1 dia\",'Guia de BTC'!AJ:AJ,IF($C$3=\"Taxa Média De Aluguel\",'Guia de BTC'!AN:AN,\"\"))))))))),MATCH(C507,'Guia de BTC'!C:C,0)),\"\"))","v":""},"",""]
[null,{"$f":"IFERROR(RANK(E508,$E$5:$E$400)+COUNTIF($E$5:E508,E508)-1,\"\")","v":""},{"$f":"IF('Guia de BTC'!C510=0,\"\",'Guia de BTC'!C510)","v":""},null,{"$f":"IF(C508=\"\",\"\",IFERROR(INDEX(IF($C$3=\"% IBOV\",'Guia de BTC'!H:H,IF($C$3=\"% Float Alugado\",'Guia de BTC'!R:R,IF($C$3=\"Valor Alugado\",'Guia de BTC'!T:T,IF($C$3=\"Volume Médio\",'Guia de BTC'!Y:Y,IF($C$3=\"Dias de Giro\",'Guia de BTC'!Z:Z,IF($C$3=\"Aluguel vs Vista\",'Guia de BTC'!AF:AF,IF($C$3=\"Ações Alugadas\",'Guia de BTC'!AD:AD,IF($C$3=\"▲ de 1 dia\",'Guia de BTC'!AJ:AJ,IF($C$3=\"Taxa Média De Aluguel\",'Guia de BTC'!AN:AN,\"\"))))))))),MATCH(C508,'Guia de BTC'!C:C,0)),\"\"))","v":""},"",""]
[null,{"$f":"IFERROR(RANK(E509,$E$5:$E$400)+COUNTIF($E$5:E509,E509)-1,\"\")","v":""},{"$f":"IF('Guia de BTC'!C511=0,\"\",'Guia de BTC'!C511)","v":""},null,{"$f":"IF(C509=\"\",\"\",IFERROR(INDEX(IF($C$3=\"% IBOV\",'Guia de BTC'!H:H,IF($C$3=\"% Float Alugado\",'Guia de BTC'!R:R,IF($C$3=\"Valor Alugado\",'Guia de BTC'!T:T,IF($C$3=\"Volume Médio\",'Guia de BTC'!Y:Y,IF($C$3=\"Dias de Giro\",'Guia de BTC'!Z:Z,IF($C$3=\"Aluguel vs Vista\",'Guia de BTC'!AF:AF,IF($C$3=\"Ações Alugadas\",'Guia de BTC'!AD:AD,IF($C$3=\"▲ de 1 dia\",'Guia de BTC'!AJ:AJ,IF($C$3=\"Taxa Média De Aluguel\",'Guia de BTC'!AN:AN,\"\"))))))))),MATCH(C509,'Guia de BTC'!C:C,0)),\"\"))","v":""},"",""]
[null,{"$f":"IFERROR(RANK(E510,$E$5:$E$400)+COUNTIF($E$5:E510,E510)-1,\"\")","v":""},{"$f":"IF('Guia de BTC'!C512=0,\"\",'Guia de BTC'!C512)","v":""},null,{"$f":"IF(C510=\"\",\"\",IFERROR(INDEX(IF($C$3=\"% IBOV\",'Guia de BTC'!H:H,IF($C$3=\"% Float Alugado\",'Guia de BTC'!R:R,IF($C$3=\"Valor Alugado\",'Guia de BTC'!T:T,IF($C$3=\"Volume Médio\",'Guia de BTC'!Y:Y,IF($C$3=\"Dias de Giro\",'Guia de BTC'!Z:Z,IF($C$3=\"Aluguel vs Vista\",'Guia de BTC'!AF:AF,IF($C$3=\"Ações Alugadas\",'Guia de BTC'!AD:AD,IF($C$3=\"▲ de 1 dia\",'Guia de BTC'!AJ:AJ,IF($C$3=\"Taxa Média De Aluguel\",'Guia de BTC'!AN:AN,\"\"))))))))),MATCH(C510,'Guia de BTC'!C:C,0)),\"\"))","v":""},"",""]
[null,{"$f":"IFERROR(RANK(E511,$E$5:$E$400)+COUNTIF($E$5:E511,E511)-1,\"\")","v":""},{"$f":"IF('Guia de BTC'!C513=0,\"\",'Guia de BTC'!C513)","v":""},null,{"$f":"IF(C511=\"\",\"\",IFERROR(INDEX(IF($C$3=\"% IBOV\",'Guia de BTC'!H:H,IF($C$3=\"% Float Alugado\",'Guia de BTC'!R:R,IF($C$3=\"Valor Alugado\",'Guia de BTC'!T:T,IF($C$3=\"Volume Médio\",'Guia de BTC'!Y:Y,IF($C$3=\"Dias de Giro\",'Guia de BTC'!Z:Z,IF($C$3=\"Aluguel vs Vista\",'Guia de BTC'!AF:AF,IF($C$3=\"Ações Alugadas\",'Guia de BTC'!AD:AD,IF($C$3=\"▲ de 1 dia\",'Guia de BTC'!AJ:AJ,IF($C$3=\"Taxa Média De Aluguel\",'Guia de BTC'!AN:AN,\"\"))))))))),MATCH(C511,'Guia de BTC'!C:C,0)),\"\"))","v":""},"",""]
[null,{"$f":"IFERROR(RANK(E512,$E$5:$E$400)+COUNTIF($E$5:E512,E512)-1,\"\")","v":""},{"$f":"IF('Guia de BTC'!C514=0,\"\",'Guia de BTC'!C514)","v":""},null,{"$f":"IF(C512=\"\",\"\",IFERROR(INDEX(IF($C$3=\"% IBOV\",'Guia de BTC'!H:H,IF($C$3=\"% Float Alugado\",'Guia de BTC'!R:R,IF($C$3=\"Valor Alugado\",'Guia de BTC'!T:T,IF($C$3=\"Volume Médio\",'Guia de BTC'!Y:Y,IF($C$3=\"Dias de Giro\",'Guia de BTC'!Z:Z,IF($C$3=\"Aluguel vs Vista\",'Guia de BTC'!AF:AF,IF($C$3=\"Ações Alugadas\",'Guia de BTC'!AD:AD,IF($C$3=\"▲ de 1 dia\",'Guia de BTC'!AJ:AJ,IF($C$3=\"Taxa Média De Aluguel\",'Guia de BTC'!AN:AN,\"\"))))))))),MATCH(C512,'Guia de BTC'!C:C,0)),\"\"))","v":""},"",""]
[null,{"$f":"IFERROR(RANK(E513,$E$5:$E$400)+COUNTIF($E$5:E513,E513)-1,\"\")","v":""},{"$f":"IF('Guia de BTC'!C515=0,\"\",'Guia de BTC'!C515)","v":""},null,{"$f":"IF(C513=\"\",\"\",IFERROR(INDEX(IF($C$3=\"% IBOV\",'Guia de BTC'!H:H,IF($C$3=\"% Float Alugado\",'Guia de BTC'!R:R,IF($C$3=\"Valor Alugado\",'Guia de BTC'!T:T,IF($C$3=\"Volume Médio\",'Guia de BTC'!Y:Y,IF($C$3=\"Dias de Giro\",'Guia de BTC'!Z:Z,IF($C$3=\"Aluguel vs Vista\",'Guia de BTC'!AF:AF,IF($C$3=\"Ações Alugadas\",'Guia de BTC'!AD:AD,IF($C$3=\"▲ de 1 dia\",'Guia de BTC'!AJ:AJ,IF($C$3=\"Taxa Média De Aluguel\",'Guia de BTC'!AN:AN,\"\"))))))))),MATCH(C513,'Guia de BTC'!C:C,0)),\"\"))","v":""},"",""]
[null,{"$f":"IFERROR(RANK(E514,$E$5:$E$400)+COUNTIF($E$5:E514,E514)-1,\"\")","v":""},{"$f":"IF('Guia de BTC'!C516=0,\"\",'Guia de BTC'!C516)","v":""},null,{"$f":"IF(C514=\"\",\"\",IFERROR(INDEX(IF($C$3=\"% IBOV\",'Guia de BTC'!H:H,IF($C$3=\"% Float Alugado\",'Guia de BTC'!R:R,IF($C$3=\"Valor Alugado\",'Guia de BTC'!T:T,IF($C$3=\"Volume Médio\",'Guia de BTC'!Y:Y,IF($C$3=\"Dias de Giro\",'Guia de BTC'!Z:Z,IF($C$3=\"Aluguel vs Vista\",'Guia de BTC'!AF:AF,IF($C$3=\"Ações Alugadas\",'Guia de BTC'!AD:AD,IF($C$3=\"▲ de 1 dia\",'Guia de BTC'!AJ:AJ,IF($C$3=\"Taxa Média De Aluguel\",'Guia de BTC'!AN:AN,\"\"))))))))),MATCH(C514,'Guia de BTC'!C:C,0)),\"\"))","v":""},"",""]
[null,{"$f":"IFERROR(RANK(E515,$E$5:$E$400)+COUNTIF($E$5:E515,E515)-1,\"\")","v":""},{"$f":"IF('Guia de BTC'!C517=0,\"\",'Guia de BTC'!C517)","v":""},null,{"$f":"IF(C515=\"\",\"\",IFERROR(INDEX(IF($C$3=\"% IBOV\",'Guia de BTC'!H:H,IF($C$3=\"% Float Alugado\",'Guia de BTC'!R:R,IF($C$3=\"Valor Alugado\",'Guia de BTC'!T:T,IF($C$3=\"Volume Médio\",'Guia de BTC'!Y:Y,IF($C$3=\"Dias de Giro\",'Guia de BTC'!Z:Z,IF($C$3=\"Aluguel vs Vista\",'Guia de BTC'!AF:AF,IF($C$3=\"Ações Alugadas\",'Guia de BTC'!AD:AD,IF($C$3=\"▲ de 1 dia\",'Guia de BTC'!AJ:AJ,IF($C$3=\"Taxa Média De Aluguel\",'Guia de BTC'!AN:AN,\"\"))))))))),MATCH(C515,'Guia de BTC'!C:C,0)),\"\"))","v":""},"",""]
[null,{"$f":"IFERROR(RANK(E516,$E$5:$E$400)+COUNTIF($E$5:E516,E516)-1,\"\")","v":""},{"$f":"IF('Guia de BTC'!C518=0,\"\",'Guia de BTC'!C518)","v":""},null,{"$f":"IF(C516=\"\",\"\",IFERROR(INDEX(IF($C$3=\"% IBOV\",'Guia de BTC'!H:H,IF($C$3=\"% Float Alugado\",'Guia de BTC'!R:R,IF($C$3=\"Valor Alugado\",'Guia de BTC'!T:T,IF($C$3=\"Volume Médio\",'Guia de BTC'!Y:Y,IF($C$3=\"Dias de Giro\",'Guia de BTC'!Z:Z,IF($C$3=\"Aluguel vs Vista\",'Guia de BTC'!AF:AF,IF($C$3=\"Ações Alugadas\",'Guia de BTC'!AD:AD,IF($C$3=\"▲ de 1 dia\",'Guia de BTC'!AJ:AJ,IF($C$3=\"Taxa Média De Aluguel\",'Guia de BTC'!AN:AN,\"\"))))))))),MATCH(C516,'Guia de BTC'!C:C,0)),\"\"))","v":""},"",""]
[null,{"$f":"IFERROR(RANK(E517,$E$5:$E$400)+COUNTIF($E$5:E517,E517)-1,\"\")","v":""},{"$f":"IF('Guia de BTC'!C519=0,\"\",'Guia de BTC'!C519)","v":""},null,{"$f":"IF(C517=\"\",\"\",IFERROR(INDEX(IF($C$3=\"% IBOV\",'Guia de BTC'!H:H,IF($C$3=\"% Float Alugado\",'Guia de BTC'!R:R,IF($C$3=\"Valor Alugado\",'Guia de BTC'!T:T,IF($C$3=\"Volume Médio\",'Guia de BTC'!Y:Y,IF($C$3=\"Dias de Giro\",'Guia de BTC'!Z:Z,IF($C$3=\"Aluguel vs Vista\",'Guia de BTC'!AF:AF,IF($C$3=\"Ações Alugadas\",'Guia de BTC'!AD:AD,IF($C$3=\"▲ de 1 dia\",'Guia de BTC'!AJ:AJ,IF($C$3=\"Taxa Média De Aluguel\",'Guia de BTC'!AN:AN,\"\"))))))))),MATCH(C517,'Guia de BTC'!C:C,0)),\"\"))","v":""},"",""]
[null,{"$f":"IFERROR(RANK(E518,$E$5:$E$400)+COUNTIF($E$5:E518,E518)-1,\"\")","v":""},{"$f":"IF('Guia de BTC'!C520=0,\"\",'Guia de BTC'!C520)","v":""},null,{"$f":"IF(C518=\"\",\"\",IFERROR(INDEX(IF($C$3=\"% IBOV\",'Guia de BTC'!H:H,IF($C$3=\"% Float Alugado\",'Guia de BTC'!R:R,IF($C$3=\"Valor Alugado\",'Guia de BTC'!T:T,IF($C$3=\"Volume Médio\",'Guia de BTC'!Y:Y,IF($C$3=\"Dias de Giro\",'Guia de BTC'!Z:Z,IF($C$3=\"Aluguel vs Vista\",'Guia de BTC'!AF:AF,IF($C$3=\"Ações Alugadas\",'Guia de BTC'!AD:AD,IF($C$3=\"▲ de 1 dia\",'Guia de BTC'!AJ:AJ,IF($C$3=\"Taxa Média De Aluguel\",'Guia de BTC'!AN:AN,\"\"))))))))),MATCH(C518,'Guia de BTC'!C:C,0)),\"\"))","v":""},"",""]
[null,{"$f":"IFERROR(RANK(E519,$E$5:$E$400)+COUNTIF($E$5:E519,E519)-1,\"\")","v":""},{"$f":"IF('Guia de BTC'!C521=0,\"\",'Guia de BTC'!C521)","v":""},null,{"$f":"IF(C519=\"\",\"\",IFERROR(INDEX(IF($C$3=\"% IBOV\",'Guia de BTC'!H:H,IF($C$3=\"% Float Alugado\",'Guia de BTC'!R:R,IF($C$3=\"Valor Alugado\",'Guia de BTC'!T:T,IF($C$3=\"Volume Médio\",'Guia de BTC'!Y:Y,IF($C$3=\"Dias de Giro\",'Guia de BTC'!Z:Z,IF($C$3=\"Aluguel vs Vista\",'Guia de BTC'!AF:AF,IF($C$3=\"Ações Alugadas\",'Guia de BTC'!AD:AD,IF($C$3=\"▲ de 1 dia\",'Guia de BTC'!AJ:AJ,IF($C$3=\"Taxa Média De Aluguel\",'Guia de BTC'!AN:AN,\"\"))))))))),MATCH(C519,'Guia de BTC'!C:C,0)),\"\"))","v":""},{"$f":"IF(C519=\"\",\"\",IFERROR(VLOOKUP(ROW()-4,$B$3:$E$600,4,FALSE),\"\"))","v":""},{"$f":"IF(C519=\"\",\"\",IFERROR(VLOOKUP(ROW()-4,$B$3:$E$600,3,FALSE),\"\"))","v":""}]
[null,{"$f":"IFERROR(RANK(E520,$E$5:$E$400)+COUNTIF($E$5:E520,E520)-1,\"\")","v":""},{"$f":"IF('Guia de BTC'!C522=0,\"\",'Guia de BTC'!C522)","v":""},null,{"$f":"IF(C520=\"\",\"\",IFERROR(INDEX(IF($C$3=\"% IBOV\",'Guia de BTC'!H:H,IF($C$3=\"% Float Alugado\",'Guia de BTC'!R:R,IF($C$3=\"Valor Alugado\",'Guia de BTC'!T:T,IF($C$3=\"Volume Médio\",'Guia de BTC'!Y:Y,IF($C$3=\"Dias de Giro\",'Guia de BTC'!Z:Z,IF($C$3=\"Aluguel vs Vista\",'Guia de BTC'!AF:AF,IF($C$3=\"Ações Alugadas\",'Guia de BTC'!AD:AD,IF($C$3=\"▲ de 1 dia\",'Guia de BTC'!AJ:AJ,IF($C$3=\"Taxa Média De Aluguel\",'Guia de BTC'!AN:AN,\"\"))))))))),MATCH(C520,'Guia de BTC'!C:C,0)),\"\"))","v":""},"",""]
[null,{"$f":"IFERROR(RANK(E521,$E$5:$E$400)+COUNTIF($E$5:E521,E521)-1,\"\")","v":""},{"$f":"IF('Guia de BTC'!C523=0,\"\",'Guia de BTC'!C523)","v":""},null,{"$f":"IF(C521=\"\",\"\",IFERROR(INDEX(IF($C$3=\"% IBOV\",'Guia de BTC'!H:H,IF($C$3=\"% Float Alugado\",'Guia de BTC'!R:R,IF($C$3=\"Valor Alugado\",'Guia de BTC'!T:T,IF($C$3=\"Volume Médio\",'Guia de BTC'!Y:Y,IF($C$3=\"Dias de Giro\",'Guia de BTC'!Z:Z,IF($C$3=\"Aluguel vs Vista\",'Guia de BTC'!AF:AF,IF($C$3=\"Ações Alugadas\",'Guia de BTC'!AD:AD,IF($C$3=\"▲ de 1 dia\",'Guia de BTC'!AJ:AJ,IF($C$3=\"Taxa Média De Aluguel\",'Guia de BTC'!AN:AN,\"\"))))))))),MATCH(C521,'Guia de BTC'!C:C,0)),\"\"))","v":""},"",""]
[null,{"$f":"IFERROR(RANK(E522,$E$5:$E$400)+COUNTIF($E$5:E522,E522)-1,\"\")","v":""},{"$f":"IF('Guia de BTC'!C524=0,\"\",'Guia de BTC'!C524)","v":""},null,{"$f":"IF(C522=\"\",\"\",IFERROR(INDEX(IF($C$3=\"% IBOV\",'Guia de BTC'!H:H,IF($C$3=\"% Float Alugado\",'Guia de BTC'!R:R,IF($C$3=\"Valor Alugado\",'Guia de BTC'!T:T,IF($C$3=\"Volume Médio\",'Guia de BTC'!Y:Y,IF($C$3=\"Dias de Giro\",'Guia de BTC'!Z:Z,IF($C$3=\"Aluguel vs Vista\",'Guia de BTC'!AF:AF,IF($C$3=\"Ações Alugadas\",'Guia de BTC'!AD:AD,IF($C$3=\"▲ de 1 dia\",'Guia de BTC'!AJ:AJ,IF($C$3=\"Taxa Média De Aluguel\",'Guia de BTC'!AN:AN,\"\"))))))))),MATCH(C522,'Guia de BTC'!C:C,0)),\"\"))","v":""},"",""]
[null,{"$f":"IFERROR(RANK(E523,$E$5:$E$400)+COUNTIF($E$5:E523,E523)-1,\"\")","v":""},{"$f":"IF('Guia de BTC'!C525=0,\"\",'Guia de BTC'!C525)","v":""},null,{"$f":"IF(C523=\"\",\"\",IFERROR(INDEX(IF($C$3=\"% IBOV\",'Guia de BTC'!H:H,IF($C$3=\"% Float Alugado\",'Guia de BTC'!R:R,IF($C$3=\"Valor Alugado\",'Guia de BTC'!T:T,IF($C$3=\"Volume Médio\",'Guia de BTC'!Y:Y,IF($C$3=\"Dias de Giro\",'Guia de BTC'!Z:Z,IF($C$3=\"Aluguel vs Vista\",'Guia de BTC'!AF:AF,IF($C$3=\"Ações Alugadas\",'Guia de BTC'!AD:AD,IF($C$3=\"▲ de 1 dia\",'Guia de BTC'!AJ:AJ,IF($C$3=\"Taxa Média De Aluguel\",'Guia de BTC'!AN:AN,\"\"))))))))),MATCH(C523,'Guia de BTC'!C:C,0)),\"\"))","v":""},"",""]
[null,{"$f":"IFERROR(RANK(E524,$E$5:$E$400)+COUNTIF($E$5:E524,E524)-1,\"\")","v":""},{"$f":"IF('Guia de BTC'!C526=0,\"\",'Guia de BTC'!C526)","v":""},null,{"$f":"IF(C524=\"\",\"\",IFERROR(INDEX(IF($C$3=\"% IBOV\",'Guia de BTC'!H:H,IF($C$3=\"% Float Alugado\",'Guia de BTC'!R:R,IF($C$3=\"Valor Alugado\",'Guia de BTC'!T:T,IF($C$3=\"Volume Médio\",'Guia de BTC'!Y:Y,IF($C$3=\"Dias de Giro\",'Guia de BTC'!Z:Z,IF($C$3=\"Aluguel vs Vista\",'Guia de BTC'!AF:AF,IF($C$3=\"Ações Alugadas\",'Guia de BTC'!AD:AD,IF($C$3=\"▲ de 1 dia\",'Guia de BTC'!AJ:AJ,IF($C$3=\"Taxa Média De Aluguel\",'Guia de BTC'!AN:AN,\"\"))))))))),MATCH(C524,'Guia de BTC'!C:C,0)),\"\"))","v":""},"",""]
[null,{"$f":"IFERROR(RANK(E525,$E$5:$E$400)+COUNTIF($E$5:E525,E525)-1,\"\")","v":""},{"$f":"IF('Guia de BTC'!C527=0,\"\",'Guia de BTC'!C527)","v":""},null,{"$f":"IF(C525=\"\",\"\",IFERROR(INDEX(IF($C$3=\"% IBOV\",'Guia de BTC'!H:H,IF($C$3=\"% Float Alugado\",'Guia de BTC'!R:R,IF($C$3=\"Valor Alugado\",'Guia de BTC'!T:T,IF($C$3=\"Volume Médio\",'Guia de BTC'!Y:Y,IF($C$3=\"Dias de Giro\",'Guia de BTC'!Z:Z,IF($C$3=\"Aluguel vs Vista\",'Guia de BTC'!AF:AF,IF($C$3=\"Ações Alugadas\",'Guia de BTC'!AD:AD,IF($C$3=\"▲ de 1 dia\",'Guia de BTC'!AJ:AJ,IF($C$3=\"Taxa Média De Aluguel\",'Guia de BTC'!AN:AN,\"\"))))))))),MATCH(C525,'Guia de BTC'!C:C,0)),\"\"))","v":""},"",""]
[null,{"$f":"IFERROR(RANK(E526,$E$5:$E$400)+COUNTIF($E$5:E526,E526)-1,\"\")","v":""},{"$f":"IF('Guia de BTC'!C528=0,\"\",'Guia de BTC'!C528)","v":""},null,{"$f":"IF(C526=\"\",\"\",IFERROR(INDEX(IF($C$3=\"% IBOV\",'Guia de BTC'!H:H,IF($C$3=\"% Float Alugado\",'Guia de BTC'!R:R,IF($C$3=\"Valor Alugado\",'Guia de BTC'!T:T,IF($C$3=\"Volume Médio\",'Guia de BTC'!Y:Y,IF($C$3=\"Dias de Giro\",'Guia de BTC'!Z:Z,IF($C$3=\"Aluguel vs Vista\",'Guia de BTC'!AF:AF,IF($C$3=\"Ações Alugadas\",'Guia de BTC'!AD:AD,IF($C$3=\"▲ de 1 dia\",'Guia de BTC'!AJ:AJ,IF($C$3=\"Taxa Média De Aluguel\",'Guia de BTC'!AN:AN,\"\"))))))))),MATCH(C526,'Guia de BTC'!C:C,0)),\"\"))","v":""},"",""]
[null,{"$f":"IFERROR(RANK(E527,$E$5:$E$400)+COUNTIF($E$5:E527,E527)-1,\"\")","v":""},{"$f":"IF('Guia de BTC'!C529=0,\"\",'Guia de BTC'!C529)","v":""},null,{"$f":"IF(C527=\"\",\"\",IFERROR(INDEX(IF($C$3=\"% IBOV\",'Guia de BTC'!H:H,IF($C$3=\"% Float Alugado\",'Guia de BTC'!R:R,IF($C$3=\"Valor Alugado\",'Guia de BTC'!T:T,IF($C$3=\"Volume Médio\",'Guia de BTC'!Y:Y,IF($C$3=\"Dias de Giro\",'Guia de BTC'!Z:Z,IF($C$3=\"Aluguel vs Vista\",'Guia de BTC'!AF:AF,IF($C$3=\"Ações Alugadas\",'Guia de BTC'!AD:AD,IF($C$3=\"▲ de 1 dia\",'Guia de BTC'!AJ:AJ,IF($C$3=\"Taxa Média De Aluguel\",'Guia de BTC'!AN:AN,\"\"))))))))),MATCH(C527,'Guia de BTC'!C:C,0)),\"\"))","v":""},"",""]
[null,{"$f":"IFERROR(RANK(E528,$E$5:$E$400)+COUNTIF($E$5:E528,E528)-1,\"\")","v":""},{"$f":"IF('Guia de BTC'!C530=0,\"\",'Guia de BTC'!C530)","v":""},null,{"$f":"IF(C528=\"\",\"\",IFERROR(INDEX(IF($C$3=\"% IBOV\",'Guia de BTC'!H:H,IF($C$3=\"% Float Alugado\",'Guia de BTC'!R:R,IF($C$3=\"Valor Alugado\",'Guia de BTC'!T:T,IF($C$3=\"Volume Médio\",'Guia de BTC'!Y:Y,IF($C$3=\"Dias de Giro\",'Guia de BTC'!Z:Z,IF($C$3=\"Aluguel vs Vista\",'Guia de BTC'!AF:AF,IF($C$3=\"Ações Alugadas\",'Guia de BTC'!AD:AD,IF($C$3=\"▲ de 1 dia\",'Guia de BTC'!AJ:AJ,IF($C$3=\"Taxa Média De Aluguel\",'Guia de BTC'!AN:AN,\"\"))))))))),MATCH(C528,'Guia de BTC'!C:C,0)),\"\"))","v":""},"",""]
[null,{"$f":"IFERROR(RANK(E529,$E$5:$E$400)+COUNTIF($E$5:E529,E529)-1,\"\")","v":""},{"$f":"IF('Guia de BTC'!C531=0,\"\",'Guia de BTC'!C531)","v":""},null,{"$f":"IF(C529=\"\",\"\",IFERROR(INDEX(IF($C$3=\"% IBOV\",'Guia de BTC'!H:H,IF($C$3=\"% Float Alugado\",'Guia de BTC'!R:R,IF($C$3=\"Valor Alugado\",'Guia de BTC'!T:T,IF($C$3=\"Volume Médio\",'Guia de BTC'!Y:Y,IF($C$3=\"Dias de Giro\",'Guia de BTC'!Z:Z,IF($C$3=\"Aluguel vs Vista\",'Guia de BTC'!AF:AF,IF($C$3=\"Ações Alugadas\",'Guia de BTC'!AD:AD,IF($C$3=\"▲ de 1 dia\",'Guia de BTC'!AJ:AJ,IF($C$3=\"Taxa Média De Aluguel\",'Guia de BTC'!AN:AN,\"\"))))))))),MATCH(C529,'Guia de BTC'!C:C,0)),\"\"))","v":""},"",""]
[null,{"$f":"IFERROR(RANK(E530,$E$5:$E$400)+COUNTIF($E$5:E530,E530)-1,\"\")","v":""},{"$f":"IF('Guia de BTC'!C532=0,\"\",'Guia de BTC'!C532)","v":""},null,{"$f":"IF(C530=\"\",\"\",IFERROR(INDEX(IF($C$3=\"% IBOV\",'Guia de BTC'!H:H,IF($C$3=\"% Float Alugado\",'Guia de BTC'!R:R,IF($C$3=\"Valor Alugado\",'Guia de BTC'!T:T,IF($C$3=\"Volume Médio\",'Guia de BTC'!Y:Y,IF($C$3=\"Dias de Giro\",'Guia de BTC'!Z:Z,IF($C$3=\"Aluguel vs Vista\",'Guia de BTC'!AF:AF,IF($C$3=\"Ações Alugadas\",'Guia de BTC'!AD:AD,IF($C$3=\"▲ de 1 dia\",'Guia de BTC'!AJ:AJ,IF($C$3=\"Taxa Média De Aluguel\",'Guia de BTC'!AN:AN,\"\"))))))))),MATCH(C530,'Guia de BTC'!C:C,0)),\"\"))","v":""},"",""]
[null,{"$f":"IFERROR(RANK(E531,$E$5:$E$400)+COUNTIF($E$5:E531,E531)-1,\"\")","v":""},{"$f":"IF('Guia de BTC'!C533=0,\"\",'Guia de BTC'!C533)","v":""},null,{"$f":"IF(C531=\"\",\"\",IFERROR(INDEX(IF($C$3=\"% IBOV\",'Guia de BTC'!H:H,IF($C$3=\"% Float Alugado\",'Guia de BTC'!R:R,IF($C$3=\"Valor Alugado\",'Guia de BTC'!T:T,IF($C$3=\"Volume Médio\",'Guia de BTC'!Y:Y,IF($C$3=\"Dias de Giro\",'Guia de BTC'!Z:Z,IF($C$3=\"Aluguel vs Vista\",'Guia de BTC'!AF:AF,IF($C$3=\"Ações Alugadas\",'Guia de BTC'!AD:AD,IF($C$3=\"▲ de 1 dia\",'Guia de BTC'!AJ:AJ,IF($C$3=\"Taxa Média De Aluguel\",'Guia de BTC'!AN:AN,\"\"))))))))),MATCH(C531,'Guia de BTC'!C:C,0)),\"\"))","v":""},"",""]
[null,{"$f":"IFERROR(RANK(E532,$E$5:$E$400)+COUNTIF($E$5:E532,E532)-1,\"\")","v":""},{"$f":"IF('Guia de BTC'!C534=0,\"\",'Guia de BTC'!C534)","v":""},null,{"$f":"IF(C532=\"\",\"\",IFERROR(INDEX(IF($C$3=\"% IBOV\",'Guia de BTC'!H:H,IF($C$3=\"% Float Alugado\",'Guia de BTC'!R:R,IF($C$3=\"Valor Alugado\",'Guia de BTC'!T:T,IF($C$3=\"Volume Médio\",'Guia de BTC'!Y:Y,IF($C$3=\"Dias de Giro\",'Guia de BTC'!Z:Z,IF($C$3=\"Aluguel vs Vista\",'Guia de BTC'!AF:AF,IF($C$3=\"Ações Alugadas\",'Guia de BTC'!AD:AD,IF($C$3=\"▲ de 1 dia\",'Guia de BTC'!AJ:AJ,IF($C$3=\"Taxa Média De Aluguel\",'Guia de BTC'!AN:AN,\"\"))))))))),MATCH(C532,'Guia de BTC'!C:C,0)),\"\"))","v":""},"",""]
[null,{"$f":"IFERROR(RANK(E533,$E$5:$E$400)+COUNTIF($E$5:E533,E533)-1,\"\")","v":""},{"$f":"IF('Guia de BTC'!C535=0,\"\",'Guia de BTC'!C535)","v":""},null,{"$f":"IF(C533=\"\",\"\",IFERROR(INDEX(IF($C$3=\"% IBOV\",'Guia de BTC'!H:H,IF($C$3=\"% Float Alugado\",'Guia de BTC'!R:R,IF($C$3=\"Valor Alugado\",'Guia de BTC'!T:T,IF($C$3=\"Volume Médio\",'Guia de BTC'!Y:Y,IF($C$3=\"Dias de Giro\",'Guia de BTC'!Z:Z,IF($C$3=\"Aluguel vs Vista\",'Guia de BTC'!AF:AF,IF($C$3=\"Ações Alugadas\",'Guia de BTC'!AD:AD,IF($C$3=\"▲ de 1 dia\",'Guia de BTC'!AJ:AJ,IF($C$3=\"Taxa Média De Aluguel\",'Guia de BTC'!AN:AN,\"\"))))))))),MATCH(C533,'Guia de BTC'!C:C,0)),\"\"))","v":""},"",""]
[null,{"$f":"IFERROR(RANK(E534,$E$5:$E$400)+COUNTIF($E$5:E534,E534)-1,\"\")","v":""},{"$f":"IF('Guia de BTC'!C536=0,\"\",'Guia de BTC'!C536)","v":""},null,{"$f":"IF(C534=\"\",\"\",IFERROR(INDEX(IF($C$3=\"% IBOV\",'Guia de BTC'!H:H,IF($C$3=\"% Float Alugado\",'Guia de BTC'!R:R,IF($C$3=\"Valor Alugado\",'Guia de BTC'!T:T,IF($C$3=\"Volume Médio\",'Guia de BTC'!Y:Y,IF($C$3=\"Dias de Giro\",'Guia de BTC'!Z:Z,IF($C$3=\"Aluguel vs Vista\",'Guia de BTC'!AF:AF,IF($C$3=\"Ações Alugadas\",'Guia de BTC'!AD:AD,IF($C$3=\"▲ de 1 dia\",'Guia de BTC'!AJ:AJ,IF($C$3=\"Taxa Média De Aluguel\",'Guia de BTC'!AN:AN,\"\"))))))))),MATCH(C534,'Guia de BTC'!C:C,0)),\"\"))","v":""},"",""]
[null,{"$f":"IFERROR(RANK(E535,$E$5:$E$400)+COUNTIF($E$5:E535,E535)-1,\"\")","v":""},{"$f":"IF('Guia de BTC'!C537=0,\"\",'Guia de BTC'!C537)","v":""},null,{"$f":"IF(C535=\"\",\"\",IFERROR(INDEX(IF($C$3=\"% IBOV\",'Guia de BTC'!H:H,IF($C$3=\"% Float Alugado\",'Guia de BTC'!R:R,IF($C$3=\"Valor Alugado\",'Guia de BTC'!T:T,IF($C$3=\"Volume Médio\",'Guia de BTC'!Y:Y,IF($C$3=\"Dias de Giro\",'Guia de BTC'!Z:Z,IF($C$3=\"Aluguel vs Vista\",'Guia de BTC'!AF:AF,IF($C$3=\"Ações Alugadas\",'Guia de BTC'!AD:AD,IF($C$3=\"▲ de 1 dia\",'Guia de BTC'!AJ:AJ,IF($C$3=\"Taxa Média De Aluguel\",'Guia de BTC'!AN:AN,\"\"))))))))),MATCH(C535,'Guia de BTC'!C:C,0)),\"\"))","v":""},"",""]
[null,{"$f":"IFERROR(RANK(E536,$E$5:$E$400)+COUNTIF($E$5:E536,E536)-1,\"\")","v":""},{"$f":"IF('Guia de BTC'!C538=0,\"\",'Guia de BTC'!C538)","v":""},null,{"$f":"IF(C536=\"\",\"\",IFERROR(INDEX(IF($C$3=\"% IBOV\",'Guia de BTC'!H:H,IF($C$3=\"% Float Alugado\",'Guia de BTC'!R:R,IF($C$3=\"Valor Alugado\",'Guia de BTC'!T:T,IF($C$3=\"Volume Médio\",'Guia de BTC'!Y:Y,IF($C$3=\"Dias de Giro\",'Guia de BTC'!Z:Z,IF($C$3=\"Aluguel vs Vista\",'Guia de BTC'!AF:AF,IF($C$3=\"Ações Alugadas\",'Guia de BTC'!AD:AD,IF($C$3=\"▲ de 1 dia\",'Guia de BTC'!AJ:AJ,IF($C$3=\"Taxa Média De Aluguel\",'Guia de BTC'!AN:AN,\"\"))))))))),MATCH(C536,'Guia de BTC'!C:C,0)),\"\"))","v":""},"",""]
[null,{"$f":"IFERROR(RANK(E537,$E$5:$E$400)+COUNTIF($E$5:E537,E537)-1,\"\")","v":""},{"$f":"IF('Guia de BTC'!C539=0,\"\",'Guia de BTC'!C539)","v":""},null,{"$f":"IF(C537=\"\",\"\",IFERROR(INDEX(IF($C$3=\"% IBOV\",'Guia de BTC'!H:H,IF($C$3=\"% Float Alugado\",'Guia de BTC'!R:R,IF($C$3=\"Valor Alugado\",'Guia de BTC'!T:T,IF($C$3=\"Volume Médio\",'Guia de BTC'!Y:Y,IF($C$3=\"Dias de Giro\",'Guia de BTC'!Z:Z,IF($C$3=\"Aluguel vs Vista\",'Guia de BTC'!AF:AF,IF($C$3=\"Ações Alugadas\",'Guia de BTC'!AD:AD,IF($C$3=\"▲ de 1 dia\",'Guia de BTC'!AJ:AJ,IF($C$3=\"Taxa Média De Aluguel\",'Guia de BTC'!AN:AN,\"\"))))))))),MATCH(C537,'Guia de BTC'!C:C,0)),\"\"))","v":""},"",""]
[null,{"$f":"IFERROR(RANK(E538,$E$5:$E$400)+COUNTIF($E$5:E538,E538)-1,\"\")","v":""},{"$f":"IF('Guia de BTC'!C540=0,\"\",'Guia de BTC'!C540)","v":""},null,{"$f":"IF(C538=\"\",\"\",IFERROR(INDEX(IF($C$3=\"% IBOV\",'Guia de BTC'!H:H,IF($C$3=\"% Float Alugado\",'Guia de BTC'!R:R,IF($C$3=\"Valor Alugado\",'Guia de BTC'!T:T,IF($C$3=\"Volume Médio\",'Guia de BTC'!Y:Y,IF($C$3=\"Dias de Giro\",'Guia de BTC'!Z:Z,IF($C$3=\"Aluguel vs Vista\",'Guia de BTC'!AF:AF,IF($C$3=\"Ações Alugadas\",'Guia de BTC'!AD:AD,IF($C$3=\"▲ de 1 dia\",'Guia de BTC'!AJ:AJ,IF($C$3=\"Taxa Média De Aluguel\",'Guia de BTC'!AN:AN,\"\"))))))))),MATCH(C538,'Guia de BTC'!C:C,0)),\"\"))","v":""},"",""]
[null,{"$f":"IFERROR(RANK(E539,$E$5:$E$400)+COUNTIF($E$5:E539,E539)-1,\"\")","v":""},{"$f":"IF('Guia de BTC'!C541=0,\"\",'Guia de BTC'!C541)","v":""},null,{"$f":"IF(C539=\"\",\"\",IFERROR(INDEX(IF($C$3=\"% IBOV\",'Guia de BTC'!H:H,IF($C$3=\"% Float Alugado\",'Guia de BTC'!R:R,IF($C$3=\"Valor Alugado\",'Guia de BTC'!T:T,IF($C$3=\"Volume Médio\",'Guia de BTC'!Y:Y,IF($C$3=\"Dias de Giro\",'Guia de BTC'!Z:Z,IF($C$3=\"Aluguel vs Vista\",'Guia de BTC'!AF:AF,IF($C$3=\"Ações Alugadas\",'Guia de BTC'!AD:AD,IF($C$3=\"▲ de 1 dia\",'Guia de BTC'!AJ:AJ,IF($C$3=\"Taxa Média De Aluguel\",'Guia de BTC'!AN:AN,\"\"))))))))),MATCH(C539,'Guia de BTC'!C:C,0)),\"\"))","v":""},"",""]
[null,{"$f":"IFERROR(RANK(E540,$E$5:$E$400)+COUNTIF($E$5:E540,E540)-1,\"\")","v":""},{"$f":"IF('Guia de BTC'!C542=0,\"\",'Guia de BTC'!C542)","v":""},null,{"$f":"IF(C540=\"\",\"\",IFERROR(INDEX(IF($C$3=\"% IBOV\",'Guia de BTC'!H:H,IF($C$3=\"% Float Alugado\",'Guia de BTC'!R:R,IF($C$3=\"Valor Alugado\",'Guia de BTC'!T:T,IF($C$3=\"Volume Médio\",'Guia de BTC'!Y:Y,IF($C$3=\"Dias de Giro\",'Guia de BTC'!Z:Z,IF($C$3=\"Aluguel vs Vista\",'Guia de BTC'!AF:AF,IF($C$3=\"Ações Alugadas\",'Guia de BTC'!AD:AD,IF($C$3=\"▲ de 1 dia\",'Guia de BTC'!AJ:AJ,IF($C$3=\"Taxa Média De Aluguel\",'Guia de BTC'!AN:AN,\"\"))))))))),MATCH(C540,'Guia de BTC'!C:C,0)),\"\"))","v":""},"",""]
[null,{"$f":"IFERROR(RANK(E541,$E$5:$E$400)+COUNTIF($E$5:E541,E541)-1,\"\")","v":""},{"$f":"IF('Guia de BTC'!C543=0,\"\",'Guia de BTC'!C543)","v":""},null,{"$f":"IF(C541=\"\",\"\",IFERROR(INDEX(IF($C$3=\"% IBOV\",'Guia de BTC'!H:H,IF($C$3=\"% Float Alugado\",'Guia de BTC'!R:R,IF($C$3=\"Valor Alugado\",'Guia de BTC'!T:T,IF($C$3=\"Volume Médio\",'Guia de BTC'!Y:Y,IF($C$3=\"Dias de Giro\",'Guia de BTC'!Z:Z,IF($C$3=\"Aluguel vs Vista\",'Guia de BTC'!AF:AF,IF($C$3=\"Ações Alugadas\",'Guia de BTC'!AD:AD,IF($C$3=\"▲ de 1 dia\",'Guia de BTC'!AJ:AJ,IF($C$3=\"Taxa Média De Aluguel\",'Guia de BTC'!AN:AN,\"\"))))))))),MATCH(C541,'Guia de BTC'!C:C,0)),\"\"))","v":""},"",""]
[null,{"$f":"IFERROR(RANK(E542,$E$5:$E$400)+COUNTIF($E$5:E542,E542)-1,\"\")","v":""},{"$f":"IF('Guia de BTC'!C544=0,\"\",'Guia de BTC'!C544)","v":""},null,{"$f":"IF(C542=\"\",\"\",IFERROR(INDEX(IF($C$3=\"% IBOV\",'Guia de BTC'!H:H,IF($C$3=\"% Float Alugado\",'Guia de BTC'!R:R,IF($C$3=\"Valor Alugado\",'Guia de BTC'!T:T,IF($C$3=\"Volume Médio\",'Guia de BTC'!Y:Y,IF($C$3=\"Dias de Giro\",'Guia de BTC'!Z:Z,IF($C$3=\"Aluguel vs Vista\",'Guia de BTC'!AF:AF,IF($C$3=\"Ações Alugadas\",'Guia de BTC'!AD:AD,IF($C$3=\"▲ de 1 dia\",'Guia de BTC'!AJ:AJ,IF($C$3=\"Taxa Média De Aluguel\",'Guia de BTC'!AN:AN,\"\"))))))))),MATCH(C542,'Guia de BTC'!C:C,0)),\"\"))","v":""},"",""]
[null,{"$f":"IFERROR(RANK(E543,$E$5:$E$400)+COUNTIF($E$5:E543,E543)-1,\"\")","v":""},{"$f":"IF('Guia de BTC'!C545=0,\"\",'Guia de BTC'!C545)","v":""},null,{"$f":"IF(C543=\"\",\"\",IFERROR(INDEX(IF($C$3=\"% IBOV\",'Guia de BTC'!H:H,IF($C$3=\"% Float Alugado\",'Guia de BTC'!R:R,IF($C$3=\"Valor Alugado\",'Guia de BTC'!T:T,IF($C$3=\"Volume Médio\",'Guia de BTC'!Y:Y,IF($C$3=\"Dias de Giro\",'Guia de BTC'!Z:Z,IF($C$3=\"Aluguel vs Vista\",'Guia de BTC'!AF:AF,IF($C$3=\"Ações Alugadas\",'Guia de BTC'!AD:AD,IF($C$3=\"▲ de 1 dia\",'Guia de BTC'!AJ:AJ,IF($C$3=\"Taxa Média De Aluguel\",'Guia de BTC'!AN:AN,\"\"))))))))),MATCH(C543,'Guia de BTC'!C:C,0)),\"\"))","v":""},"",""]
[null,{"$f":"IFERROR(RANK(E544,$E$5:$E$400)+COUNTIF($E$5:E544,E544)-1,\"\")","v":""},{"$f":"IF('Guia de BTC'!C546=0,\"\",'Guia de BTC'!C546)","v":""},null,{"$f":"IF(C544=\"\",\"\",IFERROR(INDEX(IF($C$3=\"% IBOV\",'Guia de BTC'!H:H,IF($C$3=\"% Float Alugado\",'Guia de BTC'!R:R,IF($C$3=\"Valor Alugado\",'Guia de BTC'!T:T,IF($C$3=\"Volume Médio\",'Guia de BTC'!Y:Y,IF($C$3=\"Dias de Giro\",'Guia de BTC'!Z:Z,IF($C$3=\"Aluguel vs Vista\",'Guia de BTC'!AF:AF,IF($C$3=\"Ações Alugadas\",'Guia de BTC'!AD:AD,IF($C$3=\"▲ de 1 dia\",'Guia de BTC'!AJ:AJ,IF($C$3=\"Taxa Média De Aluguel\",'Guia de BTC'!AN:AN,\"\"))))))))),MATCH(C544,'Guia de BTC'!C:C,0)),\"\"))","v":""},"",""]
[null,{"$f":"IFERROR(RANK(E545,$E$5:$E$400)+COUNTIF($E$5:E545,E545)-1,\"\")","v":""},{"$f":"IF('Guia de BTC'!C547=0,\"\",'Guia de BTC'!C547)","v":""},null,{"$f":"IF(C545=\"\",\"\",IFERROR(INDEX(IF($C$3=\"% IBOV\",'Guia de BTC'!H:H,IF($C$3=\"% Float Alugado\",'Guia de BTC'!R:R,IF($C$3=\"Valor Alugado\",'Guia de BTC'!T:T,IF($C$3=\"Volume Médio\",'Guia de BTC'!Y:Y,IF($C$3=\"Dias de Giro\",'Guia de BTC'!Z:Z,IF($C$3=\"Aluguel vs Vista\",'Guia de BTC'!AF:AF,IF($C$3=\"Ações Alugadas\",'Guia de BTC'!AD:AD,IF($C$3=\"▲ de 1 dia\",'Guia de BTC'!AJ:AJ,IF($C$3=\"Taxa Média De Aluguel\",'Guia de BTC'!AN:AN,\"\"))))))))),MATCH(C545,'Guia de BTC'!C:C,0)),\"\"))","v":""},"",""]
[null,{"$f":"IFERROR(RANK(E546,$E$5:$E$400)+COUNTIF($E$5:E546,E546)-1,\"\")","v":""},{"$f":"IF('Guia de BTC'!C548=0,\"\",'Guia de BTC'!C548)","v":""},null,{"$f":"IF(C546=\"\",\"\",IFERROR(INDEX(IF($C$3=\"% IBOV\",'Guia de BTC'!H:H,IF($C$3=\"% Float Alugado\",'Guia de BTC'!R:R,IF($C$3=\"Valor Alugado\",'Guia de BTC'!T:T,IF($C$3=\"Volume Médio\",'Guia de BTC'!Y:Y,IF($C$3=\"Dias de Giro\",'Guia de BTC'!Z:Z,IF($C$3=\"Aluguel vs Vista\",'Guia de BTC'!AF:AF,IF($C$3=\"Ações Alugadas\",'Guia de BTC'!AD:AD,IF($C$3=\"▲ de 1 dia\",'Guia de BTC'!AJ:AJ,IF($C$3=\"Taxa Média De Aluguel\",'Guia de BTC'!AN:AN,\"\"))))))))),MATCH(C546,'Guia de BTC'!C:C,0)),\"\"))","v":""},"",""]
[null,{"$f":"IFERROR(RANK(E547,$E$5:$E$400)+COUNTIF($E$5:E547,E547)-1,\"\")","v":""},{"$f":"IF('Guia de BTC'!C549=0,\"\",'Guia de BTC'!C549)","v":""},null,{"$f":"IF(C547=\"\",\"\",IFERROR(INDEX(IF($C$3=\"% IBOV\",'Guia de BTC'!H:H,IF($C$3=\"% Float Alugado\",'Guia de BTC'!R:R,IF($C$3=\"Valor Alugado\",'Guia de BTC'!T:T,IF($C$3=\"Volume Médio\",'Guia de BTC'!Y:Y,IF($C$3=\"Dias de Giro\",'Guia de BTC'!Z:Z,IF($C$3=\"Aluguel vs Vista\",'Guia de BTC'!AF:AF,IF($C$3=\"Ações Alugadas\",'Guia de BTC'!AD:AD,IF($C$3=\"▲ de 1 dia\",'Guia de BTC'!AJ:AJ,IF($C$3=\"Taxa Média De Aluguel\",'Guia de BTC'!AN:AN,\"\"))))))))),MATCH(C547,'Guia de BTC'!C:C,0)),\"\"))","v":""},"",""]
[null,{"$f":"IFERROR(RANK(E548,$E$5:$E$400)+COUNTIF($E$5:E548,E548)-1,\"\")","v":""},{"$f":"IF('Guia de BTC'!C550=0,\"\",'Guia de BTC'!C550)","v":""},null,{"$f":"IF(C548=\"\",\"\",IFERROR(INDEX(IF($C$3=\"% IBOV\",'Guia de BTC'!H:H,IF($C$3=\"% Float Alugado\",'Guia de BTC'!R:R,IF($C$3=\"Valor Alugado\",'Guia de BTC'!T:T,IF($C$3=\"Volume Médio\",'Guia de BTC'!Y:Y,IF($C$3=\"Dias de Giro\",'Guia de BTC'!Z:Z,IF($C$3=\"Aluguel vs Vista\",'Guia de BTC'!AF:AF,IF($C$3=\"Ações Alugadas\",'Guia de BTC'!AD:AD,IF($C$3=\"▲ de 1 dia\",'Guia de BTC'!AJ:AJ,IF($C$3=\"Taxa Média De Aluguel\",'Guia de BTC'!AN:AN,\"\"))))))))),MATCH(C548,'Guia de BTC'!C:C,0)),\"\"))","v":""},"",""]
[null,{"$f":"IFERROR(RANK(E549,$E$5:$E$400)+COUNTIF($E$5:E549,E549)-1,\"\")","v":""},{"$f":"IF('Guia de BTC'!C551=0,\"\",'Guia de BTC'!C551)","v":""},null,{"$f":"IF(C549=\"\",\"\",IFERROR(INDEX(IF($C$3=\"% IBOV\",'Guia de BTC'!H:H,IF($C$3=\"% Float Alugado\",'Guia de BTC'!R:R,IF($C$3=\"Valor Alugado\",'Guia de BTC'!T:T,IF($C$3=\"Volume Médio\",'Guia de BTC'!Y:Y,IF($C$3=\"Dias de Giro\",'Guia de BTC'!Z:Z,IF($C$3=\"Aluguel vs Vista\",'Guia de BTC'!AF:AF,IF($C$3=\"Ações Alugadas\",'Guia de BTC'!AD:AD,IF($C$3=\"▲ de 1 dia\",'Guia de BTC'!AJ:AJ,IF($C$3=\"Taxa Média De Aluguel\",'Guia de BTC'!AN:AN,\"\"))))))))),MATCH(C549,'Guia de BTC'!C:C,0)),\"\"))","v":""},"",""]
[null,{"$f":"IFERROR(RANK(E550,$E$5:$E$400)+COUNTIF($E$5:E550,E550)-1,\"\")","v":""},{"$f":"IF('Guia de BTC'!C552=0,\"\",'Guia de BTC'!C552)","v":""},null,{"$f":"IF(C550=\"\",\"\",IFERROR(INDEX(IF($C$3=\"% IBOV\",'Guia de BTC'!H:H,IF($C$3=\"% Float Alugado\",'Guia de BTC'!R:R,IF($C$3=\"Valor Alugado\",'Guia de BTC'!T:T,IF($C$3=\"Volume Médio\",'Guia de BTC'!Y:Y,IF($C$3=\"Dias de Giro\",'Guia de BTC'!Z:Z,IF($C$3=\"Aluguel vs Vista\",'Guia de BTC'!AF:AF,IF($C$3=\"Ações Alugadas\",'Guia de BTC'!AD:AD,IF($C$3=\"▲ de 1 dia\",'Guia de BTC'!AJ:AJ,IF($C$3=\"Taxa Média De Aluguel\",'Guia de BTC'!AN:AN,\"\"))))))))),MATCH(C550,'Guia de BTC'!C:C,0)),\"\"))","v":""},"",""]
[null,{"$f":"IFERROR(RANK(E551,$E$5:$E$400)+COUNTIF($E$5:E551,E551)-1,\"\")","v":""},{"$f":"IF('Guia de BTC'!C553=0,\"\",'Guia de BTC'!C553)","v":""},null,{"$f":"IF(C551=\"\",\"\",IFERROR(INDEX(IF($C$3=\"% IBOV\",'Guia de BTC'!H:H,IF($C$3=\"% Float Alugado\",'Guia de BTC'!R:R,IF($C$3=\"Valor Alugado\",'Guia de BTC'!T:T,IF($C$3=\"Volume Médio\",'Guia de BTC'!Y:Y,IF($C$3=\"Dias de Giro\",'Guia de BTC'!Z:Z,IF($C$3=\"Aluguel vs Vista\",'Guia de BTC'!AF:AF,IF($C$3=\"Ações Alugadas\",'Guia de BTC'!AD:AD,IF($C$3=\"▲ de 1 dia\",'Guia de BTC'!AJ:AJ,IF($C$3=\"Taxa Média De Aluguel\",'Guia de BTC'!AN:AN,\"\"))))))))),MATCH(C551,'Guia de BTC'!C:C,0)),\"\"))","v":""},"",""]
[null,{"$f":"IFERROR(RANK(E552,$E$5:$E$400)+COUNTIF($E$5:E552,E552)-1,\"\")","v":""},{"$f":"IF('Guia de BTC'!C554=0,\"\",'Guia de BTC'!C554)","v":""},null,{"$f":"IF(C552=\"\",\"\",IFERROR(INDEX(IF($C$3=\"% IBOV\",'Guia de BTC'!H:H,IF($C$3=\"% Float Alugado\",'Guia de BTC'!R:R,IF($C$3=\"Valor Alugado\",'Guia de BTC'!T:T,IF($C$3=\"Volume Médio\",'Guia de BTC'!Y:Y,IF($C$3=\"Dias de Giro\",'Guia de BTC'!Z:Z,IF($C$3=\"Aluguel vs Vista\",'Guia de BTC'!AF:AF,IF($C$3=\"Ações Alugadas\",'Guia de BTC'!AD:AD,IF($C$3=\"▲ de 1 dia\",'Guia de BTC'!AJ:AJ,IF($C$3=\"Taxa Média De Aluguel\",'Guia de BTC'!AN:AN,\"\"))))))))),MATCH(C552,'Guia de BTC'!C:C,0)),\"\"))","v":""},"",""]
[null,{"$f":"IFERROR(RANK(E553,$E$5:$E$400)+COUNTIF($E$5:E553,E553)-1,\"\")","v":""},{"$f":"IF('Guia de BTC'!C555=0,\"\",'Guia de BTC'!C555)","v":""},null,{"$f":"IF(C553=\"\",\"\",IFERROR(INDEX(IF($C$3=\"% IBOV\",'Guia de BTC'!H:H,IF($C$3=\"% Float Alugado\",'Guia de BTC'!R:R,IF($C$3=\"Valor Alugado\",'Guia de BTC'!T:T,IF($C$3=\"Volume Médio\",'Guia de BTC'!Y:Y,IF($C$3=\"Dias de Giro\",'Guia de BTC'!Z:Z,IF($C$3=\"Aluguel vs Vista\",'Guia de BTC'!AF:AF,IF($C$3=\"Ações Alugadas\",'Guia de BTC'!AD:AD,IF($C$3=\"▲ de 1 dia\",'Guia de BTC'!AJ:AJ,IF($C$3=\"Taxa Média De Aluguel\",'Guia de BTC'!AN:AN,\"\"))))))))),MATCH(C553,'Guia de BTC'!C:C,0)),\"\"))","v":""},"",""]
[null,{"$f":"IFERROR(RANK(E554,$E$5:$E$400)+COUNTIF($E$5:E554,E554)-1,\"\")","v":""},{"$f":"IF('Guia de BTC'!C556=0,\"\",'Guia de BTC'!C556)","v":""},null,{"$f":"IF(C554=\"\",\"\",IFERROR(INDEX(IF($C$3=\"% IBOV\",'Guia de BTC'!H:H,IF($C$3=\"% Float Alugado\",'Guia de BTC'!R:R,IF($C$3=\"Valor Alugado\",'Guia de BTC'!T:T,IF($C$3=\"Volume Médio\",'Guia de BTC'!Y:Y,IF($C$3=\"Dias de Giro\",'Guia de BTC'!Z:Z,IF($C$3=\"Aluguel vs Vista\",'Guia de BTC'!AF:AF,IF($C$3=\"Ações Alugadas\",'Guia de BTC'!AD:AD,IF($C$3=\"▲ de 1 dia\",'Guia de BTC'!AJ:AJ,IF($C$3=\"Taxa Média De Aluguel\",'Guia de BTC'!AN:AN,\"\"))))))))),MATCH(C554,'Guia de BTC'!C:C,0)),\"\"))","v":""},"",""]
[null,{"$f":"IFERROR(RANK(E555,$E$5:$E$400)+COUNTIF($E$5:E555,E555)-1,\"\")","v":""},{"$f":"IF('Guia de BTC'!C557=0,\"\",'Guia de BTC'!C557)","v":""},null,{"$f":"IF(C555=\"\",\"\",IFERROR(INDEX(IF($C$3=\"% IBOV\",'Guia de BTC'!H:H,IF($C$3=\"% Float Alugado\",'Guia de BTC'!R:R,IF($C$3=\"Valor Alugado\",'Guia de BTC'!T:T,IF($C$3=\"Volume Médio\",'Guia de BTC'!Y:Y,IF($C$3=\"Dias de Giro\",'Guia de BTC'!Z:Z,IF($C$3=\"Aluguel vs Vista\",'Guia de BTC'!AF:AF,IF($C$3=\"Ações Alugadas\",'Guia de BTC'!AD:AD,IF($C$3=\"▲ de 1 dia\",'Guia de BTC'!AJ:AJ,IF($C$3=\"Taxa Média De Aluguel\",'Guia de BTC'!AN:AN,\"\"))))))))),MATCH(C555,'Guia de BTC'!C:C,0)),\"\"))","v":""},"",""]
[null,{"$f":"IFERROR(RANK(E556,$E$5:$E$400)+COUNTIF($E$5:E556,E556)-1,\"\")","v":""},{"$f":"IF('Guia de BTC'!C558=0,\"\",'Guia de BTC'!C558)","v":""},null,{"$f":"IF(C556=\"\",\"\",IFERROR(INDEX(IF($C$3=\"% IBOV\",'Guia de BTC'!H:H,IF($C$3=\"% Float Alugado\",'Guia de BTC'!R:R,IF($C$3=\"Valor Alugado\",'Guia de BTC'!T:T,IF($C$3=\"Volume Médio\",'Guia de BTC'!Y:Y,IF($C$3=\"Dias de Giro\",'Guia de BTC'!Z:Z,IF($C$3=\"Aluguel vs Vista\",'Guia de BTC'!AF:AF,IF($C$3=\"Ações Alugadas\",'Guia de BTC'!AD:AD,IF($C$3=\"▲ de 1 dia\",'Guia de BTC'!AJ:AJ,IF($C$3=\"Taxa Média De Aluguel\",'Guia de BTC'!AN:AN,\"\"))))))))),MATCH(C556,'Guia de BTC'!C:C,0)),\"\"))","v":""},"",""]
[null,{"$f":"IFERROR(RANK(E557,$E$5:$E$400)+COUNTIF($E$5:E557,E557)-1,\"\")","v":""},{"$f":"IF('Guia de BTC'!C559=0,\"\",'Guia de BTC'!C559)","v":""},null,{"$f":"IF(C557=\"\",\"\",IFERROR(INDEX(IF($C$3=\"% IBOV\",'Guia de BTC'!H:H,IF($C$3=\"% Float Alugado\",'Guia de BTC'!R:R,IF($C$3=\"Valor Alugado\",'Guia de BTC'!T:T,IF($C$3=\"Volume Médio\",'Guia de BTC'!Y:Y,IF($C$3=\"Dias de Giro\",'Guia de BTC'!Z:Z,IF($C$3=\"Aluguel vs Vista\",'Guia de BTC'!AF:AF,IF($C$3=\"Ações Alugadas\",'Guia de BTC'!AD:AD,IF($C$3=\"▲ de 1 dia\",'Guia de BTC'!AJ:AJ,IF($C$3=\"Taxa Média De Aluguel\",'Guia de BTC'!AN:AN,\"\"))))))))),MATCH(C557,'Guia de BTC'!C:C,0)),\"\"))","v":""},"",""]
[null,{"$f":"IFERROR(RANK(E558,$E$5:$E$400)+COUNTIF($E$5:E558,E558)-1,\"\")","v":""},{"$f":"IF('Guia de BTC'!C560=0,\"\",'Guia de BTC'!C560)","v":""},null,{"$f":"IF(C558=\"\",\"\",IFERROR(INDEX(IF($C$3=\"% IBOV\",'Guia de BTC'!H:H,IF($C$3=\"% Float Alugado\",'Guia de BTC'!R:R,IF($C$3=\"Valor Alugado\",'Guia de BTC'!T:T,IF($C$3=\"Volume Médio\",'Guia de BTC'!Y:Y,IF($C$3=\"Dias de Giro\",'Guia de BTC'!Z:Z,IF($C$3=\"Aluguel vs Vista\",'Guia de BTC'!AF:AF,IF($C$3=\"Ações Alugadas\",'Guia de BTC'!AD:AD,IF($C$3=\"▲ de 1 dia\",'Guia de BTC'!AJ:AJ,IF($C$3=\"Taxa Média De Aluguel\",'Guia de BTC'!AN:AN,\"\"))))))))),MATCH(C558,'Guia de BTC'!C:C,0)),\"\"))","v":""},"",""]
[null,{"$f":"IFERROR(RANK(E559,$E$5:$E$400)+COUNTIF($E$5:E559,E559)-1,\"\")","v":""},{"$f":"IF('Guia de BTC'!C561=0,\"\",'Guia de BTC'!C561)","v":""},null,{"$f":"IF(C559=\"\",\"\",IFERROR(INDEX(IF($C$3=\"% IBOV\",'Guia de BTC'!H:H,IF($C$3=\"% Float Alugado\",'Guia de BTC'!R:R,IF($C$3=\"Valor Alugado\",'Guia de BTC'!T:T,IF($C$3=\"Volume Médio\",'Guia de BTC'!Y:Y,IF($C$3=\"Dias de Giro\",'Guia de BTC'!Z:Z,IF($C$3=\"Aluguel vs Vista\",'Guia de BTC'!AF:AF,IF($C$3=\"Ações Alugadas\",'Guia de BTC'!AD:AD,IF($C$3=\"▲ de 1 dia\",'Guia de BTC'!AJ:AJ,IF($C$3=\"Taxa Média De Aluguel\",'Guia de BTC'!AN:AN,\"\"))))))))),MATCH(C559,'Guia de BTC'!C:C,0)),\"\"))","v":""},"",""]
[null,{"$f":"IFERROR(RANK(E560,$E$5:$E$400)+COUNTIF($E$5:E560,E560)-1,\"\")","v":""},{"$f":"IF('Guia de BTC'!C562=0,\"\",'Guia de BTC'!C562)","v":""},null,{"$f":"IF(C560=\"\",\"\",IFERROR(INDEX(IF($C$3=\"% IBOV\",'Guia de BTC'!H:H,IF($C$3=\"% Float Alugado\",'Guia de BTC'!R:R,IF($C$3=\"Valor Alugado\",'Guia de BTC'!T:T,IF($C$3=\"Volume Médio\",'Guia de BTC'!Y:Y,IF($C$3=\"Dias de Giro\",'Guia de BTC'!Z:Z,IF($C$3=\"Aluguel vs Vista\",'Guia de BTC'!AF:AF,IF($C$3=\"Ações Alugadas\",'Guia de BTC'!AD:AD,IF($C$3=\"▲ de 1 dia\",'Guia de BTC'!AJ:AJ,IF($C$3=\"Taxa Média De Aluguel\",'Guia de BTC'!AN:AN,\"\"))))))))),MATCH(C560,'Guia de BTC'!C:C,0)),\"\"))","v":""},"",""]
[null,{"$f":"IFERROR(RANK(E561,$E$5:$E$400)+COUNTIF($E$5:E561,E561)-1,\"\")","v":""},{"$f":"IF('Guia de BTC'!C563=0,\"\",'Guia de BTC'!C563)","v":""},null,{"$f":"IF(C561=\"\",\"\",IFERROR(INDEX(IF($C$3=\"% IBOV\",'Guia de BTC'!H:H,IF($C$3=\"% Float Alugado\",'Guia de BTC'!R:R,IF($C$3=\"Valor Alugado\",'Guia de BTC'!T:T,IF($C$3=\"Volume Médio\",'Guia de BTC'!Y:Y,IF($C$3=\"Dias de Giro\",'Guia de BTC'!Z:Z,IF($C$3=\"Aluguel vs Vista\",'Guia de BTC'!AF:AF,IF($C$3=\"Ações Alugadas\",'Guia de BTC'!AD:AD,IF($C$3=\"▲ de 1 dia\",'Guia de BTC'!AJ:AJ,IF($C$3=\"Taxa Média De Aluguel\",'Guia de BTC'!AN:AN,\"\"))))))))),MATCH(C561,'Guia de BTC'!C:C,0)),\"\"))","v":""},"",""]
[null,{"$f":"IFERROR(RANK(E562,$E$5:$E$400)+COUNTIF($E$5:E562,E562)-1,\"\")","v":""},{"$f":"IF('Guia de BTC'!C564=0,\"\",'Guia de BTC'!C564)","v":""},null,{"$f":"IF(C562=\"\",\"\",IFERROR(INDEX(IF($C$3=\"% IBOV\",'Guia de BTC'!H:H,IF($C$3=\"% Float Alugado\",'Guia de BTC'!R:R,IF($C$3=\"Valor Alugado\",'Guia de BTC'!T:T,IF($C$3=\"Volume Médio\",'Guia de BTC'!Y:Y,IF($C$3=\"Dias de Giro\",'Guia de BTC'!Z:Z,IF($C$3=\"Aluguel vs Vista\",'Guia de BTC'!AF:AF,IF($C$3=\"Ações Alugadas\",'Guia de BTC'!AD:AD,IF($C$3=\"▲ de 1 dia\",'Guia de BTC'!AJ:AJ,IF($C$3=\"Taxa Média De Aluguel\",'Guia de BTC'!AN:AN,\"\"))))))))),MATCH(C562,'Guia de BTC'!C:C,0)),\"\"))","v":""},"",""]
[null,{"$f":"IFERROR(RANK(E563,$E$5:$E$400)+COUNTIF($E$5:E563,E563)-1,\"\")","v":""},{"$f":"IF('Guia de BTC'!C565=0,\"\",'Guia de BTC'!C565)","v":""},null,{"$f":"IF(C563=\"\",\"\",IFERROR(INDEX(IF($C$3=\"% IBOV\",'Guia de BTC'!H:H,IF($C$3=\"% Float Alugado\",'Guia de BTC'!R:R,IF($C$3=\"Valor Alugado\",'Guia de BTC'!T:T,IF($C$3=\"Volume Médio\",'Guia de BTC'!Y:Y,IF($C$3=\"Dias de Giro\",'Guia de BTC'!Z:Z,IF($C$3=\"Aluguel vs Vista\",'Guia de BTC'!AF:AF,IF($C$3=\"Ações Alugadas\",'Guia de BTC'!AD:AD,IF($C$3=\"▲ de 1 dia\",'Guia de BTC'!AJ:AJ,IF($C$3=\"Taxa Média De Aluguel\",'Guia de BTC'!AN:AN,\"\"))))))))),MATCH(C563,'Guia de BTC'!C:C,0)),\"\"))","v":""},"",""]
[null,{"$f":"IFERROR(RANK(E564,$E$5:$E$400)+COUNTIF($E$5:E564,E564)-1,\"\")","v":""},{"$f":"IF('Guia de BTC'!C566=0,\"\",'Guia de BTC'!C566)","v":""},null,{"$f":"IF(C564=\"\",\"\",IFERROR(INDEX(IF($C$3=\"% IBOV\",'Guia de BTC'!H:H,IF($C$3=\"% Float Alugado\",'Guia de BTC'!R:R,IF($C$3=\"Valor Alugado\",'Guia de BTC'!T:T,IF($C$3=\"Volume Médio\",'Guia de BTC'!Y:Y,IF($C$3=\"Dias de Giro\",'Guia de BTC'!Z:Z,IF($C$3=\"Aluguel vs Vista\",'Guia de BTC'!AF:AF,IF($C$3=\"Ações Alugadas\",'Guia de BTC'!AD:AD,IF($C$3=\"▲ de 1 dia\",'Guia de BTC'!AJ:AJ,IF($C$3=\"Taxa Média De Aluguel\",'Guia de BTC'!AN:AN,\"\"))))))))),MATCH(C564,'Guia de BTC'!C:C,0)),\"\"))","v":""},"",""]
[null,{"$f":"IFERROR(RANK(E565,$E$5:$E$400)+COUNTIF($E$5:E565,E565)-1,\"\")","v":""},{"$f":"IF('Guia de BTC'!C567=0,\"\",'Guia de BTC'!C567)","v":""},null,{"$f":"IF(C565=\"\",\"\",IFERROR(INDEX(IF($C$3=\"% IBOV\",'Guia de BTC'!H:H,IF($C$3=\"% Float Alugado\",'Guia de BTC'!R:R,IF($C$3=\"Valor Alugado\",'Guia de BTC'!T:T,IF($C$3=\"Volume Médio\",'Guia de BTC'!Y:Y,IF($C$3=\"Dias de Giro\",'Guia de BTC'!Z:Z,IF($C$3=\"Aluguel vs Vista\",'Guia de BTC'!AF:AF,IF($C$3=\"Ações Alugadas\",'Guia de BTC'!AD:AD,IF($C$3=\"▲ de 1 dia\",'Guia de BTC'!AJ:AJ,IF($C$3=\"Taxa Média De Aluguel\",'Guia de BTC'!AN:AN,\"\"))))))))),MATCH(C565,'Guia de BTC'!C:C,0)),\"\"))","v":""},"",""]
[null,{"$f":"IFERROR(RANK(E566,$E$5:$E$400)+COUNTIF($E$5:E566,E566)-1,\"\")","v":""},{"$f":"IF('Guia de BTC'!C568=0,\"\",'Guia de BTC'!C568)","v":""},null,{"$f":"IF(C566=\"\",\"\",IFERROR(INDEX(IF($C$3=\"% IBOV\",'Guia de BTC'!H:H,IF($C$3=\"% Float Alugado\",'Guia de BTC'!R:R,IF($C$3=\"Valor Alugado\",'Guia de BTC'!T:T,IF($C$3=\"Volume Médio\",'Guia de BTC'!Y:Y,IF($C$3=\"Dias de Giro\",'Guia de BTC'!Z:Z,IF($C$3=\"Aluguel vs Vista\",'Guia de BTC'!AF:AF,IF($C$3=\"Ações Alugadas\",'Guia de BTC'!AD:AD,IF($C$3=\"▲ de 1 dia\",'Guia de BTC'!AJ:AJ,IF($C$3=\"Taxa Média De Aluguel\",'Guia de BTC'!AN:AN,\"\"))))))))),MATCH(C566,'Guia de BTC'!C:C,0)),\"\"))","v":""},"",""]
[null,{"$f":"IFERROR(RANK(E567,$E$5:$E$400)+COUNTIF($E$5:E567,E567)-1,\"\")","v":""},{"$f":"IF('Guia de BTC'!C569=0,\"\",'Guia de BTC'!C569)","v":""},null,{"$f":"IF(C567=\"\",\"\",IFERROR(INDEX(IF($C$3=\"% IBOV\",'Guia de BTC'!H:H,IF($C$3=\"% Float Alugado\",'Guia de BTC'!R:R,IF($C$3=\"Valor Alugado\",'Guia de BTC'!T:T,IF($C$3=\"Volume Médio\",'Guia de BTC'!Y:Y,IF($C$3=\"Dias de Giro\",'Guia de BTC'!Z:Z,IF($C$3=\"Aluguel vs Vista\",'Guia de BTC'!AF:AF,IF($C$3=\"Ações Alugadas\",'Guia de BTC'!AD:AD,IF($C$3=\"▲ de 1 dia\",'Guia de BTC'!AJ:AJ,IF($C$3=\"Taxa Média De Aluguel\",'Guia de BTC'!AN:AN,\"\"))))))))),MATCH(C567,'Guia de BTC'!C:C,0)),\"\"))","v":""},"",""]
[null,{"$f":"IFERROR(RANK(E568,$E$5:$E$400)+COUNTIF($E$5:E568,E568)-1,\"\")","v":""},{"$f":"IF('Guia de BTC'!C570=0,\"\",'Guia de BTC'!C570)","v":""},null,{"$f":"IF(C568=\"\",\"\",IFERROR(INDEX(IF($C$3=\"% IBOV\",'Guia de BTC'!H:H,IF($C$3=\"% Float Alugado\",'Guia de BTC'!R:R,IF($C$3=\"Valor Alugado\",'Guia de BTC'!T:T,IF($C$3=\"Volume Médio\",'Guia de BTC'!Y:Y,IF($C$3=\"Dias de Giro\",'Guia de BTC'!Z:Z,IF($C$3=\"Aluguel vs Vista\",'Guia de BTC'!AF:AF,IF($C$3=\"Ações Alugadas\",'Guia de BTC'!AD:AD,IF($C$3=\"▲ de 1 dia\",'Guia de BTC'!AJ:AJ,IF($C$3=\"Taxa Média De Aluguel\",'Guia de BTC'!AN:AN,\"\"))))))))),MATCH(C568,'Guia de BTC'!C:C,0)),\"\"))","v":""},"",""]
[null,{"$f":"IFERROR(RANK(E569,$E$5:$E$400)+COUNTIF($E$5:E569,E569)-1,\"\")","v":""},{"$f":"IF('Guia de BTC'!C571=0,\"\",'Guia de BTC'!C571)","v":""},null,{"$f":"IF(C569=\"\",\"\",IFERROR(INDEX(IF($C$3=\"% IBOV\",'Guia de BTC'!H:H,IF($C$3=\"% Float Alugado\",'Guia de BTC'!R:R,IF($C$3=\"Valor Alugado\",'Guia de BTC'!T:T,IF($C$3=\"Volume Médio\",'Guia de BTC'!Y:Y,IF($C$3=\"Dias de Giro\",'Guia de BTC'!Z:Z,IF($C$3=\"Aluguel vs Vista\",'Guia de BTC'!AF:AF,IF($C$3=\"Ações Alugadas\",'Guia de BTC'!AD:AD,IF($C$3=\"▲ de 1 dia\",'Guia de BTC'!AJ:AJ,IF($C$3=\"Taxa Média De Aluguel\",'Guia de BTC'!AN:AN,\"\"))))))))),MATCH(C569,'Guia de BTC'!C:C,0)),\"\"))","v":""},"",""]
[null,{"$f":"IFERROR(RANK(E570,$E$5:$E$400)+COUNTIF($E$5:E570,E570)-1,\"\")","v":""},{"$f":"IF('Guia de BTC'!C572=0,\"\",'Guia de BTC'!C572)","v":""},null,{"$f":"IF(C570=\"\",\"\",IFERROR(INDEX(IF($C$3=\"% IBOV\",'Guia de BTC'!H:H,IF($C$3=\"% Float Alugado\",'Guia de BTC'!R:R,IF($C$3=\"Valor Alugado\",'Guia de BTC'!T:T,IF($C$3=\"Volume Médio\",'Guia de BTC'!Y:Y,IF($C$3=\"Dias de Giro\",'Guia de BTC'!Z:Z,IF($C$3=\"Aluguel vs Vista\",'Guia de BTC'!AF:AF,IF($C$3=\"Ações Alugadas\",'Guia de BTC'!AD:AD,IF($C$3=\"▲ de 1 dia\",'Guia de BTC'!AJ:AJ,IF($C$3=\"Taxa Média De Aluguel\",'Guia de BTC'!AN:AN,\"\"))))))))),MATCH(C570,'Guia de BTC'!C:C,0)),\"\"))","v":""},"",""]
[null,{"$f":"IFERROR(RANK(E571,$E$5:$E$400)+COUNTIF($E$5:E571,E571)-1,\"\")","v":""},{"$f":"IF('Guia de BTC'!C573=0,\"\",'Guia de BTC'!C573)","v":""},null,{"$f":"IF(C571=\"\",\"\",IFERROR(INDEX(IF($C$3=\"% IBOV\",'Guia de BTC'!H:H,IF($C$3=\"% Float Alugado\",'Guia de BTC'!R:R,IF($C$3=\"Valor Alugado\",'Guia de BTC'!T:T,IF($C$3=\"Volume Médio\",'Guia de BTC'!Y:Y,IF($C$3=\"Dias de Giro\",'Guia de BTC'!Z:Z,IF($C$3=\"Aluguel vs Vista\",'Guia de BTC'!AF:AF,IF($C$3=\"Ações Alugadas\",'Guia de BTC'!AD:AD,IF($C$3=\"▲ de 1 dia\",'Guia de BTC'!AJ:AJ,IF($C$3=\"Taxa Média De Aluguel\",'Guia de BTC'!AN:AN,\"\"))))))))),MATCH(C571,'Guia de BTC'!C:C,0)),\"\"))","v":""},"",""]
[null,{"$f":"IFERROR(RANK(E572,$E$5:$E$400)+COUNTIF($E$5:E572,E572)-1,\"\")","v":""},{"$f":"IF('Guia de BTC'!C574=0,\"\",'Guia de BTC'!C574)","v":""},null,{"$f":"IF(C572=\"\",\"\",IFERROR(INDEX(IF($C$3=\"% IBOV\",'Guia de BTC'!H:H,IF($C$3=\"% Float Alugado\",'Guia de BTC'!R:R,IF($C$3=\"Valor Alugado\",'Guia de BTC'!T:T,IF($C$3=\"Volume Médio\",'Guia de BTC'!Y:Y,IF($C$3=\"Dias de Giro\",'Guia de BTC'!Z:Z,IF($C$3=\"Aluguel vs Vista\",'Guia de BTC'!AF:AF,IF($C$3=\"Ações Alugadas\",'Guia de BTC'!AD:AD,IF($C$3=\"▲ de 1 dia\",'Guia de BTC'!AJ:AJ,IF($C$3=\"Taxa Média De Aluguel\",'Guia de BTC'!AN:AN,\"\"))))))))),MATCH(C572,'Guia de BTC'!C:C,0)),\"\"))","v":""},"",""]
[null,{"$f":"IFERROR(RANK(E573,$E$5:$E$400)+COUNTIF($E$5:E573,E573)-1,\"\")","v":""},{"$f":"IF('Guia de BTC'!C575=0,\"\",'Guia de BTC'!C575)","v":""},null,{"$f":"IF(C573=\"\",\"\",IFERROR(INDEX(IF($C$3=\"% IBOV\",'Guia de BTC'!H:H,IF($C$3=\"% Float Alugado\",'Guia de BTC'!R:R,IF($C$3=\"Valor Alugado\",'Guia de BTC'!T:T,IF($C$3=\"Volume Médio\",'Guia de BTC'!Y:Y,IF($C$3=\"Dias de Giro\",'Guia de BTC'!Z:Z,IF($C$3=\"Aluguel vs Vista\",'Guia de BTC'!AF:AF,IF($C$3=\"Ações Alugadas\",'Guia de BTC'!AD:AD,IF($C$3=\"▲ de 1 dia\",'Guia de BTC'!AJ:AJ,IF($C$3=\"Taxa Média De Aluguel\",'Guia de BTC'!AN:AN,\"\"))))))))),MATCH(C573,'Guia de BTC'!C:C,0)),\"\"))","v":""},"",""]
[null,{"$f":"IFERROR(RANK(E574,$E$5:$E$400)+COUNTIF($E$5:E574,E574)-1,\"\")","v":""},{"$f":"IF('Guia de BTC'!C576=0,\"\",'Guia de BTC'!C576)","v":""},null,{"$f":"IF(C574=\"\",\"\",IFERROR(INDEX(IF($C$3=\"% IBOV\",'Guia de BTC'!H:H,IF($C$3=\"% Float Alugado\",'Guia de BTC'!R:R,IF($C$3=\"Valor Alugado\",'Guia de BTC'!T:T,IF($C$3=\"Volume Médio\",'Guia de BTC'!Y:Y,IF($C$3=\"Dias de Giro\",'Guia de BTC'!Z:Z,IF($C$3=\"Aluguel vs Vista\",'Guia de BTC'!AF:AF,IF($C$3=\"Ações Alugadas\",'Guia de BTC'!AD:AD,IF($C$3=\"▲ de 1 dia\",'Guia de BTC'!AJ:AJ,IF($C$3=\"Taxa Média De Aluguel\",'Guia de BTC'!AN:AN,\"\"))))))))),MATCH(C574,'Guia de BTC'!C:C,0)),\"\"))","v":""},"",""]
[null,{"$f":"IFERROR(RANK(E575,$E$5:$E$400)+COUNTIF($E$5:E575,E575)-1,\"\")","v":""},{"$f":"IF('Guia de BTC'!C577=0,\"\",'Guia de BTC'!C577)","v":""},null,{"$f":"IF(C575=\"\",\"\",IFERROR(INDEX(IF($C$3=\"% IBOV\",'Guia de BTC'!H:H,IF($C$3=\"% Float Alugado\",'Guia de BTC'!R:R,IF($C$3=\"Valor Alugado\",'Guia de BTC'!T:T,IF($C$3=\"Volume Médio\",'Guia de BTC'!Y:Y,IF($C$3=\"Dias de Giro\",'Guia de BTC'!Z:Z,IF($C$3=\"Aluguel vs Vista\",'Guia de BTC'!AF:AF,IF($C$3=\"Ações Alugadas\",'Guia de BTC'!AD:AD,IF($C$3=\"▲ de 1 dia\",'Guia de BTC'!AJ:AJ,IF($C$3=\"Taxa Média De Aluguel\",'Guia de BTC'!AN:AN,\"\"))))))))),MATCH(C575,'Guia de BTC'!C:C,0)),\"\"))","v":""},"",""]
[null,{"$f":"IFERROR(RANK(E576,$E$5:$E$400)+COUNTIF($E$5:E576,E576)-1,\"\")","v":""},{"$f":"IF('Guia de BTC'!C578=0,\"\",'Guia de BTC'!C578)","v":""},null,{"$f":"IF(C576=\"\",\"\",IFERROR(INDEX(IF($C$3=\"% IBOV\",'Guia de BTC'!H:H,IF($C$3=\"% Float Alugado\",'Guia de BTC'!R:R,IF($C$3=\"Valor Alugado\",'Guia de BTC'!T:T,IF($C$3=\"Volume Médio\",'Guia de BTC'!Y:Y,IF($C$3=\"Dias de Giro\",'Guia de BTC'!Z:Z,IF($C$3=\"Aluguel vs Vista\",'Guia de BTC'!AF:AF,IF($C$3=\"Ações Alugadas\",'Guia de BTC'!AD:AD,IF($C$3=\"▲ de 1 dia\",'Guia de BTC'!AJ:AJ,IF($C$3=\"Taxa Média De Aluguel\",'Guia de BTC'!AN:AN,\"\"))))))))),MATCH(C576,'Guia de BTC'!C:C,0)),\"\"))","v":""},"",""]
[null,{"$f":"IFERROR(RANK(E577,$E$5:$E$400)+COUNTIF($E$5:E577,E577)-1,\"\")","v":""},{"$f":"IF('Guia de BTC'!C579=0,\"\",'Guia de BTC'!C579)","v":""},null,{"$f":"IF(C577=\"\",\"\",IFERROR(INDEX(IF($C$3=\"% IBOV\",'Guia de BTC'!H:H,IF($C$3=\"% Float Alugado\",'Guia de BTC'!R:R,IF($C$3=\"Valor Alugado\",'Guia de BTC'!T:T,IF($C$3=\"Volume Médio\",'Guia de BTC'!Y:Y,IF($C$3=\"Dias de Giro\",'Guia de BTC'!Z:Z,IF($C$3=\"Aluguel vs Vista\",'Guia de BTC'!AF:AF,IF($C$3=\"Ações Alugadas\",'Guia de BTC'!AD:AD,IF($C$3=\"▲ de 1 dia\",'Guia de BTC'!AJ:AJ,IF($C$3=\"Taxa Média De Aluguel\",'Guia de BTC'!AN:AN,\"\"))))))))),MATCH(C577,'Guia de BTC'!C:C,0)),\"\"))","v":""},"",""]
[null,{"$f":"IFERROR(RANK(E578,$E$5:$E$400)+COUNTIF($E$5:E578,E578)-1,\"\")","v":""},{"$f":"IF('Guia de BTC'!C580=0,\"\",'Guia de BTC'!C580)","v":""},null,{"$f":"IF(C578=\"\",\"\",IFERROR(INDEX(IF($C$3=\"% IBOV\",'Guia de BTC'!H:H,IF($C$3=\"% Float Alugado\",'Guia de BTC'!R:R,IF($C$3=\"Valor Alugado\",'Guia de BTC'!T:T,IF($C$3=\"Volume Médio\",'Guia de BTC'!Y:Y,IF($C$3=\"Dias de Giro\",'Guia de BTC'!Z:Z,IF($C$3=\"Aluguel vs Vista\",'Guia de BTC'!AF:AF,IF($C$3=\"Ações Alugadas\",'Guia de BTC'!AD:AD,IF($C$3=\"▲ de 1 dia\",'Guia de BTC'!AJ:AJ,IF($C$3=\"Taxa Média De Aluguel\",'Guia de BTC'!AN:AN,\"\"))))))))),MATCH(C578,'Guia de BTC'!C:C,0)),\"\"))","v":""},"",""]
[null,{"$f":"IFERROR(RANK(E579,$E$5:$E$400)+COUNTIF($E$5:E579,E579)-1,\"\")","v":""},{"$f":"IF('Guia de BTC'!C581=0,\"\",'Guia de BTC'!C581)","v":""},null,{"$f":"IF(C579=\"\",\"\",IFERROR(INDEX(IF($C$3=\"% IBOV\",'Guia de BTC'!H:H,IF($C$3=\"% Float Alugado\",'Guia de BTC'!R:R,IF($C$3=\"Valor Alugado\",'Guia de BTC'!T:T,IF($C$3=\"Volume Médio\",'Guia de BTC'!Y:Y,IF($C$3=\"Dias de Giro\",'Guia de BTC'!Z:Z,IF($C$3=\"Aluguel vs Vista\",'Guia de BTC'!AF:AF,IF($C$3=\"Ações Alugadas\",'Guia de BTC'!AD:AD,IF($C$3=\"▲ de 1 dia\",'Guia de BTC'!AJ:AJ,IF($C$3=\"Taxa Média De Aluguel\",'Guia de BTC'!AN:AN,\"\"))))))))),MATCH(C579,'Guia de BTC'!C:C,0)),\"\"))","v":""},"",""]
[null,{"$f":"IFERROR(RANK(E580,$E$5:$E$400)+COUNTIF($E$5:E580,E580)-1,\"\")","v":""},{"$f":"IF('Guia de BTC'!C582=0,\"\",'Guia de BTC'!C582)","v":""},null,{"$f":"IF(C580=\"\",\"\",IFERROR(INDEX(IF($C$3=\"% IBOV\",'Guia de BTC'!H:H,IF($C$3=\"% Float Alugado\",'Guia de BTC'!R:R,IF($C$3=\"Valor Alugado\",'Guia de BTC'!T:T,IF($C$3=\"Volume Médio\",'Guia de BTC'!Y:Y,IF($C$3=\"Dias de Giro\",'Guia de BTC'!Z:Z,IF($C$3=\"Aluguel vs Vista\",'Guia de BTC'!AF:AF,IF($C$3=\"Ações Alugadas\",'Guia de BTC'!AD:AD,IF($C$3=\"▲ de 1 dia\",'Guia de BTC'!AJ:AJ,IF($C$3=\"Taxa Média De Aluguel\",'Guia de BTC'!AN:AN,\"\"))))))))),MATCH(C580,'Guia de BTC'!C:C,0)),\"\"))","v":""},"",""]
[null,{"$f":"IFERROR(RANK(E581,$E$5:$E$400)+COUNTIF($E$5:E581,E581)-1,\"\")","v":""},{"$f":"IF('Guia de BTC'!C583=0,\"\",'Guia de BTC'!C583)","v":""},null,{"$f":"IF(C581=\"\",\"\",IFERROR(INDEX(IF($C$3=\"% IBOV\",'Guia de BTC'!H:H,IF($C$3=\"% Float Alugado\",'Guia de BTC'!R:R,IF($C$3=\"Valor Alugado\",'Guia de BTC'!T:T,IF($C$3=\"Volume Médio\",'Guia de BTC'!Y:Y,IF($C$3=\"Dias de Giro\",'Guia de BTC'!Z:Z,IF($C$3=\"Aluguel vs Vista\",'Guia de BTC'!AF:AF,IF($C$3=\"Ações Alugadas\",'Guia de BTC'!AD:AD,IF($C$3=\"▲ de 1 dia\",'Guia de BTC'!AJ:AJ,IF($C$3=\"Taxa Média De Aluguel\",'Guia de BTC'!AN:AN,\"\"))))))))),MATCH(C581,'Guia de BTC'!C:C,0)),\"\"))","v":""},"",""]
[null,{"$f":"IFERROR(RANK(E582,$E$5:$E$400)+COUNTIF($E$5:E582,E582)-1,\"\")","v":""},{"$f":"IF('Guia de BTC'!C584=0,\"\",'Guia de BTC'!C584)","v":""},null,{"$f":"IF(C582=\"\",\"\",IFERROR(INDEX(IF($C$3=\"% IBOV\",'Guia de BTC'!H:H,IF($C$3=\"% Float Alugado\",'Guia de BTC'!R:R,IF($C$3=\"Valor Alugado\",'Guia de BTC'!T:T,IF($C$3=\"Volume Médio\",'Guia de BTC'!Y:Y,IF($C$3=\"Dias de Giro\",'Guia de BTC'!Z:Z,IF($C$3=\"Aluguel vs Vista\",'Guia de BTC'!AF:AF,IF($C$3=\"Ações Alugadas\",'Guia de BTC'!AD:AD,IF($C$3=\"▲ de 1 dia\",'Guia de BTC'!AJ:AJ,IF($C$3=\"Taxa Média De Aluguel\",'Guia de BTC'!AN:AN,\"\"))))))))),MATCH(C582,'Guia de BTC'!C:C,0)),\"\"))","v":""},"",""]
[null,{"$f":"IFERROR(RANK(E583,$E$5:$E$400)+COUNTIF($E$5:E583,E583)-1,\"\")","v":""},{"$f":"IF('Guia de BTC'!C585=0,\"\",'Guia de BTC'!C585)","v":""},null,{"$f":"IF(C583=\"\",\"\",IFERROR(INDEX(IF($C$3=\"% IBOV\",'Guia de BTC'!H:H,IF($C$3=\"% Float Alugado\",'Guia de BTC'!R:R,IF($C$3=\"Valor Alugado\",'Guia de BTC'!T:T,IF($C$3=\"Volume Médio\",'Guia de BTC'!Y:Y,IF($C$3=\"Dias de Giro\",'Guia de BTC'!Z:Z,IF($C$3=\"Aluguel vs Vista\",'Guia de BTC'!AF:AF,IF($C$3=\"Ações Alugadas\",'Guia de BTC'!AD:AD,IF($C$3=\"▲ de 1 dia\",'Guia de BTC'!AJ:AJ,IF($C$3=\"Taxa Média De Aluguel\",'Guia de BTC'!AN:AN,\"\"))))))))),MATCH(C583,'Guia de BTC'!C:C,0)),\"\"))","v":""},{"$f":"IF(C583=\"\",\"\",IFERROR(VLOOKUP(ROW()-4,$B$3:$E$600,4,FALSE),\"\"))","v":""},{"$f":"IF(C583=\"\",\"\",IFERROR(VLOOKUP(ROW()-4,$B$3:$E$600,3,FALSE),\"\"))","v":""}]
[null,{"$f":"IFERROR(RANK(E584,$E$5:$E$400)+COUNTIF($E$5:E584,E584)-1,\"\")","v":""},{"$f":"IF('Guia de BTC'!C586=0,\"\",'Guia de BTC'!C586)","v":""},null,{"$f":"IF(C584=\"\",\"\",IFERROR(INDEX(IF($C$3=\"% IBOV\",'Guia de BTC'!H:H,IF($C$3=\"% Float Alugado\",'Guia de BTC'!R:R,IF($C$3=\"Valor Alugado\",'Guia de BTC'!T:T,IF($C$3=\"Volume Médio\",'Guia de BTC'!Y:Y,IF($C$3=\"Dias de Giro\",'Guia de BTC'!Z:Z,IF($C$3=\"Aluguel vs Vista\",'Guia de BTC'!AF:AF,IF($C$3=\"Ações Alugadas\",'Guia de BTC'!AD:AD,IF($C$3=\"▲ de 1 dia\",'Guia de BTC'!AJ:AJ,IF($C$3=\"Taxa Média De Aluguel\",'Guia de BTC'!AN:AN,\"\"))))))))),MATCH(C584,'Guia de BTC'!C:C,0)),\"\"))","v":""},"",""]
[null,{"$f":"IFERROR(RANK(E585,$E$5:$E$400)+COUNTIF($E$5:E585,E585)-1,\"\")","v":""},{"$f":"IF('Guia de BTC'!C587=0,\"\",'Guia de BTC'!C587)","v":""},null,{"$f":"IF(C585=\"\",\"\",IFERROR(INDEX(IF($C$3=\"% IBOV\",'Guia de BTC'!H:H,IF($C$3=\"% Float Alugado\",'Guia de BTC'!R:R,IF($C$3=\"Valor Alugado\",'Guia de BTC'!T:T,IF($C$3=\"Volume Médio\",'Guia de BTC'!Y:Y,IF($C$3=\"Dias de Giro\",'Guia de BTC'!Z:Z,IF($C$3=\"Aluguel vs Vista\",'Guia de BTC'!AF:AF,IF($C$3=\"Ações Alugadas\",'Guia de BTC'!AD:AD,IF($C$3=\"▲ de 1 dia\",'Guia de BTC'!AJ:AJ,IF($C$3=\"Taxa Média De Aluguel\",'Guia de BTC'!AN:AN,\"\"))))))))),MATCH(C585,'Guia de BTC'!C:C,0)),\"\"))","v":""},"",""]
[null,{"$f":"IFERROR(RANK(E586,$E$5:$E$400)+COUNTIF($E$5:E586,E586)-1,\"\")","v":""},{"$f":"IF('Guia de BTC'!C588=0,\"\",'Guia de BTC'!C588)","v":""},null,{"$f":"IF(C586=\"\",\"\",IFERROR(INDEX(IF($C$3=\"% IBOV\",'Guia de BTC'!H:H,IF($C$3=\"% Float Alugado\",'Guia de BTC'!R:R,IF($C$3=\"Valor Alugado\",'Guia de BTC'!T:T,IF($C$3=\"Volume Médio\",'Guia de BTC'!Y:Y,IF($C$3=\"Dias de Giro\",'Guia de BTC'!Z:Z,IF($C$3=\"Aluguel vs Vista\",'Guia de BTC'!AF:AF,IF($C$3=\"Ações Alugadas\",'Guia de BTC'!AD:AD,IF($C$3=\"▲ de 1 dia\",'Guia de BTC'!AJ:AJ,IF($C$3=\"Taxa Média De Aluguel\",'Guia de BTC'!AN:AN,\"\"))))))))),MATCH(C586,'Guia de BTC'!C:C,0)),\"\"))","v":""},"",""]
[null,{"$f":"IFERROR(RANK(E587,$E$5:$E$400)+COUNTIF($E$5:E587,E587)-1,\"\")","v":""},{"$f":"IF('Guia de BTC'!C589=0,\"\",'Guia de BTC'!C589)","v":""},null,{"$f":"IF(C587=\"\",\"\",IFERROR(INDEX(IF($C$3=\"% IBOV\",'Guia de BTC'!H:H,IF($C$3=\"% Float Alugado\",'Guia de BTC'!R:R,IF($C$3=\"Valor Alugado\",'Guia de BTC'!T:T,IF($C$3=\"Volume Médio\",'Guia de BTC'!Y:Y,IF($C$3=\"Dias de Giro\",'Guia de BTC'!Z:Z,IF($C$3=\"Aluguel vs Vista\",'Guia de BTC'!AF:AF,IF($C$3=\"Ações Alugadas\",'Guia de BTC'!AD:AD,IF($C$3=\"▲ de 1 dia\",'Guia de BTC'!AJ:AJ,IF($C$3=\"Taxa Média De Aluguel\",'Guia de BTC'!AN:AN,\"\"))))))))),MATCH(C587,'Guia de BTC'!C:C,0)),\"\"))","v":""},"",""]
[null,{"$f":"IFERROR(RANK(E588,$E$5:$E$400)+COUNTIF($E$5:E588,E588)-1,\"\")","v":""},{"$f":"IF('Guia de BTC'!C590=0,\"\",'Guia de BTC'!C590)","v":""},null,{"$f":"IF(C588=\"\",\"\",IFERROR(INDEX(IF($C$3=\"% IBOV\",'Guia de BTC'!H:H,IF($C$3=\"% Float Alugado\",'Guia de BTC'!R:R,IF($C$3=\"Valor Alugado\",'Guia de BTC'!T:T,IF($C$3=\"Volume Médio\",'Guia de BTC'!Y:Y,IF($C$3=\"Dias de Giro\",'Guia de BTC'!Z:Z,IF($C$3=\"Aluguel vs Vista\",'Guia de BTC'!AF:AF,IF($C$3=\"Ações Alugadas\",'Guia de BTC'!AD:AD,IF($C$3=\"▲ de 1 dia\",'Guia de BTC'!AJ:AJ,IF($C$3=\"Taxa Média De Aluguel\",'Guia de BTC'!AN:AN,\"\"))))))))),MATCH(C588,'Guia de BTC'!C:C,0)),\"\"))","v":""},"",""]
[null,{"$f":"IFERROR(RANK(E589,$E$5:$E$400)+COUNTIF($E$5:E589,E589)-1,\"\")","v":""},{"$f":"IF('Guia de BTC'!C591=0,\"\",'Guia de BTC'!C591)","v":""},null,{"$f":"IF(C589=\"\",\"\",IFERROR(INDEX(IF($C$3=\"% IBOV\",'Guia de BTC'!H:H,IF($C$3=\"% Float Alugado\",'Guia de BTC'!R:R,IF($C$3=\"Valor Alugado\",'Guia de BTC'!T:T,IF($C$3=\"Volume Médio\",'Guia de BTC'!Y:Y,IF($C$3=\"Dias de Giro\",'Guia de BTC'!Z:Z,IF($C$3=\"Aluguel vs Vista\",'Guia de BTC'!AF:AF,IF($C$3=\"Ações Alugadas\",'Guia de BTC'!AD:AD,IF($C$3=\"▲ de 1 dia\",'Guia de BTC'!AJ:AJ,IF($C$3=\"Taxa Média De Aluguel\",'Guia de BTC'!AN:AN,\"\"))))))))),MATCH(C589,'Guia de BTC'!C:C,0)),\"\"))","v":""},"",""]
[null,{"$f":"IFERROR(RANK(E590,$E$5:$E$400)+COUNTIF($E$5:E590,E590)-1,\"\")","v":""},{"$f":"IF('Guia de BTC'!C592=0,\"\",'Guia de BTC'!C592)","v":""},null,{"$f":"IF(C590=\"\",\"\",IFERROR(INDEX(IF($C$3=\"% IBOV\",'Guia de BTC'!H:H,IF($C$3=\"% Float Alugado\",'Guia de BTC'!R:R,IF($C$3=\"Valor Alugado\",'Guia de BTC'!T:T,IF($C$3=\"Volume Médio\",'Guia de BTC'!Y:Y,IF($C$3=\"Dias de Giro\",'Guia de BTC'!Z:Z,IF($C$3=\"Aluguel vs Vista\",'Guia de BTC'!AF:AF,IF($C$3=\"Ações Alugadas\",'Guia de BTC'!AD:AD,IF($C$3=\"▲ de 1 dia\",'Guia de BTC'!AJ:AJ,IF($C$3=\"Taxa Média De Aluguel\",'Guia de BTC'!AN:AN,\"\"))))))))),MATCH(C590,'Guia de BTC'!C:C,0)),\"\"))","v":""},"",""]
[null,{"$f":"IFERROR(RANK(E591,$E$5:$E$400)+COUNTIF($E$5:E591,E591)-1,\"\")","v":""},{"$f":"IF('Guia de BTC'!C593=0,\"\",'Guia de BTC'!C593)","v":""},null,{"$f":"IF(C591=\"\",\"\",IFERROR(INDEX(IF($C$3=\"% IBOV\",'Guia de BTC'!H:H,IF($C$3=\"% Float Alugado\",'Guia de BTC'!R:R,IF($C$3=\"Valor Alugado\",'Guia de BTC'!T:T,IF($C$3=\"Volume Médio\",'Guia de BTC'!Y:Y,IF($C$3=\"Dias de Giro\",'Guia de BTC'!Z:Z,IF($C$3=\"Aluguel vs Vista\",'Guia de BTC'!AF:AF,IF($C$3=\"Ações Alugadas\",'Guia de BTC'!AD:AD,IF($C$3=\"▲ de 1 dia\",'Guia de BTC'!AJ:AJ,IF($C$3=\"Taxa Média De Aluguel\",'Guia de BTC'!AN:AN,\"\"))))))))),MATCH(C591,'Guia de BTC'!C:C,0)),\"\"))","v":""},"",""]
[null,{"$f":"IFERROR(RANK(E592,$E$5:$E$400)+COUNTIF($E$5:E592,E592)-1,\"\")","v":""},{"$f":"IF('Guia de BTC'!C594=0,\"\",'Guia de BTC'!C594)","v":""},null,{"$f":"IF(C592=\"\",\"\",IFERROR(INDEX(IF($C$3=\"% IBOV\",'Guia de BTC'!H:H,IF($C$3=\"% Float Alugado\",'Guia de BTC'!R:R,IF($C$3=\"Valor Alugado\",'Guia de BTC'!T:T,IF($C$3=\"Volume Médio\",'Guia de BTC'!Y:Y,IF($C$3=\"Dias de Giro\",'Guia de BTC'!Z:Z,IF($C$3=\"Aluguel vs Vista\",'Guia de BTC'!AF:AF,IF($C$3=\"Ações Alugadas\",'Guia de BTC'!AD:AD,IF($C$3=\"▲ de 1 dia\",'Guia de BTC'!AJ:AJ,IF($C$3=\"Taxa Média De Aluguel\",'Guia de BTC'!AN:AN,\"\"))))))))),MATCH(C592,'Guia de BTC'!C:C,0)),\"\"))","v":""},"",""]
[null,{"$f":"IFERROR(RANK(E593,$E$5:$E$400)+COUNTIF($E$5:E593,E593)-1,\"\")","v":""},{"$f":"IF('Guia de BTC'!C595=0,\"\",'Guia de BTC'!C595)","v":""},null,{"$f":"IF(C593=\"\",\"\",IFERROR(INDEX(IF($C$3=\"% IBOV\",'Guia de BTC'!H:H,IF($C$3=\"% Float Alugado\",'Guia de BTC'!R:R,IF($C$3=\"Valor Alugado\",'Guia de BTC'!T:T,IF($C$3=\"Volume Médio\",'Guia de BTC'!Y:Y,IF($C$3=\"Dias de Giro\",'Guia de BTC'!Z:Z,IF($C$3=\"Aluguel vs Vista\",'Guia de BTC'!AF:AF,IF($C$3=\"Ações Alugadas\",'Guia de BTC'!AD:AD,IF($C$3=\"▲ de 1 dia\",'Guia de BTC'!AJ:AJ,IF($C$3=\"Taxa Média De Aluguel\",'Guia de BTC'!AN:AN,\"\"))))))))),MATCH(C593,'Guia de BTC'!C:C,0)),\"\"))","v":""},"",""]
[null,{"$f":"IFERROR(RANK(E594,$E$5:$E$400)+COUNTIF($E$5:E594,E594)-1,\"\")","v":""},{"$f":"IF('Guia de BTC'!C596=0,\"\",'Guia de BTC'!C596)","v":""},null,{"$f":"IF(C594=\"\",\"\",IFERROR(INDEX(IF($C$3=\"% IBOV\",'Guia de BTC'!H:H,IF($C$3=\"% Float Alugado\",'Guia de BTC'!R:R,IF($C$3=\"Valor Alugado\",'Guia de BTC'!T:T,IF($C$3=\"Volume Médio\",'Guia de BTC'!Y:Y,IF($C$3=\"Dias de Giro\",'Guia de BTC'!Z:Z,IF($C$3=\"Aluguel vs Vista\",'Guia de BTC'!AF:AF,IF($C$3=\"Ações Alugadas\",'Guia de BTC'!AD:AD,IF($C$3=\"▲ de 1 dia\",'Guia de BTC'!AJ:AJ,IF($C$3=\"Taxa Média De Aluguel\",'Guia de BTC'!AN:AN,\"\"))))))))),MATCH(C594,'Guia de BTC'!C:C,0)),\"\"))","v":""},"",""]
[null,{"$f":"IFERROR(RANK(E595,$E$5:$E$400)+COUNTIF($E$5:E595,E595)-1,\"\")","v":""},{"$f":"IF('Guia de BTC'!C597=0,\"\",'Guia de BTC'!C597)","v":""},null,{"$f":"IF(C595=\"\",\"\",IFERROR(INDEX(IF($C$3=\"% IBOV\",'Guia de BTC'!H:H,IF($C$3=\"% Float Alugado\",'Guia de BTC'!R:R,IF($C$3=\"Valor Alugado\",'Guia de BTC'!T:T,IF($C$3=\"Volume Médio\",'Guia de BTC'!Y:Y,IF($C$3=\"Dias de Giro\",'Guia de BTC'!Z:Z,IF($C$3=\"Aluguel vs Vista\",'Guia de BTC'!AF:AF,IF($C$3=\"Ações Alugadas\",'Guia de BTC'!AD:AD,IF($C$3=\"▲ de 1 dia\",'Guia de BTC'!AJ:AJ,IF($C$3=\"Taxa Média De Aluguel\",'Guia de BTC'!AN:AN,\"\"))))))))),MATCH(C595,'Guia de BTC'!C:C,0)),\"\"))","v":""},"",""]
[null,{"$f":"IFERROR(RANK(E596,$E$5:$E$400)+COUNTIF($E$5:E596,E596)-1,\"\")","v":""},{"$f":"IF('Guia de BTC'!C598=0,\"\",'Guia de BTC'!C598)","v":""},null,{"$f":"IF(C596=\"\",\"\",IFERROR(INDEX(IF($C$3=\"% IBOV\",'Guia de BTC'!H:H,IF($C$3=\"% Float Alugado\",'Guia de BTC'!R:R,IF($C$3=\"Valor Alugado\",'Guia de BTC'!T:T,IF($C$3=\"Volume Médio\",'Guia de BTC'!Y:Y,IF($C$3=\"Dias de Giro\",'Guia de BTC'!Z:Z,IF($C$3=\"Aluguel vs Vista\",'Guia de BTC'!AF:AF,IF($C$3=\"Ações Alugadas\",'Guia de BTC'!AD:AD,IF($C$3=\"▲ de 1 dia\",'Guia de BTC'!AJ:AJ,IF($C$3=\"Taxa Média De Aluguel\",'Guia de BTC'!AN:AN,\"\"))))))))),MATCH(C596,'Guia de BTC'!C:C,0)),\"\"))","v":""},"",""]
[null,{"$f":"IFERROR(RANK(E597,$E$5:$E$400)+COUNTIF($E$5:E597,E597)-1,\"\")","v":""},{"$f":"IF('Guia de BTC'!C599=0,\"\",'Guia de BTC'!C599)","v":""},null,{"$f":"IF(C597=\"\",\"\",IFERROR(INDEX(IF($C$3=\"% IBOV\",'Guia de BTC'!H:H,IF($C$3=\"% Float Alugado\",'Guia de BTC'!R:R,IF($C$3=\"Valor Alugado\",'Guia de BTC'!T:T,IF($C$3=\"Volume Médio\",'Guia de BTC'!Y:Y,IF($C$3=\"Dias de Giro\",'Guia de BTC'!Z:Z,IF($C$3=\"Aluguel vs Vista\",'Guia de BTC'!AF:AF,IF($C$3=\"Ações Alugadas\",'Guia de BTC'!AD:AD,IF($C$3=\"▲ de 1 dia\",'Guia de BTC'!AJ:AJ,IF($C$3=\"Taxa Média De Aluguel\",'Guia de BTC'!AN:AN,\"\"))))))))),MATCH(C597,'Guia de BTC'!C:C,0)),\"\"))","v":""},"",""]
[null,{"$f":"IFERROR(RANK(E598,$E$5:$E$400)+COUNTIF($E$5:E598,E598)-1,\"\")","v":""},{"$f":"IF('Guia de BTC'!C600=0,\"\",'Guia de BTC'!C600)","v":""},null,{"$f":"IF(C598=\"\",\"\",IFERROR(INDEX(IF($C$3=\"% IBOV\",'Guia de BTC'!H:H,IF($C$3=\"% Float Alugado\",'Guia de BTC'!R:R,IF($C$3=\"Valor Alugado\",'Guia de BTC'!T:T,IF($C$3=\"Volume Médio\",'Guia de BTC'!Y:Y,IF($C$3=\"Dias de Giro\",'Guia de BTC'!Z:Z,IF($C$3=\"Aluguel vs Vista\",'Guia de BTC'!AF:AF,IF($C$3=\"Ações Alugadas\",'Guia de BTC'!AD:AD,IF($C$3=\"▲ de 1 dia\",'Guia de BTC'!AJ:AJ,IF($C$3=\"Taxa Média De Aluguel\",'Guia de BTC'!AN:AN,\"\"))))))))),MATCH(C598,'Guia de BTC'!C:C,0)),\"\"))","v":""},"",""]
[null,{"$f":"IFERROR(RANK(E599,$E$5:$E$400)+COUNTIF($E$5:E599,E599)-1,\"\")","v":""},{"$f":"IF('Guia de BTC'!C601=0,\"\",'Guia de BTC'!C601)","v":""},null,{"$f":"IF(C599=\"\",\"\",IFERROR(INDEX(IF($C$3=\"% IBOV\",'Guia de BTC'!H:H,IF($C$3=\"% Float Alugado\",'Guia de BTC'!R:R,IF($C$3=\"Valor Alugado\",'Guia de BTC'!T:T,IF($C$3=\"Volume Médio\",'Guia de BTC'!Y:Y,IF($C$3=\"Dias de Giro\",'Guia de BTC'!Z:Z,IF($C$3=\"Aluguel vs Vista\",'Guia de BTC'!AF:AF,IF($C$3=\"Ações Alugadas\",'Guia de BTC'!AD:AD,IF($C$3=\"▲ de 1 dia\",'Guia de BTC'!AJ:AJ,IF($C$3=\"Taxa Média De Aluguel\",'Guia de BTC'!AN:AN,\"\"))))))))),MATCH(C599,'Guia de BTC'!C:C,0)),\"\"))","v":""},"",""]
[null,{"$f":"IFERROR(RANK(E600,$E$5:$E$400)+COUNTIF($E$5:E600,E600)-1,\"\")","v":""},{"$f":"IF('Guia de BTC'!C602=0,\"\",'Guia de BTC'!C602)","v":""},null,{"$f":"IF(C600=\"\",\"\",IFERROR(INDEX(IF($C$3=\"% IBOV\",'Guia de BTC'!H:H,IF($C$3=\"% Float Alugado\",'Guia de BTC'!R:R,IF($C$3=\"Valor Alugado\",'Guia de BTC'!T:T,IF($C$3=\"Volume Médio\",'Guia de BTC'!Y:Y,IF($C$3=\"Dias de Giro\",'Guia de BTC'!Z:Z,IF($C$3=\"Aluguel vs Vista\",'Guia de BTC'!AF:AF,IF($C$3=\"Ações Alugadas\",'Guia de BTC'!AD:AD,IF($C$3=\"▲ de 1 dia\",'Guia de BTC'!AJ:AJ,IF($C$3=\"Taxa Média De Aluguel\",'Guia de BTC'!AN:AN,\"\"))))))))),MATCH(C600,'Guia de BTC'!C:C,0)),\"\"))","v":""},"",""]

{"sheet":"Base Gráficos","index":5,"n_rows":936,"n_cols":9,"rows_kept":936,"cut":false,"hidden":false,"merged":[]}
[null,null,null,null,"Planilha Auxiliar Não Modificar"]
[null,"Ticker:",{"$f":"'Lâmina Empréstimo BTC'!$G$7","v":"VALE3"},"← Não Modificar"]
[null,"Período do Atrib.:",{"$f":"'Lâmina Empréstimo BTC'!X22","v":" 12M"},"← Não Modificar"]
[null,"Data:",{"$f":"'Lâmina Empréstimo BTC'!D3","v":"2024-09-18"},"← Não Modificar"]
[null,"Intervalo:","D","← Não Modificar"]
[null,"Multiplicar:","Thousands","← Não Modificar"]
[]
[null,"Data","Ações Alugadas","Valor Alugado","Taxa Média de Aluguel","Fechamento","Volume Diário","Volume Médio","Dias de Giro"]
[null,{"$f":"_xll.ECONOMATICA($C$2&\"<XBSP>\",\"#Sec-onLoan\",,$C$4,$C$3,$C$5,,$C$6,\"TRUE\",\"FALSE\")","v":"2023-09-18"},160930.394,{"$f":"_xll.ECONOMATICA($C$2&\"<XBSP>\",\"Value$-onLoan\",,$C$4,$C$3,$C$5,,$C$6,\"false\",\"FALSE\")","v":10595187.582},{"$f":"_xll.ECONOMATICA($C$2&\"<XBSP>\",\"AvgFeeLndr-inPer\",,$C$4,$C$3,$C$5,,\"decimal\",\"false\",\"FALSE\")","v":1E-4},{"$f":"_xll.ECONOMATICA($C$2&\"<XBSP>\",\"close\",,$C$4,$C$3,$C$5,,,\"false\",\"FALSE\")","v":61.559996351000002},{"$f":"_xll.ECONOMATICA($C$2&\"<XBSP>\",\"Volume$\",,$C$4,$C$3,$C$5,,$C$6,\"false\",\"FALSE\")","v":1504849.82},{"$f":"_xll.ECONOMATICA($C$2&\"<XBSP>\",\"Hist Average\",\"1M\",$C$4,$C$3,$C$5,,$C$6,\"FALSE\",\"FALSE\",\"Volume Médio\",{\"std.tec.cals=7\"})","v":""},{"$f":"IF(B9=\"\",\"\",IF(H9=\"\",NA(),D9/H9))","v":{"$error":"#N/A"}}]
[null,"2023-09-19",167567.30900000001,11075562.778999999,2.9999999999999997E-4,61.676451524000001,3011831.2560000001,null,{"$f":"IF(B10=\"\",\"\",IF(H10=\"\",NA(),D10/H10))","v":{"$error":"#N/A"}}]
[null,"2023-09-20",171760.288,11416404.289000001,2.0000000000000001E-4,62.088523676999998,986226.01199999999,null,{"$error":"#N/A"}]
[null,"2023-09-21",170783.33,11427430.104,1E-4,60.467109338,1466876.24,null,{"$error":"#N/A"}]
[null,"2023-09-22",170444.43400000001,11440261.957,5.9999999999999995E-4,60.915013850999998,1164994.121,null,{"$error":"#N/A"}]
[null,"2023-09-25",171217.43900000001,11530208.999,5.0000000000000001E-4,59.660881213000003,2297477.5589999999,null,{"$error":"#N/A"}]
[null,"2023-09-26",176150.73199999999,11873444.503,4.0000000000000002E-4,58.729239825000001,1584248.6710000001,null,{"$error":"#N/A"}]
[null,"2023-09-27",180454.53599999999,12178106.933,2.9999999999999997E-4,58.854653087999999,1121242.541,null,{"$error":"#N/A"}]
[null,"2023-09-28",179690.16,12124109.147,2.9999999999999997E-4,59.750462116000001,1731267.827,null,{"$error":"#N/A"}]
[null,"2023-09-29",184914.23199999999,12470559.495999999,2.9999999999999997E-4,60.538774060000001,1277196.3959999999,null,{"$error":"#N/A"}]
[null,"2023-10-02",179753.07800000001,12135149.676000001,2.9999999999999997E-4,60.010246733999999,746144.79599999997,null,{"$error":"#N/A"}]
[null,"2023-10-03",183962.82399999999,12432129.539999999,2.9999999999999997E-4,59.642965031999999,1008666.289,null,{"$error":"#N/A"}]
[null,"2023-10-04",184063.17800000001,12436342.355,2.9999999999999997E-4,59.006940622999998,941678.4,null,{"$error":"#N/A"}]
[null,"2023-10-05",182242.42199999999,12315816.525,2.9999999999999997E-4,59.033814894000002,757805.08799999999,null,{"$error":"#N/A"}]
[null,"2023-10-06",181541.97500000001,12266635.966,2.9999999999999997E-4,59.893791559999997,1514944.0970000001,null,{"$error":"#N/A"}]
[null,"2023-10-09",184537.27,12467423.380999999,2.9999999999999997E-4,59.463803227,941790.72699999996,null,{"$error":"#N/A"}]
[null,"2023-10-10",182869.152,12332404.952,2.9999999999999997E-4,59.822126838000003,1217012.5430000001,null,{"$error":"#N/A"}]
[null,"2023-10-11",181378.02600000001,12228794.106000001,2.9999999999999997E-4,60.341696073999998,910143.576,null,{"$error":"#N/A"}]
[null,"2023-10-12",null,null,null,null,null,null,{"$error":"#N/A"}]
[null,"2023-10-13",176800.704,11886374.482999999,2.9999999999999997E-4,59.651923123000003,1081724.9920000001,null,{"$error":"#N/A"}]
[null,"2023-10-16",177820.59899999999,11954723.666999999,2.9999999999999997E-4,60.287947531999997,882525.64500000002,null,{"$error":"#N/A"}]
[null,"2023-10-17",178051.15900000001,11976991.695,2.0000000000000001E-4,60.780642497000002,1610230.5519999999,1321851.2927999999,9.0607708750882576]
[null,"2023-10-18",179711.52799999999,12090849.618000001,2.0000000000000001E-4,58.550078018999997,2290668.7510000002,1359271.2419,8.8950970529614946]
[null,"2023-10-19",182804.41699999999,12289147.847999999,2.0000000000000001E-4,57.708017534,1476324.4240000001,1286151.8688999999,9.5549741404259443]
[null,"2023-10-20",181653.75399999999,12191804.752,2.0000000000000001E-4,56.149309826,3614362.6230000001,1411301.2313000001,8.6386977362513129]
[null,"2023-10-23",187640.524,12489282.567,2.0000000000000001E-4,56.041812743000001,1098391.727,1405192.3611999999,8.8879522205304742]
[null,"2023-10-24",183842.728,12215097.112,2.0000000000000001E-4,57.322819652,1389266.7439999999,1404433.9985,8.6975230769450782]
[null,"2023-10-25",181974.82399999999,12061750.936000001,2.0000000000000001E-4,57.269071109999999,1675156.5330000001,1374799.6639,8.7734607832122276]
[null,"2023-10-26",195378.60399999999,12900330.507999999,2.8E-3,58.496329478,1992062.69,1394219.3791,9.2527264370170013]
[null,"2023-10-27",199337.60800000001,13111669.164000001,3.7000000000000002E-3,60.529815968999998,3207486.497,1493564.3293999999,8.7787776568467386]
[null,"2023-10-30",202701.04500000001,13351822.433,6.6E-3,61.076259475999997,1819153.9129999999,1508777.0303,8.8494337896602051]
[null,"2023-10-31",202647.935,13366571.841,7.4999999999999997E-3,61.810822878000003,1439205.375,1505464.0944000001,8.8787051718607888]
[null,"2023-11-01",199282.57800000001,13161119.001,6.4999999999999997E-3,62.993290794000004,2209951.1239999998,1537486.2320999999,8.5601540529073077]
[null,"2023-11-02",null,null,null,null,null,null,{"$error":"#N/A"}]
[null,"2023-11-03",203944.94,13509416.118000001,7.1999999999999998E-3,63.781602737999997,2029836.3289999999,1623796.3023999999,8.3196495139401669]
[null,"2023-11-06",212260.291,14149398.886,6.1000000000000004E-3,64.050345445999994,1367378.514,1697509.1199,8.335389023909066]
[null,"2023-11-07",221624.35699999999,14896055.198999999,5.7999999999999996E-3,62.778296628,2603130.0430000001,1742790.1661,8.5472453820038794]
[null,"2023-11-08",223789.628,15130521.523,2.5000000000000001E-3,62.823087078999997,1478769.3089999999,1730217.7442999999,8.744865536633025]
[null,"2023-11-09",232179.71100000001,15767107.844000001,3.7000000000000002E-3,63.127662147999999,1168662.3189999999,1741021.1535,9.0562413973564624]
[null,"2023-11-10",218724.859,14852823.083000001,8.0999999999999996E-3,64.095135897999995,1585050.95,1758546.7919000001,8.4460778362072766]
[null,"2023-11-13",213543.67999999999,14520429.35,7.7000000000000002E-3,63.960764544,1029464.5429999999,1798353.9302000001,8.0742889962629008]
[null,"2023-11-14",208802.43100000001,14257525.452,7.4000000000000003E-3,65.940502494,3839284.27,1895541.0893000001,7.521612447485972]
[null,"2023-11-15",null,null,null,null,null,null,{"$error":"#N/A"}]
[null,"2023-11-16",216899.92199999999,14895792.566,7.7999999999999996E-3,66.379448917000005,2303803.0839999998,1963220.9672999999,7.5874253658191355]
[null,"2023-11-17",214007.58199999999,14807760.039999999,9.2999999999999992E-3,66.504862180999993,1784705.263,1971529.2868999999,7.5107989206102417]
[null,"2023-11-20",216166.27100000001,14992754.284,9.4999999999999998E-3,68.135234611000001,2193775.5750000002,1906028.1475,7.8659668817928621]
[null,"2023-11-21",214941.63500000001,14991886.854,2.0799999999999999E-2,69.783523220999996,3528892.5389999999,1987171.3670999999,7.5443351802509984]
[null,"2023-11-22",212170.185,14887895.18,2.41E-2,69.120174155000001,2528247.3829999999,2012936.8916,7.3961062774135105]
[null,"2023-11-23",214397.367,15114239.415999999,2.1600000000000001E-2,68.686153020999996,763985.48199999996,1997012.7847,7.5684239639309707]
[null,"2023-11-24",236919.22,16890863.98,1.1999999999999999E-3,68.104380011999993,1231063.2509999999,1989479.2849999999,8.4900929139355181]
[null,"2023-11-27",225888.77100000001,16148764.231000001,6.9999999999999999E-4,67.698062355000005,1267978.5519999999,1903807.2535999999,8.482352507305313]
[null,"2023-11-28",208834.40299999999,15088169.858999999,8.0000000000000004E-4,67.845814230000002,1609724.665,1889103.1242,7.9869487619367305]
[null,"2023-11-29",196412.231,14222233.24,5.9999999999999995E-4,67.827345245999993,1161013.6259999999,1854432.1957,7.6693196294682942]
[null,"2023-11-30",200475.83499999999,14526636.801999999,5.0000000000000001E-4,68.196724934000002,2196435.0490000001,1894057.5935,7.6695855774672879]
[null,"2023-12-01",199488.15400000001,14510168.301999999,5.0000000000000001E-4,69.461850365999993,1876236.608,1877371.8677000001,7.7289792990115753]
[null,"2023-12-04",197938.27799999999,14482965.476,5.0000000000000001E-4,67.901221183999994,1648851.6950000001,1858322.6359999999,7.7935688859574332]
[null,"2023-12-05",203592.758,14924198.607000001,2.9999999999999997E-4,67.273275713999993,1835276.706,1857225.2108,8.0357506026807588]
[null,"2023-12-06",203465.17199999999,14902172.818,2.9999999999999997E-4,66.830020087999998,1495868.3589999999,1863343.7748,7.9975434589892078]
[null,"2023-12-07",205242.75,15028778.810000001,2.0000000000000001E-4,67.042413409000005,1275792.9169999999,1800137.2450000001,8.3486849970708761]
[null,"2023-12-08",207730.11300000001,15197674.899,2.0000000000000001E-4,67.227103252999996,1170939.7930000001,1785478.6965999999,8.5118209071551476]
[null,"2023-12-11",203923.05100000001,14919580.823999999,2.9999999999999997E-4,67.282510205999998,1121729.97,1793153.4665000001,8.3203033665161179]
[null,"2023-12-12",212573.21,15543672.363,2.9999999999999997E-4,67.402558604000006,805617.27,1746127.9332999999,8.9017946890203383]
[null,"2023-12-13",219858.90900000001,16086737.501,2.9999999999999997E-4,67.411793097,1841484.33,1784795.5422,9.0132102645051084]
[null,"2023-12-14",220982.28700000001,16176225.818,2.0000000000000001E-4,67.781172784999995,2170256.8620000002,1705318.0466,9.485753024341447]
[null,"2023-12-15",210790.15700000001,15429347.197000001,2.0000000000000001E-4,68.205959426000007,1708637.436,1705468.9280000001,9.0469822954171111]
[null,"2023-12-18",202063.478,14787484.697000001,4.0000000000000002E-4,68.529166653999994,1215868.5049999999,1649889.3606,{"$f":"IF(B74=\"\",\"\",IF(H74=\"\",NA(),D74/H74))","v":8.9627129249578115}]
[null,"2023-12-19",191446.215,14010864.732999999,4.0000000000000002E-4,69.009360247999993,1627361.2490000001,1648865.3555000001,8.4972764369540421]
[null,"2023-12-20",192454.33799999999,14088975.948999999,2.9999999999999997E-4,68.787732434999995,1061180.8700000001,1597383.7779999999,8.8200319441330901]
[null,"2023-12-21",195265.47500000001,14303079.299000001,4.0000000000000002E-4,71.077886501999998,1853614.4550000001,1521234.7742000001,9.4022826335414447]
[null,"2023-12-22",196261.49900000001,14397466.184,4.0000000000000002E-4,70.542285953999993,2022384.077,1498240.9876000001,9.6095797025704055]
[null,"2023-12-25",null,null,null,null,null,null,{"$error":"#N/A"}]
[null,"2023-12-26",192247.47399999999,14115854.732000001,2.9999999999999997E-4,70.791617243999994,936596.69099999999,1519183.3182999999,9.2917388981047768]
[null,"2023-12-27",192500.36,14147158.257999999,1E-4,71.474969666999996,1067998.831,1509660.4745,9.3710860799250515]
[null,"2023-12-28",189973.27299999999,13961670.848999999,1E-4,71.290279823000006,1277962.0009999999,1493862.2524000001,9.3460229191610829]
[null,"2023-12-29",null,null,null,null,null,null,{"$error":"#N/A"}]
[null,"2024-01-01",null,null,null,null,null,null,{"$error":"#N/A"}]
[null,"2024-01-02",189228.201,13906792.523,1E-4,71.151762439999999,1394969.8149999999,1449073.2542999999,9.5970251895359961]
[null,"2024-01-03",180456.71900000001,13282146.130000001,1E-4,70.782382752000004,1937293.3759999999,1473484.2604,9.0141079120820446]
[null,"2024-01-04",183552.35500000001,13523342.686000001,1E-4,69.831230054000002,1419514.324,1462017.3918000001,9.2497823636354912]
[null,"2024-01-05",177048.304,13053437.07,1E-4,68.935484310999996,1572477.216,1448877.4173000001,9.0093453829415271]
[null,"2024-01-08",179349.242,13225634.634,1E-4,68.584573606999996,1702986.3289999999,1485440.7559,8.9035086599511288]
[null,"2024-01-09",170507.75599999999,12572275.571,1E-4,67.716531338999999,1119864.01,1466199.8746,8.5747351290900191]
[null,"2024-01-10",166261.628,12259831.790999999,1E-4,66.700737196999995,1543217.22,1470050.7418,8.3397337536719842]
[null,"2024-01-11",164108.89600000001,12095121.695,1E-4,67.051647900999995,1469491.6969999999,1487438.8282000001,8.1315086480811551]
[null,"2024-01-12",162698.71299999999,11978615.386,1E-4,66.202074617999997,1176916.8089999999,1506003.8052000001,7.9539077820651443]
[null,"2024-01-15",162867.95699999999,11981724.101,2.9999999999999997E-4,66.072791726999995,907420.48699999996,1405950.9979000001,8.5221491495055748]
[null,"2024-01-16",161745.71100000001,11868833.059,2.9999999999999997E-4,65.213983952000007,1600149.841,1416171.9896,8.3809262901410513]
[null,"2024-01-17",160087.356,11719789.923,2.9999999999999997E-4,64.133548364000006,2998807.0789999999,1495303.7441,7.8377319452603649]
[null,"2024-01-18",159028.93799999999,11632948.26,2.9999999999999997E-4,63.717996214999999,2117557.327,1540388.1851999999,7.5519588969644094]
[null,"2024-01-19",153643.54500000001,11181501.595000001,2.9999999999999997E-4,62.886891916000003,4111996.8849999998,1664619.9669999999,6.7171497498924335]
[null,"2024-01-22",147184.57,10658748.446,2.9999999999999997E-4,62.609857150000003,1579189.55,1663022.7493,6.4092619601785268]
[null,"2024-01-23",147723.13,10676574.780999999,2.9999999999999997E-4,63.902686058999997,2347979.0299999998,1699073.0799,6.283764310849052]
[null,"2024-01-24",142778.57199999999,10286765.005000001,2.9999999999999997E-4,64.549100512999999,2596947.9730000002,1743966.8245999999,5.8984866339756179]
[null,"2024-01-25",143479.42000000001,10329253.356000001,2.9999999999999997E-4,63.126988713999999,3278371.94,1817033.7348,5.6846789127648947]
[null,"2024-01-26",141866.71,10192309.77,2.0000000000000001E-4,64.179720825000004,1893152.3559999999,1862584.0046000001,5.4721342741203518]
[null,"2024-01-29",147971.71100000001,10589809.263,4.0000000000000002E-4,63.874982582000001,1091627.2709999999,1892996.5267,5.5942042754092496]
[null,"2024-01-30",147306.13399999999,10515733.528999999,4.0000000000000002E-4,63.514837386000004,2362195.5419999999,1915339.3370000001,5.4902717893690909]
[null,"2024-01-31",151136.152,10694969.165999999,4.0000000000000002E-4,62.572919181000003,2370173.3280000002,1936013.6092999999,5.524222099795546]
[null,"2024-02-01",151199.14000000001,10689574.688999999,4.0000000000000002E-4,62.286649922999999,1421358.061,1913637.2811,5.5859983470093146]
[null,"2024-02-02",146394.74400000001,10353274.902000001,4.0000000000000002E-4,61.021524491000001,2161996.423,1946986.2641,5.3175901098541294]
[null,"2024-02-05",146090.109,10322780.733999999,4.0000000000000002E-4,60.495158435,1580973.0870000001,1972970.1069,5.2321019451326176]
[null,"2024-02-06",144117.016,10172999.222999999,4.0000000000000002E-4,61.566359531000003,1830242.102,1966482.4702999999,5.1731959865617521]
[null,"2024-02-07",143652.56700000001,10114254.228,4.0000000000000002E-4,61.686407930000001,1326634.128,1938662.9772000001,5.2171286845369895]
[null,"2024-02-08",143020.88099999999,9946420.4063000008,2.9999999999999997E-4,61.141572889000003,1714899.8319999999,1939180.9556,5.1291863080526641]
[null,"2024-02-09",142863.86499999999,9917508.6166999992,1.2999999999999999E-3,60.873772615999997,1220855.399,1943571.8855000001,5.1027228221860375]
[null,"2024-02-12",null,null,null,null,null,null,{"$error":"#N/A"}]
[null,"2024-02-13",null,null,null,null,null,null,{"$error":"#N/A"}]
[null,"2024-02-14",142033.701,9839878.0887000002,1.2999999999999999E-3,60.689082771000002,822029.38,1968312.2390999999,4.9991448984736442]
[null,"2024-02-15",139871.18100000001,9673644.8455999997,1E-3,60.495158435,1137019.817,1979245.5404999999,4.8875415645277789]
[null,"2024-02-16",140208.40900000001,9632436.7375000007,1E-3,62.499043243999999,2750176.2949999999,2034008.7050000001,4.7356910094934923]
[null,"2024-02-19",148795.095,10199295.744999999,1E-3,62.323587891999999,844661.33799999999,1806867.5185,5.6447391081926739]
[null,"2024-02-20",155665.37400000001,10659882.403999999,1E-3,60.956883044999998,2920133.0269999998,1862530.7938999999,5.7233321665941448]
[null,"2024-02-21",157728.83100000001,10722635.187000001,8.9999999999999998E-4,61.418607655999999,1350690.6089999999,1838157.4517999999,5.8333605625023868]
[null,"2024-02-22",189335.88099999999,12795750.99,1.1000000000000001E-3,62.074256601999998,2414639.2379999999,1877940.7703,6.8137138254663308]
[null,"2024-02-23",203096.15599999999,13705509.221999999,1.6999999999999999E-3,62.222008477000003,2866581.94,1902636.1470000001,7.2034315355620109]
[null,"2024-02-26",192373.64300000001,12975449.334000001,1.1999999999999999E-3,60.716786247999998,2227971.9780000001,1811308.3576,7.1635783490739193]
[null,"2024-02-27",182978.86900000001,12326543.58,1E-3,62.314353400000002,1888989.2420000001,1815192.4018000001,6.7907642009610791]
[null,"2024-02-28",175372.88099999999,11808160.706,1E-3,61.631000976000003,1356596.8459999999,1793354.5182,6.5843984478049089]
[null,"2024-02-29",173897.16899999999,11706496.361,6.9999999999999999E-4,61.861863282000002,1388358.13,1748674.0459,6.6944988338149383]
[null,"2024-03-01",168302.75599999999,11332383.432,6.9999999999999999E-4,61.760283866999998,1493857.558,1752489.8089000001,6.4664475504785344]
[null,"2024-03-04",174581.55600000001,11731395.506999999,6.9999999999999999E-4,61.621766483999998,876955.25600000005,1684856.0633,6.9628473093556744]
[null,"2024-03-05",176396.587,11849651.039000001,5.0000000000000001E-4,60.809131170000001,1610701.7239999999,1686420.7283999999,7.0265093635574658]
[null,"2024-03-06",189985.20800000001,12735888.375,5.0000000000000001E-4,61.640235468999997,2236507.0299999998,1707803.0930000001,7.4574688541098686]
[null,"2024-03-07",192475.04300000001,12900620.263,4.0000000000000002E-4,61.427842148000003,1276144.773,1705145.7585,7.5656994123180121]
[null,"2024-03-08",194176.391,13016415.007999999,4.0000000000000002E-4,60.956883044999998,1532873.612,1695565.4312,7.6767400234079508]
[null,"2024-03-11",203056.288,13601583.757999999,4.0000000000000002E-4,59.063812143,3736859.423,1827986.6956,7.4407454883229072]
[null,"2024-03-12",203338.701,13567559.387,4.0000000000000002E-4,58.695804090999999,2731517.4589999998,1873163.2337,7.2431271033440208]
[null,"2024-03-13",200458.87299999999,13363294.243000001,8.0000000000000004E-4,59.072059244999998,1989850.933,1878719.7908999999,7.1129789060231916]
[null,"2024-03-14",201895.39199999999,13430068.497,6.9999999999999999E-4,58.319548937,1811489.93,1925836.9598999999,6.9736269355311169]
[null,"2024-03-15",204857.57199999999,13581399.5,8.0000000000000004E-4,57.653866739999998,3388648.3810000001,2033057.3677000001,{"$f":"IF(B138=\"\",\"\",IF(H138=\"\",NA(),D138/H138))","v":6.6802834567155633}]
[null,"2024-03-18",202292.981,13345849.937000001,8.0000000000000004E-4,58.753689498999996,1288457.3489999999,1963451.7035999999,6.797136854718814]
[null,"2024-03-19",175118.372,11538876.899,8.0000000000000004E-4,59.236067902000002,1035440.37,1972536.4194,5.8497662124331571]
[null,"2024-03-20",176760.30600000001,11610413.244000001,8.0000000000000004E-4,59.631618193000001,1113124.4040000001,1886488.3898,6.1545108397040824]
[null,"2024-03-21",173604.53200000001,11383650.396,6.9999999999999999E-4,59.486904672000001,1138144.7949999999,1876367.1605,6.0668565489957578]
[null,"2024-03-22",176466.712,11528346.573000001,5.9999999999999995E-4,58.801927339999999,670835.20799999998,1793328.8733999999,6.4284620316981966]
[null,"2024-03-25",178707.48699999999,11488098.261,5.9999999999999995E-4,58.676508955000003,633346.23199999996,1686984.3159,6.8098429562880325]
[null,"2024-03-26",179038.91,11413411.205,5.9999999999999995E-4,57.933646213999999,1289175.8670000001,1642279.7390999999,6.9497363532322227]
[null,"2024-03-27",180801.057,11494397.068,5.9999999999999995E-4,58.464262456999997,1433851.4750000001,1620606.5120999999,7.0926514130227902]
[null,"2024-03-28",181829.88200000001,11540899.558,5.9999999999999995E-4,58.686156523000001,1115496.0719999999,1609125.5229,7.172156176605009]
[null,"2024-03-29",null,null,null,null,null,null,{"$error":"#N/A"}]
[null,"2024-04-01",178633.16800000001,11299752.305,5.9999999999999995E-4,59.062411677,1018661.173,1596404.0733,7.0782532405105707]
[null,"2024-04-02",177996.96599999999,11239300.239,6.9999999999999999E-4,59.757036577999997,1398196.6129999999,1586965.6228,7.0822581645906588]
[null,"2024-04-03",178173.38800000001,11204951.242000001,6.9999999999999999E-4,58.898403020000003,1357425.3419999999,1576531.9737,7.1073415756375917]
[null,"2024-04-04",178280.48499999999,11180717.697000001,6.9999999999999999E-4,58.242368392000003,1392984.7579999999,1599987.8600999999,6.9880015816502512]
[null,"2024-04-05",179006.446,11203159.554,6.9999999999999999E-4,57.605628899999999,918348.89,1568517.2768000001,7.1425158777058861]
[null,"2024-04-08",179473.071,11214187.559,5.0000000000000001E-4,60.750736087999996,2487304.7400000002,1597457.9706999999,7.0200204103560777]
[null,"2024-04-09",185627.329,11581404.732000001,5.9999999999999995E-4,60.345538230000002,2317202.9580000001,1631731.5415000001,7.0976165119377272]
[null,"2024-04-10",184589.84,11458541.455,5.0000000000000001E-4,59.429019263999997,1306487.4720000001,1616947.7202000001,7.0865256259384157]
[null,"2024-04-11",186702.272,11581084.259,5.0000000000000001E-4,59.679856033,999001.45499999996,1492499.6307000001,7.7595223615354154]
[null,"2024-04-12",185485.087,11495215.405999999,5.0000000000000001E-4,59.457961967999999,1603573.054,1441229.4305,7.9759788155394595]
[null,"2024-04-15",186450.215,11555672.507999999,5.9999999999999995E-4,59.805274418000003,1776833.04,1314694.5633,8.7896252335555687]
[null,"2024-04-16",185829.27799999999,11512487.785,5.9999999999999995E-4,59.274658174999999,1826240.797,1339053.9077999999,8.5974789498314177]
[null,"2024-04-17",187445.995,11584738.727,5.9999999999999995E-4,59.921045235000001,2142663.1770000001,1375581.6018999999,8.4217022901431413]
[null,"2024-04-18",187317.68100000001,11578022.092,5.9999999999999995E-4,60.142939300000002,1241315.9080000001,1373438.8091,8.42995116730898]
[null,"2024-04-19",182929.587,11305356.972999999,5.0000000000000001E-4,61.126991242999999,2055358.2109999999,1419798.7109999999,7.9626477228151256]
[null,"2024-04-22",191988.179,11879148.306,6.9999999999999999E-4,61.098048538,1712197.132,1501283.2183000001,7.9126630879492055]
[null,"2024-04-23",186751.83799999999,11579825.047,6.9999999999999999E-4,60.567432295000003,1448522.199,1498770.7888,7.7262147978420757]
[null,"2024-04-24",177016.21599999999,10970954.807,6.9999999999999999E-4,61.319942603999998,1596525.733,1503214.1954000001,7.2983310299838324]
[null,"2024-04-25",175829.56599999999,10895660.454,6.9999999999999999E-4,60.027168482999997,1691605.723,1551316.8995000001,7.0234911110113893]
[null,"2024-04-26",169015.334,10469193.755000001,6.9999999999999999E-4,60.528842023000003,973948.32299999997,1536988.3748000001,6.8114983344375002]
[null,"2024-04-29",167890.867,10398478.718,8.0000000000000004E-4,61.647959917999998,1170951.3370000001,1544540.3825999999,6.7324097415282438]
[null,"2024-04-30",162864.5,10096285.539000001,6.9999999999999999E-4,61.059458266,984731.67200000002,1519094.5321,6.6462523073155104]
[null,"2024-05-01",null,null,null,null,null,null,{"$error":"#N/A"}]
[null,"2024-05-02",162960.18700000001,10122102.608999999,6.9999999999999999E-4,61.667255054000002,1131667.7,1530232.8391,6.6147466910677926]
[null,"2024-05-03",156262.429,9717726.3301999997,5.9999999999999995E-4,61.734788031000001,1510564.952,1537525.2015,6.3203688113335943]
[null,"2024-05-06",151290.64000000001,9422864.0474999994,4.0000000000000002E-4,61.918091824000001,859987.66299999994,1541834.1623,6.1114640458112772]
[null,"2024-05-07",148823.80799999999,9284120.0369000006,2.9999999999999997E-4,62.303994545999998,1378945.804,1534077.5737999999,6.0519234460241096]
[null,"2024-05-08",144494.584,9055157.0086000003,2.9999999999999997E-4,61.734788031000001,1161315.466,1470935.2274,6.1560542163408112]
[null,"2024-05-09",130251.39,8190623.9589999998,2.0000000000000001E-4,62.236461570000003,1267347.172,1420942.0948000001,5.7642207863177166]
[null,"2024-05-10",123947.145,7886770.5944999997,2.0000000000000001E-4,62.024215071999997,880418.071,1400653.0756999999,5.6307809059416467]
[null,"2024-05-13",119231.67600000001,7596082.1485000001,2.0000000000000001E-4,62.390822659000001,935305.28599999996,1387322.2683000001,5.4753551658967483]
[null,"2024-05-14",118653.675,7563744.8066999996,2.0000000000000001E-4,62.352232387000001,855788.19799999997,1362011.1221,5.5533649351100252]
[null,"2024-05-15",116313.984,7436406.2059000004,2.0000000000000001E-4,62.168928592999997,1358374.48,1342084.524,5.5409373053019424]
[null,"2024-05-16",118411.01,7572584.0495999996,2.0000000000000001E-4,62.622364292,1078054.7890000001,1306456.6188999999,5.7962766922761695]
[null,"2024-05-17",123479.92600000001,7907627.0917999996,1E-4,63.847605436000002,2118005.9640000002,1305282.4659,6.0581730762372912]
[null,"2024-05-20",123875.489,7944396.3420000002,4.0000000000000002E-4,63.818662732,1469053.852,1279165.5758,6.2106082998923053]
[null,"2024-05-21",115443.38800000001,7415121.0140000004,6.9999999999999999E-4,63.635358939,1526649.4140000001,1290950.5205000001,5.7439234860279837]
[null,"2024-05-22",113471.38099999999,7313530.3311999999,6.9999999999999999E-4,63.133685399999997,1141800.665,1263788.784,5.7869878446397101]
[null,"2024-05-23",113112.516,7298675.8564999998,5.9999999999999995E-4,62.757430245000002,1066260.2579999999,1245585.8344000001,5.8596329975250399]
[null,"2024-05-24",113912.522,7352828.9260999998,6.9999999999999999E-4,62.786372948999997,763373.25300000003,1205911.9068,6.0973184563799681]
[null,"2024-05-27",113384.412,7327254.8092,8.0000000000000004E-4,62.998619447000003,330380.19900000002,1149448.8097999999,6.3745812312206551]
[null,"2024-05-28",113273.264,7323859.4693999998,8.9999999999999998E-4,61.63831235,1415046.173,1162096.3032,6.3022827361490572]
[null,"2024-05-29",113141.132,7316330.1482999995,8.9999999999999998E-4,61.011220426000001,1042874.2560000001,1155997.3946,6.3290195829823714]
[null,"2024-05-30",null,null,null,null,null,null,{"$error":"#N/A"}]
[null,"2024-05-31",108746.12,7024703.9266999997,8.9999999999999998E-4,60.972630154000001,1475257.6340000001,1179355.7738000001,5.9563908387591251]
[null,"2024-06-03",108161.883,6984382.3317,1.9E-3,59.689503600999998,1164175.031,1164420.6813999999,5.998160667588432]
[null,"2024-06-04",105725.219,6824308.415,1.6000000000000001E-3,59.081706812999997,1209590.45,1166571.6228,5.8498837804920418]
[null,"2024-06-05",106279.444,6811990.2834999999,1.1000000000000001E-3,58.242368392000003,1087417.442,1162973.7054999999,5.8573897683880185]
[null,"2024-06-06",104949.205,6698198.5850999998,6.9999999999999999E-4,59.052764109000002,1087484.2890000001,1173314.4612,5.7087837971837994]
[null,"2024-06-07",103501.436,6595509.4351000004,5.0000000000000001E-4,58.280958664000003,891658.26199999999,1151165.0275000001,5.729421305843136]
[null,"2024-06-10",102119.473,6502079.7331999997,4.0000000000000002E-4,58.917698156,894553.93099999998,1145555.1913000001,5.6759200975915469]
[null,"2024-06-11",100281.186,6380508.4574999996,2.9999999999999997E-4,58.830870044000001,1482604.1569999999,1161605.142,5.4928376492155708]
[null,"2024-06-12",102780.448,6495296.4391999999,2.9999999999999997E-4,58.020474327000002,1322192.1680000001,1168904.5523000001,5.5567380813253759]
[null,"2024-06-13",103757.68700000001,6535443.2099000001,2.0000000000000001E-4,58.686156523000001,829269.57799999998,1164084.7474,{"$f":"IF(B202=\"\",\"\",IF(H202=\"\",NA(),D202/H202))","v":5.6142331771780416}]
[null,"2024-06-14",103139.906,6475720.7105,2.0000000000000001E-4,58.483557593999997,742030.33499999996,1158913.9354999999,5.5877494541526298]
[null,"2024-06-17",106356.564,6576951.8722000001,2.0000000000000001E-4,58.252015960000001,837708.19700000004,1088968.9772000001,6.0396136252760089]
[null,"2024-06-18",107285.349,6626691.0559,1E-4,58.522147865999997,740791.33100000001,1072389.0893000001,6.1793719481289759]
[null,"2024-06-19",107961.33,6636896.1831,1E-4,58.705451658999998,530018.83900000004,1047735.8959999999,6.3345125507659423]
[null,"2024-06-20",105325.618,6463576.0396999996,5.0000000000000001E-4,59.236067902000002,1194542.7790000001,1035258.12,6.2434439439122675]
[null,"2024-06-21",111031.545,6810445.9955000002,5.0000000000000001E-4,58.686156523000001,2370715.9890000001,1073624.7825,6.3434135523972035]
[null,"2024-06-24",125398.31,7682575.1277999999,5.0000000000000001E-4,58.753689498999996,830594.5,1073945.277,7.1536001808777447]
[null,"2024-06-25",113115.577,6925134.9448999995,4.0000000000000002E-4,58.512500297999999,844366.68400000001,1063012.963,6.5146288765436244]
[null,"2024-06-26",109974.429,6724065.2986000003,4.0000000000000002E-4,59.236067902000002,1045904.8639999999,1062235.3222000001,6.330108929793222]
[null,"2024-06-27",86478.013999999996,5293803.7544999998,4.0000000000000002E-4,59.390428991,838175.79299999995,1085316.9401,4.8776569856287644]
[null,"2024-06-28",111777.272,6831721.1650999999,4.0000000000000002E-4,60.027168482999997,1395054.0120000001,1084408.2054999999,6.2999534035709583]
[null,"2024-07-01",115974.63499999999,7094870.7295000004,5.0000000000000001E-4,60.914744745,1272321.1089999999,1076722.3685999999,6.5893223140938852]
[null,"2024-07-02",132694.69,8153250.1129999999,5.0000000000000001E-4,60.712145816000003,1528058.541,1097237.6491,7.4307057542982005]
[null,"2024-07-03",127016.338,7825001.7167999996,5.0000000000000001E-4,61.918091824000001,1920493.51,1131615.7618,6.9148928293055878]
[null,"2024-07-04",125505.90300000001,7749503.4725000001,4.0000000000000002E-4,61.609369645999998,508206.61900000001,1099734.6786,7.0467028305094317]
[null,"2024-07-05",117578.79700000001,7276678.6520999996,2.9999999999999997E-4,61.358532875999998,832699.95700000005,1088156.6111000001,6.6871611842197254]
[null,"2024-07-08",119825.621,7421491.6887999997,2.0000000000000001E-4,60.876154473,1170890.568,1101485.4029000001,6.7377122468083854]
[null,"2024-07-09",119734.481,7418953.1210000003,2.0000000000000001E-4,60.798973928000002,615425.58600000001,1079391.7749000001,6.8732718680270901]
[null,"2024-07-10",120009.499,7466013.4787999997,2.0000000000000001E-4,59.978930642999998,1079748.081,1087809.6908,6.8633452541770641]
[null,"2024-07-11",114635.079,7130791.5023999996,4.0000000000000002E-4,59.824569554,827146.81299999997,1058016.1751000001,6.7397755064812896]
[null,"2024-07-12",113561.129,7072027.1210000003,4.0000000000000002E-4,60.702498247999998,821520.29200000002,1035258.3625,6.8311712101721858]
[null,"2024-07-15",114016.63,7101437.3503999999,5.0000000000000001E-4,60.770031224,639814.326,1040199.9233,6.8269927648820854]
[null,"2024-07-16",113678.61199999999,7085029.4551999997,4.0000000000000002E-4,60.133291732000004,1381967.977,1055734.8348999999,6.7109933488849025]
[null,"2024-07-17",113884.34,7107795.8298000004,4.0000000000000002E-4,59.573732784999997,1423429.601,1082358.5349999999,6.5669513381718758]
[null,"2024-07-18",113875.118,7109254.1601999998,4.0000000000000002E-4,59.014173837000001,1255664.3019999999,1105761.8518999999,6.4292814478853346]
[null,"2024-07-19",115107.717,7180093.1195,4.0000000000000002E-4,58.965935997000003,1243560.7180000001,1138195.5737000001,6.3083122842933257]
[null,"2024-07-22",122532.68700000001,7631387.7691000002,4.0000000000000002E-4,58.898403020000003,795501.50699999998,1060502.1599999999,7.1960134141546686]
[null,"2024-07-23",119461.039,7438117.3200000003,4.1000000000000003E-3,58.107302439000001,1346150.987,1073486.1976000001,6.928936148997022]
[null,"2024-07-24",127628.711,7924074.2333000004,4.1000000000000003E-3,58.464262456999997,1075188.969,1084604.128,7.3059598693505992]
[null,"2024-07-25",128052.546,7943119.1003,4.1000000000000003E-3,58.435319753000002,1083255.5759999999,1095462.7139999999,7.2509260231197619]
[null,"2024-07-26",213079.56,13104057.336999999,4.1999999999999997E-3,59.303600879000001,4465732.7419999996,1250909.4357,10.47562434419328]
[null,"2024-07-29",221232.215,13606877.42,5.0000000000000001E-3,59.409724128000001,1717539.203,1285919.8563999999,10.581435034445434]
[null,"2024-07-30",211269.84899999999,12994783.228,4.8999999999999998E-3,58.097654871000003,1721173.824,1305704.1276,9.9523184106690117]
[null,"2024-07-31",224645.03700000001,13767269.67,7.4000000000000003E-3,59.457961967999999,2107537.73,1340566.4582,10.269740515875306]
[null,"2024-08-01",231041.19699999999,14154639.452,9.1000000000000004E-3,58.126597574999998,2444880.44,1391547.2986999999,10.171870884463239]
[null,"2024-08-02",238312.85200000001,14589163.653999999,1.89E-2,57.316201857999999,2100343.4649999999,1416429.2519,10.299959305718994]
[null,"2024-08-05",243280.88200000001,14867182.472999999,1.9099999999999999E-2,57.02,1395210.1769999999,1462461.0896999999,10.165865319568782]
[null,"2024-08-06",230843.856,14095980.035,1.6500000000000001E-2,57.31,1356685.7960000001,1457653.1218000001,9.6703254184324816]
[null,"2024-08-07",258012.96,15323097.324999999,3.8E-3,57.2,1099735.7080000001,1442091.4950999999,10.625606889067354]
[null,"2024-08-08",257310.399,15118529.564999999,3.3999999999999998E-3,56.85,828690.77300000004,1427213.2431999999,10.593041815603019]
[null,"2024-08-09",242349.75599999999,14171926.58,3.0999999999999999E-3,57.06,1247196.7960000001,1454681.5567000001,9.7422879356149608]
[null,"2024-08-12",219007.201,12788546.923,3.0999999999999999E-3,56.77,1028001.75,1512250.5889000001,8.456632132841353]
[null,"2024-08-13",216698.11,12641564.861,1E-4,56.52,1471964.281,1510419.3931,8.3695726622354361]
[null,"2024-08-14",220581.97099999999,12643443.637,1E-4,56,2878647.6069999998,1569907.5763000001,8.0536229188716977]
[null,"2024-08-15",217909.677,12463703.376,1E-4,56.23,1572630.6329999999,1610464.807,7.7391963623331756]
[null,"2024-08-16",207824.446,11869243.889,1E-4,56.08,2473711.926,1657931.9353,7.1590658435880119]
[null,"2024-08-19",205187.57,11700920.561000001,2.0000000000000001E-4,56.98,1614378.8089999999,1705912.3189999999,6.8590398408395581]
[null,"2024-08-20",178887.948,10204730.102,5.0000000000000001E-4,57.2,1109066.557,1678782.9661999999,6.0786476319204388]
[null,"2024-08-21",131221.51800000001,7489272.8201000001,4.0000000000000002E-4,58.3,1344865.781,1664264.8277,4.5000487274913521]
[null,"2024-08-22",129667.535,7399336.1741000004,4.0000000000000002E-4,58.38,1025415.103,1674261.071,4.4194637874967349]
[null,"2024-08-23",126792.636,7235936.7152000004,4.0000000000000002E-4,57.4,1388271.797,1676092.4106000001,4.3171466378812084]
[null,"2024-08-26",119943.092,6849604.2666999996,2.0000000000000001E-4,58.05,997448.39899999998,1567780.7882999999,4.3689808663411851]
[null,"2024-08-27",120941.86900000001,6908709.5597999999,2.0000000000000001E-4,59.8,2097997.1269999999,1591881.531,4.3399646426326939]
[null,"2024-08-28",120774.478,6909713.8815000001,2.0000000000000001E-4,59.37,1255259.3899999999,1577245.7856999999,4.3808732564997088]
[null,"2024-08-29",118467.231,6785127.7673000004,2.0000000000000001E-4,59.3,1136345.912,1551976.5122,4.3719268390742343]
[null,"2024-08-30",113939.103,6526960.4628999997,2.0000000000000001E-4,59.58,2180877.65,1571963.6351000001,4.1521065227980216]
[null,"2024-09-02",111514.042,6398283.7494000001,2.0000000000000001E-4,58.74,767788.12199999997,1441437.6235,4.4388211082378479]
[null,"2024-09-03",102020.886,5852617.6473000003,2.0000000000000001E-4,56.55,1670058.5859999999,1451829.4855,4.0312018083062968]
[null,"2024-09-04",111795.70699999999,6403526.3486000001,1E-4,56.99,1105259.112,1436761.2083000001,4.4569176225023224]
[null,"2024-09-05",110887.781,6348547.8317999998,1E-4,57.4,949413.84699999995,1417378.7592,4.4790764575752924]
[null,"2024-09-06",109358.07399999999,6259075.5499999998,2.0000000000000001E-4,56.68,1014562.152,1402503.8182000001,4.4627868165328888]
[null,"2024-09-09",105259.02,6021253.4848999996,2.9999999999999997E-4,56.68,575373.01300000004,1412254.1691999999,4.2635763563090494]
[null,"2024-09-10",110241.427,6302764.2331999997,2.9999999999999997E-4,56,983979.01199999999,1392787.1166000001,4.5252890108475317]
[null,"2024-09-11",107855.41899999999,6156646.8283000002,4.0000000000000002E-4,57.59,1462921.773,1395836.4495000001,{"$f":"IF(B266=\"\",\"\",IF(H266=\"\",NA(),D266/H266))","v":4.4107222092569378}]
[null,"2024-09-12",107415.844,6132240.5422999999,4.0000000000000002E-4,58.11,1042325.427,1396459.2180999999,4.391277928361867]
[null,"2024-09-13",106735.997,6104202.2344000004,1E-3,58.5,880928.33299999998,1370762.003,4.4531452002904697]
[null,"2024-09-16",112568.83,6454208.2789000003,6.9999999999999999E-4,58.5,611377.45600000001,1200662.5408999999,5.3755389703938095]
[null,"2024-09-17",114075.064,6544281.3309000004,2.9999999999999997E-4,58.22,699250.03899999999,1177871.0634999999,5.5560252167617676]
[null,"2024-09-18",115041.342,6637304.1276000002,2.9999999999999997E-4,57.54,828573.19099999999,1162684.1995000001,5.7086043918497404]
[null,null,null,null,null,null,null,null,""]
[null,null,null,null,null,null,null,null,""]
[null,null,null,null,null,null,null,null,""]
[null,null,null,null,null,null,null,null,""]
[null,null,null,null,null,null,null,null,""]
[null,null,null,null,null,null,null,null,""]
[null,null,null,null,null,null,null,null,""]
[null,null,null,null,null,null,null,null,""]
[null,null,null,null,null,null,null,null,""]
[null,null,null,null,null,null,null,null,""]
[null,null,null,null,null,null,null,null,""]
[null,null,null,null,null,null,null,null,""]
[null,null,null,null,null,null,null,null,""]
[null,null,null,null,null,null,null,null,""]
[null,null,null,null,null,null,null,null,""]
[null,null,null,null,null,null,null,null,""]
[null,null,null,null,null,null,null,null,""]
[null,null,null,null,null,null,null,null,""]
[null,null,null,null,null,null,null,null,""]
[null,null,null,null,null,null,null,null,""]
[null,null,null,null,null,null,null,null,""]
[null,null,null,null,null,null,null,null,""]
[null,null,null,null,null,null,null,null,""]
[null,null,null,null,null,null,null,null,""]
[null,null,null,null,null,null,null,null,""]
[null,null,null,null,null,null,null,null,""]
[null,null,null,null,null,null,null,null,""]
[null,null,null,null,null,null,null,null,""]
[null,null,null,null,null,null,null,null,""]
[null,null,null,null,null,null,null,null,""]
[null,null,null,null,null,null,null,null,""]
[null,null,null,null,null,null,null,null,""]
[null,null,null,null,null,null,null,null,""]
[null,null,null,null,null,null,null,null,""]
[null,null,null,null,null,null,null,null,""]
[null,null,null,null,null,null,null,null,""]
[null,null,null,null,null,null,null,null,""]
[null,null,null,null,null,null,null,null,""]
[null,null,null,null,null,null,null,null,""]
[null,null,null,null,null,null,null,null,""]
[null,null,null,null,null,null,null,null,""]
[null,null,null,null,null,null,null,null,""]
[null,null,null,null,null,null,null,null,""]
[null,null,null,null,null,null,null,null,""]
[null,null,null,null,null,null,null,null,""]
[null,null,null,null,null,null,null,null,""]
[null,null,null,null,null,null,null,null,""]
[null,null,null,null,null,null,null,null,""]
[null,null,null,null,null,null,null,null,""]
[null,null,null,null,null,null,null,null,""]
[null,null,null,null,null,null,null,null,""]
[null,null,null,null,null,null,null,null,""]
[null,null,null,null,null,null,null,null,""]
[null,null,null,null,null,null,null,null,""]
[null,null,null,null,null,null,null,null,""]
[null,null,null,null,null,null,null,null,""]
[null,null,null,null,null,null,null,null,""]
[null,null,null,null,null,null,null,null,""]
[null,null,null,null,null,null,null,null,{"$f":"IF(B330=\"\",\"\",IF(H330=\"\",NA(),D330/H330))","v":""}]
[null,null,null,null,null,null,null,null,""]
[null,null,null,null,null,null,null,null,""]
[null,null,null,null,null,null,null,null,""]
[null,null,null,null,null,null,null,null,""]
[null,null,null,null,null,null,null,null,""]
[null,null,null,null,null,null,null,null,""]
[null,null,null,null,null,null,null,null,""]
[null,null,null,null,null,null,null,null,""]
[null,null,null,null,null,null,null,null,""]
[null,null,null,null,null,null,null,null,""]
[null,null,null,null,null,null,null,null,""]
[null,null,null,null,null,null,null,null,""]
[null,null,null,null,null,null,null,null,""]
[null,null,null,null,null,null,null,null,""]
[null,null,null,null,null,null,null,null,""]
[null,null,null,null,null,null,null,null,""]
[null,null,null,null,null,null,null,null,""]
[null,null,null,null,null,null,null,null,""]
[null,null,null,null,null,null,null,null,""]
[null,null,null,null,null,null,null,null,""]
[null,null,null,null,null,null,null,null,""]
[null,null,null,null,null,null,null,null,""]
[null,null,null,null,null,null,null,null,""]
[null,null,null,null,null,null,null,null,""]
[null,null,null,null,null,null,null,null,""]
[null,null,null,null,null,null,null,null,""]
[null,null,null,null,null,null,null,null,""]
[null,null,null,null,null,null,null,null,""]
[null,null,null,null,null,null,null,null,""]
[null,null,null,null,null,null,null,null,""]
[null,null,null,null,null,null,null,null,""]
[null,null,null,null,null,null,null,null,""]
[null,null,null,null,null,null,null,null,""]
[null,null,null,null,null,null,null,null,""]
[null,null,null,null,null,null,null,null,""]
[null,null,null,null,null,null,null,null,""]
[null,null,null,null,null,null,null,null,""]
[null,null,null,null,null,null,null,null,""]
[null,null,null,null,null,null,null,null,""]
[null,null,null,null,null,null,null,null,""]
[null,null,null,null,null,null,null,null,""]
[null,null,null,null,null,null,null,null,""]
[null,null,null,null,null,null,null,null,""]
[null,null,null,null,null,null,null,null,""]
[null,null,null,null,null,null,null,null,""]
[null,null,null,null,null,null,null,null,""]
[null,null,null,null,null,null,null,null,""]
[null,null,null,null,null,null,null,null,""]
[null,null,null,null,null,null,null,null,""]
[null,null,null,null,null,null,null,null,""]
[null,null,null,null,null,null,null,null,""]
[null,null,null,null,null,null,null,null,""]
[null,null,null,null,null,null,null,null,""]
[null,null,null,null,null,null,null,null,""]
[null,null,null,null,null,null,null,null,""]
[null,null,null,null,null,null,null,null,""]
[null,null,null,null,null,null,null,null,""]
[null,null,null,null,null,null,null,null,""]
[null,null,null,null,null,null,null,null,""]
[null,null,null,null,null,null,null,null,""]
[null,null,null,null,null,null,null,null,""]
[null,null,null,null,null,null,null,null,""]
[null,null,null,null,null,null,null,null,""]
[null,null,null,null,null,null,null,null,{"$f":"IF(B394=\"\",\"\",IF(H394=\"\",NA(),D394/H394))","v":""}]
[null,null,null,null,null,null,null,null,""]
[null,null,null,null,null,null,null,null,""]
[null,null,null,null,null,null,null,null,""]
[null,null,null,null,null,null,null,null,""]
[null,null,null,null,null,null,null,null,""]
[null,null,null,null,null,null,null,null,""]
[null,null,null,null,null,null,null,null,""]
[null,null,null,null,null,null,null,null,""]
[null,null,null,null,null,null,null,null,""]
[null,null,null,null,null,null,null,null,""]
[null,null,null,null,null,null,null,null,""]
[null,null,null,null,null,null,null,null,""]
[null,null,null,null,null,null,null,null,""]
[null,null,null,null,null,null,null,null,""]
[null,null,null,null,null,null,null,null,""]
[null,null,null,null,null,null,null,null,""]
[null,null,null,null,null,null,null,null,""]
[null,null,null,null,null,null,null,null,""]
[null,null,null,null,null,null,null,null,""]
[null,null,null,null,null,null,null,null,""]
[null,null,null,null,null,null,null,null,""]
[null,null,null,null,null,null,null,null,""]
[null,null,null,null,null,null,null,null,""]
[null,null,null,null,null,null,null,null,""]
[null,null,null,null,null,null,null,null,""]
[null,null,null,null,null,null,null,null,""]
[null,null,null,null,null,null,null,null,""]
[null,null,null,null,null,null,null,null,""]
[null,null,null,null,null,null,null,null,""]
[null,null,null,null,null,null,null,null,""]
[null,null,null,null,null,null,null,null,""]
[null,null,null,null,null,null,null,null,""]
[null,null,null,null,null,null,null,null,""]
[null,null,null,null,null,null,null,null,""]
[null,null,null,null,null,null,null,null,""]
[null,null,null,null,null,null,null,null,""]
[null,null,null,null,null,null,null,null,""]
[null,null,null,null,null,null,null,null,""]
[null,null,null,null,null,null,null,null,""]
[null,null,null,null,null,null,null,null,""]
[null,null,null,null,null,null,null,null,""]
[null,null,null,null,null,null,null,null,""]
[null,null,null,null,null,null,null,null,""]
[null,null,null,null,null,null,null,null,""]
[null,null,null,null,null,null,null,null,""]
[null,null,null,null,null,null,null,null,""]
[null,null,null,null,null,null,null,null,""]
[null,null,null,null,null,null,null,null,""]
[null,null,null,null,null,null,null,null,""]
[null,null,null,null,null,null,null,null,""]
[null,null,null,null,null,null,null,null,""]
[null,null,null,null,null,null,null,null,""]
[null,null,null,null,null,null,null,null,""]
[null,null,null,null,null,null,null,null,""]
[null,null,null,null,null,null,null,null,""]
[null,null,null,null,null,null,null,null,""]
[null,null,null,null,null,null,null,null,""]
[null,null,null,null,null,null,null,null,""]
[null,null,null,null,null,null,null,null,""]
[null,null,null,null,null,null,null,null,""]
[null,null,null,null,null,null,null,null,""]
[null,null,null,null,null,null,null,null,""]
[null,null,null,null,null,null,null,null,""]
[null,null,null,null,null,null,null,null,{"$f":"IF(B458=\"\",\"\",IF(H458=\"\",NA(),D458/H458))","v":""}]
[null,null,null,null,null,null,null,null,""]
[null,null,null,null,null,null,null,null,""]
[null,null,null,null,null,null,null,null,""]
[null,null,null,null,null,null,null,null,""]
[null,null,null,null,null,null,null,null,""]
[null,null,null,null,null,null,null,null,""]
[null,null,null,null,null,null,null,null,""]
[null,null,null,null,null,null,null,null,""]
[null,null,null,null,null,null,null,null,""]
[null,null,null,null,null,null,null,null,""]
[null,null,null,null,null,null,null,null,""]
[null,null,null,null,null,null,null,null,""]
[null,null,null,null,null,null,null,null,""]
[null,null,null,null,null,null,null,null,""]
[null,null,null,null,null,null,null,null,""]
[null,null,null,null,null,null,null,null,""]
[null,null,null,null,null,null,null,null,""]
[null,null,null,null,null,null,null,null,""]
[null,null,null,null,null,null,null,null,""]
[null,null,null,null,null,null,null,null,""]
[null,null,null,null,null,null,null,null,""]
[null,null,null,null,null,null,null,null,""]
[null,null,null,null,null,null,null,null,""]
[null,null,null,null,null,null,null,null,""]
[null,null,null,null,null,null,null,null,""]
[null,null,null,null,null,null,null,null,""]
[null,null,null,null,null,null,null,null,""]
[null,null,null,null,null,null,null,null,""]
[null,null,null,null,null,null,null,null,""]
[null,null,null,null,null,null,null,null,""]
[null,null,null,null,null,null,null,null,""]
[null,null,null,null,null,null,null,null,""]
[null,null,null,null,null,null,null,null,""]
[null,null,null,null,null,null,null,null,""]
[null,null,null,null,null,null,null,null,""]
[null,null,null,null,null,null,null,null,""]
[null,null,null,null,null,null,null,null,""]
[null,null,null,null,null,null,null,null,""]
[null,null,null,null,null,null,null,null,""]
[null,null,null,null,null,null,null,null,""]
[null,null,null,null,null,null,null,null,""]
[null,null,null,null,null,null,null,null,""]
[null,null,null,null,null,null,null,null,""]
[null,null,null,null,null,null,null,null,""]
[null,null,null,null,null,null,null,null,""]
[null,null,null,null,null,null,null,null,""]
[null,null,null,null,null,null,null,null,""]
[null,null,null,null,null,null,null,null,""]
[null,null,null,null,null,null,null,null,""]
[null,null,null,null,null,null,null,null,""]
[null,null,null,null,null,null,null,null,""]
[null,null,null,null,null,null,null,null,""]
[null,null,null,null,null,null,null,null,""]
[null,null,null,null,null,null,null,null,""]
[null,null,null,null,null,null,null,null,""]
[null,null,null,null,null,null,null,null,""]
[null,null,null,null,null,null,null,null,""]
[null,null,null,null,null,null,null,null,""]
[null,null,null,null,null,null,null,null,""]
[null,null,null,null,null,null,null,null,""]
[null,null,null,null,null,null,null,null,""]
[null,null,null,null,null,null,null,null,""]
[null,null,null,null,null,null,null,null,""]
[null,null,null,null,null,null,null,null,{"$f":"IF(B522=\"\",\"\",IF(H522=\"\",NA(),D522/H522))","v":""}]
[null,null,null,null,null,null,null,null,""]
[null,null,null,null,null,null,null,null,""]
[null,null,null,null,null,null,null,null,""]
[null,null,null,null,null,null,null,null,""]
[null,null,null,null,null,null,null,null,""]
[null,null,null,null,null,null,null,null,""]
[null,null,null,null,null,null,null,null,""]
[null,null,null,null,null,null,null,null,""]
[null,null,null,null,null,null,null,null,""]
[null,null,null,null,null,null,null,null,""]
[null,null,null,null,null,null,null,null,""]
[null,null,null,null,null,null,null,null,""]
[null,null,null,null,null,null,null,null,""]
[null,null,null,null,null,null,null,null,""]
[null,null,null,null,null,null,null,null,""]
[null,null,null,null,null,null,null,null,""]
[null,null,null,null,null,null,null,null,""]
[null,null,null,null,null,null,null,null,""]
[null,null,null,null,null,null,null,null,""]
[null,null,null,null,null,null,null,null,""]
[null,null,null,null,null,null,null,null,""]
[null,null,null,null,null,null,null,null,""]
[null,null,null,null,null,null,null,null,""]
[null,null,null,null,null,null,null,null,""]
[null,null,null,null,null,null,null,null,""]
[null,null,null,null,null,null,null,null,""]
[null,null,null,null,null,null,null,null,""]
[null,null,null,null,null,null,null,null,""]
[null,null,null,null,null,null,null,null,""]
[null,null,null,null,null,null,null,null,""]
[null,null,null,null,null,null,null,null,""]
[null,null,null,null,null,null,null,null,""]
[null,null,null,null,null,null,null,null,""]
[null,null,null,null,null,null,null,null,""]
[null,null,null,null,null,null,null,null,""]
[null,null,null,null,null,null,null,null,""]
[null,null,null,null,null,null,null,null,""]
[null,null,null,null,null,null,null,null,""]
[null,null,null,null,null,null,null,null,""]
[null,null,null,null,null,null,null,null,""]
[null,null,null,null,null,null,null,null,""]
[null,null,null,null,null,null,null,null,""]
[null,null,null,null,null,null,null,null,""]
[null,null,null,null,null,null,null,null,""]
[null,null,null,null,null,null,null,null,""]
[null,null,null,null,null,null,null,null,""]
[null,null,null,null,null,null,null,null,""]
[null,null,null,null,null,null,null,null,""]
[null,null,null,null,null,null,null,null,""]
[null,null,null,null,null,null,null,null,""]
[null,null,null,null,null,null,null,null,""]
[null,null,null,null,null,null,null,null,""]
[null,null,null,null,null,null,null,null,""]
[null,null,null,null,null,null,null,null,""]
[null,null,null,null,null,null,null,null,""]
[null,null,null,null,null,null,null,null,""]
[null,null,null,null,null,null,null,null,""]
[null,null,null,null,null,null,null,null,""]
[null,null,null,null,null,null,null,null,""]
[null,null,null,null,null,null,null,null,""]
[null,null,null,null,null,null,null,null,""]
[null,null,null,null,null,null,null,null,""]
[null,null,null,null,null,null,null,null,""]
[null,null,null,null,null,null,null,null,{"$f":"IF(B586=\"\",\"\",IF(H586=\"\",NA(),D586/H586))","v":""}]
[null,null,null,null,null,null,null,null,""]
[null,null,null,null,null,null,null,null,""]
[null,null,null,null,null,null,null,null,""]
[null,null,null,null,null,null,null,null,""]
[null,null,null,null,null,null,null,null,""]
[null,null,null,null,null,null,null,null,""]
[null,null,null,null,null,null,null,null,""]
[null,null,null,null,null,null,null,null,""]
[null,null,null,null,null,null,null,null,""]
[null,null,null,null,null,null,null,null,""]
[null,null,null,null,null,null,null,null,""]
[null,null,null,null,null,null,null,null,""]
[null,null,null,null,null,null,null,null,""]
[null,null,null,null,null,null,null,null,""]
[null,null,null,null,null,null,null,null,""]
[null,null,null,null,null,null,null,null,""]
[null,null,null,null,null,null,null,null,""]
[null,null,null,null,null,null,null,null,""]
[null,null,null,null,null,null,null,null,""]
[null,null,null,null,null,null,null,null,""]
[null,null,null,null,null,null,null,null,""]
[null,null,null,null,null,null,null,null,""]
[null,null,null,null,null,null,null,null,""]
[null,null,null,null,null,null,null,null,""]
[null,null,null,null,null,null,null,null,""]
[null,null,null,null,null,null,null,null,""]
[null,null,null,null,null,null,null,null,""]
[null,null,null,null,null,null,null,null,""]
[null,null,null,null,null,null,null,null,""]
[null,null,null,null,null,null,null,null,""]
[null,null,null,null,null,null,null,null,""]
[null,null,null,null,null,null,null,null,""]
[null,null,null,null,null,null,null,null,""]
[null,null,null,null,null,null,null,null,""]
[null,null,null,null,null,null,null,null,""]
[null,null,null,null,null,null,null,null,""]
[null,null,null,null,null,null,null,null,""]
[null,null,null,null,null,null,null,null,""]
[null,null,null,null,null,null,null,null,""]
[null,null,null,null,null,null,null,null,""]
[null,null,null,null,null,null,null,null,""]
[null,null,null,null,null,null,null,null,""]
[null,null,null,null,null,null,null,null,""]
[null,null,null,null,null,null,null,null,""]
[null,null,null,null,null,null,null,null,""]
[null,null,null,null,null,null,null,null,""]
[null,null,null,null,null,null,null,null,""]
[null,null,null,null,null,null,null,null,""]
[null,null,null,null,null,null,null,null,""]
[null,null,null,null,null,null,null,null,""]
[null,null,null,null,null,null,null,null,""]
[null,null,null,null,null,null,null,null,""]
[null,null,null,null,null,null,null,null,""]
[null,null,null,null,null,null,null,null,""]
[null,null,null,null,null,null,null,null,""]
[null,null,null,null,null,null,null,null,""]
[null,null,null,null,null,null,null,null,""]
[null,null,null,null,null,null,null,null,""]
[null,null,null,null,null,null,null,null,""]
[null,null,null,null,null,null,null,null,""]
[null,null,null,null,null,null,null,null,""]
[null,null,null,null,null,null,null,null,""]
[null,null,null,null,null,null,null,null,""]
[null,null,null,null,null,null,null,null,{"$f":"IF(B650=\"\",\"\",IF(H650=\"\",NA(),D650/H650))","v":""}]
[null,null,null,null,null,null,null,null,""]
[null,null,null,null,null,null,null,null,""]
[null,null,null,null,null,null,null,null,""]
[null,null,null,null,null,null,null,null,""]
[null,null,null,null,null,null,null,null,""]
[null,null,null,null,null,null,null,null,""]
[null,null,null,null,null,null,null,null,""]
[null,null,null,null,null,null,null,null,""]
[null,null,null,null,null,null,null,null,""]
[null,null,null,null,null,null,null,null,""]
[null,null,null,null,null,null,null,null,""]
[null,null,null,null,null,null,null,null,""]
[null,null,null,null,null,null,null,null,""]
[null,null,null,null,null,null,null,null,""]
[null,null,null,null,null,null,null,null,""]
[null,null,null,null,null,null,null,null,""]
[null,null,null,null,null,null,null,null,""]
[null,null,null,null,null,null,null,null,""]
[null,null,null,null,null,null,null,null,""]
[null,null,null,null,null,null,null,null,""]
[null,null,null,null,null,null,null,null,""]
[null,null,null,null,null,null,null,null,""]
[null,null,null,null,null,null,null,null,""]
[null,null,null,null,null,null,null,null,""]
[null,null,null,null,null,null,null,null,""]
[null,null,null,null,null,null,null,null,""]
[null,null,null,null,null,null,null,null,""]
[null,null,null,null,null,null,null,null,""]
[null,null,null,null,null,null,null,null,""]
[null,null,null,null,null,null,null,null,""]
[null,null,null,null,null,null,null,null,""]
[null,null,null,null,null,null,null,null,""]
[null,null,null,null,null,null,null,null,""]
[null,null,null,null,null,null,null,null,""]
[null,null,null,null,null,null,null,null,""]
[null,null,null,null,null,null,null,null,""]
[null,null,null,null,null,null,null,null,""]
[null,null,null,null,null,null,null,null,""]
[null,null,null,null,null,null,null,null,""]
[null,null,null,null,null,null,null,null,""]
[null,null,null,null,null,null,null,null,""]
[null,null,null,null,null,null,null,null,""]
[null,null,null,null,null,null,null,null,""]
[null,null,null,null,null,null,null,null,""]
[null,null,null,null,null,null,null,null,""]
[null,null,null,null,null,null,null,null,""]
[null,null,null,null,null,null,null,null,""]
[null,null,null,null,null,null,null,null,""]
[null,null,null,null,null,null,null,null,""]
[null,null,null,null,null,null,null,null,""]
[null,null,null,null,null,null,null,null,""]
[null,null,null,null,null,null,null,null,""]
[null,null,null,null,null,null,null,null,""]
[null,null,null,null,null,null,null,null,""]
[null,null,null,null,null,null,null,null,""]
[null,null,null,null,null,null,null,null,""]
[null,null,null,null,null,null,null,null,""]
[null,null,null,null,null,null,null,null,""]
[null,null,null,null,null,null,null,null,""]
[null,null,null,null,null,null,null,null,""]
[null,null,null,null,null,null,null,null,""]
[null,null,null,null,null,null,null,null,""]
[null,null,null,null,null,null,null,null,""]
[null,null,null,null,null,null,null,null,{"$f":"IF(B714=\"\",\"\",IF(H714=\"\",NA(),D714/H714))","v":""}]
[null,null,null,null,null,null,null,null,""]
[null,null,null,null,null,null,null,null,""]
[null,null,null,null,null,null,null,null,""]
[null,null,null,null,null,null,null,null,""]
[null,null,null,null,null,null,null,null,""]
[null,null,null,null,null,null,null,null,""]
[null,null,null,null,null,null,null,null,""]
[null,null,null,null,null,null,null,null,""]
[null,null,null,null,null,null,null,null,""]
[null,null,null,null,null,null,null,null,""]
[null,null,null,null,null,null,null,null,""]
[null,null,null,null,null,null,null,null,""]
[null,null,null,null,null,null,null,null,""]
[null,null,null,null,null,null,null,null,""]
[null,null,null,null,null,null,null,null,""]
[null,null,null,null,null,null,null,null,""]
[null,null,null,null,null,null,null,null,""]
[null,null,null,null,null,null,null,null,""]
[null,null,null,null,null,null,null,null,""]
[null,null,null,null,null,null,null,null,""]
[null,null,null,null,null,null,null,null,""]
[null,null,null,null,null,null,null,null,""]
[null,null,null,null,null,null,null,null,""]
[null,null,null,null,null,null,null,null,""]
[null,null,null,null,null,null,null,null,""]
[null,null,null,null,null,null,null,null,""]
[null,null,null,null,null,null,null,null,""]
[null,null,null,null,null,null,null,null,""]
[null,null,null,null,null,null,null,null,""]
[null,null,null,null,null,null,null,null,""]
[null,null,null,null,null,null,null,null,""]
[null,null,null,null,null,null,null,null,""]
[null,null,null,null,null,null,null,null,""]
[null,null,null,null,null,null,null,null,""]
[null,null,null,null,null,null,null,null,""]
[null,null,null,null,null,null,null,null,""]
[null,null,null,null,null,null,null,null,""]
[null,null,null,null,null,null,null,null,""]
[null,null,null,null,null,null,null,null,""]
[null,null,null,null,null,null,null,null,""]
[null,null,null,null,null,null,null,null,""]
[null,null,null,null,null,null,null,null,""]
[null,null,null,null,null,null,null,null,""]
[null,null,null,null,null,null,null,null,""]
[null,null,null,null,null,null,null,null,""]
[null,null,null,null,null,null,null,null,""]
[null,null,null,null,null,null,null,null,""]
[null,null,null,null,null,null,null,null,""]
[null,null,null,null,null,null,null,null,""]
[null,null,null,null,null,null,null,null,""]
[null,null,null,null,null,null,null,null,""]
[null,null,null,null,null,null,null,null,""]
[null,null,null,null,null,null,null,null,""]
[null,null,null,null,null,null,null,null,""]
[null,null,null,null,null,null,null,null,""]
[null,null,null,null,null,null,null,null,""]
[null,null,null,null,null,null,null,null,""]
[null,null,null,null,null,null,null,null,""]
[null,null,null,null,null,null,null,null,""]
[null,null,null,null,null,null,null,null,""]
[null,null,null,null,null,null,null,null,""]
[null,null,null,null,null,null,null,null,""]
[null,null,null,null,null,null,null,null,""]
[null,null,null,null,null,null,null,null,{"$f":"IF(B778=\"\",\"\",IF(H778=\"\",NA(),D778/H778))","v":""}]
[null,null,null,null,null,null,null,null,""]
[null,null,null,null,null,null,null,null,""]
[null,null,null,null,null,null,null,null,""]
[null,null,null,null,null,null,null,null,""]
[null,null,null,null,null,null,null,null,""]
[null,null,null,null,null,null,null,null,""]
[null,null,null,null,null,null,null,null,""]
[null,null,null,null,null,null,null,null,""]
[null,null,null,null,null,null,null,null,""]
[null,null,null,null,null,null,null,null,""]
[null,null,null,null,null,null,null,null,""]
[null,null,null,null,null,null,null,null,""]
[null,null,null,null,null,null,null,null,""]
[null,null,null,null,null,null,null,null,""]
[null,null,null,null,null,null,null,null,""]
[null,null,null,null,null,null,null,null,""]
[null,null,null,null,null,null,null,null,""]
[null,null,null,null,null,null,null,null,""]
[null,null,null,null,null,null,null,null,""]
[null,null,null,null,null,null,null,null,""]
[null,null,null,null,null,null,null,null,""]
[null,null,null,null,null,null,null,null,""]
[null,null,null,null,null,null,null,null,""]
[null,null,null,null,null,null,null,null,""]
[null,null,null,null,null,null,null,null,""]
[null,null,null,null,null,null,null,null,""]
[null,null,null,null,null,null,null,null,""]
[null,null,null,null,null,null,null,null,""]
[null,null,null,null,null,null,null,null,""]
[null,null,null,null,null,null,null,null,""]
[null,null,null,null,null,null,null,null,""]
[null,null,null,null,null,null,null,null,""]
[null,null,null,null,null,null,null,null,""]
[null,null,null,null,null,null,null,null,""]
[null,null,null,null,null,null,null,null,""]
[null,null,null,null,null,null,null,null,""]
[null,null,null,null,null,null,null,null,""]
[null,null,null,null,null,null,null,null,""]
[null,null,null,null,null,null,null,null,""]
[null,null,null,null,null,null,null,null,""]
[null,null,null,null,null,null,null,null,""]
[null,null,null,null,null,null,null,null,""]
[null,null,null,null,null,null,null,null,""]
[null,null,null,null,null,null,null,null,""]
[null,null,null,null,null,null,null,null,""]
[null,null,null,null,null,null,null,null,""]
[null,null,null,null,null,null,null,null,""]
[null,null,null,null,null,null,null,null,""]
[null,null,null,null,null,null,null,null,""]
[null,null,null,null,null,null,null,null,""]
[null,null,null,null,null,null,null,null,""]
[null,null,null,null,null,null,null,null,""]
[null,null,null,null,null,null,null,null,""]
[null,null,null,null,null,null,null,null,""]
[null,null,null,null,null,null,null,null,""]
[null,null,null,null,null,null,null,null,""]
[null,null,null,null,null,null,null,null,""]
[null,null,null,null,null,null,null,null,""]
[null,null,null,null,null,null,null,null,""]
[null,null,null,null,null,null,null,null,""]
[null,null,null,null,null,null,null,null,""]
[null,null,null,null,null,null,null,null,""]
[null,null,null,null,null,null,null,null,""]
[null,null,null,null,null,null,null,null,{"$f":"IF(B842=\"\",\"\",IF(H842=\"\",NA(),D842/H842))","v":""}]
[null,null,null,null,null,null,null,null,""]
[null,null,null,null,null,null,null,null,""]
[null,null,null,null,null,null,null,null,""]
[null,null,null,null,null,null,null,null,""]
[null,null,null,null,null,null,null,null,""]
[null,null,null,null,null,null,null,null,""]
[null,null,null,null,null,null,null,null,""]
[null,null,null,null,null,null,null,null,""]
[null,null,null,null,null,null,null,null,""]
[null,null,null,null,null,null,null,null,""]
[null,null,null,null,null,null,null,null,""]
[null,null,null,null,null,null,null,null,""]
[null,null,null,null,null,null,null,null,""]
[null,null,null,null,null,null,null,null,""]
[null,null,null,null,null,null,null,null,""]
[null,null,null,null,null,null,null,null,""]
[null,null,null,null,null,null,null,null,""]
[null,null,null,null,null,null,null,null,""]
[null,null,null,null,null,null,null,null,""]
[null,null,null,null,null,null,null,null,""]
[null,null,null,null,null,null,null,null,""]
[null,null,null,null,null,null,null,null,""]
[null,null,null,null,null,null,null,null,""]
[null,null,null,null,null,null,null,null,""]
[null,null,null,null,null,null,null,null,""]
[null,null,null,null,null,null,null,null,""]
[null,null,null,null,null,null,null,null,""]
[null,null,null,null,null,null,null,null,""]
[null,null,null,null,null,null,null,null,""]
[null,null,null,null,null,null,null,null,""]
[null,null,null,null,null,null,null,null,""]
[null,null,null,null,null,null,null,null,""]
[null,null,null,null,null,null,null,null,""]
[null,null,null,null,null,null,null,null,""]
[null,null,null,null,null,null,null,null,""]
[null,null,null,null,null,null,null,null,""]
[null,null,null,null,null,null,null,null,""]
[null,null,null,null,null,null,null,null,""]
[null,null,null,null,null,null,null,null,""]
[null,null,null,null,null,null,null,null,""]
[null,null,null,null,null,null,null,null,""]
[null,null,null,null,null,null,null,null,""]
[null,null,null,null,null,null,null,null,""]
[null,null,null,null,null,null,null,null,""]
[null,null,null,null,null,null,null,null,""]
[null,null,null,null,null,null,null,null,""]
[null,null,null,null,null,null,null,null,""]
[null,null,null,null,null,null,null,null,""]
[null,null,null,null,null,null,null,null,""]
[null,null,null,null,null,null,null,null,""]
[null,null,null,null,null,null,null,null,""]
[null,null,null,null,null,null,null,null,""]
[null,null,null,null,null,null,null,null,""]
[null,null,null,null,null,null,null,null,""]
[null,null,null,null,null,null,null,null,""]
[null,null,null,null,null,null,null,null,""]
[null,null,null,null,null,null,null,null,""]
[null,null,null,null,null,null,null,null,""]
[null,null,null,null,null,null,null,null,""]
[null,null,null,null,null,null,null,null,""]
[null,null,null,null,null,null,null,null,""]
[null,null,null,null,null,null,null,null,""]
[null,null,null,null,null,null,null,null,""]
[null,null,null,null,null,null,null,null,{"$f":"IF(B906=\"\",\"\",IF(H906=\"\",NA(),D906/H906))","v":""}]
[null,null,null,null,null,null,null,null,""]
[null,null,null,null,null,null,null,null,""]
[null,null,null,null,null,null,null,null,""]
[null,null,null,null,null,null,null,null,""]
[null,null,null,null,null,null,null,null,""]
[null,null,null,null,null,null,null,null,""]
[null,null,null,null,null,null,null,null,""]
[null,null,null,null,null,null,null,null,""]
[null,null,null,null,null,null,null,null,""]
[null,null,null,null,null,null,null,null,""]
[null,null,null,null,null,null,null,null,""]
[null,null,null,null,null,null,null,null,""]
[null,null,null,null,null,null,null,null,""]
[null,null,null,null,null,null,null,null,""]
[null,null,null,null,null,null,null,null,""]
[null,null,null,null,null,null,null,null,""]
[null,null,null,null,null,null,null,null,""]
[null,null,null,null,null,null,null,null,""]
[null,null,null,null,null,null,null,null,""]
[null,null,null,null,null,null,null,null,""]
[null,null,null,null,null,null,null,null,""]
[null,null,null,null,null,null,null,null,""]
[null,null,null,null,null,null,null,null,""]
[null,null,null,null,null,null,null,null,""]
[null,null,null,null,null,null,null,null,""]
[null,null,null,null,null,null,null,null,""]
[null,null,null,null,null,null,null,null,""]
[null,null,null,null,null,null,null,null,""]
[null,null,null,null,null,null,null,null,""]
[null,null,null,null,null,null,null,null,""]

{"sheet":"Base","index":6,"n_rows":1201,"n_cols":12,"rows_kept":1201,"cut":false,"hidden":false,"merged":[]}
[null,null,null,"Planilha Auxiliar Não Modificar"]
[null,{"$f":"_xll.ECOSECURITIES(\"stock;ETF\",\"active\",,\"bra\",\"XBSP\")","v":"Código"},{"$f":"_xll.ECONOMATICA($B$3:$B$1201,\"ticker\")","v":"Código"},{"$f":"_xll.ECONOMATICA($B$3:$B$1201,\"Value$-onLoan\",,'Guia de BTC'!$D$2,,,,,,,\"Valor de Contratos em Aberto\")","v":"Valor de Contratos em Aberto"},"Ordem 1","Ordem 2","Máximo",null,"Vínculo do Controle →",2,null,"Funções Utilizadas"]
[null,"TTEN3<XBSP>","TTEN3",35896005.200000003,{"$f":"IF(AND(D3>1000000,B3<>\"SUZB5+SUZB3<XBSP>\"),D3,\"\")","v":35896005.200000003},{"$f":"IFERROR(RANK(E3,$E$3:$E$1201,0)+COUNTIF($E$3:E3,E3)-1,\"\")","v":141},{"$f":"MAX(F:F)","v":261},null,null,null,null,{"$f":"_xlfn.FORMULATEXT('Lâmina Gera'!D22)","v":"=SEERRO(ÍNDICE('Guia de BTC'!G:G;CORRESP('Lâmina Gera'!$C22&\"<xbsp>\";'Guia de BTC'!$C:$C;0));\"\")"}]
[null,"QVQP3<XBSP>","QVQP3",null,{"$f":"IF(AND(D4>1000000,B4<>\"SUZB5+SUZB3<XBSP>\"),D4,\"\")","v":""},{"$f":"IFERROR(RANK(E4,$E$3:$E$1201,0)+COUNTIF($E$3:E4,E4)-1,\"\")","v":""},null,null,"Nº","Unidades",null,{"$f":"_xlfn.FORMULATEXT('Guia de BTC'!D3)","v":"=PROCV(Base!J2;Base!I5:J7;2;FALSO)"}]
[null,"ABCB4<XBSP>","ABCB4",16097482.699999999,16097482.699999999,{"$f":"IFERROR(RANK(E5,$E$3:$E$1201,0)+COUNTIF($E$3:E5,E5)-1,\"\")","v":173},null,null,1,"Units",null,{"$f":"_xlfn.FORMULATEXT('Lâmina Gera'!E6)","v":"=SEERRO(SOMARPRODUTO('Guia de BTC'!$H:$H;'Guia de BTC'!AP:AP);\"\")"}]
[null,"EALT3<XBSP>","EALT3",27046,"",{"$f":"IFERROR(RANK(E6,$E$3:$E$1201,0)+COUNTIF($E$3:E6,E6)-1,\"\")","v":""},null,null,2,"Thousands",null,{"$f":"_xlfn.FORMULATEXT('Lâmina Empréstimo BTC'!I10)","v":"=FIMMÊS(I11;-1)"}]
[null,"EALT4<XBSP>","EALT4",4261.42,"",{"$f":"IFERROR(RANK(E7,$E$3:$E$1201,0)+COUNTIF($E$3:E7,E7)-1,\"\")","v":""},null,null,3,"Millions",null,{"$f":"_xlfn.FORMULATEXT('Lâmina Empréstimo BTC'!P17)","v":"=DATA(ANO(Q17)-1;12;31)"}]
[null,"AERI3<XBSP>","AERI3",23535666.010000002,23535666.010000002,{"$f":"IFERROR(RANK(E8,$E$3:$E$1201,0)+COUNTIF($E$3:E8,E8)-1,\"\")","v":160},null,null,null,null,null,{"$f":"_xlfn.FORMULATEXT('Base Resumo'!B5)","v":"=SEERRO(ORDEM(E5;$E$5:$E$400)+CONT.SE($E$5:E5;E5)-1;\"\")"}]
[null,"AESB3<XBSP>","AESB3",291126742.57999998,291126742.57999998,{"$f":"IFERROR(RANK(E9,$E$3:$E$1201,0)+COUNTIF($E$3:E9,E9)-1,\"\")","v":82},null,null,"Itens (não apagar)",null,null,{"$f":"_xlfn.FORMULATEXT('Base Resumo'!F5)","v":"=SE(C5=\"\";\"\";SEERRO(PROCV(LIN()-4;$B$3:$E$600;4;FALSO);\"\"))"}]
[null,"AESO3<XBSP>","AESO3",null,"",{"$f":"IFERROR(RANK(E10,$E$3:$E$1201,0)+COUNTIF($E$3:E10,E10)-1,\"\")","v":""},null,null,"% IBOV",null,null,"=SE"]
[null,"AFLT3<XBSP>","AFLT3",null,"",{"$f":"IFERROR(RANK(E11,$E$3:$E$1201,0)+COUNTIF($E$3:E11,E11)-1,\"\")","v":""},null,null,"% Float Alugado",null,null,"=LIN"]
[null,"GRAO3<XBSP>","GRAO3",null,"",{"$f":"IFERROR(RANK(E12,$E$3:$E$1201,0)+COUNTIF($E$3:E12,E12)-1,\"\")","v":""},null,null,"Valor Alugado",null,null,"=MAIOR"]
[null,"AGXY3<XBSP>","AGXY3",1449407.59,1449407.59,{"$f":"IFERROR(RANK(E13,$E$3:$E$1201,0)+COUNTIF($E$3:E13,E13)-1,\"\")","v":252},null,null,"Volume Médio"]
[null,"RPAD3<XBSP>","RPAD3",null,"",{"$f":"IFERROR(RANK(E14,$E$3:$E$1201,0)+COUNTIF($E$3:E14,E14)-1,\"\")","v":""},null,null,"Dias de Giro"]
[null,"RPAD5<XBSP>","RPAD5",null,"",{"$f":"IFERROR(RANK(E15,$E$3:$E$1201,0)+COUNTIF($E$3:E15,E15)-1,\"\")","v":""},null,null,"Aluguel vs Vista"]
[null,"RPAD6<XBSP>","RPAD6",null,"",{"$f":"IFERROR(RANK(E16,$E$3:$E$1201,0)+COUNTIF($E$3:E16,E16)-1,\"\")","v":""},null,null,"▲ de 1 dia"]
[null,"APTI3<XBSP>","APTI3",null,"",{"$f":"IFERROR(RANK(E17,$E$3:$E$1201,0)+COUNTIF($E$3:E17,E17)-1,\"\")","v":""},null,null,"Taxa Média De Aluguel"]
[null,"APTI4<XBSP>","APTI4",null,"",{"$f":"IFERROR(RANK(E18,$E$3:$E$1201,0)+COUNTIF($E$3:E18,E18)-1,\"\")","v":""}]
[null,"FRRN3B<XBSP>","FRRN3B",null,"",{"$f":"IFERROR(RANK(E19,$E$3:$E$1201,0)+COUNTIF($E$3:E19,E19)-1,\"\")","v":""},null,null,"Períodos (não apagar)"]
[null,"FRRN5B<XBSP>","FRRN5B",null,"",{"$f":"IFERROR(RANK(E20,$E$3:$E$1201,0)+COUNTIF($E$3:E20,E20)-1,\"\")","v":""},null,null,"1M"]
[null,"FRRN6B<XBSP>","FRRN6B",null,"",{"$f":"IFERROR(RANK(E21,$E$3:$E$1201,0)+COUNTIF($E$3:E21,E21)-1,\"\")","v":""},null,null," 3M"]
[null,"AALR3<XBSP>","AALR3",1632919.05,1632919.05,{"$f":"IFERROR(RANK(E22,$E$3:$E$1201,0)+COUNTIF($E$3:E22,E22)-1,\"\")","v":249},null,null," 6M"]
[null,"ALLD3<XBSP>","ALLD3",375232.47,"",{"$f":"IFERROR(RANK(E23,$E$3:$E$1201,0)+COUNTIF($E$3:E23,E23)-1,\"\")","v":""},null,null," 9M"]
[null,"ALOS3<XBSP>","ALOS3",454234406.60000002,454234406.60000002,{"$f":"IFERROR(RANK(E24,$E$3:$E$1201,0)+COUNTIF($E$3:E24,E24)-1,\"\")","v":64},null,null," 12M"]
[null,"ALPA3<XBSP>","ALPA3",1820,"",{"$f":"IFERROR(RANK(E25,$E$3:$E$1201,0)+COUNTIF($E$3:E25,E25)-1,\"\")","v":""},null,null," 18M"]
[null,"ALPA4<XBSP>","ALPA4",60303460.649999999,60303460.649999999,{"$f":"IFERROR(RANK(E26,$E$3:$E$1201,0)+COUNTIF($E$3:E26,E26)-1,\"\")","v":127},null,null," 24M"]
[null,"AVLL3<XBSP>","AVLL3",395.8,"",{"$f":"IFERROR(RANK(E27,$E$3:$E$1201,0)+COUNTIF($E$3:E27,E27)-1,\"\")","v":""}]
[null,"ALUP3<XBSP>","ALUP3",5848.98,"",{"$f":"IFERROR(RANK(E28,$E$3:$E$1201,0)+COUNTIF($E$3:E28,E28)-1,\"\")","v":""}]
[null,"ALUP4<XBSP>","ALUP4",129418.2,"",{"$f":"IFERROR(RANK(E29,$E$3:$E$1201,0)+COUNTIF($E$3:E29,E29)-1,\"\")","v":""}]
[null,"ALUP11<XBSP>","ALUP11",103247060.45999999,103247060.45999999,{"$f":"IFERROR(RANK(E30,$E$3:$E$1201,0)+COUNTIF($E$3:E30,E30)-1,\"\")","v":111}]
[null,"BAZA3<XBSP>","BAZA3",318049.84000000003,"",{"$f":"IFERROR(RANK(E31,$E$3:$E$1201,0)+COUNTIF($E$3:E31,E31)-1,\"\")","v":""}]
[null,"ABEV3<XBSP>","ABEV3",2423734546.5,2423734546.5,{"$f":"IFERROR(RANK(E32,$E$3:$E$1201,0)+COUNTIF($E$3:E32,E32)-1,\"\")","v":10}]
[null,"AMBP3<XBSP>","AMBP3",239286348.68000001,239286348.68000001,{"$f":"IFERROR(RANK(E33,$E$3:$E$1201,0)+COUNTIF($E$3:E33,E33)-1,\"\")","v":94}]
[null,"AMER3<XBSP>","AMER3",28170343.855,28170343.855,{"$f":"IFERROR(RANK(E34,$E$3:$E$1201,0)+COUNTIF($E$3:E34,E34)-1,\"\")","v":155}]
[null,"CBEE3<XBSP>","CBEE3",500,"",{"$f":"IFERROR(RANK(E35,$E$3:$E$1201,0)+COUNTIF($E$3:E35,E35)-1,\"\")","v":""}]
[null,"ANIM3<XBSP>","ANIM3",31325263.91,31325263.91,{"$f":"IFERROR(RANK(E36,$E$3:$E$1201,0)+COUNTIF($E$3:E36,E36)-1,\"\")","v":151}]
[null,"ARML3<XBSP>","ARML3",28605780,28605780,{"$f":"IFERROR(RANK(E37,$E$3:$E$1201,0)+COUNTIF($E$3:E37,E37)-1,\"\")","v":154}]
[null,"ASAI3<XBSP>","ASAI3",856469488.21000004,856469488.21000004,{"$f":"IFERROR(RANK(E38,$E$3:$E$1201,0)+COUNTIF($E$3:E38,E38)-1,\"\")","v":35}]
[null,"ATMP3<XBSP>","ATMP3",11464.83,"",{"$f":"IFERROR(RANK(E39,$E$3:$E$1201,0)+COUNTIF($E$3:E39,E39)-1,\"\")","v":""}]
[null,"ATOM3<XBSP>","ATOM3",6751.2,"",{"$f":"IFERROR(RANK(E40,$E$3:$E$1201,0)+COUNTIF($E$3:E40,E40)-1,\"\")","v":""}]
[null,"AURA33<XBSP>","AURA33",21167881.57,21167881.57,{"$f":"IFERROR(RANK(E41,$E$3:$E$1201,0)+COUNTIF($E$3:E41,E41)-1,\"\")","v":164}]
[null,"AURE3<XBSP>","AURE3",559039073.62,559039073.62,{"$f":"IFERROR(RANK(E42,$E$3:$E$1201,0)+COUNTIF($E$3:E42,E42)-1,\"\")","v":54}]
[null,"AZEV3<XBSP>","AZEV3",702867.57,"",{"$f":"IFERROR(RANK(E43,$E$3:$E$1201,0)+COUNTIF($E$3:E43,E43)-1,\"\")","v":""}]
[null,"AZEV4<XBSP>","AZEV4",22342095.98,22342095.98,{"$f":"IFERROR(RANK(E44,$E$3:$E$1201,0)+COUNTIF($E$3:E44,E44)-1,\"\")","v":162}]
[null,"AZUL4<XBSP>","AZUL4",248832539.12,248832539.12,{"$f":"IFERROR(RANK(E45,$E$3:$E$1201,0)+COUNTIF($E$3:E45,E45)-1,\"\")","v":91}]
[null,"AZZA3<XBSP>","AZZA3",631652005.58000004,631652005.58000004,{"$f":"IFERROR(RANK(E46,$E$3:$E$1201,0)+COUNTIF($E$3:E46,E46)-1,\"\")","v":47}]
[null,"B3SA3<XBSP>","B3SA3",2319108088.3000002,2319108088.3000002,{"$f":"IFERROR(RANK(E47,$E$3:$E$1201,0)+COUNTIF($E$3:E47,E47)-1,\"\")","v":11}]
[null,"BAHI3<XBSP>","BAHI3",3413.64,"",{"$f":"IFERROR(RANK(E48,$E$3:$E$1201,0)+COUNTIF($E$3:E48,E48)-1,\"\")","v":""}]
[null,"BMGB4<XBSP>","BMGB4",2806653.74,2806653.74,{"$f":"IFERROR(RANK(E49,$E$3:$E$1201,0)+COUNTIF($E$3:E49,E49)-1,\"\")","v":229}]
[null,"BPAN4<XBSP>","BPAN4",77730929.659999996,77730929.659999996,{"$f":"IFERROR(RANK(E50,$E$3:$E$1201,0)+COUNTIF($E$3:E50,E50)-1,\"\")","v":120}]
[null,"BGIP3<XBSP>","BGIP3",null,"",{"$f":"IFERROR(RANK(E51,$E$3:$E$1201,0)+COUNTIF($E$3:E51,E51)-1,\"\")","v":""}]
[null,"BGIP4<XBSP>","BGIP4",null,"",{"$f":"IFERROR(RANK(E52,$E$3:$E$1201,0)+COUNTIF($E$3:E52,E52)-1,\"\")","v":""}]
[null,"BEES3<XBSP>","BEES3",22074.29,"",{"$f":"IFERROR(RANK(E53,$E$3:$E$1201,0)+COUNTIF($E$3:E53,E53)-1,\"\")","v":""}]
[null,"BEES4<XBSP>","BEES4",2784.23,"",{"$f":"IFERROR(RANK(E54,$E$3:$E$1201,0)+COUNTIF($E$3:E54,E54)-1,\"\")","v":""}]
[null,"BPAR3<XBSP>","BPAR3",null,"",{"$f":"IFERROR(RANK(E55,$E$3:$E$1201,0)+COUNTIF($E$3:E55,E55)-1,\"\")","v":""}]
[null,"BRSR3<XBSP>","BRSR3",32260.3,"",{"$f":"IFERROR(RANK(E56,$E$3:$E$1201,0)+COUNTIF($E$3:E56,E56)-1,\"\")","v":""}]
[null,"BRSR5<XBSP>","BRSR5",null,"",{"$f":"IFERROR(RANK(E57,$E$3:$E$1201,0)+COUNTIF($E$3:E57,E57)-1,\"\")","v":""}]
[null,"BRSR6<XBSP>","BRSR6",40591142.780000001,40591142.780000001,{"$f":"IFERROR(RANK(E58,$E$3:$E$1201,0)+COUNTIF($E$3:E58,E58)-1,\"\")","v":133}]
[null,"BDLL3<XBSP>","BDLL3",null,"",{"$f":"IFERROR(RANK(E59,$E$3:$E$1201,0)+COUNTIF($E$3:E59,E59)-1,\"\")","v":""}]
[null,"BDLL4<XBSP>","BDLL4",null,"",{"$f":"IFERROR(RANK(E60,$E$3:$E$1201,0)+COUNTIF($E$3:E60,E60)-1,\"\")","v":""}]
[null,"BALM3<XBSP>","BALM3",null,"",{"$f":"IFERROR(RANK(E61,$E$3:$E$1201,0)+COUNTIF($E$3:E61,E61)-1,\"\")","v":""}]
[null,"BALM4<XBSP>","BALM4",null,"",{"$f":"IFERROR(RANK(E62,$E$3:$E$1201,0)+COUNTIF($E$3:E62,E62)-1,\"\")","v":""}]
[null,"BBML3<XBSP>","BBML3",null,"",{"$f":"IFERROR(RANK(E63,$E$3:$E$1201,0)+COUNTIF($E$3:E63,E63)-1,\"\")","v":""}]
[null,"BBSE3<XBSP>","BBSE3",1401794287.4000001,1401794287.4000001,{"$f":"IFERROR(RANK(E64,$E$3:$E$1201,0)+COUNTIF($E$3:E64,E64)-1,\"\")","v":19}]
[null,"BMOB3<XBSP>","BMOB3",4789079.76,4789079.76,{"$f":"IFERROR(RANK(E65,$E$3:$E$1201,0)+COUNTIF($E$3:E65,E65)-1,\"\")","v":212}]
[null,"BETP3<XBSP>","BETP3",null,"",{"$f":"IFERROR(RANK(E66,$E$3:$E$1201,0)+COUNTIF($E$3:E66,E66)-1,\"\")","v":""}]
[null,"BMKS3<XBSP>","BMKS3",null,"",{"$f":"IFERROR(RANK(E67,$E$3:$E$1201,0)+COUNTIF($E$3:E67,E67)-1,\"\")","v":""}]
[null,"BIOM3<XBSP>","BIOM3",1734000.9,{"$f":"IF(AND(D68>1000000,B68<>\"SUZB5+SUZB3<XBSP>\"),D68,\"\")","v":1734000.9},{"$f":"IFERROR(RANK(E68,$E$3:$E$1201,0)+COUNTIF($E$3:E68,E68)-1,\"\")","v":247}]
[null,"BLAU3<XBSP>","BLAU3",10823474.880000001,10823474.880000001,{"$f":"IFERROR(RANK(E69,$E$3:$E$1201,0)+COUNTIF($E$3:E69,E69)-1,\"\")","v":183}]
[null,"SOJA3<XBSP>","SOJA3",19910206.170000002,19910206.170000002,{"$f":"IFERROR(RANK(E70,$E$3:$E$1201,0)+COUNTIF($E$3:E70,E70)-1,\"\")","v":168}]
[null,"BOBR3<XBSP>","BOBR3",null,"",{"$f":"IFERROR(RANK(E71,$E$3:$E$1201,0)+COUNTIF($E$3:E71,E71)-1,\"\")","v":""}]
[null,"BOBR4<XBSP>","BOBR4",26939.48,"",{"$f":"IFERROR(RANK(E72,$E$3:$E$1201,0)+COUNTIF($E$3:E72,E72)-1,\"\")","v":""}]
[null,"BRBI11<XBSP>","BRBI11",8040555.54,8040555.54,{"$f":"IFERROR(RANK(E73,$E$3:$E$1201,0)+COUNTIF($E$3:E73,E73)-1,\"\")","v":193}]
[null,"BBDC3<XBSP>","BBDC3",402745154.56,402745154.56,{"$f":"IFERROR(RANK(E74,$E$3:$E$1201,0)+COUNTIF($E$3:E74,E74)-1,\"\")","v":70}]
[null,"BBDC4<XBSP>","BBDC4",3070746349.6999998,3070746349.6999998,{"$f":"IFERROR(RANK(E75,$E$3:$E$1201,0)+COUNTIF($E$3:E75,E75)-1,\"\")","v":7}]
[null,"BRAP3<XBSP>","BRAP3",10150138.75,10150138.75,{"$f":"IFERROR(RANK(E76,$E$3:$E$1201,0)+COUNTIF($E$3:E76,E76)-1,\"\")","v":185}]
[null,"BRAP4<XBSP>","BRAP4",405425408.38999999,405425408.38999999,{"$f":"IFERROR(RANK(E77,$E$3:$E$1201,0)+COUNTIF($E$3:E77,E77)-1,\"\")","v":69}]
[null,"BBAS3<XBSP>","BBAS3",4430871706,4430871706,{"$f":"IFERROR(RANK(E78,$E$3:$E$1201,0)+COUNTIF($E$3:E78,E78)-1,\"\")","v":5}]
[null,"AGRO3<XBSP>","AGRO3",86664045.829999998,86664045.829999998,{"$f":"IFERROR(RANK(E79,$E$3:$E$1201,0)+COUNTIF($E$3:E79,E79)-1,\"\")","v":117}]
[null,"BRKM3<XBSP>","BRKM3",189762.49,"",{"$f":"IFERROR(RANK(E80,$E$3:$E$1201,0)+COUNTIF($E$3:E80,E80)-1,\"\")","v":""}]
[null,"BRKM5<XBSP>","BRKM5",467039577.95999998,467039577.95999998,{"$f":"IFERROR(RANK(E81,$E$3:$E$1201,0)+COUNTIF($E$3:E81,E81)-1,\"\")","v":62}]
[null,"BRKM6<XBSP>","BRKM6",null,"",{"$f":"IFERROR(RANK(E82,$E$3:$E$1201,0)+COUNTIF($E$3:E82,E82)-1,\"\")","v":""}]
[null,"BRAV3<XBSP>","BRAV3",1735430606.5,1735430606.5,{"$f":"IFERROR(RANK(E83,$E$3:$E$1201,0)+COUNTIF($E$3:E83,E83)-1,\"\")","v":15}]
[null,"BSLI3<XBSP>","BSLI3",10.86,"",{"$f":"IFERROR(RANK(E84,$E$3:$E$1201,0)+COUNTIF($E$3:E84,E84)-1,\"\")","v":""}]
[null,"BSLI4<XBSP>","BSLI4",937,"",{"$f":"IFERROR(RANK(E85,$E$3:$E$1201,0)+COUNTIF($E$3:E85,E85)-1,\"\")","v":""}]
[null,"BRFS3<XBSP>","BRFS3",1011057022.5,1011057022.5,{"$f":"IFERROR(RANK(E86,$E$3:$E$1201,0)+COUNTIF($E$3:E86,E86)-1,\"\")","v":30}]
[null,"BRIT3<XBSP>","BRIT3",5551540.4900000002,5551540.4900000002,{"$f":"IFERROR(RANK(E87,$E$3:$E$1201,0)+COUNTIF($E$3:E87,E87)-1,\"\")","v":206}]
[null,"BRQB3<XBSP>","BRQB3",null,"",{"$f":"IFERROR(RANK(E88,$E$3:$E$1201,0)+COUNTIF($E$3:E88,E88)-1,\"\")","v":""}]
[null,"BPAC3<XBSP>","BPAC3",4027.05,"",{"$f":"IFERROR(RANK(E89,$E$3:$E$1201,0)+COUNTIF($E$3:E89,E89)-1,\"\")","v":""}]
[null,"BPAC5<XBSP>","BPAC5",116595.2,"",{"$f":"IFERROR(RANK(E90,$E$3:$E$1201,0)+COUNTIF($E$3:E90,E90)-1,\"\")","v":""}]
[null,"BPAC11<XBSP>","BPAC11",1341065721.5999999,1341065721.5999999,{"$f":"IFERROR(RANK(E91,$E$3:$E$1201,0)+COUNTIF($E$3:E91,E91)-1,\"\")","v":20}]
[null,"CXSE3<XBSP>","CXSE3",739060705.26999998,739060705.26999998,{"$f":"IFERROR(RANK(E92,$E$3:$E$1201,0)+COUNTIF($E$3:E92,E92)-1,\"\")","v":39}]
[null,"CAMB3<XBSP>","CAMB3",190485.87,"",{"$f":"IFERROR(RANK(E93,$E$3:$E$1201,0)+COUNTIF($E$3:E93,E93)-1,\"\")","v":""}]
[null,"CAML3<XBSP>","CAML3",7231479.6699999999,7231479.6699999999,{"$f":"IFERROR(RANK(E94,$E$3:$E$1201,0)+COUNTIF($E$3:E94,E94)-1,\"\")","v":196}]
[null,"CRFB3<XBSP>","CRFB3",611669646.07000005,611669646.07000005,{"$f":"IFERROR(RANK(E95,$E$3:$E$1201,0)+COUNTIF($E$3:E95,E95)-1,\"\")","v":48}]
[null,"CASN3<XBSP>","CASN3",8.77,"",{"$f":"IFERROR(RANK(E96,$E$3:$E$1201,0)+COUNTIF($E$3:E96,E96)-1,\"\")","v":""}]
[null,"CASN4<XBSP>","CASN4",null,"",{"$f":"IFERROR(RANK(E97,$E$3:$E$1201,0)+COUNTIF($E$3:E97,E97)-1,\"\")","v":""}]
[null,"BHIA3<XBSP>","BHIA3",74566791.870000005,74566791.870000005,{"$f":"IFERROR(RANK(E98,$E$3:$E$1201,0)+COUNTIF($E$3:E98,E98)-1,\"\")","v":124}]
[null,"CBAV3<XBSP>","CBAV3",35419999.899999999,35419999.899999999,{"$f":"IFERROR(RANK(E99,$E$3:$E$1201,0)+COUNTIF($E$3:E99,E99)-1,\"\")","v":143}]
[null,"CCRO3<XBSP>","CCRO3",793743567.74000001,793743567.74000001,{"$f":"IFERROR(RANK(E100,$E$3:$E$1201,0)+COUNTIF($E$3:E100,E100)-1,\"\")","v":38}]
[null,"CEAB3<XBSP>","CEAB3",76138295.5,76138295.5,{"$f":"IFERROR(RANK(E101,$E$3:$E$1201,0)+COUNTIF($E$3:E101,E101)-1,\"\")","v":122}]
[null,"CEBR3<XBSP>","CEBR3",4860.54,"",{"$f":"IFERROR(RANK(E102,$E$3:$E$1201,0)+COUNTIF($E$3:E102,E102)-1,\"\")","v":""}]
[null,"CEBR5<XBSP>","CEBR5",null,"",{"$f":"IFERROR(RANK(E103,$E$3:$E$1201,0)+COUNTIF($E$3:E103,E103)-1,\"\")","v":""}]
[null,"CEBR6<XBSP>","CEBR6",2339.6999999999998,"",{"$f":"IFERROR(RANK(E104,$E$3:$E$1201,0)+COUNTIF($E$3:E104,E104)-1,\"\")","v":""}]
[null,"CEDO3<XBSP>","CEDO3",null,"",{"$f":"IFERROR(RANK(E105,$E$3:$E$1201,0)+COUNTIF($E$3:E105,E105)-1,\"\")","v":""}]
[null,"CEDO4<XBSP>","CEDO4",2458,"",{"$f":"IFERROR(RANK(E106,$E$3:$E$1201,0)+COUNTIF($E$3:E106,E106)-1,\"\")","v":""}]
[null,"CEED3<XBSP>","CEED3",null,"",{"$f":"IFERROR(RANK(E107,$E$3:$E$1201,0)+COUNTIF($E$3:E107,E107)-1,\"\")","v":""}]
[null,"CEED4<XBSP>","CEED4",null,"",{"$f":"IFERROR(RANK(E108,$E$3:$E$1201,0)+COUNTIF($E$3:E108,E108)-1,\"\")","v":""}]
[null,"CGEE3<XBSP>","CGEE3",null,"",{"$f":"IFERROR(RANK(E109,$E$3:$E$1201,0)+COUNTIF($E$3:E109,E109)-1,\"\")","v":""}]
[null,"CGEE4<XBSP>","CGEE4",null,"",{"$f":"IFERROR(RANK(E110,$E$3:$E$1201,0)+COUNTIF($E$3:E110,E110)-1,\"\")","v":""}]
[null,"CEGR3<XBSP>","CEGR3",null,"",{"$f":"IFERROR(RANK(E111,$E$3:$E$1201,0)+COUNTIF($E$3:E111,E111)-1,\"\")","v":""}]
[null,"CLSC3<XBSP>","CLSC3",null,"",{"$f":"IFERROR(RANK(E112,$E$3:$E$1201,0)+COUNTIF($E$3:E112,E112)-1,\"\")","v":""}]
[null,"CLSC4<XBSP>","CLSC4",529763.79,"",{"$f":"IFERROR(RANK(E113,$E$3:$E$1201,0)+COUNTIF($E$3:E113,E113)-1,\"\")","v":""}]
[null,"GPAR3<XBSP>","GPAR3",null,"",{"$f":"IFERROR(RANK(E114,$E$3:$E$1201,0)+COUNTIF($E$3:E114,E114)-1,\"\")","v":""}]
[null,"MAPT3<XBSP>","MAPT3",null,"",{"$f":"IFERROR(RANK(E115,$E$3:$E$1201,0)+COUNTIF($E$3:E115,E115)-1,\"\")","v":""}]
[null,"MAPT4<XBSP>","MAPT4",null,"",{"$f":"IFERROR(RANK(E116,$E$3:$E$1201,0)+COUNTIF($E$3:E116,E116)-1,\"\")","v":""}]
[null,"CMIG3<XBSP>","CMIG3",49658429.75,49658429.75,{"$f":"IFERROR(RANK(E117,$E$3:$E$1201,0)+COUNTIF($E$3:E117,E117)-1,\"\")","v":131}]
[null,"CMIG4<XBSP>","CMIG4",1525691286.2,1525691286.2,{"$f":"IFERROR(RANK(E118,$E$3:$E$1201,0)+COUNTIF($E$3:E118,E118)-1,\"\")","v":17}]
[null,"CMSA3<XBSP>","CMSA3",null,"",{"$f":"IFERROR(RANK(E119,$E$3:$E$1201,0)+COUNTIF($E$3:E119,E119)-1,\"\")","v":""}]
[null,"CMSA4<XBSP>","CMSA4",null,"",{"$f":"IFERROR(RANK(E120,$E$3:$E$1201,0)+COUNTIF($E$3:E120,E120)-1,\"\")","v":""}]
[null,"CLSA3<XBSP>","CLSA3",34015563.939999998,34015563.939999998,{"$f":"IFERROR(RANK(E121,$E$3:$E$1201,0)+COUNTIF($E$3:E121,E121)-1,\"\")","v":145}]
[null,"CEEB3<XBSP>","CEEB3",118.65,"",{"$f":"IFERROR(RANK(E122,$E$3:$E$1201,0)+COUNTIF($E$3:E122,E122)-1,\"\")","v":""}]
[null,"CEEB5<XBSP>","CEEB5",null,"",{"$f":"IFERROR(RANK(E123,$E$3:$E$1201,0)+COUNTIF($E$3:E123,E123)-1,\"\")","v":""}]
[null,"CEEB6<XBSP>","CEEB6",null,"",{"$f":"IFERROR(RANK(E124,$E$3:$E$1201,0)+COUNTIF($E$3:E124,E124)-1,\"\")","v":""}]
[null,"COCE3<XBSP>","COCE3",null,"",{"$f":"IFERROR(RANK(E125,$E$3:$E$1201,0)+COUNTIF($E$3:E125,E125)-1,\"\")","v":""}]
[null,"COCE5<XBSP>","COCE5",704229.16,"",{"$f":"IFERROR(RANK(E126,$E$3:$E$1201,0)+COUNTIF($E$3:E126,E126)-1,\"\")","v":""}]
[null,"COCE6<XBSP>","COCE6",null,"",{"$f":"IFERROR(RANK(E127,$E$3:$E$1201,0)+COUNTIF($E$3:E127,E127)-1,\"\")","v":""}]
[null,"COGN3<XBSP>","COGN3",354858297.74000001,354858297.74000001,{"$f":"IFERROR(RANK(E128,$E$3:$E$1201,0)+COUNTIF($E$3:E128,E128)-1,\"\")","v":75}]
[null,"COMR3<XBSP>","COMR3",null,"",{"$f":"IFERROR(RANK(E129,$E$3:$E$1201,0)+COUNTIF($E$3:E129,E129)-1,\"\")","v":""}]
[null,"CGAS3<XBSP>","CGAS3",10908,"",{"$f":"IFERROR(RANK(E130,$E$3:$E$1201,0)+COUNTIF($E$3:E130,E130)-1,\"\")","v":""}]
[null,"CGAS5<XBSP>","CGAS5",249843.24,"",{"$f":"IFERROR(RANK(E131,$E$3:$E$1201,0)+COUNTIF($E$3:E131,E131)-1,\"\")","v":""}]
[null,"PASS3<XBSP>","PASS3",null,{"$f":"IF(AND(D132>1000000,B132<>\"SUZB5+SUZB3<XBSP>\"),D132,\"\")","v":""},{"$f":"IFERROR(RANK(E132,$E$3:$E$1201,0)+COUNTIF($E$3:E132,E132)-1,\"\")","v":""}]
[null,"PASS6<XBSP>","PASS6",null,"",{"$f":"IFERROR(RANK(E133,$E$3:$E$1201,0)+COUNTIF($E$3:E133,E133)-1,\"\")","v":""}]
[null,"CRTE3<XBSP>","CRTE3",null,"",{"$f":"IFERROR(RANK(E134,$E$3:$E$1201,0)+COUNTIF($E$3:E134,E134)-1,\"\")","v":""}]
[null,"CRTE5<XBSP>","CRTE5",null,"",{"$f":"IFERROR(RANK(E135,$E$3:$E$1201,0)+COUNTIF($E$3:E135,E135)-1,\"\")","v":""}]
[null,"CALI3<XBSP>","CALI3",null,"",{"$f":"IFERROR(RANK(E136,$E$3:$E$1201,0)+COUNTIF($E$3:E136,E136)-1,\"\")","v":""}]
[null,"CSMG3<XBSP>","CSMG3",379473036.89999998,379473036.89999998,{"$f":"IFERROR(RANK(E137,$E$3:$E$1201,0)+COUNTIF($E$3:E137,E137)-1,\"\")","v":72}]
[null,"CPLE3<XBSP>","CPLE3",37052253.57,37052253.57,{"$f":"IFERROR(RANK(E138,$E$3:$E$1201,0)+COUNTIF($E$3:E138,E138)-1,\"\")","v":138}]
[null,"CPLE5<XBSP>","CPLE5",115.3,"",{"$f":"IFERROR(RANK(E139,$E$3:$E$1201,0)+COUNTIF($E$3:E139,E139)-1,\"\")","v":""}]
[null,"CPLE6<XBSP>","CPLE6",883910756.38999999,883910756.38999999,{"$f":"IFERROR(RANK(E140,$E$3:$E$1201,0)+COUNTIF($E$3:E140,E140)-1,\"\")","v":34}]
[null,"CSAN3<XBSP>","CSAN3",660558284.00999999,660558284.00999999,{"$f":"IFERROR(RANK(E141,$E$3:$E$1201,0)+COUNTIF($E$3:E141,E141)-1,\"\")","v":44}]
[null,"CSRN3<XBSP>","CSRN3",null,"",{"$f":"IFERROR(RANK(E142,$E$3:$E$1201,0)+COUNTIF($E$3:E142,E142)-1,\"\")","v":""}]
[null,"CSRN5<XBSP>","CSRN5",null,"",{"$f":"IFERROR(RANK(E143,$E$3:$E$1201,0)+COUNTIF($E$3:E143,E143)-1,\"\")","v":""}]
[null,"CSRN6<XBSP>","CSRN6",null,"",{"$f":"IFERROR(RANK(E144,$E$3:$E$1201,0)+COUNTIF($E$3:E144,E144)-1,\"\")","v":""}]
[null,"CTNM3<XBSP>","CTNM3",1426,"",{"$f":"IFERROR(RANK(E145,$E$3:$E$1201,0)+COUNTIF($E$3:E145,E145)-1,\"\")","v":""}]
[null,"CTNM4<XBSP>","CTNM4",792.06,"",{"$f":"IFERROR(RANK(E146,$E$3:$E$1201,0)+COUNTIF($E$3:E146,E146)-1,\"\")","v":""}]
[null,"CPFE3<XBSP>","CPFE3",333782091.43000001,333782091.43000001,{"$f":"IFERROR(RANK(E147,$E$3:$E$1201,0)+COUNTIF($E$3:E147,E147)-1,\"\")","v":76}]
[null,"CRPG3<XBSP>","CRPG3",null,"",{"$f":"IFERROR(RANK(E148,$E$3:$E$1201,0)+COUNTIF($E$3:E148,E148)-1,\"\")","v":""}]
[null,"CRPG5<XBSP>","CRPG5",63308,"",{"$f":"IFERROR(RANK(E149,$E$3:$E$1201,0)+COUNTIF($E$3:E149,E149)-1,\"\")","v":""}]
[null,"CRPG6<XBSP>","CRPG6",null,"",{"$f":"IFERROR(RANK(E150,$E$3:$E$1201,0)+COUNTIF($E$3:E150,E150)-1,\"\")","v":""}]
[null,"CSED3<XBSP>","CSED3",1690642.42,1690642.42,{"$f":"IFERROR(RANK(E151,$E$3:$E$1201,0)+COUNTIF($E$3:E151,E151)-1,\"\")","v":248}]
[null,"CMIN3<XBSP>","CMIN3",734002561.58000004,734002561.58000004,{"$f":"IFERROR(RANK(E152,$E$3:$E$1201,0)+COUNTIF($E$3:E152,E152)-1,\"\")","v":40}]
[null,"CSUD3<XBSP>","CSUD3",633298.32999999996,"",{"$f":"IFERROR(RANK(E153,$E$3:$E$1201,0)+COUNTIF($E$3:E153,E153)-1,\"\")","v":""}]
[null,"CTCA3<XBSP>","CTCA3",null,"",{"$f":"IFERROR(RANK(E154,$E$3:$E$1201,0)+COUNTIF($E$3:E154,E154)-1,\"\")","v":""}]
[null,"CURY3<XBSP>","CURY3",433044143.69999999,433044143.69999999,{"$f":"IFERROR(RANK(E155,$E$3:$E$1201,0)+COUNTIF($E$3:E155,E155)-1,\"\")","v":67}]
[null,"CVCB3<XBSP>","CVCB3",142228228.33000001,142228228.33000001,{"$f":"IFERROR(RANK(E156,$E$3:$E$1201,0)+COUNTIF($E$3:E156,E156)-1,\"\")","v":104}]
[null,"CYRE3<XBSP>","CYRE3",643312076.37,643312076.37,{"$f":"IFERROR(RANK(E157,$E$3:$E$1201,0)+COUNTIF($E$3:E157,E157)-1,\"\")","v":45}]
[null,"DMVF3<XBSP>","DMVF3",50475.199999999997,"",{"$f":"IFERROR(RANK(E158,$E$3:$E$1201,0)+COUNTIF($E$3:E158,E158)-1,\"\")","v":""}]
[null,"DASA3<XBSP>","DASA3",26656526.719999999,26656526.719999999,{"$f":"IFERROR(RANK(E159,$E$3:$E$1201,0)+COUNTIF($E$3:E159,E159)-1,\"\")","v":159}]
[null,"DESK3<XBSP>","DESK3",5684318.1100000003,5684318.1100000003,{"$f":"IFERROR(RANK(E160,$E$3:$E$1201,0)+COUNTIF($E$3:E160,E160)-1,\"\")","v":204}]
[null,"DXCO3<XBSP>","DXCO3",257033813.65000001,257033813.65000001,{"$f":"IFERROR(RANK(E161,$E$3:$E$1201,0)+COUNTIF($E$3:E161,E161)-1,\"\")","v":88}]
[null,"DEXP3<XBSP>","DEXP3",722624.3,"",{"$f":"IFERROR(RANK(E162,$E$3:$E$1201,0)+COUNTIF($E$3:E162,E162)-1,\"\")","v":""}]
[null,"DEXP4<XBSP>","DEXP4",null,"",{"$f":"IFERROR(RANK(E163,$E$3:$E$1201,0)+COUNTIF($E$3:E163,E163)-1,\"\")","v":""}]
[null,"PNVL3<XBSP>","PNVL3",19942067.550000001,19942067.550000001,{"$f":"IFERROR(RANK(E164,$E$3:$E$1201,0)+COUNTIF($E$3:E164,E164)-1,\"\")","v":167}]
[null,"DIRR3<XBSP>","DIRR3",237049687.88,237049687.88,{"$f":"IFERROR(RANK(E165,$E$3:$E$1201,0)+COUNTIF($E$3:E165,E165)-1,\"\")","v":95}]
[null,"DMFN3<XBSP>","DMFN3",null,"",{"$f":"IFERROR(RANK(E166,$E$3:$E$1201,0)+COUNTIF($E$3:E166,E166)-1,\"\")","v":""}]
[null,"DOHL3<XBSP>","DOHL3",null,"",{"$f":"IFERROR(RANK(E167,$E$3:$E$1201,0)+COUNTIF($E$3:E167,E167)-1,\"\")","v":""}]
[null,"DOHL4<XBSP>","DOHL4",null,"",{"$f":"IFERROR(RANK(E168,$E$3:$E$1201,0)+COUNTIF($E$3:E168,E168)-1,\"\")","v":""}]
[null,"DOTZ3<XBSP>","DOTZ3",64463.58,"",{"$f":"IFERROR(RANK(E169,$E$3:$E$1201,0)+COUNTIF($E$3:E169,E169)-1,\"\")","v":""}]
[null,"DTCY3<XBSP>","DTCY3",null,"",{"$f":"IFERROR(RANK(E170,$E$3:$E$1201,0)+COUNTIF($E$3:E170,E170)-1,\"\")","v":""}]
[null,"DTCY4<XBSP>","DTCY4",null,"",{"$f":"IFERROR(RANK(E171,$E$3:$E$1201,0)+COUNTIF($E$3:E171,E171)-1,\"\")","v":""}]
[null,"ECOR3<XBSP>","ECOR3",96073114.810000002,96073114.810000002,{"$f":"IFERROR(RANK(E172,$E$3:$E$1201,0)+COUNTIF($E$3:E172,E172)-1,\"\")","v":114}]
[null,"EKTR3<XBSP>","EKTR3",null,"",{"$f":"IFERROR(RANK(E173,$E$3:$E$1201,0)+COUNTIF($E$3:E173,E173)-1,\"\")","v":""}]
[null,"EKTR4<XBSP>","EKTR4",null,"",{"$f":"IFERROR(RANK(E174,$E$3:$E$1201,0)+COUNTIF($E$3:E174,E174)-1,\"\")","v":""}]
[null,"ELET3<XBSP>","ELET3",2170998827.5,2170998827.5,{"$f":"IFERROR(RANK(E175,$E$3:$E$1201,0)+COUNTIF($E$3:E175,E175)-1,\"\")","v":12}]
[null,"ELET5<XBSP>","ELET5",null,"",{"$f":"IFERROR(RANK(E176,$E$3:$E$1201,0)+COUNTIF($E$3:E176,E176)-1,\"\")","v":""}]
[null,"ELET6<XBSP>","ELET6",522272480.10000002,522272480.10000002,{"$f":"IFERROR(RANK(E177,$E$3:$E$1201,0)+COUNTIF($E$3:E177,E177)-1,\"\")","v":55}]
[null,"ELMD3<XBSP>","ELMD3",4126730.84,4126730.84,{"$f":"IFERROR(RANK(E178,$E$3:$E$1201,0)+COUNTIF($E$3:E178,E178)-1,\"\")","v":215}]
[null,"LIPR3<XBSP>","LIPR3",null,"",{"$f":"IFERROR(RANK(E179,$E$3:$E$1201,0)+COUNTIF($E$3:E179,E179)-1,\"\")","v":""}]
[null,"EMAE3<XBSP>","EMAE3",null,"",{"$f":"IFERROR(RANK(E180,$E$3:$E$1201,0)+COUNTIF($E$3:E180,E180)-1,\"\")","v":""}]
[null,"EMAE4<XBSP>","EMAE4",12657,"",{"$f":"IFERROR(RANK(E181,$E$3:$E$1201,0)+COUNTIF($E$3:E181,E181)-1,\"\")","v":""}]
[null,"EPAR3<XBSP>","EPAR3",12825.51,"",{"$f":"IFERROR(RANK(E182,$E$3:$E$1201,0)+COUNTIF($E$3:E182,E182)-1,\"\")","v":""}]
[null,"EMBR3<XBSP>","EMBR3",2075830268.4000001,2075830268.4000001,{"$f":"IFERROR(RANK(E183,$E$3:$E$1201,0)+COUNTIF($E$3:E183,E183)-1,\"\")","v":13}]
[null,"ENBR3<XBSP>","ENBR3",null,"",{"$f":"IFERROR(RANK(E184,$E$3:$E$1201,0)+COUNTIF($E$3:E184,E184)-1,\"\")","v":""}]
[null,"ENGI3<XBSP>","ENGI3",70174.95,"",{"$f":"IFERROR(RANK(E185,$E$3:$E$1201,0)+COUNTIF($E$3:E185,E185)-1,\"\")","v":""}]
[null,"ENGI4<XBSP>","ENGI4",28144.29,"",{"$f":"IFERROR(RANK(E186,$E$3:$E$1201,0)+COUNTIF($E$3:E186,E186)-1,\"\")","v":""}]
[null,"ENGI11<XBSP>","ENGI11",299293787.44,299293787.44,{"$f":"IFERROR(RANK(E187,$E$3:$E$1201,0)+COUNTIF($E$3:E187,E187)-1,\"\")","v":81}]
[null,"ENMT3<XBSP>","ENMT3",null,"",{"$f":"IFERROR(RANK(E188,$E$3:$E$1201,0)+COUNTIF($E$3:E188,E188)-1,\"\")","v":""}]
[null,"ENMT4<XBSP>","ENMT4",null,"",{"$f":"IFERROR(RANK(E189,$E$3:$E$1201,0)+COUNTIF($E$3:E189,E189)-1,\"\")","v":""}]
[null,"ENEV3<XBSP>","ENEV3",598881464.13,598881464.13,{"$f":"IFERROR(RANK(E190,$E$3:$E$1201,0)+COUNTIF($E$3:E190,E190)-1,\"\")","v":51}]
[null,"EGIE3<XBSP>","EGIE3",1298687763.4000001,1298687763.4000001,{"$f":"IFERROR(RANK(E191,$E$3:$E$1201,0)+COUNTIF($E$3:E191,E191)-1,\"\")","v":23}]
[null,"ENJU3<XBSP>","ENJU3",5462107.9500000002,5462107.9500000002,{"$f":"IFERROR(RANK(E192,$E$3:$E$1201,0)+COUNTIF($E$3:E192,E192)-1,\"\")","v":207}]
[null,"EQMA3B<XBSP>","EQMA3B",null,"",{"$f":"IFERROR(RANK(E193,$E$3:$E$1201,0)+COUNTIF($E$3:E193,E193)-1,\"\")","v":""}]
[null,"EQMA5B<XBSP>","EQMA5B",null,"",{"$f":"IFERROR(RANK(E194,$E$3:$E$1201,0)+COUNTIF($E$3:E194,E194)-1,\"\")","v":""}]
[null,"EQMA6B<XBSP>","EQMA6B",null,"",{"$f":"IFERROR(RANK(E195,$E$3:$E$1201,0)+COUNTIF($E$3:E195,E195)-1,\"\")","v":""}]
[null,"EQPA3<XBSP>","EQPA3",10516.56,{"$f":"IF(AND(D196>1000000,B196<>\"SUZB5+SUZB3<XBSP>\"),D196,\"\")","v":""},{"$f":"IFERROR(RANK(E196,$E$3:$E$1201,0)+COUNTIF($E$3:E196,E196)-1,\"\")","v":""}]
[null,"EQPA5<XBSP>","EQPA5",null,"",{"$f":"IFERROR(RANK(E197,$E$3:$E$1201,0)+COUNTIF($E$3:E197,E197)-1,\"\")","v":""}]
[null,"EQPA6<XBSP>","EQPA6",null,"",{"$f":"IFERROR(RANK(E198,$E$3:$E$1201,0)+COUNTIF($E$3:E198,E198)-1,\"\")","v":""}]
[null,"EQPA7<XBSP>","EQPA7",null,"",{"$f":"IFERROR(RANK(E199,$E$3:$E$1201,0)+COUNTIF($E$3:E199,E199)-1,\"\")","v":""}]
[null,"EQTL3<XBSP>","EQTL3",1187664102.9000001,1187664102.9000001,{"$f":"IFERROR(RANK(E200,$E$3:$E$1201,0)+COUNTIF($E$3:E200,E200)-1,\"\")","v":25}]
[null,"ESPA3<XBSP>","ESPA3",2685592.32,2685592.32,{"$f":"IFERROR(RANK(E201,$E$3:$E$1201,0)+COUNTIF($E$3:E201,E201)-1,\"\")","v":231}]
[null,"ALPK3<XBSP>","ALPK3",2231298.91,2231298.91,{"$f":"IFERROR(RANK(E202,$E$3:$E$1201,0)+COUNTIF($E$3:E202,E202)-1,\"\")","v":237}]
[null,"ESTR3<XBSP>","ESTR3",null,"",{"$f":"IFERROR(RANK(E203,$E$3:$E$1201,0)+COUNTIF($E$3:E203,E203)-1,\"\")","v":""}]
[null,"ESTR4<XBSP>","ESTR4",20472,"",{"$f":"IFERROR(RANK(E204,$E$3:$E$1201,0)+COUNTIF($E$3:E204,E204)-1,\"\")","v":""}]
[null,"ETER3<XBSP>","ETER3",8925821.4399999995,8925821.4399999995,{"$f":"IFERROR(RANK(E205,$E$3:$E$1201,0)+COUNTIF($E$3:E205,E205)-1,\"\")","v":188}]
[null,"EUCA3<XBSP>","EUCA3",72965,"",{"$f":"IFERROR(RANK(E206,$E$3:$E$1201,0)+COUNTIF($E$3:E206,E206)-1,\"\")","v":""}]
[null,"EUCA4<XBSP>","EUCA4",656314.93999999994,"",{"$f":"IFERROR(RANK(E207,$E$3:$E$1201,0)+COUNTIF($E$3:E207,E207)-1,\"\")","v":""}]
[null,"EUFA3<XBSP>","EUFA3",null,"",{"$f":"IFERROR(RANK(E208,$E$3:$E$1201,0)+COUNTIF($E$3:E208,E208)-1,\"\")","v":""}]
[null,"EVEN3<XBSP>","EVEN3",30295179.25,30295179.25,{"$f":"IFERROR(RANK(E209,$E$3:$E$1201,0)+COUNTIF($E$3:E209,E209)-1,\"\")","v":153}]
[null,"BAUH3<XBSP>","BAUH3",null,"",{"$f":"IFERROR(RANK(E210,$E$3:$E$1201,0)+COUNTIF($E$3:E210,E210)-1,\"\")","v":""}]
[null,"BAUH4<XBSP>","BAUH4",null,"",{"$f":"IFERROR(RANK(E211,$E$3:$E$1201,0)+COUNTIF($E$3:E211,E211)-1,\"\")","v":""}]
[null,"EZTC3<XBSP>","EZTC3",331208110.76999998,331208110.76999998,{"$f":"IFERROR(RANK(E212,$E$3:$E$1201,0)+COUNTIF($E$3:E212,E212)-1,\"\")","v":78}]
[null,"FHER3<XBSP>","FHER3",151548.03,"",{"$f":"IFERROR(RANK(E213,$E$3:$E$1201,0)+COUNTIF($E$3:E213,E213)-1,\"\")","v":""}]
[null,"FESA3<XBSP>","FESA3",1352,"",{"$f":"IFERROR(RANK(E214,$E$3:$E$1201,0)+COUNTIF($E$3:E214,E214)-1,\"\")","v":""}]
[null,"FESA4<XBSP>","FESA4",36822440.299999997,36822440.299999997,{"$f":"IFERROR(RANK(E215,$E$3:$E$1201,0)+COUNTIF($E$3:E215,E215)-1,\"\")","v":140}]
[null,"FIEI3<XBSP>","FIEI3",null,"",{"$f":"IFERROR(RANK(E216,$E$3:$E$1201,0)+COUNTIF($E$3:E216,E216)-1,\"\")","v":""}]
[null,"FLRY3<XBSP>","FLRY3",331769715.19999999,331769715.19999999,{"$f":"IFERROR(RANK(E217,$E$3:$E$1201,0)+COUNTIF($E$3:E217,E217)-1,\"\")","v":77}]
[null,"FRAS3<XBSP>","FRAS3",18828839.07,18828839.07,{"$f":"IFERROR(RANK(E218,$E$3:$E$1201,0)+COUNTIF($E$3:E218,E218)-1,\"\")","v":171}]
[null,"G2DI33<XBSP>","G2DI33",null,"",{"$f":"IFERROR(RANK(E219,$E$3:$E$1201,0)+COUNTIF($E$3:E219,E219)-1,\"\")","v":""}]
[null,"GFSA3<XBSP>","GFSA3",23371426.510000002,23371426.510000002,{"$f":"IFERROR(RANK(E220,$E$3:$E$1201,0)+COUNTIF($E$3:E220,E220)-1,\"\")","v":161}]
[null,"OPGM3<XBSP>","OPGM3",null,"",{"$f":"IFERROR(RANK(E221,$E$3:$E$1201,0)+COUNTIF($E$3:E221,E221)-1,\"\")","v":""}]
[null,"GSHP3<XBSP>","GSHP3",24108.99,"",{"$f":"IFERROR(RANK(E222,$E$3:$E$1201,0)+COUNTIF($E$3:E222,E222)-1,\"\")","v":""}]
[null,"GEPA3<XBSP>","GEPA3",null,"",{"$f":"IFERROR(RANK(E223,$E$3:$E$1201,0)+COUNTIF($E$3:E223,E223)-1,\"\")","v":""}]
[null,"GEPA4<XBSP>","GEPA4",null,"",{"$f":"IFERROR(RANK(E224,$E$3:$E$1201,0)+COUNTIF($E$3:E224,E224)-1,\"\")","v":""}]
[null,"GGBR3<XBSP>","GGBR3",3240655.53,3240655.53,{"$f":"IFERROR(RANK(E225,$E$3:$E$1201,0)+COUNTIF($E$3:E225,E225)-1,\"\")","v":224}]
[null,"GGBR4<XBSP>","GGBR4",1152525123,1152525123,{"$f":"IFERROR(RANK(E226,$E$3:$E$1201,0)+COUNTIF($E$3:E226,E226)-1,\"\")","v":26}]
[null,"GOAU3<XBSP>","GOAU3",2169990.06,2169990.06,{"$f":"IFERROR(RANK(E227,$E$3:$E$1201,0)+COUNTIF($E$3:E227,E227)-1,\"\")","v":241}]
[null,"GOAU4<XBSP>","GOAU4",137600838.02000001,137600838.02000001,{"$f":"IFERROR(RANK(E228,$E$3:$E$1201,0)+COUNTIF($E$3:E228,E228)-1,\"\")","v":105}]
[null,"NINJ3<XBSP>","NINJ3",680241.43,"",{"$f":"IFERROR(RANK(E229,$E$3:$E$1201,0)+COUNTIF($E$3:E229,E229)-1,\"\")","v":""}]
[null,"GOLL3<XBSP>","GOLL3",null,"",{"$f":"IFERROR(RANK(E230,$E$3:$E$1201,0)+COUNTIF($E$3:E230,E230)-1,\"\")","v":""}]
[null,"GOLL4<XBSP>","GOLL4",38710057.200000003,38710057.200000003,{"$f":"IFERROR(RANK(E231,$E$3:$E$1201,0)+COUNTIF($E$3:E231,E231)-1,\"\")","v":136}]
[null,"GPIV33<XBSP>","GPIV33",66766.87,"",{"$f":"IFERROR(RANK(E232,$E$3:$E$1201,0)+COUNTIF($E$3:E232,E232)-1,\"\")","v":""}]
[null,"GGPS3<XBSP>","GGPS3",303853298.02999997,303853298.02999997,{"$f":"IFERROR(RANK(E233,$E$3:$E$1201,0)+COUNTIF($E$3:E233,E233)-1,\"\")","v":80}]
[null,"EGGY3<XBSP>","EGGY3",null,"",{"$f":"IFERROR(RANK(E234,$E$3:$E$1201,0)+COUNTIF($E$3:E234,E234)-1,\"\")","v":""}]
[null,"CGRA3<XBSP>","CGRA3",null,"",{"$f":"IFERROR(RANK(E235,$E$3:$E$1201,0)+COUNTIF($E$3:E235,E235)-1,\"\")","v":""}]
[null,"CGRA4<XBSP>","CGRA4",25.93,"",{"$f":"IFERROR(RANK(E236,$E$3:$E$1201,0)+COUNTIF($E$3:E236,E236)-1,\"\")","v":""}]
[null,"GRND3<XBSP>","GRND3",20769713.059999999,20769713.059999999,{"$f":"IFERROR(RANK(E237,$E$3:$E$1201,0)+COUNTIF($E$3:E237,E237)-1,\"\")","v":166}]
[null,"GMAT3<XBSP>","GMAT3",506504837.23000002,506504837.23000002,{"$f":"IFERROR(RANK(E238,$E$3:$E$1201,0)+COUNTIF($E$3:E238,E238)-1,\"\")","v":57}]
[null,"NTCO3<XBSP>","NTCO3",1094995535.3,1094995535.3,{"$f":"IFERROR(RANK(E239,$E$3:$E$1201,0)+COUNTIF($E$3:E239,E239)-1,\"\")","v":28}]
[null,"SBFG3<XBSP>","SBFG3",73071315.450000003,73071315.450000003,{"$f":"IFERROR(RANK(E240,$E$3:$E$1201,0)+COUNTIF($E$3:E240,E240)-1,\"\")","v":125}]
[null,"GUAR3<XBSP>","GUAR3",22178291.600000001,22178291.600000001,{"$f":"IFERROR(RANK(E241,$E$3:$E$1201,0)+COUNTIF($E$3:E241,E241)-1,\"\")","v":163}]
[null,"HBTS3<XBSP>","HBTS3",null,"",{"$f":"IFERROR(RANK(E242,$E$3:$E$1201,0)+COUNTIF($E$3:E242,E242)-1,\"\")","v":""}]
[null,"HBTS5<XBSP>","HBTS5",null,"",{"$f":"IFERROR(RANK(E243,$E$3:$E$1201,0)+COUNTIF($E$3:E243,E243)-1,\"\")","v":""}]
[null,"HBTS6<XBSP>","HBTS6",null,"",{"$f":"IFERROR(RANK(E244,$E$3:$E$1201,0)+COUNTIF($E$3:E244,E244)-1,\"\")","v":""}]
[null,"HAGA3<XBSP>","HAGA3",null,"",{"$f":"IFERROR(RANK(E245,$E$3:$E$1201,0)+COUNTIF($E$3:E245,E245)-1,\"\")","v":""}]
[null,"HAGA4<XBSP>","HAGA4",14679.58,"",{"$f":"IFERROR(RANK(E246,$E$3:$E$1201,0)+COUNTIF($E$3:E246,E246)-1,\"\")","v":""}]
[null,"HAPV3<XBSP>","HAPV3",582777418.90999997,582777418.90999997,{"$f":"IFERROR(RANK(E247,$E$3:$E$1201,0)+COUNTIF($E$3:E247,E247)-1,\"\")","v":52}]
[null,"HBRE3<XBSP>","HBRE3",2856564.28,2856564.28,{"$f":"IFERROR(RANK(E248,$E$3:$E$1201,0)+COUNTIF($E$3:E248,E248)-1,\"\")","v":227}]
[null,"HBOR3<XBSP>","HBOR3",7434677.2800000003,7434677.2800000003,{"$f":"IFERROR(RANK(E249,$E$3:$E$1201,0)+COUNTIF($E$3:E249,E249)-1,\"\")","v":194}]
[null,"HETA3<XBSP>","HETA3",null,"",{"$f":"IFERROR(RANK(E250,$E$3:$E$1201,0)+COUNTIF($E$3:E250,E250)-1,\"\")","v":""}]
[null,"HETA4<XBSP>","HETA4",null,"",{"$f":"IFERROR(RANK(E251,$E$3:$E$1201,0)+COUNTIF($E$3:E251,E251)-1,\"\")","v":""}]
[null,"HBSA3<XBSP>","HBSA3",100388299.23999999,100388299.23999999,{"$f":"IFERROR(RANK(E252,$E$3:$E$1201,0)+COUNTIF($E$3:E252,E252)-1,\"\")","v":113}]
[null,"HMOB3<XBSP>","HMOB3",null,"",{"$f":"IFERROR(RANK(E253,$E$3:$E$1201,0)+COUNTIF($E$3:E253,E253)-1,\"\")","v":""}]
[null,"HOOT3<XBSP>","HOOT3",null,"",{"$f":"IFERROR(RANK(E254,$E$3:$E$1201,0)+COUNTIF($E$3:E254,E254)-1,\"\")","v":""}]
[null,"HOOT4<XBSP>","HOOT4",null,"",{"$f":"IFERROR(RANK(E255,$E$3:$E$1201,0)+COUNTIF($E$3:E255,E255)-1,\"\")","v":""}]
[null,"HYPE3<XBSP>","HYPE3",427063190.81,427063190.81,{"$f":"IFERROR(RANK(E256,$E$3:$E$1201,0)+COUNTIF($E$3:E256,E256)-1,\"\")","v":68}]
[null,"IGSN3<XBSP>","IGSN3",null,"",{"$f":"IFERROR(RANK(E257,$E$3:$E$1201,0)+COUNTIF($E$3:E257,E257)-1,\"\")","v":""}]
[null,"IGTI3<XBSP>","IGTI3",1078156.72,1078156.72,{"$f":"IFERROR(RANK(E258,$E$3:$E$1201,0)+COUNTIF($E$3:E258,E258)-1,\"\")","v":260}]
[null,"IGTI4<XBSP>","IGTI4",19115.72,"",{"$f":"IFERROR(RANK(E259,$E$3:$E$1201,0)+COUNTIF($E$3:E259,E259)-1,\"\")","v":""}]
[null,"IGTI11<XBSP>","IGTI11",463229817.56,{"$f":"IF(AND(D260>1000000,B260<>\"SUZB5+SUZB3<XBSP>\"),D260,\"\")","v":463229817.56},{"$f":"IFERROR(RANK(E260,$E$3:$E$1201,0)+COUNTIF($E$3:E260,E260)-1,\"\")","v":63}]
[null,"MEAL3<XBSP>","MEAL3",2343353.79,2343353.79,{"$f":"IFERROR(RANK(E261,$E$3:$E$1201,0)+COUNTIF($E$3:E261,E261)-1,\"\")","v":235}]
[null,"INNC3<XBSP>","INNC3",null,"",{"$f":"IFERROR(RANK(E262,$E$3:$E$1201,0)+COUNTIF($E$3:E262,E262)-1,\"\")","v":""}]
[null,"CATA3<XBSP>","CATA3",null,"",{"$f":"IFERROR(RANK(E263,$E$3:$E$1201,0)+COUNTIF($E$3:E263,E263)-1,\"\")","v":""}]
[null,"CATA4<XBSP>","CATA4",null,"",{"$f":"IFERROR(RANK(E264,$E$3:$E$1201,0)+COUNTIF($E$3:E264,E264)-1,\"\")","v":""}]
[null,"INEP3<XBSP>","INEP3",121977.74,"",{"$f":"IFERROR(RANK(E265,$E$3:$E$1201,0)+COUNTIF($E$3:E265,E265)-1,\"\")","v":""}]
[null,"INEP4<XBSP>","INEP4",93103.74,"",{"$f":"IFERROR(RANK(E266,$E$3:$E$1201,0)+COUNTIF($E$3:E266,E266)-1,\"\")","v":""}]
[null,"IFCM3<XBSP>","IFCM3",6424834.1100000003,6424834.1100000003,{"$f":"IFERROR(RANK(E267,$E$3:$E$1201,0)+COUNTIF($E$3:E267,E267)-1,\"\")","v":200}]
[null,"INTB3<XBSP>","INTB3",163594871.78999999,163594871.78999999,{"$f":"IFERROR(RANK(E268,$E$3:$E$1201,0)+COUNTIF($E$3:E268,E268)-1,\"\")","v":101}]
[null,"IVPR3B<XBSP>","IVPR3B",null,"",{"$f":"IFERROR(RANK(E269,$E$3:$E$1201,0)+COUNTIF($E$3:E269,E269)-1,\"\")","v":""}]
[null,"IVPR4B<XBSP>","IVPR4B",null,"",{"$f":"IFERROR(RANK(E270,$E$3:$E$1201,0)+COUNTIF($E$3:E270,E270)-1,\"\")","v":""}]
[null,"FIGE3<XBSP>","FIGE3",null,"",{"$f":"IFERROR(RANK(E271,$E$3:$E$1201,0)+COUNTIF($E$3:E271,E271)-1,\"\")","v":""}]
[null,"FIGE4<XBSP>","FIGE4",null,"",{"$f":"IFERROR(RANK(E272,$E$3:$E$1201,0)+COUNTIF($E$3:E272,E272)-1,\"\")","v":""}]
[null,"MYPK3<XBSP>","MYPK3",54018958.240000002,54018958.240000002,{"$f":"IFERROR(RANK(E273,$E$3:$E$1201,0)+COUNTIF($E$3:E273,E273)-1,\"\")","v":130}]
[null,"RANI3<XBSP>","RANI3",19478337.75,19478337.75,{"$f":"IFERROR(RANK(E274,$E$3:$E$1201,0)+COUNTIF($E$3:E274,E274)-1,\"\")","v":169}]
[null,"IRBR3<XBSP>","IRBR3",265730213.05000001,265730213.05000001,{"$f":"IFERROR(RANK(E275,$E$3:$E$1201,0)+COUNTIF($E$3:E275,E275)-1,\"\")","v":87}]
[null,"ITSA3<XBSP>","ITSA3",12782474.310000001,12782474.310000001,{"$f":"IFERROR(RANK(E276,$E$3:$E$1201,0)+COUNTIF($E$3:E276,E276)-1,\"\")","v":177}]
[null,"ITSA4<XBSP>","ITSA4",1105795991.0999999,1105795991.0999999,{"$f":"IFERROR(RANK(E277,$E$3:$E$1201,0)+COUNTIF($E$3:E277,E277)-1,\"\")","v":27}]
[null,"ITUB3<XBSP>","ITUB3",83519335.280000001,83519335.280000001,{"$f":"IFERROR(RANK(E278,$E$3:$E$1201,0)+COUNTIF($E$3:E278,E278)-1,\"\")","v":118}]
[null,"ITUB4<XBSP>","ITUB4",6722521214.6000004,6722521214.6000004,{"$f":"IFERROR(RANK(E279,$E$3:$E$1201,0)+COUNTIF($E$3:E279,E279)-1,\"\")","v":3}]
[null,"JALL3<XBSP>","JALL3",18520218.91,18520218.91,{"$f":"IFERROR(RANK(E280,$E$3:$E$1201,0)+COUNTIF($E$3:E280,E280)-1,\"\")","v":172}]
[null,"JBSS3<XBSP>","JBSS3",923141520.62,923141520.62,{"$f":"IFERROR(RANK(E281,$E$3:$E$1201,0)+COUNTIF($E$3:E281,E281)-1,\"\")","v":33}]
[null,"JHSF3<XBSP>","JHSF3",75844534.409999996,75844534.409999996,{"$f":"IFERROR(RANK(E282,$E$3:$E$1201,0)+COUNTIF($E$3:E282,E282)-1,\"\")","v":123}]
[null,"JFEN3<XBSP>","JFEN3",268499.84000000003,"",{"$f":"IFERROR(RANK(E283,$E$3:$E$1201,0)+COUNTIF($E$3:E283,E283)-1,\"\")","v":""}]
[null,"JOPA3<XBSP>","JOPA3",null,"",{"$f":"IFERROR(RANK(E284,$E$3:$E$1201,0)+COUNTIF($E$3:E284,E284)-1,\"\")","v":""}]
[null,"JOPA4<XBSP>","JOPA4",null,"",{"$f":"IFERROR(RANK(E285,$E$3:$E$1201,0)+COUNTIF($E$3:E285,E285)-1,\"\")","v":""}]
[null,"JSLG3<XBSP>","JSLG3",7172195.96,7172195.96,{"$f":"IFERROR(RANK(E286,$E$3:$E$1201,0)+COUNTIF($E$3:E286,E286)-1,\"\")","v":197}]
[null,"KLAS3<XBSP>","KLAS3",null,"",{"$f":"IFERROR(RANK(E287,$E$3:$E$1201,0)+COUNTIF($E$3:E287,E287)-1,\"\")","v":""}]
[null,"CTKA3<XBSP>","CTKA3",null,"",{"$f":"IFERROR(RANK(E288,$E$3:$E$1201,0)+COUNTIF($E$3:E288,E288)-1,\"\")","v":""}]
[null,"CTKA4<XBSP>","CTKA4",192.72,"",{"$f":"IFERROR(RANK(E289,$E$3:$E$1201,0)+COUNTIF($E$3:E289,E289)-1,\"\")","v":""}]
[null,"KEPL3<XBSP>","KEPL3",28162967.559999999,28162967.559999999,{"$f":"IFERROR(RANK(E290,$E$3:$E$1201,0)+COUNTIF($E$3:E290,E290)-1,\"\")","v":156}]
[null,"KLBN3<XBSP>","KLBN3",1073536.24,1073536.24,{"$f":"IFERROR(RANK(E291,$E$3:$E$1201,0)+COUNTIF($E$3:E291,E291)-1,\"\")","v":261}]
[null,"KLBN4<XBSP>","KLBN4",5627606.0800000001,5627606.0800000001,{"$f":"IFERROR(RANK(E292,$E$3:$E$1201,0)+COUNTIF($E$3:E292,E292)-1,\"\")","v":205}]
[null,"KLBN11<XBSP>","KLBN11",662563798.75,662563798.75,{"$f":"IFERROR(RANK(E293,$E$3:$E$1201,0)+COUNTIF($E$3:E293,E293)-1,\"\")","v":43}]
[null,"KRSA3<XBSP>","KRSA3",1157848.99,1157848.99,{"$f":"IFERROR(RANK(E294,$E$3:$E$1201,0)+COUNTIF($E$3:E294,E294)-1,\"\")","v":259}]
[null,"LAVV3<XBSP>","LAVV3",8495044.1699999999,8495044.1699999999,{"$f":"IFERROR(RANK(E295,$E$3:$E$1201,0)+COUNTIF($E$3:E295,E295)-1,\"\")","v":192}]
[null,"LLBI3<XBSP>","LLBI3",null,"",{"$f":"IFERROR(RANK(E296,$E$3:$E$1201,0)+COUNTIF($E$3:E296,E296)-1,\"\")","v":""}]
[null,"LMED3<XBSP>","LMED3",null,"",{"$f":"IFERROR(RANK(E297,$E$3:$E$1201,0)+COUNTIF($E$3:E297,E297)-1,\"\")","v":""}]
[null,"LIGT3<XBSP>","LIGT3",100749307.22,100749307.22,{"$f":"IFERROR(RANK(E298,$E$3:$E$1201,0)+COUNTIF($E$3:E298,E298)-1,\"\")","v":112}]
[null,"LTEL3B<XBSP>","LTEL3B",null,"",{"$f":"IFERROR(RANK(E299,$E$3:$E$1201,0)+COUNTIF($E$3:E299,E299)-1,\"\")","v":""}]
[null,"LTLA3B<XBSP>","LTLA3B",null,"",{"$f":"IFERROR(RANK(E300,$E$3:$E$1201,0)+COUNTIF($E$3:E300,E300)-1,\"\")","v":""}]
[null,"RENT3<XBSP>","RENT3",2704625524.5999999,2704625524.5999999,{"$f":"IFERROR(RANK(E301,$E$3:$E$1201,0)+COUNTIF($E$3:E301,E301)-1,\"\")","v":9}]
[null,"LOGG3<XBSP>","LOGG3",26759033.989999998,26759033.989999998,{"$f":"IFERROR(RANK(E302,$E$3:$E$1201,0)+COUNTIF($E$3:E302,E302)-1,\"\")","v":158}]
[null,"LOGN3<XBSP>","LOGN3",6619745.0499999998,6619745.0499999998,{"$f":"IFERROR(RANK(E303,$E$3:$E$1201,0)+COUNTIF($E$3:E303,E303)-1,\"\")","v":199}]
[null,"AMAR3<XBSP>","AMAR3",3841613.48,3841613.48,{"$f":"IFERROR(RANK(E304,$E$3:$E$1201,0)+COUNTIF($E$3:E304,E304)-1,\"\")","v":217}]
[null,"LREN3<XBSP>","LREN3",609499474.49000001,609499474.49000001,{"$f":"IFERROR(RANK(E305,$E$3:$E$1201,0)+COUNTIF($E$3:E305,E305)-1,\"\")","v":49}]
[null,"LPSB3<XBSP>","LPSB3",382151.22,"",{"$f":"IFERROR(RANK(E306,$E$3:$E$1201,0)+COUNTIF($E$3:E306,E306)-1,\"\")","v":""}]
[null,"LUPA3<XBSP>","LUPA3",1422315.3,1422315.3,{"$f":"IFERROR(RANK(E307,$E$3:$E$1201,0)+COUNTIF($E$3:E307,E307)-1,\"\")","v":253}]
[null,"LWSA3<XBSP>","LWSA3",171176007.69,171176007.69,{"$f":"IFERROR(RANK(E308,$E$3:$E$1201,0)+COUNTIF($E$3:E308,E308)-1,\"\")","v":100}]
[null,"MDIA3<XBSP>","MDIA3",195021485.30000001,195021485.30000001,{"$f":"IFERROR(RANK(E309,$E$3:$E$1201,0)+COUNTIF($E$3:E309,E309)-1,\"\")","v":97}]
[null,"MSRO3<XBSP>","MSRO3",null,"",{"$f":"IFERROR(RANK(E310,$E$3:$E$1201,0)+COUNTIF($E$3:E310,E310)-1,\"\")","v":""}]
[null,"MGLU3<XBSP>","MGLU3",439657048.70999998,439657048.70999998,{"$f":"IFERROR(RANK(E311,$E$3:$E$1201,0)+COUNTIF($E$3:E311,E311)-1,\"\")","v":66}]
[null,"MGEL3<XBSP>","MGEL3",null,"",{"$f":"IFERROR(RANK(E312,$E$3:$E$1201,0)+COUNTIF($E$3:E312,E312)-1,\"\")","v":""}]
[null,"MGEL4<XBSP>","MGEL4",108,"",{"$f":"IFERROR(RANK(E313,$E$3:$E$1201,0)+COUNTIF($E$3:E313,E313)-1,\"\")","v":""}]
[null,"POMO3<XBSP>","POMO3",1404164.86,1404164.86,{"$f":"IFERROR(RANK(E314,$E$3:$E$1201,0)+COUNTIF($E$3:E314,E314)-1,\"\")","v":255}]
[null,"POMO4<XBSP>","POMO4",68109811.392000005,68109811.392000005,{"$f":"IFERROR(RANK(E315,$E$3:$E$1201,0)+COUNTIF($E$3:E315,E315)-1,\"\")","v":126}]
[null,"MRFG3<XBSP>","MRFG3",241775814.19,241775814.19,{"$f":"IFERROR(RANK(E316,$E$3:$E$1201,0)+COUNTIF($E$3:E316,E316)-1,\"\")","v":93}]
[null,"MATD3<XBSP>","MATD3",9409547.9900000002,9409547.9900000002,{"$f":"IFERROR(RANK(E317,$E$3:$E$1201,0)+COUNTIF($E$3:E317,E317)-1,\"\")","v":187}]
[null,"MSPA3<XBSP>","MSPA3",null,"",{"$f":"IFERROR(RANK(E318,$E$3:$E$1201,0)+COUNTIF($E$3:E318,E318)-1,\"\")","v":""}]
[null,"MSPA4<XBSP>","MSPA4",null,"",{"$f":"IFERROR(RANK(E319,$E$3:$E$1201,0)+COUNTIF($E$3:E319,E319)-1,\"\")","v":""}]
[null,"CASH3<XBSP>","CASH3",33084456.710000001,33084456.710000001,{"$f":"IFERROR(RANK(E320,$E$3:$E$1201,0)+COUNTIF($E$3:E320,E320)-1,\"\")","v":146}]
[null,"MELK3<XBSP>","MELK3",1261352.4099999999,1261352.4099999999,{"$f":"IFERROR(RANK(E321,$E$3:$E$1201,0)+COUNTIF($E$3:E321,E321)-1,\"\")","v":257}]
[null,"MNZC3<XBSP>","MNZC3",null,"",{"$f":"IFERROR(RANK(E322,$E$3:$E$1201,0)+COUNTIF($E$3:E322,E322)-1,\"\")","v":""}]
[null,"MERC3<XBSP>","MERC3",null,"",{"$f":"IFERROR(RANK(E323,$E$3:$E$1201,0)+COUNTIF($E$3:E323,E323)-1,\"\")","v":""}]
[null,"MERC4<XBSP>","MERC4",null,{"$f":"IF(AND(D324>1000000,B324<>\"SUZB5+SUZB3<XBSP>\"),D324,\"\")","v":""},{"$f":"IFERROR(RANK(E324,$E$3:$E$1201,0)+COUNTIF($E$3:E324,E324)-1,\"\")","v":""}]
[null,"BMIN3<XBSP>","BMIN3",null,"",{"$f":"IFERROR(RANK(E325,$E$3:$E$1201,0)+COUNTIF($E$3:E325,E325)-1,\"\")","v":""}]
[null,"BMIN4<XBSP>","BMIN4",155.5,"",{"$f":"IFERROR(RANK(E326,$E$3:$E$1201,0)+COUNTIF($E$3:E326,E326)-1,\"\")","v":""}]
[null,"BMEB3<XBSP>","BMEB3",15259.88,"",{"$f":"IFERROR(RANK(E327,$E$3:$E$1201,0)+COUNTIF($E$3:E327,E327)-1,\"\")","v":""}]
[null,"BMEB4<XBSP>","BMEB4",6151.5,"",{"$f":"IFERROR(RANK(E328,$E$3:$E$1201,0)+COUNTIF($E$3:E328,E328)-1,\"\")","v":""}]
[null,"LEVE3<XBSP>","LEVE3",113204505.81,113204505.81,{"$f":"IFERROR(RANK(E329,$E$3:$E$1201,0)+COUNTIF($E$3:E329,E329)-1,\"\")","v":109}]
[null,"FRIO3<XBSP>","FRIO3",542.32000000000005,"",{"$f":"IFERROR(RANK(E330,$E$3:$E$1201,0)+COUNTIF($E$3:E330,E330)-1,\"\")","v":""}]
[null,"MTSA3<XBSP>","MTSA3",null,"",{"$f":"IFERROR(RANK(E331,$E$3:$E$1201,0)+COUNTIF($E$3:E331,E331)-1,\"\")","v":""}]
[null,"MTSA4<XBSP>","MTSA4",88060,"",{"$f":"IFERROR(RANK(E332,$E$3:$E$1201,0)+COUNTIF($E$3:E332,E332)-1,\"\")","v":""}]
[null,"MILS3<XBSP>","MILS3",55094916.039999999,55094916.039999999,{"$f":"IFERROR(RANK(E333,$E$3:$E$1201,0)+COUNTIF($E$3:E333,E333)-1,\"\")","v":129}]
[null,"MMAQ3<XBSP>","MMAQ3",null,"",{"$f":"IFERROR(RANK(E334,$E$3:$E$1201,0)+COUNTIF($E$3:E334,E334)-1,\"\")","v":""}]
[null,"MMAQ4<XBSP>","MMAQ4",null,"",{"$f":"IFERROR(RANK(E335,$E$3:$E$1201,0)+COUNTIF($E$3:E335,E335)-1,\"\")","v":""}]
[null,"BEEF3<XBSP>","BEEF3",171453518.12,171453518.12,{"$f":"IFERROR(RANK(E336,$E$3:$E$1201,0)+COUNTIF($E$3:E336,E336)-1,\"\")","v":99}]
[null,"MNPR3<XBSP>","MNPR3",null,"",{"$f":"IFERROR(RANK(E337,$E$3:$E$1201,0)+COUNTIF($E$3:E337,E337)-1,\"\")","v":""}]
[null,"MTRE3<XBSP>","MTRE3",9514316.1999999993,9514316.1999999993,{"$f":"IFERROR(RANK(E338,$E$3:$E$1201,0)+COUNTIF($E$3:E338,E338)-1,\"\")","v":186}]
[null,"MBLY3<XBSP>","MBLY3",2143532.69,2143532.69,{"$f":"IFERROR(RANK(E339,$E$3:$E$1201,0)+COUNTIF($E$3:E339,E339)-1,\"\")","v":242}]
[null,"MOAR3<XBSP>","MOAR3",39787,"",{"$f":"IFERROR(RANK(E340,$E$3:$E$1201,0)+COUNTIF($E$3:E340,E340)-1,\"\")","v":""}]
[null,"MDNE3<XBSP>","MDNE3",3325627.5,3325627.5,{"$f":"IFERROR(RANK(E341,$E$3:$E$1201,0)+COUNTIF($E$3:E341,E341)-1,\"\")","v":222}]
[null,"MOVI3<XBSP>","MOVI3",180645676.19,180645676.19,{"$f":"IFERROR(RANK(E342,$E$3:$E$1201,0)+COUNTIF($E$3:E342,E342)-1,\"\")","v":98}]
[null,"MRSA3B<XBSP>","MRSA3B",null,"",{"$f":"IFERROR(RANK(E343,$E$3:$E$1201,0)+COUNTIF($E$3:E343,E343)-1,\"\")","v":""}]
[null,"MRSA5B<XBSP>","MRSA5B",null,"",{"$f":"IFERROR(RANK(E344,$E$3:$E$1201,0)+COUNTIF($E$3:E344,E344)-1,\"\")","v":""}]
[null,"MRSA6B<XBSP>","MRSA6B",null,"",{"$f":"IFERROR(RANK(E345,$E$3:$E$1201,0)+COUNTIF($E$3:E345,E345)-1,\"\")","v":""}]
[null,"MRVE3<XBSP>","MRVE3",564866135.45000005,564866135.45000005,{"$f":"IFERROR(RANK(E346,$E$3:$E$1201,0)+COUNTIF($E$3:E346,E346)-1,\"\")","v":53}]
[null,"MLAS3<XBSP>","MLAS3",35641588.380000003,35641588.380000003,{"$f":"IFERROR(RANK(E347,$E$3:$E$1201,0)+COUNTIF($E$3:E347,E347)-1,\"\")","v":142}]
[null,"MULT3<XBSP>","MULT3",832763010.78999996,832763010.78999996,{"$f":"IFERROR(RANK(E348,$E$3:$E$1201,0)+COUNTIF($E$3:E348,E348)-1,\"\")","v":36}]
[null,"MNDL3<XBSP>","MNDL3",null,"",{"$f":"IFERROR(RANK(E349,$E$3:$E$1201,0)+COUNTIF($E$3:E349,E349)-1,\"\")","v":""}]
[null,"NEOE3<XBSP>","NEOE3",39348813.759999998,39348813.759999998,{"$f":"IFERROR(RANK(E350,$E$3:$E$1201,0)+COUNTIF($E$3:E350,E350)-1,\"\")","v":135}]
[null,"NGRD3<XBSP>","NGRD3",1393873.76,1393873.76,{"$f":"IFERROR(RANK(E351,$E$3:$E$1201,0)+COUNTIF($E$3:E351,E351)-1,\"\")","v":256}]
[null,"NEXP3<XBSP>","NEXP3",77224.28,"",{"$f":"IFERROR(RANK(E352,$E$3:$E$1201,0)+COUNTIF($E$3:E352,E352)-1,\"\")","v":""}]
[null,"BNBR3<XBSP>","BNBR3",null,"",{"$f":"IFERROR(RANK(E353,$E$3:$E$1201,0)+COUNTIF($E$3:E353,E353)-1,\"\")","v":""}]
[null,"NORD3<XBSP>","NORD3",10120.66,"",{"$f":"IFERROR(RANK(E354,$E$3:$E$1201,0)+COUNTIF($E$3:E354,E354)-1,\"\")","v":""}]
[null,"NRTQ3<XBSP>","NRTQ3",null,"",{"$f":"IFERROR(RANK(E355,$E$3:$E$1201,0)+COUNTIF($E$3:E355,E355)-1,\"\")","v":""}]
[null,"NUTR3<XBSP>","NUTR3",960,"",{"$f":"IFERROR(RANK(E356,$E$3:$E$1201,0)+COUNTIF($E$3:E356,E356)-1,\"\")","v":""}]
[null,"OPCT3<XBSP>","OPCT3",4350122.46,4350122.46,{"$f":"IFERROR(RANK(E357,$E$3:$E$1201,0)+COUNTIF($E$3:E357,E357)-1,\"\")","v":214}]
[null,"ODER3<XBSP>","ODER3",null,"",{"$f":"IFERROR(RANK(E358,$E$3:$E$1201,0)+COUNTIF($E$3:E358,E358)-1,\"\")","v":""}]
[null,"ODER4<XBSP>","ODER4",null,"",{"$f":"IFERROR(RANK(E359,$E$3:$E$1201,0)+COUNTIF($E$3:E359,E359)-1,\"\")","v":""}]
[null,"ODPV3<XBSP>","ODPV3",122600902.54000001,122600902.54000001,{"$f":"IFERROR(RANK(E360,$E$3:$E$1201,0)+COUNTIF($E$3:E360,E360)-1,\"\")","v":108}]
[null,"OIBR3<XBSP>","OIBR3",48635864.270000003,48635864.270000003,{"$f":"IFERROR(RANK(E361,$E$3:$E$1201,0)+COUNTIF($E$3:E361,E361)-1,\"\")","v":132}]
[null,"OIBR4<XBSP>","OIBR4",907128.91,"",{"$f":"IFERROR(RANK(E362,$E$3:$E$1201,0)+COUNTIF($E$3:E362,E362)-1,\"\")","v":""}]
[null,"ONCO3<XBSP>","ONCO3",93411266.680000007,93411266.680000007,{"$f":"IFERROR(RANK(E363,$E$3:$E$1201,0)+COUNTIF($E$3:E363,E363)-1,\"\")","v":115}]
[null,"ORVR3<XBSP>","ORVR3",31586569.43,31586569.43,{"$f":"IFERROR(RANK(E364,$E$3:$E$1201,0)+COUNTIF($E$3:E364,E364)-1,\"\")","v":150}]
[null,"OSXB3<XBSP>","OSXB3",null,"",{"$f":"IFERROR(RANK(E365,$E$3:$E$1201,0)+COUNTIF($E$3:E365,E365)-1,\"\")","v":""}]
[null,"OFSA3<XBSP>","OFSA3",21746.28,"",{"$f":"IFERROR(RANK(E366,$E$3:$E$1201,0)+COUNTIF($E$3:E366,E366)-1,\"\")","v":""}]
[null,"PCAR3<XBSP>","PCAR3",133341893.55,133341893.55,{"$f":"IFERROR(RANK(E367,$E$3:$E$1201,0)+COUNTIF($E$3:E367,E367)-1,\"\")","v":106}]
[null,"PDTC3<XBSP>","PDTC3",39789.370000000003,"",{"$f":"IFERROR(RANK(E368,$E$3:$E$1201,0)+COUNTIF($E$3:E368,E368)-1,\"\")","v":""}]
[null,"PGMN3<XBSP>","PGMN3",19108186.02,19108186.02,{"$f":"IFERROR(RANK(E369,$E$3:$E$1201,0)+COUNTIF($E$3:E369,E369)-1,\"\")","v":170}]
[null,"PATI3<XBSP>","PATI3",null,"",{"$f":"IFERROR(RANK(E370,$E$3:$E$1201,0)+COUNTIF($E$3:E370,E370)-1,\"\")","v":""}]
[null,"PATI4<XBSP>","PATI4",null,"",{"$f":"IFERROR(RANK(E371,$E$3:$E$1201,0)+COUNTIF($E$3:E371,E371)-1,\"\")","v":""}]
[null,"PEAB3<XBSP>","PEAB3",null,"",{"$f":"IFERROR(RANK(E372,$E$3:$E$1201,0)+COUNTIF($E$3:E372,E372)-1,\"\")","v":""}]
[null,"PEAB4<XBSP>","PEAB4",null,"",{"$f":"IFERROR(RANK(E373,$E$3:$E$1201,0)+COUNTIF($E$3:E373,E373)-1,\"\")","v":""}]
[null,"PMAM3<XBSP>","PMAM3",418359.05,"",{"$f":"IFERROR(RANK(E374,$E$3:$E$1201,0)+COUNTIF($E$3:E374,E374)-1,\"\")","v":""}]
[null,"PDGR3<XBSP>","PDGR3",1453925.64,1453925.64,{"$f":"IFERROR(RANK(E375,$E$3:$E$1201,0)+COUNTIF($E$3:E375,E375)-1,\"\")","v":251}]
[null,"RPMG3<XBSP>","RPMG3",63928.160000000003,"",{"$f":"IFERROR(RANK(E376,$E$3:$E$1201,0)+COUNTIF($E$3:E376,E376)-1,\"\")","v":""}]
[null,"PETR3<XBSP>","PETR3",2842113109.0999999,2842113109.0999999,{"$f":"IFERROR(RANK(E377,$E$3:$E$1201,0)+COUNTIF($E$3:E377,E377)-1,\"\")","v":8}]
[null,"PETR4<XBSP>","PETR4",7664041355,7664041355,{"$f":"IFERROR(RANK(E378,$E$3:$E$1201,0)+COUNTIF($E$3:E378,E378)-1,\"\")","v":2}]
[null,"RECV3<XBSP>","RECV3",361890935.26999998,361890935.26999998,{"$f":"IFERROR(RANK(E379,$E$3:$E$1201,0)+COUNTIF($E$3:E379,E379)-1,\"\")","v":74}]
[null,"PRIO3<XBSP>","PRIO3",1993982215.3,1993982215.3,{"$f":"IFERROR(RANK(E380,$E$3:$E$1201,0)+COUNTIF($E$3:E380,E380)-1,\"\")","v":14}]
[null,"PTNT3<XBSP>","PTNT3",null,"",{"$f":"IFERROR(RANK(E381,$E$3:$E$1201,0)+COUNTIF($E$3:E381,E381)-1,\"\")","v":""}]
[null,"PTNT4<XBSP>","PTNT4",4478.53,"",{"$f":"IFERROR(RANK(E382,$E$3:$E$1201,0)+COUNTIF($E$3:E382,E382)-1,\"\")","v":""}]
[null,"PETZ3<XBSP>","PETZ3",277911766.44999999,277911766.44999999,{"$f":"IFERROR(RANK(E383,$E$3:$E$1201,0)+COUNTIF($E$3:E383,E383)-1,\"\")","v":84}]
[null,"PINE3<XBSP>","PINE3",null,"",{"$f":"IFERROR(RANK(E384,$E$3:$E$1201,0)+COUNTIF($E$3:E384,E384)-1,\"\")","v":""}]
[null,"PINE4<XBSP>","PINE4",2198482.29,2198482.29,{"$f":"IFERROR(RANK(E385,$E$3:$E$1201,0)+COUNTIF($E$3:E385,E385)-1,\"\")","v":239}]
[null,"PLPL3<XBSP>","PLPL3",11807959.83,11807959.83,{"$f":"IFERROR(RANK(E386,$E$3:$E$1201,0)+COUNTIF($E$3:E386,E386)-1,\"\")","v":181}]
[null,"PLAS3<XBSP>","PLAS3",220,"",{"$f":"IFERROR(RANK(E387,$E$3:$E$1201,0)+COUNTIF($E$3:E387,E387)-1,\"\")","v":""}]
[null,"PPAR3<XBSP>","PPAR3",null,{"$f":"IF(AND(D388>1000000,B388<>\"SUZB5+SUZB3<XBSP>\"),D388,\"\")","v":""},{"$f":"IFERROR(RANK(E388,$E$3:$E$1201,0)+COUNTIF($E$3:E388,E388)-1,\"\")","v":""}]
[null,"PSSA3<XBSP>","PSSA3",202759633.91,202759633.91,{"$f":"IFERROR(RANK(E389,$E$3:$E$1201,0)+COUNTIF($E$3:E389,E389)-1,\"\")","v":96}]
[null,"PTBL3<XBSP>","PTBL3",10579266.99,10579266.99,{"$f":"IFERROR(RANK(E390,$E$3:$E$1201,0)+COUNTIF($E$3:E390,E390)-1,\"\")","v":184}]
[null,"POSI3<XBSP>","POSI3",37672835.82,37672835.82,{"$f":"IFERROR(RANK(E391,$E$3:$E$1201,0)+COUNTIF($E$3:E391,E391)-1,\"\")","v":137}]
[null,"PPLA11<XBSP>","PPLA11",55.59,"",{"$f":"IFERROR(RANK(E392,$E$3:$E$1201,0)+COUNTIF($E$3:E392,E392)-1,\"\")","v":""}]
[null,"PTCA3<XBSP>","PTCA3",null,"",{"$f":"IFERROR(RANK(E393,$E$3:$E$1201,0)+COUNTIF($E$3:E393,E393)-1,\"\")","v":""}]
[null,"PRNR3<XBSP>","PRNR3",5686057.1699999999,5686057.1699999999,{"$f":"IFERROR(RANK(E394,$E$3:$E$1201,0)+COUNTIF($E$3:E394,E394)-1,\"\")","v":203}]
[null,"PFRM3<XBSP>","PFRM3",1197482.3999999999,1197482.3999999999,{"$f":"IFERROR(RANK(E395,$E$3:$E$1201,0)+COUNTIF($E$3:E395,E395)-1,\"\")","v":258}]
[null,"PRPT3<XBSP>","PRPT3",null,"",{"$f":"IFERROR(RANK(E396,$E$3:$E$1201,0)+COUNTIF($E$3:E396,E396)-1,\"\")","v":""}]
[null,"QUAL3<XBSP>","QUAL3",21128895.66,21128895.66,{"$f":"IFERROR(RANK(E397,$E$3:$E$1201,0)+COUNTIF($E$3:E397,E397)-1,\"\")","v":165}]
[null,"QUSW3<XBSP>","QUSW3",null,"",{"$f":"IFERROR(RANK(E398,$E$3:$E$1201,0)+COUNTIF($E$3:E398,E398)-1,\"\")","v":""}]
[null,"LJQQ3<XBSP>","LJQQ3",40303355.880000003,40303355.880000003,{"$f":"IFERROR(RANK(E399,$E$3:$E$1201,0)+COUNTIF($E$3:E399,E399)-1,\"\")","v":134}]
[null,"RADL3<XBSP>","RADL3",1079779855.9000001,1079779855.9000001,{"$f":"IFERROR(RANK(E400,$E$3:$E$1201,0)+COUNTIF($E$3:E400,E400)-1,\"\")","v":29}]
[null,"RAIZ4<XBSP>","RAIZ4",484533201.67000002,484533201.67000002,{"$f":"IFERROR(RANK(E401,$E$3:$E$1201,0)+COUNTIF($E$3:E401,E401)-1,\"\")","v":61}]
[null,"RAPT3<XBSP>","RAPT3",171314.24,"",{"$f":"IFERROR(RANK(E402,$E$3:$E$1201,0)+COUNTIF($E$3:E402,E402)-1,\"\")","v":""}]
[null,"RAPT4<XBSP>","RAPT4",27661524.850000001,27661524.850000001,{"$f":"IFERROR(RANK(E403,$E$3:$E$1201,0)+COUNTIF($E$3:E403,E403)-1,\"\")","v":157}]
[null,"RCSL3<XBSP>","RCSL3",490768.09,"",{"$f":"IFERROR(RANK(E404,$E$3:$E$1201,0)+COUNTIF($E$3:E404,E404)-1,\"\")","v":""}]
[null,"RCSL4<XBSP>","RCSL4",458072.86,"",{"$f":"IFERROR(RANK(E405,$E$3:$E$1201,0)+COUNTIF($E$3:E405,E405)-1,\"\")","v":""}]
[null,"RDOR3<XBSP>","RDOR3",962666068.86000001,962666068.86000001,{"$f":"IFERROR(RANK(E406,$E$3:$E$1201,0)+COUNTIF($E$3:E406,E406)-1,\"\")","v":31}]
[null,"REDE3<XBSP>","REDE3",69.2,"",{"$f":"IFERROR(RANK(E407,$E$3:$E$1201,0)+COUNTIF($E$3:E407,E407)-1,\"\")","v":""}]
[null,"RNEW3<XBSP>","RNEW3",9574.98,"",{"$f":"IFERROR(RANK(E408,$E$3:$E$1201,0)+COUNTIF($E$3:E408,E408)-1,\"\")","v":""}]
[null,"RNEW4<XBSP>","RNEW4",77480,"",{"$f":"IFERROR(RANK(E409,$E$3:$E$1201,0)+COUNTIF($E$3:E409,E409)-1,\"\")","v":""}]
[null,"RNEW11<XBSP>","RNEW11",23150.98,"",{"$f":"IFERROR(RANK(E410,$E$3:$E$1201,0)+COUNTIF($E$3:E410,E410)-1,\"\")","v":""}]
[null,"RSUL3<XBSP>","RSUL3",null,"",{"$f":"IFERROR(RANK(E411,$E$3:$E$1201,0)+COUNTIF($E$3:E411,E411)-1,\"\")","v":""}]
[null,"RSUL4<XBSP>","RSUL4",44693,"",{"$f":"IFERROR(RANK(E412,$E$3:$E$1201,0)+COUNTIF($E$3:E412,E412)-1,\"\")","v":""}]
[null,"RDNI3<XBSP>","RDNI3",1886.14,"",{"$f":"IFERROR(RANK(E413,$E$3:$E$1201,0)+COUNTIF($E$3:E413,E413)-1,\"\")","v":""}]
[null,"RBNS11<XBSP>","RBNS11",null,"",{"$f":"IFERROR(RANK(E414,$E$3:$E$1201,0)+COUNTIF($E$3:E414,E414)-1,\"\")","v":""}]
[null,"ROMI3<XBSP>","ROMI3",11812719.539999999,11812719.539999999,{"$f":"IFERROR(RANK(E415,$E$3:$E$1201,0)+COUNTIF($E$3:E415,E415)-1,\"\")","v":180}]
[null,"RSID3<XBSP>","RSID3",404880.61,"",{"$f":"IFERROR(RANK(E416,$E$3:$E$1201,0)+COUNTIF($E$3:E416,E416)-1,\"\")","v":""}]
[null,"RAIL3<XBSP>","RAIL3",448936897.52999997,448936897.52999997,{"$f":"IFERROR(RANK(E417,$E$3:$E$1201,0)+COUNTIF($E$3:E417,E417)-1,\"\")","v":65}]
[null,"SBSP3<XBSP>","SBSP3",669680428.30999994,669680428.30999994,{"$f":"IFERROR(RANK(E418,$E$3:$E$1201,0)+COUNTIF($E$3:E418,E418)-1,\"\")","v":42}]
[null,"SAEN3<XBSP>","SAEN3",null,"",{"$f":"IFERROR(RANK(E419,$E$3:$E$1201,0)+COUNTIF($E$3:E419,E419)-1,\"\")","v":""}]
[null,"SAPR3<XBSP>","SAPR3",1417048.76,1417048.76,{"$f":"IFERROR(RANK(E420,$E$3:$E$1201,0)+COUNTIF($E$3:E420,E420)-1,\"\")","v":254}]
[null,"SAPR4<XBSP>","SAPR4",8803364.2100000009,8803364.2100000009,{"$f":"IFERROR(RANK(E421,$E$3:$E$1201,0)+COUNTIF($E$3:E421,E421)-1,\"\")","v":189}]
[null,"SAPR11<XBSP>","SAPR11",144806352.16,144806352.16,{"$f":"IFERROR(RANK(E422,$E$3:$E$1201,0)+COUNTIF($E$3:E422,E422)-1,\"\")","v":103}]
[null,"SNSY3<XBSP>","SNSY3",2380,"",{"$f":"IFERROR(RANK(E423,$E$3:$E$1201,0)+COUNTIF($E$3:E423,E423)-1,\"\")","v":""}]
[null,"SNSY5<XBSP>","SNSY5",null,"",{"$f":"IFERROR(RANK(E424,$E$3:$E$1201,0)+COUNTIF($E$3:E424,E424)-1,\"\")","v":""}]
[null,"SNSY6<XBSP>","SNSY6",null,"",{"$f":"IFERROR(RANK(E425,$E$3:$E$1201,0)+COUNTIF($E$3:E425,E425)-1,\"\")","v":""}]
[null,"SANB3<XBSP>","SANB3",7280380.4900000002,7280380.4900000002,{"$f":"IFERROR(RANK(E426,$E$3:$E$1201,0)+COUNTIF($E$3:E426,E426)-1,\"\")","v":195}]
[null,"SANB4<XBSP>","SANB4",8499837.1099999994,8499837.1099999994,{"$f":"IFERROR(RANK(E427,$E$3:$E$1201,0)+COUNTIF($E$3:E427,E427)-1,\"\")","v":191}]
[null,"SANB11<XBSP>","SANB11",290849608.72000003,290849608.72000003,{"$f":"IFERROR(RANK(E428,$E$3:$E$1201,0)+COUNTIF($E$3:E428,E428)-1,\"\")","v":83}]
[null,"CTSA3<XBSP>","CTSA3",22562.5,"",{"$f":"IFERROR(RANK(E429,$E$3:$E$1201,0)+COUNTIF($E$3:E429,E429)-1,\"\")","v":""}]
[null,"CTSA4<XBSP>","CTSA4",11455.84,"",{"$f":"IFERROR(RANK(E430,$E$3:$E$1201,0)+COUNTIF($E$3:E430,E430)-1,\"\")","v":""}]
[null,"STBP3<XBSP>","STBP3",243960838.21000001,243960838.21000001,{"$f":"IFERROR(RANK(E431,$E$3:$E$1201,0)+COUNTIF($E$3:E431,E431)-1,\"\")","v":92}]
[null,"SCAR3<XBSP>","SCAR3",49165,"",{"$f":"IFERROR(RANK(E432,$E$3:$E$1201,0)+COUNTIF($E$3:E432,E432)-1,\"\")","v":""}]
[null,"SMTO3<XBSP>","SMTO3",255911471.97999999,255911471.97999999,{"$f":"IFERROR(RANK(E433,$E$3:$E$1201,0)+COUNTIF($E$3:E433,E433)-1,\"\")","v":89}]
[null,"SHUL3<XBSP>","SHUL3",null,"",{"$f":"IFERROR(RANK(E434,$E$3:$E$1201,0)+COUNTIF($E$3:E434,E434)-1,\"\")","v":""}]
[null,"SHUL4<XBSP>","SHUL4",4712715.57,4712715.57,{"$f":"IFERROR(RANK(E435,$E$3:$E$1201,0)+COUNTIF($E$3:E435,E435)-1,\"\")","v":213}]
[null,"SEQL3<XBSP>","SEQL3",14898938.140000001,14898938.140000001,{"$f":"IFERROR(RANK(E436,$E$3:$E$1201,0)+COUNTIF($E$3:E436,E436)-1,\"\")","v":175}]
[null,"SEER3<XBSP>","SEER3",6381332.8399999999,6381332.8399999999,{"$f":"IFERROR(RANK(E437,$E$3:$E$1201,0)+COUNTIF($E$3:E437,E437)-1,\"\")","v":201}]
[null,"SRNA3<XBSP>","SRNA3",37012424.210000001,37012424.210000001,{"$f":"IFERROR(RANK(E438,$E$3:$E$1201,0)+COUNTIF($E$3:E438,E438)-1,\"\")","v":139}]
[null,"CSNA3<XBSP>","CSNA3",699166747.45000005,699166747.45000005,{"$f":"IFERROR(RANK(E439,$E$3:$E$1201,0)+COUNTIF($E$3:E439,E439)-1,\"\")","v":41}]
[null,"SIMH3<XBSP>","SIMH3",271544414.70999998,271544414.70999998,{"$f":"IFERROR(RANK(E440,$E$3:$E$1201,0)+COUNTIF($E$3:E440,E440)-1,\"\")","v":86}]
[null,"SLCE3<XBSP>","SLCE3",605330501.75,605330501.75,{"$f":"IFERROR(RANK(E441,$E$3:$E$1201,0)+COUNTIF($E$3:E441,E441)-1,\"\")","v":50}]
[null,"SMFT3<XBSP>","SMFT3",641223969.26999998,641223969.26999998,{"$f":"IFERROR(RANK(E442,$E$3:$E$1201,0)+COUNTIF($E$3:E442,E442)-1,\"\")","v":46}]
[null,"SOND3<XBSP>","SOND3",null,"",{"$f":"IFERROR(RANK(E443,$E$3:$E$1201,0)+COUNTIF($E$3:E443,E443)-1,\"\")","v":""}]
[null,"SOND5<XBSP>","SOND5",null,"",{"$f":"IFERROR(RANK(E444,$E$3:$E$1201,0)+COUNTIF($E$3:E444,E444)-1,\"\")","v":""}]
[null,"SOND6<XBSP>","SOND6",null,"",{"$f":"IFERROR(RANK(E445,$E$3:$E$1201,0)+COUNTIF($E$3:E445,E445)-1,\"\")","v":""}]
[null,"SGPS3<XBSP>","SGPS3",480391.72,"",{"$f":"IFERROR(RANK(E446,$E$3:$E$1201,0)+COUNTIF($E$3:E446,E446)-1,\"\")","v":""}]
[null,"AHEB3<XBSP>","AHEB3",null,"",{"$f":"IFERROR(RANK(E447,$E$3:$E$1201,0)+COUNTIF($E$3:E447,E447)-1,\"\")","v":""}]
[null,"AHEB5<XBSP>","AHEB5",null,"",{"$f":"IFERROR(RANK(E448,$E$3:$E$1201,0)+COUNTIF($E$3:E448,E448)-1,\"\")","v":""}]
[null,"AHEB6<XBSP>","AHEB6",null,"",{"$f":"IFERROR(RANK(E449,$E$3:$E$1201,0)+COUNTIF($E$3:E449,E449)-1,\"\")","v":""}]
[null,"OPSE3<XBSP>","OPSE3",null,"",{"$f":"IFERROR(RANK(E450,$E$3:$E$1201,0)+COUNTIF($E$3:E450,E450)-1,\"\")","v":""}]
[null,"OPTS3<XBSP>","OPTS3",null,"",{"$f":"IFERROR(RANK(E451,$E$3:$E$1201,0)+COUNTIF($E$3:E451,E451)-1,\"\")","v":""}]
[null,"NEMO3<XBSP>","NEMO3",null,{"$f":"IF(AND(D452>1000000,B452<>\"SUZB5+SUZB3<XBSP>\"),D452,\"\")","v":""},{"$f":"IFERROR(RANK(E452,$E$3:$E$1201,0)+COUNTIF($E$3:E452,E452)-1,\"\")","v":""}]
[null,"NEMO5<XBSP>","NEMO5",null,"",{"$f":"IFERROR(RANK(E453,$E$3:$E$1201,0)+COUNTIF($E$3:E453,E453)-1,\"\")","v":""}]
[null,"NEMO6<XBSP>","NEMO6",null,"",{"$f":"IFERROR(RANK(E454,$E$3:$E$1201,0)+COUNTIF($E$3:E454,E454)-1,\"\")","v":""}]
[null,"SUZB3<XBSP>","SUZB3",1329506941.2,1329506941.2,{"$f":"IFERROR(RANK(E455,$E$3:$E$1201,0)+COUNTIF($E$3:E455,E455)-1,\"\")","v":22}]
[null,"SYNE3<XBSP>","SYNE3",2126224.6,2126224.6,{"$f":"IFERROR(RANK(E456,$E$3:$E$1201,0)+COUNTIF($E$3:E456,E456)-1,\"\")","v":243}]
[null,"TAEE3<XBSP>","TAEE3",2844484.58,2844484.58,{"$f":"IFERROR(RANK(E457,$E$3:$E$1201,0)+COUNTIF($E$3:E457,E457)-1,\"\")","v":228}]
[null,"TAEE4<XBSP>","TAEE4",3036032.61,3036032.61,{"$f":"IFERROR(RANK(E458,$E$3:$E$1201,0)+COUNTIF($E$3:E458,E458)-1,\"\")","v":226}]
[null,"TAEE11<XBSP>","TAEE11",1338029033.7,1338029033.7,{"$f":"IFERROR(RANK(E459,$E$3:$E$1201,0)+COUNTIF($E$3:E459,E459)-1,\"\")","v":21}]
[null,"TASA3<XBSP>","TASA3",106017.58,"",{"$f":"IFERROR(RANK(E460,$E$3:$E$1201,0)+COUNTIF($E$3:E460,E460)-1,\"\")","v":""}]
[null,"TASA4<XBSP>","TASA4",32077705.02,32077705.02,{"$f":"IFERROR(RANK(E461,$E$3:$E$1201,0)+COUNTIF($E$3:E461,E461)-1,\"\")","v":148}]
[null,"TRAD3<XBSP>","TRAD3",4845333.21,4845333.21,{"$f":"IFERROR(RANK(E462,$E$3:$E$1201,0)+COUNTIF($E$3:E462,E462)-1,\"\")","v":211}]
[null,"TECN3<XBSP>","TECN3",2403427.62,2403427.62,{"$f":"IFERROR(RANK(E463,$E$3:$E$1201,0)+COUNTIF($E$3:E463,E463)-1,\"\")","v":234}]
[null,"TCSA3<XBSP>","TCSA3",858366.83,"",{"$f":"IFERROR(RANK(E464,$E$3:$E$1201,0)+COUNTIF($E$3:E464,E464)-1,\"\")","v":""}]
[null,"TGMA3<XBSP>","TGMA3",3273863.05,3273863.05,{"$f":"IFERROR(RANK(E465,$E$3:$E$1201,0)+COUNTIF($E$3:E465,E465)-1,\"\")","v":223}]
[null,"TEGA3<XBSP>","TEGA3",null,"",{"$f":"IFERROR(RANK(E466,$E$3:$E$1201,0)+COUNTIF($E$3:E466,E466)-1,\"\")","v":""}]
[null,"TEKA3<XBSP>","TEKA3",null,"",{"$f":"IFERROR(RANK(E467,$E$3:$E$1201,0)+COUNTIF($E$3:E467,E467)-1,\"\")","v":""}]
[null,"TEKA4<XBSP>","TEKA4",63.28,"",{"$f":"IFERROR(RANK(E468,$E$3:$E$1201,0)+COUNTIF($E$3:E468,E468)-1,\"\")","v":""}]
[null,"TKNO3<XBSP>","TKNO3",null,"",{"$f":"IFERROR(RANK(E469,$E$3:$E$1201,0)+COUNTIF($E$3:E469,E469)-1,\"\")","v":""}]
[null,"TKNO4<XBSP>","TKNO4",null,"",{"$f":"IFERROR(RANK(E470,$E$3:$E$1201,0)+COUNTIF($E$3:E470,E470)-1,\"\")","v":""}]
[null,"TELB3<XBSP>","TELB3",7038,"",{"$f":"IFERROR(RANK(E471,$E$3:$E$1201,0)+COUNTIF($E$3:E471,E471)-1,\"\")","v":""}]
[null,"TELB4<XBSP>","TELB4",911,"",{"$f":"IFERROR(RANK(E472,$E$3:$E$1201,0)+COUNTIF($E$3:E472,E472)-1,\"\")","v":""}]
[null,"VIVT3<XBSP>","VIVT3",1293074429.0999999,1293074429.0999999,{"$f":"IFERROR(RANK(E473,$E$3:$E$1201,0)+COUNTIF($E$3:E473,E473)-1,\"\")","v":24}]
[null,"TEND3<XBSP>","TEND3",87251898.650000006,87251898.650000006,{"$f":"IFERROR(RANK(E474,$E$3:$E$1201,0)+COUNTIF($E$3:E474,E474)-1,\"\")","v":116}]
[null,"LAND3<XBSP>","LAND3",3906436.25,3906436.25,{"$f":"IFERROR(RANK(E475,$E$3:$E$1201,0)+COUNTIF($E$3:E475,E475)-1,\"\")","v":216}]
[null,"TXRX3<XBSP>","TXRX3",null,"",{"$f":"IFERROR(RANK(E476,$E$3:$E$1201,0)+COUNTIF($E$3:E476,E476)-1,\"\")","v":""}]
[null,"TXRX4<XBSP>","TXRX4",35.4,"",{"$f":"IFERROR(RANK(E477,$E$3:$E$1201,0)+COUNTIF($E$3:E477,E477)-1,\"\")","v":""}]
[null,"TIMS3<XBSP>","TIMS3",798651422.89999998,798651422.89999998,{"$f":"IFERROR(RANK(E478,$E$3:$E$1201,0)+COUNTIF($E$3:E478,E478)-1,\"\")","v":37}]
[null,"SHOW3<XBSP>","SHOW3",492737.68,"",{"$f":"IFERROR(RANK(E479,$E$3:$E$1201,0)+COUNTIF($E$3:E479,E479)-1,\"\")","v":""}]
[null,"TOTS3<XBSP>","TOTS3",496709477.25999999,496709477.25999999,{"$f":"IFERROR(RANK(E480,$E$3:$E$1201,0)+COUNTIF($E$3:E480,E480)-1,\"\")","v":58}]
[null,"TFCO4<XBSP>","TFCO4",2053555.28,2053555.28,{"$f":"IFERROR(RANK(E481,$E$3:$E$1201,0)+COUNTIF($E$3:E481,E481)-1,\"\")","v":244}]
[null,"TRPL3<XBSP>","TRPL3",41267.870000000003,"",{"$f":"IFERROR(RANK(E482,$E$3:$E$1201,0)+COUNTIF($E$3:E482,E482)-1,\"\")","v":""}]
[null,"TRPL4<XBSP>","TRPL4",385273111.22000003,385273111.22000003,{"$f":"IFERROR(RANK(E483,$E$3:$E$1201,0)+COUNTIF($E$3:E483,E483)-1,\"\")","v":71}]
[null,"LUXM3<XBSP>","LUXM3",null,"",{"$f":"IFERROR(RANK(E484,$E$3:$E$1201,0)+COUNTIF($E$3:E484,E484)-1,\"\")","v":""}]
[null,"LUXM4<XBSP>","LUXM4",null,"",{"$f":"IFERROR(RANK(E485,$E$3:$E$1201,0)+COUNTIF($E$3:E485,E485)-1,\"\")","v":""}]
[null,"TRIS3<XBSP>","TRIS3",13451280.710000001,13451280.710000001,{"$f":"IFERROR(RANK(E486,$E$3:$E$1201,0)+COUNTIF($E$3:E486,E486)-1,\"\")","v":176}]
[null,"TPIS3<XBSP>","TPIS3",775645.53,"",{"$f":"IFERROR(RANK(E487,$E$3:$E$1201,0)+COUNTIF($E$3:E487,E487)-1,\"\")","v":""}]
[null,"TUPY3<XBSP>","TUPY3",159806413.86000001,159806413.86000001,{"$f":"IFERROR(RANK(E488,$E$3:$E$1201,0)+COUNTIF($E$3:E488,E488)-1,\"\")","v":102}]
[null,"UGPA3<XBSP>","UGPA3",487314019.75999999,487314019.75999999,{"$f":"IFERROR(RANK(E489,$E$3:$E$1201,0)+COUNTIF($E$3:E489,E489)-1,\"\")","v":60}]
[null,"UCAS3<XBSP>","UCAS3",19150.02,"",{"$f":"IFERROR(RANK(E490,$E$3:$E$1201,0)+COUNTIF($E$3:E490,E490)-1,\"\")","v":""}]
[null,"FIQE3<XBSP>","FIQE3",607197.52,"",{"$f":"IFERROR(RANK(E491,$E$3:$E$1201,0)+COUNTIF($E$3:E491,E491)-1,\"\")","v":""}]
[null,"UNIP3<XBSP>","UNIP3",469503.8,"",{"$f":"IFERROR(RANK(E492,$E$3:$E$1201,0)+COUNTIF($E$3:E492,E492)-1,\"\")","v":""}]
[null,"UNIP5<XBSP>","UNIP5",5044.9399999999996,"",{"$f":"IFERROR(RANK(E493,$E$3:$E$1201,0)+COUNTIF($E$3:E493,E493)-1,\"\")","v":""}]
[null,"UNIP6<XBSP>","UNIP6",80002741.739999995,80002741.739999995,{"$f":"IFERROR(RANK(E494,$E$3:$E$1201,0)+COUNTIF($E$3:E494,E494)-1,\"\")","v":119}]
[null,"UPKP3<XBSP>","UPKP3",null,"",{"$f":"IFERROR(RANK(E495,$E$3:$E$1201,0)+COUNTIF($E$3:E495,E495)-1,\"\")","v":""}]
[null,"USIM3<XBSP>","USIM3",15784346.140000001,15784346.140000001,{"$f":"IFERROR(RANK(E496,$E$3:$E$1201,0)+COUNTIF($E$3:E496,E496)-1,\"\")","v":174}]
[null,"USIM5<XBSP>","USIM5",371282407.23000002,371282407.23000002,{"$f":"IFERROR(RANK(E497,$E$3:$E$1201,0)+COUNTIF($E$3:E497,E497)-1,\"\")","v":73}]
[null,"USIM6<XBSP>","USIM6",null,"",{"$f":"IFERROR(RANK(E498,$E$3:$E$1201,0)+COUNTIF($E$3:E498,E498)-1,\"\")","v":""}]
[null,"VALE3<XBSP>","VALE3",6637304127.6000004,6637304127.6000004,{"$f":"IFERROR(RANK(E499,$E$3:$E$1201,0)+COUNTIF($E$3:E499,E499)-1,\"\")","v":4}]
[null,"VLID3<XBSP>","VLID3",11723184.470000001,11723184.470000001,{"$f":"IFERROR(RANK(E500,$E$3:$E$1201,0)+COUNTIF($E$3:E500,E500)-1,\"\")","v":182}]
[null,"VAMO3<XBSP>","VAMO3",511098823.43000001,511098823.43000001,{"$f":"IFERROR(RANK(E501,$E$3:$E$1201,0)+COUNTIF($E$3:E501,E501)-1,\"\")","v":56}]
[null,"VSTE3<XBSP>","VSTE3",161834.29,"",{"$f":"IFERROR(RANK(E502,$E$3:$E$1201,0)+COUNTIF($E$3:E502,E502)-1,\"\")","v":""}]
[null,"VBBR3<XBSP>","VBBR3",493446602.70999998,493446602.70999998,{"$f":"IFERROR(RANK(E503,$E$3:$E$1201,0)+COUNTIF($E$3:E503,E503)-1,\"\")","v":59}]
[null,"VTRU3<XBSP>","VTRU3",206308.77,"",{"$f":"IFERROR(RANK(E504,$E$3:$E$1201,0)+COUNTIF($E$3:E504,E504)-1,\"\")","v":""}]
[null,"VITT3<XBSP>","VITT3",2737532.63,2737532.63,{"$f":"IFERROR(RANK(E505,$E$3:$E$1201,0)+COUNTIF($E$3:E505,E505)-1,\"\")","v":230}]
[null,"VIVA3<XBSP>","VIVA3",321514824.82999998,321514824.82999998,{"$f":"IFERROR(RANK(E506,$E$3:$E$1201,0)+COUNTIF($E$3:E506,E506)-1,\"\")","v":79}]
[null,"VVEO3<XBSP>","VVEO3",32121039.73,32121039.73,{"$f":"IFERROR(RANK(E507,$E$3:$E$1201,0)+COUNTIF($E$3:E507,E507)-1,\"\")","v":147}]
[null,"VIVR3<XBSP>","VIVR3",1497319.17,1497319.17,{"$f":"IFERROR(RANK(E508,$E$3:$E$1201,0)+COUNTIF($E$3:E508,E508)-1,\"\")","v":250}]
[null,"VULC3<XBSP>","VULC3",12148209.140000001,12148209.140000001,{"$f":"IFERROR(RANK(E509,$E$3:$E$1201,0)+COUNTIF($E$3:E509,E509)-1,\"\")","v":179}]
[null,"LVTC3<XBSP>","LVTC3",37574.720000000001,"",{"$f":"IFERROR(RANK(E510,$E$3:$E$1201,0)+COUNTIF($E$3:E510,E510)-1,\"\")","v":""}]
[null,"WEGE3<XBSP>","WEGE3",3269738038.0999999,3269738038.0999999,{"$f":"IFERROR(RANK(E511,$E$3:$E$1201,0)+COUNTIF($E$3:E511,E511)-1,\"\")","v":6}]
[null,"WEST3<XBSP>","WEST3",113831.24,"",{"$f":"IFERROR(RANK(E512,$E$3:$E$1201,0)+COUNTIF($E$3:E512,E512)-1,\"\")","v":""}]
[null,"MWET3<XBSP>","MWET3",null,"",{"$f":"IFERROR(RANK(E513,$E$3:$E$1201,0)+COUNTIF($E$3:E513,E513)-1,\"\")","v":""}]
[null,"MWET4<XBSP>","MWET4",2723.2,"",{"$f":"IFERROR(RANK(E514,$E$3:$E$1201,0)+COUNTIF($E$3:E514,E514)-1,\"\")","v":""}]
[null,"WHRL3<XBSP>","WHRL3",null,"",{"$f":"IFERROR(RANK(E515,$E$3:$E$1201,0)+COUNTIF($E$3:E515,E515)-1,\"\")","v":""}]
[null,"WHRL4<XBSP>","WHRL4",214369.25,{"$f":"IF(AND(D516>1000000,B516<>\"SUZB5+SUZB3<XBSP>\"),D516,\"\")","v":""},{"$f":"IFERROR(RANK(E516,$E$3:$E$1201,0)+COUNTIF($E$3:E516,E516)-1,\"\")","v":""}]
[null,"PORT3<XBSP>","PORT3",4895231.1500000004,4895231.1500000004,{"$f":"IFERROR(RANK(E517,$E$3:$E$1201,0)+COUNTIF($E$3:E517,E517)-1,\"\")","v":209}]
[null,"WIZC3<XBSP>","WIZC3",2282629.84,2282629.84,{"$f":"IFERROR(RANK(E518,$E$3:$E$1201,0)+COUNTIF($E$3:E518,E518)-1,\"\")","v":236}]
[null,"WLMM3<XBSP>","WLMM3",null,"",{"$f":"IFERROR(RANK(E519,$E$3:$E$1201,0)+COUNTIF($E$3:E519,E519)-1,\"\")","v":""}]
[null,"WLMM4<XBSP>","WLMM4",null,"",{"$f":"IFERROR(RANK(E520,$E$3:$E$1201,0)+COUNTIF($E$3:E520,E520)-1,\"\")","v":""}]
[null,"YBRA3<XBSP>","YBRA3",null,"",{"$f":"IFERROR(RANK(E521,$E$3:$E$1201,0)+COUNTIF($E$3:E521,E521)-1,\"\")","v":""}]
[null,"YDUQ3<XBSP>","YDUQ3",273927525.08999997,273927525.08999997,{"$f":"IFERROR(RANK(E522,$E$3:$E$1201,0)+COUNTIF($E$3:E522,E522)-1,\"\")","v":85}]
[null,"ZAMP3<XBSP>","ZAMP3",35041970.439999998,35041970.439999998,{"$f":"IFERROR(RANK(E523,$E$3:$E$1201,0)+COUNTIF($E$3:E523,E523)-1,\"\")","v":144}]
[null,"BREW11<XBSP>","BREW11",3393126.2,3393126.2,{"$f":"IFERROR(RANK(E524,$E$3:$E$1201,0)+COUNTIF($E$3:E524,E524)-1,\"\")","v":221}]
[null,"BCIC11<XBSP>","BCIC11",null,"",{"$f":"IFERROR(RANK(E525,$E$3:$E$1201,0)+COUNTIF($E$3:E525,E525)-1,\"\")","v":""}]
[null,"BDEF11<XBSP>","BDEF11",6307.5,"",{"$f":"IFERROR(RANK(E526,$E$3:$E$1201,0)+COUNTIF($E$3:E526,E526)-1,\"\")","v":""}]
[null,"BMMT11<XBSP>","BMMT11",null,"",{"$f":"IFERROR(RANK(E527,$E$3:$E$1201,0)+COUNTIF($E$3:E527,E527)-1,\"\")","v":""}]
[null,"BBOI11<XBSP>","BBOI11",20223.8,"",{"$f":"IFERROR(RANK(E528,$E$3:$E$1201,0)+COUNTIF($E$3:E528,E528)-1,\"\")","v":""}]
[null,"DOLA11<XBSP>","DOLA11",102166.11,"",{"$f":"IFERROR(RANK(E529,$E$3:$E$1201,0)+COUNTIF($E$3:E529,E529)-1,\"\")","v":""}]
[null,"DVER11<XBSP>","DVER11",null,"",{"$f":"IFERROR(RANK(E530,$E$3:$E$1201,0)+COUNTIF($E$3:E530,E530)-1,\"\")","v":""}]
[null,"AGRI11<XBSP>","AGRI11",626.94000000000005,"",{"$f":"IFERROR(RANK(E531,$E$3:$E$1201,0)+COUNTIF($E$3:E531,E531)-1,\"\")","v":""}]
[null,"BBOV11<XBSP>","BBOV11",2661606.4500000002,2661606.4500000002,{"$f":"IFERROR(RANK(E532,$E$3:$E$1201,0)+COUNTIF($E$3:E532,E532)-1,\"\")","v":232}]
[null,"CORN11<XBSP>","CORN11",250.1,"",{"$f":"IFERROR(RANK(E533,$E$3:$E$1201,0)+COUNTIF($E$3:E533,E533)-1,\"\")","v":""}]
[null,"BBSD11<XBSP>","BBSD11",774.09,"",{"$f":"IFERROR(RANK(E534,$E$3:$E$1201,0)+COUNTIF($E$3:E534,E534)-1,\"\")","v":""}]
[null,"CMDB11<XBSP>","CMDB11",130260.13,"",{"$f":"IFERROR(RANK(E535,$E$3:$E$1201,0)+COUNTIF($E$3:E535,E535)-1,\"\")","v":""}]
[null,"SPXB11<XBSP>","SPXB11",3771.83,"",{"$f":"IFERROR(RANK(E536,$E$3:$E$1201,0)+COUNTIF($E$3:E536,E536)-1,\"\")","v":""}]
[null,"SMAB11<XBSP>","SMAB11",329182.82,"",{"$f":"IFERROR(RANK(E537,$E$3:$E$1201,0)+COUNTIF($E$3:E537,E537)-1,\"\")","v":""}]
[null,"XBOV11<XBSP>","XBOV11",null,"",{"$f":"IFERROR(RANK(E538,$E$3:$E$1201,0)+COUNTIF($E$3:E538,E538)-1,\"\")","v":""}]
[null,"CRPT11<XBSP>","CRPT11",526.92999999999995,"",{"$f":"IFERROR(RANK(E539,$E$3:$E$1201,0)+COUNTIF($E$3:E539,E539)-1,\"\")","v":""}]
[null,"DEFI11<XBSP>","DEFI11",31100.97,"",{"$f":"IFERROR(RANK(E540,$E$3:$E$1201,0)+COUNTIF($E$3:E540,E540)-1,\"\")","v":""}]
[null,"BOVB11<XBSP>","BOVB11",249523200.44999999,249523200.44999999,{"$f":"IFERROR(RANK(E541,$E$3:$E$1201,0)+COUNTIF($E$3:E541,E541)-1,\"\")","v":90}]
[null,"GENB11<XBSP>","GENB11",415328.73,"",{"$f":"IFERROR(RANK(E542,$E$3:$E$1201,0)+COUNTIF($E$3:E542,E542)-1,\"\")","v":""}]
[null,"SPYI11<XBSP>","SPYI11",731795.49,"",{"$f":"IFERROR(RANK(E543,$E$3:$E$1201,0)+COUNTIF($E$3:E543,E543)-1,\"\")","v":""}]
[null,"ESGB11<XBSP>","ESGB11",5246.05,"",{"$f":"IFERROR(RANK(E544,$E$3:$E$1201,0)+COUNTIF($E$3:E544,E544)-1,\"\")","v":""}]
[null,"BITI11<XBSP>","BITI11",3085081.68,3085081.68,{"$f":"IFERROR(RANK(E545,$E$3:$E$1201,0)+COUNTIF($E$3:E545,E545)-1,\"\")","v":225}]
[null,"GURU11<XBSP>","GURU11",330.79,"",{"$f":"IFERROR(RANK(E546,$E$3:$E$1201,0)+COUNTIF($E$3:E546,E546)-1,\"\")","v":""}]
[null,"ELAS11<XBSP>","ELAS11",65967.09,"",{"$f":"IFERROR(RANK(E547,$E$3:$E$1201,0)+COUNTIF($E$3:E547,E547)-1,\"\")","v":""}]
[null,"QDFI11<XBSP>","QDFI11",652.52,"",{"$f":"IFERROR(RANK(E548,$E$3:$E$1201,0)+COUNTIF($E$3:E548,E548)-1,\"\")","v":""}]
[null,"QQQI11<XBSP>","QQQI11",97.36,"",{"$f":"IFERROR(RANK(E549,$E$3:$E$1201,0)+COUNTIF($E$3:E549,E549)-1,\"\")","v":""}]
[null,"BITH11<XBSP>","BITH11",2188816.0299999998,2188816.0299999998,{"$f":"IFERROR(RANK(E550,$E$3:$E$1201,0)+COUNTIF($E$3:E550,E550)-1,\"\")","v":240}]
[null,"ETHE11<XBSP>","ETHE11",4888117.8600000003,4888117.8600000003,{"$f":"IFERROR(RANK(E551,$E$3:$E$1201,0)+COUNTIF($E$3:E551,E551)-1,\"\")","v":210}]
[null,"HASH11<XBSP>","HASH11",124244500.98999999,124244500.98999999,{"$f":"IFERROR(RANK(E552,$E$3:$E$1201,0)+COUNTIF($E$3:E552,E552)-1,\"\")","v":107}]
[null,"ALUG11<XBSP>","ALUG11",642686.76,"",{"$f":"IFERROR(RANK(E553,$E$3:$E$1201,0)+COUNTIF($E$3:E553,E553)-1,\"\")","v":""}]
[null,"BDOM11<XBSP>","BDOM11",null,"",{"$f":"IFERROR(RANK(E554,$E$3:$E$1201,0)+COUNTIF($E$3:E554,E554)-1,\"\")","v":""}]
[null,"BLOK11<XBSP>","BLOK11",null,"",{"$f":"IFERROR(RANK(E555,$E$3:$E$1201,0)+COUNTIF($E$3:E555,E555)-1,\"\")","v":""}]
[null,"BNDX11<XBSP>","BNDX11",null,"",{"$f":"IFERROR(RANK(E556,$E$3:$E$1201,0)+COUNTIF($E$3:E556,E556)-1,\"\")","v":""}]
[null,"BTEK11<XBSP>","BTEK11",null,"",{"$f":"IFERROR(RANK(E557,$E$3:$E$1201,0)+COUNTIF($E$3:E557,E557)-1,\"\")","v":""}]
[null,"BXPO11<XBSP>","BXPO11",null,"",{"$f":"IFERROR(RANK(E558,$E$3:$E$1201,0)+COUNTIF($E$3:E558,E558)-1,\"\")","v":""}]
[null,"CHIP11<XBSP>","CHIP11",140945.26,"",{"$f":"IFERROR(RANK(E559,$E$3:$E$1201,0)+COUNTIF($E$3:E559,E559)-1,\"\")","v":""}]
[null,"FOOD11<XBSP>","FOOD11",null,"",{"$f":"IFERROR(RANK(E560,$E$3:$E$1201,0)+COUNTIF($E$3:E560,E560)-1,\"\")","v":""}]
[null,"JOGO11<XBSP>","JOGO11",5460.09,"",{"$f":"IFERROR(RANK(E561,$E$3:$E$1201,0)+COUNTIF($E$3:E561,E561)-1,\"\")","v":""}]
[null,"NFTS11<XBSP>","NFTS11",null,"",{"$f":"IFERROR(RANK(E562,$E$3:$E$1201,0)+COUNTIF($E$3:E562,E562)-1,\"\")","v":""}]
[null,"PEVC11<XBSP>","PEVC11",1508.04,"",{"$f":"IFERROR(RANK(E563,$E$3:$E$1201,0)+COUNTIF($E$3:E563,E563)-1,\"\")","v":""}]
[null,"SCVB11<XBSP>","SCVB11",null,"",{"$f":"IFERROR(RANK(E564,$E$3:$E$1201,0)+COUNTIF($E$3:E564,E564)-1,\"\")","v":""}]
[null,"SVAL11<XBSP>","SVAL11",728923.27,"",{"$f":"IFERROR(RANK(E565,$E$3:$E$1201,0)+COUNTIF($E$3:E565,E565)-1,\"\")","v":""}]
[null,"USDB11<XBSP>","USDB11",null,"",{"$f":"IFERROR(RANK(E566,$E$3:$E$1201,0)+COUNTIF($E$3:E566,E566)-1,\"\")","v":""}]
[null,"USTK11<XBSP>","USTK11",9269.99,"",{"$f":"IFERROR(RANK(E567,$E$3:$E$1201,0)+COUNTIF($E$3:E567,E567)-1,\"\")","v":""}]
[null,"WRLD11<XBSP>","WRLD11",2227901.35,2227901.35,{"$f":"IFERROR(RANK(E568,$E$3:$E$1201,0)+COUNTIF($E$3:E568,E568)-1,\"\")","v":238}]
[null,"BOVA11<XBSP>","BOVA11",12517499298,12517499298,{"$f":"IFERROR(RANK(E569,$E$3:$E$1201,0)+COUNTIF($E$3:E569,E569)-1,\"\")","v":1}]
[null,"BRAX11<XBSP>","BRAX11",3521831.03,3521831.03,{"$f":"IFERROR(RANK(E570,$E$3:$E$1201,0)+COUNTIF($E$3:E570,E570)-1,\"\")","v":220}]
[null,"ECOO11<XBSP>","ECOO11",230.3,"",{"$f":"IFERROR(RANK(E571,$E$3:$E$1201,0)+COUNTIF($E$3:E571,E571)-1,\"\")","v":""}]
[null,"IVVB11<XBSP>","IVVB11",930025346.12,930025346.12,{"$f":"IFERROR(RANK(E572,$E$3:$E$1201,0)+COUNTIF($E$3:E572,E572)-1,\"\")","v":32}]
[null,"SMAL11<XBSP>","SMAL11",1523456063.7,1523456063.7,{"$f":"IFERROR(RANK(E573,$E$3:$E$1201,0)+COUNTIF($E$3:E573,E573)-1,\"\")","v":18}]
[null,"DIVD11<XBSP>","DIVD11",496.75,"",{"$f":"IFERROR(RANK(E574,$E$3:$E$1201,0)+COUNTIF($E$3:E574,E574)-1,\"\")","v":""}]
[null,"DNAI11<XBSP>","DNAI11",null,"",{"$f":"IFERROR(RANK(E575,$E$3:$E$1201,0)+COUNTIF($E$3:E575,E575)-1,\"\")","v":""}]
[null,"REVE11<XBSP>","REVE11",null,"",{"$f":"IFERROR(RANK(E576,$E$3:$E$1201,0)+COUNTIF($E$3:E576,E576)-1,\"\")","v":""}]
[null,"HTEK11<XBSP>","HTEK11",289.48,"",{"$f":"IFERROR(RANK(E577,$E$3:$E$1201,0)+COUNTIF($E$3:E577,E577)-1,\"\")","v":""}]
[null,"YDRO11<XBSP>","YDRO11",204.45,"",{"$f":"IFERROR(RANK(E578,$E$3:$E$1201,0)+COUNTIF($E$3:E578,E578)-1,\"\")","v":""}]
[null,"BOVV11<XBSP>","BOVV11",1723162264.7,1723162264.7,{"$f":"IFERROR(RANK(E579,$E$3:$E$1201,0)+COUNTIF($E$3:E579,E579)-1,\"\")","v":16}]
[null,"DIVO11<XBSP>","DIVO11",3657720.83,{"$f":"IF(AND(D580>1000000,B580<>\"SUZB5+SUZB3<XBSP>\"),D580,\"\")","v":3657720.83},{"$f":"IFERROR(RANK(E580,$E$3:$E$1201,0)+COUNTIF($E$3:E580,E580)-1,\"\")","v":219}]
[null,"FIND11<XBSP>","FIND11",428951.34,"",{"$f":"IFERROR(RANK(E581,$E$3:$E$1201,0)+COUNTIF($E$3:E581,E581)-1,\"\")","v":""}]
[null,"GOVE11<XBSP>","GOVE11",11117.76,"",{"$f":"IFERROR(RANK(E582,$E$3:$E$1201,0)+COUNTIF($E$3:E582,E582)-1,\"\")","v":""}]
[null,"MATB11<XBSP>","MATB11",160281.85999999999,"",{"$f":"IFERROR(RANK(E583,$E$3:$E$1201,0)+COUNTIF($E$3:E583,E583)-1,\"\")","v":""}]
[null,"ISUS11<XBSP>","ISUS11",3510.02,"",{"$f":"IFERROR(RANK(E584,$E$3:$E$1201,0)+COUNTIF($E$3:E584,E584)-1,\"\")","v":""}]
[null,"MILL11<XBSP>","MILL11",65.64,"",{"$f":"IFERROR(RANK(E585,$E$3:$E$1201,0)+COUNTIF($E$3:E585,E585)-1,\"\")","v":""}]
[null,"SHOT11<XBSP>","SHOT11",null,"",{"$f":"IFERROR(RANK(E586,$E$3:$E$1201,0)+COUNTIF($E$3:E586,E586)-1,\"\")","v":""}]
[null,"SMAC11<XBSP>","SMAC11",57320863.350000001,57320863.350000001,{"$f":"IFERROR(RANK(E587,$E$3:$E$1201,0)+COUNTIF($E$3:E587,E587)-1,\"\")","v":128}]
[null,"SPXI11<XBSP>","SPXI11",5749876.4900000002,5749876.4900000002,{"$f":"IFERROR(RANK(E588,$E$3:$E$1201,0)+COUNTIF($E$3:E588,E588)-1,\"\")","v":202}]
[null,"TECK11<XBSP>","TECK11",1753249.26,1753249.26,{"$f":"IFERROR(RANK(E589,$E$3:$E$1201,0)+COUNTIF($E$3:E589,E589)-1,\"\")","v":246}]
[null,"META11<XBSP>","META11",null,"",{"$f":"IFERROR(RANK(E590,$E$3:$E$1201,0)+COUNTIF($E$3:E590,E590)-1,\"\")","v":""}]
[null,"NSDV11<XBSP>","NSDV11",538947.80000000005,"",{"$f":"IFERROR(RANK(E591,$E$3:$E$1201,0)+COUNTIF($E$3:E591,E591)-1,\"\")","v":""}]
[null,"NDIV11<XBSP>","NDIV11",147866.85,"",{"$f":"IFERROR(RANK(E592,$E$3:$E$1201,0)+COUNTIF($E$3:E592,E592)-1,\"\")","v":""}]
[null,"HIGH11<XBSP>","HIGH11",null,"",{"$f":"IFERROR(RANK(E593,$E$3:$E$1201,0)+COUNTIF($E$3:E593,E593)-1,\"\")","v":""}]
[null,"LVOL11<XBSP>","LVOL11",58137.49,"",{"$f":"IFERROR(RANK(E594,$E$3:$E$1201,0)+COUNTIF($E$3:E594,E594)-1,\"\")","v":""}]
[null,"IBOB11<XBSP>","IBOB11",6767252.9199999999,6767252.9199999999,{"$f":"IFERROR(RANK(E595,$E$3:$E$1201,0)+COUNTIF($E$3:E595,E595)-1,\"\")","v":198}]
[null,"PIBB11<XBSP>","PIBB11",1772144.23,1772144.23,{"$f":"IFERROR(RANK(E596,$E$3:$E$1201,0)+COUNTIF($E$3:E596,E596)-1,\"\")","v":245}]
[null,"QBTC11<XBSP>","QBTC11",2647541.79,2647541.79,{"$f":"IFERROR(RANK(E597,$E$3:$E$1201,0)+COUNTIF($E$3:E597,E597)-1,\"\")","v":233}]
[null,"QSOL11<XBSP>","QSOL11",7603.76,"",{"$f":"IFERROR(RANK(E598,$E$3:$E$1201,0)+COUNTIF($E$3:E598,E598)-1,\"\")","v":""}]
[null,"QETH11<XBSP>","QETH11",576150.48,"",{"$f":"IFERROR(RANK(E599,$E$3:$E$1201,0)+COUNTIF($E$3:E599,E599)-1,\"\")","v":""}]
[null,"BOVS11<XBSP>","BOVS11",21065.06,"",{"$f":"IFERROR(RANK(E600,$E$3:$E$1201,0)+COUNTIF($E$3:E600,E600)-1,\"\")","v":""}]
[null,"WEB311<XBSP>","WEB311",66735.03,"",{"$f":"IFERROR(RANK(E601,$E$3:$E$1201,0)+COUNTIF($E$3:E601,E601)-1,\"\")","v":""}]
[null,"SOLH11<XBSP>","SOLH11",10929.14,"",{"$f":"IFERROR(RANK(E602,$E$3:$E$1201,0)+COUNTIF($E$3:E602,E602)-1,\"\")","v":""}]
[null,"TECB11<XBSP>","TECB11",null,"",{"$f":"IFERROR(RANK(E603,$E$3:$E$1201,0)+COUNTIF($E$3:E603,E603)-1,\"\")","v":""}]
[null,"ACWI11<XBSP>","ACWI11",394661.41,"",{"$f":"IFERROR(RANK(E604,$E$3:$E$1201,0)+COUNTIF($E$3:E604,E604)-1,\"\")","v":""}]
[null,"XINA11<XBSP>","XINA11",30738410.260000002,30738410.260000002,{"$f":"IFERROR(RANK(E605,$E$3:$E$1201,0)+COUNTIF($E$3:E605,E605)-1,\"\")","v":152}]
[null,"ESGD11<XBSP>","ESGD11",210108.54,"",{"$f":"IFERROR(RANK(E606,$E$3:$E$1201,0)+COUNTIF($E$3:E606,E606)-1,\"\")","v":""}]
[null,"ESGE11<XBSP>","ESGE11",63012.18,"",{"$f":"IFERROR(RANK(E607,$E$3:$E$1201,0)+COUNTIF($E$3:E607,E607)-1,\"\")","v":""}]
[null,"ESGU11<XBSP>","ESGU11",3771207.71,3771207.71,{"$f":"IFERROR(RANK(E608,$E$3:$E$1201,0)+COUNTIF($E$3:E608,E608)-1,\"\")","v":218}]
[null,"EURP11<XBSP>","EURP11",5297108.26,5297108.26,{"$f":"IFERROR(RANK(E609,$E$3:$E$1201,0)+COUNTIF($E$3:E609,E609)-1,\"\")","v":208}]
[null,"BOVX11<XBSP>","BOVX11",109449125.98,109449125.98,{"$f":"IFERROR(RANK(E610,$E$3:$E$1201,0)+COUNTIF($E$3:E610,E610)-1,\"\")","v":110}]
[null,"XFIX11<XBSP>","XFIX11",452469.63,"",{"$f":"IFERROR(RANK(E611,$E$3:$E$1201,0)+COUNTIF($E$3:E611,E611)-1,\"\")","v":""}]
[null,"NASD11<XBSP>","NASD11",31636576.59,31636576.59,{"$f":"IFERROR(RANK(E612,$E$3:$E$1201,0)+COUNTIF($E$3:E612,E612)-1,\"\")","v":149}]
[null,"GOLD11<XBSP>","GOLD11",77290589.540000007,77290589.540000007,{"$f":"IFERROR(RANK(E613,$E$3:$E$1201,0)+COUNTIF($E$3:E613,E613)-1,\"\")","v":121}]
[null,"URET11<XBSP>","URET11",null,"",{"$f":"IFERROR(RANK(E614,$E$3:$E$1201,0)+COUNTIF($E$3:E614,E614)-1,\"\")","v":""}]
[null,"USAL11<XBSP>","USAL11",8580651.1999999993,8580651.1999999993,{"$f":"IFERROR(RANK(E615,$E$3:$E$1201,0)+COUNTIF($E$3:E615,E615)-1,\"\")","v":190}]
[null,"UTEC11<XBSP>","UTEC11",12166296.869999999,12166296.869999999,{"$f":"IFERROR(RANK(E616,$E$3:$E$1201,0)+COUNTIF($E$3:E616,E616)-1,\"\")","v":178}]
[null,"TRIG11<XBSP>","TRIG11",80342.87,"",{"$f":"IFERROR(RANK(E617,$E$3:$E$1201,0)+COUNTIF($E$3:E617,E617)-1,\"\")","v":""}]
[null,null,null,null,"",{"$f":"IFERROR(RANK(E618,$E$3:$E$1201,0)+COUNTIF($E$3:E618,E618)-1,\"\")","v":""}]
[null,null,null,null,"",{"$f":"IFERROR(RANK(E619,$E$3:$E$1201,0)+COUNTIF($E$3:E619,E619)-1,\"\")","v":""}]
[null,null,null,null,"",{"$f":"IFERROR(RANK(E620,$E$3:$E$1201,0)+COUNTIF($E$3:E620,E620)-1,\"\")","v":""}]
[null,null,null,null,"",{"$f":"IFERROR(RANK(E621,$E$3:$E$1201,0)+COUNTIF($E$3:E621,E621)-1,\"\")","v":""}]
[null,null,null,null,"",{"$f":"IFERROR(RANK(E622,$E$3:$E$1201,0)+COUNTIF($E$3:E622,E622)-1,\"\")","v":""}]
[null,null,null,null,"",{"$f":"IFERROR(RANK(E623,$E$3:$E$1201,0)+COUNTIF($E$3:E623,E623)-1,\"\")","v":""}]
[null,null,null,null,"",{"$f":"IFERROR(RANK(E624,$E$3:$E$1201,0)+COUNTIF($E$3:E624,E624)-1,\"\")","v":""}]
[null,null,null,null,"",{"$f":"IFERROR(RANK(E625,$E$3:$E$1201,0)+COUNTIF($E$3:E625,E625)-1,\"\")","v":""}]
[null,null,null,null,"",{"$f":"IFERROR(RANK(E626,$E$3:$E$1201,0)+COUNTIF($E$3:E626,E626)-1,\"\")","v":""}]
[null,null,null,null,"",{"$f":"IFERROR(RANK(E627,$E$3:$E$1201,0)+COUNTIF($E$3:E627,E627)-1,\"\")","v":""}]
[null,null,null,null,"",{"$f":"IFERROR(RANK(E628,$E$3:$E$1201,0)+COUNTIF($E$3:E628,E628)-1,\"\")","v":""}]
[null,null,null,null,"",{"$f":"IFERROR(RANK(E629,$E$3:$E$1201,0)+COUNTIF($E$3:E629,E629)-1,\"\")","v":""}]
[null,null,null,null,"",{"$f":"IFERROR(RANK(E630,$E$3:$E$1201,0)+COUNTIF($E$3:E630,E630)-1,\"\")","v":""}]
[null,null,null,null,"",{"$f":"IFERROR(RANK(E631,$E$3:$E$1201,0)+COUNTIF($E$3:E631,E631)-1,\"\")","v":""}]
[null,null,null,null,"",{"$f":"IFERROR(RANK(E632,$E$3:$E$1201,0)+COUNTIF($E$3:E632,E632)-1,\"\")","v":""}]
[null,null,null,null,"",{"$f":"IFERROR(RANK(E633,$E$3:$E$1201,0)+COUNTIF($E$3:E633,E633)-1,\"\")","v":""}]
[null,null,null,null,"",{"$f":"IFERROR(RANK(E634,$E$3:$E$1201,0)+COUNTIF($E$3:E634,E634)-1,\"\")","v":""}]
[null,null,null,null,"",{"$f":"IFERROR(RANK(E635,$E$3:$E$1201,0)+COUNTIF($E$3:E635,E635)-1,\"\")","v":""}]
[null,null,null,null,"",{"$f":"IFERROR(RANK(E636,$E$3:$E$1201,0)+COUNTIF($E$3:E636,E636)-1,\"\")","v":""}]
[null,null,null,null,"",{"$f":"IFERROR(RANK(E637,$E$3:$E$1201,0)+COUNTIF($E$3:E637,E637)-1,\"\")","v":""}]
[null,null,null,null,"",{"$f":"IFERROR(RANK(E638,$E$3:$E$1201,0)+COUNTIF($E$3:E638,E638)-1,\"\")","v":""}]
[null,null,null,null,"",{"$f":"IFERROR(RANK(E639,$E$3:$E$1201,0)+COUNTIF($E$3:E639,E639)-1,\"\")","v":""}]
[null,null,null,null,"",{"$f":"IFERROR(RANK(E640,$E$3:$E$1201,0)+COUNTIF($E$3:E640,E640)-1,\"\")","v":""}]
[null,null,null,null,"",{"$f":"IFERROR(RANK(E641,$E$3:$E$1201,0)+COUNTIF($E$3:E641,E641)-1,\"\")","v":""}]
[null,null,null,null,"",{"$f":"IFERROR(RANK(E642,$E$3:$E$1201,0)+COUNTIF($E$3:E642,E642)-1,\"\")","v":""}]
[null,null,null,null,"",{"$f":"IFERROR(RANK(E643,$E$3:$E$1201,0)+COUNTIF($E$3:E643,E643)-1,\"\")","v":""}]
[null,null,null,null,{"$f":"IF(AND(D644>1000000,B644<>\"SUZB5+SUZB3<XBSP>\"),D644,\"\")","v":""},{"$f":"IFERROR(RANK(E644,$E$3:$E$1201,0)+COUNTIF($E$3:E644,E644)-1,\"\")","v":""}]
[null,null,null,null,"",{"$f":"IFERROR(RANK(E645,$E$3:$E$1201,0)+COUNTIF($E$3:E645,E645)-1,\"\")","v":""}]
[null,null,null,null,"",{"$f":"IFERROR(RANK(E646,$E$3:$E$1201,0)+COUNTIF($E$3:E646,E646)-1,\"\")","v":""}]
[null,null,null,null,"",{"$f":"IFERROR(RANK(E647,$E$3:$E$1201,0)+COUNTIF($E$3:E647,E647)-1,\"\")","v":""}]
[null,null,null,null,"",{"$f":"IFERROR(RANK(E648,$E$3:$E$1201,0)+COUNTIF($E$3:E648,E648)-1,\"\")","v":""}]
[null,null,null,null,"",{"$f":"IFERROR(RANK(E649,$E$3:$E$1201,0)+COUNTIF($E$3:E649,E649)-1,\"\")","v":""}]
[null,null,null,null,"",{"$f":"IFERROR(RANK(E650,$E$3:$E$1201,0)+COUNTIF($E$3:E650,E650)-1,\"\")","v":""}]
[null,null,null,null,"",{"$f":"IFERROR(RANK(E651,$E$3:$E$1201,0)+COUNTIF($E$3:E651,E651)-1,\"\")","v":""}]
[null,null,null,null,"",{"$f":"IFERROR(RANK(E652,$E$3:$E$1201,0)+COUNTIF($E$3:E652,E652)-1,\"\")","v":""}]
[null,null,null,null,"",{"$f":"IFERROR(RANK(E653,$E$3:$E$1201,0)+COUNTIF($E$3:E653,E653)-1,\"\")","v":""}]
[null,null,null,null,"",{"$f":"IFERROR(RANK(E654,$E$3:$E$1201,0)+COUNTIF($E$3:E654,E654)-1,\"\")","v":""}]
[null,null,null,null,"",{"$f":"IFERROR(RANK(E655,$E$3:$E$1201,0)+COUNTIF($E$3:E655,E655)-1,\"\")","v":""}]
[null,null,null,null,"",{"$f":"IFERROR(RANK(E656,$E$3:$E$1201,0)+COUNTIF($E$3:E656,E656)-1,\"\")","v":""}]
[null,null,null,null,"",{"$f":"IFERROR(RANK(E657,$E$3:$E$1201,0)+COUNTIF($E$3:E657,E657)-1,\"\")","v":""}]
[null,null,null,null,"",{"$f":"IFERROR(RANK(E658,$E$3:$E$1201,0)+COUNTIF($E$3:E658,E658)-1,\"\")","v":""}]
[null,null,null,null,"",{"$f":"IFERROR(RANK(E659,$E$3:$E$1201,0)+COUNTIF($E$3:E659,E659)-1,\"\")","v":""}]
[null,null,null,null,"",{"$f":"IFERROR(RANK(E660,$E$3:$E$1201,0)+COUNTIF($E$3:E660,E660)-1,\"\")","v":""}]
[null,null,null,null,"",{"$f":"IFERROR(RANK(E661,$E$3:$E$1201,0)+COUNTIF($E$3:E661,E661)-1,\"\")","v":""}]
[null,null,null,null,"",{"$f":"IFERROR(RANK(E662,$E$3:$E$1201,0)+COUNTIF($E$3:E662,E662)-1,\"\")","v":""}]
[null,null,null,null,"",{"$f":"IFERROR(RANK(E663,$E$3:$E$1201,0)+COUNTIF($E$3:E663,E663)-1,\"\")","v":""}]
[null,null,null,null,"",{"$f":"IFERROR(RANK(E664,$E$3:$E$1201,0)+COUNTIF($E$3:E664,E664)-1,\"\")","v":""}]
[null,null,null,null,"",{"$f":"IFERROR(RANK(E665,$E$3:$E$1201,0)+COUNTIF($E$3:E665,E665)-1,\"\")","v":""}]
[null,null,null,null,"",{"$f":"IFERROR(RANK(E666,$E$3:$E$1201,0)+COUNTIF($E$3:E666,E666)-1,\"\")","v":""}]
[null,null,null,null,"",{"$f":"IFERROR(RANK(E667,$E$3:$E$1201,0)+COUNTIF($E$3:E667,E667)-1,\"\")","v":""}]
[null,null,null,null,"",{"$f":"IFERROR(RANK(E668,$E$3:$E$1201,0)+COUNTIF($E$3:E668,E668)-1,\"\")","v":""}]
[null,null,null,null,"",{"$f":"IFERROR(RANK(E669,$E$3:$E$1201,0)+COUNTIF($E$3:E669,E669)-1,\"\")","v":""}]
[null,null,null,null,"",{"$f":"IFERROR(RANK(E670,$E$3:$E$1201,0)+COUNTIF($E$3:E670,E670)-1,\"\")","v":""}]
[null,null,null,null,"",{"$f":"IFERROR(RANK(E671,$E$3:$E$1201,0)+COUNTIF($E$3:E671,E671)-1,\"\")","v":""}]
[null,null,null,null,"",{"$f":"IFERROR(RANK(E672,$E$3:$E$1201,0)+COUNTIF($E$3:E672,E672)-1,\"\")","v":""}]
[null,null,null,null,"",{"$f":"IFERROR(RANK(E673,$E$3:$E$1201,0)+COUNTIF($E$3:E673,E673)-1,\"\")","v":""}]
[null,null,null,null,"",{"$f":"IFERROR(RANK(E674,$E$3:$E$1201,0)+COUNTIF($E$3:E674,E674)-1,\"\")","v":""}]
[null,null,null,null,"",{"$f":"IFERROR(RANK(E675,$E$3:$E$1201,0)+COUNTIF($E$3:E675,E675)-1,\"\")","v":""}]
[null,null,null,null,"",{"$f":"IFERROR(RANK(E676,$E$3:$E$1201,0)+COUNTIF($E$3:E676,E676)-1,\"\")","v":""}]
[null,null,null,null,"",{"$f":"IFERROR(RANK(E677,$E$3:$E$1201,0)+COUNTIF($E$3:E677,E677)-1,\"\")","v":""}]
[null,null,null,null,"",{"$f":"IFERROR(RANK(E678,$E$3:$E$1201,0)+COUNTIF($E$3:E678,E678)-1,\"\")","v":""}]
[null,null,null,null,"",{"$f":"IFERROR(RANK(E679,$E$3:$E$1201,0)+COUNTIF($E$3:E679,E679)-1,\"\")","v":""}]
[null,null,null,null,"",{"$f":"IFERROR(RANK(E680,$E$3:$E$1201,0)+COUNTIF($E$3:E680,E680)-1,\"\")","v":""}]
[null,null,null,null,"",{"$f":"IFERROR(RANK(E681,$E$3:$E$1201,0)+COUNTIF($E$3:E681,E681)-1,\"\")","v":""}]
[null,null,null,null,"",{"$f":"IFERROR(RANK(E682,$E$3:$E$1201,0)+COUNTIF($E$3:E682,E682)-1,\"\")","v":""}]
[null,null,null,null,"",{"$f":"IFERROR(RANK(E683,$E$3:$E$1201,0)+COUNTIF($E$3:E683,E683)-1,\"\")","v":""}]
[null,null,null,null,"",{"$f":"IFERROR(RANK(E684,$E$3:$E$1201,0)+COUNTIF($E$3:E684,E684)-1,\"\")","v":""}]
[null,null,null,null,"",{"$f":"IFERROR(RANK(E685,$E$3:$E$1201,0)+COUNTIF($E$3:E685,E685)-1,\"\")","v":""}]
[null,null,null,null,"",{"$f":"IFERROR(RANK(E686,$E$3:$E$1201,0)+COUNTIF($E$3:E686,E686)-1,\"\")","v":""}]
[null,null,null,null,"",{"$f":"IFERROR(RANK(E687,$E$3:$E$1201,0)+COUNTIF($E$3:E687,E687)-1,\"\")","v":""}]
[null,null,null,null,"",{"$f":"IFERROR(RANK(E688,$E$3:$E$1201,0)+COUNTIF($E$3:E688,E688)-1,\"\")","v":""}]
[null,null,null,null,"",{"$f":"IFERROR(RANK(E689,$E$3:$E$1201,0)+COUNTIF($E$3:E689,E689)-1,\"\")","v":""}]
[null,null,null,null,"",{"$f":"IFERROR(RANK(E690,$E$3:$E$1201,0)+COUNTIF($E$3:E690,E690)-1,\"\")","v":""}]
[null,null,null,null,"",{"$f":"IFERROR(RANK(E691,$E$3:$E$1201,0)+COUNTIF($E$3:E691,E691)-1,\"\")","v":""}]
[null,null,null,null,"",{"$f":"IFERROR(RANK(E692,$E$3:$E$1201,0)+COUNTIF($E$3:E692,E692)-1,\"\")","v":""}]
[null,null,null,null,"",{"$f":"IFERROR(RANK(E693,$E$3:$E$1201,0)+COUNTIF($E$3:E693,E693)-1,\"\")","v":""}]
[null,null,null,null,"",{"$f":"IFERROR(RANK(E694,$E$3:$E$1201,0)+COUNTIF($E$3:E694,E694)-1,\"\")","v":""}]
[null,null,null,null,"",{"$f":"IFERROR(RANK(E695,$E$3:$E$1201,0)+COUNTIF($E$3:E695,E695)-1,\"\")","v":""}]
[null,null,null,null,"",{"$f":"IFERROR(RANK(E696,$E$3:$E$1201,0)+COUNTIF($E$3:E696,E696)-1,\"\")","v":""}]
[null,null,null,null,"",{"$f":"IFERROR(RANK(E697,$E$3:$E$1201,0)+COUNTIF($E$3:E697,E697)-1,\"\")","v":""}]
[null,null,null,null,"",{"$f":"IFERROR(RANK(E698,$E$3:$E$1201,0)+COUNTIF($E$3:E698,E698)-1,\"\")","v":""}]
[null,null,null,null,"",{"$f":"IFERROR(RANK(E699,$E$3:$E$1201,0)+COUNTIF($E$3:E699,E699)-1,\"\")","v":""}]
[null,null,null,null,"",{"$f":"IFERROR(RANK(E700,$E$3:$E$1201,0)+COUNTIF($E$3:E700,E700)-1,\"\")","v":""}]
[null,null,null,null,"",{"$f":"IFERROR(RANK(E701,$E$3:$E$1201,0)+COUNTIF($E$3:E701,E701)-1,\"\")","v":""}]
[null,null,null,null,"",{"$f":"IFERROR(RANK(E702,$E$3:$E$1201,0)+COUNTIF($E$3:E702,E702)-1,\"\")","v":""}]
[null,null,null,null,"",{"$f":"IFERROR(RANK(E703,$E$3:$E$1201,0)+COUNTIF($E$3:E703,E703)-1,\"\")","v":""}]
[null,null,null,null,"",{"$f":"IFERROR(RANK(E704,$E$3:$E$1201,0)+COUNTIF($E$3:E704,E704)-1,\"\")","v":""}]
[null,null,null,null,"",{"$f":"IFERROR(RANK(E705,$E$3:$E$1201,0)+COUNTIF($E$3:E705,E705)-1,\"\")","v":""}]
[null,null,null,null,"",{"$f":"IFERROR(RANK(E706,$E$3:$E$1201,0)+COUNTIF($E$3:E706,E706)-1,\"\")","v":""}]
[null,null,null,null,"",{"$f":"IFERROR(RANK(E707,$E$3:$E$1201,0)+COUNTIF($E$3:E707,E707)-1,\"\")","v":""}]
[null,null,null,null,{"$f":"IF(AND(D708>1000000,B708<>\"SUZB5+SUZB3<XBSP>\"),D708,\"\")","v":""},{"$f":"IFERROR(RANK(E708,$E$3:$E$1201,0)+COUNTIF($E$3:E708,E708)-1,\"\")","v":""}]
[null,null,null,null,"",{"$f":"IFERROR(RANK(E709,$E$3:$E$1201,0)+COUNTIF($E$3:E709,E709)-1,\"\")","v":""}]
[null,null,null,null,"",{"$f":"IFERROR(RANK(E710,$E$3:$E$1201,0)+COUNTIF($E$3:E710,E710)-1,\"\")","v":""}]
[null,null,null,null,"",{"$f":"IFERROR(RANK(E711,$E$3:$E$1201,0)+COUNTIF($E$3:E711,E711)-1,\"\")","v":""}]
[null,null,null,null,"",{"$f":"IFERROR(RANK(E712,$E$3:$E$1201,0)+COUNTIF($E$3:E712,E712)-1,\"\")","v":""}]
[null,null,null,null,"",{"$f":"IFERROR(RANK(E713,$E$3:$E$1201,0)+COUNTIF($E$3:E713,E713)-1,\"\")","v":""}]
[null,null,null,null,"",{"$f":"IFERROR(RANK(E714,$E$3:$E$1201,0)+COUNTIF($E$3:E714,E714)-1,\"\")","v":""}]
[null,null,null,null,"",{"$f":"IFERROR(RANK(E715,$E$3:$E$1201,0)+COUNTIF($E$3:E715,E715)-1,\"\")","v":""}]
[null,null,null,null,"",{"$f":"IFERROR(RANK(E716,$E$3:$E$1201,0)+COUNTIF($E$3:E716,E716)-1,\"\")","v":""}]
[null,null,null,null,"",{"$f":"IFERROR(RANK(E717,$E$3:$E$1201,0)+COUNTIF($E$3:E717,E717)-1,\"\")","v":""}]
[null,null,null,null,"",{"$f":"IFERROR(RANK(E718,$E$3:$E$1201,0)+COUNTIF($E$3:E718,E718)-1,\"\")","v":""}]
[null,null,null,null,"",{"$f":"IFERROR(RANK(E719,$E$3:$E$1201,0)+COUNTIF($E$3:E719,E719)-1,\"\")","v":""}]
[null,null,null,null,"",{"$f":"IFERROR(RANK(E720,$E$3:$E$1201,0)+COUNTIF($E$3:E720,E720)-1,\"\")","v":""}]
[null,null,null,null,"",{"$f":"IFERROR(RANK(E721,$E$3:$E$1201,0)+COUNTIF($E$3:E721,E721)-1,\"\")","v":""}]
[null,null,null,null,"",{"$f":"IFERROR(RANK(E722,$E$3:$E$1201,0)+COUNTIF($E$3:E722,E722)-1,\"\")","v":""}]
[null,null,null,null,"",{"$f":"IFERROR(RANK(E723,$E$3:$E$1201,0)+COUNTIF($E$3:E723,E723)-1,\"\")","v":""}]
[null,null,null,null,"",{"$f":"IFERROR(RANK(E724,$E$3:$E$1201,0)+COUNTIF($E$3:E724,E724)-1,\"\")","v":""}]
[null,null,null,null,"",{"$f":"IFERROR(RANK(E725,$E$3:$E$1201,0)+COUNTIF($E$3:E725,E725)-1,\"\")","v":""}]
[null,null,null,null,"",{"$f":"IFERROR(RANK(E726,$E$3:$E$1201,0)+COUNTIF($E$3:E726,E726)-1,\"\")","v":""}]
[null,null,null,null,"",{"$f":"IFERROR(RANK(E727,$E$3:$E$1201,0)+COUNTIF($E$3:E727,E727)-1,\"\")","v":""}]
[null,null,null,null,"",{"$f":"IFERROR(RANK(E728,$E$3:$E$1201,0)+COUNTIF($E$3:E728,E728)-1,\"\")","v":""}]
[null,null,null,null,"",{"$f":"IFERROR(RANK(E729,$E$3:$E$1201,0)+COUNTIF($E$3:E729,E729)-1,\"\")","v":""}]
[null,null,null,null,"",{"$f":"IFERROR(RANK(E730,$E$3:$E$1201,0)+COUNTIF($E$3:E730,E730)-1,\"\")","v":""}]
[null,null,null,null,"",{"$f":"IFERROR(RANK(E731,$E$3:$E$1201,0)+COUNTIF($E$3:E731,E731)-1,\"\")","v":""}]
[null,null,null,null,"",{"$f":"IFERROR(RANK(E732,$E$3:$E$1201,0)+COUNTIF($E$3:E732,E732)-1,\"\")","v":""}]
[null,null,null,null,"",{"$f":"IFERROR(RANK(E733,$E$3:$E$1201,0)+COUNTIF($E$3:E733,E733)-1,\"\")","v":""}]
[null,null,null,null,"",{"$f":"IFERROR(RANK(E734,$E$3:$E$1201,0)+COUNTIF($E$3:E734,E734)-1,\"\")","v":""}]
[null,null,null,null,"",{"$f":"IFERROR(RANK(E735,$E$3:$E$1201,0)+COUNTIF($E$3:E735,E735)-1,\"\")","v":""}]
[null,null,null,null,"",{"$f":"IFERROR(RANK(E736,$E$3:$E$1201,0)+COUNTIF($E$3:E736,E736)-1,\"\")","v":""}]
[null,null,null,null,"",{"$f":"IFERROR(RANK(E737,$E$3:$E$1201,0)+COUNTIF($E$3:E737,E737)-1,\"\")","v":""}]
[null,null,null,null,"",{"$f":"IFERROR(RANK(E738,$E$3:$E$1201,0)+COUNTIF($E$3:E738,E738)-1,\"\")","v":""}]
[null,null,null,null,"",{"$f":"IFERROR(RANK(E739,$E$3:$E$1201,0)+COUNTIF($E$3:E739,E739)-1,\"\")","v":""}]
[null,null,null,null,"",{"$f":"IFERROR(RANK(E740,$E$3:$E$1201,0)+COUNTIF($E$3:E740,E740)-1,\"\")","v":""}]
[null,null,null,null,"",{"$f":"IFERROR(RANK(E741,$E$3:$E$1201,0)+COUNTIF($E$3:E741,E741)-1,\"\")","v":""}]
[null,null,null,null,"",{"$f":"IFERROR(RANK(E742,$E$3:$E$1201,0)+COUNTIF($E$3:E742,E742)-1,\"\")","v":""}]
[null,null,null,null,"",{"$f":"IFERROR(RANK(E743,$E$3:$E$1201,0)+COUNTIF($E$3:E743,E743)-1,\"\")","v":""}]
[null,null,null,null,"",{"$f":"IFERROR(RANK(E744,$E$3:$E$1201,0)+COUNTIF($E$3:E744,E744)-1,\"\")","v":""}]
[null,null,null,null,"",{"$f":"IFERROR(RANK(E745,$E$3:$E$1201,0)+COUNTIF($E$3:E745,E745)-1,\"\")","v":""}]
[null,null,null,null,"",{"$f":"IFERROR(RANK(E746,$E$3:$E$1201,0)+COUNTIF($E$3:E746,E746)-1,\"\")","v":""}]
[null,null,null,null,"",{"$f":"IFERROR(RANK(E747,$E$3:$E$1201,0)+COUNTIF($E$3:E747,E747)-1,\"\")","v":""}]
[null,null,null,null,"",{"$f":"IFERROR(RANK(E748,$E$3:$E$1201,0)+COUNTIF($E$3:E748,E748)-1,\"\")","v":""}]
[null,null,null,null,"",{"$f":"IFERROR(RANK(E749,$E$3:$E$1201,0)+COUNTIF($E$3:E749,E749)-1,\"\")","v":""}]
[null,null,null,null,"",{"$f":"IFERROR(RANK(E750,$E$3:$E$1201,0)+COUNTIF($E$3:E750,E750)-1,\"\")","v":""}]
[null,null,null,null,"",{"$f":"IFERROR(RANK(E751,$E$3:$E$1201,0)+COUNTIF($E$3:E751,E751)-1,\"\")","v":""}]
[null,null,null,null,"",{"$f":"IFERROR(RANK(E752,$E$3:$E$1201,0)+COUNTIF($E$3:E752,E752)-1,\"\")","v":""}]
[null,null,null,null,"",{"$f":"IFERROR(RANK(E753,$E$3:$E$1201,0)+COUNTIF($E$3:E753,E753)-1,\"\")","v":""}]
[null,null,null,null,"",{"$f":"IFERROR(RANK(E754,$E$3:$E$1201,0)+COUNTIF($E$3:E754,E754)-1,\"\")","v":""}]
[null,null,null,null,"",{"$f":"IFERROR(RANK(E755,$E$3:$E$1201,0)+COUNTIF($E$3:E755,E755)-1,\"\")","v":""}]
[null,null,null,null,"",{"$f":"IFERROR(RANK(E756,$E$3:$E$1201,0)+COUNTIF($E$3:E756,E756)-1,\"\")","v":""}]
[null,null,null,null,"",{"$f":"IFERROR(RANK(E757,$E$3:$E$1201,0)+COUNTIF($E$3:E757,E757)-1,\"\")","v":""}]
[null,null,null,null,"",{"$f":"IFERROR(RANK(E758,$E$3:$E$1201,0)+COUNTIF($E$3:E758,E758)-1,\"\")","v":""}]
[null,null,null,null,"",{"$f":"IFERROR(RANK(E759,$E$3:$E$1201,0)+COUNTIF($E$3:E759,E759)-1,\"\")","v":""}]
[null,null,null,null,"",{"$f":"IFERROR(RANK(E760,$E$3:$E$1201,0)+COUNTIF($E$3:E760,E760)-1,\"\")","v":""}]
[null,null,null,null,"",{"$f":"IFERROR(RANK(E761,$E$3:$E$1201,0)+COUNTIF($E$3:E761,E761)-1,\"\")","v":""}]
[null,null,null,null,"",{"$f":"IFERROR(RANK(E762,$E$3:$E$1201,0)+COUNTIF($E$3:E762,E762)-1,\"\")","v":""}]
[null,null,null,null,"",{"$f":"IFERROR(RANK(E763,$E$3:$E$1201,0)+COUNTIF($E$3:E763,E763)-1,\"\")","v":""}]
[null,null,null,null,"",{"$f":"IFERROR(RANK(E764,$E$3:$E$1201,0)+COUNTIF($E$3:E764,E764)-1,\"\")","v":""}]
[null,null,null,null,"",{"$f":"IFERROR(RANK(E765,$E$3:$E$1201,0)+COUNTIF($E$3:E765,E765)-1,\"\")","v":""}]
[null,null,null,null,"",{"$f":"IFERROR(RANK(E766,$E$3:$E$1201,0)+COUNTIF($E$3:E766,E766)-1,\"\")","v":""}]
[null,null,null,null,"",{"$f":"IFERROR(RANK(E767,$E$3:$E$1201,0)+COUNTIF($E$3:E767,E767)-1,\"\")","v":""}]
[null,null,null,null,"",{"$f":"IFERROR(RANK(E768,$E$3:$E$1201,0)+COUNTIF($E$3:E768,E768)-1,\"\")","v":""}]
[null,null,null,null,"",{"$f":"IFERROR(RANK(E769,$E$3:$E$1201,0)+COUNTIF($E$3:E769,E769)-1,\"\")","v":""}]
[null,null,null,null,"",{"$f":"IFERROR(RANK(E770,$E$3:$E$1201,0)+COUNTIF($E$3:E770,E770)-1,\"\")","v":""}]
[null,null,null,null,"",{"$f":"IFERROR(RANK(E771,$E$3:$E$1201,0)+COUNTIF($E$3:E771,E771)-1,\"\")","v":""}]
[null,null,null,null,{"$f":"IF(AND(D772>1000000,B772<>\"SUZB5+SUZB3<XBSP>\"),D772,\"\")","v":""},{"$f":"IFERROR(RANK(E772,$E$3:$E$1201,0)+COUNTIF($E$3:E772,E772)-1,\"\")","v":""}]
[null,null,null,null,"",{"$f":"IFERROR(RANK(E773,$E$3:$E$1201,0)+COUNTIF($E$3:E773,E773)-1,\"\")","v":""}]
[null,null,null,null,"",{"$f":"IFERROR(RANK(E774,$E$3:$E$1201,0)+COUNTIF($E$3:E774,E774)-1,\"\")","v":""}]
[null,null,null,null,"",{"$f":"IFERROR(RANK(E775,$E$3:$E$1201,0)+COUNTIF($E$3:E775,E775)-1,\"\")","v":""}]
[null,null,null,null,"",{"$f":"IFERROR(RANK(E776,$E$3:$E$1201,0)+COUNTIF($E$3:E776,E776)-1,\"\")","v":""}]
[null,null,null,null,"",{"$f":"IFERROR(RANK(E777,$E$3:$E$1201,0)+COUNTIF($E$3:E777,E777)-1,\"\")","v":""}]
[null,null,null,null,"",{"$f":"IFERROR(RANK(E778,$E$3:$E$1201,0)+COUNTIF($E$3:E778,E778)-1,\"\")","v":""}]
[null,null,null,null,"",{"$f":"IFERROR(RANK(E779,$E$3:$E$1201,0)+COUNTIF($E$3:E779,E779)-1,\"\")","v":""}]
[null,null,null,null,"",{"$f":"IFERROR(RANK(E780,$E$3:$E$1201,0)+COUNTIF($E$3:E780,E780)-1,\"\")","v":""}]
[null,null,null,null,"",{"$f":"IFERROR(RANK(E781,$E$3:$E$1201,0)+COUNTIF($E$3:E781,E781)-1,\"\")","v":""}]
[null,null,null,null,"",{"$f":"IFERROR(RANK(E782,$E$3:$E$1201,0)+COUNTIF($E$3:E782,E782)-1,\"\")","v":""}]
[null,null,null,null,"",{"$f":"IFERROR(RANK(E783,$E$3:$E$1201,0)+COUNTIF($E$3:E783,E783)-1,\"\")","v":""}]
[null,null,null,null,"",{"$f":"IFERROR(RANK(E784,$E$3:$E$1201,0)+COUNTIF($E$3:E784,E784)-1,\"\")","v":""}]
[null,null,null,null,"",{"$f":"IFERROR(RANK(E785,$E$3:$E$1201,0)+COUNTIF($E$3:E785,E785)-1,\"\")","v":""}]
[null,null,null,null,"",{"$f":"IFERROR(RANK(E786,$E$3:$E$1201,0)+COUNTIF($E$3:E786,E786)-1,\"\")","v":""}]
[null,null,null,null,"",{"$f":"IFERROR(RANK(E787,$E$3:$E$1201,0)+COUNTIF($E$3:E787,E787)-1,\"\")","v":""}]
[null,null,null,null,"",{"$f":"IFERROR(RANK(E788,$E$3:$E$1201,0)+COUNTIF($E$3:E788,E788)-1,\"\")","v":""}]
[null,null,null,null,"",{"$f":"IFERROR(RANK(E789,$E$3:$E$1201,0)+COUNTIF($E$3:E789,E789)-1,\"\")","v":""}]
[null,null,null,null,"",{"$f":"IFERROR(RANK(E790,$E$3:$E$1201,0)+COUNTIF($E$3:E790,E790)-1,\"\")","v":""}]
[null,null,null,null,"",{"$f":"IFERROR(RANK(E791,$E$3:$E$1201,0)+COUNTIF($E$3:E791,E791)-1,\"\")","v":""}]
[null,null,null,null,"",{"$f":"IFERROR(RANK(E792,$E$3:$E$1201,0)+COUNTIF($E$3:E792,E792)-1,\"\")","v":""}]
[null,null,null,null,"",{"$f":"IFERROR(RANK(E793,$E$3:$E$1201,0)+COUNTIF($E$3:E793,E793)-1,\"\")","v":""}]
[null,null,null,null,"",{"$f":"IFERROR(RANK(E794,$E$3:$E$1201,0)+COUNTIF($E$3:E794,E794)-1,\"\")","v":""}]
[null,null,null,null,"",{"$f":"IFERROR(RANK(E795,$E$3:$E$1201,0)+COUNTIF($E$3:E795,E795)-1,\"\")","v":""}]
[null,null,null,null,"",{"$f":"IFERROR(RANK(E796,$E$3:$E$1201,0)+COUNTIF($E$3:E796,E796)-1,\"\")","v":""}]
[null,null,null,null,"",{"$f":"IFERROR(RANK(E797,$E$3:$E$1201,0)+COUNTIF($E$3:E797,E797)-1,\"\")","v":""}]
[null,null,null,null,"",{"$f":"IFERROR(RANK(E798,$E$3:$E$1201,0)+COUNTIF($E$3:E798,E798)-1,\"\")","v":""}]
[null,null,null,null,"",{"$f":"IFERROR(RANK(E799,$E$3:$E$1201,0)+COUNTIF($E$3:E799,E799)-1,\"\")","v":""}]
[null,null,null,null,"",{"$f":"IFERROR(RANK(E800,$E$3:$E$1201,0)+COUNTIF($E$3:E800,E800)-1,\"\")","v":""}]
[null,null,null,null,"",{"$f":"IFERROR(RANK(E801,$E$3:$E$1201,0)+COUNTIF($E$3:E801,E801)-1,\"\")","v":""}]
[null,null,null,null,"",{"$f":"IFERROR(RANK(E802,$E$3:$E$1201,0)+COUNTIF($E$3:E802,E802)-1,\"\")","v":""}]
[null,null,null,null,"",{"$f":"IFERROR(RANK(E803,$E$3:$E$1201,0)+COUNTIF($E$3:E803,E803)-1,\"\")","v":""}]
[null,null,null,null,"",{"$f":"IFERROR(RANK(E804,$E$3:$E$1201,0)+COUNTIF($E$3:E804,E804)-1,\"\")","v":""}]
[null,null,null,null,"",{"$f":"IFERROR(RANK(E805,$E$3:$E$1201,0)+COUNTIF($E$3:E805,E805)-1,\"\")","v":""}]
[null,null,null,null,"",{"$f":"IFERROR(RANK(E806,$E$3:$E$1201,0)+COUNTIF($E$3:E806,E806)-1,\"\")","v":""}]
[null,null,null,null,"",{"$f":"IFERROR(RANK(E807,$E$3:$E$1201,0)+COUNTIF($E$3:E807,E807)-1,\"\")","v":""}]
[null,null,null,null,"",{"$f":"IFERROR(RANK(E808,$E$3:$E$1201,0)+COUNTIF($E$3:E808,E808)-1,\"\")","v":""}]
[null,null,null,null,"",{"$f":"IFERROR(RANK(E809,$E$3:$E$1201,0)+COUNTIF($E$3:E809,E809)-1,\"\")","v":""}]
[null,null,null,null,"",{"$f":"IFERROR(RANK(E810,$E$3:$E$1201,0)+COUNTIF($E$3:E810,E810)-1,\"\")","v":""}]
[null,null,null,null,"",{"$f":"IFERROR(RANK(E811,$E$3:$E$1201,0)+COUNTIF($E$3:E811,E811)-1,\"\")","v":""}]
[null,null,null,null,"",{"$f":"IFERROR(RANK(E812,$E$3:$E$1201,0)+COUNTIF($E$3:E812,E812)-1,\"\")","v":""}]
[null,null,null,null,"",{"$f":"IFERROR(RANK(E813,$E$3:$E$1201,0)+COUNTIF($E$3:E813,E813)-1,\"\")","v":""}]
[null,null,null,null,"",{"$f":"IFERROR(RANK(E814,$E$3:$E$1201,0)+COUNTIF($E$3:E814,E814)-1,\"\")","v":""}]
[null,null,null,null,"",{"$f":"IFERROR(RANK(E815,$E$3:$E$1201,0)+COUNTIF($E$3:E815,E815)-1,\"\")","v":""}]
[null,null,null,null,"",{"$f":"IFERROR(RANK(E816,$E$3:$E$1201,0)+COUNTIF($E$3:E816,E816)-1,\"\")","v":""}]
[null,null,null,null,"",{"$f":"IFERROR(RANK(E817,$E$3:$E$1201,0)+COUNTIF($E$3:E817,E817)-1,\"\")","v":""}]
[null,null,null,null,"",{"$f":"IFERROR(RANK(E818,$E$3:$E$1201,0)+COUNTIF($E$3:E818,E818)-1,\"\")","v":""}]
[null,null,null,null,"",{"$f":"IFERROR(RANK(E819,$E$3:$E$1201,0)+COUNTIF($E$3:E819,E819)-1,\"\")","v":""}]
[null,null,null,null,"",{"$f":"IFERROR(RANK(E820,$E$3:$E$1201,0)+COUNTIF($E$3:E820,E820)-1,\"\")","v":""}]
[null,null,null,null,"",{"$f":"IFERROR(RANK(E821,$E$3:$E$1201,0)+COUNTIF($E$3:E821,E821)-1,\"\")","v":""}]
[null,null,null,null,"",{"$f":"IFERROR(RANK(E822,$E$3:$E$1201,0)+COUNTIF($E$3:E822,E822)-1,\"\")","v":""}]
[null,null,null,null,"",{"$f":"IFERROR(RANK(E823,$E$3:$E$1201,0)+COUNTIF($E$3:E823,E823)-1,\"\")","v":""}]
[null,null,null,null,"",{"$f":"IFERROR(RANK(E824,$E$3:$E$1201,0)+COUNTIF($E$3:E824,E824)-1,\"\")","v":""}]
[null,null,null,null,"",{"$f":"IFERROR(RANK(E825,$E$3:$E$1201,0)+COUNTIF($E$3:E825,E825)-1,\"\")","v":""}]
[null,null,null,null,"",{"$f":"IFERROR(RANK(E826,$E$3:$E$1201,0)+COUNTIF($E$3:E826,E826)-1,\"\")","v":""}]
[null,null,null,null,"",{"$f":"IFERROR(RANK(E827,$E$3:$E$1201,0)+COUNTIF($E$3:E827,E827)-1,\"\")","v":""}]
[null,null,null,null,"",{"$f":"IFERROR(RANK(E828,$E$3:$E$1201,0)+COUNTIF($E$3:E828,E828)-1,\"\")","v":""}]
[null,null,null,null,"",{"$f":"IFERROR(RANK(E829,$E$3:$E$1201,0)+COUNTIF($E$3:E829,E829)-1,\"\")","v":""}]
[null,null,null,null,"",{"$f":"IFERROR(RANK(E830,$E$3:$E$1201,0)+COUNTIF($E$3:E830,E830)-1,\"\")","v":""}]
[null,null,null,null,"",{"$f":"IFERROR(RANK(E831,$E$3:$E$1201,0)+COUNTIF($E$3:E831,E831)-1,\"\")","v":""}]
[null,null,null,null,"",{"$f":"IFERROR(RANK(E832,$E$3:$E$1201,0)+COUNTIF($E$3:E832,E832)-1,\"\")","v":""}]
[null,null,null,null,"",{"$f":"IFERROR(RANK(E833,$E$3:$E$1201,0)+COUNTIF($E$3:E833,E833)-1,\"\")","v":""}]
[null,null,null,null,"",{"$f":"IFERROR(RANK(E834,$E$3:$E$1201,0)+COUNTIF($E$3:E834,E834)-1,\"\")","v":""}]
[null,null,null,null,"",{"$f":"IFERROR(RANK(E835,$E$3:$E$1201,0)+COUNTIF($E$3:E835,E835)-1,\"\")","v":""}]
[null,null,null,null,{"$f":"IF(AND(D836>1000000,B836<>\"SUZB5+SUZB3<XBSP>\"),D836,\"\")","v":""},{"$f":"IFERROR(RANK(E836,$E$3:$E$1201,0)+COUNTIF($E$3:E836,E836)-1,\"\")","v":""}]
[null,null,null,null,"",{"$f":"IFERROR(RANK(E837,$E$3:$E$1201,0)+COUNTIF($E$3:E837,E837)-1,\"\")","v":""}]
[null,null,null,null,"",{"$f":"IFERROR(RANK(E838,$E$3:$E$1201,0)+COUNTIF($E$3:E838,E838)-1,\"\")","v":""}]
[null,null,null,null,"",{"$f":"IFERROR(RANK(E839,$E$3:$E$1201,0)+COUNTIF($E$3:E839,E839)-1,\"\")","v":""}]
[null,null,null,null,"",{"$f":"IFERROR(RANK(E840,$E$3:$E$1201,0)+COUNTIF($E$3:E840,E840)-1,\"\")","v":""}]
[null,null,null,null,"",{"$f":"IFERROR(RANK(E841,$E$3:$E$1201,0)+COUNTIF($E$3:E841,E841)-1,\"\")","v":""}]
[null,null,null,null,"",{"$f":"IFERROR(RANK(E842,$E$3:$E$1201,0)+COUNTIF($E$3:E842,E842)-1,\"\")","v":""}]
[null,null,null,null,"",{"$f":"IFERROR(RANK(E843,$E$3:$E$1201,0)+COUNTIF($E$3:E843,E843)-1,\"\")","v":""}]
[null,null,null,null,"",{"$f":"IFERROR(RANK(E844,$E$3:$E$1201,0)+COUNTIF($E$3:E844,E844)-1,\"\")","v":""}]
[null,null,null,null,"",{"$f":"IFERROR(RANK(E845,$E$3:$E$1201,0)+COUNTIF($E$3:E845,E845)-1,\"\")","v":""}]
[null,null,null,null,"",{"$f":"IFERROR(RANK(E846,$E$3:$E$1201,0)+COUNTIF($E$3:E846,E846)-1,\"\")","v":""}]
[null,null,null,null,"",{"$f":"IFERROR(RANK(E847,$E$3:$E$1201,0)+COUNTIF($E$3:E847,E847)-1,\"\")","v":""}]
[null,null,null,null,"",{"$f":"IFERROR(RANK(E848,$E$3:$E$1201,0)+COUNTIF($E$3:E848,E848)-1,\"\")","v":""}]
[null,null,null,null,"",{"$f":"IFERROR(RANK(E849,$E$3:$E$1201,0)+COUNTIF($E$3:E849,E849)-1,\"\")","v":""}]
[null,null,null,null,"",{"$f":"IFERROR(RANK(E850,$E$3:$E$1201,0)+COUNTIF($E$3:E850,E850)-1,\"\")","v":""}]
[null,null,null,null,"",{"$f":"IFERROR(RANK(E851,$E$3:$E$1201,0)+COUNTIF($E$3:E851,E851)-1,\"\")","v":""}]
[null,null,null,null,"",{"$f":"IFERROR(RANK(E852,$E$3:$E$1201,0)+COUNTIF($E$3:E852,E852)-1,\"\")","v":""}]
[null,null,null,null,"",{"$f":"IFERROR(RANK(E853,$E$3:$E$1201,0)+COUNTIF($E$3:E853,E853)-1,\"\")","v":""}]
[null,null,null,null,"",{"$f":"IFERROR(RANK(E854,$E$3:$E$1201,0)+COUNTIF($E$3:E854,E854)-1,\"\")","v":""}]
[null,null,null,null,"",{"$f":"IFERROR(RANK(E855,$E$3:$E$1201,0)+COUNTIF($E$3:E855,E855)-1,\"\")","v":""}]
[null,null,null,null,"",{"$f":"IFERROR(RANK(E856,$E$3:$E$1201,0)+COUNTIF($E$3:E856,E856)-1,\"\")","v":""}]
[null,null,null,null,"",{"$f":"IFERROR(RANK(E857,$E$3:$E$1201,0)+COUNTIF($E$3:E857,E857)-1,\"\")","v":""}]
[null,null,null,null,"",{"$f":"IFERROR(RANK(E858,$E$3:$E$1201,0)+COUNTIF($E$3:E858,E858)-1,\"\")","v":""}]
[null,null,null,null,"",{"$f":"IFERROR(RANK(E859,$E$3:$E$1201,0)+COUNTIF($E$3:E859,E859)-1,\"\")","v":""}]
[null,null,null,null,"",{"$f":"IFERROR(RANK(E860,$E$3:$E$1201,0)+COUNTIF($E$3:E860,E860)-1,\"\")","v":""}]
[null,null,null,null,"",{"$f":"IFERROR(RANK(E861,$E$3:$E$1201,0)+COUNTIF($E$3:E861,E861)-1,\"\")","v":""}]
[null,null,null,null,"",{"$f":"IFERROR(RANK(E862,$E$3:$E$1201,0)+COUNTIF($E$3:E862,E862)-1,\"\")","v":""}]
[null,null,null,null,"",{"$f":"IFERROR(RANK(E863,$E$3:$E$1201,0)+COUNTIF($E$3:E863,E863)-1,\"\")","v":""}]
[null,null,null,null,"",{"$f":"IFERROR(RANK(E864,$E$3:$E$1201,0)+COUNTIF($E$3:E864,E864)-1,\"\")","v":""}]
[null,null,null,null,"",{"$f":"IFERROR(RANK(E865,$E$3:$E$1201,0)+COUNTIF($E$3:E865,E865)-1,\"\")","v":""}]
[null,null,null,null,"",{"$f":"IFERROR(RANK(E866,$E$3:$E$1201,0)+COUNTIF($E$3:E866,E866)-1,\"\")","v":""}]
[null,null,null,null,"",{"$f":"IFERROR(RANK(E867,$E$3:$E$1201,0)+COUNTIF($E$3:E867,E867)-1,\"\")","v":""}]
[null,null,null,null,"",{"$f":"IFERROR(RANK(E868,$E$3:$E$1201,0)+COUNTIF($E$3:E868,E868)-1,\"\")","v":""}]
[null,null,null,null,"",{"$f":"IFERROR(RANK(E869,$E$3:$E$1201,0)+COUNTIF($E$3:E869,E869)-1,\"\")","v":""}]
[null,null,null,null,"",{"$f":"IFERROR(RANK(E870,$E$3:$E$1201,0)+COUNTIF($E$3:E870,E870)-1,\"\")","v":""}]
[null,null,null,null,"",{"$f":"IFERROR(RANK(E871,$E$3:$E$1201,0)+COUNTIF($E$3:E871,E871)-1,\"\")","v":""}]
[null,null,null,null,"",{"$f":"IFERROR(RANK(E872,$E$3:$E$1201,0)+COUNTIF($E$3:E872,E872)-1,\"\")","v":""}]
[null,null,null,null,"",{"$f":"IFERROR(RANK(E873,$E$3:$E$1201,0)+COUNTIF($E$3:E873,E873)-1,\"\")","v":""}]
[null,null,null,null,"",{"$f":"IFERROR(RANK(E874,$E$3:$E$1201,0)+COUNTIF($E$3:E874,E874)-1,\"\")","v":""}]
[null,null,null,null,"",{"$f":"IFERROR(RANK(E875,$E$3:$E$1201,0)+COUNTIF($E$3:E875,E875)-1,\"\")","v":""}]
[null,null,null,null,"",{"$f":"IFERROR(RANK(E876,$E$3:$E$1201,0)+COUNTIF($E$3:E876,E876)-1,\"\")","v":""}]
[null,null,null,null,"",{"$f":"IFERROR(RANK(E877,$E$3:$E$1201,0)+COUNTIF($E$3:E877,E877)-1,\"\")","v":""}]
[null,null,null,null,"",{"$f":"IFERROR(RANK(E878,$E$3:$E$1201,0)+COUNTIF($E$3:E878,E878)-1,\"\")","v":""}]
[null,null,null,null,"",{"$f":"IFERROR(RANK(E879,$E$3:$E$1201,0)+COUNTIF($E$3:E879,E879)-1,\"\")","v":""}]
[null,null,null,null,"",{"$f":"IFERROR(RANK(E880,$E$3:$E$1201,0)+COUNTIF($E$3:E880,E880)-1,\"\")","v":""}]
[null,null,null,null,"",{"$f":"IFERROR(RANK(E881,$E$3:$E$1201,0)+COUNTIF($E$3:E881,E881)-1,\"\")","v":""}]
[null,null,null,null,"",{"$f":"IFERROR(RANK(E882,$E$3:$E$1201,0)+COUNTIF($E$3:E882,E882)-1,\"\")","v":""}]
[null,null,null,null,"",{"$f":"IFERROR(RANK(E883,$E$3:$E$1201,0)+COUNTIF($E$3:E883,E883)-1,\"\")","v":""}]
[null,null,null,null,"",{"$f":"IFERROR(RANK(E884,$E$3:$E$1201,0)+COUNTIF($E$3:E884,E884)-1,\"\")","v":""}]
[null,null,null,null,"",{"$f":"IFERROR(RANK(E885,$E$3:$E$1201,0)+COUNTIF($E$3:E885,E885)-1,\"\")","v":""}]
[null,null,null,null,"",{"$f":"IFERROR(RANK(E886,$E$3:$E$1201,0)+COUNTIF($E$3:E886,E886)-1,\"\")","v":""}]
[null,null,null,null,"",{"$f":"IFERROR(RANK(E887,$E$3:$E$1201,0)+COUNTIF($E$3:E887,E887)-1,\"\")","v":""}]
[null,null,null,null,"",{"$f":"IFERROR(RANK(E888,$E$3:$E$1201,0)+COUNTIF($E$3:E888,E888)-1,\"\")","v":""}]
[null,null,null,null,"",{"$f":"IFERROR(RANK(E889,$E$3:$E$1201,0)+COUNTIF($E$3:E889,E889)-1,\"\")","v":""}]
[null,null,null,null,"",{"$f":"IFERROR(RANK(E890,$E$3:$E$1201,0)+COUNTIF($E$3:E890,E890)-1,\"\")","v":""}]
[null,null,null,null,"",{"$f":"IFERROR(RANK(E891,$E$3:$E$1201,0)+COUNTIF($E$3:E891,E891)-1,\"\")","v":""}]
[null,null,null,null,"",{"$f":"IFERROR(RANK(E892,$E$3:$E$1201,0)+COUNTIF($E$3:E892,E892)-1,\"\")","v":""}]
[null,null,null,null,"",{"$f":"IFERROR(RANK(E893,$E$3:$E$1201,0)+COUNTIF($E$3:E893,E893)-1,\"\")","v":""}]
[null,null,null,null,"",{"$f":"IFERROR(RANK(E894,$E$3:$E$1201,0)+COUNTIF($E$3:E894,E894)-1,\"\")","v":""}]
[null,null,null,null,"",{"$f":"IFERROR(RANK(E895,$E$3:$E$1201,0)+COUNTIF($E$3:E895,E895)-1,\"\")","v":""}]
[null,null,null,null,"",{"$f":"IFERROR(RANK(E896,$E$3:$E$1201,0)+COUNTIF($E$3:E896,E896)-1,\"\")","v":""}]
[null,null,null,null,"",{"$f":"IFERROR(RANK(E897,$E$3:$E$1201,0)+COUNTIF($E$3:E897,E897)-1,\"\")","v":""}]
[null,null,null,null,"",{"$f":"IFERROR(RANK(E898,$E$3:$E$1201,0)+COUNTIF($E$3:E898,E898)-1,\"\")","v":""}]
[null,null,null,null,"",{"$f":"IFERROR(RANK(E899,$E$3:$E$1201,0)+COUNTIF($E$3:E899,E899)-1,\"\")","v":""}]
[null,null,null,null,{"$f":"IF(AND(D900>1000000,B900<>\"SUZB5+SUZB3<XBSP>\"),D900,\"\")","v":""},{"$f":"IFERROR(RANK(E900,$E$3:$E$1201,0)+COUNTIF($E$3:E900,E900)-1,\"\")","v":""}]
[null,null,null,null,"",{"$f":"IFERROR(RANK(E901,$E$3:$E$1201,0)+COUNTIF($E$3:E901,E901)-1,\"\")","v":""}]
[null,null,null,null,"",{"$f":"IFERROR(RANK(E902,$E$3:$E$1201,0)+COUNTIF($E$3:E902,E902)-1,\"\")","v":""}]
[null,null,null,null,"",{"$f":"IFERROR(RANK(E903,$E$3:$E$1201,0)+COUNTIF($E$3:E903,E903)-1,\"\")","v":""}]
[null,null,null,null,"",{"$f":"IFERROR(RANK(E904,$E$3:$E$1201,0)+COUNTIF($E$3:E904,E904)-1,\"\")","v":""}]
[null,null,null,null,"",{"$f":"IFERROR(RANK(E905,$E$3:$E$1201,0)+COUNTIF($E$3:E905,E905)-1,\"\")","v":""}]
[null,null,null,null,"",{"$f":"IFERROR(RANK(E906,$E$3:$E$1201,0)+COUNTIF($E$3:E906,E906)-1,\"\")","v":""}]
[null,null,null,null,"",{"$f":"IFERROR(RANK(E907,$E$3:$E$1201,0)+COUNTIF($E$3:E907,E907)-1,\"\")","v":""}]
[null,null,null,null,"",{"$f":"IFERROR(RANK(E908,$E$3:$E$1201,0)+COUNTIF($E$3:E908,E908)-1,\"\")","v":""}]
[null,null,null,null,"",{"$f":"IFERROR(RANK(E909,$E$3:$E$1201,0)+COUNTIF($E$3:E909,E909)-1,\"\")","v":""}]
[null,null,null,null,"",{"$f":"IFERROR(RANK(E910,$E$3:$E$1201,0)+COUNTIF($E$3:E910,E910)-1,\"\")","v":""}]
[null,null,null,null,"",{"$f":"IFERROR(RANK(E911,$E$3:$E$1201,0)+COUNTIF($E$3:E911,E911)-1,\"\")","v":""}]
[null,null,null,null,"",{"$f":"IFERROR(RANK(E912,$E$3:$E$1201,0)+COUNTIF($E$3:E912,E912)-1,\"\")","v":""}]
[null,null,null,null,"",{"$f":"IFERROR(RANK(E913,$E$3:$E$1201,0)+COUNTIF($E$3:E913,E913)-1,\"\")","v":""}]
[null,null,null,null,"",{"$f":"IFERROR(RANK(E914,$E$3:$E$1201,0)+COUNTIF($E$3:E914,E914)-1,\"\")","v":""}]
[null,null,null,null,"",{"$f":"IFERROR(RANK(E915,$E$3:$E$1201,0)+COUNTIF($E$3:E915,E915)-1,\"\")","v":""}]
[null,null,null,null,"",{"$f":"IFERROR(RANK(E916,$E$3:$E$1201,0)+COUNTIF($E$3:E916,E916)-1,\"\")","v":""}]
[null,null,null,null,"",{"$f":"IFERROR(RANK(E917,$E$3:$E$1201,0)+COUNTIF($E$3:E917,E917)-1,\"\")","v":""}]
[null,null,null,null,"",{"$f":"IFERROR(RANK(E918,$E$3:$E$1201,0)+COUNTIF($E$3:E918,E918)-1,\"\")","v":""}]
[null,null,null,null,"",{"$f":"IFERROR(RANK(E919,$E$3:$E$1201,0)+COUNTIF($E$3:E919,E919)-1,\"\")","v":""}]
[null,null,null,null,"",{"$f":"IFERROR(RANK(E920,$E$3:$E$1201,0)+COUNTIF($E$3:E920,E920)-1,\"\")","v":""}]
[null,null,null,null,"",{"$f":"IFERROR(RANK(E921,$E$3:$E$1201,0)+COUNTIF($E$3:E921,E921)-1,\"\")","v":""}]
[null,null,null,null,"",{"$f":"IFERROR(RANK(E922,$E$3:$E$1201,0)+COUNTIF($E$3:E922,E922)-1,\"\")","v":""}]
[null,null,null,null,"",{"$f":"IFERROR(RANK(E923,$E$3:$E$1201,0)+COUNTIF($E$3:E923,E923)-1,\"\")","v":""}]
[null,null,null,null,"",{"$f":"IFERROR(RANK(E924,$E$3:$E$1201,0)+COUNTIF($E$3:E924,E924)-1,\"\")","v":""}]
[null,null,null,null,"",{"$f":"IFERROR(RANK(E925,$E$3:$E$1201,0)+COUNTIF($E$3:E925,E925)-1,\"\")","v":""}]
[null,null,null,null,"",{"$f":"IFERROR(RANK(E926,$E$3:$E$1201,0)+COUNTIF($E$3:E926,E926)-1,\"\")","v":""}]
[null,null,null,null,"",{"$f":"IFERROR(RANK(E927,$E$3:$E$1201,0)+COUNTIF($E$3:E927,E927)-1,\"\")","v":""}]
[null,null,null,null,"",{"$f":"IFERROR(RANK(E928,$E$3:$E$1201,0)+COUNTIF($E$3:E928,E928)-1,\"\")","v":""}]
[null,null,null,null,"",{"$f":"IFERROR(RANK(E929,$E$3:$E$1201,0)+COUNTIF($E$3:E929,E929)-1,\"\")","v":""}]
[null,null,null,null,"",{"$f":"IFERROR(RANK(E930,$E$3:$E$1201,0)+COUNTIF($E$3:E930,E930)-1,\"\")","v":""}]
[null,null,null,null,"",{"$f":"IFERROR(RANK(E931,$E$3:$E$1201,0)+COUNTIF($E$3:E931,E931)-1,\"\")","v":""}]
[null,null,null,null,"",{"$f":"IFERROR(RANK(E932,$E$3:$E$1201,0)+COUNTIF($E$3:E932,E932)-1,\"\")","v":""}]
[null,null,null,null,"",{"$f":"IFERROR(RANK(E933,$E$3:$E$1201,0)+COUNTIF($E$3:E933,E933)-1,\"\")","v":""}]
[null,null,null,null,"",{"$f":"IFERROR(RANK(E934,$E$3:$E$1201,0)+COUNTIF($E$3:E934,E934)-1,\"\")","v":""}]
[null,null,null,null,"",{"$f":"IFERROR(RANK(E935,$E$3:$E$1201,0)+COUNTIF($E$3:E935,E935)-1,\"\")","v":""}]
[null,null,null,null,"",{"$f":"IFERROR(RANK(E936,$E$3:$E$1201,0)+COUNTIF($E$3:E936,E936)-1,\"\")","v":""}]
[null,null,null,null,"",{"$f":"IFERROR(RANK(E937,$E$3:$E$1201,0)+COUNTIF($E$3:E937,E937)-1,\"\")","v":""}]
[null,null,null,null,"",{"$f":"IFERROR(RANK(E938,$E$3:$E$1201,0)+COUNTIF($E$3:E938,E938)-1,\"\")","v":""}]
[null,null,null,null,"",{"$f":"IFERROR(RANK(E939,$E$3:$E$1201,0)+COUNTIF($E$3:E939,E939)-1,\"\")","v":""}]
[null,null,null,null,"",{"$f":"IFERROR(RANK(E940,$E$3:$E$1201,0)+COUNTIF($E$3:E940,E940)-1,\"\")","v":""}]
[null,null,null,null,"",{"$f":"IFERROR(RANK(E941,$E$3:$E$1201,0)+COUNTIF($E$3:E941,E941)-1,\"\")","v":""}]
[null,null,null,null,"",{"$f":"IFERROR(RANK(E942,$E$3:$E$1201,0)+COUNTIF($E$3:E942,E942)-1,\"\")","v":""}]
[null,null,null,null,"",{"$f":"IFERROR(RANK(E943,$E$3:$E$1201,0)+COUNTIF($E$3:E943,E943)-1,\"\")","v":""}]
[null,null,null,null,"",{"$f":"IFERROR(RANK(E944,$E$3:$E$1201,0)+COUNTIF($E$3:E944,E944)-1,\"\")","v":""}]
[null,null,null,null,"",{"$f":"IFERROR(RANK(E945,$E$3:$E$1201,0)+COUNTIF($E$3:E945,E945)-1,\"\")","v":""}]
[null,null,null,null,"",{"$f":"IFERROR(RANK(E946,$E$3:$E$1201,0)+COUNTIF($E$3:E946,E946)-1,\"\")","v":""}]
[null,null,null,null,"",{"$f":"IFERROR(RANK(E947,$E$3:$E$1201,0)+COUNTIF($E$3:E947,E947)-1,\"\")","v":""}]
[null,null,null,null,"",{"$f":"IFERROR(RANK(E948,$E$3:$E$1201,0)+COUNTIF($E$3:E948,E948)-1,\"\")","v":""}]
[null,null,null,null,"",{"$f":"IFERROR(RANK(E949,$E$3:$E$1201,0)+COUNTIF($E$3:E949,E949)-1,\"\")","v":""}]
[null,null,null,null,"",{"$f":"IFERROR(RANK(E950,$E$3:$E$1201,0)+COUNTIF($E$3:E950,E950)-1,\"\")","v":""}]
[null,null,null,null,"",{"$f":"IFERROR(RANK(E951,$E$3:$E$1201,0)+COUNTIF($E$3:E951,E951)-1,\"\")","v":""}]
[null,null,null,null,"",{"$f":"IFERROR(RANK(E952,$E$3:$E$1201,0)+COUNTIF($E$3:E952,E952)-1,\"\")","v":""}]
[null,null,null,null,"",{"$f":"IFERROR(RANK(E953,$E$3:$E$1201,0)+COUNTIF($E$3:E953,E953)-1,\"\")","v":""}]
[null,null,null,null,"",{"$f":"IFERROR(RANK(E954,$E$3:$E$1201,0)+COUNTIF($E$3:E954,E954)-1,\"\")","v":""}]
[null,null,null,null,"",{"$f":"IFERROR(RANK(E955,$E$3:$E$1201,0)+COUNTIF($E$3:E955,E955)-1,\"\")","v":""}]
[null,null,null,null,"",{"$f":"IFERROR(RANK(E956,$E$3:$E$1201,0)+COUNTIF($E$3:E956,E956)-1,\"\")","v":""}]
[null,null,null,null,"",{"$f":"IFERROR(RANK(E957,$E$3:$E$1201,0)+COUNTIF($E$3:E957,E957)-1,\"\")","v":""}]
[null,null,null,null,"",{"$f":"IFERROR(RANK(E958,$E$3:$E$1201,0)+COUNTIF($E$3:E958,E958)-1,\"\")","v":""}]
[null,null,null,null,"",{"$f":"IFERROR(RANK(E959,$E$3:$E$1201,0)+COUNTIF($E$3:E959,E959)-1,\"\")","v":""}]
[null,null,null,null,"",{"$f":"IFERROR(RANK(E960,$E$3:$E$1201,0)+COUNTIF($E$3:E960,E960)-1,\"\")","v":""}]
[null,null,null,null,"",{"$f":"IFERROR(RANK(E961,$E$3:$E$1201,0)+COUNTIF($E$3:E961,E961)-1,\"\")","v":""}]
[null,null,null,null,"",{"$f":"IFERROR(RANK(E962,$E$3:$E$1201,0)+COUNTIF($E$3:E962,E962)-1,\"\")","v":""}]
[null,null,null,null,"",{"$f":"IFERROR(RANK(E963,$E$3:$E$1201,0)+COUNTIF($E$3:E963,E963)-1,\"\")","v":""}]
[null,null,null,null,{"$f":"IF(AND(D964>1000000,B964<>\"SUZB5+SUZB3<XBSP>\"),D964,\"\")","v":""},{"$f":"IFERROR(RANK(E964,$E$3:$E$1201,0)+COUNTIF($E$3:E964,E964)-1,\"\")","v":""}]
[null,null,null,null,"",{"$f":"IFERROR(RANK(E965,$E$3:$E$1201,0)+COUNTIF($E$3:E965,E965)-1,\"\")","v":""}]
[null,null,null,null,"",{"$f":"IFERROR(RANK(E966,$E$3:$E$1201,0)+COUNTIF($E$3:E966,E966)-1,\"\")","v":""}]
[null,null,null,null,"",{"$f":"IFERROR(RANK(E967,$E$3:$E$1201,0)+COUNTIF($E$3:E967,E967)-1,\"\")","v":""}]
[null,null,null,null,"",{"$f":"IFERROR(RANK(E968,$E$3:$E$1201,0)+COUNTIF($E$3:E968,E968)-1,\"\")","v":""}]
[null,null,null,null,"",{"$f":"IFERROR(RANK(E969,$E$3:$E$1201,0)+COUNTIF($E$3:E969,E969)-1,\"\")","v":""}]
[null,null,null,null,"",{"$f":"IFERROR(RANK(E970,$E$3:$E$1201,0)+COUNTIF($E$3:E970,E970)-1,\"\")","v":""}]
[null,null,null,null,"",{"$f":"IFERROR(RANK(E971,$E$3:$E$1201,0)+COUNTIF($E$3:E971,E971)-1,\"\")","v":""}]
[null,null,null,null,"",{"$f":"IFERROR(RANK(E972,$E$3:$E$1201,0)+COUNTIF($E$3:E972,E972)-1,\"\")","v":""}]
[null,null,null,null,"",{"$f":"IFERROR(RANK(E973,$E$3:$E$1201,0)+COUNTIF($E$3:E973,E973)-1,\"\")","v":""}]
[null,null,null,null,"",{"$f":"IFERROR(RANK(E974,$E$3:$E$1201,0)+COUNTIF($E$3:E974,E974)-1,\"\")","v":""}]
[null,null,null,null,"",{"$f":"IFERROR(RANK(E975,$E$3:$E$1201,0)+COUNTIF($E$3:E975,E975)-1,\"\")","v":""}]
[null,null,null,null,"",{"$f":"IFERROR(RANK(E976,$E$3:$E$1201,0)+COUNTIF($E$3:E976,E976)-1,\"\")","v":""}]
[null,null,null,null,"",{"$f":"IFERROR(RANK(E977,$E$3:$E$1201,0)+COUNTIF($E$3:E977,E977)-1,\"\")","v":""}]
[null,null,null,null,"",{"$f":"IFERROR(RANK(E978,$E$3:$E$1201,0)+COUNTIF($E$3:E978,E978)-1,\"\")","v":""}]
[null,null,null,null,"",{"$f":"IFERROR(RANK(E979,$E$3:$E$1201,0)+COUNTIF($E$3:E979,E979)-1,\"\")","v":""}]
[null,null,null,null,"",{"$f":"IFERROR(RANK(E980,$E$3:$E$1201,0)+COUNTIF($E$3:E980,E980)-1,\"\")","v":""}]
[null,null,null,null,"",{"$f":"IFERROR(RANK(E981,$E$3:$E$1201,0)+COUNTIF($E$3:E981,E981)-1,\"\")","v":""}]
[null,null,null,null,"",{"$f":"IFERROR(RANK(E982,$E$3:$E$1201,0)+COUNTIF($E$3:E982,E982)-1,\"\")","v":""}]
[null,null,null,null,"",{"$f":"IFERROR(RANK(E983,$E$3:$E$1201,0)+COUNTIF($E$3:E983,E983)-1,\"\")","v":""}]
[null,null,null,null,"",{"$f":"IFERROR(RANK(E984,$E$3:$E$1201,0)+COUNTIF($E$3:E984,E984)-1,\"\")","v":""}]
[null,null,null,null,"",{"$f":"IFERROR(RANK(E985,$E$3:$E$1201,0)+COUNTIF($E$3:E985,E985)-1,\"\")","v":""}]
[null,null,null,null,"",{"$f":"IFERROR(RANK(E986,$E$3:$E$1201,0)+COUNTIF($E$3:E986,E986)-1,\"\")","v":""}]
[null,null,null,null,"",{"$f":"IFERROR(RANK(E987,$E$3:$E$1201,0)+COUNTIF($E$3:E987,E987)-1,\"\")","v":""}]
[null,null,null,null,"",{"$f":"IFERROR(RANK(E988,$E$3:$E$1201,0)+COUNTIF($E$3:E988,E988)-1,\"\")","v":""}]
[null,null,null,null,"",{"$f":"IFERROR(RANK(E989,$E$3:$E$1201,0)+COUNTIF($E$3:E989,E989)-1,\"\")","v":""}]
[null,null,null,null,"",{"$f":"IFERROR(RANK(E990,$E$3:$E$1201,0)+COUNTIF($E$3:E990,E990)-1,\"\")","v":""}]
[null,null,null,null,"",{"$f":"IFERROR(RANK(E991,$E$3:$E$1201,0)+COUNTIF($E$3:E991,E991)-1,\"\")","v":""}]
[null,null,null,null,"",{"$f":"IFERROR(RANK(E992,$E$3:$E$1201,0)+COUNTIF($E$3:E992,E992)-1,\"\")","v":""}]
[null,null,null,null,"",{"$f":"IFERROR(RANK(E993,$E$3:$E$1201,0)+COUNTIF($E$3:E993,E993)-1,\"\")","v":""}]
[null,null,null,null,"",{"$f":"IFERROR(RANK(E994,$E$3:$E$1201,0)+COUNTIF($E$3:E994,E994)-1,\"\")","v":""}]
[null,null,null,null,"",{"$f":"IFERROR(RANK(E995,$E$3:$E$1201,0)+COUNTIF($E$3:E995,E995)-1,\"\")","v":""}]
[null,null,null,null,"",{"$f":"IFERROR(RANK(E996,$E$3:$E$1201,0)+COUNTIF($E$3:E996,E996)-1,\"\")","v":""}]
[null,null,null,null,"",{"$f":"IFERROR(RANK(E997,$E$3:$E$1201,0)+COUNTIF($E$3:E997,E997)-1,\"\")","v":""}]
[null,null,null,null,"",{"$f":"IFERROR(RANK(E998,$E$3:$E$1201,0)+COUNTIF($E$3:E998,E998)-1,\"\")","v":""}]
[null,null,null,null,"",{"$f":"IFERROR(RANK(E999,$E$3:$E$1201,0)+COUNTIF($E$3:E999,E999)-1,\"\")","v":""}]
[null,null,null,null,"",{"$f":"IFERROR(RANK(E1000,$E$3:$E$1201,0)+COUNTIF($E$3:E1000,E1000)-1,\"\")","v":""}]
[null,null,null,null,"",{"$f":"IFERROR(RANK(E1001,$E$3:$E$1201,0)+COUNTIF($E$3:E1001,E1001)-1,\"\")","v":""}]
[null,null,null,null,"",{"$f":"IFERROR(RANK(E1002,$E$3:$E$1201,0)+COUNTIF($E$3:E1002,E1002)-1,\"\")","v":""}]
[null,null,null,null,"",{"$f":"IFERROR(RANK(E1003,$E$3:$E$1201,0)+COUNTIF($E$3:E1003,E1003)-1,\"\")","v":""}]
[null,null,null,null,"",{"$f":"IFERROR(RANK(E1004,$E$3:$E$1201,0)+COUNTIF($E$3:E1004,E1004)-1,\"\")","v":""}]
[null,null,null,null,"",{"$f":"IFERROR(RANK(E1005,$E$3:$E$1201,0)+COUNTIF($E$3:E1005,E1005)-1,\"\")","v":""}]
[null,null,null,null,"",{"$f":"IFERROR(RANK(E1006,$E$3:$E$1201,0)+COUNTIF($E$3:E1006,E1006)-1,\"\")","v":""}]
[null,null,null,null,"",{"$f":"IFERROR(RANK(E1007,$E$3:$E$1201,0)+COUNTIF($E$3:E1007,E1007)-1,\"\")","v":""}]
[null,null,null,null,"",{"$f":"IFERROR(RANK(E1008,$E$3:$E$1201,0)+COUNTIF($E$3:E1008,E1008)-1,\"\")","v":""}]
[null,null,null,null,"",{"$f":"IFERROR(RANK(E1009,$E$3:$E$1201,0)+COUNTIF($E$3:E1009,E1009)-1,\"\")","v":""}]
[null,null,null,null,"",{"$f":"IFERROR(RANK(E1010,$E$3:$E$1201,0)+COUNTIF($E$3:E1010,E1010)-1,\"\")","v":""}]
[null,null,null,null,"",{"$f":"IFERROR(RANK(E1011,$E$3:$E$1201,0)+COUNTIF($E$3:E1011,E1011)-1,\"\")","v":""}]
[null,null,null,null,"",{"$f":"IFERROR(RANK(E1012,$E$3:$E$1201,0)+COUNTIF($E$3:E1012,E1012)-1,\"\")","v":""}]
[null,null,null,null,"",{"$f":"IFERROR(RANK(E1013,$E$3:$E$1201,0)+COUNTIF($E$3:E1013,E1013)-1,\"\")","v":""}]
[null,null,null,null,"",{"$f":"IFERROR(RANK(E1014,$E$3:$E$1201,0)+COUNTIF($E$3:E1014,E1014)-1,\"\")","v":""}]
[null,null,null,null,"",{"$f":"IFERROR(RANK(E1015,$E$3:$E$1201,0)+COUNTIF($E$3:E1015,E1015)-1,\"\")","v":""}]
[null,null,null,null,"",{"$f":"IFERROR(RANK(E1016,$E$3:$E$1201,0)+COUNTIF($E$3:E1016,E1016)-1,\"\")","v":""}]
[null,null,null,null,"",{"$f":"IFERROR(RANK(E1017,$E$3:$E$1201,0)+COUNTIF($E$3:E1017,E1017)-1,\"\")","v":""}]
[null,null,null,null,"",{"$f":"IFERROR(RANK(E1018,$E$3:$E$1201,0)+COUNTIF($E$3:E1018,E1018)-1,\"\")","v":""}]
[null,null,null,null,"",{"$f":"IFERROR(RANK(E1019,$E$3:$E$1201,0)+COUNTIF($E$3:E1019,E1019)-1,\"\")","v":""}]
[null,null,null,null,"",{"$f":"IFERROR(RANK(E1020,$E$3:$E$1201,0)+COUNTIF($E$3:E1020,E1020)-1,\"\")","v":""}]
[null,null,null,null,"",{"$f":"IFERROR(RANK(E1021,$E$3:$E$1201,0)+COUNTIF($E$3:E1021,E1021)-1,\"\")","v":""}]
[null,null,null,null,"",{"$f":"IFERROR(RANK(E1022,$E$3:$E$1201,0)+COUNTIF($E$3:E1022,E1022)-1,\"\")","v":""}]
[null,null,null,null,"",{"$f":"IFERROR(RANK(E1023,$E$3:$E$1201,0)+COUNTIF($E$3:E1023,E1023)-1,\"\")","v":""}]
[null,null,null,null,"",{"$f":"IFERROR(RANK(E1024,$E$3:$E$1201,0)+COUNTIF($E$3:E1024,E1024)-1,\"\")","v":""}]
[null,null,null,null,"",{"$f":"IFERROR(RANK(E1025,$E$3:$E$1201,0)+COUNTIF($E$3:E1025,E1025)-1,\"\")","v":""}]
[null,null,null,null,"",{"$f":"IFERROR(RANK(E1026,$E$3:$E$1201,0)+COUNTIF($E$3:E1026,E1026)-1,\"\")","v":""}]
[null,null,null,null,"",{"$f":"IFERROR(RANK(E1027,$E$3:$E$1201,0)+COUNTIF($E$3:E1027,E1027)-1,\"\")","v":""}]
[null,null,null,null,{"$f":"IF(AND(D1028>1000000,B1028<>\"SUZB5+SUZB3<XBSP>\"),D1028,\"\")","v":""},{"$f":"IFERROR(RANK(E1028,$E$3:$E$1201,0)+COUNTIF($E$3:E1028,E1028)-1,\"\")","v":""}]
[null,null,null,null,"",{"$f":"IFERROR(RANK(E1029,$E$3:$E$1201,0)+COUNTIF($E$3:E1029,E1029)-1,\"\")","v":""}]
[null,null,null,null,"",{"$f":"IFERROR(RANK(E1030,$E$3:$E$1201,0)+COUNTIF($E$3:E1030,E1030)-1,\"\")","v":""}]
[null,null,null,null,"",{"$f":"IFERROR(RANK(E1031,$E$3:$E$1201,0)+COUNTIF($E$3:E1031,E1031)-1,\"\")","v":""}]
[null,null,null,null,"",{"$f":"IFERROR(RANK(E1032,$E$3:$E$1201,0)+COUNTIF($E$3:E1032,E1032)-1,\"\")","v":""}]
[null,null,null,null,"",{"$f":"IFERROR(RANK(E1033,$E$3:$E$1201,0)+COUNTIF($E$3:E1033,E1033)-1,\"\")","v":""}]
[null,null,null,null,"",{"$f":"IFERROR(RANK(E1034,$E$3:$E$1201,0)+COUNTIF($E$3:E1034,E1034)-1,\"\")","v":""}]
[null,null,null,null,"",{"$f":"IFERROR(RANK(E1035,$E$3:$E$1201,0)+COUNTIF($E$3:E1035,E1035)-1,\"\")","v":""}]
[null,null,null,null,"",{"$f":"IFERROR(RANK(E1036,$E$3:$E$1201,0)+COUNTIF($E$3:E1036,E1036)-1,\"\")","v":""}]
[null,null,null,null,"",{"$f":"IFERROR(RANK(E1037,$E$3:$E$1201,0)+COUNTIF($E$3:E1037,E1037)-1,\"\")","v":""}]
[null,null,null,null,"",{"$f":"IFERROR(RANK(E1038,$E$3:$E$1201,0)+COUNTIF($E$3:E1038,E1038)-1,\"\")","v":""}]
[null,null,null,null,"",{"$f":"IFERROR(RANK(E1039,$E$3:$E$1201,0)+COUNTIF($E$3:E1039,E1039)-1,\"\")","v":""}]
[null,null,null,null,"",{"$f":"IFERROR(RANK(E1040,$E$3:$E$1201,0)+COUNTIF($E$3:E1040,E1040)-1,\"\")","v":""}]
[null,null,null,null,"",{"$f":"IFERROR(RANK(E1041,$E$3:$E$1201,0)+COUNTIF($E$3:E1041,E1041)-1,\"\")","v":""}]
[null,null,null,null,"",{"$f":"IFERROR(RANK(E1042,$E$3:$E$1201,0)+COUNTIF($E$3:E1042,E1042)-1,\"\")","v":""}]
[null,null,null,null,"",{"$f":"IFERROR(RANK(E1043,$E$3:$E$1201,0)+COUNTIF($E$3:E1043,E1043)-1,\"\")","v":""}]
[null,null,null,null,"",{"$f":"IFERROR(RANK(E1044,$E$3:$E$1201,0)+COUNTIF($E$3:E1044,E1044)-1,\"\")","v":""}]
[null,null,null,null,"",{"$f":"IFERROR(RANK(E1045,$E$3:$E$1201,0)+COUNTIF($E$3:E1045,E1045)-1,\"\")","v":""}]
[null,null,null,null,"",{"$f":"IFERROR(RANK(E1046,$E$3:$E$1201,0)+COUNTIF($E$3:E1046,E1046)-1,\"\")","v":""}]
[null,null,null,null,"",{"$f":"IFERROR(RANK(E1047,$E$3:$E$1201,0)+COUNTIF($E$3:E1047,E1047)-1,\"\")","v":""}]
[null,null,null,null,"",{"$f":"IFERROR(RANK(E1048,$E$3:$E$1201,0)+COUNTIF($E$3:E1048,E1048)-1,\"\")","v":""}]
[null,null,null,null,"",{"$f":"IFERROR(RANK(E1049,$E$3:$E$1201,0)+COUNTIF($E$3:E1049,E1049)-1,\"\")","v":""}]
[null,null,null,null,"",{"$f":"IFERROR(RANK(E1050,$E$3:$E$1201,0)+COUNTIF($E$3:E1050,E1050)-1,\"\")","v":""}]
[null,null,null,null,"",{"$f":"IFERROR(RANK(E1051,$E$3:$E$1201,0)+COUNTIF($E$3:E1051,E1051)-1,\"\")","v":""}]
[null,null,null,null,"",{"$f":"IFERROR(RANK(E1052,$E$3:$E$1201,0)+COUNTIF($E$3:E1052,E1052)-1,\"\")","v":""}]
[null,null,null,null,"",{"$f":"IFERROR(RANK(E1053,$E$3:$E$1201,0)+COUNTIF($E$3:E1053,E1053)-1,\"\")","v":""}]
[null,null,null,null,"",{"$f":"IFERROR(RANK(E1054,$E$3:$E$1201,0)+COUNTIF($E$3:E1054,E1054)-1,\"\")","v":""}]
[null,null,null,null,"",{"$f":"IFERROR(RANK(E1055,$E$3:$E$1201,0)+COUNTIF($E$3:E1055,E1055)-1,\"\")","v":""}]
[null,null,null,null,"",{"$f":"IFERROR(RANK(E1056,$E$3:$E$1201,0)+COUNTIF($E$3:E1056,E1056)-1,\"\")","v":""}]
[null,null,null,null,"",{"$f":"IFERROR(RANK(E1057,$E$3:$E$1201,0)+COUNTIF($E$3:E1057,E1057)-1,\"\")","v":""}]
[null,null,null,null,"",{"$f":"IFERROR(RANK(E1058,$E$3:$E$1201,0)+COUNTIF($E$3:E1058,E1058)-1,\"\")","v":""}]
[null,null,null,null,"",{"$f":"IFERROR(RANK(E1059,$E$3:$E$1201,0)+COUNTIF($E$3:E1059,E1059)-1,\"\")","v":""}]
[null,null,null,null,"",{"$f":"IFERROR(RANK(E1060,$E$3:$E$1201,0)+COUNTIF($E$3:E1060,E1060)-1,\"\")","v":""}]
[null,null,null,null,"",{"$f":"IFERROR(RANK(E1061,$E$3:$E$1201,0)+COUNTIF($E$3:E1061,E1061)-1,\"\")","v":""}]
[null,null,null,null,"",{"$f":"IFERROR(RANK(E1062,$E$3:$E$1201,0)+COUNTIF($E$3:E1062,E1062)-1,\"\")","v":""}]
[null,null,null,null,"",{"$f":"IFERROR(RANK(E1063,$E$3:$E$1201,0)+COUNTIF($E$3:E1063,E1063)-1,\"\")","v":""}]
[null,null,null,null,"",{"$f":"IFERROR(RANK(E1064,$E$3:$E$1201,0)+COUNTIF($E$3:E1064,E1064)-1,\"\")","v":""}]
[null,null,null,null,"",{"$f":"IFERROR(RANK(E1065,$E$3:$E$1201,0)+COUNTIF($E$3:E1065,E1065)-1,\"\")","v":""}]
[null,null,null,null,"",{"$f":"IFERROR(RANK(E1066,$E$3:$E$1201,0)+COUNTIF($E$3:E1066,E1066)-1,\"\")","v":""}]
[null,null,null,null,"",{"$f":"IFERROR(RANK(E1067,$E$3:$E$1201,0)+COUNTIF($E$3:E1067,E1067)-1,\"\")","v":""}]
[null,null,null,null,"",{"$f":"IFERROR(RANK(E1068,$E$3:$E$1201,0)+COUNTIF($E$3:E1068,E1068)-1,\"\")","v":""}]
[null,null,null,null,"",{"$f":"IFERROR(RANK(E1069,$E$3:$E$1201,0)+COUNTIF($E$3:E1069,E1069)-1,\"\")","v":""}]
[null,null,null,null,"",{"$f":"IFERROR(RANK(E1070,$E$3:$E$1201,0)+COUNTIF($E$3:E1070,E1070)-1,\"\")","v":""}]
[null,null,null,null,"",{"$f":"IFERROR(RANK(E1071,$E$3:$E$1201,0)+COUNTIF($E$3:E1071,E1071)-1,\"\")","v":""}]
[null,null,null,null,"",{"$f":"IFERROR(RANK(E1072,$E$3:$E$1201,0)+COUNTIF($E$3:E1072,E1072)-1,\"\")","v":""}]
[null,null,null,null,"",{"$f":"IFERROR(RANK(E1073,$E$3:$E$1201,0)+COUNTIF($E$3:E1073,E1073)-1,\"\")","v":""}]
[null,null,null,null,"",{"$f":"IFERROR(RANK(E1074,$E$3:$E$1201,0)+COUNTIF($E$3:E1074,E1074)-1,\"\")","v":""}]
[null,null,null,null,"",{"$f":"IFERROR(RANK(E1075,$E$3:$E$1201,0)+COUNTIF($E$3:E1075,E1075)-1,\"\")","v":""}]
[null,null,null,null,"",{"$f":"IFERROR(RANK(E1076,$E$3:$E$1201,0)+COUNTIF($E$3:E1076,E1076)-1,\"\")","v":""}]
[null,null,null,null,"",{"$f":"IFERROR(RANK(E1077,$E$3:$E$1201,0)+COUNTIF($E$3:E1077,E1077)-1,\"\")","v":""}]
[null,null,null,null,"",{"$f":"IFERROR(RANK(E1078,$E$3:$E$1201,0)+COUNTIF($E$3:E1078,E1078)-1,\"\")","v":""}]
[null,null,null,null,"",{"$f":"IFERROR(RANK(E1079,$E$3:$E$1201,0)+COUNTIF($E$3:E1079,E1079)-1,\"\")","v":""}]
[null,null,null,null,"",{"$f":"IFERROR(RANK(E1080,$E$3:$E$1201,0)+COUNTIF($E$3:E1080,E1080)-1,\"\")","v":""}]
[null,null,null,null,"",{"$f":"IFERROR(RANK(E1081,$E$3:$E$1201,0)+COUNTIF($E$3:E1081,E1081)-1,\"\")","v":""}]
[null,null,null,null,"",{"$f":"IFERROR(RANK(E1082,$E$3:$E$1201,0)+COUNTIF($E$3:E1082,E1082)-1,\"\")","v":""}]
[null,null,null,null,"",{"$f":"IFERROR(RANK(E1083,$E$3:$E$1201,0)+COUNTIF($E$3:E1083,E1083)-1,\"\")","v":""}]
[null,null,null,null,"",{"$f":"IFERROR(RANK(E1084,$E$3:$E$1201,0)+COUNTIF($E$3:E1084,E1084)-1,\"\")","v":""}]
[null,null,null,null,"",{"$f":"IFERROR(RANK(E1085,$E$3:$E$1201,0)+COUNTIF($E$3:E1085,E1085)-1,\"\")","v":""}]
[null,null,null,null,"",{"$f":"IFERROR(RANK(E1086,$E$3:$E$1201,0)+COUNTIF($E$3:E1086,E1086)-1,\"\")","v":""}]
[null,null,null,null,"",{"$f":"IFERROR(RANK(E1087,$E$3:$E$1201,0)+COUNTIF($E$3:E1087,E1087)-1,\"\")","v":""}]
[null,null,null,null,"",{"$f":"IFERROR(RANK(E1088,$E$3:$E$1201,0)+COUNTIF($E$3:E1088,E1088)-1,\"\")","v":""}]
[null,null,null,null,"",{"$f":"IFERROR(RANK(E1089,$E$3:$E$1201,0)+COUNTIF($E$3:E1089,E1089)-1,\"\")","v":""}]
[null,null,null,null,"",{"$f":"IFERROR(RANK(E1090,$E$3:$E$1201,0)+COUNTIF($E$3:E1090,E1090)-1,\"\")","v":""}]
[null,null,null,null,"",{"$f":"IFERROR(RANK(E1091,$E$3:$E$1201,0)+COUNTIF($E$3:E1091,E1091)-1,\"\")","v":""}]
[null,null,null,null,{"$f":"IF(AND(D1092>1000000,B1092<>\"SUZB5+SUZB3<XBSP>\"),D1092,\"\")","v":""},{"$f":"IFERROR(RANK(E1092,$E$3:$E$1201,0)+COUNTIF($E$3:E1092,E1092)-1,\"\")","v":""}]
[null,null,null,null,"",{"$f":"IFERROR(RANK(E1093,$E$3:$E$1201,0)+COUNTIF($E$3:E1093,E1093)-1,\"\")","v":""}]
[null,null,null,null,"",{"$f":"IFERROR(RANK(E1094,$E$3:$E$1201,0)+COUNTIF($E$3:E1094,E1094)-1,\"\")","v":""}]
[null,null,null,null,"",{"$f":"IFERROR(RANK(E1095,$E$3:$E$1201,0)+COUNTIF($E$3:E1095,E1095)-1,\"\")","v":""}]
[null,null,null,null,"",{"$f":"IFERROR(RANK(E1096,$E$3:$E$1201,0)+COUNTIF($E$3:E1096,E1096)-1,\"\")","v":""}]
[null,null,null,null,"",{"$f":"IFERROR(RANK(E1097,$E$3:$E$1201,0)+COUNTIF($E$3:E1097,E1097)-1,\"\")","v":""}]
[null,null,null,null,"",{"$f":"IFERROR(RANK(E1098,$E$3:$E$1201,0)+COUNTIF($E$3:E1098,E1098)-1,\"\")","v":""}]
[null,null,null,null,"",{"$f":"IFERROR(RANK(E1099,$E$3:$E$1201,0)+COUNTIF($E$3:E1099,E1099)-1,\"\")","v":""}]
[null,null,null,null,"",{"$f":"IFERROR(RANK(E1100,$E$3:$E$1201,0)+COUNTIF($E$3:E1100,E1100)-1,\"\")","v":""}]
[null,null,null,null,"",{"$f":"IFERROR(RANK(E1101,$E$3:$E$1201,0)+COUNTIF($E$3:E1101,E1101)-1,\"\")","v":""}]
[null,null,null,null,"",{"$f":"IFERROR(RANK(E1102,$E$3:$E$1201,0)+COUNTIF($E$3:E1102,E1102)-1,\"\")","v":""}]
[null,null,null,null,"",{"$f":"IFERROR(RANK(E1103,$E$3:$E$1201,0)+COUNTIF($E$3:E1103,E1103)-1,\"\")","v":""}]
[null,null,null,null,"",{"$f":"IFERROR(RANK(E1104,$E$3:$E$1201,0)+COUNTIF($E$3:E1104,E1104)-1,\"\")","v":""}]
[null,null,null,null,"",{"$f":"IFERROR(RANK(E1105,$E$3:$E$1201,0)+COUNTIF($E$3:E1105,E1105)-1,\"\")","v":""}]
[null,null,null,null,"",{"$f":"IFERROR(RANK(E1106,$E$3:$E$1201,0)+COUNTIF($E$3:E1106,E1106)-1,\"\")","v":""}]
[null,null,null,null,"",{"$f":"IFERROR(RANK(E1107,$E$3:$E$1201,0)+COUNTIF($E$3:E1107,E1107)-1,\"\")","v":""}]
[null,null,null,null,"",{"$f":"IFERROR(RANK(E1108,$E$3:$E$1201,0)+COUNTIF($E$3:E1108,E1108)-1,\"\")","v":""}]
[null,null,null,null,"",{"$f":"IFERROR(RANK(E1109,$E$3:$E$1201,0)+COUNTIF($E$3:E1109,E1109)-1,\"\")","v":""}]
[null,null,null,null,"",{"$f":"IFERROR(RANK(E1110,$E$3:$E$1201,0)+COUNTIF($E$3:E1110,E1110)-1,\"\")","v":""}]
[null,null,null,null,"",{"$f":"IFERROR(RANK(E1111,$E$3:$E$1201,0)+COUNTIF($E$3:E1111,E1111)-1,\"\")","v":""}]
[null,null,null,null,"",{"$f":"IFERROR(RANK(E1112,$E$3:$E$1201,0)+COUNTIF($E$3:E1112,E1112)-1,\"\")","v":""}]
[null,null,null,null,"",{"$f":"IFERROR(RANK(E1113,$E$3:$E$1201,0)+COUNTIF($E$3:E1113,E1113)-1,\"\")","v":""}]
[null,null,null,null,"",{"$f":"IFERROR(RANK(E1114,$E$3:$E$1201,0)+COUNTIF($E$3:E1114,E1114)-1,\"\")","v":""}]
[null,null,null,null,"",{"$f":"IFERROR(RANK(E1115,$E$3:$E$1201,0)+COUNTIF($E$3:E1115,E1115)-1,\"\")","v":""}]
[null,null,null,null,"",{"$f":"IFERROR(RANK(E1116,$E$3:$E$1201,0)+COUNTIF($E$3:E1116,E1116)-1,\"\")","v":""}]
[null,null,null,null,"",{"$f":"IFERROR(RANK(E1117,$E$3:$E$1201,0)+COUNTIF($E$3:E1117,E1117)-1,\"\")","v":""}]
[null,null,null,null,"",{"$f":"IFERROR(RANK(E1118,$E$3:$E$1201,0)+COUNTIF($E$3:E1118,E1118)-1,\"\")","v":""}]
[null,null,null,null,"",{"$f":"IFERROR(RANK(E1119,$E$3:$E$1201,0)+COUNTIF($E$3:E1119,E1119)-1,\"\")","v":""}]
[null,null,null,null,"",{"$f":"IFERROR(RANK(E1120,$E$3:$E$1201,0)+COUNTIF($E$3:E1120,E1120)-1,\"\")","v":""}]
[null,null,null,null,"",{"$f":"IFERROR(RANK(E1121,$E$3:$E$1201,0)+COUNTIF($E$3:E1121,E1121)-1,\"\")","v":""}]
[null,null,null,null,"",{"$f":"IFERROR(RANK(E1122,$E$3:$E$1201,0)+COUNTIF($E$3:E1122,E1122)-1,\"\")","v":""}]
[null,null,null,null,"",{"$f":"IFERROR(RANK(E1123,$E$3:$E$1201,0)+COUNTIF($E$3:E1123,E1123)-1,\"\")","v":""}]
[null,null,null,null,"",{"$f":"IFERROR(RANK(E1124,$E$3:$E$1201,0)+COUNTIF($E$3:E1124,E1124)-1,\"\")","v":""}]
[null,null,null,null,"",{"$f":"IFERROR(RANK(E1125,$E$3:$E$1201,0)+COUNTIF($E$3:E1125,E1125)-1,\"\")","v":""}]
[null,null,null,null,"",{"$f":"IFERROR(RANK(E1126,$E$3:$E$1201,0)+COUNTIF($E$3:E1126,E1126)-1,\"\")","v":""}]
[null,null,null,null,"",{"$f":"IFERROR(RANK(E1127,$E$3:$E$1201,0)+COUNTIF($E$3:E1127,E1127)-1,\"\")","v":""}]
[null,null,null,null,"",{"$f":"IFERROR(RANK(E1128,$E$3:$E$1201,0)+COUNTIF($E$3:E1128,E1128)-1,\"\")","v":""}]
[null,null,null,null,"",{"$f":"IFERROR(RANK(E1129,$E$3:$E$1201,0)+COUNTIF($E$3:E1129,E1129)-1,\"\")","v":""}]
[null,null,null,null,"",{"$f":"IFERROR(RANK(E1130,$E$3:$E$1201,0)+COUNTIF($E$3:E1130,E1130)-1,\"\")","v":""}]
[null,null,null,null,"",{"$f":"IFERROR(RANK(E1131,$E$3:$E$1201,0)+COUNTIF($E$3:E1131,E1131)-1,\"\")","v":""}]
[null,null,null,null,"",{"$f":"IFERROR(RANK(E1132,$E$3:$E$1201,0)+COUNTIF($E$3:E1132,E1132)-1,\"\")","v":""}]
[null,null,null,null,"",{"$f":"IFERROR(RANK(E1133,$E$3:$E$1201,0)+COUNTIF($E$3:E1133,E1133)-1,\"\")","v":""}]
[null,null,null,null,"",{"$f":"IFERROR(RANK(E1134,$E$3:$E$1201,0)+COUNTIF($E$3:E1134,E1134)-1,\"\")","v":""}]
[null,null,null,null,"",{"$f":"IFERROR(RANK(E1135,$E$3:$E$1201,0)+COUNTIF($E$3:E1135,E1135)-1,\"\")","v":""}]
[null,null,null,null,"",{"$f":"IFERROR(RANK(E1136,$E$3:$E$1201,0)+COUNTIF($E$3:E1136,E1136)-1,\"\")","v":""}]
[null,null,null,null,"",{"$f":"IFERROR(RANK(E1137,$E$3:$E$1201,0)+COUNTIF($E$3:E1137,E1137)-1,\"\")","v":""}]
[null,null,null,null,"",{"$f":"IFERROR(RANK(E1138,$E$3:$E$1201,0)+COUNTIF($E$3:E1138,E1138)-1,\"\")","v":""}]
[null,null,null,null,"",{"$f":"IFERROR(RANK(E1139,$E$3:$E$1201,0)+COUNTIF($E$3:E1139,E1139)-1,\"\")","v":""}]
[null,null,null,null,"",{"$f":"IFERROR(RANK(E1140,$E$3:$E$1201,0)+COUNTIF($E$3:E1140,E1140)-1,\"\")","v":""}]
[null,null,null,null,"",{"$f":"IFERROR(RANK(E1141,$E$3:$E$1201,0)+COUNTIF($E$3:E1141,E1141)-1,\"\")","v":""}]
[null,null,null,null,"",{"$f":"IFERROR(RANK(E1142,$E$3:$E$1201,0)+COUNTIF($E$3:E1142,E1142)-1,\"\")","v":""}]
[null,null,null,null,"",{"$f":"IFERROR(RANK(E1143,$E$3:$E$1201,0)+COUNTIF($E$3:E1143,E1143)-1,\"\")","v":""}]
[null,null,null,null,"",{"$f":"IFERROR(RANK(E1144,$E$3:$E$1201,0)+COUNTIF($E$3:E1144,E1144)-1,\"\")","v":""}]
[null,null,null,null,"",{"$f":"IFERROR(RANK(E1145,$E$3:$E$1201,0)+COUNTIF($E$3:E1145,E1145)-1,\"\")","v":""}]
[null,null,null,null,"",{"$f":"IFERROR(RANK(E1146,$E$3:$E$1201,0)+COUNTIF($E$3:E1146,E1146)-1,\"\")","v":""}]
[null,null,null,null,"",{"$f":"IFERROR(RANK(E1147,$E$3:$E$1201,0)+COUNTIF($E$3:E1147,E1147)-1,\"\")","v":""}]
[null,null,null,null,"",{"$f":"IFERROR(RANK(E1148,$E$3:$E$1201,0)+COUNTIF($E$3:E1148,E1148)-1,\"\")","v":""}]
[null,null,null,null,"",{"$f":"IFERROR(RANK(E1149,$E$3:$E$1201,0)+COUNTIF($E$3:E1149,E1149)-1,\"\")","v":""}]
[null,null,null,null,"",{"$f":"IFERROR(RANK(E1150,$E$3:$E$1201,0)+COUNTIF($E$3:E1150,E1150)-1,\"\")","v":""}]
[null,null,null,null,"",{"$f":"IFERROR(RANK(E1151,$E$3:$E$1201,0)+COUNTIF($E$3:E1151,E1151)-1,\"\")","v":""}]
[null,null,null,null,"",{"$f":"IFERROR(RANK(E1152,$E$3:$E$1201,0)+COUNTIF($E$3:E1152,E1152)-1,\"\")","v":""}]
[null,null,null,null,"",{"$f":"IFERROR(RANK(E1153,$E$3:$E$1201,0)+COUNTIF($E$3:E1153,E1153)-1,\"\")","v":""}]
[null,null,null,null,"",{"$f":"IFERROR(RANK(E1154,$E$3:$E$1201,0)+COUNTIF($E$3:E1154,E1154)-1,\"\")","v":""}]
[null,null,null,null,"",{"$f":"IFERROR(RANK(E1155,$E$3:$E$1201,0)+COUNTIF($E$3:E1155,E1155)-1,\"\")","v":""}]
[null,null,null,null,{"$f":"IF(AND(D1156>1000000,B1156<>\"SUZB5+SUZB3<XBSP>\"),D1156,\"\")","v":""},{"$f":"IFERROR(RANK(E1156,$E$3:$E$1201,0)+COUNTIF($E$3:E1156,E1156)-1,\"\")","v":""}]
[null,null,null,null,"",{"$f":"IFERROR(RANK(E1157,$E$3:$E$1201,0)+COUNTIF($E$3:E1157,E1157)-1,\"\")","v":""}]
[null,null,null,null,"",{"$f":"IFERROR(RANK(E1158,$E$3:$E$1201,0)+COUNTIF($E$3:E1158,E1158)-1,\"\")","v":""}]
[null,null,null,null,"",{"$f":"IFERROR(RANK(E1159,$E$3:$E$1201,0)+COUNTIF($E$3:E1159,E1159)-1,\"\")","v":""}]
[null,null,null,null,"",{"$f":"IFERROR(RANK(E1160,$E$3:$E$1201,0)+COUNTIF($E$3:E1160,E1160)-1,\"\")","v":""}]
[null,null,null,null,"",{"$f":"IFERROR(RANK(E1161,$E$3:$E$1201,0)+COUNTIF($E$3:E1161,E1161)-1,\"\")","v":""}]
[null,null,null,null,"",{"$f":"IFERROR(RANK(E1162,$E$3:$E$1201,0)+COUNTIF($E$3:E1162,E1162)-1,\"\")","v":""}]
[null,null,null,null,"",{"$f":"IFERROR(RANK(E1163,$E$3:$E$1201,0)+COUNTIF($E$3:E1163,E1163)-1,\"\")","v":""}]
[null,null,null,null,"",{"$f":"IFERROR(RANK(E1164,$E$3:$E$1201,0)+COUNTIF($E$3:E1164,E1164)-1,\"\")","v":""}]
[null,null,null,null,"",{"$f":"IFERROR(RANK(E1165,$E$3:$E$1201,0)+COUNTIF($E$3:E1165,E1165)-1,\"\")","v":""}]
[null,null,null,null,"",{"$f":"IFERROR(RANK(E1166,$E$3:$E$1201,0)+COUNTIF($E$3:E1166,E1166)-1,\"\")","v":""}]
[null,null,null,null,"",{"$f":"IFERROR(RANK(E1167,$E$3:$E$1201,0)+COUNTIF($E$3:E1167,E1167)-1,\"\")","v":""}]
[null,null,null,null,"",{"$f":"IFERROR(RANK(E1168,$E$3:$E$1201,0)+COUNTIF($E$3:E1168,E1168)-1,\"\")","v":""}]
[null,null,null,null,"",{"$f":"IFERROR(RANK(E1169,$E$3:$E$1201,0)+COUNTIF($E$3:E1169,E1169)-1,\"\")","v":""}]
[null,null,null,null,"",{"$f":"IFERROR(RANK(E1170,$E$3:$E$1201,0)+COUNTIF($E$3:E1170,E1170)-1,\"\")","v":""}]
[null,null,null,null,"",{"$f":"IFERROR(RANK(E1171,$E$3:$E$1201,0)+COUNTIF($E$3:E1171,E1171)-1,\"\")","v":""}]
[null,null,null,null,"",{"$f":"IFERROR(RANK(E1172,$E$3:$E$1201,0)+COUNTIF($E$3:E1172,E1172)-1,\"\")","v":""}]
[null,null,null,null,"",{"$f":"IFERROR(RANK(E1173,$E$3:$E$1201,0)+COUNTIF($E$3:E1173,E1173)-1,\"\")","v":""}]
[null,null,null,null,"",{"$f":"IFERROR(RANK(E1174,$E$3:$E$1201,0)+COUNTIF($E$3:E1174,E1174)-1,\"\")","v":""}]
[null,null,null,null,"",{"$f":"IFERROR(RANK(E1175,$E$3:$E$1201,0)+COUNTIF($E$3:E1175,E1175)-1,\"\")","v":""}]
[null,null,null,null,"",{"$f":"IFERROR(RANK(E1176,$E$3:$E$1201,0)+COUNTIF($E$3:E1176,E1176)-1,\"\")","v":""}]
[null,null,null,null,"",{"$f":"IFERROR(RANK(E1177,$E$3:$E$1201,0)+COUNTIF($E$3:E1177,E1177)-1,\"\")","v":""}]
[null,null,null,null,"",{"$f":"IFERROR(RANK(E1178,$E$3:$E$1201,0)+COUNTIF($E$3:E1178,E1178)-1,\"\")","v":""}]
[null,null,null,null,"",{"$f":"IFERROR(RANK(E1179,$E$3:$E$1201,0)+COUNTIF($E$3:E1179,E1179)-1,\"\")","v":""}]
[null,null,null,null,"",{"$f":"IFERROR(RANK(E1180,$E$3:$E$1201,0)+COUNTIF($E$3:E1180,E1180)-1,\"\")","v":""}]
[null,null,null,null,"",{"$f":"IFERROR(RANK(E1181,$E$3:$E$1201,0)+COUNTIF($E$3:E1181,E1181)-1,\"\")","v":""}]
[null,null,null,null,"",{"$f":"IFERROR(RANK(E1182,$E$3:$E$1201,0)+COUNTIF($E$3:E1182,E1182)-1,\"\")","v":""}]
[null,null,null,null,"",{"$f":"IFERROR(RANK(E1183,$E$3:$E$1201,0)+COUNTIF($E$3:E1183,E1183)-1,\"\")","v":""}]
[null,null,null,null,"",{"$f":"IFERROR(RANK(E1184,$E$3:$E$1201,0)+COUNTIF($E$3:E1184,E1184)-1,\"\")","v":""}]
[null,null,null,null,"",{"$f":"IFERROR(RANK(E1185,$E$3:$E$1201,0)+COUNTIF($E$3:E1185,E1185)-1,\"\")","v":""}]
[null,null,null,null,"",{"$f":"IFERROR(RANK(E1186,$E$3:$E$1201,0)+COUNTIF($E$3:E1186,E1186)-1,\"\")","v":""}]
[null,null,null,null,"",{"$f":"IFERROR(RANK(E1187,$E$3:$E$1201,0)+COUNTIF($E$3:E1187,E1187)-1,\"\")","v":""}]
[null,null,null,null,"",{"$f":"IFERROR(RANK(E1188,$E$3:$E$1201,0)+COUNTIF($E$3:E1188,E1188)-1,\"\")","v":""}]
[null,null,null,null,"",{"$f":"IFERROR(RANK(E1189,$E$3:$E$1201,0)+COUNTIF($E$3:E1189,E1189)-1,\"\")","v":""}]
[null,null,null,null,"",{"$f":"IFERROR(RANK(E1190,$E$3:$E$1201,0)+COUNTIF($E$3:E1190,E1190)-1,\"\")","v":""}]
[null,null,null,null,"",{"$f":"IFERROR(RANK(E1191,$E$3:$E$1201,0)+COUNTIF($E$3:E1191,E1191)-1,\"\")","v":""}]
[null,null,null,null,"",{"$f":"IFERROR(RANK(E1192,$E$3:$E$1201,0)+COUNTIF($E$3:E1192,E1192)-1,\"\")","v":""}]
[null,null,null,null,"",{"$f":"IFERROR(RANK(E1193,$E$3:$E$1201,0)+COUNTIF($E$3:E1193,E1193)-1,\"\")","v":""}]
[null,null,null,null,"",{"$f":"IFERROR(RANK(E1194,$E$3:$E$1201,0)+COUNTIF($E$3:E1194,E1194)-1,\"\")","v":""}]
[null,null,null,null,"",{"$f":"IFERROR(RANK(E1195,$E$3:$E$1201,0)+COUNTIF($E$3:E1195,E1195)-1,\"\")","v":""}]
[null,null,null,null,"",{"$f":"IFERROR(RANK(E1196,$E$3:$E$1201,0)+COUNTIF($E$3:E1196,E1196)-1,\"\")","v":""}]
[null,null,null,null,"",{"$f":"IFERROR(RANK(E1197,$E$3:$E$1201,0)+COUNTIF($E$3:E1197,E1197)-1,\"\")","v":""}]
[null,null,null,null,"",{"$f":"IFERROR(RANK(E1198,$E$3:$E$1201,0)+COUNTIF($E$3:E1198,E1198)-1,\"\")","v":""}]
[null,null,null,null,"",{"$f":"IFERROR(RANK(E1199,$E$3:$E$1201,0)+COUNTIF($E$3:E1199,E1199)-1,\"\")","v":""}]
[null,null,null,null,"",{"$f":"IFERROR(RANK(E1200,$E$3:$E$1201,0)+COUNTIF($E$3:E1200,E1200)-1,\"\")","v":""}]
[null,null,null,null,"",{"$f":"IFERROR(RANK(E1201,$E$3:$E$1201,0)+COUNTIF($E$3:E1201,E1201)-1,\"\")","v":""}]

{"sheet":"Dados para Lâmina","index":7,"n_rows":9,"n_cols":7,"rows_kept":9,"cut":false,"hidden":true,"merged":[[4,2,5,2],[7,2,8,2]]}
["KNCR11"]
[{"$f":"INDEX('Guia de BTC'!#REF!,MATCH('Dados para Lâmina'!A1,'Guia de BTC'!C:C,0))","v":{"$error":"#REF!"}}]
[]
[]
[null,null,"Div Yield","Atual","Média","Setor ","IFIX"]
[null,null,null,{"$f":"INDEX('Guia de BTC'!#REF!,MATCH('Dados para Lâmina'!A1,'Guia de BTC'!C:C,0))","v":{"$error":"#REF!"}},{"$f":"INDEX('Guia de BTC'!#REF!,MATCH($A$1,'Guia de BTC'!C:C,0))","v":{"$error":"#REF!"}},{"$f":"AVERAGEIF('Guia de BTC'!#REF!,$A$2,'Guia de BTC'!#REF!)","v":{"$error":"#REF!"}},{"$f":"AVERAGE('Guia de BTC'!#REF!)","v":{"$error":"#REF!"}}]
[]
[null,null,"Valor de Mercado","Atual","% Setor ","% da Amostra"]
[null,null,null,{"$f":"INDEX('Guia de BTC'!#REF!,MATCH('Dados para Lâmina'!A1,'Guia de BTC'!C:C,0))","v":{"$error":"#REF!"}},{"$f":"D9/(SUMIF('Guia de BTC'!#REF!,'Dados para Lâmina'!A2,'Guia de BTC'!#REF!))","v":{"$error":"#REF!"}},{"$f":"D9/SUM('Guia de BTC'!#REF!)","v":{"$error":"#REF!"}}]